{"text_format":"1","workbook":"xlsx","n_sheets":4,"sheets":["Info","Simplified Loader","Simplified Loader (FOR COPY)","OASIS Manual Adjustments"],"not_rendered":{"charts":0,"images":9,"macros":1,"external_links":0,"defined_names":0,"comments":0,"pivot_tables":0},"unopened":[],"bounds":{"document_bytes":16777216,"sheet_cells":100000,"rows_first":2000,"rows_last":500,"rows_between":2000,"halvings":0,"cell_chars":16384,"cell_head_chars":4096},"cells_cut":0,"cells_raw":0,"read":"whole","date_system":"1900"}

{"sheet":"Info","index":0,"n_rows":21,"n_cols":2,"rows_kept":21,"cut":false,"hidden":false,"merged":[[8,1,9,1]]}
["VERSION 2.4 (ENG)"]
[]
[null,"TIPS & TRICKS!"]
[]
[null,"Entering member data"]
[null,"Member data relating to names, dates, provinces, genders, languages, salaries & coverage selections will all be supported only if they are in a format provided in the drop down selections.\n\nIf data is not in the correct format, the cell will turn red.\n\nFor email and bank account columns, the cell will turn yellow if the same information is entered more than once. Each member must provide their own personal email address.\n(for banking, you can ignore if the same account is being used for spouses)"]
[]
[null,"Copy/Pasting member data"]
[null,"\nAny data that is copied from another document should only be pasted using the Paste Values option"]
[]
[]
[null,"Split \"Last name, First name\" formatted\nmember data into separate columns to then copy/paste"]
[null,"\n1. Select the cell or column that contains the text you want to split"]
[null,"2. Click Data > Text to Columns:"]
[null,"3. This starts the Convert Text to Columns Wizard. Click Delimited > Next."]
[null,"4. Check Comma and Space if that is how your text is split (ex: Smith, John with a comma and space between the names). You can see a preview of your data in the Data preview window:"]
[null,"5. Click Next."]
[null,"6. Click the         button to the right of the Destination box to collapse the dialog box."]
[null,"7. Select the cells in your workbook where you want to paste your split data:"]
[null,"8. Click the         button to expand the dialog box, and then click Finish:"]
[null,"Source:  support.office.com"]

{"sheet":"Simplified Loader","index":1,"n_rows":100,"n_cols":87,"rows_kept":100,"cut":false,"hidden":false,"merged":[[0,0,0,1],[0,2,0,9],[0,80,0,84],[1,0,1,5],[1,23,1,25]]}
["Company Name:",null,null,null,null,null,null,null,null,null,null,null,null,null,null,null,null,"Hidden",null,null,null,null,null,null,null,null,null,null,null,null,null,null,null,null,null,null,null,null,null,null,null,null,null,null,null,null,null,null,null,null,null,null,null,null,null,null,null,null,null,null,null,null,null,null,null,null,null,null,null,null,null,null,null,null,null,null,null,null,null,null,"Beneficiary Information:\n\nPlease note that Sun Life will assist with the loading of this information for administration purposes only. It is important for you to understand that the beneficiary designation form is a legal document. The original form, signed in ink, must be produced in the event of a life claim and it will be your responsibility to review and determine that you have the signed designation in your files."]
["IMPORTANT: Please click on Enable Editing button before begining\n                     If pasting data, please ensure to use Paste Values only",null,null,null,null,null,null,null,null,null,null,null,null,null,null,null,null,null,null,null,null,null,null,"MEMBER Banking Information\n(Optional)"]
["ex: 1234567890","ex: John","ex. H","ex: Smith","ex: 001","ex: A","A","ex: Accountant","(YYYY-MM-DD)","(YYYY-MM-DD)","ex: ON","ex: ON","Male/Female","Yes/No","Yes/No","English/French","Yes/No","Actual Earnings","ex: Annually","ex: 50000","ex: 40","ex: Family","ex: Single","ex: 123","ex: 12345","ex: 1234567890","Direct Claims Payments","Home","John Smith","ex: 123 Any St.","ex: 7A","ex: Any Town","ex: ON","ex: A1B 2C3","ex: Canada","ex: john.smith@hotmail.com","ex: Jane","ex: Smith","(YYYY/MM/DD)","Male/Female","Single/Family","Single/Family","ex: Insure Inc.","Yes/No","ex: Jason","ex: Smith","(YYYY/MM/DD)","Male/Female","Yes/No","Yes/No","ex: Jennifer","ex: Smith","(YYYY/MM/DD)","Female/Male","Yes/No","Yes/No","ex: Jim","ex: Smith","(YYYY/MM/DD)","Male/Female","Yes/No","Yes/No","ex: Janet","ex: Smith","(YYYY/MM/DD)","Female/Male","Yes/No","Yes/No","ex: Jasmine","ex: Smith","(YYYY/MM/DD)","Female/Male","Yes/No","Yes/No","ex: Jack","ex: Smith","(YYYY/MM/DD)","Male/Female","Yes/No","Yes/No","ex: Jane Smith - Spouse 100%","ex: Revocable","ex: Jason Smith - Son 50%, Jennifer Smith - Daughter 50%","ex: Revocable","ex: Sarah Parker",null,"ex: $125"]
["Member ID","First Name","Middle Initial","Last Name","Location ","Class","Plan","Occupation","Birth Date","Employment Date","Residence Code","Work Residence Code","Gender","Smoker Status","Does member have dependents? (Dependent Life)","Member Language","Native status - tax exempt?","Salary Type 1","Salary Basis","Salary Amount","Hours Per Week","Extended Health Care Coverage Selection","Dental Care Coverage Selection","Institution Number","Transit Number","Account Number","Type","Address Type","Addressee","Street Address","Suite","City","Province","Postal Code","Country","E-mail address\n(different for each member)","Spouse First Name","Spouse Last Name","Spouse Date Of Birth","Spouse Gender","Extended Health Care COB","Dental Care COB","Other Carrier Name","Spouse Smoker Status","Child 1 First Name","Child 1 Last Name","Child 1 Date Of Birth","Child 1 Gender","Student Flag 1","Disabled Status 1","Child 2 First Name","Child 2 Last Name","Child 2 Date Of Birth","Child 2 Gender","Student Flag 2","Disabled Status 2","Child 3 First Name","Child 3 Last Name","Child 3 Date Of Birth","Child 3 Gender","Student Flag 3","Disabled Status 3","Child 4 First Name","Child 4 Last Name","Child 4 Date Of Birth","Child 4 Gender","Student Flag 4","Disabled Status 4","Child 5 First Name","Child 5 Last Name","Child 5 Date Of Birth","Child 5 Gender","Student Flag 5","Disabled Status 5","Child 6 First Name","Child 6 Last Name","Child 6 Date Of Birth","Child 6 Gender","Student Flag 6","Disabled Status 6","Beneficiary Nomination","Revocable (if legal spouse - married or civil union)?\n(QC residents only)","Contingent Beneficiary","Revocable (if legal spouse - married or civil union)?\n(QC residents only)","Trustee for minor beneficiaries\n(Non-QC residents only)","Beneficiary Information","Health Spending Account Monthly allotment\n(if different between members)"]
[null,null,null,null,null,null,{"$f":"IF(F5>0,F5,\"\")","v":""},null,null,null,null,null,null,null,null,null,null,{"$f":"IF(T5>0,\"Actual Earnings\",\"\")","v":""},null,null,null,null,null,null,null,null,{"$f":"IF(Z5>0,\"Direct Claims Payments\",\"\")","v":""},{"$f":"IF(AD5>0,\"Home\",\"\")","v":""},{"$f":"B5&\" \"&D5","v":" "},null,null,null,{"$f":"IF(K5>0,K5,\"\")","v":""},null,{"$f":"IF(K5>0,\"Canada\",\"\")","v":""},null,null,null,null,null,null,null,null,null,null,null,null,null,null,null,null,null,null,null,null,null,null,null,null,null,null,null,null,null,null,null,null,null,null,null,null,null,null,null,null,null,null,null,null,null,null,null,null,null,null,{"$f":"CC5&\" \"&IF(K5=\"QC\",IF(CD5=\"Revocable\",\"(revocable)\",IF(CD5=\"Irrevocable\",\"(irrevocable)\",IF(CD5=\"\",\"\",\"\"))),\"\")&\" \"&IF(CE5>0,CHAR(10)&\"Contingent(s): \"&CE5,\"\")&\" \"&IF(K5=\"QC\",IF(CF5=\"Revocable\",\"(revocable)\",IF(CF5=\"Irrevocable\",\"(irrevocable)\",IF(CF5=\"\",\"\",\"\"))),\"\")&\" \"&IF(CG5>0,CHAR(10)&\"Trustee (minor): \"&CG5,\"\")","v":"    "}]
[null,null,null,null,null,null,{"$f":"IF(F6>0,F6,\"\")","v":""},null,null,null,null,null,null,null,null,null,null,{"$f":"IF(T6>0,\"Actual Earnings\",\"\")","v":""},null,null,null,null,null,null,null,null,{"$f":"IF(Z6>0,\"Direct Claims Payments\",\"\")","v":""},{"$f":"IF(AD6>0,\"Home\",\"\")","v":""},{"$f":"B6&\" \"&D6","v":" "},null,null,null,"",null,{"$f":"IF(K6>0,\"Canada\",\"\")","v":""},null,null,null,null,null,null,null,null,null,null,null,null,null,null,null,null,null,null,null,null,null,null,null,null,null,null,null,null,null,null,null,null,null,null,null,null,null,null,null,null,null,null,null,null,null,null,null,null,null,null,{"$f":"CC6&\" \"&IF(K6=\"QC\",IF(CD6=\"Revocable\",\"(revocable)\",IF(CD6=\"Irrevocable\",\"(irrevocable)\",IF(CD6=\"\",\"\",\"\"))),\"\")&\" \"&IF(CE6>0,CHAR(10)&\"Contingent(s): \"&CE6,\"\")&\" \"&IF(K6=\"QC\",IF(CF6=\"Revocable\",\"(revocable)\",IF(CF6=\"Irrevocable\",\"(irrevocable)\",IF(CF6=\"\",\"\",\"\"))),\"\")&\" \"&IF(CG6>0,CHAR(10)&\"Trustee (minor): \"&CG6,\"\")","v":"    "}]
[null,null,null,null,null,null,"",null,null,null,null,null,null,null,null,null,null,"",null,null,null,null,null,null,null,null,"",""," ",null,null,null,"",null,"",null,null,null,null,null,null,null,null,null,null,null,null,null,null,null,null,null,null,null,null,null,null,null,null,null,null,null,null,null,null,null,null,null,null,null,null,null,null,null,null,null,null,null,null,null,null,null,null,null,null,"    "]
[null,null,null,null,null,null,"",null,null,null,null,null,null,null,null,null,null,"",null,null,null,null,null,null,null,null,"","",{"$f":"B8&\" \"&D8","v":" "},null,null,null,"",null,"",null,null,null,null,null,null,null,null,null,null,null,null,null,null,null,null,null,null,null,null,null,null,null,null,null,null,null,null,null,null,null,null,null,null,null,null,null,null,null,null,null,null,null,null,null,null,null,null,null,null,"    "]
[null,null,null,null,null,null,"",null,null,null,null,null,null,null,null,null,null,"",null,null,null,null,null,null,null,null,"",""," ",null,null,null,"",null,"",null,null,null,null,null,null,null,null,null,null,null,null,null,null,null,null,null,null,null,null,null,null,null,null,null,null,null,null,null,null,null,null,null,null,null,null,null,null,null,null,null,null,null,null,null,null,null,null,null,null,"    "]
[null,null,null,null,null,null,"",null,null,null,null,null,null,null,null,null,null,"",null,null,null,null,null,null,null,null,"",""," ",null,null,null,"",null,"",null,null,null,null,null,null,null,null,null,null,null,null,null,null,null,null,null,null,null,null,null,null,null,null,null,null,null,null,null,null,null,null,null,null,null,null,null,null,null,null,null,null,null,null,null,null,null,null,null,null,"    "]
[null,null,null,null,null,null,"",null,null,null,null,null,null,null,null,null,null,"",null,null,null,null,null,null,null,null,"",""," ",null,null,null,"",null,"",null,null,null,null,null,null,null,null,null,null,null,null,null,null,null,null,null,null,null,null,null,null,null,null,null,null,null,null,null,null,null,null,null,null,null,null,null,null,null,null,null,null,null,null,null,null,null,null,null,null,"    "]
[null,null,null,null,null,null,"",null,null,null,null,null,null,null,null,null,null,"",null,null,null,null,null,null,null,null,"",""," ",null,null,null,"",null,"",null,null,null,null,null,null,null,null,null,null,null,null,null,null,null,null,null,null,null,null,null,null,null,null,null,null,null,null,null,null,null,null,null,null,null,null,null,null,null,null,null,null,null,null,null,null,null,null,null,null,"    "]
[null,null,null,null,null,null,"",null,null,null,null,null,null,null,null,null,null,"",null,null,null,null,null,null,null,null,"",""," ",null,null,null,"",null,"",null,null,null,null,null,null,null,null,null,null,null,null,null,null,null,null,null,null,null,null,null,null,null,null,null,null,null,null,null,null,null,null,null,null,null,null,null,null,null,null,null,null,null,null,null,null,null,null,null,null,"    "]
[null,null,null,null,null,null,"",null,null,null,null,null,null,null,null,null,null,"",null,null,null,null,null,null,null,null,"",""," ",null,null,null,"",null,"",null,null,null,null,null,null,null,null,null,null,null,null,null,null,null,null,null,null,null,null,null,null,null,null,null,null,null,null,null,null,null,null,null,null,null,null,null,null,null,null,null,null,null,null,null,null,null,null,null,null,"    "]
[null,null,null,null,null,null,"",null,null,null,null,null,null,null,null,null,null,"",null,null,null,null,null,null,null,null,"",""," ",null,null,null,"",null,"",null,null,null,null,null,null,null,null,null,null,null,null,null,null,null,null,null,null,null,null,null,null,null,null,null,null,null,null,null,null,null,null,null,null,null,null,null,null,null,null,null,null,null,null,null,null,null,null,null,null,"    "]
[null,null,null,null,null,null,"",null,null,null,null,null,null,null,null,null,null,"",null,null,null,null,null,null,null,null,"",""," ",null,null,null,"",null,"",null,null,null,null,null,null,null,null,null,null,null,null,null,null,null,null,null,null,null,null,null,null,null,null,null,null,null,null,null,null,null,null,null,null,null,null,null,null,null,null,null,null,null,null,null,null,null,null,null,null,"    "]
[null,null,null,null,null,null,"",null,null,null,null,null,null,null,null,null,null,"",null,null,null,null,null,null,null,null,"",""," ",null,null,null,"",null,"",null,null,null,null,null,null,null,null,null,null,null,null,null,null,null,null,null,null,null,null,null,null,null,null,null,null,null,null,null,null,null,null,null,null,null,null,null,null,null,null,null,null,null,null,null,null,null,null,null,null,"    "]
[null,null,null,null,null,null,"",null,null,null,null,null,null,null,null,null,null,"",null,null,null,null,null,null,null,null,"",""," ",null,null,null,"",null,"",null,null,null,null,null,null,null,null,null,null,null,null,null,null,null,null,null,null,null,null,null,null,null,null,null,null,null,null,null,null,null,null,null,null,null,null,null,null,null,null,null,null,null,null,null,null,null,null,null,null,"    "]
[null,null,null,null,null,null,"",null,null,null,null,null,null,null,null,null,null,"",null,null,null,null,null,null,null,null,"",""," ",null,null,null,"",null,"",null,null,null,null,null,null,null,null,null,null,null,null,null,null,null,null,null,null,null,null,null,null,null,null,null,null,null,null,null,null,null,null,null,null,null,null,null,null,null,null,null,null,null,null,null,null,null,null,null,null,"    "]
[null,null,null,null,null,null,"",null,null,null,null,null,null,null,null,null,null,"",null,null,null,null,null,null,null,null,"",""," ",null,null,null,"",null,"",null,null,null,null,null,null,null,null,null,null,null,null,null,null,null,null,null,null,null,null,null,null,null,null,null,null,null,null,null,null,null,null,null,null,null,null,null,null,null,null,null,null,null,null,null,null,null,null,null,null,"    "]
[null,null,null,null,null,null,"",null,null,null,null,null,null,null,null,null,null,"",null,null,null,null,null,null,null,null,"",""," ",null,null,null,"",null,"",null,null,null,null,null,null,null,null,null,null,null,null,null,null,null,null,null,null,null,null,null,null,null,null,null,null,null,null,null,null,null,null,null,null,null,null,null,null,null,null,null,null,null,null,null,null,null,null,null,null,"    "]
[null,null,null,null,null,null,"",null,null,null,null,null,null,null,null,null,null,"",null,null,null,null,null,null,null,null,"",""," ",null,null,null,"",null,"",null,null,null,null,null,null,null,null,null,null,null,null,null,null,null,null,null,null,null,null,null,null,null,null,null,null,null,null,null,null,null,null,null,null,null,null,null,null,null,null,null,null,null,null,null,null,null,null,null,null,"    "]
[null,null,null,null,null,null,"",null,null,null,null,null,null,null,null,null,null,"",null,null,null,null,null,null,null,null,"",""," ",null,null,null,"",null,"",null,null,null,null,null,null,null,null,null,null,null,null,null,null,null,null,null,null,null,null,null,null,null,null,null,null,null,null,null,null,null,null,null,null,null,null,null,null,null,null,null,null,null,null,null,null,null,null,null,null,"    "]
[null,null,null,null,null,null,"",null,null,null,null,null,null,null,null,null,null,"",null,null,null,null,null,null,null,null,"",""," ",null,null,null,"",null,"",null,null,null,null,null,null,null,null,null,null,null,null,null,null,null,null,null,null,null,null,null,null,null,null,null,null,null,null,null,null,null,null,null,null,null,null,null,null,null,null,null,null,null,null,null,null,null,null,null,null,"    "]
[null,null,null,null,null,null,"",null,null,null,null,null,null,null,null,null,null,"",null,null,null,null,null,null,null,null,"",""," ",null,null,null,"",null,"",null,null,null,null,null,null,null,null,null,null,null,null,null,null,null,null,null,null,null,null,null,null,null,null,null,null,null,null,null,null,null,null,null,null,null,null,null,null,null,null,null,null,null,null,null,null,null,null,null,null,"    "]
[null,null,null,null,null,null,"",null,null,null,null,null,null,null,null,null,null,"",null,null,null,null,null,null,null,null,"",""," ",null,null,null,"",null,"",null,null,null,null,null,null,null,null,null,null,null,null,null,null,null,null,null,null,null,null,null,null,null,null,null,null,null,null,null,null,null,null,null,null,null,null,null,null,null,null,null,null,null,null,null,null,null,null,null,null,"    "]
[null,null,null,null,null,null,"",null,null,null,null,null,null,null,null,null,null,"",null,null,null,null,null,null,null,null,"",""," ",null,null,null,"",null,"",null,null,null,null,null,null,null,null,null,null,null,null,null,null,null,null,null,null,null,null,null,null,null,null,null,null,null,null,null,null,null,null,null,null,null,null,null,null,null,null,null,null,null,null,null,null,null,null,null,null,"    "]
[null,null,null,null,null,null,"",null,null,null,null,null,null,null,null,null,null,"",null,null,null,null,null,null,null,null,"",""," ",null,null,null,"",null,"",null,null,null,null,null,null,null,null,null,null,null,null,null,null,null,null,null,null,null,null,null,null,null,null,null,null,null,null,null,null,null,null,null,null,null,null,null,null,null,null,null,null,null,null,null,null,null,null,null,null,"    "]
[null,null,null,null,null,null,"",null,null,null,null,null,null,null,null,null,null,"",null,null,null,null,null,null,null,null,"",""," ",null,null,null,"",null,"",null,null,null,null,null,null,null,null,null,null,null,null,null,null,null,null,null,null,null,null,null,null,null,null,null,null,null,null,null,null,null,null,null,null,null,null,null,null,null,null,null,null,null,null,null,null,null,null,null,null,"    "]
[null,null,null,null,null,null,"",null,null,null,null,null,null,null,null,null,null,"",null,null,null,null,null,null,null,null,"",""," ",null,null,null,"",null,"",null,null,null,null,null,null,null,null,null,null,null,null,null,null,null,null,null,null,null,null,null,null,null,null,null,null,null,null,null,null,null,null,null,null,null,null,null,null,null,null,null,null,null,null,null,null,null,null,null,null,"    "]
[null,null,null,null,null,null,"",null,null,null,null,null,null,null,null,null,null,"",null,null,null,null,null,null,null,null,"",""," ",null,null,null,"",null,"",null,null,null,null,null,null,null,null,null,null,null,null,null,null,null,null,null,null,null,null,null,null,null,null,null,null,null,null,null,null,null,null,null,null,null,null,null,null,null,null,null,null,null,null,null,null,null,null,null,null,"    "]
[null,null,null,null,null,null,"",null,null,null,null,null,null,null,null,null,null,"",null,null,null,null,null,null,null,null,"",""," ",null,null,null,"",null,"",null,null,null,null,null,null,null,null,null,null,null,null,null,null,null,null,null,null,null,null,null,null,null,null,null,null,null,null,null,null,null,null,null,null,null,null,null,null,null,null,null,null,null,null,null,null,null,null,null,null,"    "]
[null,null,null,null,null,null,"",null,null,null,null,null,null,null,null,null,null,"",null,null,null,null,null,null,null,null,"",""," ",null,null,null,"",null,"",null,null,null,null,null,null,null,null,null,null,null,null,null,null,null,null,null,null,null,null,null,null,null,null,null,null,null,null,null,null,null,null,null,null,null,null,null,null,null,null,null,null,null,null,null,null,null,null,null,null,"    "]
[null,null,null,null,null,null,"",null,null,null,null,null,null,null,null,null,null,"",null,null,null,null,null,null,null,null,"",""," ",null,null,null,"",null,"",null,null,null,null,null,null,null,null,null,null,null,null,null,null,null,null,null,null,null,null,null,null,null,null,null,null,null,null,null,null,null,null,null,null,null,null,null,null,null,null,null,null,null,null,null,null,null,null,null,null,"    "]
[null,null,null,null,null,null,"",null,null,null,null,null,null,null,null,null,null,"",null,null,null,null,null,null,null,null,"",""," ",null,null,null,"",null,"",null,null,null,null,null,null,null,null,null,null,null,null,null,null,null,null,null,null,null,null,null,null,null,null,null,null,null,null,null,null,null,null,null,null,null,null,null,null,null,null,null,null,null,null,null,null,null,null,null,null,"    "]
[null,null,null,null,null,null,"",null,null,null,null,null,null,null,null,null,null,"",null,null,null,null,null,null,null,null,"",""," ",null,null,null,"",null,"",null,null,null,null,null,null,null,null,null,null,null,null,null,null,null,null,null,null,null,null,null,null,null,null,null,null,null,null,null,null,null,null,null,null,null,null,null,null,null,null,null,null,null,null,null,null,null,null,null,null,"    "]
[null,null,null,null,null,null,"",null,null,null,null,null,null,null,null,null,null,"",null,null,null,null,null,null,null,null,"",""," ",null,null,null,"",null,"",null,null,null,null,null,null,null,null,null,null,null,null,null,null,null,null,null,null,null,null,null,null,null,null,null,null,null,null,null,null,null,null,null,null,null,null,null,null,null,null,null,null,null,null,null,null,null,null,null,null,"    "]
[null,null,null,null,null,null,"",null,null,null,null,null,null,null,null,null,null,"",null,null,null,null,null,null,null,null,"",""," ",null,null,null,"",null,"",null,null,null,null,null,null,null,null,null,null,null,null,null,null,null,null,null,null,null,null,null,null,null,null,null,null,null,null,null,null,null,null,null,null,null,null,null,null,null,null,null,null,null,null,null,null,null,null,null,null,"    "]
[null,null,null,null,null,null,"",null,null,null,null,null,null,null,null,null,null,"",null,null,null,null,null,null,null,null,"",""," ",null,null,null,"",null,"",null,null,null,null,null,null,null,null,null,null,null,null,null,null,null,null,null,null,null,null,null,null,null,null,null,null,null,null,null,null,null,null,null,null,null,null,null,null,null,null,null,null,null,null,null,null,null,null,null,null,"    "]
[null,null,null,null,null,null,"",null,null,null,null,null,null,null,null,null,null,"",null,null,null,null,null,null,null,null,"",""," ",null,null,null,"",null,"",null,null,null,null,null,null,null,null,null,null,null,null,null,null,null,null,null,null,null,null,null,null,null,null,null,null,null,null,null,null,null,null,null,null,null,null,null,null,null,null,null,null,null,null,null,null,null,null,null,null,"    "]
[null,null,null,null,null,null,"",null,null,null,null,null,null,null,null,null,null,"",null,null,null,null,null,null,null,null,"",""," ",null,null,null,"",null,"",null,null,null,null,null,null,null,null,null,null,null,null,null,null,null,null,null,null,null,null,null,null,null,null,null,null,null,null,null,null,null,null,null,null,null,null,null,null,null,null,null,null,null,null,null,null,null,null,null,null,"    "]
[null,null,null,null,null,null,"",null,null,null,null,null,null,null,null,null,null,"",null,null,null,null,null,null,null,null,"",""," ",null,null,null,"",null,"",null,null,null,null,null,null,null,null,null,null,null,null,null,null,null,null,null,null,null,null,null,null,null,null,null,null,null,null,null,null,null,null,null,null,null,null,null,null,null,null,null,null,null,null,null,null,null,null,null,null,"    "]
[null,null,null,null,null,null,"",null,null,null,null,null,null,null,null,null,null,"",null,null,null,null,null,null,null,null,"",""," ",null,null,null,"",null,"",null,null,null,null,null,null,null,null,null,null,null,null,null,null,null,null,null,null,null,null,null,null,null,null,null,null,null,null,null,null,null,null,null,null,null,null,null,null,null,null,null,null,null,null,null,null,null,null,null,null,"    "]
[null,null,null,null,null,null,"",null,null,null,null,null,null,null,null,null,null,"",null,null,null,null,null,null,null,null,"",""," ",null,null,null,"",null,"",null,null,null,null,null,null,null,null,null,null,null,null,null,null,null,null,null,null,null,null,null,null,null,null,null,null,null,null,null,null,null,null,null,null,null,null,null,null,null,null,null,null,null,null,null,null,null,null,null,null,"    "]
[null,null,null,null,null,null,"",null,null,null,null,null,null,null,null,null,null,"",null,null,null,null,null,null,null,null,"",""," ",null,null,null,"",null,"",null,null,null,null,null,null,null,null,null,null,null,null,null,null,null,null,null,null,null,null,null,null,null,null,null,null,null,null,null,null,null,null,null,null,null,null,null,null,null,null,null,null,null,null,null,null,null,null,null,null,"    "]
[null,null,null,null,null,null,"",null,null,null,null,null,null,null,null,null,null,"",null,null,null,null,null,null,null,null,"",""," ",null,null,null,"",null,"",null,null,null,null,null,null,null,null,null,null,null,null,null,null,null,null,null,null,null,null,null,null,null,null,null,null,null,null,null,null,null,null,null,null,null,null,null,null,null,null,null,null,null,null,null,null,null,null,null,null,"    "]
[null,null,null,null,null,null,"",null,null,null,null,null,null,null,null,null,null,"",null,null,null,null,null,null,null,null,"",""," ",null,null,null,"",null,"",null,null,null,null,null,null,null,null,null,null,null,null,null,null,null,null,null,null,null,null,null,null,null,null,null,null,null,null,null,null,null,null,null,null,null,null,null,null,null,null,null,null,null,null,null,null,null,null,null,null,"    "]
[null,null,null,null,null,null,"",null,null,null,null,null,null,null,null,null,null,"",null,null,null,null,null,null,null,null,"",""," ",null,null,null,"",null,"",null,null,null,null,null,null,null,null,null,null,null,null,null,null,null,null,null,null,null,null,null,null,null,null,null,null,null,null,null,null,null,null,null,null,null,null,null,null,null,null,null,null,null,null,null,null,null,null,null,null,"    "]
[null,null,null,null,null,null,"",null,null,null,null,null,null,null,null,null,null,"",null,null,null,null,null,null,null,null,"",""," ",null,null,null,"",null,"",null,null,null,null,null,null,null,null,null,null,null,null,null,null,null,null,null,null,null,null,null,null,null,null,null,null,null,null,null,null,null,null,null,null,null,null,null,null,null,null,null,null,null,null,null,null,null,null,null,null,"    "]
[null,null,null,null,null,null,"",null,null,null,null,null,null,null,null,null,null,"",null,null,null,null,null,null,null,null,"",""," ",null,null,null,"",null,"",null,null,null,null,null,null,null,null,null,null,null,null,null,null,null,null,null,null,null,null,null,null,null,null,null,null,null,null,null,null,null,null,null,null,null,null,null,null,null,null,null,null,null,null,null,null,null,null,null,null,"    "]
[null,null,null,null,null,null,"",null,null,null,null,null,null,null,null,null,null,"",null,null,null,null,null,null,null,null,"",""," ",null,null,null,"",null,"",null,null,null,null,null,null,null,null,null,null,null,null,null,null,null,null,null,null,null,null,null,null,null,null,null,null,null,null,null,null,null,null,null,null,null,null,null,null,null,null,null,null,null,null,null,null,null,null,null,null,"    "]
[null,null,null,null,null,null,"",null,null,null,null,null,null,null,null,null,null,"",null,null,null,null,null,null,null,null,"",""," ",null,null,null,"",null,"",null,null,null,null,null,null,null,null,null,null,null,null,null,null,null,null,null,null,null,null,null,null,null,null,null,null,null,null,null,null,null,null,null,null,null,null,null,null,null,null,null,null,null,null,null,null,null,null,null,null,"    "]
[null,null,null,null,null,null,"",null,null,null,null,null,null,null,null,null,null,"",null,null,null,null,null,null,null,null,"",""," ",null,null,null,"",null,"",null,null,null,null,null,null,null,null,null,null,null,null,null,null,null,null,null,null,null,null,null,null,null,null,null,null,null,null,null,null,null,null,null,null,null,null,null,null,null,null,null,null,null,null,null,null,null,null,null,null,"    "]
[null,null,null,null,null,null,"",null,null,null,null,null,null,null,null,null,null,"",null,null,null,null,null,null,null,null,"",""," ",null,null,null,"",null,"",null,null,null,null,null,null,null,null,null,null,null,null,null,null,null,null,null,null,null,null,null,null,null,null,null,null,null,null,null,null,null,null,null,null,null,null,null,null,null,null,null,null,null,null,null,null,null,null,null,null,"    "]
[null,null,null,null,null,null,"",null,null,null,null,null,null,null,null,null,null,"",null,null,null,null,null,null,null,null,"",""," ",null,null,null,"",null,"",null,null,null,null,null,null,null,null,null,null,null,null,null,null,null,null,null,null,null,null,null,null,null,null,null,null,null,null,null,null,null,null,null,null,null,null,null,null,null,null,null,null,null,null,null,null,null,null,null,null,"    "]
[null,null,null,null,null,null,"",null,null,null,null,null,null,null,null,null,null,"",null,null,null,null,null,null,null,null,"",""," ",null,null,null,"",null,"",null,null,null,null,null,null,null,null,null,null,null,null,null,null,null,null,null,null,null,null,null,null,null,null,null,null,null,null,null,null,null,null,null,null,null,null,null,null,null,null,null,null,null,null,null,null,null,null,null,null,"    "]
[null,null,null,null,null,null,"",null,null,null,null,null,null,null,null,null,null,"",null,null,null,null,null,null,null,null,"",""," ",null,null,null,"",null,"",null,null,null,null,null,null,null,null,null,null,null,null,null,null,null,null,null,null,null,null,null,null,null,null,null,null,null,null,null,null,null,null,null,null,null,null,null,null,null,null,null,null,null,null,null,null,null,null,null,null,"    "]
[null,null,null,null,null,null,"",null,null,null,null,null,null,null,null,null,null,"",null,null,null,null,null,null,null,null,"",""," ",null,null,null,"",null,"",null,null,null,null,null,null,null,null,null,null,null,null,null,null,null,null,null,null,null,null,null,null,null,null,null,null,null,null,null,null,null,null,null,null,null,null,null,null,null,null,null,null,null,null,null,null,null,null,null,null,"    "]
[null,null,null,null,null,null,"",null,null,null,null,null,null,null,null,null,null,"",null,null,null,null,null,null,null,null,"",""," ",null,null,null,"",null,"",null,null,null,null,null,null,null,null,null,null,null,null,null,null,null,null,null,null,null,null,null,null,null,null,null,null,null,null,null,null,null,null,null,null,null,null,null,null,null,null,null,null,null,null,null,null,null,null,null,null,"    "]
[null,null,null,null,null,null,"",null,null,null,null,null,null,null,null,null,null,"",null,null,null,null,null,null,null,null,"",""," ",null,null,null,"",null,"",null,null,null,null,null,null,null,null,null,null,null,null,null,null,null,null,null,null,null,null,null,null,null,null,null,null,null,null,null,null,null,null,null,null,null,null,null,null,null,null,null,null,null,null,null,null,null,null,null,null,"    "]
[null,null,null,null,null,null,"",null,null,null,null,null,null,null,null,null,null,"",null,null,null,null,null,null,null,null,"",""," ",null,null,null,"",null,"",null,null,null,null,null,null,null,null,null,null,null,null,null,null,null,null,null,null,null,null,null,null,null,null,null,null,null,null,null,null,null,null,null,null,null,null,null,null,null,null,null,null,null,null,null,null,null,null,null,null,"    "]
[null,null,null,null,null,null,"",null,null,null,null,null,null,null,null,null,null,"",null,null,null,null,null,null,null,null,"",""," ",null,null,null,"",null,"",null,null,null,null,null,null,null,null,null,null,null,null,null,null,null,null,null,null,null,null,null,null,null,null,null,null,null,null,null,null,null,null,null,null,null,null,null,null,null,null,null,null,null,null,null,null,null,null,null,null,"    "]
[null,null,null,null,null,null,"",null,null,null,null,null,null,null,null,null,null,"",null,null,null,null,null,null,null,null,"",""," ",null,null,null,"",null,"",null,null,null,null,null,null,null,null,null,null,null,null,null,null,null,null,null,null,null,null,null,null,null,null,null,null,null,null,null,null,null,null,null,null,null,null,null,null,null,null,null,null,null,null,null,null,null,null,null,null,"    "]
[null,null,null,null,null,null,"",null,null,null,null,null,null,null,null,null,null,"",null,null,null,null,null,null,null,null,"",""," ",null,null,null,"",null,"",null,null,null,null,null,null,null,null,null,null,null,null,null,null,null,null,null,null,null,null,null,null,null,null,null,null,null,null,null,null,null,null,null,null,null,null,null,null,null,null,null,null,null,null,null,null,null,null,null,null,"    "]
[null,null,null,null,null,null,"",null,null,null,null,null,null,null,null,null,null,"",null,null,null,null,null,null,null,null,"",""," ",null,null,null,"",null,"",null,null,null,null,null,null,null,null,null,null,null,null,null,null,null,null,null,null,null,null,null,null,null,null,null,null,null,null,null,null,null,null,null,null,null,null,null,null,null,null,null,null,null,null,null,null,null,null,null,null,"    "]
[null,null,null,null,null,null,"",null,null,null,null,null,null,null,null,null,null,"",null,null,null,null,null,null,null,null,"",""," ",null,null,null,"",null,"",null,null,null,null,null,null,null,null,null,null,null,null,null,null,null,null,null,null,null,null,null,null,null,null,null,null,null,null,null,null,null,null,null,null,null,null,null,null,null,null,null,null,null,null,null,null,null,null,null,null,"    "]
[null,null,null,null,null,null,"",null,null,null,null,null,null,null,null,null,null,"",null,null,null,null,null,null,null,null,"",""," ",null,null,null,"",null,"",null,null,null,null,null,null,null,null,null,null,null,null,null,null,null,null,null,null,null,null,null,null,null,null,null,null,null,null,null,null,null,null,null,null,null,null,null,null,null,null,null,null,null,null,null,null,null,null,null,null,"    "]
[null,null,null,null,null,null,"",null,null,null,null,null,null,null,null,null,null,"",null,null,null,null,null,null,null,null,"",""," ",null,null,null,"",null,"",null,null,null,null,null,null,null,null,null,null,null,null,null,null,null,null,null,null,null,null,null,null,null,null,null,null,null,null,null,null,null,null,null,null,null,null,null,null,null,null,null,null,null,null,null,null,null,null,null,null,"    "]
[null,null,null,null,null,null,{"$f":"IF(F69>0,F69,\"\")","v":""},null,null,null,null,null,null,null,null,null,null,{"$f":"IF(T69>0,\"Actual Earnings\",\"\")","v":""},null,null,null,null,null,null,null,null,{"$f":"IF(Z69>0,\"Direct Claims Payments\",\"\")","v":""},{"$f":"IF(AD69>0,\"Home\",\"\")","v":""},{"$f":"B69&\" \"&D69","v":" "},null,null,null,{"$f":"IF(K69>0,K69,\"\")","v":""},null,{"$f":"IF(K69>0,\"Canada\",\"\")","v":""},null,null,null,null,null,null,null,null,null,null,null,null,null,null,null,null,null,null,null,null,null,null,null,null,null,null,null,null,null,null,null,null,null,null,null,null,null,null,null,null,null,null,null,null,null,null,null,null,null,null,{"$f":"CC69&\" \"&IF(K69=\"QC\",IF(CD69=\"Revocable\",\"(revocable)\",IF(CD69=\"Irrevocable\",\"(irrevocable)\",IF(CD69=\"\",\"\",\"\"))),\"\")&\" \"&IF(CE69>0,CHAR(10)&\"Contingent(s): \"&CE69,\"\")&\" \"&IF(K69=\"QC\",IF(CF69=\"Revocable\",\"(revocable)\",IF(CF69=\"Irrevocable\",\"(irrevocable)\",IF(CF69=\"\",\"\",\"\"))),\"\")&\" \"&IF(CG69>0,CHAR(10)&\"Trustee (minor): \"&CG69,\"\")","v":"    "}]
[null,null,null,null,null,null,"",null,null,null,null,null,null,null,null,null,null,"",null,null,null,null,null,null,null,null,"",""," ",null,null,null,"",null,"",null,null,null,null,null,null,null,null,null,null,null,null,null,null,null,null,null,null,null,null,null,null,null,null,null,null,null,null,null,null,null,null,null,null,null,null,null,null,null,null,null,null,null,null,null,null,null,null,null,null,"    "]
[null,null,null,null,null,null,"",null,null,null,null,null,null,null,null,null,null,"",null,null,null,null,null,null,null,null,"",""," ",null,null,null,"",null,"",null,null,null,null,null,null,null,null,null,null,null,null,null,null,null,null,null,null,null,null,null,null,null,null,null,null,null,null,null,null,null,null,null,null,null,null,null,null,null,null,null,null,null,null,null,null,null,null,null,null,"    "]
[null,null,null,null,null,null,"",null,null,null,null,null,null,null,null,null,null,"",null,null,null,null,null,null,null,null,"",""," ",null,null,null,"",null,"",null,null,null,null,null,null,null,null,null,null,null,null,null,null,null,null,null,null,null,null,null,null,null,null,null,null,null,null,null,null,null,null,null,null,null,null,null,null,null,null,null,null,null,null,null,null,null,null,null,null,"    "]
[null,null,null,null,null,null,"",null,null,null,null,null,null,null,null,null,null,"",null,null,null,null,null,null,null,null,"",""," ",null,null,null,"",null,"",null,null,null,null,null,null,null,null,null,null,null,null,null,null,null,null,null,null,null,null,null,null,null,null,null,null,null,null,null,null,null,null,null,null,null,null,null,null,null,null,null,null,null,null,null,null,null,null,null,null,"    "]
[null,null,null,null,null,null,"",null,null,null,null,null,null,null,null,null,null,"",null,null,null,null,null,null,null,null,"",""," ",null,null,null,"",null,"",null,null,null,null,null,null,null,null,null,null,null,null,null,null,null,null,null,null,null,null,null,null,null,null,null,null,null,null,null,null,null,null,null,null,null,null,null,null,null,null,null,null,null,null,null,null,null,null,null,null,"    "]
[null,null,null,null,null,null,"",null,null,null,null,null,null,null,null,null,null,"",null,null,null,null,null,null,null,null,"",""," ",null,null,null,"",null,"",null,null,null,null,null,null,null,null,null,null,null,null,null,null,null,null,null,null,null,null,null,null,null,null,null,null,null,null,null,null,null,null,null,null,null,null,null,null,null,null,null,null,null,null,null,null,null,null,null,null,"    "]
[null,null,null,null,null,null,"",null,null,null,null,null,null,null,null,null,null,"",null,null,null,null,null,null,null,null,"",""," ",null,null,null,"",null,"",null,null,null,null,null,null,null,null,null,null,null,null,null,null,null,null,null,null,null,null,null,null,null,null,null,null,null,null,null,null,null,null,null,null,null,null,null,null,null,null,null,null,null,null,null,null,null,null,null,null,"    "]
[null,null,null,null,null,null,"",null,null,null,null,null,null,null,null,null,null,"",null,null,null,null,null,null,null,null,"",""," ",null,null,null,"",null,"",null,null,null,null,null,null,null,null,null,null,null,null,null,null,null,null,null,null,null,null,null,null,null,null,null,null,null,null,null,null,null,null,null,null,null,null,null,null,null,null,null,null,null,null,null,null,null,null,null,null,"    "]
[null,null,null,null,null,null,"",null,null,null,null,null,null,null,null,null,null,"",null,null,null,null,null,null,null,null,"",""," ",null,null,null,"",null,"",null,null,null,null,null,null,null,null,null,null,null,null,null,null,null,null,null,null,null,null,null,null,null,null,null,null,null,null,null,null,null,null,null,null,null,null,null,null,null,null,null,null,null,null,null,null,null,null,null,null,"    "]
[null,null,null,null,null,null,"",null,null,null,null,null,null,null,null,null,null,"",null,null,null,null,null,null,null,null,"",""," ",null,null,null,"",null,"",null,null,null,null,null,null,null,null,null,null,null,null,null,null,null,null,null,null,null,null,null,null,null,null,null,null,null,null,null,null,null,null,null,null,null,null,null,null,null,null,null,null,null,null,null,null,null,null,null,null,"    "]
[null,null,null,null,null,null,"",null,null,null,null,null,null,null,null,null,null,"",null,null,null,null,null,null,null,null,"",""," ",null,null,null,"",null,"",null,null,null,null,null,null,null,null,null,null,null,null,null,null,null,null,null,null,null,null,null,null,null,null,null,null,null,null,null,null,null,null,null,null,null,null,null,null,null,null,null,null,null,null,null,null,null,null,null,null,"    "]
[null,null,null,null,null,null,"",null,null,null,null,null,null,null,null,null,null,"",null,null,null,null,null,null,null,null,"",""," ",null,null,null,"",null,"",null,null,null,null,null,null,null,null,null,null,null,null,null,null,null,null,null,null,null,null,null,null,null,null,null,null,null,null,null,null,null,null,null,null,null,null,null,null,null,null,null,null,null,null,null,null,null,null,null,null,"    "]
[null,null,null,null,null,null,"",null,null,null,null,null,null,null,null,null,null,"",null,null,null,null,null,null,null,null,"",""," ",null,null,null,"",null,"",null,null,null,null,null,null,null,null,null,null,null,null,null,null,null,null,null,null,null,null,null,null,null,null,null,null,null,null,null,null,null,null,null,null,null,null,null,null,null,null,null,null,null,null,null,null,null,null,null,null,"    "]
[null,null,null,null,null,null,"",null,null,null,null,null,null,null,null,null,null,"",null,null,null,null,null,null,null,null,"",""," ",null,null,null,"",null,"",null,null,null,null,null,null,null,null,null,null,null,null,null,null,null,null,null,null,null,null,null,null,null,null,null,null,null,null,null,null,null,null,null,null,null,null,null,null,null,null,null,null,null,null,null,null,null,null,null,null,"    "]
[null,null,null,null,null,null,"",null,null,null,null,null,null,null,null,null,null,"",null,null,null,null,null,null,null,null,"",""," ",null,null,null,"",null,"",null,null,null,null,null,null,null,null,null,null,null,null,null,null,null,null,null,null,null,null,null,null,null,null,null,null,null,null,null,null,null,null,null,null,null,null,null,null,null,null,null,null,null,null,null,null,null,null,null,null,"    "]
[null,null,null,null,null,null,"",null,null,null,null,null,null,null,null,null,null,"",null,null,null,null,null,null,null,null,"",""," ",null,null,null,"",null,"",null,null,null,null,null,null,null,null,null,null,null,null,null,null,null,null,null,null,null,null,null,null,null,null,null,null,null,null,null,null,null,null,null,null,null,null,null,null,null,null,null,null,null,null,null,null,null,null,null,null,"    "]
[null,null,null,null,null,null,"",null,null,null,null,null,null,null,null,null,null,"",null,null,null,null,null,null,null,null,"",""," ",null,null,null,"",null,"",null,null,null,null,null,null,null,null,null,null,null,null,null,null,null,null,null,null,null,null,null,null,null,null,null,null,null,null,null,null,null,null,null,null,null,null,null,null,null,null,null,null,null,null,null,null,null,null,null,null,"    "]
[null,null,null,null,null,null,"",null,null,null,null,null,null,null,null,null,null,"",null,null,null,null,null,null,null,null,"",""," ",null,null,null,"",null,"",null,null,null,null,null,null,null,null,null,null,null,null,null,null,null,null,null,null,null,null,null,null,null,null,null,null,null,null,null,null,null,null,null,null,null,null,null,null,null,null,null,null,null,null,null,null,null,null,null,null,"    "]
[null,null,null,null,null,null,"",null,null,null,null,null,null,null,null,null,null,"",null,null,null,null,null,null,null,null,"",""," ",null,null,null,"",null,"",null,null,null,null,null,null,null,null,null,null,null,null,null,null,null,null,null,null,null,null,null,null,null,null,null,null,null,null,null,null,null,null,null,null,null,null,null,null,null,null,null,null,null,null,null,null,null,null,null,null,"    "]
[null,null,null,null,null,null,"",null,null,null,null,null,null,null,null,null,null,"",null,null,null,null,null,null,null,null,"",""," ",null,null,null,"",null,"",null,null,null,null,null,null,null,null,null,null,null,null,null,null,null,null,null,null,null,null,null,null,null,null,null,null,null,null,null,null,null,null,null,null,null,null,null,null,null,null,null,null,null,null,null,null,null,null,null,null,"    "]
[null,null,null,null,null,null,"",null,null,null,null,null,null,null,null,null,null,"",null,null,null,null,null,null,null,null,"",""," ",null,null,null,"",null,"",null,null,null,null,null,null,null,null,null,null,null,null,null,null,null,null,null,null,null,null,null,null,null,null,null,null,null,null,null,null,null,null,null,null,null,null,null,null,null,null,null,null,null,null,null,null,null,null,null,null,"    "]
[null,null,null,null,null,null,"",null,null,null,null,null,null,null,null,null,null,"",null,null,null,null,null,null,null,null,"",""," ",null,null,null,"",null,"",null,null,null,null,null,null,null,null,null,null,null,null,null,null,null,null,null,null,null,null,null,null,null,null,null,null,null,null,null,null,null,null,null,null,null,null,null,null,null,null,null,null,null,null,null,null,null,null,null,null,"    "]
[null,null,null,null,null,null,"",null,null,null,null,null,null,null,null,null,null,"",null,null,null,null,null,null,null,null,"",""," ",null,null,null,"",null,"",null,null,null,null,null,null,null,null,null,null,null,null,null,null,null,null,null,null,null,null,null,null,null,null,null,null,null,null,null,null,null,null,null,null,null,null,null,null,null,null,null,null,null,null,null,null,null,null,null,null,"    "]
[null,null,null,null,null,null,"",null,null,null,null,null,null,null,null,null,null,"",null,null,null,null,null,null,null,null,"",""," ",null,null,null,"",null,"",null,null,null,null,null,null,null,null,null,null,null,null,null,null,null,null,null,null,null,null,null,null,null,null,null,null,null,null,null,null,null,null,null,null,null,null,null,null,null,null,null,null,null,null,null,null,null,null,null,null,"    "]
[null,null,null,null,null,null,"",null,null,null,null,null,null,null,null,null,null,"",null,null,null,null,null,null,null,null,"",""," ",null,null,null,"",null,"",null,null,null,null,null,null,null,null,null,null,null,null,null,null,null,null,null,null,null,null,null,null,null,null,null,null,null,null,null,null,null,null,null,null,null,null,null,null,null,null,null,null,null,null,null,null,null,null,null,null,"    "]
[null,null,null,null,null,null,"",null,null,null,null,null,null,null,null,null,null,"",null,null,null,null,null,null,null,null,"",""," ",null,null,null,"",null,"",null,null,null,null,null,null,null,null,null,null,null,null,null,null,null,null,null,null,null,null,null,null,null,null,null,null,null,null,null,null,null,null,null,null,null,null,null,null,null,null,null,null,null,null,null,null,null,null,null,null,"    "]
[null,null,null,null,null,null,"",null,null,null,null,null,null,null,null,null,null,"",null,null,null,null,null,null,null,null,"",""," ",null,null,null,"",null,"",null,null,null,null,null,null,null,null,null,null,null,null,null,null,null,null,null,null,null,null,null,null,null,null,null,null,null,null,null,null,null,null,null,null,null,null,null,null,null,null,null,null,null,null,null,null,null,null,null,null,"    "]
[null,null,null,null,null,null,"",null,null,null,null,null,null,null,null,null,null,"",null,null,null,null,null,null,null,null,"",""," ",null,null,null,"",null,"",null,null,null,null,null,null,null,null,null,null,null,null,null,null,null,null,null,null,null,null,null,null,null,null,null,null,null,null,null,null,null,null,null,null,null,null,null,null,null,null,null,null,null,null,null,null,null,null,null,null,"    "]
[null,null,null,null,null,null,"",null,null,null,null,null,null,null,null,null,null,"",null,null,null,null,null,null,null,null,"",""," ",null,null,null,"",null,"",null,null,null,null,null,null,null,null,null,null,null,null,null,null,null,null,null,null,null,null,null,null,null,null,null,null,null,null,null,null,null,null,null,null,null,null,null,null,null,null,null,null,null,null,null,null,null,null,null,null,"    "]
[null,null,null,null,null,null,"",null,null,null,null,null,null,null,null,null,null,"",null,null,null,null,null,null,null,null,"",""," ",null,null,null,"",null,"",null,null,null,null,null,null,null,null,null,null,null,null,null,null,null,null,null,null,null,null,null,null,null,null,null,null,null,null,null,null,null,null,null,null,null,null,null,null,null,null,null,null,null,null,null,null,null,null,null,null,"    "]
[null,null,null,null,null,null,"",null,null,null,null,null,null,null,null,null,null,"",null,null,null,null,null,null,null,null,"",""," ",null,null,null,"",null,"",null,null,null,null,null,null,null,null,null,null,null,null,null,null,null,null,null,null,null,null,null,null,null,null,null,null,null,null,null,null,null,null,null,null,null,null,null,null,null,null,null,null,null,null,null,null,null,null,null,null,"    "]

{"sheet":"Simplified Loader (FOR COPY)","index":2,"n_rows":99,"n_cols":80,"rows_kept":99,"cut":false,"hidden":true,"merged":[[0,0,0,1],[0,2,0,8],[0,22,0,24]]}
["Company Name:",null,{"$f":"IF('Simplified Loader'!C1:J1>0,'Simplified Loader'!C1:J1,\"\")","v":""},null,null,null,null,null,null,null,null,null,null,null,null,null,"Hidden",null,null,null,null,null,"Banking Information",null,null,"Hidden","Hidden","Hidden"]
["ex: 1234567890","ex: John","H","ex: Smith","ex: 001","ex: A","A","(YYYY-MM-DD)","(YYYY-MM-DD)","ex: ON","ex: ON","Male/Female","Yes/No","Single/Family","English/French","Yes/No","Actual Earnings","ex: Annually","ex: 50000","ex: 40","Yes/No","Yes/No","ex: 123","ex: 12345","ex: 1234567890","Direct Claims Payments","Home","John Smith","ex: 123 Any St.","ex: 7A","ex: Any Town","ex: ON","ex: A1B 2C3","ex: Canada","ex: john.smith@hotmail.com","ex: Jane","ex: Smith","(YYYY/MM/DD)","Male/Female","Single/Family","Single/Family","ex: Insure Inc.","Yes/No","ex: Jason","ex: Smith","(YYYY/MM/DD)","Male/Female","Yes/No","Yes/No","ex: Jane","ex: Smith","(YYYY/MM/DD)","Female/Male","Yes/No","Yes/No","ex: Jim","ex: Smith","(YYYY/MM/DD)","Male/Female","Yes/No","Yes/No","ex: Janet","ex: Smith","(YYYY/MM/DD)","Female/Male","Yes/No","Yes/No","ex: Jasmine","ex: Smith","(YYYY/MM/DD)","Female/Male","Yes/No","Yes/No","ex: Jack","ex: Smith","(YYYY/MM/DD)","Male/Female","Yes/No","Yes/No","ex: Jane Smith - Spouse 100%"]
["Member ID","First Name","Middle Initial","Last Name","Location ","Class","Plan","Birth Date","Employment Date","Residence Code","Work Residence Code","Gender","Smoker Status","Dependent Status","Member Language","Tax exempted","Salary Type 1","Salary Basis 1","Salary Amount 1 ","Hours Per Week 1","EHC Refusal","Dental Refusal","Institution Number","Transit Number","Account Number","Type","Address Type","Addressee","Street Address","Suite","City","Province/State","Postal/Zip Code","Country","Email address","Spouse First Name","Spouse Last Name","Spouse Date Of Birth","Spouse Gender","EHC COB","Dental COB","Other Carrier Name","Spouse Smoker Status","Child 1 First Name","Child 1 Last Name","Child 1 Date Of Birth","Child 1 Gender","Student Flag 1","Disabled Status 1","Child 2 First Name","Child 2 Last Name","Child 2 Date Of Birth","Child 2 Gender","Student Flag 2","Disabled Status 2","Child 3 First Name","Child 3 Last Name","Child 3 Date Of Birth","Child 3 Gender","Student Flag 3","Disabled Status 3","Child 4 First Name","Child 4 Last Name","Child 4 Date Of Birth","Child 4 Gender","Student Flag 4","Disabled Status 4","Child 5 First Name","Child 5 Last Name","Child 5 Date Of Birth","Child 5 Gender","Student Flag 5","Disabled Status 5","Child 6 First Name","Child 6 Last Name","Child 6 Date Of Birth","Child 6 Gender","Student Flag 6","Disabled Status 6","Beneficiary Information"]
[{"$f":"IF('Simplified Loader'!A5>0,'Simplified Loader'!A5,\"\")","v":""},{"$f":"IF('Simplified Loader'!B5>0,'Simplified Loader'!B5,\"\")","v":""},{"$f":"IF('Simplified Loader'!C5>0,'Simplified Loader'!C5,\"\")","v":""},{"$f":"IF('Simplified Loader'!D5>0,'Simplified Loader'!D5,\"\")","v":""},{"$f":"IF('Simplified Loader'!E5>0,TEXT('Simplified Loader'!E5,\"000\"),\"\")","v":""},{"$f":"IF('Simplified Loader'!F5>0,'Simplified Loader'!F5,\"\")","v":""},{"$f":"IF('Simplified Loader'!G5>0,'Simplified Loader'!G5,\"\")","v":""},{"$f":"IF('Simplified Loader'!I5>0,'Simplified Loader'!I5,\"\")","v":""},{"$f":"IF('Simplified Loader'!J5>0,'Simplified Loader'!J5,\"\")","v":""},{"$f":"IF('Simplified Loader'!K5>0,'Simplified Loader'!K5,\"\")","v":""},{"$f":"IF('Simplified Loader'!L5>0,'Simplified Loader'!L5,\"\")","v":""},{"$f":"IF('Simplified Loader'!M5=\"Male\",\"Male\",IF('Simplified Loader'!M5=\"Female\",\"Female\",IF('Simplified Loader'!M5=\"M\",\"Male\",IF('Simplified Loader'!M5=\"F\",\"Female\",\"\"))))","v":""},{"$f":"IF('Simplified Loader'!N5=\"Yes\",\"Yes\",IF('Simplified Loader'!N5=\"No\",\"No\",IF('Simplified Loader'!N5=\"Y\",\"Yes\",IF('Simplified Loader'!N5=\"N\",\"No\",\"\"))))","v":""},{"$f":"IF('Simplified Loader'!O5=\"No\",\"Single\",IF('Simplified Loader'!O5=\"Yes\",\"Family\",IF('Simplified Loader'!O5=\"N\",\"Single\",IF('Simplified Loader'!O5=\"Y\",\"Family\",IF('Simplified Loader'!O5=\"In-force\",\"Family\",IF('Simplified Loader'!O5=\"In force\",\"Family\",IF('Simplified Loader'!O5=\"Applies\",\"Family\",IF('Simplified Loader'!O5=\"Applicable\",\"Family\",\"\"))))))))","v":""},{"$f":"IF('Simplified Loader'!P5=\"English\",\"English\",IF('Simplified Loader'!P5=\"French\",\"French\",IF('Simplified Loader'!P5=\"E\",\"English\",IF('Simplified Loader'!P5=\"F\",\"French\",\"\"))))","v":""},{"$f":"IF('Simplified Loader'!Q5=\"Yes\",\"Yes\",IF('Simplified Loader'!Q5=\"No\",\"No\",IF('Simplified Loader'!Q5=\"Y\",\"Yes\",IF('Simplified Loader'!Q5=\"N\",\"No\",\"\"))))","v":""},{"$f":"IF('Simplified Loader'!R5>0,'Simplified Loader'!R5,\"\")","v":""},{"$f":"IF('Simplified Loader'!S5>0,'Simplified Loader'!S5,\"\")","v":""},{"$f":"IF('Simplified Loader'!T5>0,'Simplified Loader'!T5,\"\")","v":""},{"$f":"IF('Simplified Loader'!U5>0,'Simplified Loader'!U5,\"\")","v":""},{"$f":"IF('Simplified Loader'!V5=\"Waive\",\"Yes\",\"\")","v":""},{"$f":"IF('Simplified Loader'!W5=\"Waive\",\"Yes\",\"\")","v":""},{"$f":"IF('Simplified Loader'!X5>0,'Simplified Loader'!X5,\"\")","v":""},{"$f":"IF('Simplified Loader'!Y5>0,'Simplified Loader'!Y5,\"\")","v":""},{"$f":"IF('Simplified Loader'!Z5>0,'Simplified Loader'!Z5,\"\")","v":""},{"$f":"IF('Simplified Loader'!AA5>0,'Simplified Loader'!AA5,\"\")","v":""},{"$f":"IF('Simplified Loader'!AB5>0,'Simplified Loader'!AB5,\"\")","v":""},{"$f":"IF('Simplified Loader'!AC5>0,'Simplified Loader'!AC5,\"\")","v":" "},{"$f":"IF('Simplified Loader'!AE5>0,'Simplified Loader'!AE5&\" \",\"\")&IF('Simplified Loader'!AD5>0,'Simplified Loader'!AD5,\"\")","v":""},null,{"$f":"IF('Simplified Loader'!AF5>0,'Simplified Loader'!AF5,\"\")","v":""},{"$f":"IF('Simplified Loader'!AG5>0,'Simplified Loader'!AG5,\"\")","v":""},{"$f":"IF('Simplified Loader'!AH5>0,'Simplified Loader'!AH5,\"\")","v":""},{"$f":"IF('Simplified Loader'!AI5>0,'Simplified Loader'!AI5,\"\")","v":""},{"$f":"IF('Simplified Loader'!AJ5>0,'Simplified Loader'!AJ5,\"\")","v":""},{"$f":"IF('Simplified Loader'!AK5>0,'Simplified Loader'!AK5,\"\")","v":""},{"$f":"IF('Simplified Loader'!AL5>0,'Simplified Loader'!AL5,\"\")","v":""},{"$f":"IF('Simplified Loader'!AM5>0,'Simplified Loader'!AM5,\"\")","v":""},{"$f":"IF('Simplified Loader'!AN5=\"Male\",\"Male\",IF('Simplified Loader'!AN5=\"Female\",\"Female\",IF('Simplified Loader'!AN5=\"M\",\"Male\",IF('Simplified Loader'!AN5=\"F\",\"Female\",\"\"))))","v":""},{"$f":"IF('Simplified Loader'!AO5=\"Single\",\"Single\",IF('Simplified Loader'!AO5=\"Family\",\"Family\",IF('Simplified Loader'!AO5=\"S\",\"Single\",IF('Simplified Loader'!AO5=\"F\",\"Family\",\"\"))))","v":""},{"$f":"IF('Simplified Loader'!AP5=\"Single\",\"Single\",IF('Simplified Loader'!AP5=\"Family\",\"Family\",IF('Simplified Loader'!AP5=\"S\",\"Single\",IF('Simplified Loader'!AP5=\"F\",\"Family\",\"\"))))","v":""},{"$f":"IF('Simplified Loader'!AQ5>0,'Simplified Loader'!AQ5,\"\")","v":""},{"$f":"IF('Simplified Loader'!AR5=\"Yes\",\"Yes\",IF('Simplified Loader'!AR5=\"No\",\"No\",IF('Simplified Loader'!AR5=\"Y\",\"Yes\",IF('Simplified Loader'!AR5=\"N\",\"No\",\"\"))))","v":""},{"$f":"IF('Simplified Loader'!AS5>0,'Simplified Loader'!AS5,\"\")","v":""},{"$f":"IF('Simplified Loader'!AT5>0,'Simplified Loader'!AT5,\"\")","v":""},{"$f":"IF('Simplified Loader'!AU5>0,'Simplified Loader'!AU5,\"\")","v":""},{"$f":"IF('Simplified Loader'!AV5=\"Male\",\"Male\",IF('Simplified Loader'!AV5=\"Female\",\"Female\",IF('Simplified Loader'!AV5=\"M\",\"Male\",IF('Simplified Loader'!AV5=\"F\",\"Female\",\"\"))))","v":""},{"$f":"IF('Simplified Loader'!AW5=\"Yes\",\"Yes\",IF('Simplified Loader'!AW5=\"No\",\"No\",IF('Simplified Loader'!AW5=\"Y\",\"Yes\",IF('Simplified Loader'!AW5=\"N\",\"No\",\"\"))))","v":""},{"$f":"IF('Simplified Loader'!AX5=\"Yes\",\"Yes\",IF('Simplified Loader'!AX5=\"No\",\"No\",IF('Simplified Loader'!AX5=\"Y\",\"Yes\",IF('Simplified Loader'!AX5=\"N\",\"No\",\"\"))))","v":""},{"$f":"IF('Simplified Loader'!AY5>0,'Simplified Loader'!AY5,\"\")","v":""},{"$f":"IF('Simplified Loader'!AZ5>0,'Simplified Loader'!AZ5,\"\")","v":""},{"$f":"IF('Simplified Loader'!BA5>0,'Simplified Loader'!BA5,\"\")","v":""},{"$f":"IF('Simplified Loader'!BB5=\"Male\",\"Male\",IF('Simplified Loader'!BB5=\"Female\",\"Female\",IF('Simplified Loader'!BB5=\"M\",\"Male\",IF('Simplified Loader'!BB5=\"F\",\"Female\",\"\"))))","v":""},{"$f":"IF('Simplified Loader'!BC5=\"Yes\",\"Yes\",IF('Simplified Loader'!BC5=\"No\",\"No\",IF('Simplified Loader'!BC5=\"Y\",\"Yes\",IF('Simplified Loader'!BC5=\"N\",\"No\",\"\"))))","v":""},{"$f":"IF('Simplified Loader'!BD5=\"Yes\",\"Yes\",IF('Simplified Loader'!BD5=\"No\",\"No\",IF('Simplified Loader'!BD5=\"Y\",\"Yes\",IF('Simplified Loader'!BD5=\"N\",\"No\",\"\"))))","v":""},{"$f":"IF('Simplified Loader'!BE5>0,'Simplified Loader'!BE5,\"\")","v":""},{"$f":"IF('Simplified Loader'!BF5>0,'Simplified Loader'!BF5,\"\")","v":""},{"$f":"IF('Simplified Loader'!BG5>0,'Simplified Loader'!BG5,\"\")","v":""},{"$f":"IF('Simplified Loader'!BH5=\"Male\",\"Male\",IF('Simplified Loader'!BH5=\"Female\",\"Female\",IF('Simplified Loader'!BH5=\"M\",\"Male\",IF('Simplified Loader'!BH5=\"F\",\"Female\",\"\"))))","v":""},{"$f":"IF('Simplified Loader'!BI5=\"Yes\",\"Yes\",IF('Simplified Loader'!BI5=\"No\",\"No\",IF('Simplified Loader'!BI5=\"Y\",\"Yes\",IF('Simplified Loader'!BI5=\"N\",\"No\",\"\"))))","v":""},{"$f":"IF('Simplified Loader'!BJ5=\"Yes\",\"Yes\",IF('Simplified Loader'!BJ5=\"No\",\"No\",IF('Simplified Loader'!BJ5=\"Y\",\"Yes\",IF('Simplified Loader'!BJ5=\"N\",\"No\",\"\"))))","v":""},{"$f":"IF('Simplified Loader'!BK5>0,'Simplified Loader'!BK5,\"\")","v":""},{"$f":"IF('Simplified Loader'!BL5>0,'Simplified Loader'!BL5,\"\")","v":""},{"$f":"IF('Simplified Loader'!BM5>0,'Simplified Loader'!BM5,\"\")","v":""},{"$f":"IF('Simplified Loader'!BN5=\"Male\",\"Male\",IF('Simplified Loader'!BN5=\"Female\",\"Female\",IF('Simplified Loader'!BN5=\"M\",\"Male\",IF('Simplified Loader'!BN5=\"F\",\"Female\",\"\"))))","v":""},{"$f":"IF('Simplified Loader'!BO5=\"Yes\",\"Yes\",IF('Simplified Loader'!BO5=\"No\",\"No\",IF('Simplified Loader'!BO5=\"Y\",\"Yes\",IF('Simplified Loader'!BO5=\"N\",\"No\",\"\"))))","v":""},{"$f":"IF('Simplified Loader'!BP5=\"Yes\",\"Yes\",IF('Simplified Loader'!BP5=\"No\",\"No\",IF('Simplified Loader'!BP5=\"Y\",\"Yes\",IF('Simplified Loader'!BP5=\"N\",\"No\",\"\"))))","v":""},{"$f":"IF('Simplified Loader'!BQ5>0,'Simplified Loader'!BQ5,\"\")","v":""},{"$f":"IF('Simplified Loader'!BR5>0,'Simplified Loader'!BR5,\"\")","v":""},{"$f":"IF('Simplified Loader'!BS5>0,'Simplified Loader'!BS5,\"\")","v":""},{"$f":"IF('Simplified Loader'!BT5=\"Male\",\"Male\",IF('Simplified Loader'!BT5=\"Female\",\"Female\",IF('Simplified Loader'!BT5=\"M\",\"Male\",IF('Simplified Loader'!BT5=\"F\",\"Female\",\"\"))))","v":""},{"$f":"IF('Simplified Loader'!BU5=\"Yes\",\"Yes\",IF('Simplified Loader'!BU5=\"No\",\"No\",IF('Simplified Loader'!BU5=\"Y\",\"Yes\",IF('Simplified Loader'!BU5=\"N\",\"No\",\"\"))))","v":""},{"$f":"IF('Simplified Loader'!BV5=\"Yes\",\"Yes\",IF('Simplified Loader'!BV5=\"No\",\"No\",IF('Simplified Loader'!BV5=\"Y\",\"Yes\",IF('Simplified Loader'!BV5=\"N\",\"No\",\"\"))))","v":""},{"$f":"IF('Simplified Loader'!BW5>0,'Simplified Loader'!BW5,\"\")","v":""},{"$f":"IF('Simplified Loader'!BX5>0,'Simplified Loader'!BX5,\"\")","v":""},{"$f":"IF('Simplified Loader'!BY5>0,'Simplified Loader'!BY5,\"\")","v":""},{"$f":"IF('Simplified Loader'!BZ5=\"Male\",\"Male\",IF('Simplified Loader'!BZ5=\"Female\",\"Female\",IF('Simplified Loader'!BZ5=\"M\",\"Male\",IF('Simplified Loader'!BZ5=\"F\",\"Female\",\"\"))))","v":""},{"$f":"IF('Simplified Loader'!CA5=\"Yes\",\"Yes\",IF('Simplified Loader'!CA5=\"No\",\"No\",IF('Simplified Loader'!CA5=\"Y\",\"Yes\",IF('Simplified Loader'!CA5=\"N\",\"No\",\"\"))))","v":""},{"$f":"IF('Simplified Loader'!CB5=\"Yes\",\"Yes\",IF('Simplified Loader'!CB5=\"No\",\"No\",IF('Simplified Loader'!CB5=\"Y\",\"Yes\",IF('Simplified Loader'!CB5=\"N\",\"No\",\"\"))))","v":""},{"$f":"IF('Simplified Loader'!CH5>0,'Simplified Loader'!CH5,\"\")","v":"    "}]
[{"$f":"IF('Simplified Loader'!A6>0,'Simplified Loader'!A6,\"\")","v":""},{"$f":"IF('Simplified Loader'!B6>0,'Simplified Loader'!B6,\"\")","v":""},{"$f":"IF('Simplified Loader'!C6>0,'Simplified Loader'!C6,\"\")","v":""},{"$f":"IF('Simplified Loader'!D6>0,'Simplified Loader'!D6,\"\")","v":""},{"$f":"IF('Simplified Loader'!E6>0,TEXT('Simplified Loader'!E6,\"000\"),\"\")","v":""},{"$f":"IF('Simplified Loader'!F6>0,'Simplified Loader'!F6,\"\")","v":""},{"$f":"IF('Simplified Loader'!G6>0,'Simplified Loader'!G6,\"\")","v":""},{"$f":"IF('Simplified Loader'!I6>0,'Simplified Loader'!I6,\"\")","v":""},{"$f":"IF('Simplified Loader'!J6>0,'Simplified Loader'!J6,\"\")","v":""},{"$f":"IF('Simplified Loader'!K6>0,'Simplified Loader'!K6,\"\")","v":""},{"$f":"IF('Simplified Loader'!L6>0,'Simplified Loader'!L6,\"\")","v":""},{"$f":"IF('Simplified Loader'!M6=\"Male\",\"Male\",IF('Simplified Loader'!M6=\"Female\",\"Female\",IF('Simplified Loader'!M6=\"M\",\"Male\",IF('Simplified Loader'!M6=\"F\",\"Female\",\"\"))))","v":""},{"$f":"IF('Simplified Loader'!N6=\"Yes\",\"Yes\",IF('Simplified Loader'!N6=\"No\",\"No\",IF('Simplified Loader'!N6=\"Y\",\"Yes\",IF('Simplified Loader'!N6=\"N\",\"No\",\"\"))))","v":""},{"$f":"IF('Simplified Loader'!O6=\"No\",\"Single\",IF('Simplified Loader'!O6=\"Yes\",\"Family\",IF('Simplified Loader'!O6=\"N\",\"Single\",IF('Simplified Loader'!O6=\"Y\",\"Family\",IF('Simplified Loader'!O6=\"In-force\",\"Family\",IF('Simplified Loader'!O6=\"In force\",\"Family\",IF('Simplified Loader'!O6=\"Applies\",\"Family\",IF('Simplified Loader'!O6=\"Applicable\",\"Family\",\"\"))))))))","v":""},{"$f":"IF('Simplified Loader'!P6=\"English\",\"English\",IF('Simplified Loader'!P6=\"French\",\"French\",IF('Simplified Loader'!P6=\"E\",\"English\",IF('Simplified Loader'!P6=\"F\",\"French\",\"\"))))","v":""},{"$f":"IF('Simplified Loader'!Q6=\"Yes\",\"Yes\",IF('Simplified Loader'!Q6=\"No\",\"No\",IF('Simplified Loader'!Q6=\"Y\",\"Yes\",IF('Simplified Loader'!Q6=\"N\",\"No\",\"\"))))","v":""},{"$f":"IF('Simplified Loader'!R6>0,'Simplified Loader'!R6,\"\")","v":""},{"$f":"IF('Simplified Loader'!S6>0,'Simplified Loader'!S6,\"\")","v":""},{"$f":"IF('Simplified Loader'!T6>0,'Simplified Loader'!T6,\"\")","v":""},{"$f":"IF('Simplified Loader'!U6>0,'Simplified Loader'!U6,\"\")","v":""},{"$f":"IF('Simplified Loader'!V6=\"Waive\",\"Yes\",\"\")","v":""},{"$f":"IF('Simplified Loader'!W6=\"Waive\",\"Yes\",\"\")","v":""},{"$f":"IF('Simplified Loader'!X6>0,'Simplified Loader'!X6,\"\")","v":""},{"$f":"IF('Simplified Loader'!Y6>0,'Simplified Loader'!Y6,\"\")","v":""},{"$f":"IF('Simplified Loader'!Z6>0,'Simplified Loader'!Z6,\"\")","v":""},{"$f":"IF('Simplified Loader'!AA6>0,'Simplified Loader'!AA6,\"\")","v":""},{"$f":"IF('Simplified Loader'!AB6>0,'Simplified Loader'!AB6,\"\")","v":""},{"$f":"IF('Simplified Loader'!AC6>0,'Simplified Loader'!AC6,\"\")","v":" "},{"$f":"IF('Simplified Loader'!AE6>0,'Simplified Loader'!AE6&\" \",\"\")&IF('Simplified Loader'!AD6>0,'Simplified Loader'!AD6,\"\")","v":""},null,{"$f":"IF('Simplified Loader'!AF6>0,'Simplified Loader'!AF6,\"\")","v":""},{"$f":"IF('Simplified Loader'!AG6>0,'Simplified Loader'!AG6,\"\")","v":""},{"$f":"IF('Simplified Loader'!AH6>0,'Simplified Loader'!AH6,\"\")","v":""},{"$f":"IF('Simplified Loader'!AI6>0,'Simplified Loader'!AI6,\"\")","v":""},{"$f":"IF('Simplified Loader'!AJ6>0,'Simplified Loader'!AJ6,\"\")","v":""},{"$f":"IF('Simplified Loader'!AK6>0,'Simplified Loader'!AK6,\"\")","v":""},{"$f":"IF('Simplified Loader'!AL6>0,'Simplified Loader'!AL6,\"\")","v":""},{"$f":"IF('Simplified Loader'!AM6>0,'Simplified Loader'!AM6,\"\")","v":""},{"$f":"IF('Simplified Loader'!AN6=\"Male\",\"Male\",IF('Simplified Loader'!AN6=\"Female\",\"Female\",IF('Simplified Loader'!AN6=\"M\",\"Male\",IF('Simplified Loader'!AN6=\"F\",\"Female\",\"\"))))","v":""},{"$f":"IF('Simplified Loader'!AO6=\"Single\",\"Single\",IF('Simplified Loader'!AO6=\"Family\",\"Family\",IF('Simplified Loader'!AO6=\"S\",\"Single\",IF('Simplified Loader'!AO6=\"F\",\"Family\",\"\"))))","v":""},{"$f":"IF('Simplified Loader'!AP6=\"Single\",\"Single\",IF('Simplified Loader'!AP6=\"Family\",\"Family\",IF('Simplified Loader'!AP6=\"S\",\"Single\",IF('Simplified Loader'!AP6=\"F\",\"Family\",\"\"))))","v":""},{"$f":"IF('Simplified Loader'!AQ6>0,'Simplified Loader'!AQ6,\"\")","v":""},{"$f":"IF('Simplified Loader'!AR6=\"Yes\",\"Yes\",IF('Simplified Loader'!AR6=\"No\",\"No\",IF('Simplified Loader'!AR6=\"Y\",\"Yes\",IF('Simplified Loader'!AR6=\"N\",\"No\",\"\"))))","v":""},{"$f":"IF('Simplified Loader'!AS6>0,'Simplified Loader'!AS6,\"\")","v":""},{"$f":"IF('Simplified Loader'!AT6>0,'Simplified Loader'!AT6,\"\")","v":""},{"$f":"IF('Simplified Loader'!AU6>0,'Simplified Loader'!AU6,\"\")","v":""},{"$f":"IF('Simplified Loader'!AV6=\"Male\",\"Male\",IF('Simplified Loader'!AV6=\"Female\",\"Female\",IF('Simplified Loader'!AV6=\"M\",\"Male\",IF('Simplified Loader'!AV6=\"F\",\"Female\",\"\"))))","v":""},{"$f":"IF('Simplified Loader'!AW6=\"Yes\",\"Yes\",IF('Simplified Loader'!AW6=\"No\",\"No\",IF('Simplified Loader'!AW6=\"Y\",\"Yes\",IF('Simplified Loader'!AW6=\"N\",\"No\",\"\"))))","v":""},{"$f":"IF('Simplified Loader'!AX6=\"Yes\",\"Yes\",IF('Simplified Loader'!AX6=\"No\",\"No\",IF('Simplified Loader'!AX6=\"Y\",\"Yes\",IF('Simplified Loader'!AX6=\"N\",\"No\",\"\"))))","v":""},{"$f":"IF('Simplified Loader'!AY6>0,'Simplified Loader'!AY6,\"\")","v":""},{"$f":"IF('Simplified Loader'!AZ6>0,'Simplified Loader'!AZ6,\"\")","v":""},{"$f":"IF('Simplified Loader'!BA6>0,'Simplified Loader'!BA6,\"\")","v":""},{"$f":"IF('Simplified Loader'!BB6=\"Male\",\"Male\",IF('Simplified Loader'!BB6=\"Female\",\"Female\",IF('Simplified Loader'!BB6=\"M\",\"Male\",IF('Simplified Loader'!BB6=\"F\",\"Female\",\"\"))))","v":""},{"$f":"IF('Simplified Loader'!BC6=\"Yes\",\"Yes\",IF('Simplified Loader'!BC6=\"No\",\"No\",IF('Simplified Loader'!BC6=\"Y\",\"Yes\",IF('Simplified Loader'!BC6=\"N\",\"No\",\"\"))))","v":""},{"$f":"IF('Simplified Loader'!BD6=\"Yes\",\"Yes\",IF('Simplified Loader'!BD6=\"No\",\"No\",IF('Simplified Loader'!BD6=\"Y\",\"Yes\",IF('Simplified Loader'!BD6=\"N\",\"No\",\"\"))))","v":""},{"$f":"IF('Simplified Loader'!BE6>0,'Simplified Loader'!BE6,\"\")","v":""},{"$f":"IF('Simplified Loader'!BF6>0,'Simplified Loader'!BF6,\"\")","v":""},{"$f":"IF('Simplified Loader'!BG6>0,'Simplified Loader'!BG6,\"\")","v":""},{"$f":"IF('Simplified Loader'!BH6=\"Male\",\"Male\",IF('Simplified Loader'!BH6=\"Female\",\"Female\",IF('Simplified Loader'!BH6=\"M\",\"Male\",IF('Simplified Loader'!BH6=\"F\",\"Female\",\"\"))))","v":""},{"$f":"IF('Simplified Loader'!BI6=\"Yes\",\"Yes\",IF('Simplified Loader'!BI6=\"No\",\"No\",IF('Simplified Loader'!BI6=\"Y\",\"Yes\",IF('Simplified Loader'!BI6=\"N\",\"No\",\"\"))))","v":""},{"$f":"IF('Simplified Loader'!BJ6=\"Yes\",\"Yes\",IF('Simplified Loader'!BJ6=\"No\",\"No\",IF('Simplified Loader'!BJ6=\"Y\",\"Yes\",IF('Simplified Loader'!BJ6=\"N\",\"No\",\"\"))))","v":""},{"$f":"IF('Simplified Loader'!BK6>0,'Simplified Loader'!BK6,\"\")","v":""},{"$f":"IF('Simplified Loader'!BL6>0,'Simplified Loader'!BL6,\"\")","v":""},{"$f":"IF('Simplified Loader'!BM6>0,'Simplified Loader'!BM6,\"\")","v":""},{"$f":"IF('Simplified Loader'!BN6=\"Male\",\"Male\",IF('Simplified Loader'!BN6=\"Female\",\"Female\",IF('Simplified Loader'!BN6=\"M\",\"Male\",IF('Simplified Loader'!BN6=\"F\",\"Female\",\"\"))))","v":""},{"$f":"IF('Simplified Loader'!BO6=\"Yes\",\"Yes\",IF('Simplified Loader'!BO6=\"No\",\"No\",IF('Simplified Loader'!BO6=\"Y\",\"Yes\",IF('Simplified Loader'!BO6=\"N\",\"No\",\"\"))))","v":""},{"$f":"IF('Simplified Loader'!BP6=\"Yes\",\"Yes\",IF('Simplified Loader'!BP6=\"No\",\"No\",IF('Simplified Loader'!BP6=\"Y\",\"Yes\",IF('Simplified Loader'!BP6=\"N\",\"No\",\"\"))))","v":""},{"$f":"IF('Simplified Loader'!BQ6>0,'Simplified Loader'!BQ6,\"\")","v":""},{"$f":"IF('Simplified Loader'!BR6>0,'Simplified Loader'!BR6,\"\")","v":""},{"$f":"IF('Simplified Loader'!BS6>0,'Simplified Loader'!BS6,\"\")","v":""},{"$f":"IF('Simplified Loader'!BT6=\"Male\",\"Male\",IF('Simplified Loader'!BT6=\"Female\",\"Female\",IF('Simplified Loader'!BT6=\"M\",\"Male\",IF('Simplified Loader'!BT6=\"F\",\"Female\",\"\"))))","v":""},{"$f":"IF('Simplified Loader'!BU6=\"Yes\",\"Yes\",IF('Simplified Loader'!BU6=\"No\",\"No\",IF('Simplified Loader'!BU6=\"Y\",\"Yes\",IF('Simplified Loader'!BU6=\"N\",\"No\",\"\"))))","v":""},{"$f":"IF('Simplified Loader'!BV6=\"Yes\",\"Yes\",IF('Simplified Loader'!BV6=\"No\",\"No\",IF('Simplified Loader'!BV6=\"Y\",\"Yes\",IF('Simplified Loader'!BV6=\"N\",\"No\",\"\"))))","v":""},{"$f":"IF('Simplified Loader'!BW6>0,'Simplified Loader'!BW6,\"\")","v":""},{"$f":"IF('Simplified Loader'!BX6>0,'Simplified Loader'!BX6,\"\")","v":""},{"$f":"IF('Simplified Loader'!BY6>0,'Simplified Loader'!BY6,\"\")","v":""},{"$f":"IF('Simplified Loader'!BZ6=\"Male\",\"Male\",IF('Simplified Loader'!BZ6=\"Female\",\"Female\",IF('Simplified Loader'!BZ6=\"M\",\"Male\",IF('Simplified Loader'!BZ6=\"F\",\"Female\",\"\"))))","v":""},{"$f":"IF('Simplified Loader'!CA6=\"Yes\",\"Yes\",IF('Simplified Loader'!CA6=\"No\",\"No\",IF('Simplified Loader'!CA6=\"Y\",\"Yes\",IF('Simplified Loader'!CA6=\"N\",\"No\",\"\"))))","v":""},{"$f":"IF('Simplified Loader'!CB6=\"Yes\",\"Yes\",IF('Simplified Loader'!CB6=\"No\",\"No\",IF('Simplified Loader'!CB6=\"Y\",\"Yes\",IF('Simplified Loader'!CB6=\"N\",\"No\",\"\"))))","v":""},{"$f":"IF('Simplified Loader'!CH6>0,'Simplified Loader'!CH6,\"\")","v":"    "}]
[{"$f":"IF('Simplified Loader'!A7>0,'Simplified Loader'!A7,\"\")","v":""},{"$f":"IF('Simplified Loader'!B7>0,'Simplified Loader'!B7,\"\")","v":""},{"$f":"IF('Simplified Loader'!C7>0,'Simplified Loader'!C7,\"\")","v":""},{"$f":"IF('Simplified Loader'!D7>0,'Simplified Loader'!D7,\"\")","v":""},{"$f":"IF('Simplified Loader'!E7>0,TEXT('Simplified Loader'!E7,\"000\"),\"\")","v":""},{"$f":"IF('Simplified Loader'!F7>0,'Simplified Loader'!F7,\"\")","v":""},{"$f":"IF('Simplified Loader'!G7>0,'Simplified Loader'!G7,\"\")","v":""},{"$f":"IF('Simplified Loader'!I7>0,'Simplified Loader'!I7,\"\")","v":""},{"$f":"IF('Simplified Loader'!J7>0,'Simplified Loader'!J7,\"\")","v":""},{"$f":"IF('Simplified Loader'!K7>0,'Simplified Loader'!K7,\"\")","v":""},{"$f":"IF('Simplified Loader'!L7>0,'Simplified Loader'!L7,\"\")","v":""},{"$f":"IF('Simplified Loader'!M7=\"Male\",\"Male\",IF('Simplified Loader'!M7=\"Female\",\"Female\",IF('Simplified Loader'!M7=\"M\",\"Male\",IF('Simplified Loader'!M7=\"F\",\"Female\",\"\"))))","v":""},{"$f":"IF('Simplified Loader'!N7=\"Yes\",\"Yes\",IF('Simplified Loader'!N7=\"No\",\"No\",IF('Simplified Loader'!N7=\"Y\",\"Yes\",IF('Simplified Loader'!N7=\"N\",\"No\",\"\"))))","v":""},{"$f":"IF('Simplified Loader'!O7=\"No\",\"Single\",IF('Simplified Loader'!O7=\"Yes\",\"Family\",IF('Simplified Loader'!O7=\"N\",\"Single\",IF('Simplified Loader'!O7=\"Y\",\"Family\",IF('Simplified Loader'!O7=\"In-force\",\"Family\",IF('Simplified Loader'!O7=\"In force\",\"Family\",IF('Simplified Loader'!O7=\"Applies\",\"Family\",IF('Simplified Loader'!O7=\"Applicable\",\"Family\",\"\"))))))))","v":""},{"$f":"IF('Simplified Loader'!P7=\"English\",\"English\",IF('Simplified Loader'!P7=\"French\",\"French\",IF('Simplified Loader'!P7=\"E\",\"English\",IF('Simplified Loader'!P7=\"F\",\"French\",\"\"))))","v":""},{"$f":"IF('Simplified Loader'!Q7=\"Yes\",\"Yes\",IF('Simplified Loader'!Q7=\"No\",\"No\",IF('Simplified Loader'!Q7=\"Y\",\"Yes\",IF('Simplified Loader'!Q7=\"N\",\"No\",\"\"))))","v":""},{"$f":"IF('Simplified Loader'!R7>0,'Simplified Loader'!R7,\"\")","v":""},{"$f":"IF('Simplified Loader'!S7>0,'Simplified Loader'!S7,\"\")","v":""},{"$f":"IF('Simplified Loader'!T7>0,'Simplified Loader'!T7,\"\")","v":""},{"$f":"IF('Simplified Loader'!U7>0,'Simplified Loader'!U7,\"\")","v":""},{"$f":"IF('Simplified Loader'!V7=\"Waive\",\"Yes\",\"\")","v":""},{"$f":"IF('Simplified Loader'!W7=\"Waive\",\"Yes\",\"\")","v":""},{"$f":"IF('Simplified Loader'!X7>0,'Simplified Loader'!X7,\"\")","v":""},{"$f":"IF('Simplified Loader'!Y7>0,'Simplified Loader'!Y7,\"\")","v":""},{"$f":"IF('Simplified Loader'!Z7>0,'Simplified Loader'!Z7,\"\")","v":""},{"$f":"IF('Simplified Loader'!AA7>0,'Simplified Loader'!AA7,\"\")","v":""},{"$f":"IF('Simplified Loader'!AB7>0,'Simplified Loader'!AB7,\"\")","v":""},{"$f":"IF('Simplified Loader'!AC7>0,'Simplified Loader'!AC7,\"\")","v":" "},{"$f":"IF('Simplified Loader'!AE7>0,'Simplified Loader'!AE7&\" \",\"\")&IF('Simplified Loader'!AD7>0,'Simplified Loader'!AD7,\"\")","v":""},null,{"$f":"IF('Simplified Loader'!AF7>0,'Simplified Loader'!AF7,\"\")","v":""},{"$f":"IF('Simplified Loader'!AG7>0,'Simplified Loader'!AG7,\"\")","v":""},{"$f":"IF('Simplified Loader'!AH7>0,'Simplified Loader'!AH7,\"\")","v":""},{"$f":"IF('Simplified Loader'!AI7>0,'Simplified Loader'!AI7,\"\")","v":""},{"$f":"IF('Simplified Loader'!AJ7>0,'Simplified Loader'!AJ7,\"\")","v":""},{"$f":"IF('Simplified Loader'!AK7>0,'Simplified Loader'!AK7,\"\")","v":""},{"$f":"IF('Simplified Loader'!AL7>0,'Simplified Loader'!AL7,\"\")","v":""},{"$f":"IF('Simplified Loader'!AM7>0,'Simplified Loader'!AM7,\"\")","v":""},{"$f":"IF('Simplified Loader'!AN7=\"Male\",\"Male\",IF('Simplified Loader'!AN7=\"Female\",\"Female\",IF('Simplified Loader'!AN7=\"M\",\"Male\",IF('Simplified Loader'!AN7=\"F\",\"Female\",\"\"))))","v":""},{"$f":"IF('Simplified Loader'!AO7=\"Single\",\"Single\",IF('Simplified Loader'!AO7=\"Family\",\"Family\",IF('Simplified Loader'!AO7=\"S\",\"Single\",IF('Simplified Loader'!AO7=\"F\",\"Family\",\"\"))))","v":""},{"$f":"IF('Simplified Loader'!AP7=\"Single\",\"Single\",IF('Simplified Loader'!AP7=\"Family\",\"Family\",IF('Simplified Loader'!AP7=\"S\",\"Single\",IF('Simplified Loader'!AP7=\"F\",\"Family\",\"\"))))","v":""},{"$f":"IF('Simplified Loader'!AQ7>0,'Simplified Loader'!AQ7,\"\")","v":""},{"$f":"IF('Simplified Loader'!AR7=\"Yes\",\"Yes\",IF('Simplified Loader'!AR7=\"No\",\"No\",IF('Simplified Loader'!AR7=\"Y\",\"Yes\",IF('Simplified Loader'!AR7=\"N\",\"No\",\"\"))))","v":""},{"$f":"IF('Simplified Loader'!AS7>0,'Simplified Loader'!AS7,\"\")","v":""},{"$f":"IF('Simplified Loader'!AT7>0,'Simplified Loader'!AT7,\"\")","v":""},{"$f":"IF('Simplified Loader'!AU7>0,'Simplified Loader'!AU7,\"\")","v":""},{"$f":"IF('Simplified Loader'!AV7=\"Male\",\"Male\",IF('Simplified Loader'!AV7=\"Female\",\"Female\",IF('Simplified Loader'!AV7=\"M\",\"Male\",IF('Simplified Loader'!AV7=\"F\",\"Female\",\"\"))))","v":""},{"$f":"IF('Simplified Loader'!AW7=\"Yes\",\"Yes\",IF('Simplified Loader'!AW7=\"No\",\"No\",IF('Simplified Loader'!AW7=\"Y\",\"Yes\",IF('Simplified Loader'!AW7=\"N\",\"No\",\"\"))))","v":""},{"$f":"IF('Simplified Loader'!AX7=\"Yes\",\"Yes\",IF('Simplified Loader'!AX7=\"No\",\"No\",IF('Simplified Loader'!AX7=\"Y\",\"Yes\",IF('Simplified Loader'!AX7=\"N\",\"No\",\"\"))))","v":""},{"$f":"IF('Simplified Loader'!AY7>0,'Simplified Loader'!AY7,\"\")","v":""},{"$f":"IF('Simplified Loader'!AZ7>0,'Simplified Loader'!AZ7,\"\")","v":""},{"$f":"IF('Simplified Loader'!BA7>0,'Simplified Loader'!BA7,\"\")","v":""},{"$f":"IF('Simplified Loader'!BB7=\"Male\",\"Male\",IF('Simplified Loader'!BB7=\"Female\",\"Female\",IF('Simplified Loader'!BB7=\"M\",\"Male\",IF('Simplified Loader'!BB7=\"F\",\"Female\",\"\"))))","v":""},{"$f":"IF('Simplified Loader'!BC7=\"Yes\",\"Yes\",IF('Simplified Loader'!BC7=\"No\",\"No\",IF('Simplified Loader'!BC7=\"Y\",\"Yes\",IF('Simplified Loader'!BC7=\"N\",\"No\",\"\"))))","v":""},{"$f":"IF('Simplified Loader'!BD7=\"Yes\",\"Yes\",IF('Simplified Loader'!BD7=\"No\",\"No\",IF('Simplified Loader'!BD7=\"Y\",\"Yes\",IF('Simplified Loader'!BD7=\"N\",\"No\",\"\"))))","v":""},{"$f":"IF('Simplified Loader'!BE7>0,'Simplified Loader'!BE7,\"\")","v":""},{"$f":"IF('Simplified Loader'!BF7>0,'Simplified Loader'!BF7,\"\")","v":""},{"$f":"IF('Simplified Loader'!BG7>0,'Simplified Loader'!BG7,\"\")","v":""},{"$f":"IF('Simplified Loader'!BH7=\"Male\",\"Male\",IF('Simplified Loader'!BH7=\"Female\",\"Female\",IF('Simplified Loader'!BH7=\"M\",\"Male\",IF('Simplified Loader'!BH7=\"F\",\"Female\",\"\"))))","v":""},{"$f":"IF('Simplified Loader'!BI7=\"Yes\",\"Yes\",IF('Simplified Loader'!BI7=\"No\",\"No\",IF('Simplified Loader'!BI7=\"Y\",\"Yes\",IF('Simplified Loader'!BI7=\"N\",\"No\",\"\"))))","v":""},{"$f":"IF('Simplified Loader'!BJ7=\"Yes\",\"Yes\",IF('Simplified Loader'!BJ7=\"No\",\"No\",IF('Simplified Loader'!BJ7=\"Y\",\"Yes\",IF('Simplified Loader'!BJ7=\"N\",\"No\",\"\"))))","v":""},{"$f":"IF('Simplified Loader'!BK7>0,'Simplified Loader'!BK7,\"\")","v":""},{"$f":"IF('Simplified Loader'!BL7>0,'Simplified Loader'!BL7,\"\")","v":""},{"$f":"IF('Simplified Loader'!BM7>0,'Simplified Loader'!BM7,\"\")","v":""},{"$f":"IF('Simplified Loader'!BN7=\"Male\",\"Male\",IF('Simplified Loader'!BN7=\"Female\",\"Female\",IF('Simplified Loader'!BN7=\"M\",\"Male\",IF('Simplified Loader'!BN7=\"F\",\"Female\",\"\"))))","v":""},{"$f":"IF('Simplified Loader'!BO7=\"Yes\",\"Yes\",IF('Simplified Loader'!BO7=\"No\",\"No\",IF('Simplified Loader'!BO7=\"Y\",\"Yes\",IF('Simplified Loader'!BO7=\"N\",\"No\",\"\"))))","v":""},{"$f":"IF('Simplified Loader'!BP7=\"Yes\",\"Yes\",IF('Simplified Loader'!BP7=\"No\",\"No\",IF('Simplified Loader'!BP7=\"Y\",\"Yes\",IF('Simplified Loader'!BP7=\"N\",\"No\",\"\"))))","v":""},{"$f":"IF('Simplified Loader'!BQ7>0,'Simplified Loader'!BQ7,\"\")","v":""},{"$f":"IF('Simplified Loader'!BR7>0,'Simplified Loader'!BR7,\"\")","v":""},{"$f":"IF('Simplified Loader'!BS7>0,'Simplified Loader'!BS7,\"\")","v":""},{"$f":"IF('Simplified Loader'!BT7=\"Male\",\"Male\",IF('Simplified Loader'!BT7=\"Female\",\"Female\",IF('Simplified Loader'!BT7=\"M\",\"Male\",IF('Simplified Loader'!BT7=\"F\",\"Female\",\"\"))))","v":""},{"$f":"IF('Simplified Loader'!BU7=\"Yes\",\"Yes\",IF('Simplified Loader'!BU7=\"No\",\"No\",IF('Simplified Loader'!BU7=\"Y\",\"Yes\",IF('Simplified Loader'!BU7=\"N\",\"No\",\"\"))))","v":""},{"$f":"IF('Simplified Loader'!BV7=\"Yes\",\"Yes\",IF('Simplified Loader'!BV7=\"No\",\"No\",IF('Simplified Loader'!BV7=\"Y\",\"Yes\",IF('Simplified Loader'!BV7=\"N\",\"No\",\"\"))))","v":""},{"$f":"IF('Simplified Loader'!BW7>0,'Simplified Loader'!BW7,\"\")","v":""},{"$f":"IF('Simplified Loader'!BX7>0,'Simplified Loader'!BX7,\"\")","v":""},{"$f":"IF('Simplified Loader'!BY7>0,'Simplified Loader'!BY7,\"\")","v":""},{"$f":"IF('Simplified Loader'!BZ7=\"Male\",\"Male\",IF('Simplified Loader'!BZ7=\"Female\",\"Female\",IF('Simplified Loader'!BZ7=\"M\",\"Male\",IF('Simplified Loader'!BZ7=\"F\",\"Female\",\"\"))))","v":""},{"$f":"IF('Simplified Loader'!CA7=\"Yes\",\"Yes\",IF('Simplified Loader'!CA7=\"No\",\"No\",IF('Simplified Loader'!CA7=\"Y\",\"Yes\",IF('Simplified Loader'!CA7=\"N\",\"No\",\"\"))))","v":""},{"$f":"IF('Simplified Loader'!CB7=\"Yes\",\"Yes\",IF('Simplified Loader'!CB7=\"No\",\"No\",IF('Simplified Loader'!CB7=\"Y\",\"Yes\",IF('Simplified Loader'!CB7=\"N\",\"No\",\"\"))))","v":""},{"$f":"IF('Simplified Loader'!CH7>0,'Simplified Loader'!CH7,\"\")","v":"    "}]
[{"$f":"IF('Simplified Loader'!A8>0,'Simplified Loader'!A8,\"\")","v":""},{"$f":"IF('Simplified Loader'!B8>0,'Simplified Loader'!B8,\"\")","v":""},{"$f":"IF('Simplified Loader'!C8>0,'Simplified Loader'!C8,\"\")","v":""},{"$f":"IF('Simplified Loader'!D8>0,'Simplified Loader'!D8,\"\")","v":""},{"$f":"IF('Simplified Loader'!E8>0,TEXT('Simplified Loader'!E8,\"000\"),\"\")","v":""},{"$f":"IF('Simplified Loader'!F8>0,'Simplified Loader'!F8,\"\")","v":""},{"$f":"IF('Simplified Loader'!G8>0,'Simplified Loader'!G8,\"\")","v":""},{"$f":"IF('Simplified Loader'!I8>0,'Simplified Loader'!I8,\"\")","v":""},{"$f":"IF('Simplified Loader'!J8>0,'Simplified Loader'!J8,\"\")","v":""},{"$f":"IF('Simplified Loader'!K8>0,'Simplified Loader'!K8,\"\")","v":""},{"$f":"IF('Simplified Loader'!L8>0,'Simplified Loader'!L8,\"\")","v":""},{"$f":"IF('Simplified Loader'!M8=\"Male\",\"Male\",IF('Simplified Loader'!M8=\"Female\",\"Female\",IF('Simplified Loader'!M8=\"M\",\"Male\",IF('Simplified Loader'!M8=\"F\",\"Female\",\"\"))))","v":""},{"$f":"IF('Simplified Loader'!N8=\"Yes\",\"Yes\",IF('Simplified Loader'!N8=\"No\",\"No\",IF('Simplified Loader'!N8=\"Y\",\"Yes\",IF('Simplified Loader'!N8=\"N\",\"No\",\"\"))))","v":""},{"$f":"IF('Simplified Loader'!O8=\"No\",\"Single\",IF('Simplified Loader'!O8=\"Yes\",\"Family\",IF('Simplified Loader'!O8=\"N\",\"Single\",IF('Simplified Loader'!O8=\"Y\",\"Family\",IF('Simplified Loader'!O8=\"In-force\",\"Family\",IF('Simplified Loader'!O8=\"In force\",\"Family\",IF('Simplified Loader'!O8=\"Applies\",\"Family\",IF('Simplified Loader'!O8=\"Applicable\",\"Family\",\"\"))))))))","v":""},{"$f":"IF('Simplified Loader'!P8=\"English\",\"English\",IF('Simplified Loader'!P8=\"French\",\"French\",IF('Simplified Loader'!P8=\"E\",\"English\",IF('Simplified Loader'!P8=\"F\",\"French\",\"\"))))","v":""},{"$f":"IF('Simplified Loader'!Q8=\"Yes\",\"Yes\",IF('Simplified Loader'!Q8=\"No\",\"No\",IF('Simplified Loader'!Q8=\"Y\",\"Yes\",IF('Simplified Loader'!Q8=\"N\",\"No\",\"\"))))","v":""},{"$f":"IF('Simplified Loader'!R8>0,'Simplified Loader'!R8,\"\")","v":""},{"$f":"IF('Simplified Loader'!S8>0,'Simplified Loader'!S8,\"\")","v":""},{"$f":"IF('Simplified Loader'!T8>0,'Simplified Loader'!T8,\"\")","v":""},{"$f":"IF('Simplified Loader'!U8>0,'Simplified Loader'!U8,\"\")","v":""},{"$f":"IF('Simplified Loader'!V8=\"Waive\",\"Yes\",\"\")","v":""},{"$f":"IF('Simplified Loader'!W8=\"Waive\",\"Yes\",\"\")","v":""},{"$f":"IF('Simplified Loader'!X8>0,'Simplified Loader'!X8,\"\")","v":""},{"$f":"IF('Simplified Loader'!Y8>0,'Simplified Loader'!Y8,\"\")","v":""},{"$f":"IF('Simplified Loader'!Z8>0,'Simplified Loader'!Z8,\"\")","v":""},{"$f":"IF('Simplified Loader'!AA8>0,'Simplified Loader'!AA8,\"\")","v":""},{"$f":"IF('Simplified Loader'!AB8>0,'Simplified Loader'!AB8,\"\")","v":""},{"$f":"IF('Simplified Loader'!AC8>0,'Simplified Loader'!AC8,\"\")","v":" "},{"$f":"IF('Simplified Loader'!AE8>0,'Simplified Loader'!AE8&\" \",\"\")&IF('Simplified Loader'!AD8>0,'Simplified Loader'!AD8,\"\")","v":""},null,{"$f":"IF('Simplified Loader'!AF8>0,'Simplified Loader'!AF8,\"\")","v":""},{"$f":"IF('Simplified Loader'!AG8>0,'Simplified Loader'!AG8,\"\")","v":""},{"$f":"IF('Simplified Loader'!AH8>0,'Simplified Loader'!AH8,\"\")","v":""},{"$f":"IF('Simplified Loader'!AI8>0,'Simplified Loader'!AI8,\"\")","v":""},{"$f":"IF('Simplified Loader'!AJ8>0,'Simplified Loader'!AJ8,\"\")","v":""},{"$f":"IF('Simplified Loader'!AK8>0,'Simplified Loader'!AK8,\"\")","v":""},{"$f":"IF('Simplified Loader'!AL8>0,'Simplified Loader'!AL8,\"\")","v":""},{"$f":"IF('Simplified Loader'!AM8>0,'Simplified Loader'!AM8,\"\")","v":""},{"$f":"IF('Simplified Loader'!AN8=\"Male\",\"Male\",IF('Simplified Loader'!AN8=\"Female\",\"Female\",IF('Simplified Loader'!AN8=\"M\",\"Male\",IF('Simplified Loader'!AN8=\"F\",\"Female\",\"\"))))","v":""},{"$f":"IF('Simplified Loader'!AO8=\"Single\",\"Single\",IF('Simplified Loader'!AO8=\"Family\",\"Family\",IF('Simplified Loader'!AO8=\"S\",\"Single\",IF('Simplified Loader'!AO8=\"F\",\"Family\",\"\"))))","v":""},{"$f":"IF('Simplified Loader'!AP8=\"Single\",\"Single\",IF('Simplified Loader'!AP8=\"Family\",\"Family\",IF('Simplified Loader'!AP8=\"S\",\"Single\",IF('Simplified Loader'!AP8=\"F\",\"Family\",\"\"))))","v":""},{"$f":"IF('Simplified Loader'!AQ8>0,'Simplified Loader'!AQ8,\"\")","v":""},{"$f":"IF('Simplified Loader'!AR8=\"Yes\",\"Yes\",IF('Simplified Loader'!AR8=\"No\",\"No\",IF('Simplified Loader'!AR8=\"Y\",\"Yes\",IF('Simplified Loader'!AR8=\"N\",\"No\",\"\"))))","v":""},{"$f":"IF('Simplified Loader'!AS8>0,'Simplified Loader'!AS8,\"\")","v":""},{"$f":"IF('Simplified Loader'!AT8>0,'Simplified Loader'!AT8,\"\")","v":""},{"$f":"IF('Simplified Loader'!AU8>0,'Simplified Loader'!AU8,\"\")","v":""},{"$f":"IF('Simplified Loader'!AV8=\"Male\",\"Male\",IF('Simplified Loader'!AV8=\"Female\",\"Female\",IF('Simplified Loader'!AV8=\"M\",\"Male\",IF('Simplified Loader'!AV8=\"F\",\"Female\",\"\"))))","v":""},{"$f":"IF('Simplified Loader'!AW8=\"Yes\",\"Yes\",IF('Simplified Loader'!AW8=\"No\",\"No\",IF('Simplified Loader'!AW8=\"Y\",\"Yes\",IF('Simplified Loader'!AW8=\"N\",\"No\",\"\"))))","v":""},{"$f":"IF('Simplified Loader'!AX8=\"Yes\",\"Yes\",IF('Simplified Loader'!AX8=\"No\",\"No\",IF('Simplified Loader'!AX8=\"Y\",\"Yes\",IF('Simplified Loader'!AX8=\"N\",\"No\",\"\"))))","v":""},{"$f":"IF('Simplified Loader'!AY8>0,'Simplified Loader'!AY8,\"\")","v":""},{"$f":"IF('Simplified Loader'!AZ8>0,'Simplified Loader'!AZ8,\"\")","v":""},{"$f":"IF('Simplified Loader'!BA8>0,'Simplified Loader'!BA8,\"\")","v":""},{"$f":"IF('Simplified Loader'!BB8=\"Male\",\"Male\",IF('Simplified Loader'!BB8=\"Female\",\"Female\",IF('Simplified Loader'!BB8=\"M\",\"Male\",IF('Simplified Loader'!BB8=\"F\",\"Female\",\"\"))))","v":""},{"$f":"IF('Simplified Loader'!BC8=\"Yes\",\"Yes\",IF('Simplified Loader'!BC8=\"No\",\"No\",IF('Simplified Loader'!BC8=\"Y\",\"Yes\",IF('Simplified Loader'!BC8=\"N\",\"No\",\"\"))))","v":""},{"$f":"IF('Simplified Loader'!BD8=\"Yes\",\"Yes\",IF('Simplified Loader'!BD8=\"No\",\"No\",IF('Simplified Loader'!BD8=\"Y\",\"Yes\",IF('Simplified Loader'!BD8=\"N\",\"No\",\"\"))))","v":""},{"$f":"IF('Simplified Loader'!BE8>0,'Simplified Loader'!BE8,\"\")","v":""},{"$f":"IF('Simplified Loader'!BF8>0,'Simplified Loader'!BF8,\"\")","v":""},{"$f":"IF('Simplified Loader'!BG8>0,'Simplified Loader'!BG8,\"\")","v":""},{"$f":"IF('Simplified Loader'!BH8=\"Male\",\"Male\",IF('Simplified Loader'!BH8=\"Female\",\"Female\",IF('Simplified Loader'!BH8=\"M\",\"Male\",IF('Simplified Loader'!BH8=\"F\",\"Female\",\"\"))))","v":""},{"$f":"IF('Simplified Loader'!BI8=\"Yes\",\"Yes\",IF('Simplified Loader'!BI8=\"No\",\"No\",IF('Simplified Loader'!BI8=\"Y\",\"Yes\",IF('Simplified Loader'!BI8=\"N\",\"No\",\"\"))))","v":""},{"$f":"IF('Simplified Loader'!BJ8=\"Yes\",\"Yes\",IF('Simplified Loader'!BJ8=\"No\",\"No\",IF('Simplified Loader'!BJ8=\"Y\",\"Yes\",IF('Simplified Loader'!BJ8=\"N\",\"No\",\"\"))))","v":""},{"$f":"IF('Simplified Loader'!BK8>0,'Simplified Loader'!BK8,\"\")","v":""},{"$f":"IF('Simplified Loader'!BL8>0,'Simplified Loader'!BL8,\"\")","v":""},{"$f":"IF('Simplified Loader'!BM8>0,'Simplified Loader'!BM8,\"\")","v":""},{"$f":"IF('Simplified Loader'!BN8=\"Male\",\"Male\",IF('Simplified Loader'!BN8=\"Female\",\"Female\",IF('Simplified Loader'!BN8=\"M\",\"Male\",IF('Simplified Loader'!BN8=\"F\",\"Female\",\"\"))))","v":""},{"$f":"IF('Simplified Loader'!BO8=\"Yes\",\"Yes\",IF('Simplified Loader'!BO8=\"No\",\"No\",IF('Simplified Loader'!BO8=\"Y\",\"Yes\",IF('Simplified Loader'!BO8=\"N\",\"No\",\"\"))))","v":""},{"$f":"IF('Simplified Loader'!BP8=\"Yes\",\"Yes\",IF('Simplified Loader'!BP8=\"No\",\"No\",IF('Simplified Loader'!BP8=\"Y\",\"Yes\",IF('Simplified Loader'!BP8=\"N\",\"No\",\"\"))))","v":""},{"$f":"IF('Simplified Loader'!BQ8>0,'Simplified Loader'!BQ8,\"\")","v":""},{"$f":"IF('Simplified Loader'!BR8>0,'Simplified Loader'!BR8,\"\")","v":""},{"$f":"IF('Simplified Loader'!BS8>0,'Simplified Loader'!BS8,\"\")","v":""},{"$f":"IF('Simplified Loader'!BT8=\"Male\",\"Male\",IF('Simplified Loader'!BT8=\"Female\",\"Female\",IF('Simplified Loader'!BT8=\"M\",\"Male\",IF('Simplified Loader'!BT8=\"F\",\"Female\",\"\"))))","v":""},{"$f":"IF('Simplified Loader'!BU8=\"Yes\",\"Yes\",IF('Simplified Loader'!BU8=\"No\",\"No\",IF('Simplified Loader'!BU8=\"Y\",\"Yes\",IF('Simplified Loader'!BU8=\"N\",\"No\",\"\"))))","v":""},{"$f":"IF('Simplified Loader'!BV8=\"Yes\",\"Yes\",IF('Simplified Loader'!BV8=\"No\",\"No\",IF('Simplified Loader'!BV8=\"Y\",\"Yes\",IF('Simplified Loader'!BV8=\"N\",\"No\",\"\"))))","v":""},{"$f":"IF('Simplified Loader'!BW8>0,'Simplified Loader'!BW8,\"\")","v":""},{"$f":"IF('Simplified Loader'!BX8>0,'Simplified Loader'!BX8,\"\")","v":""},{"$f":"IF('Simplified Loader'!BY8>0,'Simplified Loader'!BY8,\"\")","v":""},{"$f":"IF('Simplified Loader'!BZ8=\"Male\",\"Male\",IF('Simplified Loader'!BZ8=\"Female\",\"Female\",IF('Simplified Loader'!BZ8=\"M\",\"Male\",IF('Simplified Loader'!BZ8=\"F\",\"Female\",\"\"))))","v":""},{"$f":"IF('Simplified Loader'!CA8=\"Yes\",\"Yes\",IF('Simplified Loader'!CA8=\"No\",\"No\",IF('Simplified Loader'!CA8=\"Y\",\"Yes\",IF('Simplified Loader'!CA8=\"N\",\"No\",\"\"))))","v":""},{"$f":"IF('Simplified Loader'!CB8=\"Yes\",\"Yes\",IF('Simplified Loader'!CB8=\"No\",\"No\",IF('Simplified Loader'!CB8=\"Y\",\"Yes\",IF('Simplified Loader'!CB8=\"N\",\"No\",\"\"))))","v":""},{"$f":"IF('Simplified Loader'!CH8>0,'Simplified Loader'!CH8,\"\")","v":"    "}]
[{"$f":"IF('Simplified Loader'!A9>0,'Simplified Loader'!A9,\"\")","v":""},{"$f":"IF('Simplified Loader'!B9>0,'Simplified Loader'!B9,\"\")","v":""},{"$f":"IF('Simplified Loader'!C9>0,'Simplified Loader'!C9,\"\")","v":""},{"$f":"IF('Simplified Loader'!D9>0,'Simplified Loader'!D9,\"\")","v":""},{"$f":"IF('Simplified Loader'!E9>0,TEXT('Simplified Loader'!E9,\"000\"),\"\")","v":""},{"$f":"IF('Simplified Loader'!F9>0,'Simplified Loader'!F9,\"\")","v":""},{"$f":"IF('Simplified Loader'!G9>0,'Simplified Loader'!G9,\"\")","v":""},{"$f":"IF('Simplified Loader'!I9>0,'Simplified Loader'!I9,\"\")","v":""},{"$f":"IF('Simplified Loader'!J9>0,'Simplified Loader'!J9,\"\")","v":""},{"$f":"IF('Simplified Loader'!K9>0,'Simplified Loader'!K9,\"\")","v":""},{"$f":"IF('Simplified Loader'!L9>0,'Simplified Loader'!L9,\"\")","v":""},{"$f":"IF('Simplified Loader'!M9=\"Male\",\"Male\",IF('Simplified Loader'!M9=\"Female\",\"Female\",IF('Simplified Loader'!M9=\"M\",\"Male\",IF('Simplified Loader'!M9=\"F\",\"Female\",\"\"))))","v":""},{"$f":"IF('Simplified Loader'!N9=\"Yes\",\"Yes\",IF('Simplified Loader'!N9=\"No\",\"No\",IF('Simplified Loader'!N9=\"Y\",\"Yes\",IF('Simplified Loader'!N9=\"N\",\"No\",\"\"))))","v":""},{"$f":"IF('Simplified Loader'!O9=\"No\",\"Single\",IF('Simplified Loader'!O9=\"Yes\",\"Family\",IF('Simplified Loader'!O9=\"N\",\"Single\",IF('Simplified Loader'!O9=\"Y\",\"Family\",IF('Simplified Loader'!O9=\"In-force\",\"Family\",IF('Simplified Loader'!O9=\"In force\",\"Family\",IF('Simplified Loader'!O9=\"Applies\",\"Family\",IF('Simplified Loader'!O9=\"Applicable\",\"Family\",\"\"))))))))","v":""},{"$f":"IF('Simplified Loader'!P9=\"English\",\"English\",IF('Simplified Loader'!P9=\"French\",\"French\",IF('Simplified Loader'!P9=\"E\",\"English\",IF('Simplified Loader'!P9=\"F\",\"French\",\"\"))))","v":""},{"$f":"IF('Simplified Loader'!Q9=\"Yes\",\"Yes\",IF('Simplified Loader'!Q9=\"No\",\"No\",IF('Simplified Loader'!Q9=\"Y\",\"Yes\",IF('Simplified Loader'!Q9=\"N\",\"No\",\"\"))))","v":""},{"$f":"IF('Simplified Loader'!R9>0,'Simplified Loader'!R9,\"\")","v":""},{"$f":"IF('Simplified Loader'!S9>0,'Simplified Loader'!S9,\"\")","v":""},{"$f":"IF('Simplified Loader'!T9>0,'Simplified Loader'!T9,\"\")","v":""},{"$f":"IF('Simplified Loader'!U9>0,'Simplified Loader'!U9,\"\")","v":""},{"$f":"IF('Simplified Loader'!V9=\"Waive\",\"Yes\",\"\")","v":""},{"$f":"IF('Simplified Loader'!W9=\"Waive\",\"Yes\",\"\")","v":""},{"$f":"IF('Simplified Loader'!X9>0,'Simplified Loader'!X9,\"\")","v":""},{"$f":"IF('Simplified Loader'!Y9>0,'Simplified Loader'!Y9,\"\")","v":""},{"$f":"IF('Simplified Loader'!Z9>0,'Simplified Loader'!Z9,\"\")","v":""},{"$f":"IF('Simplified Loader'!AA9>0,'Simplified Loader'!AA9,\"\")","v":""},{"$f":"IF('Simplified Loader'!AB9>0,'Simplified Loader'!AB9,\"\")","v":""},{"$f":"IF('Simplified Loader'!AC9>0,'Simplified Loader'!AC9,\"\")","v":" "},{"$f":"IF('Simplified Loader'!AE9>0,'Simplified Loader'!AE9&\" \",\"\")&IF('Simplified Loader'!AD9>0,'Simplified Loader'!AD9,\"\")","v":""},null,{"$f":"IF('Simplified Loader'!AF9>0,'Simplified Loader'!AF9,\"\")","v":""},{"$f":"IF('Simplified Loader'!AG9>0,'Simplified Loader'!AG9,\"\")","v":""},{"$f":"IF('Simplified Loader'!AH9>0,'Simplified Loader'!AH9,\"\")","v":""},{"$f":"IF('Simplified Loader'!AI9>0,'Simplified Loader'!AI9,\"\")","v":""},{"$f":"IF('Simplified Loader'!AJ9>0,'Simplified Loader'!AJ9,\"\")","v":""},{"$f":"IF('Simplified Loader'!AK9>0,'Simplified Loader'!AK9,\"\")","v":""},{"$f":"IF('Simplified Loader'!AL9>0,'Simplified Loader'!AL9,\"\")","v":""},{"$f":"IF('Simplified Loader'!AM9>0,'Simplified Loader'!AM9,\"\")","v":""},{"$f":"IF('Simplified Loader'!AN9=\"Male\",\"Male\",IF('Simplified Loader'!AN9=\"Female\",\"Female\",IF('Simplified Loader'!AN9=\"M\",\"Male\",IF('Simplified Loader'!AN9=\"F\",\"Female\",\"\"))))","v":""},{"$f":"IF('Simplified Loader'!AO9=\"Single\",\"Single\",IF('Simplified Loader'!AO9=\"Family\",\"Family\",IF('Simplified Loader'!AO9=\"S\",\"Single\",IF('Simplified Loader'!AO9=\"F\",\"Family\",\"\"))))","v":""},{"$f":"IF('Simplified Loader'!AP9=\"Single\",\"Single\",IF('Simplified Loader'!AP9=\"Family\",\"Family\",IF('Simplified Loader'!AP9=\"S\",\"Single\",IF('Simplified Loader'!AP9=\"F\",\"Family\",\"\"))))","v":""},{"$f":"IF('Simplified Loader'!AQ9>0,'Simplified Loader'!AQ9,\"\")","v":""},{"$f":"IF('Simplified Loader'!AR9=\"Yes\",\"Yes\",IF('Simplified Loader'!AR9=\"No\",\"No\",IF('Simplified Loader'!AR9=\"Y\",\"Yes\",IF('Simplified Loader'!AR9=\"N\",\"No\",\"\"))))","v":""},{"$f":"IF('Simplified Loader'!AS9>0,'Simplified Loader'!AS9,\"\")","v":""},{"$f":"IF('Simplified Loader'!AT9>0,'Simplified Loader'!AT9,\"\")","v":""},{"$f":"IF('Simplified Loader'!AU9>0,'Simplified Loader'!AU9,\"\")","v":""},{"$f":"IF('Simplified Loader'!AV9=\"Male\",\"Male\",IF('Simplified Loader'!AV9=\"Female\",\"Female\",IF('Simplified Loader'!AV9=\"M\",\"Male\",IF('Simplified Loader'!AV9=\"F\",\"Female\",\"\"))))","v":""},{"$f":"IF('Simplified Loader'!AW9=\"Yes\",\"Yes\",IF('Simplified Loader'!AW9=\"No\",\"No\",IF('Simplified Loader'!AW9=\"Y\",\"Yes\",IF('Simplified Loader'!AW9=\"N\",\"No\",\"\"))))","v":""},{"$f":"IF('Simplified Loader'!AX9=\"Yes\",\"Yes\",IF('Simplified Loader'!AX9=\"No\",\"No\",IF('Simplified Loader'!AX9=\"Y\",\"Yes\",IF('Simplified Loader'!AX9=\"N\",\"No\",\"\"))))","v":""},{"$f":"IF('Simplified Loader'!AY9>0,'Simplified Loader'!AY9,\"\")","v":""},{"$f":"IF('Simplified Loader'!AZ9>0,'Simplified Loader'!AZ9,\"\")","v":""},{"$f":"IF('Simplified Loader'!BA9>0,'Simplified Loader'!BA9,\"\")","v":""},{"$f":"IF('Simplified Loader'!BB9=\"Male\",\"Male\",IF('Simplified Loader'!BB9=\"Female\",\"Female\",IF('Simplified Loader'!BB9=\"M\",\"Male\",IF('Simplified Loader'!BB9=\"F\",\"Female\",\"\"))))","v":""},{"$f":"IF('Simplified Loader'!BC9=\"Yes\",\"Yes\",IF('Simplified Loader'!BC9=\"No\",\"No\",IF('Simplified Loader'!BC9=\"Y\",\"Yes\",IF('Simplified Loader'!BC9=\"N\",\"No\",\"\"))))","v":""},{"$f":"IF('Simplified Loader'!BD9=\"Yes\",\"Yes\",IF('Simplified Loader'!BD9=\"No\",\"No\",IF('Simplified Loader'!BD9=\"Y\",\"Yes\",IF('Simplified Loader'!BD9=\"N\",\"No\",\"\"))))","v":""},{"$f":"IF('Simplified Loader'!BE9>0,'Simplified Loader'!BE9,\"\")","v":""},{"$f":"IF('Simplified Loader'!BF9>0,'Simplified Loader'!BF9,\"\")","v":""},{"$f":"IF('Simplified Loader'!BG9>0,'Simplified Loader'!BG9,\"\")","v":""},{"$f":"IF('Simplified Loader'!BH9=\"Male\",\"Male\",IF('Simplified Loader'!BH9=\"Female\",\"Female\",IF('Simplified Loader'!BH9=\"M\",\"Male\",IF('Simplified Loader'!BH9=\"F\",\"Female\",\"\"))))","v":""},{"$f":"IF('Simplified Loader'!BI9=\"Yes\",\"Yes\",IF('Simplified Loader'!BI9=\"No\",\"No\",IF('Simplified Loader'!BI9=\"Y\",\"Yes\",IF('Simplified Loader'!BI9=\"N\",\"No\",\"\"))))","v":""},{"$f":"IF('Simplified Loader'!BJ9=\"Yes\",\"Yes\",IF('Simplified Loader'!BJ9=\"No\",\"No\",IF('Simplified Loader'!BJ9=\"Y\",\"Yes\",IF('Simplified Loader'!BJ9=\"N\",\"No\",\"\"))))","v":""},{"$f":"IF('Simplified Loader'!BK9>0,'Simplified Loader'!BK9,\"\")","v":""},{"$f":"IF('Simplified Loader'!BL9>0,'Simplified Loader'!BL9,\"\")","v":""},{"$f":"IF('Simplified Loader'!BM9>0,'Simplified Loader'!BM9,\"\")","v":""},{"$f":"IF('Simplified Loader'!BN9=\"Male\",\"Male\",IF('Simplified Loader'!BN9=\"Female\",\"Female\",IF('Simplified Loader'!BN9=\"M\",\"Male\",IF('Simplified Loader'!BN9=\"F\",\"Female\",\"\"))))","v":""},{"$f":"IF('Simplified Loader'!BO9=\"Yes\",\"Yes\",IF('Simplified Loader'!BO9=\"No\",\"No\",IF('Simplified Loader'!BO9=\"Y\",\"Yes\",IF('Simplified Loader'!BO9=\"N\",\"No\",\"\"))))","v":""},{"$f":"IF('Simplified Loader'!BP9=\"Yes\",\"Yes\",IF('Simplified Loader'!BP9=\"No\",\"No\",IF('Simplified Loader'!BP9=\"Y\",\"Yes\",IF('Simplified Loader'!BP9=\"N\",\"No\",\"\"))))","v":""},{"$f":"IF('Simplified Loader'!BQ9>0,'Simplified Loader'!BQ9,\"\")","v":""},{"$f":"IF('Simplified Loader'!BR9>0,'Simplified Loader'!BR9,\"\")","v":""},{"$f":"IF('Simplified Loader'!BS9>0,'Simplified Loader'!BS9,\"\")","v":""},{"$f":"IF('Simplified Loader'!BT9=\"Male\",\"Male\",IF('Simplified Loader'!BT9=\"Female\",\"Female\",IF('Simplified Loader'!BT9=\"M\",\"Male\",IF('Simplified Loader'!BT9=\"F\",\"Female\",\"\"))))","v":""},{"$f":"IF('Simplified Loader'!BU9=\"Yes\",\"Yes\",IF('Simplified Loader'!BU9=\"No\",\"No\",IF('Simplified Loader'!BU9=\"Y\",\"Yes\",IF('Simplified Loader'!BU9=\"N\",\"No\",\"\"))))","v":""},{"$f":"IF('Simplified Loader'!BV9=\"Yes\",\"Yes\",IF('Simplified Loader'!BV9=\"No\",\"No\",IF('Simplified Loader'!BV9=\"Y\",\"Yes\",IF('Simplified Loader'!BV9=\"N\",\"No\",\"\"))))","v":""},{"$f":"IF('Simplified Loader'!BW9>0,'Simplified Loader'!BW9,\"\")","v":""},{"$f":"IF('Simplified Loader'!BX9>0,'Simplified Loader'!BX9,\"\")","v":""},{"$f":"IF('Simplified Loader'!BY9>0,'Simplified Loader'!BY9,\"\")","v":""},{"$f":"IF('Simplified Loader'!BZ9=\"Male\",\"Male\",IF('Simplified Loader'!BZ9=\"Female\",\"Female\",IF('Simplified Loader'!BZ9=\"M\",\"Male\",IF('Simplified Loader'!BZ9=\"F\",\"Female\",\"\"))))","v":""},{"$f":"IF('Simplified Loader'!CA9=\"Yes\",\"Yes\",IF('Simplified Loader'!CA9=\"No\",\"No\",IF('Simplified Loader'!CA9=\"Y\",\"Yes\",IF('Simplified Loader'!CA9=\"N\",\"No\",\"\"))))","v":""},{"$f":"IF('Simplified Loader'!CB9=\"Yes\",\"Yes\",IF('Simplified Loader'!CB9=\"No\",\"No\",IF('Simplified Loader'!CB9=\"Y\",\"Yes\",IF('Simplified Loader'!CB9=\"N\",\"No\",\"\"))))","v":""},{"$f":"IF('Simplified Loader'!CH9>0,'Simplified Loader'!CH9,\"\")","v":"    "}]
[{"$f":"IF('Simplified Loader'!A10>0,'Simplified Loader'!A10,\"\")","v":""},{"$f":"IF('Simplified Loader'!B10>0,'Simplified Loader'!B10,\"\")","v":""},{"$f":"IF('Simplified Loader'!C10>0,'Simplified Loader'!C10,\"\")","v":""},{"$f":"IF('Simplified Loader'!D10>0,'Simplified Loader'!D10,\"\")","v":""},{"$f":"IF('Simplified Loader'!E10>0,TEXT('Simplified Loader'!E10,\"000\"),\"\")","v":""},{"$f":"IF('Simplified Loader'!F10>0,'Simplified Loader'!F10,\"\")","v":""},{"$f":"IF('Simplified Loader'!G10>0,'Simplified Loader'!G10,\"\")","v":""},{"$f":"IF('Simplified Loader'!I10>0,'Simplified Loader'!I10,\"\")","v":""},{"$f":"IF('Simplified Loader'!J10>0,'Simplified Loader'!J10,\"\")","v":""},{"$f":"IF('Simplified Loader'!K10>0,'Simplified Loader'!K10,\"\")","v":""},{"$f":"IF('Simplified Loader'!L10>0,'Simplified Loader'!L10,\"\")","v":""},{"$f":"IF('Simplified Loader'!M10=\"Male\",\"Male\",IF('Simplified Loader'!M10=\"Female\",\"Female\",IF('Simplified Loader'!M10=\"M\",\"Male\",IF('Simplified Loader'!M10=\"F\",\"Female\",\"\"))))","v":""},{"$f":"IF('Simplified Loader'!N10=\"Yes\",\"Yes\",IF('Simplified Loader'!N10=\"No\",\"No\",IF('Simplified Loader'!N10=\"Y\",\"Yes\",IF('Simplified Loader'!N10=\"N\",\"No\",\"\"))))","v":""},{"$f":"IF('Simplified Loader'!O10=\"No\",\"Single\",IF('Simplified Loader'!O10=\"Yes\",\"Family\",IF('Simplified Loader'!O10=\"N\",\"Single\",IF('Simplified Loader'!O10=\"Y\",\"Family\",IF('Simplified Loader'!O10=\"In-force\",\"Family\",IF('Simplified Loader'!O10=\"In force\",\"Family\",IF('Simplified Loader'!O10=\"Applies\",\"Family\",IF('Simplified Loader'!O10=\"Applicable\",\"Family\",\"\"))))))))","v":""},{"$f":"IF('Simplified Loader'!P10=\"English\",\"English\",IF('Simplified Loader'!P10=\"French\",\"French\",IF('Simplified Loader'!P10=\"E\",\"English\",IF('Simplified Loader'!P10=\"F\",\"French\",\"\"))))","v":""},{"$f":"IF('Simplified Loader'!Q10=\"Yes\",\"Yes\",IF('Simplified Loader'!Q10=\"No\",\"No\",IF('Simplified Loader'!Q10=\"Y\",\"Yes\",IF('Simplified Loader'!Q10=\"N\",\"No\",\"\"))))","v":""},{"$f":"IF('Simplified Loader'!R10>0,'Simplified Loader'!R10,\"\")","v":""},{"$f":"IF('Simplified Loader'!S10>0,'Simplified Loader'!S10,\"\")","v":""},{"$f":"IF('Simplified Loader'!T10>0,'Simplified Loader'!T10,\"\")","v":""},{"$f":"IF('Simplified Loader'!U10>0,'Simplified Loader'!U10,\"\")","v":""},{"$f":"IF('Simplified Loader'!V10=\"Waive\",\"Yes\",\"\")","v":""},{"$f":"IF('Simplified Loader'!W10=\"Waive\",\"Yes\",\"\")","v":""},{"$f":"IF('Simplified Loader'!X10>0,'Simplified Loader'!X10,\"\")","v":""},{"$f":"IF('Simplified Loader'!Y10>0,'Simplified Loader'!Y10,\"\")","v":""},{"$f":"IF('Simplified Loader'!Z10>0,'Simplified Loader'!Z10,\"\")","v":""},{"$f":"IF('Simplified Loader'!AA10>0,'Simplified Loader'!AA10,\"\")","v":""},{"$f":"IF('Simplified Loader'!AB10>0,'Simplified Loader'!AB10,\"\")","v":""},{"$f":"IF('Simplified Loader'!AC10>0,'Simplified Loader'!AC10,\"\")","v":" "},{"$f":"IF('Simplified Loader'!AE10>0,'Simplified Loader'!AE10&\" \",\"\")&IF('Simplified Loader'!AD10>0,'Simplified Loader'!AD10,\"\")","v":""},null,{"$f":"IF('Simplified Loader'!AF10>0,'Simplified Loader'!AF10,\"\")","v":""},{"$f":"IF('Simplified Loader'!AG10>0,'Simplified Loader'!AG10,\"\")","v":""},{"$f":"IF('Simplified Loader'!AH10>0,'Simplified Loader'!AH10,\"\")","v":""},{"$f":"IF('Simplified Loader'!AI10>0,'Simplified Loader'!AI10,\"\")","v":""},{"$f":"IF('Simplified Loader'!AJ10>0,'Simplified Loader'!AJ10,\"\")","v":""},{"$f":"IF('Simplified Loader'!AK10>0,'Simplified Loader'!AK10,\"\")","v":""},{"$f":"IF('Simplified Loader'!AL10>0,'Simplified Loader'!AL10,\"\")","v":""},{"$f":"IF('Simplified Loader'!AM10>0,'Simplified Loader'!AM10,\"\")","v":""},{"$f":"IF('Simplified Loader'!AN10=\"Male\",\"Male\",IF('Simplified Loader'!AN10=\"Female\",\"Female\",IF('Simplified Loader'!AN10=\"M\",\"Male\",IF('Simplified Loader'!AN10=\"F\",\"Female\",\"\"))))","v":""},{"$f":"IF('Simplified Loader'!AO10=\"Single\",\"Single\",IF('Simplified Loader'!AO10=\"Family\",\"Family\",IF('Simplified Loader'!AO10=\"S\",\"Single\",IF('Simplified Loader'!AO10=\"F\",\"Family\",\"\"))))","v":""},{"$f":"IF('Simplified Loader'!AP10=\"Single\",\"Single\",IF('Simplified Loader'!AP10=\"Family\",\"Family\",IF('Simplified Loader'!AP10=\"S\",\"Single\",IF('Simplified Loader'!AP10=\"F\",\"Family\",\"\"))))","v":""},{"$f":"IF('Simplified Loader'!AQ10>0,'Simplified Loader'!AQ10,\"\")","v":""},{"$f":"IF('Simplified Loader'!AR10=\"Yes\",\"Yes\",IF('Simplified Loader'!AR10=\"No\",\"No\",IF('Simplified Loader'!AR10=\"Y\",\"Yes\",IF('Simplified Loader'!AR10=\"N\",\"No\",\"\"))))","v":""},{"$f":"IF('Simplified Loader'!AS10>0,'Simplified Loader'!AS10,\"\")","v":""},{"$f":"IF('Simplified Loader'!AT10>0,'Simplified Loader'!AT10,\"\")","v":""},{"$f":"IF('Simplified Loader'!AU10>0,'Simplified Loader'!AU10,\"\")","v":""},{"$f":"IF('Simplified Loader'!AV10=\"Male\",\"Male\",IF('Simplified Loader'!AV10=\"Female\",\"Female\",IF('Simplified Loader'!AV10=\"M\",\"Male\",IF('Simplified Loader'!AV10=\"F\",\"Female\",\"\"))))","v":""},{"$f":"IF('Simplified Loader'!AW10=\"Yes\",\"Yes\",IF('Simplified Loader'!AW10=\"No\",\"No\",IF('Simplified Loader'!AW10=\"Y\",\"Yes\",IF('Simplified Loader'!AW10=\"N\",\"No\",\"\"))))","v":""},{"$f":"IF('Simplified Loader'!AX10=\"Yes\",\"Yes\",IF('Simplified Loader'!AX10=\"No\",\"No\",IF('Simplified Loader'!AX10=\"Y\",\"Yes\",IF('Simplified Loader'!AX10=\"N\",\"No\",\"\"))))","v":""},{"$f":"IF('Simplified Loader'!AY10>0,'Simplified Loader'!AY10,\"\")","v":""},{"$f":"IF('Simplified Loader'!AZ10>0,'Simplified Loader'!AZ10,\"\")","v":""},{"$f":"IF('Simplified Loader'!BA10>0,'Simplified Loader'!BA10,\"\")","v":""},{"$f":"IF('Simplified Loader'!BB10=\"Male\",\"Male\",IF('Simplified Loader'!BB10=\"Female\",\"Female\",IF('Simplified Loader'!BB10=\"M\",\"Male\",IF('Simplified Loader'!BB10=\"F\",\"Female\",\"\"))))","v":""},{"$f":"IF('Simplified Loader'!BC10=\"Yes\",\"Yes\",IF('Simplified Loader'!BC10=\"No\",\"No\",IF('Simplified Loader'!BC10=\"Y\",\"Yes\",IF('Simplified Loader'!BC10=\"N\",\"No\",\"\"))))","v":""},{"$f":"IF('Simplified Loader'!BD10=\"Yes\",\"Yes\",IF('Simplified Loader'!BD10=\"No\",\"No\",IF('Simplified Loader'!BD10=\"Y\",\"Yes\",IF('Simplified Loader'!BD10=\"N\",\"No\",\"\"))))","v":""},{"$f":"IF('Simplified Loader'!BE10>0,'Simplified Loader'!BE10,\"\")","v":""},{"$f":"IF('Simplified Loader'!BF10>0,'Simplified Loader'!BF10,\"\")","v":""},{"$f":"IF('Simplified Loader'!BG10>0,'Simplified Loader'!BG10,\"\")","v":""},{"$f":"IF('Simplified Loader'!BH10=\"Male\",\"Male\",IF('Simplified Loader'!BH10=\"Female\",\"Female\",IF('Simplified Loader'!BH10=\"M\",\"Male\",IF('Simplified Loader'!BH10=\"F\",\"Female\",\"\"))))","v":""},{"$f":"IF('Simplified Loader'!BI10=\"Yes\",\"Yes\",IF('Simplified Loader'!BI10=\"No\",\"No\",IF('Simplified Loader'!BI10=\"Y\",\"Yes\",IF('Simplified Loader'!BI10=\"N\",\"No\",\"\"))))","v":""},{"$f":"IF('Simplified Loader'!BJ10=\"Yes\",\"Yes\",IF('Simplified Loader'!BJ10=\"No\",\"No\",IF('Simplified Loader'!BJ10=\"Y\",\"Yes\",IF('Simplified Loader'!BJ10=\"N\",\"No\",\"\"))))","v":""},{"$f":"IF('Simplified Loader'!BK10>0,'Simplified Loader'!BK10,\"\")","v":""},{"$f":"IF('Simplified Loader'!BL10>0,'Simplified Loader'!BL10,\"\")","v":""},{"$f":"IF('Simplified Loader'!BM10>0,'Simplified Loader'!BM10,\"\")","v":""},{"$f":"IF('Simplified Loader'!BN10=\"Male\",\"Male\",IF('Simplified Loader'!BN10=\"Female\",\"Female\",IF('Simplified Loader'!BN10=\"M\",\"Male\",IF('Simplified Loader'!BN10=\"F\",\"Female\",\"\"))))","v":""},{"$f":"IF('Simplified Loader'!BO10=\"Yes\",\"Yes\",IF('Simplified Loader'!BO10=\"No\",\"No\",IF('Simplified Loader'!BO10=\"Y\",\"Yes\",IF('Simplified Loader'!BO10=\"N\",\"No\",\"\"))))","v":""},{"$f":"IF('Simplified Loader'!BP10=\"Yes\",\"Yes\",IF('Simplified Loader'!BP10=\"No\",\"No\",IF('Simplified Loader'!BP10=\"Y\",\"Yes\",IF('Simplified Loader'!BP10=\"N\",\"No\",\"\"))))","v":""},{"$f":"IF('Simplified Loader'!BQ10>0,'Simplified Loader'!BQ10,\"\")","v":""},{"$f":"IF('Simplified Loader'!BR10>0,'Simplified Loader'!BR10,\"\")","v":""},{"$f":"IF('Simplified Loader'!BS10>0,'Simplified Loader'!BS10,\"\")","v":""},{"$f":"IF('Simplified Loader'!BT10=\"Male\",\"Male\",IF('Simplified Loader'!BT10=\"Female\",\"Female\",IF('Simplified Loader'!BT10=\"M\",\"Male\",IF('Simplified Loader'!BT10=\"F\",\"Female\",\"\"))))","v":""},{"$f":"IF('Simplified Loader'!BU10=\"Yes\",\"Yes\",IF('Simplified Loader'!BU10=\"No\",\"No\",IF('Simplified Loader'!BU10=\"Y\",\"Yes\",IF('Simplified Loader'!BU10=\"N\",\"No\",\"\"))))","v":""},{"$f":"IF('Simplified Loader'!BV10=\"Yes\",\"Yes\",IF('Simplified Loader'!BV10=\"No\",\"No\",IF('Simplified Loader'!BV10=\"Y\",\"Yes\",IF('Simplified Loader'!BV10=\"N\",\"No\",\"\"))))","v":""},{"$f":"IF('Simplified Loader'!BW10>0,'Simplified Loader'!BW10,\"\")","v":""},{"$f":"IF('Simplified Loader'!BX10>0,'Simplified Loader'!BX10,\"\")","v":""},{"$f":"IF('Simplified Loader'!BY10>0,'Simplified Loader'!BY10,\"\")","v":""},{"$f":"IF('Simplified Loader'!BZ10=\"Male\",\"Male\",IF('Simplified Loader'!BZ10=\"Female\",\"Female\",IF('Simplified Loader'!BZ10=\"M\",\"Male\",IF('Simplified Loader'!BZ10=\"F\",\"Female\",\"\"))))","v":""},{"$f":"IF('Simplified Loader'!CA10=\"Yes\",\"Yes\",IF('Simplified Loader'!CA10=\"No\",\"No\",IF('Simplified Loader'!CA10=\"Y\",\"Yes\",IF('Simplified Loader'!CA10=\"N\",\"No\",\"\"))))","v":""},{"$f":"IF('Simplified Loader'!CB10=\"Yes\",\"Yes\",IF('Simplified Loader'!CB10=\"No\",\"No\",IF('Simplified Loader'!CB10=\"Y\",\"Yes\",IF('Simplified Loader'!CB10=\"N\",\"No\",\"\"))))","v":""},{"$f":"IF('Simplified Loader'!CH10>0,'Simplified Loader'!CH10,\"\")","v":"    "}]
[{"$f":"IF('Simplified Loader'!A11>0,'Simplified Loader'!A11,\"\")","v":""},{"$f":"IF('Simplified Loader'!B11>0,'Simplified Loader'!B11,\"\")","v":""},{"$f":"IF('Simplified Loader'!C11>0,'Simplified Loader'!C11,\"\")","v":""},{"$f":"IF('Simplified Loader'!D11>0,'Simplified Loader'!D11,\"\")","v":""},{"$f":"IF('Simplified Loader'!E11>0,TEXT('Simplified Loader'!E11,\"000\"),\"\")","v":""},{"$f":"IF('Simplified Loader'!F11>0,'Simplified Loader'!F11,\"\")","v":""},{"$f":"IF('Simplified Loader'!G11>0,'Simplified Loader'!G11,\"\")","v":""},{"$f":"IF('Simplified Loader'!I11>0,'Simplified Loader'!I11,\"\")","v":""},{"$f":"IF('Simplified Loader'!J11>0,'Simplified Loader'!J11,\"\")","v":""},{"$f":"IF('Simplified Loader'!K11>0,'Simplified Loader'!K11,\"\")","v":""},{"$f":"IF('Simplified Loader'!L11>0,'Simplified Loader'!L11,\"\")","v":""},{"$f":"IF('Simplified Loader'!M11=\"Male\",\"Male\",IF('Simplified Loader'!M11=\"Female\",\"Female\",IF('Simplified Loader'!M11=\"M\",\"Male\",IF('Simplified Loader'!M11=\"F\",\"Female\",\"\"))))","v":""},{"$f":"IF('Simplified Loader'!N11=\"Yes\",\"Yes\",IF('Simplified Loader'!N11=\"No\",\"No\",IF('Simplified Loader'!N11=\"Y\",\"Yes\",IF('Simplified Loader'!N11=\"N\",\"No\",\"\"))))","v":""},{"$f":"IF('Simplified Loader'!O11=\"No\",\"Single\",IF('Simplified Loader'!O11=\"Yes\",\"Family\",IF('Simplified Loader'!O11=\"N\",\"Single\",IF('Simplified Loader'!O11=\"Y\",\"Family\",IF('Simplified Loader'!O11=\"In-force\",\"Family\",IF('Simplified Loader'!O11=\"In force\",\"Family\",IF('Simplified Loader'!O11=\"Applies\",\"Family\",IF('Simplified Loader'!O11=\"Applicable\",\"Family\",\"\"))))))))","v":""},{"$f":"IF('Simplified Loader'!P11=\"English\",\"English\",IF('Simplified Loader'!P11=\"French\",\"French\",IF('Simplified Loader'!P11=\"E\",\"English\",IF('Simplified Loader'!P11=\"F\",\"French\",\"\"))))","v":""},{"$f":"IF('Simplified Loader'!Q11=\"Yes\",\"Yes\",IF('Simplified Loader'!Q11=\"No\",\"No\",IF('Simplified Loader'!Q11=\"Y\",\"Yes\",IF('Simplified Loader'!Q11=\"N\",\"No\",\"\"))))","v":""},{"$f":"IF('Simplified Loader'!R11>0,'Simplified Loader'!R11,\"\")","v":""},{"$f":"IF('Simplified Loader'!S11>0,'Simplified Loader'!S11,\"\")","v":""},{"$f":"IF('Simplified Loader'!T11>0,'Simplified Loader'!T11,\"\")","v":""},{"$f":"IF('Simplified Loader'!U11>0,'Simplified Loader'!U11,\"\")","v":""},{"$f":"IF('Simplified Loader'!V11=\"Waive\",\"Yes\",\"\")","v":""},{"$f":"IF('Simplified Loader'!W11=\"Waive\",\"Yes\",\"\")","v":""},{"$f":"IF('Simplified Loader'!X11>0,'Simplified Loader'!X11,\"\")","v":""},{"$f":"IF('Simplified Loader'!Y11>0,'Simplified Loader'!Y11,\"\")","v":""},{"$f":"IF('Simplified Loader'!Z11>0,'Simplified Loader'!Z11,\"\")","v":""},{"$f":"IF('Simplified Loader'!AA11>0,'Simplified Loader'!AA11,\"\")","v":""},{"$f":"IF('Simplified Loader'!AB11>0,'Simplified Loader'!AB11,\"\")","v":""},{"$f":"IF('Simplified Loader'!AC11>0,'Simplified Loader'!AC11,\"\")","v":" "},{"$f":"IF('Simplified Loader'!AE11>0,'Simplified Loader'!AE11&\" \",\"\")&IF('Simplified Loader'!AD11>0,'Simplified Loader'!AD11,\"\")","v":""},null,{"$f":"IF('Simplified Loader'!AF11>0,'Simplified Loader'!AF11,\"\")","v":""},{"$f":"IF('Simplified Loader'!AG11>0,'Simplified Loader'!AG11,\"\")","v":""},{"$f":"IF('Simplified Loader'!AH11>0,'Simplified Loader'!AH11,\"\")","v":""},{"$f":"IF('Simplified Loader'!AI11>0,'Simplified Loader'!AI11,\"\")","v":""},{"$f":"IF('Simplified Loader'!AJ11>0,'Simplified Loader'!AJ11,\"\")","v":""},{"$f":"IF('Simplified Loader'!AK11>0,'Simplified Loader'!AK11,\"\")","v":""},{"$f":"IF('Simplified Loader'!AL11>0,'Simplified Loader'!AL11,\"\")","v":""},{"$f":"IF('Simplified Loader'!AM11>0,'Simplified Loader'!AM11,\"\")","v":""},{"$f":"IF('Simplified Loader'!AN11=\"Male\",\"Male\",IF('Simplified Loader'!AN11=\"Female\",\"Female\",IF('Simplified Loader'!AN11=\"M\",\"Male\",IF('Simplified Loader'!AN11=\"F\",\"Female\",\"\"))))","v":""},{"$f":"IF('Simplified Loader'!AO11=\"Single\",\"Single\",IF('Simplified Loader'!AO11=\"Family\",\"Family\",IF('Simplified Loader'!AO11=\"S\",\"Single\",IF('Simplified Loader'!AO11=\"F\",\"Family\",\"\"))))","v":""},{"$f":"IF('Simplified Loader'!AP11=\"Single\",\"Single\",IF('Simplified Loader'!AP11=\"Family\",\"Family\",IF('Simplified Loader'!AP11=\"S\",\"Single\",IF('Simplified Loader'!AP11=\"F\",\"Family\",\"\"))))","v":""},{"$f":"IF('Simplified Loader'!AQ11>0,'Simplified Loader'!AQ11,\"\")","v":""},{"$f":"IF('Simplified Loader'!AR11=\"Yes\",\"Yes\",IF('Simplified Loader'!AR11=\"No\",\"No\",IF('Simplified Loader'!AR11=\"Y\",\"Yes\",IF('Simplified Loader'!AR11=\"N\",\"No\",\"\"))))","v":""},{"$f":"IF('Simplified Loader'!AS11>0,'Simplified Loader'!AS11,\"\")","v":""},{"$f":"IF('Simplified Loader'!AT11>0,'Simplified Loader'!AT11,\"\")","v":""},{"$f":"IF('Simplified Loader'!AU11>0,'Simplified Loader'!AU11,\"\")","v":""},{"$f":"IF('Simplified Loader'!AV11=\"Male\",\"Male\",IF('Simplified Loader'!AV11=\"Female\",\"Female\",IF('Simplified Loader'!AV11=\"M\",\"Male\",IF('Simplified Loader'!AV11=\"F\",\"Female\",\"\"))))","v":""},{"$f":"IF('Simplified Loader'!AW11=\"Yes\",\"Yes\",IF('Simplified Loader'!AW11=\"No\",\"No\",IF('Simplified Loader'!AW11=\"Y\",\"Yes\",IF('Simplified Loader'!AW11=\"N\",\"No\",\"\"))))","v":""},{"$f":"IF('Simplified Loader'!AX11=\"Yes\",\"Yes\",IF('Simplified Loader'!AX11=\"No\",\"No\",IF('Simplified Loader'!AX11=\"Y\",\"Yes\",IF('Simplified Loader'!AX11=\"N\",\"No\",\"\"))))","v":""},{"$f":"IF('Simplified Loader'!AY11>0,'Simplified Loader'!AY11,\"\")","v":""},{"$f":"IF('Simplified Loader'!AZ11>0,'Simplified Loader'!AZ11,\"\")","v":""},{"$f":"IF('Simplified Loader'!BA11>0,'Simplified Loader'!BA11,\"\")","v":""},{"$f":"IF('Simplified Loader'!BB11=\"Male\",\"Male\",IF('Simplified Loader'!BB11=\"Female\",\"Female\",IF('Simplified Loader'!BB11=\"M\",\"Male\",IF('Simplified Loader'!BB11=\"F\",\"Female\",\"\"))))","v":""},{"$f":"IF('Simplified Loader'!BC11=\"Yes\",\"Yes\",IF('Simplified Loader'!BC11=\"No\",\"No\",IF('Simplified Loader'!BC11=\"Y\",\"Yes\",IF('Simplified Loader'!BC11=\"N\",\"No\",\"\"))))","v":""},{"$f":"IF('Simplified Loader'!BD11=\"Yes\",\"Yes\",IF('Simplified Loader'!BD11=\"No\",\"No\",IF('Simplified Loader'!BD11=\"Y\",\"Yes\",IF('Simplified Loader'!BD11=\"N\",\"No\",\"\"))))","v":""},{"$f":"IF('Simplified Loader'!BE11>0,'Simplified Loader'!BE11,\"\")","v":""},{"$f":"IF('Simplified Loader'!BF11>0,'Simplified Loader'!BF11,\"\")","v":""},{"$f":"IF('Simplified Loader'!BG11>0,'Simplified Loader'!BG11,\"\")","v":""},{"$f":"IF('Simplified Loader'!BH11=\"Male\",\"Male\",IF('Simplified Loader'!BH11=\"Female\",\"Female\",IF('Simplified Loader'!BH11=\"M\",\"Male\",IF('Simplified Loader'!BH11=\"F\",\"Female\",\"\"))))","v":""},{"$f":"IF('Simplified Loader'!BI11=\"Yes\",\"Yes\",IF('Simplified Loader'!BI11=\"No\",\"No\",IF('Simplified Loader'!BI11=\"Y\",\"Yes\",IF('Simplified Loader'!BI11=\"N\",\"No\",\"\"))))","v":""},{"$f":"IF('Simplified Loader'!BJ11=\"Yes\",\"Yes\",IF('Simplified Loader'!BJ11=\"No\",\"No\",IF('Simplified Loader'!BJ11=\"Y\",\"Yes\",IF('Simplified Loader'!BJ11=\"N\",\"No\",\"\"))))","v":""},{"$f":"IF('Simplified Loader'!BK11>0,'Simplified Loader'!BK11,\"\")","v":""},{"$f":"IF('Simplified Loader'!BL11>0,'Simplified Loader'!BL11,\"\")","v":""},{"$f":"IF('Simplified Loader'!BM11>0,'Simplified Loader'!BM11,\"\")","v":""},{"$f":"IF('Simplified Loader'!BN11=\"Male\",\"Male\",IF('Simplified Loader'!BN11=\"Female\",\"Female\",IF('Simplified Loader'!BN11=\"M\",\"Male\",IF('Simplified Loader'!BN11=\"F\",\"Female\",\"\"))))","v":""},{"$f":"IF('Simplified Loader'!BO11=\"Yes\",\"Yes\",IF('Simplified Loader'!BO11=\"No\",\"No\",IF('Simplified Loader'!BO11=\"Y\",\"Yes\",IF('Simplified Loader'!BO11=\"N\",\"No\",\"\"))))","v":""},{"$f":"IF('Simplified Loader'!BP11=\"Yes\",\"Yes\",IF('Simplified Loader'!BP11=\"No\",\"No\",IF('Simplified Loader'!BP11=\"Y\",\"Yes\",IF('Simplified Loader'!BP11=\"N\",\"No\",\"\"))))","v":""},{"$f":"IF('Simplified Loader'!BQ11>0,'Simplified Loader'!BQ11,\"\")","v":""},{"$f":"IF('Simplified Loader'!BR11>0,'Simplified Loader'!BR11,\"\")","v":""},{"$f":"IF('Simplified Loader'!BS11>0,'Simplified Loader'!BS11,\"\")","v":""},{"$f":"IF('Simplified Loader'!BT11=\"Male\",\"Male\",IF('Simplified Loader'!BT11=\"Female\",\"Female\",IF('Simplified Loader'!BT11=\"M\",\"Male\",IF('Simplified Loader'!BT11=\"F\",\"Female\",\"\"))))","v":""},{"$f":"IF('Simplified Loader'!BU11=\"Yes\",\"Yes\",IF('Simplified Loader'!BU11=\"No\",\"No\",IF('Simplified Loader'!BU11=\"Y\",\"Yes\",IF('Simplified Loader'!BU11=\"N\",\"No\",\"\"))))","v":""},{"$f":"IF('Simplified Loader'!BV11=\"Yes\",\"Yes\",IF('Simplified Loader'!BV11=\"No\",\"No\",IF('Simplified Loader'!BV11=\"Y\",\"Yes\",IF('Simplified Loader'!BV11=\"N\",\"No\",\"\"))))","v":""},{"$f":"IF('Simplified Loader'!BW11>0,'Simplified Loader'!BW11,\"\")","v":""},{"$f":"IF('Simplified Loader'!BX11>0,'Simplified Loader'!BX11,\"\")","v":""},{"$f":"IF('Simplified Loader'!BY11>0,'Simplified Loader'!BY11,\"\")","v":""},{"$f":"IF('Simplified Loader'!BZ11=\"Male\",\"Male\",IF('Simplified Loader'!BZ11=\"Female\",\"Female\",IF('Simplified Loader'!BZ11=\"M\",\"Male\",IF('Simplified Loader'!BZ11=\"F\",\"Female\",\"\"))))","v":""},{"$f":"IF('Simplified Loader'!CA11=\"Yes\",\"Yes\",IF('Simplified Loader'!CA11=\"No\",\"No\",IF('Simplified Loader'!CA11=\"Y\",\"Yes\",IF('Simplified Loader'!CA11=\"N\",\"No\",\"\"))))","v":""},{"$f":"IF('Simplified Loader'!CB11=\"Yes\",\"Yes\",IF('Simplified Loader'!CB11=\"No\",\"No\",IF('Simplified Loader'!CB11=\"Y\",\"Yes\",IF('Simplified Loader'!CB11=\"N\",\"No\",\"\"))))","v":""},{"$f":"IF('Simplified Loader'!CH11>0,'Simplified Loader'!CH11,\"\")","v":"    "}]
[{"$f":"IF('Simplified Loader'!A12>0,'Simplified Loader'!A12,\"\")","v":""},{"$f":"IF('Simplified Loader'!B12>0,'Simplified Loader'!B12,\"\")","v":""},{"$f":"IF('Simplified Loader'!C12>0,'Simplified Loader'!C12,\"\")","v":""},{"$f":"IF('Simplified Loader'!D12>0,'Simplified Loader'!D12,\"\")","v":""},{"$f":"IF('Simplified Loader'!E12>0,TEXT('Simplified Loader'!E12,\"000\"),\"\")","v":""},{"$f":"IF('Simplified Loader'!F12>0,'Simplified Loader'!F12,\"\")","v":""},{"$f":"IF('Simplified Loader'!G12>0,'Simplified Loader'!G12,\"\")","v":""},{"$f":"IF('Simplified Loader'!I12>0,'Simplified Loader'!I12,\"\")","v":""},{"$f":"IF('Simplified Loader'!J12>0,'Simplified Loader'!J12,\"\")","v":""},{"$f":"IF('Simplified Loader'!K12>0,'Simplified Loader'!K12,\"\")","v":""},{"$f":"IF('Simplified Loader'!L12>0,'Simplified Loader'!L12,\"\")","v":""},{"$f":"IF('Simplified Loader'!M12=\"Male\",\"Male\",IF('Simplified Loader'!M12=\"Female\",\"Female\",IF('Simplified Loader'!M12=\"M\",\"Male\",IF('Simplified Loader'!M12=\"F\",\"Female\",\"\"))))","v":""},{"$f":"IF('Simplified Loader'!N12=\"Yes\",\"Yes\",IF('Simplified Loader'!N12=\"No\",\"No\",IF('Simplified Loader'!N12=\"Y\",\"Yes\",IF('Simplified Loader'!N12=\"N\",\"No\",\"\"))))","v":""},{"$f":"IF('Simplified Loader'!O12=\"No\",\"Single\",IF('Simplified Loader'!O12=\"Yes\",\"Family\",IF('Simplified Loader'!O12=\"N\",\"Single\",IF('Simplified Loader'!O12=\"Y\",\"Family\",IF('Simplified Loader'!O12=\"In-force\",\"Family\",IF('Simplified Loader'!O12=\"In force\",\"Family\",IF('Simplified Loader'!O12=\"Applies\",\"Family\",IF('Simplified Loader'!O12=\"Applicable\",\"Family\",\"\"))))))))","v":""},{"$f":"IF('Simplified Loader'!P12=\"English\",\"English\",IF('Simplified Loader'!P12=\"French\",\"French\",IF('Simplified Loader'!P12=\"E\",\"English\",IF('Simplified Loader'!P12=\"F\",\"French\",\"\"))))","v":""},{"$f":"IF('Simplified Loader'!Q12=\"Yes\",\"Yes\",IF('Simplified Loader'!Q12=\"No\",\"No\",IF('Simplified Loader'!Q12=\"Y\",\"Yes\",IF('Simplified Loader'!Q12=\"N\",\"No\",\"\"))))","v":""},{"$f":"IF('Simplified Loader'!R12>0,'Simplified Loader'!R12,\"\")","v":""},{"$f":"IF('Simplified Loader'!S12>0,'Simplified Loader'!S12,\"\")","v":""},{"$f":"IF('Simplified Loader'!T12>0,'Simplified Loader'!T12,\"\")","v":""},{"$f":"IF('Simplified Loader'!U12>0,'Simplified Loader'!U12,\"\")","v":""},{"$f":"IF('Simplified Loader'!V12=\"Waive\",\"Yes\",\"\")","v":""},{"$f":"IF('Simplified Loader'!W12=\"Waive\",\"Yes\",\"\")","v":""},{"$f":"IF('Simplified Loader'!X12>0,'Simplified Loader'!X12,\"\")","v":""},{"$f":"IF('Simplified Loader'!Y12>0,'Simplified Loader'!Y12,\"\")","v":""},{"$f":"IF('Simplified Loader'!Z12>0,'Simplified Loader'!Z12,\"\")","v":""},{"$f":"IF('Simplified Loader'!AA12>0,'Simplified Loader'!AA12,\"\")","v":""},{"$f":"IF('Simplified Loader'!AB12>0,'Simplified Loader'!AB12,\"\")","v":""},{"$f":"IF('Simplified Loader'!AC12>0,'Simplified Loader'!AC12,\"\")","v":" "},{"$f":"IF('Simplified Loader'!AE12>0,'Simplified Loader'!AE12&\" \",\"\")&IF('Simplified Loader'!AD12>0,'Simplified Loader'!AD12,\"\")","v":""},null,{"$f":"IF('Simplified Loader'!AF12>0,'Simplified Loader'!AF12,\"\")","v":""},{"$f":"IF('Simplified Loader'!AG12>0,'Simplified Loader'!AG12,\"\")","v":""},{"$f":"IF('Simplified Loader'!AH12>0,'Simplified Loader'!AH12,\"\")","v":""},{"$f":"IF('Simplified Loader'!AI12>0,'Simplified Loader'!AI12,\"\")","v":""},{"$f":"IF('Simplified Loader'!AJ12>0,'Simplified Loader'!AJ12,\"\")","v":""},{"$f":"IF('Simplified Loader'!AK12>0,'Simplified Loader'!AK12,\"\")","v":""},{"$f":"IF('Simplified Loader'!AL12>0,'Simplified Loader'!AL12,\"\")","v":""},{"$f":"IF('Simplified Loader'!AM12>0,'Simplified Loader'!AM12,\"\")","v":""},{"$f":"IF('Simplified Loader'!AN12=\"Male\",\"Male\",IF('Simplified Loader'!AN12=\"Female\",\"Female\",IF('Simplified Loader'!AN12=\"M\",\"Male\",IF('Simplified Loader'!AN12=\"F\",\"Female\",\"\"))))","v":""},{"$f":"IF('Simplified Loader'!AO12=\"Single\",\"Single\",IF('Simplified Loader'!AO12=\"Family\",\"Family\",IF('Simplified Loader'!AO12=\"S\",\"Single\",IF('Simplified Loader'!AO12=\"F\",\"Family\",\"\"))))","v":""},{"$f":"IF('Simplified Loader'!AP12=\"Single\",\"Single\",IF('Simplified Loader'!AP12=\"Family\",\"Family\",IF('Simplified Loader'!AP12=\"S\",\"Single\",IF('Simplified Loader'!AP12=\"F\",\"Family\",\"\"))))","v":""},{"$f":"IF('Simplified Loader'!AQ12>0,'Simplified Loader'!AQ12,\"\")","v":""},{"$f":"IF('Simplified Loader'!AR12=\"Yes\",\"Yes\",IF('Simplified Loader'!AR12=\"No\",\"No\",IF('Simplified Loader'!AR12=\"Y\",\"Yes\",IF('Simplified Loader'!AR12=\"N\",\"No\",\"\"))))","v":""},{"$f":"IF('Simplified Loader'!AS12>0,'Simplified Loader'!AS12,\"\")","v":""},{"$f":"IF('Simplified Loader'!AT12>0,'Simplified Loader'!AT12,\"\")","v":""},{"$f":"IF('Simplified Loader'!AU12>0,'Simplified Loader'!AU12,\"\")","v":""},{"$f":"IF('Simplified Loader'!AV12=\"Male\",\"Male\",IF('Simplified Loader'!AV12=\"Female\",\"Female\",IF('Simplified Loader'!AV12=\"M\",\"Male\",IF('Simplified Loader'!AV12=\"F\",\"Female\",\"\"))))","v":""},{"$f":"IF('Simplified Loader'!AW12=\"Yes\",\"Yes\",IF('Simplified Loader'!AW12=\"No\",\"No\",IF('Simplified Loader'!AW12=\"Y\",\"Yes\",IF('Simplified Loader'!AW12=\"N\",\"No\",\"\"))))","v":""},{"$f":"IF('Simplified Loader'!AX12=\"Yes\",\"Yes\",IF('Simplified Loader'!AX12=\"No\",\"No\",IF('Simplified Loader'!AX12=\"Y\",\"Yes\",IF('Simplified Loader'!AX12=\"N\",\"No\",\"\"))))","v":""},{"$f":"IF('Simplified Loader'!AY12>0,'Simplified Loader'!AY12,\"\")","v":""},{"$f":"IF('Simplified Loader'!AZ12>0,'Simplified Loader'!AZ12,\"\")","v":""},{"$f":"IF('Simplified Loader'!BA12>0,'Simplified Loader'!BA12,\"\")","v":""},{"$f":"IF('Simplified Loader'!BB12=\"Male\",\"Male\",IF('Simplified Loader'!BB12=\"Female\",\"Female\",IF('Simplified Loader'!BB12=\"M\",\"Male\",IF('Simplified Loader'!BB12=\"F\",\"Female\",\"\"))))","v":""},{"$f":"IF('Simplified Loader'!BC12=\"Yes\",\"Yes\",IF('Simplified Loader'!BC12=\"No\",\"No\",IF('Simplified Loader'!BC12=\"Y\",\"Yes\",IF('Simplified Loader'!BC12=\"N\",\"No\",\"\"))))","v":""},{"$f":"IF('Simplified Loader'!BD12=\"Yes\",\"Yes\",IF('Simplified Loader'!BD12=\"No\",\"No\",IF('Simplified Loader'!BD12=\"Y\",\"Yes\",IF('Simplified Loader'!BD12=\"N\",\"No\",\"\"))))","v":""},{"$f":"IF('Simplified Loader'!BE12>0,'Simplified Loader'!BE12,\"\")","v":""},{"$f":"IF('Simplified Loader'!BF12>0,'Simplified Loader'!BF12,\"\")","v":""},{"$f":"IF('Simplified Loader'!BG12>0,'Simplified Loader'!BG12,\"\")","v":""},{"$f":"IF('Simplified Loader'!BH12=\"Male\",\"Male\",IF('Simplified Loader'!BH12=\"Female\",\"Female\",IF('Simplified Loader'!BH12=\"M\",\"Male\",IF('Simplified Loader'!BH12=\"F\",\"Female\",\"\"))))","v":""},{"$f":"IF('Simplified Loader'!BI12=\"Yes\",\"Yes\",IF('Simplified Loader'!BI12=\"No\",\"No\",IF('Simplified Loader'!BI12=\"Y\",\"Yes\",IF('Simplified Loader'!BI12=\"N\",\"No\",\"\"))))","v":""},{"$f":"IF('Simplified Loader'!BJ12=\"Yes\",\"Yes\",IF('Simplified Loader'!BJ12=\"No\",\"No\",IF('Simplified Loader'!BJ12=\"Y\",\"Yes\",IF('Simplified Loader'!BJ12=\"N\",\"No\",\"\"))))","v":""},{"$f":"IF('Simplified Loader'!BK12>0,'Simplified Loader'!BK12,\"\")","v":""},{"$f":"IF('Simplified Loader'!BL12>0,'Simplified Loader'!BL12,\"\")","v":""},{"$f":"IF('Simplified Loader'!BM12>0,'Simplified Loader'!BM12,\"\")","v":""},{"$f":"IF('Simplified Loader'!BN12=\"Male\",\"Male\",IF('Simplified Loader'!BN12=\"Female\",\"Female\",IF('Simplified Loader'!BN12=\"M\",\"Male\",IF('Simplified Loader'!BN12=\"F\",\"Female\",\"\"))))","v":""},{"$f":"IF('Simplified Loader'!BO12=\"Yes\",\"Yes\",IF('Simplified Loader'!BO12=\"No\",\"No\",IF('Simplified Loader'!BO12=\"Y\",\"Yes\",IF('Simplified Loader'!BO12=\"N\",\"No\",\"\"))))","v":""},{"$f":"IF('Simplified Loader'!BP12=\"Yes\",\"Yes\",IF('Simplified Loader'!BP12=\"No\",\"No\",IF('Simplified Loader'!BP12=\"Y\",\"Yes\",IF('Simplified Loader'!BP12=\"N\",\"No\",\"\"))))","v":""},{"$f":"IF('Simplified Loader'!BQ12>0,'Simplified Loader'!BQ12,\"\")","v":""},{"$f":"IF('Simplified Loader'!BR12>0,'Simplified Loader'!BR12,\"\")","v":""},{"$f":"IF('Simplified Loader'!BS12>0,'Simplified Loader'!BS12,\"\")","v":""},{"$f":"IF('Simplified Loader'!BT12=\"Male\",\"Male\",IF('Simplified Loader'!BT12=\"Female\",\"Female\",IF('Simplified Loader'!BT12=\"M\",\"Male\",IF('Simplified Loader'!BT12=\"F\",\"Female\",\"\"))))","v":""},{"$f":"IF('Simplified Loader'!BU12=\"Yes\",\"Yes\",IF('Simplified Loader'!BU12=\"No\",\"No\",IF('Simplified Loader'!BU12=\"Y\",\"Yes\",IF('Simplified Loader'!BU12=\"N\",\"No\",\"\"))))","v":""},{"$f":"IF('Simplified Loader'!BV12=\"Yes\",\"Yes\",IF('Simplified Loader'!BV12=\"No\",\"No\",IF('Simplified Loader'!BV12=\"Y\",\"Yes\",IF('Simplified Loader'!BV12=\"N\",\"No\",\"\"))))","v":""},{"$f":"IF('Simplified Loader'!BW12>0,'Simplified Loader'!BW12,\"\")","v":""},{"$f":"IF('Simplified Loader'!BX12>0,'Simplified Loader'!BX12,\"\")","v":""},{"$f":"IF('Simplified Loader'!BY12>0,'Simplified Loader'!BY12,\"\")","v":""},{"$f":"IF('Simplified Loader'!BZ12=\"Male\",\"Male\",IF('Simplified Loader'!BZ12=\"Female\",\"Female\",IF('Simplified Loader'!BZ12=\"M\",\"Male\",IF('Simplified Loader'!BZ12=\"F\",\"Female\",\"\"))))","v":""},{"$f":"IF('Simplified Loader'!CA12=\"Yes\",\"Yes\",IF('Simplified Loader'!CA12=\"No\",\"No\",IF('Simplified Loader'!CA12=\"Y\",\"Yes\",IF('Simplified Loader'!CA12=\"N\",\"No\",\"\"))))","v":""},{"$f":"IF('Simplified Loader'!CB12=\"Yes\",\"Yes\",IF('Simplified Loader'!CB12=\"No\",\"No\",IF('Simplified Loader'!CB12=\"Y\",\"Yes\",IF('Simplified Loader'!CB12=\"N\",\"No\",\"\"))))","v":""},{"$f":"IF('Simplified Loader'!CH12>0,'Simplified Loader'!CH12,\"\")","v":"    "}]
[{"$f":"IF('Simplified Loader'!A13>0,'Simplified Loader'!A13,\"\")","v":""},{"$f":"IF('Simplified Loader'!B13>0,'Simplified Loader'!B13,\"\")","v":""},{"$f":"IF('Simplified Loader'!C13>0,'Simplified Loader'!C13,\"\")","v":""},{"$f":"IF('Simplified Loader'!D13>0,'Simplified Loader'!D13,\"\")","v":""},{"$f":"IF('Simplified Loader'!E13>0,TEXT('Simplified Loader'!E13,\"000\"),\"\")","v":""},{"$f":"IF('Simplified Loader'!F13>0,'Simplified Loader'!F13,\"\")","v":""},{"$f":"IF('Simplified Loader'!G13>0,'Simplified Loader'!G13,\"\")","v":""},{"$f":"IF('Simplified Loader'!I13>0,'Simplified Loader'!I13,\"\")","v":""},{"$f":"IF('Simplified Loader'!J13>0,'Simplified Loader'!J13,\"\")","v":""},{"$f":"IF('Simplified Loader'!K13>0,'Simplified Loader'!K13,\"\")","v":""},{"$f":"IF('Simplified Loader'!L13>0,'Simplified Loader'!L13,\"\")","v":""},{"$f":"IF('Simplified Loader'!M13=\"Male\",\"Male\",IF('Simplified Loader'!M13=\"Female\",\"Female\",IF('Simplified Loader'!M13=\"M\",\"Male\",IF('Simplified Loader'!M13=\"F\",\"Female\",\"\"))))","v":""},{"$f":"IF('Simplified Loader'!N13=\"Yes\",\"Yes\",IF('Simplified Loader'!N13=\"No\",\"No\",IF('Simplified Loader'!N13=\"Y\",\"Yes\",IF('Simplified Loader'!N13=\"N\",\"No\",\"\"))))","v":""},{"$f":"IF('Simplified Loader'!O13=\"No\",\"Single\",IF('Simplified Loader'!O13=\"Yes\",\"Family\",IF('Simplified Loader'!O13=\"N\",\"Single\",IF('Simplified Loader'!O13=\"Y\",\"Family\",IF('Simplified Loader'!O13=\"In-force\",\"Family\",IF('Simplified Loader'!O13=\"In force\",\"Family\",IF('Simplified Loader'!O13=\"Applies\",\"Family\",IF('Simplified Loader'!O13=\"Applicable\",\"Family\",\"\"))))))))","v":""},{"$f":"IF('Simplified Loader'!P13=\"English\",\"English\",IF('Simplified Loader'!P13=\"French\",\"French\",IF('Simplified Loader'!P13=\"E\",\"English\",IF('Simplified Loader'!P13=\"F\",\"French\",\"\"))))","v":""},{"$f":"IF('Simplified Loader'!Q13=\"Yes\",\"Yes\",IF('Simplified Loader'!Q13=\"No\",\"No\",IF('Simplified Loader'!Q13=\"Y\",\"Yes\",IF('Simplified Loader'!Q13=\"N\",\"No\",\"\"))))","v":""},{"$f":"IF('Simplified Loader'!R13>0,'Simplified Loader'!R13,\"\")","v":""},{"$f":"IF('Simplified Loader'!S13>0,'Simplified Loader'!S13,\"\")","v":""},{"$f":"IF('Simplified Loader'!T13>0,'Simplified Loader'!T13,\"\")","v":""},{"$f":"IF('Simplified Loader'!U13>0,'Simplified Loader'!U13,\"\")","v":""},{"$f":"IF('Simplified Loader'!V13=\"Waive\",\"Yes\",\"\")","v":""},{"$f":"IF('Simplified Loader'!W13=\"Waive\",\"Yes\",\"\")","v":""},{"$f":"IF('Simplified Loader'!X13>0,'Simplified Loader'!X13,\"\")","v":""},{"$f":"IF('Simplified Loader'!Y13>0,'Simplified Loader'!Y13,\"\")","v":""},{"$f":"IF('Simplified Loader'!Z13>0,'Simplified Loader'!Z13,\"\")","v":""},{"$f":"IF('Simplified Loader'!AA13>0,'Simplified Loader'!AA13,\"\")","v":""},{"$f":"IF('Simplified Loader'!AB13>0,'Simplified Loader'!AB13,\"\")","v":""},{"$f":"IF('Simplified Loader'!AC13>0,'Simplified Loader'!AC13,\"\")","v":" "},{"$f":"IF('Simplified Loader'!AE13>0,'Simplified Loader'!AE13&\" \",\"\")&IF('Simplified Loader'!AD13>0,'Simplified Loader'!AD13,\"\")","v":""},null,{"$f":"IF('Simplified Loader'!AF13>0,'Simplified Loader'!AF13,\"\")","v":""},{"$f":"IF('Simplified Loader'!AG13>0,'Simplified Loader'!AG13,\"\")","v":""},{"$f":"IF('Simplified Loader'!AH13>0,'Simplified Loader'!AH13,\"\")","v":""},{"$f":"IF('Simplified Loader'!AI13>0,'Simplified Loader'!AI13,\"\")","v":""},{"$f":"IF('Simplified Loader'!AJ13>0,'Simplified Loader'!AJ13,\"\")","v":""},{"$f":"IF('Simplified Loader'!AK13>0,'Simplified Loader'!AK13,\"\")","v":""},{"$f":"IF('Simplified Loader'!AL13>0,'Simplified Loader'!AL13,\"\")","v":""},{"$f":"IF('Simplified Loader'!AM13>0,'Simplified Loader'!AM13,\"\")","v":""},{"$f":"IF('Simplified Loader'!AN13=\"Male\",\"Male\",IF('Simplified Loader'!AN13=\"Female\",\"Female\",IF('Simplified Loader'!AN13=\"M\",\"Male\",IF('Simplified Loader'!AN13=\"F\",\"Female\",\"\"))))","v":""},{"$f":"IF('Simplified Loader'!AO13=\"Single\",\"Single\",IF('Simplified Loader'!AO13=\"Family\",\"Family\",IF('Simplified Loader'!AO13=\"S\",\"Single\",IF('Simplified Loader'!AO13=\"F\",\"Family\",\"\"))))","v":""},{"$f":"IF('Simplified Loader'!AP13=\"Single\",\"Single\",IF('Simplified Loader'!AP13=\"Family\",\"Family\",IF('Simplified Loader'!AP13=\"S\",\"Single\",IF('Simplified Loader'!AP13=\"F\",\"Family\",\"\"))))","v":""},{"$f":"IF('Simplified Loader'!AQ13>0,'Simplified Loader'!AQ13,\"\")","v":""},{"$f":"IF('Simplified Loader'!AR13=\"Yes\",\"Yes\",IF('Simplified Loader'!AR13=\"No\",\"No\",IF('Simplified Loader'!AR13=\"Y\",\"Yes\",IF('Simplified Loader'!AR13=\"N\",\"No\",\"\"))))","v":""},{"$f":"IF('Simplified Loader'!AS13>0,'Simplified Loader'!AS13,\"\")","v":""},{"$f":"IF('Simplified Loader'!AT13>0,'Simplified Loader'!AT13,\"\")","v":""},{"$f":"IF('Simplified Loader'!AU13>0,'Simplified Loader'!AU13,\"\")","v":""},{"$f":"IF('Simplified Loader'!AV13=\"Male\",\"Male\",IF('Simplified Loader'!AV13=\"Female\",\"Female\",IF('Simplified Loader'!AV13=\"M\",\"Male\",IF('Simplified Loader'!AV13=\"F\",\"Female\",\"\"))))","v":""},{"$f":"IF('Simplified Loader'!AW13=\"Yes\",\"Yes\",IF('Simplified Loader'!AW13=\"No\",\"No\",IF('Simplified Loader'!AW13=\"Y\",\"Yes\",IF('Simplified Loader'!AW13=\"N\",\"No\",\"\"))))","v":""},{"$f":"IF('Simplified Loader'!AX13=\"Yes\",\"Yes\",IF('Simplified Loader'!AX13=\"No\",\"No\",IF('Simplified Loader'!AX13=\"Y\",\"Yes\",IF('Simplified Loader'!AX13=\"N\",\"No\",\"\"))))","v":""},{"$f":"IF('Simplified Loader'!AY13>0,'Simplified Loader'!AY13,\"\")","v":""},{"$f":"IF('Simplified Loader'!AZ13>0,'Simplified Loader'!AZ13,\"\")","v":""},{"$f":"IF('Simplified Loader'!BA13>0,'Simplified Loader'!BA13,\"\")","v":""},{"$f":"IF('Simplified Loader'!BB13=\"Male\",\"Male\",IF('Simplified Loader'!BB13=\"Female\",\"Female\",IF('Simplified Loader'!BB13=\"M\",\"Male\",IF('Simplified Loader'!BB13=\"F\",\"Female\",\"\"))))","v":""},{"$f":"IF('Simplified Loader'!BC13=\"Yes\",\"Yes\",IF('Simplified Loader'!BC13=\"No\",\"No\",IF('Simplified Loader'!BC13=\"Y\",\"Yes\",IF('Simplified Loader'!BC13=\"N\",\"No\",\"\"))))","v":""},{"$f":"IF('Simplified Loader'!BD13=\"Yes\",\"Yes\",IF('Simplified Loader'!BD13=\"No\",\"No\",IF('Simplified Loader'!BD13=\"Y\",\"Yes\",IF('Simplified Loader'!BD13=\"N\",\"No\",\"\"))))","v":""},{"$f":"IF('Simplified Loader'!BE13>0,'Simplified Loader'!BE13,\"\")","v":""},{"$f":"IF('Simplified Loader'!BF13>0,'Simplified Loader'!BF13,\"\")","v":""},{"$f":"IF('Simplified Loader'!BG13>0,'Simplified Loader'!BG13,\"\")","v":""},{"$f":"IF('Simplified Loader'!BH13=\"Male\",\"Male\",IF('Simplified Loader'!BH13=\"Female\",\"Female\",IF('Simplified Loader'!BH13=\"M\",\"Male\",IF('Simplified Loader'!BH13=\"F\",\"Female\",\"\"))))","v":""},{"$f":"IF('Simplified Loader'!BI13=\"Yes\",\"Yes\",IF('Simplified Loader'!BI13=\"No\",\"No\",IF('Simplified Loader'!BI13=\"Y\",\"Yes\",IF('Simplified Loader'!BI13=\"N\",\"No\",\"\"))))","v":""},{"$f":"IF('Simplified Loader'!BJ13=\"Yes\",\"Yes\",IF('Simplified Loader'!BJ13=\"No\",\"No\",IF('Simplified Loader'!BJ13=\"Y\",\"Yes\",IF('Simplified Loader'!BJ13=\"N\",\"No\",\"\"))))","v":""},{"$f":"IF('Simplified Loader'!BK13>0,'Simplified Loader'!BK13,\"\")","v":""},{"$f":"IF('Simplified Loader'!BL13>0,'Simplified Loader'!BL13,\"\")","v":""},{"$f":"IF('Simplified Loader'!BM13>0,'Simplified Loader'!BM13,\"\")","v":""},{"$f":"IF('Simplified Loader'!BN13=\"Male\",\"Male\",IF('Simplified Loader'!BN13=\"Female\",\"Female\",IF('Simplified Loader'!BN13=\"M\",\"Male\",IF('Simplified Loader'!BN13=\"F\",\"Female\",\"\"))))","v":""},{"$f":"IF('Simplified Loader'!BO13=\"Yes\",\"Yes\",IF('Simplified Loader'!BO13=\"No\",\"No\",IF('Simplified Loader'!BO13=\"Y\",\"Yes\",IF('Simplified Loader'!BO13=\"N\",\"No\",\"\"))))","v":""},{"$f":"IF('Simplified Loader'!BP13=\"Yes\",\"Yes\",IF('Simplified Loader'!BP13=\"No\",\"No\",IF('Simplified Loader'!BP13=\"Y\",\"Yes\",IF('Simplified Loader'!BP13=\"N\",\"No\",\"\"))))","v":""},{"$f":"IF('Simplified Loader'!BQ13>0,'Simplified Loader'!BQ13,\"\")","v":""},{"$f":"IF('Simplified Loader'!BR13>0,'Simplified Loader'!BR13,\"\")","v":""},{"$f":"IF('Simplified Loader'!BS13>0,'Simplified Loader'!BS13,\"\")","v":""},{"$f":"IF('Simplified Loader'!BT13=\"Male\",\"Male\",IF('Simplified Loader'!BT13=\"Female\",\"Female\",IF('Simplified Loader'!BT13=\"M\",\"Male\",IF('Simplified Loader'!BT13=\"F\",\"Female\",\"\"))))","v":""},{"$f":"IF('Simplified Loader'!BU13=\"Yes\",\"Yes\",IF('Simplified Loader'!BU13=\"No\",\"No\",IF('Simplified Loader'!BU13=\"Y\",\"Yes\",IF('Simplified Loader'!BU13=\"N\",\"No\",\"\"))))","v":""},{"$f":"IF('Simplified Loader'!BV13=\"Yes\",\"Yes\",IF('Simplified Loader'!BV13=\"No\",\"No\",IF('Simplified Loader'!BV13=\"Y\",\"Yes\",IF('Simplified Loader'!BV13=\"N\",\"No\",\"\"))))","v":""},{"$f":"IF('Simplified Loader'!BW13>0,'Simplified Loader'!BW13,\"\")","v":""},{"$f":"IF('Simplified Loader'!BX13>0,'Simplified Loader'!BX13,\"\")","v":""},{"$f":"IF('Simplified Loader'!BY13>0,'Simplified Loader'!BY13,\"\")","v":""},{"$f":"IF('Simplified Loader'!BZ13=\"Male\",\"Male\",IF('Simplified Loader'!BZ13=\"Female\",\"Female\",IF('Simplified Loader'!BZ13=\"M\",\"Male\",IF('Simplified Loader'!BZ13=\"F\",\"Female\",\"\"))))","v":""},{"$f":"IF('Simplified Loader'!CA13=\"Yes\",\"Yes\",IF('Simplified Loader'!CA13=\"No\",\"No\",IF('Simplified Loader'!CA13=\"Y\",\"Yes\",IF('Simplified Loader'!CA13=\"N\",\"No\",\"\"))))","v":""},{"$f":"IF('Simplified Loader'!CB13=\"Yes\",\"Yes\",IF('Simplified Loader'!CB13=\"No\",\"No\",IF('Simplified Loader'!CB13=\"Y\",\"Yes\",IF('Simplified Loader'!CB13=\"N\",\"No\",\"\"))))","v":""},{"$f":"IF('Simplified Loader'!CH13>0,'Simplified Loader'!CH13,\"\")","v":"    "}]
[{"$f":"IF('Simplified Loader'!A14>0,'Simplified Loader'!A14,\"\")","v":""},{"$f":"IF('Simplified Loader'!B14>0,'Simplified Loader'!B14,\"\")","v":""},{"$f":"IF('Simplified Loader'!C14>0,'Simplified Loader'!C14,\"\")","v":""},{"$f":"IF('Simplified Loader'!D14>0,'Simplified Loader'!D14,\"\")","v":""},{"$f":"IF('Simplified Loader'!E14>0,TEXT('Simplified Loader'!E14,\"000\"),\"\")","v":""},{"$f":"IF('Simplified Loader'!F14>0,'Simplified Loader'!F14,\"\")","v":""},{"$f":"IF('Simplified Loader'!G14>0,'Simplified Loader'!G14,\"\")","v":""},{"$f":"IF('Simplified Loader'!I14>0,'Simplified Loader'!I14,\"\")","v":""},{"$f":"IF('Simplified Loader'!J14>0,'Simplified Loader'!J14,\"\")","v":""},{"$f":"IF('Simplified Loader'!K14>0,'Simplified Loader'!K14,\"\")","v":""},{"$f":"IF('Simplified Loader'!L14>0,'Simplified Loader'!L14,\"\")","v":""},{"$f":"IF('Simplified Loader'!M14=\"Male\",\"Male\",IF('Simplified Loader'!M14=\"Female\",\"Female\",IF('Simplified Loader'!M14=\"M\",\"Male\",IF('Simplified Loader'!M14=\"F\",\"Female\",\"\"))))","v":""},{"$f":"IF('Simplified Loader'!N14=\"Yes\",\"Yes\",IF('Simplified Loader'!N14=\"No\",\"No\",IF('Simplified Loader'!N14=\"Y\",\"Yes\",IF('Simplified Loader'!N14=\"N\",\"No\",\"\"))))","v":""},{"$f":"IF('Simplified Loader'!O14=\"No\",\"Single\",IF('Simplified Loader'!O14=\"Yes\",\"Family\",IF('Simplified Loader'!O14=\"N\",\"Single\",IF('Simplified Loader'!O14=\"Y\",\"Family\",IF('Simplified Loader'!O14=\"In-force\",\"Family\",IF('Simplified Loader'!O14=\"In force\",\"Family\",IF('Simplified Loader'!O14=\"Applies\",\"Family\",IF('Simplified Loader'!O14=\"Applicable\",\"Family\",\"\"))))))))","v":""},{"$f":"IF('Simplified Loader'!P14=\"English\",\"English\",IF('Simplified Loader'!P14=\"French\",\"French\",IF('Simplified Loader'!P14=\"E\",\"English\",IF('Simplified Loader'!P14=\"F\",\"French\",\"\"))))","v":""},{"$f":"IF('Simplified Loader'!Q14=\"Yes\",\"Yes\",IF('Simplified Loader'!Q14=\"No\",\"No\",IF('Simplified Loader'!Q14=\"Y\",\"Yes\",IF('Simplified Loader'!Q14=\"N\",\"No\",\"\"))))","v":""},{"$f":"IF('Simplified Loader'!R14>0,'Simplified Loader'!R14,\"\")","v":""},{"$f":"IF('Simplified Loader'!S14>0,'Simplified Loader'!S14,\"\")","v":""},{"$f":"IF('Simplified Loader'!T14>0,'Simplified Loader'!T14,\"\")","v":""},{"$f":"IF('Simplified Loader'!U14>0,'Simplified Loader'!U14,\"\")","v":""},{"$f":"IF('Simplified Loader'!V14=\"Waive\",\"Yes\",\"\")","v":""},{"$f":"IF('Simplified Loader'!W14=\"Waive\",\"Yes\",\"\")","v":""},{"$f":"IF('Simplified Loader'!X14>0,'Simplified Loader'!X14,\"\")","v":""},{"$f":"IF('Simplified Loader'!Y14>0,'Simplified Loader'!Y14,\"\")","v":""},{"$f":"IF('Simplified Loader'!Z14>0,'Simplified Loader'!Z14,\"\")","v":""},{"$f":"IF('Simplified Loader'!AA14>0,'Simplified Loader'!AA14,\"\")","v":""},{"$f":"IF('Simplified Loader'!AB14>0,'Simplified Loader'!AB14,\"\")","v":""},{"$f":"IF('Simplified Loader'!AC14>0,'Simplified Loader'!AC14,\"\")","v":" "},{"$f":"IF('Simplified Loader'!AE14>0,'Simplified Loader'!AE14&\" \",\"\")&IF('Simplified Loader'!AD14>0,'Simplified Loader'!AD14,\"\")","v":""},null,{"$f":"IF('Simplified Loader'!AF14>0,'Simplified Loader'!AF14,\"\")","v":""},{"$f":"IF('Simplified Loader'!AG14>0,'Simplified Loader'!AG14,\"\")","v":""},{"$f":"IF('Simplified Loader'!AH14>0,'Simplified Loader'!AH14,\"\")","v":""},{"$f":"IF('Simplified Loader'!AI14>0,'Simplified Loader'!AI14,\"\")","v":""},{"$f":"IF('Simplified Loader'!AJ14>0,'Simplified Loader'!AJ14,\"\")","v":""},{"$f":"IF('Simplified Loader'!AK14>0,'Simplified Loader'!AK14,\"\")","v":""},{"$f":"IF('Simplified Loader'!AL14>0,'Simplified Loader'!AL14,\"\")","v":""},{"$f":"IF('Simplified Loader'!AM14>0,'Simplified Loader'!AM14,\"\")","v":""},{"$f":"IF('Simplified Loader'!AN14=\"Male\",\"Male\",IF('Simplified Loader'!AN14=\"Female\",\"Female\",IF('Simplified Loader'!AN14=\"M\",\"Male\",IF('Simplified Loader'!AN14=\"F\",\"Female\",\"\"))))","v":""},{"$f":"IF('Simplified Loader'!AO14=\"Single\",\"Single\",IF('Simplified Loader'!AO14=\"Family\",\"Family\",IF('Simplified Loader'!AO14=\"S\",\"Single\",IF('Simplified Loader'!AO14=\"F\",\"Family\",\"\"))))","v":""},{"$f":"IF('Simplified Loader'!AP14=\"Single\",\"Single\",IF('Simplified Loader'!AP14=\"Family\",\"Family\",IF('Simplified Loader'!AP14=\"S\",\"Single\",IF('Simplified Loader'!AP14=\"F\",\"Family\",\"\"))))","v":""},{"$f":"IF('Simplified Loader'!AQ14>0,'Simplified Loader'!AQ14,\"\")","v":""},{"$f":"IF('Simplified Loader'!AR14=\"Yes\",\"Yes\",IF('Simplified Loader'!AR14=\"No\",\"No\",IF('Simplified Loader'!AR14=\"Y\",\"Yes\",IF('Simplified Loader'!AR14=\"N\",\"No\",\"\"))))","v":""},{"$f":"IF('Simplified Loader'!AS14>0,'Simplified Loader'!AS14,\"\")","v":""},{"$f":"IF('Simplified Loader'!AT14>0,'Simplified Loader'!AT14,\"\")","v":""},{"$f":"IF('Simplified Loader'!AU14>0,'Simplified Loader'!AU14,\"\")","v":""},{"$f":"IF('Simplified Loader'!AV14=\"Male\",\"Male\",IF('Simplified Loader'!AV14=\"Female\",\"Female\",IF('Simplified Loader'!AV14=\"M\",\"Male\",IF('Simplified Loader'!AV14=\"F\",\"Female\",\"\"))))","v":""},{"$f":"IF('Simplified Loader'!AW14=\"Yes\",\"Yes\",IF('Simplified Loader'!AW14=\"No\",\"No\",IF('Simplified Loader'!AW14=\"Y\",\"Yes\",IF('Simplified Loader'!AW14=\"N\",\"No\",\"\"))))","v":""},{"$f":"IF('Simplified Loader'!AX14=\"Yes\",\"Yes\",IF('Simplified Loader'!AX14=\"No\",\"No\",IF('Simplified Loader'!AX14=\"Y\",\"Yes\",IF('Simplified Loader'!AX14=\"N\",\"No\",\"\"))))","v":""},{"$f":"IF('Simplified Loader'!AY14>0,'Simplified Loader'!AY14,\"\")","v":""},{"$f":"IF('Simplified Loader'!AZ14>0,'Simplified Loader'!AZ14,\"\")","v":""},{"$f":"IF('Simplified Loader'!BA14>0,'Simplified Loader'!BA14,\"\")","v":""},{"$f":"IF('Simplified Loader'!BB14=\"Male\",\"Male\",IF('Simplified Loader'!BB14=\"Female\",\"Female\",IF('Simplified Loader'!BB14=\"M\",\"Male\",IF('Simplified Loader'!BB14=\"F\",\"Female\",\"\"))))","v":""},{"$f":"IF('Simplified Loader'!BC14=\"Yes\",\"Yes\",IF('Simplified Loader'!BC14=\"No\",\"No\",IF('Simplified Loader'!BC14=\"Y\",\"Yes\",IF('Simplified Loader'!BC14=\"N\",\"No\",\"\"))))","v":""},{"$f":"IF('Simplified Loader'!BD14=\"Yes\",\"Yes\",IF('Simplified Loader'!BD14=\"No\",\"No\",IF('Simplified Loader'!BD14=\"Y\",\"Yes\",IF('Simplified Loader'!BD14=\"N\",\"No\",\"\"))))","v":""},{"$f":"IF('Simplified Loader'!BE14>0,'Simplified Loader'!BE14,\"\")","v":""},{"$f":"IF('Simplified Loader'!BF14>0,'Simplified Loader'!BF14,\"\")","v":""},{"$f":"IF('Simplified Loader'!BG14>0,'Simplified Loader'!BG14,\"\")","v":""},{"$f":"IF('Simplified Loader'!BH14=\"Male\",\"Male\",IF('Simplified Loader'!BH14=\"Female\",\"Female\",IF('Simplified Loader'!BH14=\"M\",\"Male\",IF('Simplified Loader'!BH14=\"F\",\"Female\",\"\"))))","v":""},{"$f":"IF('Simplified Loader'!BI14=\"Yes\",\"Yes\",IF('Simplified Loader'!BI14=\"No\",\"No\",IF('Simplified Loader'!BI14=\"Y\",\"Yes\",IF('Simplified Loader'!BI14=\"N\",\"No\",\"\"))))","v":""},{"$f":"IF('Simplified Loader'!BJ14=\"Yes\",\"Yes\",IF('Simplified Loader'!BJ14=\"No\",\"No\",IF('Simplified Loader'!BJ14=\"Y\",\"Yes\",IF('Simplified Loader'!BJ14=\"N\",\"No\",\"\"))))","v":""},{"$f":"IF('Simplified Loader'!BK14>0,'Simplified Loader'!BK14,\"\")","v":""},{"$f":"IF('Simplified Loader'!BL14>0,'Simplified Loader'!BL14,\"\")","v":""},{"$f":"IF('Simplified Loader'!BM14>0,'Simplified Loader'!BM14,\"\")","v":""},{"$f":"IF('Simplified Loader'!BN14=\"Male\",\"Male\",IF('Simplified Loader'!BN14=\"Female\",\"Female\",IF('Simplified Loader'!BN14=\"M\",\"Male\",IF('Simplified Loader'!BN14=\"F\",\"Female\",\"\"))))","v":""},{"$f":"IF('Simplified Loader'!BO14=\"Yes\",\"Yes\",IF('Simplified Loader'!BO14=\"No\",\"No\",IF('Simplified Loader'!BO14=\"Y\",\"Yes\",IF('Simplified Loader'!BO14=\"N\",\"No\",\"\"))))","v":""},{"$f":"IF('Simplified Loader'!BP14=\"Yes\",\"Yes\",IF('Simplified Loader'!BP14=\"No\",\"No\",IF('Simplified Loader'!BP14=\"Y\",\"Yes\",IF('Simplified Loader'!BP14=\"N\",\"No\",\"\"))))","v":""},{"$f":"IF('Simplified Loader'!BQ14>0,'Simplified Loader'!BQ14,\"\")","v":""},{"$f":"IF('Simplified Loader'!BR14>0,'Simplified Loader'!BR14,\"\")","v":""},{"$f":"IF('Simplified Loader'!BS14>0,'Simplified Loader'!BS14,\"\")","v":""},{"$f":"IF('Simplified Loader'!BT14=\"Male\",\"Male\",IF('Simplified Loader'!BT14=\"Female\",\"Female\",IF('Simplified Loader'!BT14=\"M\",\"Male\",IF('Simplified Loader'!BT14=\"F\",\"Female\",\"\"))))","v":""},{"$f":"IF('Simplified Loader'!BU14=\"Yes\",\"Yes\",IF('Simplified Loader'!BU14=\"No\",\"No\",IF('Simplified Loader'!BU14=\"Y\",\"Yes\",IF('Simplified Loader'!BU14=\"N\",\"No\",\"\"))))","v":""},{"$f":"IF('Simplified Loader'!BV14=\"Yes\",\"Yes\",IF('Simplified Loader'!BV14=\"No\",\"No\",IF('Simplified Loader'!BV14=\"Y\",\"Yes\",IF('Simplified Loader'!BV14=\"N\",\"No\",\"\"))))","v":""},{"$f":"IF('Simplified Loader'!BW14>0,'Simplified Loader'!BW14,\"\")","v":""},{"$f":"IF('Simplified Loader'!BX14>0,'Simplified Loader'!BX14,\"\")","v":""},{"$f":"IF('Simplified Loader'!BY14>0,'Simplified Loader'!BY14,\"\")","v":""},{"$f":"IF('Simplified Loader'!BZ14=\"Male\",\"Male\",IF('Simplified Loader'!BZ14=\"Female\",\"Female\",IF('Simplified Loader'!BZ14=\"M\",\"Male\",IF('Simplified Loader'!BZ14=\"F\",\"Female\",\"\"))))","v":""},{"$f":"IF('Simplified Loader'!CA14=\"Yes\",\"Yes\",IF('Simplified Loader'!CA14=\"No\",\"No\",IF('Simplified Loader'!CA14=\"Y\",\"Yes\",IF('Simplified Loader'!CA14=\"N\",\"No\",\"\"))))","v":""},{"$f":"IF('Simplified Loader'!CB14=\"Yes\",\"Yes\",IF('Simplified Loader'!CB14=\"No\",\"No\",IF('Simplified Loader'!CB14=\"Y\",\"Yes\",IF('Simplified Loader'!CB14=\"N\",\"No\",\"\"))))","v":""},{"$f":"IF('Simplified Loader'!CH14>0,'Simplified Loader'!CH14,\"\")","v":"    "}]
[{"$f":"IF('Simplified Loader'!A15>0,'Simplified Loader'!A15,\"\")","v":""},{"$f":"IF('Simplified Loader'!B15>0,'Simplified Loader'!B15,\"\")","v":""},{"$f":"IF('Simplified Loader'!C15>0,'Simplified Loader'!C15,\"\")","v":""},{"$f":"IF('Simplified Loader'!D15>0,'Simplified Loader'!D15,\"\")","v":""},{"$f":"IF('Simplified Loader'!E15>0,TEXT('Simplified Loader'!E15,\"000\"),\"\")","v":""},{"$f":"IF('Simplified Loader'!F15>0,'Simplified Loader'!F15,\"\")","v":""},{"$f":"IF('Simplified Loader'!G15>0,'Simplified Loader'!G15,\"\")","v":""},{"$f":"IF('Simplified Loader'!I15>0,'Simplified Loader'!I15,\"\")","v":""},{"$f":"IF('Simplified Loader'!J15>0,'Simplified Loader'!J15,\"\")","v":""},{"$f":"IF('Simplified Loader'!K15>0,'Simplified Loader'!K15,\"\")","v":""},{"$f":"IF('Simplified Loader'!L15>0,'Simplified Loader'!L15,\"\")","v":""},{"$f":"IF('Simplified Loader'!M15=\"Male\",\"Male\",IF('Simplified Loader'!M15=\"Female\",\"Female\",IF('Simplified Loader'!M15=\"M\",\"Male\",IF('Simplified Loader'!M15=\"F\",\"Female\",\"\"))))","v":""},{"$f":"IF('Simplified Loader'!N15=\"Yes\",\"Yes\",IF('Simplified Loader'!N15=\"No\",\"No\",IF('Simplified Loader'!N15=\"Y\",\"Yes\",IF('Simplified Loader'!N15=\"N\",\"No\",\"\"))))","v":""},{"$f":"IF('Simplified Loader'!O15=\"No\",\"Single\",IF('Simplified Loader'!O15=\"Yes\",\"Family\",IF('Simplified Loader'!O15=\"N\",\"Single\",IF('Simplified Loader'!O15=\"Y\",\"Family\",IF('Simplified Loader'!O15=\"In-force\",\"Family\",IF('Simplified Loader'!O15=\"In force\",\"Family\",IF('Simplified Loader'!O15=\"Applies\",\"Family\",IF('Simplified Loader'!O15=\"Applicable\",\"Family\",\"\"))))))))","v":""},{"$f":"IF('Simplified Loader'!P15=\"English\",\"English\",IF('Simplified Loader'!P15=\"French\",\"French\",IF('Simplified Loader'!P15=\"E\",\"English\",IF('Simplified Loader'!P15=\"F\",\"French\",\"\"))))","v":""},{"$f":"IF('Simplified Loader'!Q15=\"Yes\",\"Yes\",IF('Simplified Loader'!Q15=\"No\",\"No\",IF('Simplified Loader'!Q15=\"Y\",\"Yes\",IF('Simplified Loader'!Q15=\"N\",\"No\",\"\"))))","v":""},{"$f":"IF('Simplified Loader'!R15>0,'Simplified Loader'!R15,\"\")","v":""},{"$f":"IF('Simplified Loader'!S15>0,'Simplified Loader'!S15,\"\")","v":""},{"$f":"IF('Simplified Loader'!T15>0,'Simplified Loader'!T15,\"\")","v":""},{"$f":"IF('Simplified Loader'!U15>0,'Simplified Loader'!U15,\"\")","v":""},{"$f":"IF('Simplified Loader'!V15=\"Waive\",\"Yes\",\"\")","v":""},{"$f":"IF('Simplified Loader'!W15=\"Waive\",\"Yes\",\"\")","v":""},{"$f":"IF('Simplified Loader'!X15>0,'Simplified Loader'!X15,\"\")","v":""},{"$f":"IF('Simplified Loader'!Y15>0,'Simplified Loader'!Y15,\"\")","v":""},{"$f":"IF('Simplified Loader'!Z15>0,'Simplified Loader'!Z15,\"\")","v":""},{"$f":"IF('Simplified Loader'!AA15>0,'Simplified Loader'!AA15,\"\")","v":""},{"$f":"IF('Simplified Loader'!AB15>0,'Simplified Loader'!AB15,\"\")","v":""},{"$f":"IF('Simplified Loader'!AC15>0,'Simplified Loader'!AC15,\"\")","v":" "},{"$f":"IF('Simplified Loader'!AE15>0,'Simplified Loader'!AE15&\" \",\"\")&IF('Simplified Loader'!AD15>0,'Simplified Loader'!AD15,\"\")","v":""},null,{"$f":"IF('Simplified Loader'!AF15>0,'Simplified Loader'!AF15,\"\")","v":""},{"$f":"IF('Simplified Loader'!AG15>0,'Simplified Loader'!AG15,\"\")","v":""},{"$f":"IF('Simplified Loader'!AH15>0,'Simplified Loader'!AH15,\"\")","v":""},{"$f":"IF('Simplified Loader'!AI15>0,'Simplified Loader'!AI15,\"\")","v":""},{"$f":"IF('Simplified Loader'!AJ15>0,'Simplified Loader'!AJ15,\"\")","v":""},{"$f":"IF('Simplified Loader'!AK15>0,'Simplified Loader'!AK15,\"\")","v":""},{"$f":"IF('Simplified Loader'!AL15>0,'Simplified Loader'!AL15,\"\")","v":""},{"$f":"IF('Simplified Loader'!AM15>0,'Simplified Loader'!AM15,\"\")","v":""},{"$f":"IF('Simplified Loader'!AN15=\"Male\",\"Male\",IF('Simplified Loader'!AN15=\"Female\",\"Female\",IF('Simplified Loader'!AN15=\"M\",\"Male\",IF('Simplified Loader'!AN15=\"F\",\"Female\",\"\"))))","v":""},{"$f":"IF('Simplified Loader'!AO15=\"Single\",\"Single\",IF('Simplified Loader'!AO15=\"Family\",\"Family\",IF('Simplified Loader'!AO15=\"S\",\"Single\",IF('Simplified Loader'!AO15=\"F\",\"Family\",\"\"))))","v":""},{"$f":"IF('Simplified Loader'!AP15=\"Single\",\"Single\",IF('Simplified Loader'!AP15=\"Family\",\"Family\",IF('Simplified Loader'!AP15=\"S\",\"Single\",IF('Simplified Loader'!AP15=\"F\",\"Family\",\"\"))))","v":""},{"$f":"IF('Simplified Loader'!AQ15>0,'Simplified Loader'!AQ15,\"\")","v":""},{"$f":"IF('Simplified Loader'!AR15=\"Yes\",\"Yes\",IF('Simplified Loader'!AR15=\"No\",\"No\",IF('Simplified Loader'!AR15=\"Y\",\"Yes\",IF('Simplified Loader'!AR15=\"N\",\"No\",\"\"))))","v":""},{"$f":"IF('Simplified Loader'!AS15>0,'Simplified Loader'!AS15,\"\")","v":""},{"$f":"IF('Simplified Loader'!AT15>0,'Simplified Loader'!AT15,\"\")","v":""},{"$f":"IF('Simplified Loader'!AU15>0,'Simplified Loader'!AU15,\"\")","v":""},{"$f":"IF('Simplified Loader'!AV15=\"Male\",\"Male\",IF('Simplified Loader'!AV15=\"Female\",\"Female\",IF('Simplified Loader'!AV15=\"M\",\"Male\",IF('Simplified Loader'!AV15=\"F\",\"Female\",\"\"))))","v":""},{"$f":"IF('Simplified Loader'!AW15=\"Yes\",\"Yes\",IF('Simplified Loader'!AW15=\"No\",\"No\",IF('Simplified Loader'!AW15=\"Y\",\"Yes\",IF('Simplified Loader'!AW15=\"N\",\"No\",\"\"))))","v":""},{"$f":"IF('Simplified Loader'!AX15=\"Yes\",\"Yes\",IF('Simplified Loader'!AX15=\"No\",\"No\",IF('Simplified Loader'!AX15=\"Y\",\"Yes\",IF('Simplified Loader'!AX15=\"N\",\"No\",\"\"))))","v":""},{"$f":"IF('Simplified Loader'!AY15>0,'Simplified Loader'!AY15,\"\")","v":""},{"$f":"IF('Simplified Loader'!AZ15>0,'Simplified Loader'!AZ15,\"\")","v":""},{"$f":"IF('Simplified Loader'!BA15>0,'Simplified Loader'!BA15,\"\")","v":""},{"$f":"IF('Simplified Loader'!BB15=\"Male\",\"Male\",IF('Simplified Loader'!BB15=\"Female\",\"Female\",IF('Simplified Loader'!BB15=\"M\",\"Male\",IF('Simplified Loader'!BB15=\"F\",\"Female\",\"\"))))","v":""},{"$f":"IF('Simplified Loader'!BC15=\"Yes\",\"Yes\",IF('Simplified Loader'!BC15=\"No\",\"No\",IF('Simplified Loader'!BC15=\"Y\",\"Yes\",IF('Simplified Loader'!BC15=\"N\",\"No\",\"\"))))","v":""},{"$f":"IF('Simplified Loader'!BD15=\"Yes\",\"Yes\",IF('Simplified Loader'!BD15=\"No\",\"No\",IF('Simplified Loader'!BD15=\"Y\",\"Yes\",IF('Simplified Loader'!BD15=\"N\",\"No\",\"\"))))","v":""},{"$f":"IF('Simplified Loader'!BE15>0,'Simplified Loader'!BE15,\"\")","v":""},{"$f":"IF('Simplified Loader'!BF15>0,'Simplified Loader'!BF15,\"\")","v":""},{"$f":"IF('Simplified Loader'!BG15>0,'Simplified Loader'!BG15,\"\")","v":""},{"$f":"IF('Simplified Loader'!BH15=\"Male\",\"Male\",IF('Simplified Loader'!BH15=\"Female\",\"Female\",IF('Simplified Loader'!BH15=\"M\",\"Male\",IF('Simplified Loader'!BH15=\"F\",\"Female\",\"\"))))","v":""},{"$f":"IF('Simplified Loader'!BI15=\"Yes\",\"Yes\",IF('Simplified Loader'!BI15=\"No\",\"No\",IF('Simplified Loader'!BI15=\"Y\",\"Yes\",IF('Simplified Loader'!BI15=\"N\",\"No\",\"\"))))","v":""},{"$f":"IF('Simplified Loader'!BJ15=\"Yes\",\"Yes\",IF('Simplified Loader'!BJ15=\"No\",\"No\",IF('Simplified Loader'!BJ15=\"Y\",\"Yes\",IF('Simplified Loader'!BJ15=\"N\",\"No\",\"\"))))","v":""},{"$f":"IF('Simplified Loader'!BK15>0,'Simplified Loader'!BK15,\"\")","v":""},{"$f":"IF('Simplified Loader'!BL15>0,'Simplified Loader'!BL15,\"\")","v":""},{"$f":"IF('Simplified Loader'!BM15>0,'Simplified Loader'!BM15,\"\")","v":""},{"$f":"IF('Simplified Loader'!BN15=\"Male\",\"Male\",IF('Simplified Loader'!BN15=\"Female\",\"Female\",IF('Simplified Loader'!BN15=\"M\",\"Male\",IF('Simplified Loader'!BN15=\"F\",\"Female\",\"\"))))","v":""},{"$f":"IF('Simplified Loader'!BO15=\"Yes\",\"Yes\",IF('Simplified Loader'!BO15=\"No\",\"No\",IF('Simplified Loader'!BO15=\"Y\",\"Yes\",IF('Simplified Loader'!BO15=\"N\",\"No\",\"\"))))","v":""},{"$f":"IF('Simplified Loader'!BP15=\"Yes\",\"Yes\",IF('Simplified Loader'!BP15=\"No\",\"No\",IF('Simplified Loader'!BP15=\"Y\",\"Yes\",IF('Simplified Loader'!BP15=\"N\",\"No\",\"\"))))","v":""},{"$f":"IF('Simplified Loader'!BQ15>0,'Simplified Loader'!BQ15,\"\")","v":""},{"$f":"IF('Simplified Loader'!BR15>0,'Simplified Loader'!BR15,\"\")","v":""},{"$f":"IF('Simplified Loader'!BS15>0,'Simplified Loader'!BS15,\"\")","v":""},{"$f":"IF('Simplified Loader'!BT15=\"Male\",\"Male\",IF('Simplified Loader'!BT15=\"Female\",\"Female\",IF('Simplified Loader'!BT15=\"M\",\"Male\",IF('Simplified Loader'!BT15=\"F\",\"Female\",\"\"))))","v":""},{"$f":"IF('Simplified Loader'!BU15=\"Yes\",\"Yes\",IF('Simplified Loader'!BU15=\"No\",\"No\",IF('Simplified Loader'!BU15=\"Y\",\"Yes\",IF('Simplified Loader'!BU15=\"N\",\"No\",\"\"))))","v":""},{"$f":"IF('Simplified Loader'!BV15=\"Yes\",\"Yes\",IF('Simplified Loader'!BV15=\"No\",\"No\",IF('Simplified Loader'!BV15=\"Y\",\"Yes\",IF('Simplified Loader'!BV15=\"N\",\"No\",\"\"))))","v":""},{"$f":"IF('Simplified Loader'!BW15>0,'Simplified Loader'!BW15,\"\")","v":""},{"$f":"IF('Simplified Loader'!BX15>0,'Simplified Loader'!BX15,\"\")","v":""},{"$f":"IF('Simplified Loader'!BY15>0,'Simplified Loader'!BY15,\"\")","v":""},{"$f":"IF('Simplified Loader'!BZ15=\"Male\",\"Male\",IF('Simplified Loader'!BZ15=\"Female\",\"Female\",IF('Simplified Loader'!BZ15=\"M\",\"Male\",IF('Simplified Loader'!BZ15=\"F\",\"Female\",\"\"))))","v":""},{"$f":"IF('Simplified Loader'!CA15=\"Yes\",\"Yes\",IF('Simplified Loader'!CA15=\"No\",\"No\",IF('Simplified Loader'!CA15=\"Y\",\"Yes\",IF('Simplified Loader'!CA15=\"N\",\"No\",\"\"))))","v":""},{"$f":"IF('Simplified Loader'!CB15=\"Yes\",\"Yes\",IF('Simplified Loader'!CB15=\"No\",\"No\",IF('Simplified Loader'!CB15=\"Y\",\"Yes\",IF('Simplified Loader'!CB15=\"N\",\"No\",\"\"))))","v":""},{"$f":"IF('Simplified Loader'!CH15>0,'Simplified Loader'!CH15,\"\")","v":"    "}]
[{"$f":"IF('Simplified Loader'!A16>0,'Simplified Loader'!A16,\"\")","v":""},{"$f":"IF('Simplified Loader'!B16>0,'Simplified Loader'!B16,\"\")","v":""},{"$f":"IF('Simplified Loader'!C16>0,'Simplified Loader'!C16,\"\")","v":""},{"$f":"IF('Simplified Loader'!D16>0,'Simplified Loader'!D16,\"\")","v":""},{"$f":"IF('Simplified Loader'!E16>0,TEXT('Simplified Loader'!E16,\"000\"),\"\")","v":""},{"$f":"IF('Simplified Loader'!F16>0,'Simplified Loader'!F16,\"\")","v":""},{"$f":"IF('Simplified Loader'!G16>0,'Simplified Loader'!G16,\"\")","v":""},{"$f":"IF('Simplified Loader'!I16>0,'Simplified Loader'!I16,\"\")","v":""},{"$f":"IF('Simplified Loader'!J16>0,'Simplified Loader'!J16,\"\")","v":""},{"$f":"IF('Simplified Loader'!K16>0,'Simplified Loader'!K16,\"\")","v":""},{"$f":"IF('Simplified Loader'!L16>0,'Simplified Loader'!L16,\"\")","v":""},{"$f":"IF('Simplified Loader'!M16=\"Male\",\"Male\",IF('Simplified Loader'!M16=\"Female\",\"Female\",IF('Simplified Loader'!M16=\"M\",\"Male\",IF('Simplified Loader'!M16=\"F\",\"Female\",\"\"))))","v":""},{"$f":"IF('Simplified Loader'!N16=\"Yes\",\"Yes\",IF('Simplified Loader'!N16=\"No\",\"No\",IF('Simplified Loader'!N16=\"Y\",\"Yes\",IF('Simplified Loader'!N16=\"N\",\"No\",\"\"))))","v":""},{"$f":"IF('Simplified Loader'!O16=\"No\",\"Single\",IF('Simplified Loader'!O16=\"Yes\",\"Family\",IF('Simplified Loader'!O16=\"N\",\"Single\",IF('Simplified Loader'!O16=\"Y\",\"Family\",IF('Simplified Loader'!O16=\"In-force\",\"Family\",IF('Simplified Loader'!O16=\"In force\",\"Family\",IF('Simplified Loader'!O16=\"Applies\",\"Family\",IF('Simplified Loader'!O16=\"Applicable\",\"Family\",\"\"))))))))","v":""},{"$f":"IF('Simplified Loader'!P16=\"English\",\"English\",IF('Simplified Loader'!P16=\"French\",\"French\",IF('Simplified Loader'!P16=\"E\",\"English\",IF('Simplified Loader'!P16=\"F\",\"French\",\"\"))))","v":""},{"$f":"IF('Simplified Loader'!Q16=\"Yes\",\"Yes\",IF('Simplified Loader'!Q16=\"No\",\"No\",IF('Simplified Loader'!Q16=\"Y\",\"Yes\",IF('Simplified Loader'!Q16=\"N\",\"No\",\"\"))))","v":""},{"$f":"IF('Simplified Loader'!R16>0,'Simplified Loader'!R16,\"\")","v":""},{"$f":"IF('Simplified Loader'!S16>0,'Simplified Loader'!S16,\"\")","v":""},{"$f":"IF('Simplified Loader'!T16>0,'Simplified Loader'!T16,\"\")","v":""},{"$f":"IF('Simplified Loader'!U16>0,'Simplified Loader'!U16,\"\")","v":""},{"$f":"IF('Simplified Loader'!V16=\"Waive\",\"Yes\",\"\")","v":""},{"$f":"IF('Simplified Loader'!W16=\"Waive\",\"Yes\",\"\")","v":""},{"$f":"IF('Simplified Loader'!X16>0,'Simplified Loader'!X16,\"\")","v":""},{"$f":"IF('Simplified Loader'!Y16>0,'Simplified Loader'!Y16,\"\")","v":""},{"$f":"IF('Simplified Loader'!Z16>0,'Simplified Loader'!Z16,\"\")","v":""},{"$f":"IF('Simplified Loader'!AA16>0,'Simplified Loader'!AA16,\"\")","v":""},{"$f":"IF('Simplified Loader'!AB16>0,'Simplified Loader'!AB16,\"\")","v":""},{"$f":"IF('Simplified Loader'!AC16>0,'Simplified Loader'!AC16,\"\")","v":" "},{"$f":"IF('Simplified Loader'!AE16>0,'Simplified Loader'!AE16&\" \",\"\")&IF('Simplified Loader'!AD16>0,'Simplified Loader'!AD16,\"\")","v":""},null,{"$f":"IF('Simplified Loader'!AF16>0,'Simplified Loader'!AF16,\"\")","v":""},{"$f":"IF('Simplified Loader'!AG16>0,'Simplified Loader'!AG16,\"\")","v":""},{"$f":"IF('Simplified Loader'!AH16>0,'Simplified Loader'!AH16,\"\")","v":""},{"$f":"IF('Simplified Loader'!AI16>0,'Simplified Loader'!AI16,\"\")","v":""},{"$f":"IF('Simplified Loader'!AJ16>0,'Simplified Loader'!AJ16,\"\")","v":""},{"$f":"IF('Simplified Loader'!AK16>0,'Simplified Loader'!AK16,\"\")","v":""},{"$f":"IF('Simplified Loader'!AL16>0,'Simplified Loader'!AL16,\"\")","v":""},{"$f":"IF('Simplified Loader'!AM16>0,'Simplified Loader'!AM16,\"\")","v":""},{"$f":"IF('Simplified Loader'!AN16=\"Male\",\"Male\",IF('Simplified Loader'!AN16=\"Female\",\"Female\",IF('Simplified Loader'!AN16=\"M\",\"Male\",IF('Simplified Loader'!AN16=\"F\",\"Female\",\"\"))))","v":""},{"$f":"IF('Simplified Loader'!AO16=\"Single\",\"Single\",IF('Simplified Loader'!AO16=\"Family\",\"Family\",IF('Simplified Loader'!AO16=\"S\",\"Single\",IF('Simplified Loader'!AO16=\"F\",\"Family\",\"\"))))","v":""},{"$f":"IF('Simplified Loader'!AP16=\"Single\",\"Single\",IF('Simplified Loader'!AP16=\"Family\",\"Family\",IF('Simplified Loader'!AP16=\"S\",\"Single\",IF('Simplified Loader'!AP16=\"F\",\"Family\",\"\"))))","v":""},{"$f":"IF('Simplified Loader'!AQ16>0,'Simplified Loader'!AQ16,\"\")","v":""},{"$f":"IF('Simplified Loader'!AR16=\"Yes\",\"Yes\",IF('Simplified Loader'!AR16=\"No\",\"No\",IF('Simplified Loader'!AR16=\"Y\",\"Yes\",IF('Simplified Loader'!AR16=\"N\",\"No\",\"\"))))","v":""},{"$f":"IF('Simplified Loader'!AS16>0,'Simplified Loader'!AS16,\"\")","v":""},{"$f":"IF('Simplified Loader'!AT16>0,'Simplified Loader'!AT16,\"\")","v":""},{"$f":"IF('Simplified Loader'!AU16>0,'Simplified Loader'!AU16,\"\")","v":""},{"$f":"IF('Simplified Loader'!AV16=\"Male\",\"Male\",IF('Simplified Loader'!AV16=\"Female\",\"Female\",IF('Simplified Loader'!AV16=\"M\",\"Male\",IF('Simplified Loader'!AV16=\"F\",\"Female\",\"\"))))","v":""},{"$f":"IF('Simplified Loader'!AW16=\"Yes\",\"Yes\",IF('Simplified Loader'!AW16=\"No\",\"No\",IF('Simplified Loader'!AW16=\"Y\",\"Yes\",IF('Simplified Loader'!AW16=\"N\",\"No\",\"\"))))","v":""},{"$f":"IF('Simplified Loader'!AX16=\"Yes\",\"Yes\",IF('Simplified Loader'!AX16=\"No\",\"No\",IF('Simplified Loader'!AX16=\"Y\",\"Yes\",IF('Simplified Loader'!AX16=\"N\",\"No\",\"\"))))","v":""},{"$f":"IF('Simplified Loader'!AY16>0,'Simplified Loader'!AY16,\"\")","v":""},{"$f":"IF('Simplified Loader'!AZ16>0,'Simplified Loader'!AZ16,\"\")","v":""},{"$f":"IF('Simplified Loader'!BA16>0,'Simplified Loader'!BA16,\"\")","v":""},{"$f":"IF('Simplified Loader'!BB16=\"Male\",\"Male\",IF('Simplified Loader'!BB16=\"Female\",\"Female\",IF('Simplified Loader'!BB16=\"M\",\"Male\",IF('Simplified Loader'!BB16=\"F\",\"Female\",\"\"))))","v":""},{"$f":"IF('Simplified Loader'!BC16=\"Yes\",\"Yes\",IF('Simplified Loader'!BC16=\"No\",\"No\",IF('Simplified Loader'!BC16=\"Y\",\"Yes\",IF('Simplified Loader'!BC16=\"N\",\"No\",\"\"))))","v":""},{"$f":"IF('Simplified Loader'!BD16=\"Yes\",\"Yes\",IF('Simplified Loader'!BD16=\"No\",\"No\",IF('Simplified Loader'!BD16=\"Y\",\"Yes\",IF('Simplified Loader'!BD16=\"N\",\"No\",\"\"))))","v":""},{"$f":"IF('Simplified Loader'!BE16>0,'Simplified Loader'!BE16,\"\")","v":""},{"$f":"IF('Simplified Loader'!BF16>0,'Simplified Loader'!BF16,\"\")","v":""},{"$f":"IF('Simplified Loader'!BG16>0,'Simplified Loader'!BG16,\"\")","v":""},{"$f":"IF('Simplified Loader'!BH16=\"Male\",\"Male\",IF('Simplified Loader'!BH16=\"Female\",\"Female\",IF('Simplified Loader'!BH16=\"M\",\"Male\",IF('Simplified Loader'!BH16=\"F\",\"Female\",\"\"))))","v":""},{"$f":"IF('Simplified Loader'!BI16=\"Yes\",\"Yes\",IF('Simplified Loader'!BI16=\"No\",\"No\",IF('Simplified Loader'!BI16=\"Y\",\"Yes\",IF('Simplified Loader'!BI16=\"N\",\"No\",\"\"))))","v":""},{"$f":"IF('Simplified Loader'!BJ16=\"Yes\",\"Yes\",IF('Simplified Loader'!BJ16=\"No\",\"No\",IF('Simplified Loader'!BJ16=\"Y\",\"Yes\",IF('Simplified Loader'!BJ16=\"N\",\"No\",\"\"))))","v":""},{"$f":"IF('Simplified Loader'!BK16>0,'Simplified Loader'!BK16,\"\")","v":""},{"$f":"IF('Simplified Loader'!BL16>0,'Simplified Loader'!BL16,\"\")","v":""},{"$f":"IF('Simplified Loader'!BM16>0,'Simplified Loader'!BM16,\"\")","v":""},{"$f":"IF('Simplified Loader'!BN16=\"Male\",\"Male\",IF('Simplified Loader'!BN16=\"Female\",\"Female\",IF('Simplified Loader'!BN16=\"M\",\"Male\",IF('Simplified Loader'!BN16=\"F\",\"Female\",\"\"))))","v":""},{"$f":"IF('Simplified Loader'!BO16=\"Yes\",\"Yes\",IF('Simplified Loader'!BO16=\"No\",\"No\",IF('Simplified Loader'!BO16=\"Y\",\"Yes\",IF('Simplified Loader'!BO16=\"N\",\"No\",\"\"))))","v":""},{"$f":"IF('Simplified Loader'!BP16=\"Yes\",\"Yes\",IF('Simplified Loader'!BP16=\"No\",\"No\",IF('Simplified Loader'!BP16=\"Y\",\"Yes\",IF('Simplified Loader'!BP16=\"N\",\"No\",\"\"))))","v":""},{"$f":"IF('Simplified Loader'!BQ16>0,'Simplified Loader'!BQ16,\"\")","v":""},{"$f":"IF('Simplified Loader'!BR16>0,'Simplified Loader'!BR16,\"\")","v":""},{"$f":"IF('Simplified Loader'!BS16>0,'Simplified Loader'!BS16,\"\")","v":""},{"$f":"IF('Simplified Loader'!BT16=\"Male\",\"Male\",IF('Simplified Loader'!BT16=\"Female\",\"Female\",IF('Simplified Loader'!BT16=\"M\",\"Male\",IF('Simplified Loader'!BT16=\"F\",\"Female\",\"\"))))","v":""},{"$f":"IF('Simplified Loader'!BU16=\"Yes\",\"Yes\",IF('Simplified Loader'!BU16=\"No\",\"No\",IF('Simplified Loader'!BU16=\"Y\",\"Yes\",IF('Simplified Loader'!BU16=\"N\",\"No\",\"\"))))","v":""},{"$f":"IF('Simplified Loader'!BV16=\"Yes\",\"Yes\",IF('Simplified Loader'!BV16=\"No\",\"No\",IF('Simplified Loader'!BV16=\"Y\",\"Yes\",IF('Simplified Loader'!BV16=\"N\",\"No\",\"\"))))","v":""},{"$f":"IF('Simplified Loader'!BW16>0,'Simplified Loader'!BW16,\"\")","v":""},{"$f":"IF('Simplified Loader'!BX16>0,'Simplified Loader'!BX16,\"\")","v":""},{"$f":"IF('Simplified Loader'!BY16>0,'Simplified Loader'!BY16,\"\")","v":""},{"$f":"IF('Simplified Loader'!BZ16=\"Male\",\"Male\",IF('Simplified Loader'!BZ16=\"Female\",\"Female\",IF('Simplified Loader'!BZ16=\"M\",\"Male\",IF('Simplified Loader'!BZ16=\"F\",\"Female\",\"\"))))","v":""},{"$f":"IF('Simplified Loader'!CA16=\"Yes\",\"Yes\",IF('Simplified Loader'!CA16=\"No\",\"No\",IF('Simplified Loader'!CA16=\"Y\",\"Yes\",IF('Simplified Loader'!CA16=\"N\",\"No\",\"\"))))","v":""},{"$f":"IF('Simplified Loader'!CB16=\"Yes\",\"Yes\",IF('Simplified Loader'!CB16=\"No\",\"No\",IF('Simplified Loader'!CB16=\"Y\",\"Yes\",IF('Simplified Loader'!CB16=\"N\",\"No\",\"\"))))","v":""},{"$f":"IF('Simplified Loader'!CH16>0,'Simplified Loader'!CH16,\"\")","v":"    "}]
[{"$f":"IF('Simplified Loader'!A17>0,'Simplified Loader'!A17,\"\")","v":""},{"$f":"IF('Simplified Loader'!B17>0,'Simplified Loader'!B17,\"\")","v":""},{"$f":"IF('Simplified Loader'!C17>0,'Simplified Loader'!C17,\"\")","v":""},{"$f":"IF('Simplified Loader'!D17>0,'Simplified Loader'!D17,\"\")","v":""},{"$f":"IF('Simplified Loader'!E17>0,TEXT('Simplified Loader'!E17,\"000\"),\"\")","v":""},{"$f":"IF('Simplified Loader'!F17>0,'Simplified Loader'!F17,\"\")","v":""},{"$f":"IF('Simplified Loader'!G17>0,'Simplified Loader'!G17,\"\")","v":""},{"$f":"IF('Simplified Loader'!I17>0,'Simplified Loader'!I17,\"\")","v":""},{"$f":"IF('Simplified Loader'!J17>0,'Simplified Loader'!J17,\"\")","v":""},{"$f":"IF('Simplified Loader'!K17>0,'Simplified Loader'!K17,\"\")","v":""},{"$f":"IF('Simplified Loader'!L17>0,'Simplified Loader'!L17,\"\")","v":""},{"$f":"IF('Simplified Loader'!M17=\"Male\",\"Male\",IF('Simplified Loader'!M17=\"Female\",\"Female\",IF('Simplified Loader'!M17=\"M\",\"Male\",IF('Simplified Loader'!M17=\"F\",\"Female\",\"\"))))","v":""},{"$f":"IF('Simplified Loader'!N17=\"Yes\",\"Yes\",IF('Simplified Loader'!N17=\"No\",\"No\",IF('Simplified Loader'!N17=\"Y\",\"Yes\",IF('Simplified Loader'!N17=\"N\",\"No\",\"\"))))","v":""},{"$f":"IF('Simplified Loader'!O17=\"No\",\"Single\",IF('Simplified Loader'!O17=\"Yes\",\"Family\",IF('Simplified Loader'!O17=\"N\",\"Single\",IF('Simplified Loader'!O17=\"Y\",\"Family\",IF('Simplified Loader'!O17=\"In-force\",\"Family\",IF('Simplified Loader'!O17=\"In force\",\"Family\",IF('Simplified Loader'!O17=\"Applies\",\"Family\",IF('Simplified Loader'!O17=\"Applicable\",\"Family\",\"\"))))))))","v":""},{"$f":"IF('Simplified Loader'!P17=\"English\",\"English\",IF('Simplified Loader'!P17=\"French\",\"French\",IF('Simplified Loader'!P17=\"E\",\"English\",IF('Simplified Loader'!P17=\"F\",\"French\",\"\"))))","v":""},{"$f":"IF('Simplified Loader'!Q17=\"Yes\",\"Yes\",IF('Simplified Loader'!Q17=\"No\",\"No\",IF('Simplified Loader'!Q17=\"Y\",\"Yes\",IF('Simplified Loader'!Q17=\"N\",\"No\",\"\"))))","v":""},{"$f":"IF('Simplified Loader'!R17>0,'Simplified Loader'!R17,\"\")","v":""},{"$f":"IF('Simplified Loader'!S17>0,'Simplified Loader'!S17,\"\")","v":""},{"$f":"IF('Simplified Loader'!T17>0,'Simplified Loader'!T17,\"\")","v":""},{"$f":"IF('Simplified Loader'!U17>0,'Simplified Loader'!U17,\"\")","v":""},{"$f":"IF('Simplified Loader'!V17=\"Waive\",\"Yes\",\"\")","v":""},{"$f":"IF('Simplified Loader'!W17=\"Waive\",\"Yes\",\"\")","v":""},{"$f":"IF('Simplified Loader'!X17>0,'Simplified Loader'!X17,\"\")","v":""},{"$f":"IF('Simplified Loader'!Y17>0,'Simplified Loader'!Y17,\"\")","v":""},{"$f":"IF('Simplified Loader'!Z17>0,'Simplified Loader'!Z17,\"\")","v":""},{"$f":"IF('Simplified Loader'!AA17>0,'Simplified Loader'!AA17,\"\")","v":""},{"$f":"IF('Simplified Loader'!AB17>0,'Simplified Loader'!AB17,\"\")","v":""},{"$f":"IF('Simplified Loader'!AC17>0,'Simplified Loader'!AC17,\"\")","v":" "},{"$f":"IF('Simplified Loader'!AE17>0,'Simplified Loader'!AE17&\" \",\"\")&IF('Simplified Loader'!AD17>0,'Simplified Loader'!AD17,\"\")","v":""},null,{"$f":"IF('Simplified Loader'!AF17>0,'Simplified Loader'!AF17,\"\")","v":""},{"$f":"IF('Simplified Loader'!AG17>0,'Simplified Loader'!AG17,\"\")","v":""},{"$f":"IF('Simplified Loader'!AH17>0,'Simplified Loader'!AH17,\"\")","v":""},{"$f":"IF('Simplified Loader'!AI17>0,'Simplified Loader'!AI17,\"\")","v":""},{"$f":"IF('Simplified Loader'!AJ17>0,'Simplified Loader'!AJ17,\"\")","v":""},{"$f":"IF('Simplified Loader'!AK17>0,'Simplified Loader'!AK17,\"\")","v":""},{"$f":"IF('Simplified Loader'!AL17>0,'Simplified Loader'!AL17,\"\")","v":""},{"$f":"IF('Simplified Loader'!AM17>0,'Simplified Loader'!AM17,\"\")","v":""},{"$f":"IF('Simplified Loader'!AN17=\"Male\",\"Male\",IF('Simplified Loader'!AN17=\"Female\",\"Female\",IF('Simplified Loader'!AN17=\"M\",\"Male\",IF('Simplified Loader'!AN17=\"F\",\"Female\",\"\"))))","v":""},{"$f":"IF('Simplified Loader'!AO17=\"Single\",\"Single\",IF('Simplified Loader'!AO17=\"Family\",\"Family\",IF('Simplified Loader'!AO17=\"S\",\"Single\",IF('Simplified Loader'!AO17=\"F\",\"Family\",\"\"))))","v":""},{"$f":"IF('Simplified Loader'!AP17=\"Single\",\"Single\",IF('Simplified Loader'!AP17=\"Family\",\"Family\",IF('Simplified Loader'!AP17=\"S\",\"Single\",IF('Simplified Loader'!AP17=\"F\",\"Family\",\"\"))))","v":""},{"$f":"IF('Simplified Loader'!AQ17>0,'Simplified Loader'!AQ17,\"\")","v":""},{"$f":"IF('Simplified Loader'!AR17=\"Yes\",\"Yes\",IF('Simplified Loader'!AR17=\"No\",\"No\",IF('Simplified Loader'!AR17=\"Y\",\"Yes\",IF('Simplified Loader'!AR17=\"N\",\"No\",\"\"))))","v":""},{"$f":"IF('Simplified Loader'!AS17>0,'Simplified Loader'!AS17,\"\")","v":""},{"$f":"IF('Simplified Loader'!AT17>0,'Simplified Loader'!AT17,\"\")","v":""},{"$f":"IF('Simplified Loader'!AU17>0,'Simplified Loader'!AU17,\"\")","v":""},{"$f":"IF('Simplified Loader'!AV17=\"Male\",\"Male\",IF('Simplified Loader'!AV17=\"Female\",\"Female\",IF('Simplified Loader'!AV17=\"M\",\"Male\",IF('Simplified Loader'!AV17=\"F\",\"Female\",\"\"))))","v":""},{"$f":"IF('Simplified Loader'!AW17=\"Yes\",\"Yes\",IF('Simplified Loader'!AW17=\"No\",\"No\",IF('Simplified Loader'!AW17=\"Y\",\"Yes\",IF('Simplified Loader'!AW17=\"N\",\"No\",\"\"))))","v":""},{"$f":"IF('Simplified Loader'!AX17=\"Yes\",\"Yes\",IF('Simplified Loader'!AX17=\"No\",\"No\",IF('Simplified Loader'!AX17=\"Y\",\"Yes\",IF('Simplified Loader'!AX17=\"N\",\"No\",\"\"))))","v":""},{"$f":"IF('Simplified Loader'!AY17>0,'Simplified Loader'!AY17,\"\")","v":""},{"$f":"IF('Simplified Loader'!AZ17>0,'Simplified Loader'!AZ17,\"\")","v":""},{"$f":"IF('Simplified Loader'!BA17>0,'Simplified Loader'!BA17,\"\")","v":""},{"$f":"IF('Simplified Loader'!BB17=\"Male\",\"Male\",IF('Simplified Loader'!BB17=\"Female\",\"Female\",IF('Simplified Loader'!BB17=\"M\",\"Male\",IF('Simplified Loader'!BB17=\"F\",\"Female\",\"\"))))","v":""},{"$f":"IF('Simplified Loader'!BC17=\"Yes\",\"Yes\",IF('Simplified Loader'!BC17=\"No\",\"No\",IF('Simplified Loader'!BC17=\"Y\",\"Yes\",IF('Simplified Loader'!BC17=\"N\",\"No\",\"\"))))","v":""},{"$f":"IF('Simplified Loader'!BD17=\"Yes\",\"Yes\",IF('Simplified Loader'!BD17=\"No\",\"No\",IF('Simplified Loader'!BD17=\"Y\",\"Yes\",IF('Simplified Loader'!BD17=\"N\",\"No\",\"\"))))","v":""},{"$f":"IF('Simplified Loader'!BE17>0,'Simplified Loader'!BE17,\"\")","v":""},{"$f":"IF('Simplified Loader'!BF17>0,'Simplified Loader'!BF17,\"\")","v":""},{"$f":"IF('Simplified Loader'!BG17>0,'Simplified Loader'!BG17,\"\")","v":""},{"$f":"IF('Simplified Loader'!BH17=\"Male\",\"Male\",IF('Simplified Loader'!BH17=\"Female\",\"Female\",IF('Simplified Loader'!BH17=\"M\",\"Male\",IF('Simplified Loader'!BH17=\"F\",\"Female\",\"\"))))","v":""},{"$f":"IF('Simplified Loader'!BI17=\"Yes\",\"Yes\",IF('Simplified Loader'!BI17=\"No\",\"No\",IF('Simplified Loader'!BI17=\"Y\",\"Yes\",IF('Simplified Loader'!BI17=\"N\",\"No\",\"\"))))","v":""},{"$f":"IF('Simplified Loader'!BJ17=\"Yes\",\"Yes\",IF('Simplified Loader'!BJ17=\"No\",\"No\",IF('Simplified Loader'!BJ17=\"Y\",\"Yes\",IF('Simplified Loader'!BJ17=\"N\",\"No\",\"\"))))","v":""},{"$f":"IF('Simplified Loader'!BK17>0,'Simplified Loader'!BK17,\"\")","v":""},{"$f":"IF('Simplified Loader'!BL17>0,'Simplified Loader'!BL17,\"\")","v":""},{"$f":"IF('Simplified Loader'!BM17>0,'Simplified Loader'!BM17,\"\")","v":""},{"$f":"IF('Simplified Loader'!BN17=\"Male\",\"Male\",IF('Simplified Loader'!BN17=\"Female\",\"Female\",IF('Simplified Loader'!BN17=\"M\",\"Male\",IF('Simplified Loader'!BN17=\"F\",\"Female\",\"\"))))","v":""},{"$f":"IF('Simplified Loader'!BO17=\"Yes\",\"Yes\",IF('Simplified Loader'!BO17=\"No\",\"No\",IF('Simplified Loader'!BO17=\"Y\",\"Yes\",IF('Simplified Loader'!BO17=\"N\",\"No\",\"\"))))","v":""},{"$f":"IF('Simplified Loader'!BP17=\"Yes\",\"Yes\",IF('Simplified Loader'!BP17=\"No\",\"No\",IF('Simplified Loader'!BP17=\"Y\",\"Yes\",IF('Simplified Loader'!BP17=\"N\",\"No\",\"\"))))","v":""},{"$f":"IF('Simplified Loader'!BQ17>0,'Simplified Loader'!BQ17,\"\")","v":""},{"$f":"IF('Simplified Loader'!BR17>0,'Simplified Loader'!BR17,\"\")","v":""},{"$f":"IF('Simplified Loader'!BS17>0,'Simplified Loader'!BS17,\"\")","v":""},{"$f":"IF('Simplified Loader'!BT17=\"Male\",\"Male\",IF('Simplified Loader'!BT17=\"Female\",\"Female\",IF('Simplified Loader'!BT17=\"M\",\"Male\",IF('Simplified Loader'!BT17=\"F\",\"Female\",\"\"))))","v":""},{"$f":"IF('Simplified Loader'!BU17=\"Yes\",\"Yes\",IF('Simplified Loader'!BU17=\"No\",\"No\",IF('Simplified Loader'!BU17=\"Y\",\"Yes\",IF('Simplified Loader'!BU17=\"N\",\"No\",\"\"))))","v":""},{"$f":"IF('Simplified Loader'!BV17=\"Yes\",\"Yes\",IF('Simplified Loader'!BV17=\"No\",\"No\",IF('Simplified Loader'!BV17=\"Y\",\"Yes\",IF('Simplified Loader'!BV17=\"N\",\"No\",\"\"))))","v":""},{"$f":"IF('Simplified Loader'!BW17>0,'Simplified Loader'!BW17,\"\")","v":""},{"$f":"IF('Simplified Loader'!BX17>0,'Simplified Loader'!BX17,\"\")","v":""},{"$f":"IF('Simplified Loader'!BY17>0,'Simplified Loader'!BY17,\"\")","v":""},{"$f":"IF('Simplified Loader'!BZ17=\"Male\",\"Male\",IF('Simplified Loader'!BZ17=\"Female\",\"Female\",IF('Simplified Loader'!BZ17=\"M\",\"Male\",IF('Simplified Loader'!BZ17=\"F\",\"Female\",\"\"))))","v":""},{"$f":"IF('Simplified Loader'!CA17=\"Yes\",\"Yes\",IF('Simplified Loader'!CA17=\"No\",\"No\",IF('Simplified Loader'!CA17=\"Y\",\"Yes\",IF('Simplified Loader'!CA17=\"N\",\"No\",\"\"))))","v":""},{"$f":"IF('Simplified Loader'!CB17=\"Yes\",\"Yes\",IF('Simplified Loader'!CB17=\"No\",\"No\",IF('Simplified Loader'!CB17=\"Y\",\"Yes\",IF('Simplified Loader'!CB17=\"N\",\"No\",\"\"))))","v":""},{"$f":"IF('Simplified Loader'!CH17>0,'Simplified Loader'!CH17,\"\")","v":"    "}]
[{"$f":"IF('Simplified Loader'!A18>0,'Simplified Loader'!A18,\"\")","v":""},{"$f":"IF('Simplified Loader'!B18>0,'Simplified Loader'!B18,\"\")","v":""},{"$f":"IF('Simplified Loader'!C18>0,'Simplified Loader'!C18,\"\")","v":""},{"$f":"IF('Simplified Loader'!D18>0,'Simplified Loader'!D18,\"\")","v":""},{"$f":"IF('Simplified Loader'!E18>0,TEXT('Simplified Loader'!E18,\"000\"),\"\")","v":""},{"$f":"IF('Simplified Loader'!F18>0,'Simplified Loader'!F18,\"\")","v":""},{"$f":"IF('Simplified Loader'!G18>0,'Simplified Loader'!G18,\"\")","v":""},{"$f":"IF('Simplified Loader'!I18>0,'Simplified Loader'!I18,\"\")","v":""},{"$f":"IF('Simplified Loader'!J18>0,'Simplified Loader'!J18,\"\")","v":""},{"$f":"IF('Simplified Loader'!K18>0,'Simplified Loader'!K18,\"\")","v":""},{"$f":"IF('Simplified Loader'!L18>0,'Simplified Loader'!L18,\"\")","v":""},{"$f":"IF('Simplified Loader'!M18=\"Male\",\"Male\",IF('Simplified Loader'!M18=\"Female\",\"Female\",IF('Simplified Loader'!M18=\"M\",\"Male\",IF('Simplified Loader'!M18=\"F\",\"Female\",\"\"))))","v":""},{"$f":"IF('Simplified Loader'!N18=\"Yes\",\"Yes\",IF('Simplified Loader'!N18=\"No\",\"No\",IF('Simplified Loader'!N18=\"Y\",\"Yes\",IF('Simplified Loader'!N18=\"N\",\"No\",\"\"))))","v":""},{"$f":"IF('Simplified Loader'!O18=\"No\",\"Single\",IF('Simplified Loader'!O18=\"Yes\",\"Family\",IF('Simplified Loader'!O18=\"N\",\"Single\",IF('Simplified Loader'!O18=\"Y\",\"Family\",IF('Simplified Loader'!O18=\"In-force\",\"Family\",IF('Simplified Loader'!O18=\"In force\",\"Family\",IF('Simplified Loader'!O18=\"Applies\",\"Family\",IF('Simplified Loader'!O18=\"Applicable\",\"Family\",\"\"))))))))","v":""},{"$f":"IF('Simplified Loader'!P18=\"English\",\"English\",IF('Simplified Loader'!P18=\"French\",\"French\",IF('Simplified Loader'!P18=\"E\",\"English\",IF('Simplified Loader'!P18=\"F\",\"French\",\"\"))))","v":""},{"$f":"IF('Simplified Loader'!Q18=\"Yes\",\"Yes\",IF('Simplified Loader'!Q18=\"No\",\"No\",IF('Simplified Loader'!Q18=\"Y\",\"Yes\",IF('Simplified Loader'!Q18=\"N\",\"No\",\"\"))))","v":""},{"$f":"IF('Simplified Loader'!R18>0,'Simplified Loader'!R18,\"\")","v":""},{"$f":"IF('Simplified Loader'!S18>0,'Simplified Loader'!S18,\"\")","v":""},{"$f":"IF('Simplified Loader'!T18>0,'Simplified Loader'!T18,\"\")","v":""},{"$f":"IF('Simplified Loader'!U18>0,'Simplified Loader'!U18,\"\")","v":""},{"$f":"IF('Simplified Loader'!V18=\"Waive\",\"Yes\",\"\")","v":""},{"$f":"IF('Simplified Loader'!W18=\"Waive\",\"Yes\",\"\")","v":""},{"$f":"IF('Simplified Loader'!X18>0,'Simplified Loader'!X18,\"\")","v":""},{"$f":"IF('Simplified Loader'!Y18>0,'Simplified Loader'!Y18,\"\")","v":""},{"$f":"IF('Simplified Loader'!Z18>0,'Simplified Loader'!Z18,\"\")","v":""},{"$f":"IF('Simplified Loader'!AA18>0,'Simplified Loader'!AA18,\"\")","v":""},{"$f":"IF('Simplified Loader'!AB18>0,'Simplified Loader'!AB18,\"\")","v":""},{"$f":"IF('Simplified Loader'!AC18>0,'Simplified Loader'!AC18,\"\")","v":" "},{"$f":"IF('Simplified Loader'!AE18>0,'Simplified Loader'!AE18&\" \",\"\")&IF('Simplified Loader'!AD18>0,'Simplified Loader'!AD18,\"\")","v":""},null,{"$f":"IF('Simplified Loader'!AF18>0,'Simplified Loader'!AF18,\"\")","v":""},{"$f":"IF('Simplified Loader'!AG18>0,'Simplified Loader'!AG18,\"\")","v":""},{"$f":"IF('Simplified Loader'!AH18>0,'Simplified Loader'!AH18,\"\")","v":""},{"$f":"IF('Simplified Loader'!AI18>0,'Simplified Loader'!AI18,\"\")","v":""},{"$f":"IF('Simplified Loader'!AJ18>0,'Simplified Loader'!AJ18,\"\")","v":""},{"$f":"IF('Simplified Loader'!AK18>0,'Simplified Loader'!AK18,\"\")","v":""},{"$f":"IF('Simplified Loader'!AL18>0,'Simplified Loader'!AL18,\"\")","v":""},{"$f":"IF('Simplified Loader'!AM18>0,'Simplified Loader'!AM18,\"\")","v":""},{"$f":"IF('Simplified Loader'!AN18=\"Male\",\"Male\",IF('Simplified Loader'!AN18=\"Female\",\"Female\",IF('Simplified Loader'!AN18=\"M\",\"Male\",IF('Simplified Loader'!AN18=\"F\",\"Female\",\"\"))))","v":""},{"$f":"IF('Simplified Loader'!AO18=\"Single\",\"Single\",IF('Simplified Loader'!AO18=\"Family\",\"Family\",IF('Simplified Loader'!AO18=\"S\",\"Single\",IF('Simplified Loader'!AO18=\"F\",\"Family\",\"\"))))","v":""},{"$f":"IF('Simplified Loader'!AP18=\"Single\",\"Single\",IF('Simplified Loader'!AP18=\"Family\",\"Family\",IF('Simplified Loader'!AP18=\"S\",\"Single\",IF('Simplified Loader'!AP18=\"F\",\"Family\",\"\"))))","v":""},{"$f":"IF('Simplified Loader'!AQ18>0,'Simplified Loader'!AQ18,\"\")","v":""},{"$f":"IF('Simplified Loader'!AR18=\"Yes\",\"Yes\",IF('Simplified Loader'!AR18=\"No\",\"No\",IF('Simplified Loader'!AR18=\"Y\",\"Yes\",IF('Simplified Loader'!AR18=\"N\",\"No\",\"\"))))","v":""},{"$f":"IF('Simplified Loader'!AS18>0,'Simplified Loader'!AS18,\"\")","v":""},{"$f":"IF('Simplified Loader'!AT18>0,'Simplified Loader'!AT18,\"\")","v":""},{"$f":"IF('Simplified Loader'!AU18>0,'Simplified Loader'!AU18,\"\")","v":""},{"$f":"IF('Simplified Loader'!AV18=\"Male\",\"Male\",IF('Simplified Loader'!AV18=\"Female\",\"Female\",IF('Simplified Loader'!AV18=\"M\",\"Male\",IF('Simplified Loader'!AV18=\"F\",\"Female\",\"\"))))","v":""},{"$f":"IF('Simplified Loader'!AW18=\"Yes\",\"Yes\",IF('Simplified Loader'!AW18=\"No\",\"No\",IF('Simplified Loader'!AW18=\"Y\",\"Yes\",IF('Simplified Loader'!AW18=\"N\",\"No\",\"\"))))","v":""},{"$f":"IF('Simplified Loader'!AX18=\"Yes\",\"Yes\",IF('Simplified Loader'!AX18=\"No\",\"No\",IF('Simplified Loader'!AX18=\"Y\",\"Yes\",IF('Simplified Loader'!AX18=\"N\",\"No\",\"\"))))","v":""},{"$f":"IF('Simplified Loader'!AY18>0,'Simplified Loader'!AY18,\"\")","v":""},{"$f":"IF('Simplified Loader'!AZ18>0,'Simplified Loader'!AZ18,\"\")","v":""},{"$f":"IF('Simplified Loader'!BA18>0,'Simplified Loader'!BA18,\"\")","v":""},{"$f":"IF('Simplified Loader'!BB18=\"Male\",\"Male\",IF('Simplified Loader'!BB18=\"Female\",\"Female\",IF('Simplified Loader'!BB18=\"M\",\"Male\",IF('Simplified Loader'!BB18=\"F\",\"Female\",\"\"))))","v":""},{"$f":"IF('Simplified Loader'!BC18=\"Yes\",\"Yes\",IF('Simplified Loader'!BC18=\"No\",\"No\",IF('Simplified Loader'!BC18=\"Y\",\"Yes\",IF('Simplified Loader'!BC18=\"N\",\"No\",\"\"))))","v":""},{"$f":"IF('Simplified Loader'!BD18=\"Yes\",\"Yes\",IF('Simplified Loader'!BD18=\"No\",\"No\",IF('Simplified Loader'!BD18=\"Y\",\"Yes\",IF('Simplified Loader'!BD18=\"N\",\"No\",\"\"))))","v":""},{"$f":"IF('Simplified Loader'!BE18>0,'Simplified Loader'!BE18,\"\")","v":""},{"$f":"IF('Simplified Loader'!BF18>0,'Simplified Loader'!BF18,\"\")","v":""},{"$f":"IF('Simplified Loader'!BG18>0,'Simplified Loader'!BG18,\"\")","v":""},{"$f":"IF('Simplified Loader'!BH18=\"Male\",\"Male\",IF('Simplified Loader'!BH18=\"Female\",\"Female\",IF('Simplified Loader'!BH18=\"M\",\"Male\",IF('Simplified Loader'!BH18=\"F\",\"Female\",\"\"))))","v":""},{"$f":"IF('Simplified Loader'!BI18=\"Yes\",\"Yes\",IF('Simplified Loader'!BI18=\"No\",\"No\",IF('Simplified Loader'!BI18=\"Y\",\"Yes\",IF('Simplified Loader'!BI18=\"N\",\"No\",\"\"))))","v":""},{"$f":"IF('Simplified Loader'!BJ18=\"Yes\",\"Yes\",IF('Simplified Loader'!BJ18=\"No\",\"No\",IF('Simplified Loader'!BJ18=\"Y\",\"Yes\",IF('Simplified Loader'!BJ18=\"N\",\"No\",\"\"))))","v":""},{"$f":"IF('Simplified Loader'!BK18>0,'Simplified Loader'!BK18,\"\")","v":""},{"$f":"IF('Simplified Loader'!BL18>0,'Simplified Loader'!BL18,\"\")","v":""},{"$f":"IF('Simplified Loader'!BM18>0,'Simplified Loader'!BM18,\"\")","v":""},{"$f":"IF('Simplified Loader'!BN18=\"Male\",\"Male\",IF('Simplified Loader'!BN18=\"Female\",\"Female\",IF('Simplified Loader'!BN18=\"M\",\"Male\",IF('Simplified Loader'!BN18=\"F\",\"Female\",\"\"))))","v":""},{"$f":"IF('Simplified Loader'!BO18=\"Yes\",\"Yes\",IF('Simplified Loader'!BO18=\"No\",\"No\",IF('Simplified Loader'!BO18=\"Y\",\"Yes\",IF('Simplified Loader'!BO18=\"N\",\"No\",\"\"))))","v":""},{"$f":"IF('Simplified Loader'!BP18=\"Yes\",\"Yes\",IF('Simplified Loader'!BP18=\"No\",\"No\",IF('Simplified Loader'!BP18=\"Y\",\"Yes\",IF('Simplified Loader'!BP18=\"N\",\"No\",\"\"))))","v":""},{"$f":"IF('Simplified Loader'!BQ18>0,'Simplified Loader'!BQ18,\"\")","v":""},{"$f":"IF('Simplified Loader'!BR18>0,'Simplified Loader'!BR18,\"\")","v":""},{"$f":"IF('Simplified Loader'!BS18>0,'Simplified Loader'!BS18,\"\")","v":""},{"$f":"IF('Simplified Loader'!BT18=\"Male\",\"Male\",IF('Simplified Loader'!BT18=\"Female\",\"Female\",IF('Simplified Loader'!BT18=\"M\",\"Male\",IF('Simplified Loader'!BT18=\"F\",\"Female\",\"\"))))","v":""},{"$f":"IF('Simplified Loader'!BU18=\"Yes\",\"Yes\",IF('Simplified Loader'!BU18=\"No\",\"No\",IF('Simplified Loader'!BU18=\"Y\",\"Yes\",IF('Simplified Loader'!BU18=\"N\",\"No\",\"\"))))","v":""},{"$f":"IF('Simplified Loader'!BV18=\"Yes\",\"Yes\",IF('Simplified Loader'!BV18=\"No\",\"No\",IF('Simplified Loader'!BV18=\"Y\",\"Yes\",IF('Simplified Loader'!BV18=\"N\",\"No\",\"\"))))","v":""},{"$f":"IF('Simplified Loader'!BW18>0,'Simplified Loader'!BW18,\"\")","v":""},{"$f":"IF('Simplified Loader'!BX18>0,'Simplified Loader'!BX18,\"\")","v":""},{"$f":"IF('Simplified Loader'!BY18>0,'Simplified Loader'!BY18,\"\")","v":""},{"$f":"IF('Simplified Loader'!BZ18=\"Male\",\"Male\",IF('Simplified Loader'!BZ18=\"Female\",\"Female\",IF('Simplified Loader'!BZ18=\"M\",\"Male\",IF('Simplified Loader'!BZ18=\"F\",\"Female\",\"\"))))","v":""},{"$f":"IF('Simplified Loader'!CA18=\"Yes\",\"Yes\",IF('Simplified Loader'!CA18=\"No\",\"No\",IF('Simplified Loader'!CA18=\"Y\",\"Yes\",IF('Simplified Loader'!CA18=\"N\",\"No\",\"\"))))","v":""},{"$f":"IF('Simplified Loader'!CB18=\"Yes\",\"Yes\",IF('Simplified Loader'!CB18=\"No\",\"No\",IF('Simplified Loader'!CB18=\"Y\",\"Yes\",IF('Simplified Loader'!CB18=\"N\",\"No\",\"\"))))","v":""},{"$f":"IF('Simplified Loader'!CH18>0,'Simplified Loader'!CH18,\"\")","v":"    "}]
[{"$f":"IF('Simplified Loader'!A19>0,'Simplified Loader'!A19,\"\")","v":""},{"$f":"IF('Simplified Loader'!B19>0,'Simplified Loader'!B19,\"\")","v":""},{"$f":"IF('Simplified Loader'!C19>0,'Simplified Loader'!C19,\"\")","v":""},{"$f":"IF('Simplified Loader'!D19>0,'Simplified Loader'!D19,\"\")","v":""},{"$f":"IF('Simplified Loader'!E19>0,TEXT('Simplified Loader'!E19,\"000\"),\"\")","v":""},{"$f":"IF('Simplified Loader'!F19>0,'Simplified Loader'!F19,\"\")","v":""},{"$f":"IF('Simplified Loader'!G19>0,'Simplified Loader'!G19,\"\")","v":""},{"$f":"IF('Simplified Loader'!I19>0,'Simplified Loader'!I19,\"\")","v":""},{"$f":"IF('Simplified Loader'!J19>0,'Simplified Loader'!J19,\"\")","v":""},{"$f":"IF('Simplified Loader'!K19>0,'Simplified Loader'!K19,\"\")","v":""},{"$f":"IF('Simplified Loader'!L19>0,'Simplified Loader'!L19,\"\")","v":""},{"$f":"IF('Simplified Loader'!M19=\"Male\",\"Male\",IF('Simplified Loader'!M19=\"Female\",\"Female\",IF('Simplified Loader'!M19=\"M\",\"Male\",IF('Simplified Loader'!M19=\"F\",\"Female\",\"\"))))","v":""},{"$f":"IF('Simplified Loader'!N19=\"Yes\",\"Yes\",IF('Simplified Loader'!N19=\"No\",\"No\",IF('Simplified Loader'!N19=\"Y\",\"Yes\",IF('Simplified Loader'!N19=\"N\",\"No\",\"\"))))","v":""},{"$f":"IF('Simplified Loader'!O19=\"No\",\"Single\",IF('Simplified Loader'!O19=\"Yes\",\"Family\",IF('Simplified Loader'!O19=\"N\",\"Single\",IF('Simplified Loader'!O19=\"Y\",\"Family\",IF('Simplified Loader'!O19=\"In-force\",\"Family\",IF('Simplified Loader'!O19=\"In force\",\"Family\",IF('Simplified Loader'!O19=\"Applies\",\"Family\",IF('Simplified Loader'!O19=\"Applicable\",\"Family\",\"\"))))))))","v":""},{"$f":"IF('Simplified Loader'!P19=\"English\",\"English\",IF('Simplified Loader'!P19=\"French\",\"French\",IF('Simplified Loader'!P19=\"E\",\"English\",IF('Simplified Loader'!P19=\"F\",\"French\",\"\"))))","v":""},{"$f":"IF('Simplified Loader'!Q19=\"Yes\",\"Yes\",IF('Simplified Loader'!Q19=\"No\",\"No\",IF('Simplified Loader'!Q19=\"Y\",\"Yes\",IF('Simplified Loader'!Q19=\"N\",\"No\",\"\"))))","v":""},{"$f":"IF('Simplified Loader'!R19>0,'Simplified Loader'!R19,\"\")","v":""},{"$f":"IF('Simplified Loader'!S19>0,'Simplified Loader'!S19,\"\")","v":""},{"$f":"IF('Simplified Loader'!T19>0,'Simplified Loader'!T19,\"\")","v":""},{"$f":"IF('Simplified Loader'!U19>0,'Simplified Loader'!U19,\"\")","v":""},{"$f":"IF('Simplified Loader'!V19=\"Waive\",\"Yes\",\"\")","v":""},{"$f":"IF('Simplified Loader'!W19=\"Waive\",\"Yes\",\"\")","v":""},{"$f":"IF('Simplified Loader'!X19>0,'Simplified Loader'!X19,\"\")","v":""},{"$f":"IF('Simplified Loader'!Y19>0,'Simplified Loader'!Y19,\"\")","v":""},{"$f":"IF('Simplified Loader'!Z19>0,'Simplified Loader'!Z19,\"\")","v":""},{"$f":"IF('Simplified Loader'!AA19>0,'Simplified Loader'!AA19,\"\")","v":""},{"$f":"IF('Simplified Loader'!AB19>0,'Simplified Loader'!AB19,\"\")","v":""},{"$f":"IF('Simplified Loader'!AC19>0,'Simplified Loader'!AC19,\"\")","v":" "},{"$f":"IF('Simplified Loader'!AE19>0,'Simplified Loader'!AE19&\" \",\"\")&IF('Simplified Loader'!AD19>0,'Simplified Loader'!AD19,\"\")","v":""},null,{"$f":"IF('Simplified Loader'!AF19>0,'Simplified Loader'!AF19,\"\")","v":""},{"$f":"IF('Simplified Loader'!AG19>0,'Simplified Loader'!AG19,\"\")","v":""},{"$f":"IF('Simplified Loader'!AH19>0,'Simplified Loader'!AH19,\"\")","v":""},{"$f":"IF('Simplified Loader'!AI19>0,'Simplified Loader'!AI19,\"\")","v":""},{"$f":"IF('Simplified Loader'!AJ19>0,'Simplified Loader'!AJ19,\"\")","v":""},{"$f":"IF('Simplified Loader'!AK19>0,'Simplified Loader'!AK19,\"\")","v":""},{"$f":"IF('Simplified Loader'!AL19>0,'Simplified Loader'!AL19,\"\")","v":""},{"$f":"IF('Simplified Loader'!AM19>0,'Simplified Loader'!AM19,\"\")","v":""},{"$f":"IF('Simplified Loader'!AN19=\"Male\",\"Male\",IF('Simplified Loader'!AN19=\"Female\",\"Female\",IF('Simplified Loader'!AN19=\"M\",\"Male\",IF('Simplified Loader'!AN19=\"F\",\"Female\",\"\"))))","v":""},{"$f":"IF('Simplified Loader'!AO19=\"Single\",\"Single\",IF('Simplified Loader'!AO19=\"Family\",\"Family\",IF('Simplified Loader'!AO19=\"S\",\"Single\",IF('Simplified Loader'!AO19=\"F\",\"Family\",\"\"))))","v":""},{"$f":"IF('Simplified Loader'!AP19=\"Single\",\"Single\",IF('Simplified Loader'!AP19=\"Family\",\"Family\",IF('Simplified Loader'!AP19=\"S\",\"Single\",IF('Simplified Loader'!AP19=\"F\",\"Family\",\"\"))))","v":""},{"$f":"IF('Simplified Loader'!AQ19>0,'Simplified Loader'!AQ19,\"\")","v":""},{"$f":"IF('Simplified Loader'!AR19=\"Yes\",\"Yes\",IF('Simplified Loader'!AR19=\"No\",\"No\",IF('Simplified Loader'!AR19=\"Y\",\"Yes\",IF('Simplified Loader'!AR19=\"N\",\"No\",\"\"))))","v":""},{"$f":"IF('Simplified Loader'!AS19>0,'Simplified Loader'!AS19,\"\")","v":""},{"$f":"IF('Simplified Loader'!AT19>0,'Simplified Loader'!AT19,\"\")","v":""},{"$f":"IF('Simplified Loader'!AU19>0,'Simplified Loader'!AU19,\"\")","v":""},{"$f":"IF('Simplified Loader'!AV19=\"Male\",\"Male\",IF('Simplified Loader'!AV19=\"Female\",\"Female\",IF('Simplified Loader'!AV19=\"M\",\"Male\",IF('Simplified Loader'!AV19=\"F\",\"Female\",\"\"))))","v":""},{"$f":"IF('Simplified Loader'!AW19=\"Yes\",\"Yes\",IF('Simplified Loader'!AW19=\"No\",\"No\",IF('Simplified Loader'!AW19=\"Y\",\"Yes\",IF('Simplified Loader'!AW19=\"N\",\"No\",\"\"))))","v":""},{"$f":"IF('Simplified Loader'!AX19=\"Yes\",\"Yes\",IF('Simplified Loader'!AX19=\"No\",\"No\",IF('Simplified Loader'!AX19=\"Y\",\"Yes\",IF('Simplified Loader'!AX19=\"N\",\"No\",\"\"))))","v":""},{"$f":"IF('Simplified Loader'!AY19>0,'Simplified Loader'!AY19,\"\")","v":""},{"$f":"IF('Simplified Loader'!AZ19>0,'Simplified Loader'!AZ19,\"\")","v":""},{"$f":"IF('Simplified Loader'!BA19>0,'Simplified Loader'!BA19,\"\")","v":""},{"$f":"IF('Simplified Loader'!BB19=\"Male\",\"Male\",IF('Simplified Loader'!BB19=\"Female\",\"Female\",IF('Simplified Loader'!BB19=\"M\",\"Male\",IF('Simplified Loader'!BB19=\"F\",\"Female\",\"\"))))","v":""},{"$f":"IF('Simplified Loader'!BC19=\"Yes\",\"Yes\",IF('Simplified Loader'!BC19=\"No\",\"No\",IF('Simplified Loader'!BC19=\"Y\",\"Yes\",IF('Simplified Loader'!BC19=\"N\",\"No\",\"\"))))","v":""},{"$f":"IF('Simplified Loader'!BD19=\"Yes\",\"Yes\",IF('Simplified Loader'!BD19=\"No\",\"No\",IF('Simplified Loader'!BD19=\"Y\",\"Yes\",IF('Simplified Loader'!BD19=\"N\",\"No\",\"\"))))","v":""},{"$f":"IF('Simplified Loader'!BE19>0,'Simplified Loader'!BE19,\"\")","v":""},{"$f":"IF('Simplified Loader'!BF19>0,'Simplified Loader'!BF19,\"\")","v":""},{"$f":"IF('Simplified Loader'!BG19>0,'Simplified Loader'!BG19,\"\")","v":""},{"$f":"IF('Simplified Loader'!BH19=\"Male\",\"Male\",IF('Simplified Loader'!BH19=\"Female\",\"Female\",IF('Simplified Loader'!BH19=\"M\",\"Male\",IF('Simplified Loader'!BH19=\"F\",\"Female\",\"\"))))","v":""},{"$f":"IF('Simplified Loader'!BI19=\"Yes\",\"Yes\",IF('Simplified Loader'!BI19=\"No\",\"No\",IF('Simplified Loader'!BI19=\"Y\",\"Yes\",IF('Simplified Loader'!BI19=\"N\",\"No\",\"\"))))","v":""},{"$f":"IF('Simplified Loader'!BJ19=\"Yes\",\"Yes\",IF('Simplified Loader'!BJ19=\"No\",\"No\",IF('Simplified Loader'!BJ19=\"Y\",\"Yes\",IF('Simplified Loader'!BJ19=\"N\",\"No\",\"\"))))","v":""},{"$f":"IF('Simplified Loader'!BK19>0,'Simplified Loader'!BK19,\"\")","v":""},{"$f":"IF('Simplified Loader'!BL19>0,'Simplified Loader'!BL19,\"\")","v":""},{"$f":"IF('Simplified Loader'!BM19>0,'Simplified Loader'!BM19,\"\")","v":""},{"$f":"IF('Simplified Loader'!BN19=\"Male\",\"Male\",IF('Simplified Loader'!BN19=\"Female\",\"Female\",IF('Simplified Loader'!BN19=\"M\",\"Male\",IF('Simplified Loader'!BN19=\"F\",\"Female\",\"\"))))","v":""},{"$f":"IF('Simplified Loader'!BO19=\"Yes\",\"Yes\",IF('Simplified Loader'!BO19=\"No\",\"No\",IF('Simplified Loader'!BO19=\"Y\",\"Yes\",IF('Simplified Loader'!BO19=\"N\",\"No\",\"\"))))","v":""},{"$f":"IF('Simplified Loader'!BP19=\"Yes\",\"Yes\",IF('Simplified Loader'!BP19=\"No\",\"No\",IF('Simplified Loader'!BP19=\"Y\",\"Yes\",IF('Simplified Loader'!BP19=\"N\",\"No\",\"\"))))","v":""},{"$f":"IF('Simplified Loader'!BQ19>0,'Simplified Loader'!BQ19,\"\")","v":""},{"$f":"IF('Simplified Loader'!BR19>0,'Simplified Loader'!BR19,\"\")","v":""},{"$f":"IF('Simplified Loader'!BS19>0,'Simplified Loader'!BS19,\"\")","v":""},{"$f":"IF('Simplified Loader'!BT19=\"Male\",\"Male\",IF('Simplified Loader'!BT19=\"Female\",\"Female\",IF('Simplified Loader'!BT19=\"M\",\"Male\",IF('Simplified Loader'!BT19=\"F\",\"Female\",\"\"))))","v":""},{"$f":"IF('Simplified Loader'!BU19=\"Yes\",\"Yes\",IF('Simplified Loader'!BU19=\"No\",\"No\",IF('Simplified Loader'!BU19=\"Y\",\"Yes\",IF('Simplified Loader'!BU19=\"N\",\"No\",\"\"))))","v":""},{"$f":"IF('Simplified Loader'!BV19=\"Yes\",\"Yes\",IF('Simplified Loader'!BV19=\"No\",\"No\",IF('Simplified Loader'!BV19=\"Y\",\"Yes\",IF('Simplified Loader'!BV19=\"N\",\"No\",\"\"))))","v":""},{"$f":"IF('Simplified Loader'!BW19>0,'Simplified Loader'!BW19,\"\")","v":""},{"$f":"IF('Simplified Loader'!BX19>0,'Simplified Loader'!BX19,\"\")","v":""},{"$f":"IF('Simplified Loader'!BY19>0,'Simplified Loader'!BY19,\"\")","v":""},{"$f":"IF('Simplified Loader'!BZ19=\"Male\",\"Male\",IF('Simplified Loader'!BZ19=\"Female\",\"Female\",IF('Simplified Loader'!BZ19=\"M\",\"Male\",IF('Simplified Loader'!BZ19=\"F\",\"Female\",\"\"))))","v":""},{"$f":"IF('Simplified Loader'!CA19=\"Yes\",\"Yes\",IF('Simplified Loader'!CA19=\"No\",\"No\",IF('Simplified Loader'!CA19=\"Y\",\"Yes\",IF('Simplified Loader'!CA19=\"N\",\"No\",\"\"))))","v":""},{"$f":"IF('Simplified Loader'!CB19=\"Yes\",\"Yes\",IF('Simplified Loader'!CB19=\"No\",\"No\",IF('Simplified Loader'!CB19=\"Y\",\"Yes\",IF('Simplified Loader'!CB19=\"N\",\"No\",\"\"))))","v":""},{"$f":"IF('Simplified Loader'!CH19>0,'Simplified Loader'!CH19,\"\")","v":"    "}]
[{"$f":"IF('Simplified Loader'!A20>0,'Simplified Loader'!A20,\"\")","v":""},{"$f":"IF('Simplified Loader'!B20>0,'Simplified Loader'!B20,\"\")","v":""},{"$f":"IF('Simplified Loader'!C20>0,'Simplified Loader'!C20,\"\")","v":""},{"$f":"IF('Simplified Loader'!D20>0,'Simplified Loader'!D20,\"\")","v":""},{"$f":"IF('Simplified Loader'!E20>0,TEXT('Simplified Loader'!E20,\"000\"),\"\")","v":""},{"$f":"IF('Simplified Loader'!F20>0,'Simplified Loader'!F20,\"\")","v":""},{"$f":"IF('Simplified Loader'!G20>0,'Simplified Loader'!G20,\"\")","v":""},{"$f":"IF('Simplified Loader'!I20>0,'Simplified Loader'!I20,\"\")","v":""},{"$f":"IF('Simplified Loader'!J20>0,'Simplified Loader'!J20,\"\")","v":""},{"$f":"IF('Simplified Loader'!K20>0,'Simplified Loader'!K20,\"\")","v":""},{"$f":"IF('Simplified Loader'!L20>0,'Simplified Loader'!L20,\"\")","v":""},{"$f":"IF('Simplified Loader'!M20=\"Male\",\"Male\",IF('Simplified Loader'!M20=\"Female\",\"Female\",IF('Simplified Loader'!M20=\"M\",\"Male\",IF('Simplified Loader'!M20=\"F\",\"Female\",\"\"))))","v":""},{"$f":"IF('Simplified Loader'!N20=\"Yes\",\"Yes\",IF('Simplified Loader'!N20=\"No\",\"No\",IF('Simplified Loader'!N20=\"Y\",\"Yes\",IF('Simplified Loader'!N20=\"N\",\"No\",\"\"))))","v":""},{"$f":"IF('Simplified Loader'!O20=\"No\",\"Single\",IF('Simplified Loader'!O20=\"Yes\",\"Family\",IF('Simplified Loader'!O20=\"N\",\"Single\",IF('Simplified Loader'!O20=\"Y\",\"Family\",IF('Simplified Loader'!O20=\"In-force\",\"Family\",IF('Simplified Loader'!O20=\"In force\",\"Family\",IF('Simplified Loader'!O20=\"Applies\",\"Family\",IF('Simplified Loader'!O20=\"Applicable\",\"Family\",\"\"))))))))","v":""},{"$f":"IF('Simplified Loader'!P20=\"English\",\"English\",IF('Simplified Loader'!P20=\"French\",\"French\",IF('Simplified Loader'!P20=\"E\",\"English\",IF('Simplified Loader'!P20=\"F\",\"French\",\"\"))))","v":""},{"$f":"IF('Simplified Loader'!Q20=\"Yes\",\"Yes\",IF('Simplified Loader'!Q20=\"No\",\"No\",IF('Simplified Loader'!Q20=\"Y\",\"Yes\",IF('Simplified Loader'!Q20=\"N\",\"No\",\"\"))))","v":""},{"$f":"IF('Simplified Loader'!R20>0,'Simplified Loader'!R20,\"\")","v":""},{"$f":"IF('Simplified Loader'!S20>0,'Simplified Loader'!S20,\"\")","v":""},{"$f":"IF('Simplified Loader'!T20>0,'Simplified Loader'!T20,\"\")","v":""},{"$f":"IF('Simplified Loader'!U20>0,'Simplified Loader'!U20,\"\")","v":""},{"$f":"IF('Simplified Loader'!V20=\"Waive\",\"Yes\",\"\")","v":""},{"$f":"IF('Simplified Loader'!W20=\"Waive\",\"Yes\",\"\")","v":""},{"$f":"IF('Simplified Loader'!X20>0,'Simplified Loader'!X20,\"\")","v":""},{"$f":"IF('Simplified Loader'!Y20>0,'Simplified Loader'!Y20,\"\")","v":""},{"$f":"IF('Simplified Loader'!Z20>0,'Simplified Loader'!Z20,\"\")","v":""},{"$f":"IF('Simplified Loader'!AA20>0,'Simplified Loader'!AA20,\"\")","v":""},{"$f":"IF('Simplified Loader'!AB20>0,'Simplified Loader'!AB20,\"\")","v":""},{"$f":"IF('Simplified Loader'!AC20>0,'Simplified Loader'!AC20,\"\")","v":" "},{"$f":"IF('Simplified Loader'!AE20>0,'Simplified Loader'!AE20&\" \",\"\")&IF('Simplified Loader'!AD20>0,'Simplified Loader'!AD20,\"\")","v":""},null,{"$f":"IF('Simplified Loader'!AF20>0,'Simplified Loader'!AF20,\"\")","v":""},{"$f":"IF('Simplified Loader'!AG20>0,'Simplified Loader'!AG20,\"\")","v":""},{"$f":"IF('Simplified Loader'!AH20>0,'Simplified Loader'!AH20,\"\")","v":""},{"$f":"IF('Simplified Loader'!AI20>0,'Simplified Loader'!AI20,\"\")","v":""},{"$f":"IF('Simplified Loader'!AJ20>0,'Simplified Loader'!AJ20,\"\")","v":""},{"$f":"IF('Simplified Loader'!AK20>0,'Simplified Loader'!AK20,\"\")","v":""},{"$f":"IF('Simplified Loader'!AL20>0,'Simplified Loader'!AL20,\"\")","v":""},{"$f":"IF('Simplified Loader'!AM20>0,'Simplified Loader'!AM20,\"\")","v":""},{"$f":"IF('Simplified Loader'!AN20=\"Male\",\"Male\",IF('Simplified Loader'!AN20=\"Female\",\"Female\",IF('Simplified Loader'!AN20=\"M\",\"Male\",IF('Simplified Loader'!AN20=\"F\",\"Female\",\"\"))))","v":""},{"$f":"IF('Simplified Loader'!AO20=\"Single\",\"Single\",IF('Simplified Loader'!AO20=\"Family\",\"Family\",IF('Simplified Loader'!AO20=\"S\",\"Single\",IF('Simplified Loader'!AO20=\"F\",\"Family\",\"\"))))","v":""},{"$f":"IF('Simplified Loader'!AP20=\"Single\",\"Single\",IF('Simplified Loader'!AP20=\"Family\",\"Family\",IF('Simplified Loader'!AP20=\"S\",\"Single\",IF('Simplified Loader'!AP20=\"F\",\"Family\",\"\"))))","v":""},{"$f":"IF('Simplified Loader'!AQ20>0,'Simplified Loader'!AQ20,\"\")","v":""},{"$f":"IF('Simplified Loader'!AR20=\"Yes\",\"Yes\",IF('Simplified Loader'!AR20=\"No\",\"No\",IF('Simplified Loader'!AR20=\"Y\",\"Yes\",IF('Simplified Loader'!AR20=\"N\",\"No\",\"\"))))","v":""},{"$f":"IF('Simplified Loader'!AS20>0,'Simplified Loader'!AS20,\"\")","v":""},{"$f":"IF('Simplified Loader'!AT20>0,'Simplified Loader'!AT20,\"\")","v":""},{"$f":"IF('Simplified Loader'!AU20>0,'Simplified Loader'!AU20,\"\")","v":""},{"$f":"IF('Simplified Loader'!AV20=\"Male\",\"Male\",IF('Simplified Loader'!AV20=\"Female\",\"Female\",IF('Simplified Loader'!AV20=\"M\",\"Male\",IF('Simplified Loader'!AV20=\"F\",\"Female\",\"\"))))","v":""},{"$f":"IF('Simplified Loader'!AW20=\"Yes\",\"Yes\",IF('Simplified Loader'!AW20=\"No\",\"No\",IF('Simplified Loader'!AW20=\"Y\",\"Yes\",IF('Simplified Loader'!AW20=\"N\",\"No\",\"\"))))","v":""},{"$f":"IF('Simplified Loader'!AX20=\"Yes\",\"Yes\",IF('Simplified Loader'!AX20=\"No\",\"No\",IF('Simplified Loader'!AX20=\"Y\",\"Yes\",IF('Simplified Loader'!AX20=\"N\",\"No\",\"\"))))","v":""},{"$f":"IF('Simplified Loader'!AY20>0,'Simplified Loader'!AY20,\"\")","v":""},{"$f":"IF('Simplified Loader'!AZ20>0,'Simplified Loader'!AZ20,\"\")","v":""},{"$f":"IF('Simplified Loader'!BA20>0,'Simplified Loader'!BA20,\"\")","v":""},{"$f":"IF('Simplified Loader'!BB20=\"Male\",\"Male\",IF('Simplified Loader'!BB20=\"Female\",\"Female\",IF('Simplified Loader'!BB20=\"M\",\"Male\",IF('Simplified Loader'!BB20=\"F\",\"Female\",\"\"))))","v":""},{"$f":"IF('Simplified Loader'!BC20=\"Yes\",\"Yes\",IF('Simplified Loader'!BC20=\"No\",\"No\",IF('Simplified Loader'!BC20=\"Y\",\"Yes\",IF('Simplified Loader'!BC20=\"N\",\"No\",\"\"))))","v":""},{"$f":"IF('Simplified Loader'!BD20=\"Yes\",\"Yes\",IF('Simplified Loader'!BD20=\"No\",\"No\",IF('Simplified Loader'!BD20=\"Y\",\"Yes\",IF('Simplified Loader'!BD20=\"N\",\"No\",\"\"))))","v":""},{"$f":"IF('Simplified Loader'!BE20>0,'Simplified Loader'!BE20,\"\")","v":""},{"$f":"IF('Simplified Loader'!BF20>0,'Simplified Loader'!BF20,\"\")","v":""},{"$f":"IF('Simplified Loader'!BG20>0,'Simplified Loader'!BG20,\"\")","v":""},{"$f":"IF('Simplified Loader'!BH20=\"Male\",\"Male\",IF('Simplified Loader'!BH20=\"Female\",\"Female\",IF('Simplified Loader'!BH20=\"M\",\"Male\",IF('Simplified Loader'!BH20=\"F\",\"Female\",\"\"))))","v":""},{"$f":"IF('Simplified Loader'!BI20=\"Yes\",\"Yes\",IF('Simplified Loader'!BI20=\"No\",\"No\",IF('Simplified Loader'!BI20=\"Y\",\"Yes\",IF('Simplified Loader'!BI20=\"N\",\"No\",\"\"))))","v":""},{"$f":"IF('Simplified Loader'!BJ20=\"Yes\",\"Yes\",IF('Simplified Loader'!BJ20=\"No\",\"No\",IF('Simplified Loader'!BJ20=\"Y\",\"Yes\",IF('Simplified Loader'!BJ20=\"N\",\"No\",\"\"))))","v":""},{"$f":"IF('Simplified Loader'!BK20>0,'Simplified Loader'!BK20,\"\")","v":""},{"$f":"IF('Simplified Loader'!BL20>0,'Simplified Loader'!BL20,\"\")","v":""},{"$f":"IF('Simplified Loader'!BM20>0,'Simplified Loader'!BM20,\"\")","v":""},{"$f":"IF('Simplified Loader'!BN20=\"Male\",\"Male\",IF('Simplified Loader'!BN20=\"Female\",\"Female\",IF('Simplified Loader'!BN20=\"M\",\"Male\",IF('Simplified Loader'!BN20=\"F\",\"Female\",\"\"))))","v":""},{"$f":"IF('Simplified Loader'!BO20=\"Yes\",\"Yes\",IF('Simplified Loader'!BO20=\"No\",\"No\",IF('Simplified Loader'!BO20=\"Y\",\"Yes\",IF('Simplified Loader'!BO20=\"N\",\"No\",\"\"))))","v":""},{"$f":"IF('Simplified Loader'!BP20=\"Yes\",\"Yes\",IF('Simplified Loader'!BP20=\"No\",\"No\",IF('Simplified Loader'!BP20=\"Y\",\"Yes\",IF('Simplified Loader'!BP20=\"N\",\"No\",\"\"))))","v":""},{"$f":"IF('Simplified Loader'!BQ20>0,'Simplified Loader'!BQ20,\"\")","v":""},{"$f":"IF('Simplified Loader'!BR20>0,'Simplified Loader'!BR20,\"\")","v":""},{"$f":"IF('Simplified Loader'!BS20>0,'Simplified Loader'!BS20,\"\")","v":""},{"$f":"IF('Simplified Loader'!BT20=\"Male\",\"Male\",IF('Simplified Loader'!BT20=\"Female\",\"Female\",IF('Simplified Loader'!BT20=\"M\",\"Male\",IF('Simplified Loader'!BT20=\"F\",\"Female\",\"\"))))","v":""},{"$f":"IF('Simplified Loader'!BU20=\"Yes\",\"Yes\",IF('Simplified Loader'!BU20=\"No\",\"No\",IF('Simplified Loader'!BU20=\"Y\",\"Yes\",IF('Simplified Loader'!BU20=\"N\",\"No\",\"\"))))","v":""},{"$f":"IF('Simplified Loader'!BV20=\"Yes\",\"Yes\",IF('Simplified Loader'!BV20=\"No\",\"No\",IF('Simplified Loader'!BV20=\"Y\",\"Yes\",IF('Simplified Loader'!BV20=\"N\",\"No\",\"\"))))","v":""},{"$f":"IF('Simplified Loader'!BW20>0,'Simplified Loader'!BW20,\"\")","v":""},{"$f":"IF('Simplified Loader'!BX20>0,'Simplified Loader'!BX20,\"\")","v":""},{"$f":"IF('Simplified Loader'!BY20>0,'Simplified Loader'!BY20,\"\")","v":""},{"$f":"IF('Simplified Loader'!BZ20=\"Male\",\"Male\",IF('Simplified Loader'!BZ20=\"Female\",\"Female\",IF('Simplified Loader'!BZ20=\"M\",\"Male\",IF('Simplified Loader'!BZ20=\"F\",\"Female\",\"\"))))","v":""},{"$f":"IF('Simplified Loader'!CA20=\"Yes\",\"Yes\",IF('Simplified Loader'!CA20=\"No\",\"No\",IF('Simplified Loader'!CA20=\"Y\",\"Yes\",IF('Simplified Loader'!CA20=\"N\",\"No\",\"\"))))","v":""},{"$f":"IF('Simplified Loader'!CB20=\"Yes\",\"Yes\",IF('Simplified Loader'!CB20=\"No\",\"No\",IF('Simplified Loader'!CB20=\"Y\",\"Yes\",IF('Simplified Loader'!CB20=\"N\",\"No\",\"\"))))","v":""},{"$f":"IF('Simplified Loader'!CH20>0,'Simplified Loader'!CH20,\"\")","v":"    "}]
[{"$f":"IF('Simplified Loader'!A21>0,'Simplified Loader'!A21,\"\")","v":""},{"$f":"IF('Simplified Loader'!B21>0,'Simplified Loader'!B21,\"\")","v":""},{"$f":"IF('Simplified Loader'!C21>0,'Simplified Loader'!C21,\"\")","v":""},{"$f":"IF('Simplified Loader'!D21>0,'Simplified Loader'!D21,\"\")","v":""},{"$f":"IF('Simplified Loader'!E21>0,TEXT('Simplified Loader'!E21,\"000\"),\"\")","v":""},{"$f":"IF('Simplified Loader'!F21>0,'Simplified Loader'!F21,\"\")","v":""},{"$f":"IF('Simplified Loader'!G21>0,'Simplified Loader'!G21,\"\")","v":""},{"$f":"IF('Simplified Loader'!I21>0,'Simplified Loader'!I21,\"\")","v":""},{"$f":"IF('Simplified Loader'!J21>0,'Simplified Loader'!J21,\"\")","v":""},{"$f":"IF('Simplified Loader'!K21>0,'Simplified Loader'!K21,\"\")","v":""},{"$f":"IF('Simplified Loader'!L21>0,'Simplified Loader'!L21,\"\")","v":""},{"$f":"IF('Simplified Loader'!M21=\"Male\",\"Male\",IF('Simplified Loader'!M21=\"Female\",\"Female\",IF('Simplified Loader'!M21=\"M\",\"Male\",IF('Simplified Loader'!M21=\"F\",\"Female\",\"\"))))","v":""},{"$f":"IF('Simplified Loader'!N21=\"Yes\",\"Yes\",IF('Simplified Loader'!N21=\"No\",\"No\",IF('Simplified Loader'!N21=\"Y\",\"Yes\",IF('Simplified Loader'!N21=\"N\",\"No\",\"\"))))","v":""},{"$f":"IF('Simplified Loader'!O21=\"No\",\"Single\",IF('Simplified Loader'!O21=\"Yes\",\"Family\",IF('Simplified Loader'!O21=\"N\",\"Single\",IF('Simplified Loader'!O21=\"Y\",\"Family\",IF('Simplified Loader'!O21=\"In-force\",\"Family\",IF('Simplified Loader'!O21=\"In force\",\"Family\",IF('Simplified Loader'!O21=\"Applies\",\"Family\",IF('Simplified Loader'!O21=\"Applicable\",\"Family\",\"\"))))))))","v":""},{"$f":"IF('Simplified Loader'!P21=\"English\",\"English\",IF('Simplified Loader'!P21=\"French\",\"French\",IF('Simplified Loader'!P21=\"E\",\"English\",IF('Simplified Loader'!P21=\"F\",\"French\",\"\"))))","v":""},{"$f":"IF('Simplified Loader'!Q21=\"Yes\",\"Yes\",IF('Simplified Loader'!Q21=\"No\",\"No\",IF('Simplified Loader'!Q21=\"Y\",\"Yes\",IF('Simplified Loader'!Q21=\"N\",\"No\",\"\"))))","v":""},{"$f":"IF('Simplified Loader'!R21>0,'Simplified Loader'!R21,\"\")","v":""},{"$f":"IF('Simplified Loader'!S21>0,'Simplified Loader'!S21,\"\")","v":""},{"$f":"IF('Simplified Loader'!T21>0,'Simplified Loader'!T21,\"\")","v":""},{"$f":"IF('Simplified Loader'!U21>0,'Simplified Loader'!U21,\"\")","v":""},{"$f":"IF('Simplified Loader'!V21=\"Waive\",\"Yes\",\"\")","v":""},{"$f":"IF('Simplified Loader'!W21=\"Waive\",\"Yes\",\"\")","v":""},{"$f":"IF('Simplified Loader'!X21>0,'Simplified Loader'!X21,\"\")","v":""},{"$f":"IF('Simplified Loader'!Y21>0,'Simplified Loader'!Y21,\"\")","v":""},{"$f":"IF('Simplified Loader'!Z21>0,'Simplified Loader'!Z21,\"\")","v":""},{"$f":"IF('Simplified Loader'!AA21>0,'Simplified Loader'!AA21,\"\")","v":""},{"$f":"IF('Simplified Loader'!AB21>0,'Simplified Loader'!AB21,\"\")","v":""},{"$f":"IF('Simplified Loader'!AC21>0,'Simplified Loader'!AC21,\"\")","v":" "},{"$f":"IF('Simplified Loader'!AE21>0,'Simplified Loader'!AE21&\" \",\"\")&IF('Simplified Loader'!AD21>0,'Simplified Loader'!AD21,\"\")","v":""},null,{"$f":"IF('Simplified Loader'!AF21>0,'Simplified Loader'!AF21,\"\")","v":""},{"$f":"IF('Simplified Loader'!AG21>0,'Simplified Loader'!AG21,\"\")","v":""},{"$f":"IF('Simplified Loader'!AH21>0,'Simplified Loader'!AH21,\"\")","v":""},{"$f":"IF('Simplified Loader'!AI21>0,'Simplified Loader'!AI21,\"\")","v":""},{"$f":"IF('Simplified Loader'!AJ21>0,'Simplified Loader'!AJ21,\"\")","v":""},{"$f":"IF('Simplified Loader'!AK21>0,'Simplified Loader'!AK21,\"\")","v":""},{"$f":"IF('Simplified Loader'!AL21>0,'Simplified Loader'!AL21,\"\")","v":""},{"$f":"IF('Simplified Loader'!AM21>0,'Simplified Loader'!AM21,\"\")","v":""},{"$f":"IF('Simplified Loader'!AN21=\"Male\",\"Male\",IF('Simplified Loader'!AN21=\"Female\",\"Female\",IF('Simplified Loader'!AN21=\"M\",\"Male\",IF('Simplified Loader'!AN21=\"F\",\"Female\",\"\"))))","v":""},{"$f":"IF('Simplified Loader'!AO21=\"Single\",\"Single\",IF('Simplified Loader'!AO21=\"Family\",\"Family\",IF('Simplified Loader'!AO21=\"S\",\"Single\",IF('Simplified Loader'!AO21=\"F\",\"Family\",\"\"))))","v":""},{"$f":"IF('Simplified Loader'!AP21=\"Single\",\"Single\",IF('Simplified Loader'!AP21=\"Family\",\"Family\",IF('Simplified Loader'!AP21=\"S\",\"Single\",IF('Simplified Loader'!AP21=\"F\",\"Family\",\"\"))))","v":""},{"$f":"IF('Simplified Loader'!AQ21>0,'Simplified Loader'!AQ21,\"\")","v":""},{"$f":"IF('Simplified Loader'!AR21=\"Yes\",\"Yes\",IF('Simplified Loader'!AR21=\"No\",\"No\",IF('Simplified Loader'!AR21=\"Y\",\"Yes\",IF('Simplified Loader'!AR21=\"N\",\"No\",\"\"))))","v":""},{"$f":"IF('Simplified Loader'!AS21>0,'Simplified Loader'!AS21,\"\")","v":""},{"$f":"IF('Simplified Loader'!AT21>0,'Simplified Loader'!AT21,\"\")","v":""},{"$f":"IF('Simplified Loader'!AU21>0,'Simplified Loader'!AU21,\"\")","v":""},{"$f":"IF('Simplified Loader'!AV21=\"Male\",\"Male\",IF('Simplified Loader'!AV21=\"Female\",\"Female\",IF('Simplified Loader'!AV21=\"M\",\"Male\",IF('Simplified Loader'!AV21=\"F\",\"Female\",\"\"))))","v":""},{"$f":"IF('Simplified Loader'!AW21=\"Yes\",\"Yes\",IF('Simplified Loader'!AW21=\"No\",\"No\",IF('Simplified Loader'!AW21=\"Y\",\"Yes\",IF('Simplified Loader'!AW21=\"N\",\"No\",\"\"))))","v":""},{"$f":"IF('Simplified Loader'!AX21=\"Yes\",\"Yes\",IF('Simplified Loader'!AX21=\"No\",\"No\",IF('Simplified Loader'!AX21=\"Y\",\"Yes\",IF('Simplified Loader'!AX21=\"N\",\"No\",\"\"))))","v":""},{"$f":"IF('Simplified Loader'!AY21>0,'Simplified Loader'!AY21,\"\")","v":""},{"$f":"IF('Simplified Loader'!AZ21>0,'Simplified Loader'!AZ21,\"\")","v":""},{"$f":"IF('Simplified Loader'!BA21>0,'Simplified Loader'!BA21,\"\")","v":""},{"$f":"IF('Simplified Loader'!BB21=\"Male\",\"Male\",IF('Simplified Loader'!BB21=\"Female\",\"Female\",IF('Simplified Loader'!BB21=\"M\",\"Male\",IF('Simplified Loader'!BB21=\"F\",\"Female\",\"\"))))","v":""},{"$f":"IF('Simplified Loader'!BC21=\"Yes\",\"Yes\",IF('Simplified Loader'!BC21=\"No\",\"No\",IF('Simplified Loader'!BC21=\"Y\",\"Yes\",IF('Simplified Loader'!BC21=\"N\",\"No\",\"\"))))","v":""},{"$f":"IF('Simplified Loader'!BD21=\"Yes\",\"Yes\",IF('Simplified Loader'!BD21=\"No\",\"No\",IF('Simplified Loader'!BD21=\"Y\",\"Yes\",IF('Simplified Loader'!BD21=\"N\",\"No\",\"\"))))","v":""},{"$f":"IF('Simplified Loader'!BE21>0,'Simplified Loader'!BE21,\"\")","v":""},{"$f":"IF('Simplified Loader'!BF21>0,'Simplified Loader'!BF21,\"\")","v":""},{"$f":"IF('Simplified Loader'!BG21>0,'Simplified Loader'!BG21,\"\")","v":""},{"$f":"IF('Simplified Loader'!BH21=\"Male\",\"Male\",IF('Simplified Loader'!BH21=\"Female\",\"Female\",IF('Simplified Loader'!BH21=\"M\",\"Male\",IF('Simplified Loader'!BH21=\"F\",\"Female\",\"\"))))","v":""},{"$f":"IF('Simplified Loader'!BI21=\"Yes\",\"Yes\",IF('Simplified Loader'!BI21=\"No\",\"No\",IF('Simplified Loader'!BI21=\"Y\",\"Yes\",IF('Simplified Loader'!BI21=\"N\",\"No\",\"\"))))","v":""},{"$f":"IF('Simplified Loader'!BJ21=\"Yes\",\"Yes\",IF('Simplified Loader'!BJ21=\"No\",\"No\",IF('Simplified Loader'!BJ21=\"Y\",\"Yes\",IF('Simplified Loader'!BJ21=\"N\",\"No\",\"\"))))","v":""},{"$f":"IF('Simplified Loader'!BK21>0,'Simplified Loader'!BK21,\"\")","v":""},{"$f":"IF('Simplified Loader'!BL21>0,'Simplified Loader'!BL21,\"\")","v":""},{"$f":"IF('Simplified Loader'!BM21>0,'Simplified Loader'!BM21,\"\")","v":""},{"$f":"IF('Simplified Loader'!BN21=\"Male\",\"Male\",IF('Simplified Loader'!BN21=\"Female\",\"Female\",IF('Simplified Loader'!BN21=\"M\",\"Male\",IF('Simplified Loader'!BN21=\"F\",\"Female\",\"\"))))","v":""},{"$f":"IF('Simplified Loader'!BO21=\"Yes\",\"Yes\",IF('Simplified Loader'!BO21=\"No\",\"No\",IF('Simplified Loader'!BO21=\"Y\",\"Yes\",IF('Simplified Loader'!BO21=\"N\",\"No\",\"\"))))","v":""},{"$f":"IF('Simplified Loader'!BP21=\"Yes\",\"Yes\",IF('Simplified Loader'!BP21=\"No\",\"No\",IF('Simplified Loader'!BP21=\"Y\",\"Yes\",IF('Simplified Loader'!BP21=\"N\",\"No\",\"\"))))","v":""},{"$f":"IF('Simplified Loader'!BQ21>0,'Simplified Loader'!BQ21,\"\")","v":""},{"$f":"IF('Simplified Loader'!BR21>0,'Simplified Loader'!BR21,\"\")","v":""},{"$f":"IF('Simplified Loader'!BS21>0,'Simplified Loader'!BS21,\"\")","v":""},{"$f":"IF('Simplified Loader'!BT21=\"Male\",\"Male\",IF('Simplified Loader'!BT21=\"Female\",\"Female\",IF('Simplified Loader'!BT21=\"M\",\"Male\",IF('Simplified Loader'!BT21=\"F\",\"Female\",\"\"))))","v":""},{"$f":"IF('Simplified Loader'!BU21=\"Yes\",\"Yes\",IF('Simplified Loader'!BU21=\"No\",\"No\",IF('Simplified Loader'!BU21=\"Y\",\"Yes\",IF('Simplified Loader'!BU21=\"N\",\"No\",\"\"))))","v":""},{"$f":"IF('Simplified Loader'!BV21=\"Yes\",\"Yes\",IF('Simplified Loader'!BV21=\"No\",\"No\",IF('Simplified Loader'!BV21=\"Y\",\"Yes\",IF('Simplified Loader'!BV21=\"N\",\"No\",\"\"))))","v":""},{"$f":"IF('Simplified Loader'!BW21>0,'Simplified Loader'!BW21,\"\")","v":""},{"$f":"IF('Simplified Loader'!BX21>0,'Simplified Loader'!BX21,\"\")","v":""},{"$f":"IF('Simplified Loader'!BY21>0,'Simplified Loader'!BY21,\"\")","v":""},{"$f":"IF('Simplified Loader'!BZ21=\"Male\",\"Male\",IF('Simplified Loader'!BZ21=\"Female\",\"Female\",IF('Simplified Loader'!BZ21=\"M\",\"Male\",IF('Simplified Loader'!BZ21=\"F\",\"Female\",\"\"))))","v":""},{"$f":"IF('Simplified Loader'!CA21=\"Yes\",\"Yes\",IF('Simplified Loader'!CA21=\"No\",\"No\",IF('Simplified Loader'!CA21=\"Y\",\"Yes\",IF('Simplified Loader'!CA21=\"N\",\"No\",\"\"))))","v":""},{"$f":"IF('Simplified Loader'!CB21=\"Yes\",\"Yes\",IF('Simplified Loader'!CB21=\"No\",\"No\",IF('Simplified Loader'!CB21=\"Y\",\"Yes\",IF('Simplified Loader'!CB21=\"N\",\"No\",\"\"))))","v":""},{"$f":"IF('Simplified Loader'!CH21>0,'Simplified Loader'!CH21,\"\")","v":"    "}]
[{"$f":"IF('Simplified Loader'!A22>0,'Simplified Loader'!A22,\"\")","v":""},{"$f":"IF('Simplified Loader'!B22>0,'Simplified Loader'!B22,\"\")","v":""},{"$f":"IF('Simplified Loader'!C22>0,'Simplified Loader'!C22,\"\")","v":""},{"$f":"IF('Simplified Loader'!D22>0,'Simplified Loader'!D22,\"\")","v":""},{"$f":"IF('Simplified Loader'!E22>0,TEXT('Simplified Loader'!E22,\"000\"),\"\")","v":""},{"$f":"IF('Simplified Loader'!F22>0,'Simplified Loader'!F22,\"\")","v":""},{"$f":"IF('Simplified Loader'!G22>0,'Simplified Loader'!G22,\"\")","v":""},{"$f":"IF('Simplified Loader'!I22>0,'Simplified Loader'!I22,\"\")","v":""},{"$f":"IF('Simplified Loader'!J22>0,'Simplified Loader'!J22,\"\")","v":""},{"$f":"IF('Simplified Loader'!K22>0,'Simplified Loader'!K22,\"\")","v":""},{"$f":"IF('Simplified Loader'!L22>0,'Simplified Loader'!L22,\"\")","v":""},{"$f":"IF('Simplified Loader'!M22=\"Male\",\"Male\",IF('Simplified Loader'!M22=\"Female\",\"Female\",IF('Simplified Loader'!M22=\"M\",\"Male\",IF('Simplified Loader'!M22=\"F\",\"Female\",\"\"))))","v":""},{"$f":"IF('Simplified Loader'!N22=\"Yes\",\"Yes\",IF('Simplified Loader'!N22=\"No\",\"No\",IF('Simplified Loader'!N22=\"Y\",\"Yes\",IF('Simplified Loader'!N22=\"N\",\"No\",\"\"))))","v":""},{"$f":"IF('Simplified Loader'!O22=\"No\",\"Single\",IF('Simplified Loader'!O22=\"Yes\",\"Family\",IF('Simplified Loader'!O22=\"N\",\"Single\",IF('Simplified Loader'!O22=\"Y\",\"Family\",IF('Simplified Loader'!O22=\"In-force\",\"Family\",IF('Simplified Loader'!O22=\"In force\",\"Family\",IF('Simplified Loader'!O22=\"Applies\",\"Family\",IF('Simplified Loader'!O22=\"Applicable\",\"Family\",\"\"))))))))","v":""},{"$f":"IF('Simplified Loader'!P22=\"English\",\"English\",IF('Simplified Loader'!P22=\"French\",\"French\",IF('Simplified Loader'!P22=\"E\",\"English\",IF('Simplified Loader'!P22=\"F\",\"French\",\"\"))))","v":""},{"$f":"IF('Simplified Loader'!Q22=\"Yes\",\"Yes\",IF('Simplified Loader'!Q22=\"No\",\"No\",IF('Simplified Loader'!Q22=\"Y\",\"Yes\",IF('Simplified Loader'!Q22=\"N\",\"No\",\"\"))))","v":""},{"$f":"IF('Simplified Loader'!R22>0,'Simplified Loader'!R22,\"\")","v":""},{"$f":"IF('Simplified Loader'!S22>0,'Simplified Loader'!S22,\"\")","v":""},{"$f":"IF('Simplified Loader'!T22>0,'Simplified Loader'!T22,\"\")","v":""},{"$f":"IF('Simplified Loader'!U22>0,'Simplified Loader'!U22,\"\")","v":""},{"$f":"IF('Simplified Loader'!V22=\"Waive\",\"Yes\",\"\")","v":""},{"$f":"IF('Simplified Loader'!W22=\"Waive\",\"Yes\",\"\")","v":""},{"$f":"IF('Simplified Loader'!X22>0,'Simplified Loader'!X22,\"\")","v":""},{"$f":"IF('Simplified Loader'!Y22>0,'Simplified Loader'!Y22,\"\")","v":""},{"$f":"IF('Simplified Loader'!Z22>0,'Simplified Loader'!Z22,\"\")","v":""},{"$f":"IF('Simplified Loader'!AA22>0,'Simplified Loader'!AA22,\"\")","v":""},{"$f":"IF('Simplified Loader'!AB22>0,'Simplified Loader'!AB22,\"\")","v":""},{"$f":"IF('Simplified Loader'!AC22>0,'Simplified Loader'!AC22,\"\")","v":" "},{"$f":"IF('Simplified Loader'!AE22>0,'Simplified Loader'!AE22&\" \",\"\")&IF('Simplified Loader'!AD22>0,'Simplified Loader'!AD22,\"\")","v":""},null,{"$f":"IF('Simplified Loader'!AF22>0,'Simplified Loader'!AF22,\"\")","v":""},{"$f":"IF('Simplified Loader'!AG22>0,'Simplified Loader'!AG22,\"\")","v":""},{"$f":"IF('Simplified Loader'!AH22>0,'Simplified Loader'!AH22,\"\")","v":""},{"$f":"IF('Simplified Loader'!AI22>0,'Simplified Loader'!AI22,\"\")","v":""},{"$f":"IF('Simplified Loader'!AJ22>0,'Simplified Loader'!AJ22,\"\")","v":""},{"$f":"IF('Simplified Loader'!AK22>0,'Simplified Loader'!AK22,\"\")","v":""},{"$f":"IF('Simplified Loader'!AL22>0,'Simplified Loader'!AL22,\"\")","v":""},{"$f":"IF('Simplified Loader'!AM22>0,'Simplified Loader'!AM22,\"\")","v":""},{"$f":"IF('Simplified Loader'!AN22=\"Male\",\"Male\",IF('Simplified Loader'!AN22=\"Female\",\"Female\",IF('Simplified Loader'!AN22=\"M\",\"Male\",IF('Simplified Loader'!AN22=\"F\",\"Female\",\"\"))))","v":""},{"$f":"IF('Simplified Loader'!AO22=\"Single\",\"Single\",IF('Simplified Loader'!AO22=\"Family\",\"Family\",IF('Simplified Loader'!AO22=\"S\",\"Single\",IF('Simplified Loader'!AO22=\"F\",\"Family\",\"\"))))","v":""},{"$f":"IF('Simplified Loader'!AP22=\"Single\",\"Single\",IF('Simplified Loader'!AP22=\"Family\",\"Family\",IF('Simplified Loader'!AP22=\"S\",\"Single\",IF('Simplified Loader'!AP22=\"F\",\"Family\",\"\"))))","v":""},{"$f":"IF('Simplified Loader'!AQ22>0,'Simplified Loader'!AQ22,\"\")","v":""},{"$f":"IF('Simplified Loader'!AR22=\"Yes\",\"Yes\",IF('Simplified Loader'!AR22=\"No\",\"No\",IF('Simplified Loader'!AR22=\"Y\",\"Yes\",IF('Simplified Loader'!AR22=\"N\",\"No\",\"\"))))","v":""},{"$f":"IF('Simplified Loader'!AS22>0,'Simplified Loader'!AS22,\"\")","v":""},{"$f":"IF('Simplified Loader'!AT22>0,'Simplified Loader'!AT22,\"\")","v":""},{"$f":"IF('Simplified Loader'!AU22>0,'Simplified Loader'!AU22,\"\")","v":""},{"$f":"IF('Simplified Loader'!AV22=\"Male\",\"Male\",IF('Simplified Loader'!AV22=\"Female\",\"Female\",IF('Simplified Loader'!AV22=\"M\",\"Male\",IF('Simplified Loader'!AV22=\"F\",\"Female\",\"\"))))","v":""},{"$f":"IF('Simplified Loader'!AW22=\"Yes\",\"Yes\",IF('Simplified Loader'!AW22=\"No\",\"No\",IF('Simplified Loader'!AW22=\"Y\",\"Yes\",IF('Simplified Loader'!AW22=\"N\",\"No\",\"\"))))","v":""},{"$f":"IF('Simplified Loader'!AX22=\"Yes\",\"Yes\",IF('Simplified Loader'!AX22=\"No\",\"No\",IF('Simplified Loader'!AX22=\"Y\",\"Yes\",IF('Simplified Loader'!AX22=\"N\",\"No\",\"\"))))","v":""},{"$f":"IF('Simplified Loader'!AY22>0,'Simplified Loader'!AY22,\"\")","v":""},{"$f":"IF('Simplified Loader'!AZ22>0,'Simplified Loader'!AZ22,\"\")","v":""},{"$f":"IF('Simplified Loader'!BA22>0,'Simplified Loader'!BA22,\"\")","v":""},{"$f":"IF('Simplified Loader'!BB22=\"Male\",\"Male\",IF('Simplified Loader'!BB22=\"Female\",\"Female\",IF('Simplified Loader'!BB22=\"M\",\"Male\",IF('Simplified Loader'!BB22=\"F\",\"Female\",\"\"))))","v":""},{"$f":"IF('Simplified Loader'!BC22=\"Yes\",\"Yes\",IF('Simplified Loader'!BC22=\"No\",\"No\",IF('Simplified Loader'!BC22=\"Y\",\"Yes\",IF('Simplified Loader'!BC22=\"N\",\"No\",\"\"))))","v":""},{"$f":"IF('Simplified Loader'!BD22=\"Yes\",\"Yes\",IF('Simplified Loader'!BD22=\"No\",\"No\",IF('Simplified Loader'!BD22=\"Y\",\"Yes\",IF('Simplified Loader'!BD22=\"N\",\"No\",\"\"))))","v":""},{"$f":"IF('Simplified Loader'!BE22>0,'Simplified Loader'!BE22,\"\")","v":""},{"$f":"IF('Simplified Loader'!BF22>0,'Simplified Loader'!BF22,\"\")","v":""},{"$f":"IF('Simplified Loader'!BG22>0,'Simplified Loader'!BG22,\"\")","v":""},{"$f":"IF('Simplified Loader'!BH22=\"Male\",\"Male\",IF('Simplified Loader'!BH22=\"Female\",\"Female\",IF('Simplified Loader'!BH22=\"M\",\"Male\",IF('Simplified Loader'!BH22=\"F\",\"Female\",\"\"))))","v":""},{"$f":"IF('Simplified Loader'!BI22=\"Yes\",\"Yes\",IF('Simplified Loader'!BI22=\"No\",\"No\",IF('Simplified Loader'!BI22=\"Y\",\"Yes\",IF('Simplified Loader'!BI22=\"N\",\"No\",\"\"))))","v":""},{"$f":"IF('Simplified Loader'!BJ22=\"Yes\",\"Yes\",IF('Simplified Loader'!BJ22=\"No\",\"No\",IF('Simplified Loader'!BJ22=\"Y\",\"Yes\",IF('Simplified Loader'!BJ22=\"N\",\"No\",\"\"))))","v":""},{"$f":"IF('Simplified Loader'!BK22>0,'Simplified Loader'!BK22,\"\")","v":""},{"$f":"IF('Simplified Loader'!BL22>0,'Simplified Loader'!BL22,\"\")","v":""},{"$f":"IF('Simplified Loader'!BM22>0,'Simplified Loader'!BM22,\"\")","v":""},{"$f":"IF('Simplified Loader'!BN22=\"Male\",\"Male\",IF('Simplified Loader'!BN22=\"Female\",\"Female\",IF('Simplified Loader'!BN22=\"M\",\"Male\",IF('Simplified Loader'!BN22=\"F\",\"Female\",\"\"))))","v":""},{"$f":"IF('Simplified Loader'!BO22=\"Yes\",\"Yes\",IF('Simplified Loader'!BO22=\"No\",\"No\",IF('Simplified Loader'!BO22=\"Y\",\"Yes\",IF('Simplified Loader'!BO22=\"N\",\"No\",\"\"))))","v":""},{"$f":"IF('Simplified Loader'!BP22=\"Yes\",\"Yes\",IF('Simplified Loader'!BP22=\"No\",\"No\",IF('Simplified Loader'!BP22=\"Y\",\"Yes\",IF('Simplified Loader'!BP22=\"N\",\"No\",\"\"))))","v":""},{"$f":"IF('Simplified Loader'!BQ22>0,'Simplified Loader'!BQ22,\"\")","v":""},{"$f":"IF('Simplified Loader'!BR22>0,'Simplified Loader'!BR22,\"\")","v":""},{"$f":"IF('Simplified Loader'!BS22>0,'Simplified Loader'!BS22,\"\")","v":""},{"$f":"IF('Simplified Loader'!BT22=\"Male\",\"Male\",IF('Simplified Loader'!BT22=\"Female\",\"Female\",IF('Simplified Loader'!BT22=\"M\",\"Male\",IF('Simplified Loader'!BT22=\"F\",\"Female\",\"\"))))","v":""},{"$f":"IF('Simplified Loader'!BU22=\"Yes\",\"Yes\",IF('Simplified Loader'!BU22=\"No\",\"No\",IF('Simplified Loader'!BU22=\"Y\",\"Yes\",IF('Simplified Loader'!BU22=\"N\",\"No\",\"\"))))","v":""},{"$f":"IF('Simplified Loader'!BV22=\"Yes\",\"Yes\",IF('Simplified Loader'!BV22=\"No\",\"No\",IF('Simplified Loader'!BV22=\"Y\",\"Yes\",IF('Simplified Loader'!BV22=\"N\",\"No\",\"\"))))","v":""},{"$f":"IF('Simplified Loader'!BW22>0,'Simplified Loader'!BW22,\"\")","v":""},{"$f":"IF('Simplified Loader'!BX22>0,'Simplified Loader'!BX22,\"\")","v":""},{"$f":"IF('Simplified Loader'!BY22>0,'Simplified Loader'!BY22,\"\")","v":""},{"$f":"IF('Simplified Loader'!BZ22=\"Male\",\"Male\",IF('Simplified Loader'!BZ22=\"Female\",\"Female\",IF('Simplified Loader'!BZ22=\"M\",\"Male\",IF('Simplified Loader'!BZ22=\"F\",\"Female\",\"\"))))","v":""},{"$f":"IF('Simplified Loader'!CA22=\"Yes\",\"Yes\",IF('Simplified Loader'!CA22=\"No\",\"No\",IF('Simplified Loader'!CA22=\"Y\",\"Yes\",IF('Simplified Loader'!CA22=\"N\",\"No\",\"\"))))","v":""},{"$f":"IF('Simplified Loader'!CB22=\"Yes\",\"Yes\",IF('Simplified Loader'!CB22=\"No\",\"No\",IF('Simplified Loader'!CB22=\"Y\",\"Yes\",IF('Simplified Loader'!CB22=\"N\",\"No\",\"\"))))","v":""},{"$f":"IF('Simplified Loader'!CH22>0,'Simplified Loader'!CH22,\"\")","v":"    "}]
[{"$f":"IF('Simplified Loader'!A23>0,'Simplified Loader'!A23,\"\")","v":""},{"$f":"IF('Simplified Loader'!B23>0,'Simplified Loader'!B23,\"\")","v":""},{"$f":"IF('Simplified Loader'!C23>0,'Simplified Loader'!C23,\"\")","v":""},{"$f":"IF('Simplified Loader'!D23>0,'Simplified Loader'!D23,\"\")","v":""},{"$f":"IF('Simplified Loader'!E23>0,TEXT('Simplified Loader'!E23,\"000\"),\"\")","v":""},{"$f":"IF('Simplified Loader'!F23>0,'Simplified Loader'!F23,\"\")","v":""},{"$f":"IF('Simplified Loader'!G23>0,'Simplified Loader'!G23,\"\")","v":""},{"$f":"IF('Simplified Loader'!I23>0,'Simplified Loader'!I23,\"\")","v":""},{"$f":"IF('Simplified Loader'!J23>0,'Simplified Loader'!J23,\"\")","v":""},{"$f":"IF('Simplified Loader'!K23>0,'Simplified Loader'!K23,\"\")","v":""},{"$f":"IF('Simplified Loader'!L23>0,'Simplified Loader'!L23,\"\")","v":""},{"$f":"IF('Simplified Loader'!M23=\"Male\",\"Male\",IF('Simplified Loader'!M23=\"Female\",\"Female\",IF('Simplified Loader'!M23=\"M\",\"Male\",IF('Simplified Loader'!M23=\"F\",\"Female\",\"\"))))","v":""},{"$f":"IF('Simplified Loader'!N23=\"Yes\",\"Yes\",IF('Simplified Loader'!N23=\"No\",\"No\",IF('Simplified Loader'!N23=\"Y\",\"Yes\",IF('Simplified Loader'!N23=\"N\",\"No\",\"\"))))","v":""},{"$f":"IF('Simplified Loader'!O23=\"No\",\"Single\",IF('Simplified Loader'!O23=\"Yes\",\"Family\",IF('Simplified Loader'!O23=\"N\",\"Single\",IF('Simplified Loader'!O23=\"Y\",\"Family\",IF('Simplified Loader'!O23=\"In-force\",\"Family\",IF('Simplified Loader'!O23=\"In force\",\"Family\",IF('Simplified Loader'!O23=\"Applies\",\"Family\",IF('Simplified Loader'!O23=\"Applicable\",\"Family\",\"\"))))))))","v":""},{"$f":"IF('Simplified Loader'!P23=\"English\",\"English\",IF('Simplified Loader'!P23=\"French\",\"French\",IF('Simplified Loader'!P23=\"E\",\"English\",IF('Simplified Loader'!P23=\"F\",\"French\",\"\"))))","v":""},{"$f":"IF('Simplified Loader'!Q23=\"Yes\",\"Yes\",IF('Simplified Loader'!Q23=\"No\",\"No\",IF('Simplified Loader'!Q23=\"Y\",\"Yes\",IF('Simplified Loader'!Q23=\"N\",\"No\",\"\"))))","v":""},{"$f":"IF('Simplified Loader'!R23>0,'Simplified Loader'!R23,\"\")","v":""},{"$f":"IF('Simplified Loader'!S23>0,'Simplified Loader'!S23,\"\")","v":""},{"$f":"IF('Simplified Loader'!T23>0,'Simplified Loader'!T23,\"\")","v":""},{"$f":"IF('Simplified Loader'!U23>0,'Simplified Loader'!U23,\"\")","v":""},{"$f":"IF('Simplified Loader'!V23=\"Waive\",\"Yes\",\"\")","v":""},{"$f":"IF('Simplified Loader'!W23=\"Waive\",\"Yes\",\"\")","v":""},{"$f":"IF('Simplified Loader'!X23>0,'Simplified Loader'!X23,\"\")","v":""},{"$f":"IF('Simplified Loader'!Y23>0,'Simplified Loader'!Y23,\"\")","v":""},{"$f":"IF('Simplified Loader'!Z23>0,'Simplified Loader'!Z23,\"\")","v":""},{"$f":"IF('Simplified Loader'!AA23>0,'Simplified Loader'!AA23,\"\")","v":""},{"$f":"IF('Simplified Loader'!AB23>0,'Simplified Loader'!AB23,\"\")","v":""},{"$f":"IF('Simplified Loader'!AC23>0,'Simplified Loader'!AC23,\"\")","v":" "},{"$f":"IF('Simplified Loader'!AE23>0,'Simplified Loader'!AE23&\" \",\"\")&IF('Simplified Loader'!AD23>0,'Simplified Loader'!AD23,\"\")","v":""},null,{"$f":"IF('Simplified Loader'!AF23>0,'Simplified Loader'!AF23,\"\")","v":""},{"$f":"IF('Simplified Loader'!AG23>0,'Simplified Loader'!AG23,\"\")","v":""},{"$f":"IF('Simplified Loader'!AH23>0,'Simplified Loader'!AH23,\"\")","v":""},{"$f":"IF('Simplified Loader'!AI23>0,'Simplified Loader'!AI23,\"\")","v":""},{"$f":"IF('Simplified Loader'!AJ23>0,'Simplified Loader'!AJ23,\"\")","v":""},{"$f":"IF('Simplified Loader'!AK23>0,'Simplified Loader'!AK23,\"\")","v":""},{"$f":"IF('Simplified Loader'!AL23>0,'Simplified Loader'!AL23,\"\")","v":""},{"$f":"IF('Simplified Loader'!AM23>0,'Simplified Loader'!AM23,\"\")","v":""},{"$f":"IF('Simplified Loader'!AN23=\"Male\",\"Male\",IF('Simplified Loader'!AN23=\"Female\",\"Female\",IF('Simplified Loader'!AN23=\"M\",\"Male\",IF('Simplified Loader'!AN23=\"F\",\"Female\",\"\"))))","v":""},{"$f":"IF('Simplified Loader'!AO23=\"Single\",\"Single\",IF('Simplified Loader'!AO23=\"Family\",\"Family\",IF('Simplified Loader'!AO23=\"S\",\"Single\",IF('Simplified Loader'!AO23=\"F\",\"Family\",\"\"))))","v":""},{"$f":"IF('Simplified Loader'!AP23=\"Single\",\"Single\",IF('Simplified Loader'!AP23=\"Family\",\"Family\",IF('Simplified Loader'!AP23=\"S\",\"Single\",IF('Simplified Loader'!AP23=\"F\",\"Family\",\"\"))))","v":""},{"$f":"IF('Simplified Loader'!AQ23>0,'Simplified Loader'!AQ23,\"\")","v":""},{"$f":"IF('Simplified Loader'!AR23=\"Yes\",\"Yes\",IF('Simplified Loader'!AR23=\"No\",\"No\",IF('Simplified Loader'!AR23=\"Y\",\"Yes\",IF('Simplified Loader'!AR23=\"N\",\"No\",\"\"))))","v":""},{"$f":"IF('Simplified Loader'!AS23>0,'Simplified Loader'!AS23,\"\")","v":""},{"$f":"IF('Simplified Loader'!AT23>0,'Simplified Loader'!AT23,\"\")","v":""},{"$f":"IF('Simplified Loader'!AU23>0,'Simplified Loader'!AU23,\"\")","v":""},{"$f":"IF('Simplified Loader'!AV23=\"Male\",\"Male\",IF('Simplified Loader'!AV23=\"Female\",\"Female\",IF('Simplified Loader'!AV23=\"M\",\"Male\",IF('Simplified Loader'!AV23=\"F\",\"Female\",\"\"))))","v":""},{"$f":"IF('Simplified Loader'!AW23=\"Yes\",\"Yes\",IF('Simplified Loader'!AW23=\"No\",\"No\",IF('Simplified Loader'!AW23=\"Y\",\"Yes\",IF('Simplified Loader'!AW23=\"N\",\"No\",\"\"))))","v":""},{"$f":"IF('Simplified Loader'!AX23=\"Yes\",\"Yes\",IF('Simplified Loader'!AX23=\"No\",\"No\",IF('Simplified Loader'!AX23=\"Y\",\"Yes\",IF('Simplified Loader'!AX23=\"N\",\"No\",\"\"))))","v":""},{"$f":"IF('Simplified Loader'!AY23>0,'Simplified Loader'!AY23,\"\")","v":""},{"$f":"IF('Simplified Loader'!AZ23>0,'Simplified Loader'!AZ23,\"\")","v":""},{"$f":"IF('Simplified Loader'!BA23>0,'Simplified Loader'!BA23,\"\")","v":""},{"$f":"IF('Simplified Loader'!BB23=\"Male\",\"Male\",IF('Simplified Loader'!BB23=\"Female\",\"Female\",IF('Simplified Loader'!BB23=\"M\",\"Male\",IF('Simplified Loader'!BB23=\"F\",\"Female\",\"\"))))","v":""},{"$f":"IF('Simplified Loader'!BC23=\"Yes\",\"Yes\",IF('Simplified Loader'!BC23=\"No\",\"No\",IF('Simplified Loader'!BC23=\"Y\",\"Yes\",IF('Simplified Loader'!BC23=\"N\",\"No\",\"\"))))","v":""},{"$f":"IF('Simplified Loader'!BD23=\"Yes\",\"Yes\",IF('Simplified Loader'!BD23=\"No\",\"No\",IF('Simplified Loader'!BD23=\"Y\",\"Yes\",IF('Simplified Loader'!BD23=\"N\",\"No\",\"\"))))","v":""},{"$f":"IF('Simplified Loader'!BE23>0,'Simplified Loader'!BE23,\"\")","v":""},{"$f":"IF('Simplified Loader'!BF23>0,'Simplified Loader'!BF23,\"\")","v":""},{"$f":"IF('Simplified Loader'!BG23>0,'Simplified Loader'!BG23,\"\")","v":""},{"$f":"IF('Simplified Loader'!BH23=\"Male\",\"Male\",IF('Simplified Loader'!BH23=\"Female\",\"Female\",IF('Simplified Loader'!BH23=\"M\",\"Male\",IF('Simplified Loader'!BH23=\"F\",\"Female\",\"\"))))","v":""},{"$f":"IF('Simplified Loader'!BI23=\"Yes\",\"Yes\",IF('Simplified Loader'!BI23=\"No\",\"No\",IF('Simplified Loader'!BI23=\"Y\",\"Yes\",IF('Simplified Loader'!BI23=\"N\",\"No\",\"\"))))","v":""},{"$f":"IF('Simplified Loader'!BJ23=\"Yes\",\"Yes\",IF('Simplified Loader'!BJ23=\"No\",\"No\",IF('Simplified Loader'!BJ23=\"Y\",\"Yes\",IF('Simplified Loader'!BJ23=\"N\",\"No\",\"\"))))","v":""},{"$f":"IF('Simplified Loader'!BK23>0,'Simplified Loader'!BK23,\"\")","v":""},{"$f":"IF('Simplified Loader'!BL23>0,'Simplified Loader'!BL23,\"\")","v":""},{"$f":"IF('Simplified Loader'!BM23>0,'Simplified Loader'!BM23,\"\")","v":""},{"$f":"IF('Simplified Loader'!BN23=\"Male\",\"Male\",IF('Simplified Loader'!BN23=\"Female\",\"Female\",IF('Simplified Loader'!BN23=\"M\",\"Male\",IF('Simplified Loader'!BN23=\"F\",\"Female\",\"\"))))","v":""},{"$f":"IF('Simplified Loader'!BO23=\"Yes\",\"Yes\",IF('Simplified Loader'!BO23=\"No\",\"No\",IF('Simplified Loader'!BO23=\"Y\",\"Yes\",IF('Simplified Loader'!BO23=\"N\",\"No\",\"\"))))","v":""},{"$f":"IF('Simplified Loader'!BP23=\"Yes\",\"Yes\",IF('Simplified Loader'!BP23=\"No\",\"No\",IF('Simplified Loader'!BP23=\"Y\",\"Yes\",IF('Simplified Loader'!BP23=\"N\",\"No\",\"\"))))","v":""},{"$f":"IF('Simplified Loader'!BQ23>0,'Simplified Loader'!BQ23,\"\")","v":""},{"$f":"IF('Simplified Loader'!BR23>0,'Simplified Loader'!BR23,\"\")","v":""},{"$f":"IF('Simplified Loader'!BS23>0,'Simplified Loader'!BS23,\"\")","v":""},{"$f":"IF('Simplified Loader'!BT23=\"Male\",\"Male\",IF('Simplified Loader'!BT23=\"Female\",\"Female\",IF('Simplified Loader'!BT23=\"M\",\"Male\",IF('Simplified Loader'!BT23=\"F\",\"Female\",\"\"))))","v":""},{"$f":"IF('Simplified Loader'!BU23=\"Yes\",\"Yes\",IF('Simplified Loader'!BU23=\"No\",\"No\",IF('Simplified Loader'!BU23=\"Y\",\"Yes\",IF('Simplified Loader'!BU23=\"N\",\"No\",\"\"))))","v":""},{"$f":"IF('Simplified Loader'!BV23=\"Yes\",\"Yes\",IF('Simplified Loader'!BV23=\"No\",\"No\",IF('Simplified Loader'!BV23=\"Y\",\"Yes\",IF('Simplified Loader'!BV23=\"N\",\"No\",\"\"))))","v":""},{"$f":"IF('Simplified Loader'!BW23>0,'Simplified Loader'!BW23,\"\")","v":""},{"$f":"IF('Simplified Loader'!BX23>0,'Simplified Loader'!BX23,\"\")","v":""},{"$f":"IF('Simplified Loader'!BY23>0,'Simplified Loader'!BY23,\"\")","v":""},{"$f":"IF('Simplified Loader'!BZ23=\"Male\",\"Male\",IF('Simplified Loader'!BZ23=\"Female\",\"Female\",IF('Simplified Loader'!BZ23=\"M\",\"Male\",IF('Simplified Loader'!BZ23=\"F\",\"Female\",\"\"))))","v":""},{"$f":"IF('Simplified Loader'!CA23=\"Yes\",\"Yes\",IF('Simplified Loader'!CA23=\"No\",\"No\",IF('Simplified Loader'!CA23=\"Y\",\"Yes\",IF('Simplified Loader'!CA23=\"N\",\"No\",\"\"))))","v":""},{"$f":"IF('Simplified Loader'!CB23=\"Yes\",\"Yes\",IF('Simplified Loader'!CB23=\"No\",\"No\",IF('Simplified Loader'!CB23=\"Y\",\"Yes\",IF('Simplified Loader'!CB23=\"N\",\"No\",\"\"))))","v":""},{"$f":"IF('Simplified Loader'!CH23>0,'Simplified Loader'!CH23,\"\")","v":"    "}]
[{"$f":"IF('Simplified Loader'!A24>0,'Simplified Loader'!A24,\"\")","v":""},{"$f":"IF('Simplified Loader'!B24>0,'Simplified Loader'!B24,\"\")","v":""},{"$f":"IF('Simplified Loader'!C24>0,'Simplified Loader'!C24,\"\")","v":""},{"$f":"IF('Simplified Loader'!D24>0,'Simplified Loader'!D24,\"\")","v":""},{"$f":"IF('Simplified Loader'!E24>0,TEXT('Simplified Loader'!E24,\"000\"),\"\")","v":""},{"$f":"IF('Simplified Loader'!F24>0,'Simplified Loader'!F24,\"\")","v":""},{"$f":"IF('Simplified Loader'!G24>0,'Simplified Loader'!G24,\"\")","v":""},{"$f":"IF('Simplified Loader'!I24>0,'Simplified Loader'!I24,\"\")","v":""},{"$f":"IF('Simplified Loader'!J24>0,'Simplified Loader'!J24,\"\")","v":""},{"$f":"IF('Simplified Loader'!K24>0,'Simplified Loader'!K24,\"\")","v":""},{"$f":"IF('Simplified Loader'!L24>0,'Simplified Loader'!L24,\"\")","v":""},{"$f":"IF('Simplified Loader'!M24=\"Male\",\"Male\",IF('Simplified Loader'!M24=\"Female\",\"Female\",IF('Simplified Loader'!M24=\"M\",\"Male\",IF('Simplified Loader'!M24=\"F\",\"Female\",\"\"))))","v":""},{"$f":"IF('Simplified Loader'!N24=\"Yes\",\"Yes\",IF('Simplified Loader'!N24=\"No\",\"No\",IF('Simplified Loader'!N24=\"Y\",\"Yes\",IF('Simplified Loader'!N24=\"N\",\"No\",\"\"))))","v":""},{"$f":"IF('Simplified Loader'!O24=\"No\",\"Single\",IF('Simplified Loader'!O24=\"Yes\",\"Family\",IF('Simplified Loader'!O24=\"N\",\"Single\",IF('Simplified Loader'!O24=\"Y\",\"Family\",IF('Simplified Loader'!O24=\"In-force\",\"Family\",IF('Simplified Loader'!O24=\"In force\",\"Family\",IF('Simplified Loader'!O24=\"Applies\",\"Family\",IF('Simplified Loader'!O24=\"Applicable\",\"Family\",\"\"))))))))","v":""},{"$f":"IF('Simplified Loader'!P24=\"English\",\"English\",IF('Simplified Loader'!P24=\"French\",\"French\",IF('Simplified Loader'!P24=\"E\",\"English\",IF('Simplified Loader'!P24=\"F\",\"French\",\"\"))))","v":""},{"$f":"IF('Simplified Loader'!Q24=\"Yes\",\"Yes\",IF('Simplified Loader'!Q24=\"No\",\"No\",IF('Simplified Loader'!Q24=\"Y\",\"Yes\",IF('Simplified Loader'!Q24=\"N\",\"No\",\"\"))))","v":""},{"$f":"IF('Simplified Loader'!R24>0,'Simplified Loader'!R24,\"\")","v":""},{"$f":"IF('Simplified Loader'!S24>0,'Simplified Loader'!S24,\"\")","v":""},{"$f":"IF('Simplified Loader'!T24>0,'Simplified Loader'!T24,\"\")","v":""},{"$f":"IF('Simplified Loader'!U24>0,'Simplified Loader'!U24,\"\")","v":""},{"$f":"IF('Simplified Loader'!V24=\"Waive\",\"Yes\",\"\")","v":""},{"$f":"IF('Simplified Loader'!W24=\"Waive\",\"Yes\",\"\")","v":""},{"$f":"IF('Simplified Loader'!X24>0,'Simplified Loader'!X24,\"\")","v":""},{"$f":"IF('Simplified Loader'!Y24>0,'Simplified Loader'!Y24,\"\")","v":""},{"$f":"IF('Simplified Loader'!Z24>0,'Simplified Loader'!Z24,\"\")","v":""},{"$f":"IF('Simplified Loader'!AA24>0,'Simplified Loader'!AA24,\"\")","v":""},{"$f":"IF('Simplified Loader'!AB24>0,'Simplified Loader'!AB24,\"\")","v":""},{"$f":"IF('Simplified Loader'!AC24>0,'Simplified Loader'!AC24,\"\")","v":" "},{"$f":"IF('Simplified Loader'!AE24>0,'Simplified Loader'!AE24&\" \",\"\")&IF('Simplified Loader'!AD24>0,'Simplified Loader'!AD24,\"\")","v":""},null,{"$f":"IF('Simplified Loader'!AF24>0,'Simplified Loader'!AF24,\"\")","v":""},{"$f":"IF('Simplified Loader'!AG24>0,'Simplified Loader'!AG24,\"\")","v":""},{"$f":"IF('Simplified Loader'!AH24>0,'Simplified Loader'!AH24,\"\")","v":""},{"$f":"IF('Simplified Loader'!AI24>0,'Simplified Loader'!AI24,\"\")","v":""},{"$f":"IF('Simplified Loader'!AJ24>0,'Simplified Loader'!AJ24,\"\")","v":""},{"$f":"IF('Simplified Loader'!AK24>0,'Simplified Loader'!AK24,\"\")","v":""},{"$f":"IF('Simplified Loader'!AL24>0,'Simplified Loader'!AL24,\"\")","v":""},{"$f":"IF('Simplified Loader'!AM24>0,'Simplified Loader'!AM24,\"\")","v":""},{"$f":"IF('Simplified Loader'!AN24=\"Male\",\"Male\",IF('Simplified Loader'!AN24=\"Female\",\"Female\",IF('Simplified Loader'!AN24=\"M\",\"Male\",IF('Simplified Loader'!AN24=\"F\",\"Female\",\"\"))))","v":""},{"$f":"IF('Simplified Loader'!AO24=\"Single\",\"Single\",IF('Simplified Loader'!AO24=\"Family\",\"Family\",IF('Simplified Loader'!AO24=\"S\",\"Single\",IF('Simplified Loader'!AO24=\"F\",\"Family\",\"\"))))","v":""},{"$f":"IF('Simplified Loader'!AP24=\"Single\",\"Single\",IF('Simplified Loader'!AP24=\"Family\",\"Family\",IF('Simplified Loader'!AP24=\"S\",\"Single\",IF('Simplified Loader'!AP24=\"F\",\"Family\",\"\"))))","v":""},{"$f":"IF('Simplified Loader'!AQ24>0,'Simplified Loader'!AQ24,\"\")","v":""},{"$f":"IF('Simplified Loader'!AR24=\"Yes\",\"Yes\",IF('Simplified Loader'!AR24=\"No\",\"No\",IF('Simplified Loader'!AR24=\"Y\",\"Yes\",IF('Simplified Loader'!AR24=\"N\",\"No\",\"\"))))","v":""},{"$f":"IF('Simplified Loader'!AS24>0,'Simplified Loader'!AS24,\"\")","v":""},{"$f":"IF('Simplified Loader'!AT24>0,'Simplified Loader'!AT24,\"\")","v":""},{"$f":"IF('Simplified Loader'!AU24>0,'Simplified Loader'!AU24,\"\")","v":""},{"$f":"IF('Simplified Loader'!AV24=\"Male\",\"Male\",IF('Simplified Loader'!AV24=\"Female\",\"Female\",IF('Simplified Loader'!AV24=\"M\",\"Male\",IF('Simplified Loader'!AV24=\"F\",\"Female\",\"\"))))","v":""},{"$f":"IF('Simplified Loader'!AW24=\"Yes\",\"Yes\",IF('Simplified Loader'!AW24=\"No\",\"No\",IF('Simplified Loader'!AW24=\"Y\",\"Yes\",IF('Simplified Loader'!AW24=\"N\",\"No\",\"\"))))","v":""},{"$f":"IF('Simplified Loader'!AX24=\"Yes\",\"Yes\",IF('Simplified Loader'!AX24=\"No\",\"No\",IF('Simplified Loader'!AX24=\"Y\",\"Yes\",IF('Simplified Loader'!AX24=\"N\",\"No\",\"\"))))","v":""},{"$f":"IF('Simplified Loader'!AY24>0,'Simplified Loader'!AY24,\"\")","v":""},{"$f":"IF('Simplified Loader'!AZ24>0,'Simplified Loader'!AZ24,\"\")","v":""},{"$f":"IF('Simplified Loader'!BA24>0,'Simplified Loader'!BA24,\"\")","v":""},{"$f":"IF('Simplified Loader'!BB24=\"Male\",\"Male\",IF('Simplified Loader'!BB24=\"Female\",\"Female\",IF('Simplified Loader'!BB24=\"M\",\"Male\",IF('Simplified Loader'!BB24=\"F\",\"Female\",\"\"))))","v":""},{"$f":"IF('Simplified Loader'!BC24=\"Yes\",\"Yes\",IF('Simplified Loader'!BC24=\"No\",\"No\",IF('Simplified Loader'!BC24=\"Y\",\"Yes\",IF('Simplified Loader'!BC24=\"N\",\"No\",\"\"))))","v":""},{"$f":"IF('Simplified Loader'!BD24=\"Yes\",\"Yes\",IF('Simplified Loader'!BD24=\"No\",\"No\",IF('Simplified Loader'!BD24=\"Y\",\"Yes\",IF('Simplified Loader'!BD24=\"N\",\"No\",\"\"))))","v":""},{"$f":"IF('Simplified Loader'!BE24>0,'Simplified Loader'!BE24,\"\")","v":""},{"$f":"IF('Simplified Loader'!BF24>0,'Simplified Loader'!BF24,\"\")","v":""},{"$f":"IF('Simplified Loader'!BG24>0,'Simplified Loader'!BG24,\"\")","v":""},{"$f":"IF('Simplified Loader'!BH24=\"Male\",\"Male\",IF('Simplified Loader'!BH24=\"Female\",\"Female\",IF('Simplified Loader'!BH24=\"M\",\"Male\",IF('Simplified Loader'!BH24=\"F\",\"Female\",\"\"))))","v":""},{"$f":"IF('Simplified Loader'!BI24=\"Yes\",\"Yes\",IF('Simplified Loader'!BI24=\"No\",\"No\",IF('Simplified Loader'!BI24=\"Y\",\"Yes\",IF('Simplified Loader'!BI24=\"N\",\"No\",\"\"))))","v":""},{"$f":"IF('Simplified Loader'!BJ24=\"Yes\",\"Yes\",IF('Simplified Loader'!BJ24=\"No\",\"No\",IF('Simplified Loader'!BJ24=\"Y\",\"Yes\",IF('Simplified Loader'!BJ24=\"N\",\"No\",\"\"))))","v":""},{"$f":"IF('Simplified Loader'!BK24>0,'Simplified Loader'!BK24,\"\")","v":""},{"$f":"IF('Simplified Loader'!BL24>0,'Simplified Loader'!BL24,\"\")","v":""},{"$f":"IF('Simplified Loader'!BM24>0,'Simplified Loader'!BM24,\"\")","v":""},{"$f":"IF('Simplified Loader'!BN24=\"Male\",\"Male\",IF('Simplified Loader'!BN24=\"Female\",\"Female\",IF('Simplified Loader'!BN24=\"M\",\"Male\",IF('Simplified Loader'!BN24=\"F\",\"Female\",\"\"))))","v":""},{"$f":"IF('Simplified Loader'!BO24=\"Yes\",\"Yes\",IF('Simplified Loader'!BO24=\"No\",\"No\",IF('Simplified Loader'!BO24=\"Y\",\"Yes\",IF('Simplified Loader'!BO24=\"N\",\"No\",\"\"))))","v":""},{"$f":"IF('Simplified Loader'!BP24=\"Yes\",\"Yes\",IF('Simplified Loader'!BP24=\"No\",\"No\",IF('Simplified Loader'!BP24=\"Y\",\"Yes\",IF('Simplified Loader'!BP24=\"N\",\"No\",\"\"))))","v":""},{"$f":"IF('Simplified Loader'!BQ24>0,'Simplified Loader'!BQ24,\"\")","v":""},{"$f":"IF('Simplified Loader'!BR24>0,'Simplified Loader'!BR24,\"\")","v":""},{"$f":"IF('Simplified Loader'!BS24>0,'Simplified Loader'!BS24,\"\")","v":""},{"$f":"IF('Simplified Loader'!BT24=\"Male\",\"Male\",IF('Simplified Loader'!BT24=\"Female\",\"Female\",IF('Simplified Loader'!BT24=\"M\",\"Male\",IF('Simplified Loader'!BT24=\"F\",\"Female\",\"\"))))","v":""},{"$f":"IF('Simplified Loader'!BU24=\"Yes\",\"Yes\",IF('Simplified Loader'!BU24=\"No\",\"No\",IF('Simplified Loader'!BU24=\"Y\",\"Yes\",IF('Simplified Loader'!BU24=\"N\",\"No\",\"\"))))","v":""},{"$f":"IF('Simplified Loader'!BV24=\"Yes\",\"Yes\",IF('Simplified Loader'!BV24=\"No\",\"No\",IF('Simplified Loader'!BV24=\"Y\",\"Yes\",IF('Simplified Loader'!BV24=\"N\",\"No\",\"\"))))","v":""},{"$f":"IF('Simplified Loader'!BW24>0,'Simplified Loader'!BW24,\"\")","v":""},{"$f":"IF('Simplified Loader'!BX24>0,'Simplified Loader'!BX24,\"\")","v":""},{"$f":"IF('Simplified Loader'!BY24>0,'Simplified Loader'!BY24,\"\")","v":""},{"$f":"IF('Simplified Loader'!BZ24=\"Male\",\"Male\",IF('Simplified Loader'!BZ24=\"Female\",\"Female\",IF('Simplified Loader'!BZ24=\"M\",\"Male\",IF('Simplified Loader'!BZ24=\"F\",\"Female\",\"\"))))","v":""},{"$f":"IF('Simplified Loader'!CA24=\"Yes\",\"Yes\",IF('Simplified Loader'!CA24=\"No\",\"No\",IF('Simplified Loader'!CA24=\"Y\",\"Yes\",IF('Simplified Loader'!CA24=\"N\",\"No\",\"\"))))","v":""},{"$f":"IF('Simplified Loader'!CB24=\"Yes\",\"Yes\",IF('Simplified Loader'!CB24=\"No\",\"No\",IF('Simplified Loader'!CB24=\"Y\",\"Yes\",IF('Simplified Loader'!CB24=\"N\",\"No\",\"\"))))","v":""},{"$f":"IF('Simplified Loader'!CH24>0,'Simplified Loader'!CH24,\"\")","v":"    "}]
[{"$f":"IF('Simplified Loader'!A25>0,'Simplified Loader'!A25,\"\")","v":""},{"$f":"IF('Simplified Loader'!B25>0,'Simplified Loader'!B25,\"\")","v":""},{"$f":"IF('Simplified Loader'!C25>0,'Simplified Loader'!C25,\"\")","v":""},{"$f":"IF('Simplified Loader'!D25>0,'Simplified Loader'!D25,\"\")","v":""},{"$f":"IF('Simplified Loader'!E25>0,TEXT('Simplified Loader'!E25,\"000\"),\"\")","v":""},{"$f":"IF('Simplified Loader'!F25>0,'Simplified Loader'!F25,\"\")","v":""},{"$f":"IF('Simplified Loader'!G25>0,'Simplified Loader'!G25,\"\")","v":""},{"$f":"IF('Simplified Loader'!I25>0,'Simplified Loader'!I25,\"\")","v":""},{"$f":"IF('Simplified Loader'!J25>0,'Simplified Loader'!J25,\"\")","v":""},{"$f":"IF('Simplified Loader'!K25>0,'Simplified Loader'!K25,\"\")","v":""},{"$f":"IF('Simplified Loader'!L25>0,'Simplified Loader'!L25,\"\")","v":""},{"$f":"IF('Simplified Loader'!M25=\"Male\",\"Male\",IF('Simplified Loader'!M25=\"Female\",\"Female\",IF('Simplified Loader'!M25=\"M\",\"Male\",IF('Simplified Loader'!M25=\"F\",\"Female\",\"\"))))","v":""},{"$f":"IF('Simplified Loader'!N25=\"Yes\",\"Yes\",IF('Simplified Loader'!N25=\"No\",\"No\",IF('Simplified Loader'!N25=\"Y\",\"Yes\",IF('Simplified Loader'!N25=\"N\",\"No\",\"\"))))","v":""},{"$f":"IF('Simplified Loader'!O25=\"No\",\"Single\",IF('Simplified Loader'!O25=\"Yes\",\"Family\",IF('Simplified Loader'!O25=\"N\",\"Single\",IF('Simplified Loader'!O25=\"Y\",\"Family\",IF('Simplified Loader'!O25=\"In-force\",\"Family\",IF('Simplified Loader'!O25=\"In force\",\"Family\",IF('Simplified Loader'!O25=\"Applies\",\"Family\",IF('Simplified Loader'!O25=\"Applicable\",\"Family\",\"\"))))))))","v":""},{"$f":"IF('Simplified Loader'!P25=\"English\",\"English\",IF('Simplified Loader'!P25=\"French\",\"French\",IF('Simplified Loader'!P25=\"E\",\"English\",IF('Simplified Loader'!P25=\"F\",\"French\",\"\"))))","v":""},{"$f":"IF('Simplified Loader'!Q25=\"Yes\",\"Yes\",IF('Simplified Loader'!Q25=\"No\",\"No\",IF('Simplified Loader'!Q25=\"Y\",\"Yes\",IF('Simplified Loader'!Q25=\"N\",\"No\",\"\"))))","v":""},{"$f":"IF('Simplified Loader'!R25>0,'Simplified Loader'!R25,\"\")","v":""},{"$f":"IF('Simplified Loader'!S25>0,'Simplified Loader'!S25,\"\")","v":""},{"$f":"IF('Simplified Loader'!T25>0,'Simplified Loader'!T25,\"\")","v":""},{"$f":"IF('Simplified Loader'!U25>0,'Simplified Loader'!U25,\"\")","v":""},{"$f":"IF('Simplified Loader'!V25=\"Waive\",\"Yes\",\"\")","v":""},{"$f":"IF('Simplified Loader'!W25=\"Waive\",\"Yes\",\"\")","v":""},{"$f":"IF('Simplified Loader'!X25>0,'Simplified Loader'!X25,\"\")","v":""},{"$f":"IF('Simplified Loader'!Y25>0,'Simplified Loader'!Y25,\"\")","v":""},{"$f":"IF('Simplified Loader'!Z25>0,'Simplified Loader'!Z25,\"\")","v":""},{"$f":"IF('Simplified Loader'!AA25>0,'Simplified Loader'!AA25,\"\")","v":""},{"$f":"IF('Simplified Loader'!AB25>0,'Simplified Loader'!AB25,\"\")","v":""},{"$f":"IF('Simplified Loader'!AC25>0,'Simplified Loader'!AC25,\"\")","v":" "},{"$f":"IF('Simplified Loader'!AE25>0,'Simplified Loader'!AE25&\" \",\"\")&IF('Simplified Loader'!AD25>0,'Simplified Loader'!AD25,\"\")","v":""},null,{"$f":"IF('Simplified Loader'!AF25>0,'Simplified Loader'!AF25,\"\")","v":""},{"$f":"IF('Simplified Loader'!AG25>0,'Simplified Loader'!AG25,\"\")","v":""},{"$f":"IF('Simplified Loader'!AH25>0,'Simplified Loader'!AH25,\"\")","v":""},{"$f":"IF('Simplified Loader'!AI25>0,'Simplified Loader'!AI25,\"\")","v":""},{"$f":"IF('Simplified Loader'!AJ25>0,'Simplified Loader'!AJ25,\"\")","v":""},{"$f":"IF('Simplified Loader'!AK25>0,'Simplified Loader'!AK25,\"\")","v":""},{"$f":"IF('Simplified Loader'!AL25>0,'Simplified Loader'!AL25,\"\")","v":""},{"$f":"IF('Simplified Loader'!AM25>0,'Simplified Loader'!AM25,\"\")","v":""},{"$f":"IF('Simplified Loader'!AN25=\"Male\",\"Male\",IF('Simplified Loader'!AN25=\"Female\",\"Female\",IF('Simplified Loader'!AN25=\"M\",\"Male\",IF('Simplified Loader'!AN25=\"F\",\"Female\",\"\"))))","v":""},{"$f":"IF('Simplified Loader'!AO25=\"Single\",\"Single\",IF('Simplified Loader'!AO25=\"Family\",\"Family\",IF('Simplified Loader'!AO25=\"S\",\"Single\",IF('Simplified Loader'!AO25=\"F\",\"Family\",\"\"))))","v":""},{"$f":"IF('Simplified Loader'!AP25=\"Single\",\"Single\",IF('Simplified Loader'!AP25=\"Family\",\"Family\",IF('Simplified Loader'!AP25=\"S\",\"Single\",IF('Simplified Loader'!AP25=\"F\",\"Family\",\"\"))))","v":""},{"$f":"IF('Simplified Loader'!AQ25>0,'Simplified Loader'!AQ25,\"\")","v":""},{"$f":"IF('Simplified Loader'!AR25=\"Yes\",\"Yes\",IF('Simplified Loader'!AR25=\"No\",\"No\",IF('Simplified Loader'!AR25=\"Y\",\"Yes\",IF('Simplified Loader'!AR25=\"N\",\"No\",\"\"))))","v":""},{"$f":"IF('Simplified Loader'!AS25>0,'Simplified Loader'!AS25,\"\")","v":""},{"$f":"IF('Simplified Loader'!AT25>0,'Simplified Loader'!AT25,\"\")","v":""},{"$f":"IF('Simplified Loader'!AU25>0,'Simplified Loader'!AU25,\"\")","v":""},{"$f":"IF('Simplified Loader'!AV25=\"Male\",\"Male\",IF('Simplified Loader'!AV25=\"Female\",\"Female\",IF('Simplified Loader'!AV25=\"M\",\"Male\",IF('Simplified Loader'!AV25=\"F\",\"Female\",\"\"))))","v":""},{"$f":"IF('Simplified Loader'!AW25=\"Yes\",\"Yes\",IF('Simplified Loader'!AW25=\"No\",\"No\",IF('Simplified Loader'!AW25=\"Y\",\"Yes\",IF('Simplified Loader'!AW25=\"N\",\"No\",\"\"))))","v":""},{"$f":"IF('Simplified Loader'!AX25=\"Yes\",\"Yes\",IF('Simplified Loader'!AX25=\"No\",\"No\",IF('Simplified Loader'!AX25=\"Y\",\"Yes\",IF('Simplified Loader'!AX25=\"N\",\"No\",\"\"))))","v":""},{"$f":"IF('Simplified Loader'!AY25>0,'Simplified Loader'!AY25,\"\")","v":""},{"$f":"IF('Simplified Loader'!AZ25>0,'Simplified Loader'!AZ25,\"\")","v":""},{"$f":"IF('Simplified Loader'!BA25>0,'Simplified Loader'!BA25,\"\")","v":""},{"$f":"IF('Simplified Loader'!BB25=\"Male\",\"Male\",IF('Simplified Loader'!BB25=\"Female\",\"Female\",IF('Simplified Loader'!BB25=\"M\",\"Male\",IF('Simplified Loader'!BB25=\"F\",\"Female\",\"\"))))","v":""},{"$f":"IF('Simplified Loader'!BC25=\"Yes\",\"Yes\",IF('Simplified Loader'!BC25=\"No\",\"No\",IF('Simplified Loader'!BC25=\"Y\",\"Yes\",IF('Simplified Loader'!BC25=\"N\",\"No\",\"\"))))","v":""},{"$f":"IF('Simplified Loader'!BD25=\"Yes\",\"Yes\",IF('Simplified Loader'!BD25=\"No\",\"No\",IF('Simplified Loader'!BD25=\"Y\",\"Yes\",IF('Simplified Loader'!BD25=\"N\",\"No\",\"\"))))","v":""},{"$f":"IF('Simplified Loader'!BE25>0,'Simplified Loader'!BE25,\"\")","v":""},{"$f":"IF('Simplified Loader'!BF25>0,'Simplified Loader'!BF25,\"\")","v":""},{"$f":"IF('Simplified Loader'!BG25>0,'Simplified Loader'!BG25,\"\")","v":""},{"$f":"IF('Simplified Loader'!BH25=\"Male\",\"Male\",IF('Simplified Loader'!BH25=\"Female\",\"Female\",IF('Simplified Loader'!BH25=\"M\",\"Male\",IF('Simplified Loader'!BH25=\"F\",\"Female\",\"\"))))","v":""},{"$f":"IF('Simplified Loader'!BI25=\"Yes\",\"Yes\",IF('Simplified Loader'!BI25=\"No\",\"No\",IF('Simplified Loader'!BI25=\"Y\",\"Yes\",IF('Simplified Loader'!BI25=\"N\",\"No\",\"\"))))","v":""},{"$f":"IF('Simplified Loader'!BJ25=\"Yes\",\"Yes\",IF('Simplified Loader'!BJ25=\"No\",\"No\",IF('Simplified Loader'!BJ25=\"Y\",\"Yes\",IF('Simplified Loader'!BJ25=\"N\",\"No\",\"\"))))","v":""},{"$f":"IF('Simplified Loader'!BK25>0,'Simplified Loader'!BK25,\"\")","v":""},{"$f":"IF('Simplified Loader'!BL25>0,'Simplified Loader'!BL25,\"\")","v":""},{"$f":"IF('Simplified Loader'!BM25>0,'Simplified Loader'!BM25,\"\")","v":""},{"$f":"IF('Simplified Loader'!BN25=\"Male\",\"Male\",IF('Simplified Loader'!BN25=\"Female\",\"Female\",IF('Simplified Loader'!BN25=\"M\",\"Male\",IF('Simplified Loader'!BN25=\"F\",\"Female\",\"\"))))","v":""},{"$f":"IF('Simplified Loader'!BO25=\"Yes\",\"Yes\",IF('Simplified Loader'!BO25=\"No\",\"No\",IF('Simplified Loader'!BO25=\"Y\",\"Yes\",IF('Simplified Loader'!BO25=\"N\",\"No\",\"\"))))","v":""},{"$f":"IF('Simplified Loader'!BP25=\"Yes\",\"Yes\",IF('Simplified Loader'!BP25=\"No\",\"No\",IF('Simplified Loader'!BP25=\"Y\",\"Yes\",IF('Simplified Loader'!BP25=\"N\",\"No\",\"\"))))","v":""},{"$f":"IF('Simplified Loader'!BQ25>0,'Simplified Loader'!BQ25,\"\")","v":""},{"$f":"IF('Simplified Loader'!BR25>0,'Simplified Loader'!BR25,\"\")","v":""},{"$f":"IF('Simplified Loader'!BS25>0,'Simplified Loader'!BS25,\"\")","v":""},{"$f":"IF('Simplified Loader'!BT25=\"Male\",\"Male\",IF('Simplified Loader'!BT25=\"Female\",\"Female\",IF('Simplified Loader'!BT25=\"M\",\"Male\",IF('Simplified Loader'!BT25=\"F\",\"Female\",\"\"))))","v":""},{"$f":"IF('Simplified Loader'!BU25=\"Yes\",\"Yes\",IF('Simplified Loader'!BU25=\"No\",\"No\",IF('Simplified Loader'!BU25=\"Y\",\"Yes\",IF('Simplified Loader'!BU25=\"N\",\"No\",\"\"))))","v":""},{"$f":"IF('Simplified Loader'!BV25=\"Yes\",\"Yes\",IF('Simplified Loader'!BV25=\"No\",\"No\",IF('Simplified Loader'!BV25=\"Y\",\"Yes\",IF('Simplified Loader'!BV25=\"N\",\"No\",\"\"))))","v":""},{"$f":"IF('Simplified Loader'!BW25>0,'Simplified Loader'!BW25,\"\")","v":""},{"$f":"IF('Simplified Loader'!BX25>0,'Simplified Loader'!BX25,\"\")","v":""},{"$f":"IF('Simplified Loader'!BY25>0,'Simplified Loader'!BY25,\"\")","v":""},{"$f":"IF('Simplified Loader'!BZ25=\"Male\",\"Male\",IF('Simplified Loader'!BZ25=\"Female\",\"Female\",IF('Simplified Loader'!BZ25=\"M\",\"Male\",IF('Simplified Loader'!BZ25=\"F\",\"Female\",\"\"))))","v":""},{"$f":"IF('Simplified Loader'!CA25=\"Yes\",\"Yes\",IF('Simplified Loader'!CA25=\"No\",\"No\",IF('Simplified Loader'!CA25=\"Y\",\"Yes\",IF('Simplified Loader'!CA25=\"N\",\"No\",\"\"))))","v":""},{"$f":"IF('Simplified Loader'!CB25=\"Yes\",\"Yes\",IF('Simplified Loader'!CB25=\"No\",\"No\",IF('Simplified Loader'!CB25=\"Y\",\"Yes\",IF('Simplified Loader'!CB25=\"N\",\"No\",\"\"))))","v":""},{"$f":"IF('Simplified Loader'!CH25>0,'Simplified Loader'!CH25,\"\")","v":"    "}]
[{"$f":"IF('Simplified Loader'!A26>0,'Simplified Loader'!A26,\"\")","v":""},{"$f":"IF('Simplified Loader'!B26>0,'Simplified Loader'!B26,\"\")","v":""},{"$f":"IF('Simplified Loader'!C26>0,'Simplified Loader'!C26,\"\")","v":""},{"$f":"IF('Simplified Loader'!D26>0,'Simplified Loader'!D26,\"\")","v":""},{"$f":"IF('Simplified Loader'!E26>0,TEXT('Simplified Loader'!E26,\"000\"),\"\")","v":""},{"$f":"IF('Simplified Loader'!F26>0,'Simplified Loader'!F26,\"\")","v":""},{"$f":"IF('Simplified Loader'!G26>0,'Simplified Loader'!G26,\"\")","v":""},{"$f":"IF('Simplified Loader'!I26>0,'Simplified Loader'!I26,\"\")","v":""},{"$f":"IF('Simplified Loader'!J26>0,'Simplified Loader'!J26,\"\")","v":""},{"$f":"IF('Simplified Loader'!K26>0,'Simplified Loader'!K26,\"\")","v":""},{"$f":"IF('Simplified Loader'!L26>0,'Simplified Loader'!L26,\"\")","v":""},{"$f":"IF('Simplified Loader'!M26=\"Male\",\"Male\",IF('Simplified Loader'!M26=\"Female\",\"Female\",IF('Simplified Loader'!M26=\"M\",\"Male\",IF('Simplified Loader'!M26=\"F\",\"Female\",\"\"))))","v":""},{"$f":"IF('Simplified Loader'!N26=\"Yes\",\"Yes\",IF('Simplified Loader'!N26=\"No\",\"No\",IF('Simplified Loader'!N26=\"Y\",\"Yes\",IF('Simplified Loader'!N26=\"N\",\"No\",\"\"))))","v":""},{"$f":"IF('Simplified Loader'!O26=\"No\",\"Single\",IF('Simplified Loader'!O26=\"Yes\",\"Family\",IF('Simplified Loader'!O26=\"N\",\"Single\",IF('Simplified Loader'!O26=\"Y\",\"Family\",IF('Simplified Loader'!O26=\"In-force\",\"Family\",IF('Simplified Loader'!O26=\"In force\",\"Family\",IF('Simplified Loader'!O26=\"Applies\",\"Family\",IF('Simplified Loader'!O26=\"Applicable\",\"Family\",\"\"))))))))","v":""},{"$f":"IF('Simplified Loader'!P26=\"English\",\"English\",IF('Simplified Loader'!P26=\"French\",\"French\",IF('Simplified Loader'!P26=\"E\",\"English\",IF('Simplified Loader'!P26=\"F\",\"French\",\"\"))))","v":""},{"$f":"IF('Simplified Loader'!Q26=\"Yes\",\"Yes\",IF('Simplified Loader'!Q26=\"No\",\"No\",IF('Simplified Loader'!Q26=\"Y\",\"Yes\",IF('Simplified Loader'!Q26=\"N\",\"No\",\"\"))))","v":""},{"$f":"IF('Simplified Loader'!R26>0,'Simplified Loader'!R26,\"\")","v":""},{"$f":"IF('Simplified Loader'!S26>0,'Simplified Loader'!S26,\"\")","v":""},{"$f":"IF('Simplified Loader'!T26>0,'Simplified Loader'!T26,\"\")","v":""},{"$f":"IF('Simplified Loader'!U26>0,'Simplified Loader'!U26,\"\")","v":""},{"$f":"IF('Simplified Loader'!V26=\"Waive\",\"Yes\",\"\")","v":""},{"$f":"IF('Simplified Loader'!W26=\"Waive\",\"Yes\",\"\")","v":""},{"$f":"IF('Simplified Loader'!X26>0,'Simplified Loader'!X26,\"\")","v":""},{"$f":"IF('Simplified Loader'!Y26>0,'Simplified Loader'!Y26,\"\")","v":""},{"$f":"IF('Simplified Loader'!Z26>0,'Simplified Loader'!Z26,\"\")","v":""},{"$f":"IF('Simplified Loader'!AA26>0,'Simplified Loader'!AA26,\"\")","v":""},{"$f":"IF('Simplified Loader'!AB26>0,'Simplified Loader'!AB26,\"\")","v":""},{"$f":"IF('Simplified Loader'!AC26>0,'Simplified Loader'!AC26,\"\")","v":" "},{"$f":"IF('Simplified Loader'!AE26>0,'Simplified Loader'!AE26&\" \",\"\")&IF('Simplified Loader'!AD26>0,'Simplified Loader'!AD26,\"\")","v":""},null,{"$f":"IF('Simplified Loader'!AF26>0,'Simplified Loader'!AF26,\"\")","v":""},{"$f":"IF('Simplified Loader'!AG26>0,'Simplified Loader'!AG26,\"\")","v":""},{"$f":"IF('Simplified Loader'!AH26>0,'Simplified Loader'!AH26,\"\")","v":""},{"$f":"IF('Simplified Loader'!AI26>0,'Simplified Loader'!AI26,\"\")","v":""},{"$f":"IF('Simplified Loader'!AJ26>0,'Simplified Loader'!AJ26,\"\")","v":""},{"$f":"IF('Simplified Loader'!AK26>0,'Simplified Loader'!AK26,\"\")","v":""},{"$f":"IF('Simplified Loader'!AL26>0,'Simplified Loader'!AL26,\"\")","v":""},{"$f":"IF('Simplified Loader'!AM26>0,'Simplified Loader'!AM26,\"\")","v":""},{"$f":"IF('Simplified Loader'!AN26=\"Male\",\"Male\",IF('Simplified Loader'!AN26=\"Female\",\"Female\",IF('Simplified Loader'!AN26=\"M\",\"Male\",IF('Simplified Loader'!AN26=\"F\",\"Female\",\"\"))))","v":""},{"$f":"IF('Simplified Loader'!AO26=\"Single\",\"Single\",IF('Simplified Loader'!AO26=\"Family\",\"Family\",IF('Simplified Loader'!AO26=\"S\",\"Single\",IF('Simplified Loader'!AO26=\"F\",\"Family\",\"\"))))","v":""},{"$f":"IF('Simplified Loader'!AP26=\"Single\",\"Single\",IF('Simplified Loader'!AP26=\"Family\",\"Family\",IF('Simplified Loader'!AP26=\"S\",\"Single\",IF('Simplified Loader'!AP26=\"F\",\"Family\",\"\"))))","v":""},{"$f":"IF('Simplified Loader'!AQ26>0,'Simplified Loader'!AQ26,\"\")","v":""},{"$f":"IF('Simplified Loader'!AR26=\"Yes\",\"Yes\",IF('Simplified Loader'!AR26=\"No\",\"No\",IF('Simplified Loader'!AR26=\"Y\",\"Yes\",IF('Simplified Loader'!AR26=\"N\",\"No\",\"\"))))","v":""},{"$f":"IF('Simplified Loader'!AS26>0,'Simplified Loader'!AS26,\"\")","v":""},{"$f":"IF('Simplified Loader'!AT26>0,'Simplified Loader'!AT26,\"\")","v":""},{"$f":"IF('Simplified Loader'!AU26>0,'Simplified Loader'!AU26,\"\")","v":""},{"$f":"IF('Simplified Loader'!AV26=\"Male\",\"Male\",IF('Simplified Loader'!AV26=\"Female\",\"Female\",IF('Simplified Loader'!AV26=\"M\",\"Male\",IF('Simplified Loader'!AV26=\"F\",\"Female\",\"\"))))","v":""},{"$f":"IF('Simplified Loader'!AW26=\"Yes\",\"Yes\",IF('Simplified Loader'!AW26=\"No\",\"No\",IF('Simplified Loader'!AW26=\"Y\",\"Yes\",IF('Simplified Loader'!AW26=\"N\",\"No\",\"\"))))","v":""},{"$f":"IF('Simplified Loader'!AX26=\"Yes\",\"Yes\",IF('Simplified Loader'!AX26=\"No\",\"No\",IF('Simplified Loader'!AX26=\"Y\",\"Yes\",IF('Simplified Loader'!AX26=\"N\",\"No\",\"\"))))","v":""},{"$f":"IF('Simplified Loader'!AY26>0,'Simplified Loader'!AY26,\"\")","v":""},{"$f":"IF('Simplified Loader'!AZ26>0,'Simplified Loader'!AZ26,\"\")","v":""},{"$f":"IF('Simplified Loader'!BA26>0,'Simplified Loader'!BA26,\"\")","v":""},{"$f":"IF('Simplified Loader'!BB26=\"Male\",\"Male\",IF('Simplified Loader'!BB26=\"Female\",\"Female\",IF('Simplified Loader'!BB26=\"M\",\"Male\",IF('Simplified Loader'!BB26=\"F\",\"Female\",\"\"))))","v":""},{"$f":"IF('Simplified Loader'!BC26=\"Yes\",\"Yes\",IF('Simplified Loader'!BC26=\"No\",\"No\",IF('Simplified Loader'!BC26=\"Y\",\"Yes\",IF('Simplified Loader'!BC26=\"N\",\"No\",\"\"))))","v":""},{"$f":"IF('Simplified Loader'!BD26=\"Yes\",\"Yes\",IF('Simplified Loader'!BD26=\"No\",\"No\",IF('Simplified Loader'!BD26=\"Y\",\"Yes\",IF('Simplified Loader'!BD26=\"N\",\"No\",\"\"))))","v":""},{"$f":"IF('Simplified Loader'!BE26>0,'Simplified Loader'!BE26,\"\")","v":""},{"$f":"IF('Simplified Loader'!BF26>0,'Simplified Loader'!BF26,\"\")","v":""},{"$f":"IF('Simplified Loader'!BG26>0,'Simplified Loader'!BG26,\"\")","v":""},{"$f":"IF('Simplified Loader'!BH26=\"Male\",\"Male\",IF('Simplified Loader'!BH26=\"Female\",\"Female\",IF('Simplified Loader'!BH26=\"M\",\"Male\",IF('Simplified Loader'!BH26=\"F\",\"Female\",\"\"))))","v":""},{"$f":"IF('Simplified Loader'!BI26=\"Yes\",\"Yes\",IF('Simplified Loader'!BI26=\"No\",\"No\",IF('Simplified Loader'!BI26=\"Y\",\"Yes\",IF('Simplified Loader'!BI26=\"N\",\"No\",\"\"))))","v":""},{"$f":"IF('Simplified Loader'!BJ26=\"Yes\",\"Yes\",IF('Simplified Loader'!BJ26=\"No\",\"No\",IF('Simplified Loader'!BJ26=\"Y\",\"Yes\",IF('Simplified Loader'!BJ26=\"N\",\"No\",\"\"))))","v":""},{"$f":"IF('Simplified Loader'!BK26>0,'Simplified Loader'!BK26,\"\")","v":""},{"$f":"IF('Simplified Loader'!BL26>0,'Simplified Loader'!BL26,\"\")","v":""},{"$f":"IF('Simplified Loader'!BM26>0,'Simplified Loader'!BM26,\"\")","v":""},{"$f":"IF('Simplified Loader'!BN26=\"Male\",\"Male\",IF('Simplified Loader'!BN26=\"Female\",\"Female\",IF('Simplified Loader'!BN26=\"M\",\"Male\",IF('Simplified Loader'!BN26=\"F\",\"Female\",\"\"))))","v":""},{"$f":"IF('Simplified Loader'!BO26=\"Yes\",\"Yes\",IF('Simplified Loader'!BO26=\"No\",\"No\",IF('Simplified Loader'!BO26=\"Y\",\"Yes\",IF('Simplified Loader'!BO26=\"N\",\"No\",\"\"))))","v":""},{"$f":"IF('Simplified Loader'!BP26=\"Yes\",\"Yes\",IF('Simplified Loader'!BP26=\"No\",\"No\",IF('Simplified Loader'!BP26=\"Y\",\"Yes\",IF('Simplified Loader'!BP26=\"N\",\"No\",\"\"))))","v":""},{"$f":"IF('Simplified Loader'!BQ26>0,'Simplified Loader'!BQ26,\"\")","v":""},{"$f":"IF('Simplified Loader'!BR26>0,'Simplified Loader'!BR26,\"\")","v":""},{"$f":"IF('Simplified Loader'!BS26>0,'Simplified Loader'!BS26,\"\")","v":""},{"$f":"IF('Simplified Loader'!BT26=\"Male\",\"Male\",IF('Simplified Loader'!BT26=\"Female\",\"Female\",IF('Simplified Loader'!BT26=\"M\",\"Male\",IF('Simplified Loader'!BT26=\"F\",\"Female\",\"\"))))","v":""},{"$f":"IF('Simplified Loader'!BU26=\"Yes\",\"Yes\",IF('Simplified Loader'!BU26=\"No\",\"No\",IF('Simplified Loader'!BU26=\"Y\",\"Yes\",IF('Simplified Loader'!BU26=\"N\",\"No\",\"\"))))","v":""},{"$f":"IF('Simplified Loader'!BV26=\"Yes\",\"Yes\",IF('Simplified Loader'!BV26=\"No\",\"No\",IF('Simplified Loader'!BV26=\"Y\",\"Yes\",IF('Simplified Loader'!BV26=\"N\",\"No\",\"\"))))","v":""},{"$f":"IF('Simplified Loader'!BW26>0,'Simplified Loader'!BW26,\"\")","v":""},{"$f":"IF('Simplified Loader'!BX26>0,'Simplified Loader'!BX26,\"\")","v":""},{"$f":"IF('Simplified Loader'!BY26>0,'Simplified Loader'!BY26,\"\")","v":""},{"$f":"IF('Simplified Loader'!BZ26=\"Male\",\"Male\",IF('Simplified Loader'!BZ26=\"Female\",\"Female\",IF('Simplified Loader'!BZ26=\"M\",\"Male\",IF('Simplified Loader'!BZ26=\"F\",\"Female\",\"\"))))","v":""},{"$f":"IF('Simplified Loader'!CA26=\"Yes\",\"Yes\",IF('Simplified Loader'!CA26=\"No\",\"No\",IF('Simplified Loader'!CA26=\"Y\",\"Yes\",IF('Simplified Loader'!CA26=\"N\",\"No\",\"\"))))","v":""},{"$f":"IF('Simplified Loader'!CB26=\"Yes\",\"Yes\",IF('Simplified Loader'!CB26=\"No\",\"No\",IF('Simplified Loader'!CB26=\"Y\",\"Yes\",IF('Simplified Loader'!CB26=\"N\",\"No\",\"\"))))","v":""},{"$f":"IF('Simplified Loader'!CH26>0,'Simplified Loader'!CH26,\"\")","v":"    "}]
[{"$f":"IF('Simplified Loader'!A27>0,'Simplified Loader'!A27,\"\")","v":""},{"$f":"IF('Simplified Loader'!B27>0,'Simplified Loader'!B27,\"\")","v":""},{"$f":"IF('Simplified Loader'!C27>0,'Simplified Loader'!C27,\"\")","v":""},{"$f":"IF('Simplified Loader'!D27>0,'Simplified Loader'!D27,\"\")","v":""},{"$f":"IF('Simplified Loader'!E27>0,TEXT('Simplified Loader'!E27,\"000\"),\"\")","v":""},{"$f":"IF('Simplified Loader'!F27>0,'Simplified Loader'!F27,\"\")","v":""},{"$f":"IF('Simplified Loader'!G27>0,'Simplified Loader'!G27,\"\")","v":""},{"$f":"IF('Simplified Loader'!I27>0,'Simplified Loader'!I27,\"\")","v":""},{"$f":"IF('Simplified Loader'!J27>0,'Simplified Loader'!J27,\"\")","v":""},{"$f":"IF('Simplified Loader'!K27>0,'Simplified Loader'!K27,\"\")","v":""},{"$f":"IF('Simplified Loader'!L27>0,'Simplified Loader'!L27,\"\")","v":""},{"$f":"IF('Simplified Loader'!M27=\"Male\",\"Male\",IF('Simplified Loader'!M27=\"Female\",\"Female\",IF('Simplified Loader'!M27=\"M\",\"Male\",IF('Simplified Loader'!M27=\"F\",\"Female\",\"\"))))","v":""},{"$f":"IF('Simplified Loader'!N27=\"Yes\",\"Yes\",IF('Simplified Loader'!N27=\"No\",\"No\",IF('Simplified Loader'!N27=\"Y\",\"Yes\",IF('Simplified Loader'!N27=\"N\",\"No\",\"\"))))","v":""},{"$f":"IF('Simplified Loader'!O27=\"No\",\"Single\",IF('Simplified Loader'!O27=\"Yes\",\"Family\",IF('Simplified Loader'!O27=\"N\",\"Single\",IF('Simplified Loader'!O27=\"Y\",\"Family\",IF('Simplified Loader'!O27=\"In-force\",\"Family\",IF('Simplified Loader'!O27=\"In force\",\"Family\",IF('Simplified Loader'!O27=\"Applies\",\"Family\",IF('Simplified Loader'!O27=\"Applicable\",\"Family\",\"\"))))))))","v":""},{"$f":"IF('Simplified Loader'!P27=\"English\",\"English\",IF('Simplified Loader'!P27=\"French\",\"French\",IF('Simplified Loader'!P27=\"E\",\"English\",IF('Simplified Loader'!P27=\"F\",\"French\",\"\"))))","v":""},{"$f":"IF('Simplified Loader'!Q27=\"Yes\",\"Yes\",IF('Simplified Loader'!Q27=\"No\",\"No\",IF('Simplified Loader'!Q27=\"Y\",\"Yes\",IF('Simplified Loader'!Q27=\"N\",\"No\",\"\"))))","v":""},{"$f":"IF('Simplified Loader'!R27>0,'Simplified Loader'!R27,\"\")","v":""},{"$f":"IF('Simplified Loader'!S27>0,'Simplified Loader'!S27,\"\")","v":""},{"$f":"IF('Simplified Loader'!T27>0,'Simplified Loader'!T27,\"\")","v":""},{"$f":"IF('Simplified Loader'!U27>0,'Simplified Loader'!U27,\"\")","v":""},{"$f":"IF('Simplified Loader'!V27=\"Waive\",\"Yes\",\"\")","v":""},{"$f":"IF('Simplified Loader'!W27=\"Waive\",\"Yes\",\"\")","v":""},{"$f":"IF('Simplified Loader'!X27>0,'Simplified Loader'!X27,\"\")","v":""},{"$f":"IF('Simplified Loader'!Y27>0,'Simplified Loader'!Y27,\"\")","v":""},{"$f":"IF('Simplified Loader'!Z27>0,'Simplified Loader'!Z27,\"\")","v":""},{"$f":"IF('Simplified Loader'!AA27>0,'Simplified Loader'!AA27,\"\")","v":""},{"$f":"IF('Simplified Loader'!AB27>0,'Simplified Loader'!AB27,\"\")","v":""},{"$f":"IF('Simplified Loader'!AC27>0,'Simplified Loader'!AC27,\"\")","v":" "},{"$f":"IF('Simplified Loader'!AE27>0,'Simplified Loader'!AE27&\" \",\"\")&IF('Simplified Loader'!AD27>0,'Simplified Loader'!AD27,\"\")","v":""},null,{"$f":"IF('Simplified Loader'!AF27>0,'Simplified Loader'!AF27,\"\")","v":""},{"$f":"IF('Simplified Loader'!AG27>0,'Simplified Loader'!AG27,\"\")","v":""},{"$f":"IF('Simplified Loader'!AH27>0,'Simplified Loader'!AH27,\"\")","v":""},{"$f":"IF('Simplified Loader'!AI27>0,'Simplified Loader'!AI27,\"\")","v":""},{"$f":"IF('Simplified Loader'!AJ27>0,'Simplified Loader'!AJ27,\"\")","v":""},{"$f":"IF('Simplified Loader'!AK27>0,'Simplified Loader'!AK27,\"\")","v":""},{"$f":"IF('Simplified Loader'!AL27>0,'Simplified Loader'!AL27,\"\")","v":""},{"$f":"IF('Simplified Loader'!AM27>0,'Simplified Loader'!AM27,\"\")","v":""},{"$f":"IF('Simplified Loader'!AN27=\"Male\",\"Male\",IF('Simplified Loader'!AN27=\"Female\",\"Female\",IF('Simplified Loader'!AN27=\"M\",\"Male\",IF('Simplified Loader'!AN27=\"F\",\"Female\",\"\"))))","v":""},{"$f":"IF('Simplified Loader'!AO27=\"Single\",\"Single\",IF('Simplified Loader'!AO27=\"Family\",\"Family\",IF('Simplified Loader'!AO27=\"S\",\"Single\",IF('Simplified Loader'!AO27=\"F\",\"Family\",\"\"))))","v":""},{"$f":"IF('Simplified Loader'!AP27=\"Single\",\"Single\",IF('Simplified Loader'!AP27=\"Family\",\"Family\",IF('Simplified Loader'!AP27=\"S\",\"Single\",IF('Simplified Loader'!AP27=\"F\",\"Family\",\"\"))))","v":""},{"$f":"IF('Simplified Loader'!AQ27>0,'Simplified Loader'!AQ27,\"\")","v":""},{"$f":"IF('Simplified Loader'!AR27=\"Yes\",\"Yes\",IF('Simplified Loader'!AR27=\"No\",\"No\",IF('Simplified Loader'!AR27=\"Y\",\"Yes\",IF('Simplified Loader'!AR27=\"N\",\"No\",\"\"))))","v":""},{"$f":"IF('Simplified Loader'!AS27>0,'Simplified Loader'!AS27,\"\")","v":""},{"$f":"IF('Simplified Loader'!AT27>0,'Simplified Loader'!AT27,\"\")","v":""},{"$f":"IF('Simplified Loader'!AU27>0,'Simplified Loader'!AU27,\"\")","v":""},{"$f":"IF('Simplified Loader'!AV27=\"Male\",\"Male\",IF('Simplified Loader'!AV27=\"Female\",\"Female\",IF('Simplified Loader'!AV27=\"M\",\"Male\",IF('Simplified Loader'!AV27=\"F\",\"Female\",\"\"))))","v":""},{"$f":"IF('Simplified Loader'!AW27=\"Yes\",\"Yes\",IF('Simplified Loader'!AW27=\"No\",\"No\",IF('Simplified Loader'!AW27=\"Y\",\"Yes\",IF('Simplified Loader'!AW27=\"N\",\"No\",\"\"))))","v":""},{"$f":"IF('Simplified Loader'!AX27=\"Yes\",\"Yes\",IF('Simplified Loader'!AX27=\"No\",\"No\",IF('Simplified Loader'!AX27=\"Y\",\"Yes\",IF('Simplified Loader'!AX27=\"N\",\"No\",\"\"))))","v":""},{"$f":"IF('Simplified Loader'!AY27>0,'Simplified Loader'!AY27,\"\")","v":""},{"$f":"IF('Simplified Loader'!AZ27>0,'Simplified Loader'!AZ27,\"\")","v":""},{"$f":"IF('Simplified Loader'!BA27>0,'Simplified Loader'!BA27,\"\")","v":""},{"$f":"IF('Simplified Loader'!BB27=\"Male\",\"Male\",IF('Simplified Loader'!BB27=\"Female\",\"Female\",IF('Simplified Loader'!BB27=\"M\",\"Male\",IF('Simplified Loader'!BB27=\"F\",\"Female\",\"\"))))","v":""},{"$f":"IF('Simplified Loader'!BC27=\"Yes\",\"Yes\",IF('Simplified Loader'!BC27=\"No\",\"No\",IF('Simplified Loader'!BC27=\"Y\",\"Yes\",IF('Simplified Loader'!BC27=\"N\",\"No\",\"\"))))","v":""},{"$f":"IF('Simplified Loader'!BD27=\"Yes\",\"Yes\",IF('Simplified Loader'!BD27=\"No\",\"No\",IF('Simplified Loader'!BD27=\"Y\",\"Yes\",IF('Simplified Loader'!BD27=\"N\",\"No\",\"\"))))","v":""},{"$f":"IF('Simplified Loader'!BE27>0,'Simplified Loader'!BE27,\"\")","v":""},{"$f":"IF('Simplified Loader'!BF27>0,'Simplified Loader'!BF27,\"\")","v":""},{"$f":"IF('Simplified Loader'!BG27>0,'Simplified Loader'!BG27,\"\")","v":""},{"$f":"IF('Simplified Loader'!BH27=\"Male\",\"Male\",IF('Simplified Loader'!BH27=\"Female\",\"Female\",IF('Simplified Loader'!BH27=\"M\",\"Male\",IF('Simplified Loader'!BH27=\"F\",\"Female\",\"\"))))","v":""},{"$f":"IF('Simplified Loader'!BI27=\"Yes\",\"Yes\",IF('Simplified Loader'!BI27=\"No\",\"No\",IF('Simplified Loader'!BI27=\"Y\",\"Yes\",IF('Simplified Loader'!BI27=\"N\",\"No\",\"\"))))","v":""},{"$f":"IF('Simplified Loader'!BJ27=\"Yes\",\"Yes\",IF('Simplified Loader'!BJ27=\"No\",\"No\",IF('Simplified Loader'!BJ27=\"Y\",\"Yes\",IF('Simplified Loader'!BJ27=\"N\",\"No\",\"\"))))","v":""},{"$f":"IF('Simplified Loader'!BK27>0,'Simplified Loader'!BK27,\"\")","v":""},{"$f":"IF('Simplified Loader'!BL27>0,'Simplified Loader'!BL27,\"\")","v":""},{"$f":"IF('Simplified Loader'!BM27>0,'Simplified Loader'!BM27,\"\")","v":""},{"$f":"IF('Simplified Loader'!BN27=\"Male\",\"Male\",IF('Simplified Loader'!BN27=\"Female\",\"Female\",IF('Simplified Loader'!BN27=\"M\",\"Male\",IF('Simplified Loader'!BN27=\"F\",\"Female\",\"\"))))","v":""},{"$f":"IF('Simplified Loader'!BO27=\"Yes\",\"Yes\",IF('Simplified Loader'!BO27=\"No\",\"No\",IF('Simplified Loader'!BO27=\"Y\",\"Yes\",IF('Simplified Loader'!BO27=\"N\",\"No\",\"\"))))","v":""},{"$f":"IF('Simplified Loader'!BP27=\"Yes\",\"Yes\",IF('Simplified Loader'!BP27=\"No\",\"No\",IF('Simplified Loader'!BP27=\"Y\",\"Yes\",IF('Simplified Loader'!BP27=\"N\",\"No\",\"\"))))","v":""},{"$f":"IF('Simplified Loader'!BQ27>0,'Simplified Loader'!BQ27,\"\")","v":""},{"$f":"IF('Simplified Loader'!BR27>0,'Simplified Loader'!BR27,\"\")","v":""},{"$f":"IF('Simplified Loader'!BS27>0,'Simplified Loader'!BS27,\"\")","v":""},{"$f":"IF('Simplified Loader'!BT27=\"Male\",\"Male\",IF('Simplified Loader'!BT27=\"Female\",\"Female\",IF('Simplified Loader'!BT27=\"M\",\"Male\",IF('Simplified Loader'!BT27=\"F\",\"Female\",\"\"))))","v":""},{"$f":"IF('Simplified Loader'!BU27=\"Yes\",\"Yes\",IF('Simplified Loader'!BU27=\"No\",\"No\",IF('Simplified Loader'!BU27=\"Y\",\"Yes\",IF('Simplified Loader'!BU27=\"N\",\"No\",\"\"))))","v":""},{"$f":"IF('Simplified Loader'!BV27=\"Yes\",\"Yes\",IF('Simplified Loader'!BV27=\"No\",\"No\",IF('Simplified Loader'!BV27=\"Y\",\"Yes\",IF('Simplified Loader'!BV27=\"N\",\"No\",\"\"))))","v":""},{"$f":"IF('Simplified Loader'!BW27>0,'Simplified Loader'!BW27,\"\")","v":""},{"$f":"IF('Simplified Loader'!BX27>0,'Simplified Loader'!BX27,\"\")","v":""},{"$f":"IF('Simplified Loader'!BY27>0,'Simplified Loader'!BY27,\"\")","v":""},{"$f":"IF('Simplified Loader'!BZ27=\"Male\",\"Male\",IF('Simplified Loader'!BZ27=\"Female\",\"Female\",IF('Simplified Loader'!BZ27=\"M\",\"Male\",IF('Simplified Loader'!BZ27=\"F\",\"Female\",\"\"))))","v":""},{"$f":"IF('Simplified Loader'!CA27=\"Yes\",\"Yes\",IF('Simplified Loader'!CA27=\"No\",\"No\",IF('Simplified Loader'!CA27=\"Y\",\"Yes\",IF('Simplified Loader'!CA27=\"N\",\"No\",\"\"))))","v":""},{"$f":"IF('Simplified Loader'!CB27=\"Yes\",\"Yes\",IF('Simplified Loader'!CB27=\"No\",\"No\",IF('Simplified Loader'!CB27=\"Y\",\"Yes\",IF('Simplified Loader'!CB27=\"N\",\"No\",\"\"))))","v":""},{"$f":"IF('Simplified Loader'!CH27>0,'Simplified Loader'!CH27,\"\")","v":"    "}]
[{"$f":"IF('Simplified Loader'!A28>0,'Simplified Loader'!A28,\"\")","v":""},{"$f":"IF('Simplified Loader'!B28>0,'Simplified Loader'!B28,\"\")","v":""},{"$f":"IF('Simplified Loader'!C28>0,'Simplified Loader'!C28,\"\")","v":""},{"$f":"IF('Simplified Loader'!D28>0,'Simplified Loader'!D28,\"\")","v":""},{"$f":"IF('Simplified Loader'!E28>0,TEXT('Simplified Loader'!E28,\"000\"),\"\")","v":""},{"$f":"IF('Simplified Loader'!F28>0,'Simplified Loader'!F28,\"\")","v":""},{"$f":"IF('Simplified Loader'!G28>0,'Simplified Loader'!G28,\"\")","v":""},{"$f":"IF('Simplified Loader'!I28>0,'Simplified Loader'!I28,\"\")","v":""},{"$f":"IF('Simplified Loader'!J28>0,'Simplified Loader'!J28,\"\")","v":""},{"$f":"IF('Simplified Loader'!K28>0,'Simplified Loader'!K28,\"\")","v":""},{"$f":"IF('Simplified Loader'!L28>0,'Simplified Loader'!L28,\"\")","v":""},{"$f":"IF('Simplified Loader'!M28=\"Male\",\"Male\",IF('Simplified Loader'!M28=\"Female\",\"Female\",IF('Simplified Loader'!M28=\"M\",\"Male\",IF('Simplified Loader'!M28=\"F\",\"Female\",\"\"))))","v":""},{"$f":"IF('Simplified Loader'!N28=\"Yes\",\"Yes\",IF('Simplified Loader'!N28=\"No\",\"No\",IF('Simplified Loader'!N28=\"Y\",\"Yes\",IF('Simplified Loader'!N28=\"N\",\"No\",\"\"))))","v":""},{"$f":"IF('Simplified Loader'!O28=\"No\",\"Single\",IF('Simplified Loader'!O28=\"Yes\",\"Family\",IF('Simplified Loader'!O28=\"N\",\"Single\",IF('Simplified Loader'!O28=\"Y\",\"Family\",IF('Simplified Loader'!O28=\"In-force\",\"Family\",IF('Simplified Loader'!O28=\"In force\",\"Family\",IF('Simplified Loader'!O28=\"Applies\",\"Family\",IF('Simplified Loader'!O28=\"Applicable\",\"Family\",\"\"))))))))","v":""},{"$f":"IF('Simplified Loader'!P28=\"English\",\"English\",IF('Simplified Loader'!P28=\"French\",\"French\",IF('Simplified Loader'!P28=\"E\",\"English\",IF('Simplified Loader'!P28=\"F\",\"French\",\"\"))))","v":""},{"$f":"IF('Simplified Loader'!Q28=\"Yes\",\"Yes\",IF('Simplified Loader'!Q28=\"No\",\"No\",IF('Simplified Loader'!Q28=\"Y\",\"Yes\",IF('Simplified Loader'!Q28=\"N\",\"No\",\"\"))))","v":""},{"$f":"IF('Simplified Loader'!R28>0,'Simplified Loader'!R28,\"\")","v":""},{"$f":"IF('Simplified Loader'!S28>0,'Simplified Loader'!S28,\"\")","v":""},{"$f":"IF('Simplified Loader'!T28>0,'Simplified Loader'!T28,\"\")","v":""},{"$f":"IF('Simplified Loader'!U28>0,'Simplified Loader'!U28,\"\")","v":""},{"$f":"IF('Simplified Loader'!V28=\"Waive\",\"Yes\",\"\")","v":""},{"$f":"IF('Simplified Loader'!W28=\"Waive\",\"Yes\",\"\")","v":""},{"$f":"IF('Simplified Loader'!X28>0,'Simplified Loader'!X28,\"\")","v":""},{"$f":"IF('Simplified Loader'!Y28>0,'Simplified Loader'!Y28,\"\")","v":""},{"$f":"IF('Simplified Loader'!Z28>0,'Simplified Loader'!Z28,\"\")","v":""},{"$f":"IF('Simplified Loader'!AA28>0,'Simplified Loader'!AA28,\"\")","v":""},{"$f":"IF('Simplified Loader'!AB28>0,'Simplified Loader'!AB28,\"\")","v":""},{"$f":"IF('Simplified Loader'!AC28>0,'Simplified Loader'!AC28,\"\")","v":" "},{"$f":"IF('Simplified Loader'!AE28>0,'Simplified Loader'!AE28&\" \",\"\")&IF('Simplified Loader'!AD28>0,'Simplified Loader'!AD28,\"\")","v":""},null,{"$f":"IF('Simplified Loader'!AF28>0,'Simplified Loader'!AF28,\"\")","v":""},{"$f":"IF('Simplified Loader'!AG28>0,'Simplified Loader'!AG28,\"\")","v":""},{"$f":"IF('Simplified Loader'!AH28>0,'Simplified Loader'!AH28,\"\")","v":""},{"$f":"IF('Simplified Loader'!AI28>0,'Simplified Loader'!AI28,\"\")","v":""},{"$f":"IF('Simplified Loader'!AJ28>0,'Simplified Loader'!AJ28,\"\")","v":""},{"$f":"IF('Simplified Loader'!AK28>0,'Simplified Loader'!AK28,\"\")","v":""},{"$f":"IF('Simplified Loader'!AL28>0,'Simplified Loader'!AL28,\"\")","v":""},{"$f":"IF('Simplified Loader'!AM28>0,'Simplified Loader'!AM28,\"\")","v":""},{"$f":"IF('Simplified Loader'!AN28=\"Male\",\"Male\",IF('Simplified Loader'!AN28=\"Female\",\"Female\",IF('Simplified Loader'!AN28=\"M\",\"Male\",IF('Simplified Loader'!AN28=\"F\",\"Female\",\"\"))))","v":""},{"$f":"IF('Simplified Loader'!AO28=\"Single\",\"Single\",IF('Simplified Loader'!AO28=\"Family\",\"Family\",IF('Simplified Loader'!AO28=\"S\",\"Single\",IF('Simplified Loader'!AO28=\"F\",\"Family\",\"\"))))","v":""},{"$f":"IF('Simplified Loader'!AP28=\"Single\",\"Single\",IF('Simplified Loader'!AP28=\"Family\",\"Family\",IF('Simplified Loader'!AP28=\"S\",\"Single\",IF('Simplified Loader'!AP28=\"F\",\"Family\",\"\"))))","v":""},{"$f":"IF('Simplified Loader'!AQ28>0,'Simplified Loader'!AQ28,\"\")","v":""},{"$f":"IF('Simplified Loader'!AR28=\"Yes\",\"Yes\",IF('Simplified Loader'!AR28=\"No\",\"No\",IF('Simplified Loader'!AR28=\"Y\",\"Yes\",IF('Simplified Loader'!AR28=\"N\",\"No\",\"\"))))","v":""},{"$f":"IF('Simplified Loader'!AS28>0,'Simplified Loader'!AS28,\"\")","v":""},{"$f":"IF('Simplified Loader'!AT28>0,'Simplified Loader'!AT28,\"\")","v":""},{"$f":"IF('Simplified Loader'!AU28>0,'Simplified Loader'!AU28,\"\")","v":""},{"$f":"IF('Simplified Loader'!AV28=\"Male\",\"Male\",IF('Simplified Loader'!AV28=\"Female\",\"Female\",IF('Simplified Loader'!AV28=\"M\",\"Male\",IF('Simplified Loader'!AV28=\"F\",\"Female\",\"\"))))","v":""},{"$f":"IF('Simplified Loader'!AW28=\"Yes\",\"Yes\",IF('Simplified Loader'!AW28=\"No\",\"No\",IF('Simplified Loader'!AW28=\"Y\",\"Yes\",IF('Simplified Loader'!AW28=\"N\",\"No\",\"\"))))","v":""},{"$f":"IF('Simplified Loader'!AX28=\"Yes\",\"Yes\",IF('Simplified Loader'!AX28=\"No\",\"No\",IF('Simplified Loader'!AX28=\"Y\",\"Yes\",IF('Simplified Loader'!AX28=\"N\",\"No\",\"\"))))","v":""},{"$f":"IF('Simplified Loader'!AY28>0,'Simplified Loader'!AY28,\"\")","v":""},{"$f":"IF('Simplified Loader'!AZ28>0,'Simplified Loader'!AZ28,\"\")","v":""},{"$f":"IF('Simplified Loader'!BA28>0,'Simplified Loader'!BA28,\"\")","v":""},{"$f":"IF('Simplified Loader'!BB28=\"Male\",\"Male\",IF('Simplified Loader'!BB28=\"Female\",\"Female\",IF('Simplified Loader'!BB28=\"M\",\"Male\",IF('Simplified Loader'!BB28=\"F\",\"Female\",\"\"))))","v":""},{"$f":"IF('Simplified Loader'!BC28=\"Yes\",\"Yes\",IF('Simplified Loader'!BC28=\"No\",\"No\",IF('Simplified Loader'!BC28=\"Y\",\"Yes\",IF('Simplified Loader'!BC28=\"N\",\"No\",\"\"))))","v":""},{"$f":"IF('Simplified Loader'!BD28=\"Yes\",\"Yes\",IF('Simplified Loader'!BD28=\"No\",\"No\",IF('Simplified Loader'!BD28=\"Y\",\"Yes\",IF('Simplified Loader'!BD28=\"N\",\"No\",\"\"))))","v":""},{"$f":"IF('Simplified Loader'!BE28>0,'Simplified Loader'!BE28,\"\")","v":""},{"$f":"IF('Simplified Loader'!BF28>0,'Simplified Loader'!BF28,\"\")","v":""},{"$f":"IF('Simplified Loader'!BG28>0,'Simplified Loader'!BG28,\"\")","v":""},{"$f":"IF('Simplified Loader'!BH28=\"Male\",\"Male\",IF('Simplified Loader'!BH28=\"Female\",\"Female\",IF('Simplified Loader'!BH28=\"M\",\"Male\",IF('Simplified Loader'!BH28=\"F\",\"Female\",\"\"))))","v":""},{"$f":"IF('Simplified Loader'!BI28=\"Yes\",\"Yes\",IF('Simplified Loader'!BI28=\"No\",\"No\",IF('Simplified Loader'!BI28=\"Y\",\"Yes\",IF('Simplified Loader'!BI28=\"N\",\"No\",\"\"))))","v":""},{"$f":"IF('Simplified Loader'!BJ28=\"Yes\",\"Yes\",IF('Simplified Loader'!BJ28=\"No\",\"No\",IF('Simplified Loader'!BJ28=\"Y\",\"Yes\",IF('Simplified Loader'!BJ28=\"N\",\"No\",\"\"))))","v":""},{"$f":"IF('Simplified Loader'!BK28>0,'Simplified Loader'!BK28,\"\")","v":""},{"$f":"IF('Simplified Loader'!BL28>0,'Simplified Loader'!BL28,\"\")","v":""},{"$f":"IF('Simplified Loader'!BM28>0,'Simplified Loader'!BM28,\"\")","v":""},{"$f":"IF('Simplified Loader'!BN28=\"Male\",\"Male\",IF('Simplified Loader'!BN28=\"Female\",\"Female\",IF('Simplified Loader'!BN28=\"M\",\"Male\",IF('Simplified Loader'!BN28=\"F\",\"Female\",\"\"))))","v":""},{"$f":"IF('Simplified Loader'!BO28=\"Yes\",\"Yes\",IF('Simplified Loader'!BO28=\"No\",\"No\",IF('Simplified Loader'!BO28=\"Y\",\"Yes\",IF('Simplified Loader'!BO28=\"N\",\"No\",\"\"))))","v":""},{"$f":"IF('Simplified Loader'!BP28=\"Yes\",\"Yes\",IF('Simplified Loader'!BP28=\"No\",\"No\",IF('Simplified Loader'!BP28=\"Y\",\"Yes\",IF('Simplified Loader'!BP28=\"N\",\"No\",\"\"))))","v":""},{"$f":"IF('Simplified Loader'!BQ28>0,'Simplified Loader'!BQ28,\"\")","v":""},{"$f":"IF('Simplified Loader'!BR28>0,'Simplified Loader'!BR28,\"\")","v":""},{"$f":"IF('Simplified Loader'!BS28>0,'Simplified Loader'!BS28,\"\")","v":""},{"$f":"IF('Simplified Loader'!BT28=\"Male\",\"Male\",IF('Simplified Loader'!BT28=\"Female\",\"Female\",IF('Simplified Loader'!BT28=\"M\",\"Male\",IF('Simplified Loader'!BT28=\"F\",\"Female\",\"\"))))","v":""},{"$f":"IF('Simplified Loader'!BU28=\"Yes\",\"Yes\",IF('Simplified Loader'!BU28=\"No\",\"No\",IF('Simplified Loader'!BU28=\"Y\",\"Yes\",IF('Simplified Loader'!BU28=\"N\",\"No\",\"\"))))","v":""},{"$f":"IF('Simplified Loader'!BV28=\"Yes\",\"Yes\",IF('Simplified Loader'!BV28=\"No\",\"No\",IF('Simplified Loader'!BV28=\"Y\",\"Yes\",IF('Simplified Loader'!BV28=\"N\",\"No\",\"\"))))","v":""},{"$f":"IF('Simplified Loader'!BW28>0,'Simplified Loader'!BW28,\"\")","v":""},{"$f":"IF('Simplified Loader'!BX28>0,'Simplified Loader'!BX28,\"\")","v":""},{"$f":"IF('Simplified Loader'!BY28>0,'Simplified Loader'!BY28,\"\")","v":""},{"$f":"IF('Simplified Loader'!BZ28=\"Male\",\"Male\",IF('Simplified Loader'!BZ28=\"Female\",\"Female\",IF('Simplified Loader'!BZ28=\"M\",\"Male\",IF('Simplified Loader'!BZ28=\"F\",\"Female\",\"\"))))","v":""},{"$f":"IF('Simplified Loader'!CA28=\"Yes\",\"Yes\",IF('Simplified Loader'!CA28=\"No\",\"No\",IF('Simplified Loader'!CA28=\"Y\",\"Yes\",IF('Simplified Loader'!CA28=\"N\",\"No\",\"\"))))","v":""},{"$f":"IF('Simplified Loader'!CB28=\"Yes\",\"Yes\",IF('Simplified Loader'!CB28=\"No\",\"No\",IF('Simplified Loader'!CB28=\"Y\",\"Yes\",IF('Simplified Loader'!CB28=\"N\",\"No\",\"\"))))","v":""},{"$f":"IF('Simplified Loader'!CH28>0,'Simplified Loader'!CH28,\"\")","v":"    "}]
[{"$f":"IF('Simplified Loader'!A29>0,'Simplified Loader'!A29,\"\")","v":""},{"$f":"IF('Simplified Loader'!B29>0,'Simplified Loader'!B29,\"\")","v":""},{"$f":"IF('Simplified Loader'!C29>0,'Simplified Loader'!C29,\"\")","v":""},{"$f":"IF('Simplified Loader'!D29>0,'Simplified Loader'!D29,\"\")","v":""},{"$f":"IF('Simplified Loader'!E29>0,TEXT('Simplified Loader'!E29,\"000\"),\"\")","v":""},{"$f":"IF('Simplified Loader'!F29>0,'Simplified Loader'!F29,\"\")","v":""},{"$f":"IF('Simplified Loader'!G29>0,'Simplified Loader'!G29,\"\")","v":""},{"$f":"IF('Simplified Loader'!I29>0,'Simplified Loader'!I29,\"\")","v":""},{"$f":"IF('Simplified Loader'!J29>0,'Simplified Loader'!J29,\"\")","v":""},{"$f":"IF('Simplified Loader'!K29>0,'Simplified Loader'!K29,\"\")","v":""},{"$f":"IF('Simplified Loader'!L29>0,'Simplified Loader'!L29,\"\")","v":""},{"$f":"IF('Simplified Loader'!M29=\"Male\",\"Male\",IF('Simplified Loader'!M29=\"Female\",\"Female\",IF('Simplified Loader'!M29=\"M\",\"Male\",IF('Simplified Loader'!M29=\"F\",\"Female\",\"\"))))","v":""},{"$f":"IF('Simplified Loader'!N29=\"Yes\",\"Yes\",IF('Simplified Loader'!N29=\"No\",\"No\",IF('Simplified Loader'!N29=\"Y\",\"Yes\",IF('Simplified Loader'!N29=\"N\",\"No\",\"\"))))","v":""},{"$f":"IF('Simplified Loader'!O29=\"No\",\"Single\",IF('Simplified Loader'!O29=\"Yes\",\"Family\",IF('Simplified Loader'!O29=\"N\",\"Single\",IF('Simplified Loader'!O29=\"Y\",\"Family\",IF('Simplified Loader'!O29=\"In-force\",\"Family\",IF('Simplified Loader'!O29=\"In force\",\"Family\",IF('Simplified Loader'!O29=\"Applies\",\"Family\",IF('Simplified Loader'!O29=\"Applicable\",\"Family\",\"\"))))))))","v":""},{"$f":"IF('Simplified Loader'!P29=\"English\",\"English\",IF('Simplified Loader'!P29=\"French\",\"French\",IF('Simplified Loader'!P29=\"E\",\"English\",IF('Simplified Loader'!P29=\"F\",\"French\",\"\"))))","v":""},{"$f":"IF('Simplified Loader'!Q29=\"Yes\",\"Yes\",IF('Simplified Loader'!Q29=\"No\",\"No\",IF('Simplified Loader'!Q29=\"Y\",\"Yes\",IF('Simplified Loader'!Q29=\"N\",\"No\",\"\"))))","v":""},{"$f":"IF('Simplified Loader'!R29>0,'Simplified Loader'!R29,\"\")","v":""},{"$f":"IF('Simplified Loader'!S29>0,'Simplified Loader'!S29,\"\")","v":""},{"$f":"IF('Simplified Loader'!T29>0,'Simplified Loader'!T29,\"\")","v":""},{"$f":"IF('Simplified Loader'!U29>0,'Simplified Loader'!U29,\"\")","v":""},{"$f":"IF('Simplified Loader'!V29=\"Waive\",\"Yes\",\"\")","v":""},{"$f":"IF('Simplified Loader'!W29=\"Waive\",\"Yes\",\"\")","v":""},{"$f":"IF('Simplified Loader'!X29>0,'Simplified Loader'!X29,\"\")","v":""},{"$f":"IF('Simplified Loader'!Y29>0,'Simplified Loader'!Y29,\"\")","v":""},{"$f":"IF('Simplified Loader'!Z29>0,'Simplified Loader'!Z29,\"\")","v":""},{"$f":"IF('Simplified Loader'!AA29>0,'Simplified Loader'!AA29,\"\")","v":""},{"$f":"IF('Simplified Loader'!AB29>0,'Simplified Loader'!AB29,\"\")","v":""},{"$f":"IF('Simplified Loader'!AC29>0,'Simplified Loader'!AC29,\"\")","v":" "},{"$f":"IF('Simplified Loader'!AE29>0,'Simplified Loader'!AE29&\" \",\"\")&IF('Simplified Loader'!AD29>0,'Simplified Loader'!AD29,\"\")","v":""},null,{"$f":"IF('Simplified Loader'!AF29>0,'Simplified Loader'!AF29,\"\")","v":""},{"$f":"IF('Simplified Loader'!AG29>0,'Simplified Loader'!AG29,\"\")","v":""},{"$f":"IF('Simplified Loader'!AH29>0,'Simplified Loader'!AH29,\"\")","v":""},{"$f":"IF('Simplified Loader'!AI29>0,'Simplified Loader'!AI29,\"\")","v":""},{"$f":"IF('Simplified Loader'!AJ29>0,'Simplified Loader'!AJ29,\"\")","v":""},{"$f":"IF('Simplified Loader'!AK29>0,'Simplified Loader'!AK29,\"\")","v":""},{"$f":"IF('Simplified Loader'!AL29>0,'Simplified Loader'!AL29,\"\")","v":""},{"$f":"IF('Simplified Loader'!AM29>0,'Simplified Loader'!AM29,\"\")","v":""},{"$f":"IF('Simplified Loader'!AN29=\"Male\",\"Male\",IF('Simplified Loader'!AN29=\"Female\",\"Female\",IF('Simplified Loader'!AN29=\"M\",\"Male\",IF('Simplified Loader'!AN29=\"F\",\"Female\",\"\"))))","v":""},{"$f":"IF('Simplified Loader'!AO29=\"Single\",\"Single\",IF('Simplified Loader'!AO29=\"Family\",\"Family\",IF('Simplified Loader'!AO29=\"S\",\"Single\",IF('Simplified Loader'!AO29=\"F\",\"Family\",\"\"))))","v":""},{"$f":"IF('Simplified Loader'!AP29=\"Single\",\"Single\",IF('Simplified Loader'!AP29=\"Family\",\"Family\",IF('Simplified Loader'!AP29=\"S\",\"Single\",IF('Simplified Loader'!AP29=\"F\",\"Family\",\"\"))))","v":""},{"$f":"IF('Simplified Loader'!AQ29>0,'Simplified Loader'!AQ29,\"\")","v":""},{"$f":"IF('Simplified Loader'!AR29=\"Yes\",\"Yes\",IF('Simplified Loader'!AR29=\"No\",\"No\",IF('Simplified Loader'!AR29=\"Y\",\"Yes\",IF('Simplified Loader'!AR29=\"N\",\"No\",\"\"))))","v":""},{"$f":"IF('Simplified Loader'!AS29>0,'Simplified Loader'!AS29,\"\")","v":""},{"$f":"IF('Simplified Loader'!AT29>0,'Simplified Loader'!AT29,\"\")","v":""},{"$f":"IF('Simplified Loader'!AU29>0,'Simplified Loader'!AU29,\"\")","v":""},{"$f":"IF('Simplified Loader'!AV29=\"Male\",\"Male\",IF('Simplified Loader'!AV29=\"Female\",\"Female\",IF('Simplified Loader'!AV29=\"M\",\"Male\",IF('Simplified Loader'!AV29=\"F\",\"Female\",\"\"))))","v":""},{"$f":"IF('Simplified Loader'!AW29=\"Yes\",\"Yes\",IF('Simplified Loader'!AW29=\"No\",\"No\",IF('Simplified Loader'!AW29=\"Y\",\"Yes\",IF('Simplified Loader'!AW29=\"N\",\"No\",\"\"))))","v":""},{"$f":"IF('Simplified Loader'!AX29=\"Yes\",\"Yes\",IF('Simplified Loader'!AX29=\"No\",\"No\",IF('Simplified Loader'!AX29=\"Y\",\"Yes\",IF('Simplified Loader'!AX29=\"N\",\"No\",\"\"))))","v":""},{"$f":"IF('Simplified Loader'!AY29>0,'Simplified Loader'!AY29,\"\")","v":""},{"$f":"IF('Simplified Loader'!AZ29>0,'Simplified Loader'!AZ29,\"\")","v":""},{"$f":"IF('Simplified Loader'!BA29>0,'Simplified Loader'!BA29,\"\")","v":""},{"$f":"IF('Simplified Loader'!BB29=\"Male\",\"Male\",IF('Simplified Loader'!BB29=\"Female\",\"Female\",IF('Simplified Loader'!BB29=\"M\",\"Male\",IF('Simplified Loader'!BB29=\"F\",\"Female\",\"\"))))","v":""},{"$f":"IF('Simplified Loader'!BC29=\"Yes\",\"Yes\",IF('Simplified Loader'!BC29=\"No\",\"No\",IF('Simplified Loader'!BC29=\"Y\",\"Yes\",IF('Simplified Loader'!BC29=\"N\",\"No\",\"\"))))","v":""},{"$f":"IF('Simplified Loader'!BD29=\"Yes\",\"Yes\",IF('Simplified Loader'!BD29=\"No\",\"No\",IF('Simplified Loader'!BD29=\"Y\",\"Yes\",IF('Simplified Loader'!BD29=\"N\",\"No\",\"\"))))","v":""},{"$f":"IF('Simplified Loader'!BE29>0,'Simplified Loader'!BE29,\"\")","v":""},{"$f":"IF('Simplified Loader'!BF29>0,'Simplified Loader'!BF29,\"\")","v":""},{"$f":"IF('Simplified Loader'!BG29>0,'Simplified Loader'!BG29,\"\")","v":""},{"$f":"IF('Simplified Loader'!BH29=\"Male\",\"Male\",IF('Simplified Loader'!BH29=\"Female\",\"Female\",IF('Simplified Loader'!BH29=\"M\",\"Male\",IF('Simplified Loader'!BH29=\"F\",\"Female\",\"\"))))","v":""},{"$f":"IF('Simplified Loader'!BI29=\"Yes\",\"Yes\",IF('Simplified Loader'!BI29=\"No\",\"No\",IF('Simplified Loader'!BI29=\"Y\",\"Yes\",IF('Simplified Loader'!BI29=\"N\",\"No\",\"\"))))","v":""},{"$f":"IF('Simplified Loader'!BJ29=\"Yes\",\"Yes\",IF('Simplified Loader'!BJ29=\"No\",\"No\",IF('Simplified Loader'!BJ29=\"Y\",\"Yes\",IF('Simplified Loader'!BJ29=\"N\",\"No\",\"\"))))","v":""},{"$f":"IF('Simplified Loader'!BK29>0,'Simplified Loader'!BK29,\"\")","v":""},{"$f":"IF('Simplified Loader'!BL29>0,'Simplified Loader'!BL29,\"\")","v":""},{"$f":"IF('Simplified Loader'!BM29>0,'Simplified Loader'!BM29,\"\")","v":""},{"$f":"IF('Simplified Loader'!BN29=\"Male\",\"Male\",IF('Simplified Loader'!BN29=\"Female\",\"Female\",IF('Simplified Loader'!BN29=\"M\",\"Male\",IF('Simplified Loader'!BN29=\"F\",\"Female\",\"\"))))","v":""},{"$f":"IF('Simplified Loader'!BO29=\"Yes\",\"Yes\",IF('Simplified Loader'!BO29=\"No\",\"No\",IF('Simplified Loader'!BO29=\"Y\",\"Yes\",IF('Simplified Loader'!BO29=\"N\",\"No\",\"\"))))","v":""},{"$f":"IF('Simplified Loader'!BP29=\"Yes\",\"Yes\",IF('Simplified Loader'!BP29=\"No\",\"No\",IF('Simplified Loader'!BP29=\"Y\",\"Yes\",IF('Simplified Loader'!BP29=\"N\",\"No\",\"\"))))","v":""},{"$f":"IF('Simplified Loader'!BQ29>0,'Simplified Loader'!BQ29,\"\")","v":""},{"$f":"IF('Simplified Loader'!BR29>0,'Simplified Loader'!BR29,\"\")","v":""},{"$f":"IF('Simplified Loader'!BS29>0,'Simplified Loader'!BS29,\"\")","v":""},{"$f":"IF('Simplified Loader'!BT29=\"Male\",\"Male\",IF('Simplified Loader'!BT29=\"Female\",\"Female\",IF('Simplified Loader'!BT29=\"M\",\"Male\",IF('Simplified Loader'!BT29=\"F\",\"Female\",\"\"))))","v":""},{"$f":"IF('Simplified Loader'!BU29=\"Yes\",\"Yes\",IF('Simplified Loader'!BU29=\"No\",\"No\",IF('Simplified Loader'!BU29=\"Y\",\"Yes\",IF('Simplified Loader'!BU29=\"N\",\"No\",\"\"))))","v":""},{"$f":"IF('Simplified Loader'!BV29=\"Yes\",\"Yes\",IF('Simplified Loader'!BV29=\"No\",\"No\",IF('Simplified Loader'!BV29=\"Y\",\"Yes\",IF('Simplified Loader'!BV29=\"N\",\"No\",\"\"))))","v":""},{"$f":"IF('Simplified Loader'!BW29>0,'Simplified Loader'!BW29,\"\")","v":""},{"$f":"IF('Simplified Loader'!BX29>0,'Simplified Loader'!BX29,\"\")","v":""},{"$f":"IF('Simplified Loader'!BY29>0,'Simplified Loader'!BY29,\"\")","v":""},{"$f":"IF('Simplified Loader'!BZ29=\"Male\",\"Male\",IF('Simplified Loader'!BZ29=\"Female\",\"Female\",IF('Simplified Loader'!BZ29=\"M\",\"Male\",IF('Simplified Loader'!BZ29=\"F\",\"Female\",\"\"))))","v":""},{"$f":"IF('Simplified Loader'!CA29=\"Yes\",\"Yes\",IF('Simplified Loader'!CA29=\"No\",\"No\",IF('Simplified Loader'!CA29=\"Y\",\"Yes\",IF('Simplified Loader'!CA29=\"N\",\"No\",\"\"))))","v":""},{"$f":"IF('Simplified Loader'!CB29=\"Yes\",\"Yes\",IF('Simplified Loader'!CB29=\"No\",\"No\",IF('Simplified Loader'!CB29=\"Y\",\"Yes\",IF('Simplified Loader'!CB29=\"N\",\"No\",\"\"))))","v":""},{"$f":"IF('Simplified Loader'!CH29>0,'Simplified Loader'!CH29,\"\")","v":"    "}]
[{"$f":"IF('Simplified Loader'!A30>0,'Simplified Loader'!A30,\"\")","v":""},{"$f":"IF('Simplified Loader'!B30>0,'Simplified Loader'!B30,\"\")","v":""},{"$f":"IF('Simplified Loader'!C30>0,'Simplified Loader'!C30,\"\")","v":""},{"$f":"IF('Simplified Loader'!D30>0,'Simplified Loader'!D30,\"\")","v":""},{"$f":"IF('Simplified Loader'!E30>0,TEXT('Simplified Loader'!E30,\"000\"),\"\")","v":""},{"$f":"IF('Simplified Loader'!F30>0,'Simplified Loader'!F30,\"\")","v":""},{"$f":"IF('Simplified Loader'!G30>0,'Simplified Loader'!G30,\"\")","v":""},{"$f":"IF('Simplified Loader'!I30>0,'Simplified Loader'!I30,\"\")","v":""},{"$f":"IF('Simplified Loader'!J30>0,'Simplified Loader'!J30,\"\")","v":""},{"$f":"IF('Simplified Loader'!K30>0,'Simplified Loader'!K30,\"\")","v":""},{"$f":"IF('Simplified Loader'!L30>0,'Simplified Loader'!L30,\"\")","v":""},{"$f":"IF('Simplified Loader'!M30=\"Male\",\"Male\",IF('Simplified Loader'!M30=\"Female\",\"Female\",IF('Simplified Loader'!M30=\"M\",\"Male\",IF('Simplified Loader'!M30=\"F\",\"Female\",\"\"))))","v":""},{"$f":"IF('Simplified Loader'!N30=\"Yes\",\"Yes\",IF('Simplified Loader'!N30=\"No\",\"No\",IF('Simplified Loader'!N30=\"Y\",\"Yes\",IF('Simplified Loader'!N30=\"N\",\"No\",\"\"))))","v":""},{"$f":"IF('Simplified Loader'!O30=\"No\",\"Single\",IF('Simplified Loader'!O30=\"Yes\",\"Family\",IF('Simplified Loader'!O30=\"N\",\"Single\",IF('Simplified Loader'!O30=\"Y\",\"Family\",IF('Simplified Loader'!O30=\"In-force\",\"Family\",IF('Simplified Loader'!O30=\"In force\",\"Family\",IF('Simplified Loader'!O30=\"Applies\",\"Family\",IF('Simplified Loader'!O30=\"Applicable\",\"Family\",\"\"))))))))","v":""},{"$f":"IF('Simplified Loader'!P30=\"English\",\"English\",IF('Simplified Loader'!P30=\"French\",\"French\",IF('Simplified Loader'!P30=\"E\",\"English\",IF('Simplified Loader'!P30=\"F\",\"French\",\"\"))))","v":""},{"$f":"IF('Simplified Loader'!Q30=\"Yes\",\"Yes\",IF('Simplified Loader'!Q30=\"No\",\"No\",IF('Simplified Loader'!Q30=\"Y\",\"Yes\",IF('Simplified Loader'!Q30=\"N\",\"No\",\"\"))))","v":""},{"$f":"IF('Simplified Loader'!R30>0,'Simplified Loader'!R30,\"\")","v":""},{"$f":"IF('Simplified Loader'!S30>0,'Simplified Loader'!S30,\"\")","v":""},{"$f":"IF('Simplified Loader'!T30>0,'Simplified Loader'!T30,\"\")","v":""},{"$f":"IF('Simplified Loader'!U30>0,'Simplified Loader'!U30,\"\")","v":""},{"$f":"IF('Simplified Loader'!V30=\"Waive\",\"Yes\",\"\")","v":""},{"$f":"IF('Simplified Loader'!W30=\"Waive\",\"Yes\",\"\")","v":""},{"$f":"IF('Simplified Loader'!X30>0,'Simplified Loader'!X30,\"\")","v":""},{"$f":"IF('Simplified Loader'!Y30>0,'Simplified Loader'!Y30,\"\")","v":""},{"$f":"IF('Simplified Loader'!Z30>0,'Simplified Loader'!Z30,\"\")","v":""},{"$f":"IF('Simplified Loader'!AA30>0,'Simplified Loader'!AA30,\"\")","v":""},{"$f":"IF('Simplified Loader'!AB30>0,'Simplified Loader'!AB30,\"\")","v":""},{"$f":"IF('Simplified Loader'!AC30>0,'Simplified Loader'!AC30,\"\")","v":" "},{"$f":"IF('Simplified Loader'!AE30>0,'Simplified Loader'!AE30&\" \",\"\")&IF('Simplified Loader'!AD30>0,'Simplified Loader'!AD30,\"\")","v":""},null,{"$f":"IF('Simplified Loader'!AF30>0,'Simplified Loader'!AF30,\"\")","v":""},{"$f":"IF('Simplified Loader'!AG30>0,'Simplified Loader'!AG30,\"\")","v":""},{"$f":"IF('Simplified Loader'!AH30>0,'Simplified Loader'!AH30,\"\")","v":""},{"$f":"IF('Simplified Loader'!AI30>0,'Simplified Loader'!AI30,\"\")","v":""},{"$f":"IF('Simplified Loader'!AJ30>0,'Simplified Loader'!AJ30,\"\")","v":""},{"$f":"IF('Simplified Loader'!AK30>0,'Simplified Loader'!AK30,\"\")","v":""},{"$f":"IF('Simplified Loader'!AL30>0,'Simplified Loader'!AL30,\"\")","v":""},{"$f":"IF('Simplified Loader'!AM30>0,'Simplified Loader'!AM30,\"\")","v":""},{"$f":"IF('Simplified Loader'!AN30=\"Male\",\"Male\",IF('Simplified Loader'!AN30=\"Female\",\"Female\",IF('Simplified Loader'!AN30=\"M\",\"Male\",IF('Simplified Loader'!AN30=\"F\",\"Female\",\"\"))))","v":""},{"$f":"IF('Simplified Loader'!AO30=\"Single\",\"Single\",IF('Simplified Loader'!AO30=\"Family\",\"Family\",IF('Simplified Loader'!AO30=\"S\",\"Single\",IF('Simplified Loader'!AO30=\"F\",\"Family\",\"\"))))","v":""},{"$f":"IF('Simplified Loader'!AP30=\"Single\",\"Single\",IF('Simplified Loader'!AP30=\"Family\",\"Family\",IF('Simplified Loader'!AP30=\"S\",\"Single\",IF('Simplified Loader'!AP30=\"F\",\"Family\",\"\"))))","v":""},{"$f":"IF('Simplified Loader'!AQ30>0,'Simplified Loader'!AQ30,\"\")","v":""},{"$f":"IF('Simplified Loader'!AR30=\"Yes\",\"Yes\",IF('Simplified Loader'!AR30=\"No\",\"No\",IF('Simplified Loader'!AR30=\"Y\",\"Yes\",IF('Simplified Loader'!AR30=\"N\",\"No\",\"\"))))","v":""},{"$f":"IF('Simplified Loader'!AS30>0,'Simplified Loader'!AS30,\"\")","v":""},{"$f":"IF('Simplified Loader'!AT30>0,'Simplified Loader'!AT30,\"\")","v":""},{"$f":"IF('Simplified Loader'!AU30>0,'Simplified Loader'!AU30,\"\")","v":""},{"$f":"IF('Simplified Loader'!AV30=\"Male\",\"Male\",IF('Simplified Loader'!AV30=\"Female\",\"Female\",IF('Simplified Loader'!AV30=\"M\",\"Male\",IF('Simplified Loader'!AV30=\"F\",\"Female\",\"\"))))","v":""},{"$f":"IF('Simplified Loader'!AW30=\"Yes\",\"Yes\",IF('Simplified Loader'!AW30=\"No\",\"No\",IF('Simplified Loader'!AW30=\"Y\",\"Yes\",IF('Simplified Loader'!AW30=\"N\",\"No\",\"\"))))","v":""},{"$f":"IF('Simplified Loader'!AX30=\"Yes\",\"Yes\",IF('Simplified Loader'!AX30=\"No\",\"No\",IF('Simplified Loader'!AX30=\"Y\",\"Yes\",IF('Simplified Loader'!AX30=\"N\",\"No\",\"\"))))","v":""},{"$f":"IF('Simplified Loader'!AY30>0,'Simplified Loader'!AY30,\"\")","v":""},{"$f":"IF('Simplified Loader'!AZ30>0,'Simplified Loader'!AZ30,\"\")","v":""},{"$f":"IF('Simplified Loader'!BA30>0,'Simplified Loader'!BA30,\"\")","v":""},{"$f":"IF('Simplified Loader'!BB30=\"Male\",\"Male\",IF('Simplified Loader'!BB30=\"Female\",\"Female\",IF('Simplified Loader'!BB30=\"M\",\"Male\",IF('Simplified Loader'!BB30=\"F\",\"Female\",\"\"))))","v":""},{"$f":"IF('Simplified Loader'!BC30=\"Yes\",\"Yes\",IF('Simplified Loader'!BC30=\"No\",\"No\",IF('Simplified Loader'!BC30=\"Y\",\"Yes\",IF('Simplified Loader'!BC30=\"N\",\"No\",\"\"))))","v":""},{"$f":"IF('Simplified Loader'!BD30=\"Yes\",\"Yes\",IF('Simplified Loader'!BD30=\"No\",\"No\",IF('Simplified Loader'!BD30=\"Y\",\"Yes\",IF('Simplified Loader'!BD30=\"N\",\"No\",\"\"))))","v":""},{"$f":"IF('Simplified Loader'!BE30>0,'Simplified Loader'!BE30,\"\")","v":""},{"$f":"IF('Simplified Loader'!BF30>0,'Simplified Loader'!BF30,\"\")","v":""},{"$f":"IF('Simplified Loader'!BG30>0,'Simplified Loader'!BG30,\"\")","v":""},{"$f":"IF('Simplified Loader'!BH30=\"Male\",\"Male\",IF('Simplified Loader'!BH30=\"Female\",\"Female\",IF('Simplified Loader'!BH30=\"M\",\"Male\",IF('Simplified Loader'!BH30=\"F\",\"Female\",\"\"))))","v":""},{"$f":"IF('Simplified Loader'!BI30=\"Yes\",\"Yes\",IF('Simplified Loader'!BI30=\"No\",\"No\",IF('Simplified Loader'!BI30=\"Y\",\"Yes\",IF('Simplified Loader'!BI30=\"N\",\"No\",\"\"))))","v":""},{"$f":"IF('Simplified Loader'!BJ30=\"Yes\",\"Yes\",IF('Simplified Loader'!BJ30=\"No\",\"No\",IF('Simplified Loader'!BJ30=\"Y\",\"Yes\",IF('Simplified Loader'!BJ30=\"N\",\"No\",\"\"))))","v":""},{"$f":"IF('Simplified Loader'!BK30>0,'Simplified Loader'!BK30,\"\")","v":""},{"$f":"IF('Simplified Loader'!BL30>0,'Simplified Loader'!BL30,\"\")","v":""},{"$f":"IF('Simplified Loader'!BM30>0,'Simplified Loader'!BM30,\"\")","v":""},{"$f":"IF('Simplified Loader'!BN30=\"Male\",\"Male\",IF('Simplified Loader'!BN30=\"Female\",\"Female\",IF('Simplified Loader'!BN30=\"M\",\"Male\",IF('Simplified Loader'!BN30=\"F\",\"Female\",\"\"))))","v":""},{"$f":"IF('Simplified Loader'!BO30=\"Yes\",\"Yes\",IF('Simplified Loader'!BO30=\"No\",\"No\",IF('Simplified Loader'!BO30=\"Y\",\"Yes\",IF('Simplified Loader'!BO30=\"N\",\"No\",\"\"))))","v":""},{"$f":"IF('Simplified Loader'!BP30=\"Yes\",\"Yes\",IF('Simplified Loader'!BP30=\"No\",\"No\",IF('Simplified Loader'!BP30=\"Y\",\"Yes\",IF('Simplified Loader'!BP30=\"N\",\"No\",\"\"))))","v":""},{"$f":"IF('Simplified Loader'!BQ30>0,'Simplified Loader'!BQ30,\"\")","v":""},{"$f":"IF('Simplified Loader'!BR30>0,'Simplified Loader'!BR30,\"\")","v":""},{"$f":"IF('Simplified Loader'!BS30>0,'Simplified Loader'!BS30,\"\")","v":""},{"$f":"IF('Simplified Loader'!BT30=\"Male\",\"Male\",IF('Simplified Loader'!BT30=\"Female\",\"Female\",IF('Simplified Loader'!BT30=\"M\",\"Male\",IF('Simplified Loader'!BT30=\"F\",\"Female\",\"\"))))","v":""},{"$f":"IF('Simplified Loader'!BU30=\"Yes\",\"Yes\",IF('Simplified Loader'!BU30=\"No\",\"No\",IF('Simplified Loader'!BU30=\"Y\",\"Yes\",IF('Simplified Loader'!BU30=\"N\",\"No\",\"\"))))","v":""},{"$f":"IF('Simplified Loader'!BV30=\"Yes\",\"Yes\",IF('Simplified Loader'!BV30=\"No\",\"No\",IF('Simplified Loader'!BV30=\"Y\",\"Yes\",IF('Simplified Loader'!BV30=\"N\",\"No\",\"\"))))","v":""},{"$f":"IF('Simplified Loader'!BW30>0,'Simplified Loader'!BW30,\"\")","v":""},{"$f":"IF('Simplified Loader'!BX30>0,'Simplified Loader'!BX30,\"\")","v":""},{"$f":"IF('Simplified Loader'!BY30>0,'Simplified Loader'!BY30,\"\")","v":""},{"$f":"IF('Simplified Loader'!BZ30=\"Male\",\"Male\",IF('Simplified Loader'!BZ30=\"Female\",\"Female\",IF('Simplified Loader'!BZ30=\"M\",\"Male\",IF('Simplified Loader'!BZ30=\"F\",\"Female\",\"\"))))","v":""},{"$f":"IF('Simplified Loader'!CA30=\"Yes\",\"Yes\",IF('Simplified Loader'!CA30=\"No\",\"No\",IF('Simplified Loader'!CA30=\"Y\",\"Yes\",IF('Simplified Loader'!CA30=\"N\",\"No\",\"\"))))","v":""},{"$f":"IF('Simplified Loader'!CB30=\"Yes\",\"Yes\",IF('Simplified Loader'!CB30=\"No\",\"No\",IF('Simplified Loader'!CB30=\"Y\",\"Yes\",IF('Simplified Loader'!CB30=\"N\",\"No\",\"\"))))","v":""},{"$f":"IF('Simplified Loader'!CH30>0,'Simplified Loader'!CH30,\"\")","v":"    "}]
[{"$f":"IF('Simplified Loader'!A31>0,'Simplified Loader'!A31,\"\")","v":""},{"$f":"IF('Simplified Loader'!B31>0,'Simplified Loader'!B31,\"\")","v":""},{"$f":"IF('Simplified Loader'!C31>0,'Simplified Loader'!C31,\"\")","v":""},{"$f":"IF('Simplified Loader'!D31>0,'Simplified Loader'!D31,\"\")","v":""},{"$f":"IF('Simplified Loader'!E31>0,TEXT('Simplified Loader'!E31,\"000\"),\"\")","v":""},{"$f":"IF('Simplified Loader'!F31>0,'Simplified Loader'!F31,\"\")","v":""},{"$f":"IF('Simplified Loader'!G31>0,'Simplified Loader'!G31,\"\")","v":""},{"$f":"IF('Simplified Loader'!I31>0,'Simplified Loader'!I31,\"\")","v":""},{"$f":"IF('Simplified Loader'!J31>0,'Simplified Loader'!J31,\"\")","v":""},{"$f":"IF('Simplified Loader'!K31>0,'Simplified Loader'!K31,\"\")","v":""},{"$f":"IF('Simplified Loader'!L31>0,'Simplified Loader'!L31,\"\")","v":""},{"$f":"IF('Simplified Loader'!M31=\"Male\",\"Male\",IF('Simplified Loader'!M31=\"Female\",\"Female\",IF('Simplified Loader'!M31=\"M\",\"Male\",IF('Simplified Loader'!M31=\"F\",\"Female\",\"\"))))","v":""},{"$f":"IF('Simplified Loader'!N31=\"Yes\",\"Yes\",IF('Simplified Loader'!N31=\"No\",\"No\",IF('Simplified Loader'!N31=\"Y\",\"Yes\",IF('Simplified Loader'!N31=\"N\",\"No\",\"\"))))","v":""},{"$f":"IF('Simplified Loader'!O31=\"No\",\"Single\",IF('Simplified Loader'!O31=\"Yes\",\"Family\",IF('Simplified Loader'!O31=\"N\",\"Single\",IF('Simplified Loader'!O31=\"Y\",\"Family\",IF('Simplified Loader'!O31=\"In-force\",\"Family\",IF('Simplified Loader'!O31=\"In force\",\"Family\",IF('Simplified Loader'!O31=\"Applies\",\"Family\",IF('Simplified Loader'!O31=\"Applicable\",\"Family\",\"\"))))))))","v":""},{"$f":"IF('Simplified Loader'!P31=\"English\",\"English\",IF('Simplified Loader'!P31=\"French\",\"French\",IF('Simplified Loader'!P31=\"E\",\"English\",IF('Simplified Loader'!P31=\"F\",\"French\",\"\"))))","v":""},{"$f":"IF('Simplified Loader'!Q31=\"Yes\",\"Yes\",IF('Simplified Loader'!Q31=\"No\",\"No\",IF('Simplified Loader'!Q31=\"Y\",\"Yes\",IF('Simplified Loader'!Q31=\"N\",\"No\",\"\"))))","v":""},{"$f":"IF('Simplified Loader'!R31>0,'Simplified Loader'!R31,\"\")","v":""},{"$f":"IF('Simplified Loader'!S31>0,'Simplified Loader'!S31,\"\")","v":""},{"$f":"IF('Simplified Loader'!T31>0,'Simplified Loader'!T31,\"\")","v":""},{"$f":"IF('Simplified Loader'!U31>0,'Simplified Loader'!U31,\"\")","v":""},{"$f":"IF('Simplified Loader'!V31=\"Waive\",\"Yes\",\"\")","v":""},{"$f":"IF('Simplified Loader'!W31=\"Waive\",\"Yes\",\"\")","v":""},{"$f":"IF('Simplified Loader'!X31>0,'Simplified Loader'!X31,\"\")","v":""},{"$f":"IF('Simplified Loader'!Y31>0,'Simplified Loader'!Y31,\"\")","v":""},{"$f":"IF('Simplified Loader'!Z31>0,'Simplified Loader'!Z31,\"\")","v":""},{"$f":"IF('Simplified Loader'!AA31>0,'Simplified Loader'!AA31,\"\")","v":""},{"$f":"IF('Simplified Loader'!AB31>0,'Simplified Loader'!AB31,\"\")","v":""},{"$f":"IF('Simplified Loader'!AC31>0,'Simplified Loader'!AC31,\"\")","v":" "},{"$f":"IF('Simplified Loader'!AE31>0,'Simplified Loader'!AE31&\" \",\"\")&IF('Simplified Loader'!AD31>0,'Simplified Loader'!AD31,\"\")","v":""},null,{"$f":"IF('Simplified Loader'!AF31>0,'Simplified Loader'!AF31,\"\")","v":""},{"$f":"IF('Simplified Loader'!AG31>0,'Simplified Loader'!AG31,\"\")","v":""},{"$f":"IF('Simplified Loader'!AH31>0,'Simplified Loader'!AH31,\"\")","v":""},{"$f":"IF('Simplified Loader'!AI31>0,'Simplified Loader'!AI31,\"\")","v":""},{"$f":"IF('Simplified Loader'!AJ31>0,'Simplified Loader'!AJ31,\"\")","v":""},{"$f":"IF('Simplified Loader'!AK31>0,'Simplified Loader'!AK31,\"\")","v":""},{"$f":"IF('Simplified Loader'!AL31>0,'Simplified Loader'!AL31,\"\")","v":""},{"$f":"IF('Simplified Loader'!AM31>0,'Simplified Loader'!AM31,\"\")","v":""},{"$f":"IF('Simplified Loader'!AN31=\"Male\",\"Male\",IF('Simplified Loader'!AN31=\"Female\",\"Female\",IF('Simplified Loader'!AN31=\"M\",\"Male\",IF('Simplified Loader'!AN31=\"F\",\"Female\",\"\"))))","v":""},{"$f":"IF('Simplified Loader'!AO31=\"Single\",\"Single\",IF('Simplified Loader'!AO31=\"Family\",\"Family\",IF('Simplified Loader'!AO31=\"S\",\"Single\",IF('Simplified Loader'!AO31=\"F\",\"Family\",\"\"))))","v":""},{"$f":"IF('Simplified Loader'!AP31=\"Single\",\"Single\",IF('Simplified Loader'!AP31=\"Family\",\"Family\",IF('Simplified Loader'!AP31=\"S\",\"Single\",IF('Simplified Loader'!AP31=\"F\",\"Family\",\"\"))))","v":""},{"$f":"IF('Simplified Loader'!AQ31>0,'Simplified Loader'!AQ31,\"\")","v":""},{"$f":"IF('Simplified Loader'!AR31=\"Yes\",\"Yes\",IF('Simplified Loader'!AR31=\"No\",\"No\",IF('Simplified Loader'!AR31=\"Y\",\"Yes\",IF('Simplified Loader'!AR31=\"N\",\"No\",\"\"))))","v":""},{"$f":"IF('Simplified Loader'!AS31>0,'Simplified Loader'!AS31,\"\")","v":""},{"$f":"IF('Simplified Loader'!AT31>0,'Simplified Loader'!AT31,\"\")","v":""},{"$f":"IF('Simplified Loader'!AU31>0,'Simplified Loader'!AU31,\"\")","v":""},{"$f":"IF('Simplified Loader'!AV31=\"Male\",\"Male\",IF('Simplified Loader'!AV31=\"Female\",\"Female\",IF('Simplified Loader'!AV31=\"M\",\"Male\",IF('Simplified Loader'!AV31=\"F\",\"Female\",\"\"))))","v":""},{"$f":"IF('Simplified Loader'!AW31=\"Yes\",\"Yes\",IF('Simplified Loader'!AW31=\"No\",\"No\",IF('Simplified Loader'!AW31=\"Y\",\"Yes\",IF('Simplified Loader'!AW31=\"N\",\"No\",\"\"))))","v":""},{"$f":"IF('Simplified Loader'!AX31=\"Yes\",\"Yes\",IF('Simplified Loader'!AX31=\"No\",\"No\",IF('Simplified Loader'!AX31=\"Y\",\"Yes\",IF('Simplified Loader'!AX31=\"N\",\"No\",\"\"))))","v":""},{"$f":"IF('Simplified Loader'!AY31>0,'Simplified Loader'!AY31,\"\")","v":""},{"$f":"IF('Simplified Loader'!AZ31>0,'Simplified Loader'!AZ31,\"\")","v":""},{"$f":"IF('Simplified Loader'!BA31>0,'Simplified Loader'!BA31,\"\")","v":""},{"$f":"IF('Simplified Loader'!BB31=\"Male\",\"Male\",IF('Simplified Loader'!BB31=\"Female\",\"Female\",IF('Simplified Loader'!BB31=\"M\",\"Male\",IF('Simplified Loader'!BB31=\"F\",\"Female\",\"\"))))","v":""},{"$f":"IF('Simplified Loader'!BC31=\"Yes\",\"Yes\",IF('Simplified Loader'!BC31=\"No\",\"No\",IF('Simplified Loader'!BC31=\"Y\",\"Yes\",IF('Simplified Loader'!BC31=\"N\",\"No\",\"\"))))","v":""},{"$f":"IF('Simplified Loader'!BD31=\"Yes\",\"Yes\",IF('Simplified Loader'!BD31=\"No\",\"No\",IF('Simplified Loader'!BD31=\"Y\",\"Yes\",IF('Simplified Loader'!BD31=\"N\",\"No\",\"\"))))","v":""},{"$f":"IF('Simplified Loader'!BE31>0,'Simplified Loader'!BE31,\"\")","v":""},{"$f":"IF('Simplified Loader'!BF31>0,'Simplified Loader'!BF31,\"\")","v":""},{"$f":"IF('Simplified Loader'!BG31>0,'Simplified Loader'!BG31,\"\")","v":""},{"$f":"IF('Simplified Loader'!BH31=\"Male\",\"Male\",IF('Simplified Loader'!BH31=\"Female\",\"Female\",IF('Simplified Loader'!BH31=\"M\",\"Male\",IF('Simplified Loader'!BH31=\"F\",\"Female\",\"\"))))","v":""},{"$f":"IF('Simplified Loader'!BI31=\"Yes\",\"Yes\",IF('Simplified Loader'!BI31=\"No\",\"No\",IF('Simplified Loader'!BI31=\"Y\",\"Yes\",IF('Simplified Loader'!BI31=\"N\",\"No\",\"\"))))","v":""},{"$f":"IF('Simplified Loader'!BJ31=\"Yes\",\"Yes\",IF('Simplified Loader'!BJ31=\"No\",\"No\",IF('Simplified Loader'!BJ31=\"Y\",\"Yes\",IF('Simplified Loader'!BJ31=\"N\",\"No\",\"\"))))","v":""},{"$f":"IF('Simplified Loader'!BK31>0,'Simplified Loader'!BK31,\"\")","v":""},{"$f":"IF('Simplified Loader'!BL31>0,'Simplified Loader'!BL31,\"\")","v":""},{"$f":"IF('Simplified Loader'!BM31>0,'Simplified Loader'!BM31,\"\")","v":""},{"$f":"IF('Simplified Loader'!BN31=\"Male\",\"Male\",IF('Simplified Loader'!BN31=\"Female\",\"Female\",IF('Simplified Loader'!BN31=\"M\",\"Male\",IF('Simplified Loader'!BN31=\"F\",\"Female\",\"\"))))","v":""},{"$f":"IF('Simplified Loader'!BO31=\"Yes\",\"Yes\",IF('Simplified Loader'!BO31=\"No\",\"No\",IF('Simplified Loader'!BO31=\"Y\",\"Yes\",IF('Simplified Loader'!BO31=\"N\",\"No\",\"\"))))","v":""},{"$f":"IF('Simplified Loader'!BP31=\"Yes\",\"Yes\",IF('Simplified Loader'!BP31=\"No\",\"No\",IF('Simplified Loader'!BP31=\"Y\",\"Yes\",IF('Simplified Loader'!BP31=\"N\",\"No\",\"\"))))","v":""},{"$f":"IF('Simplified Loader'!BQ31>0,'Simplified Loader'!BQ31,\"\")","v":""},{"$f":"IF('Simplified Loader'!BR31>0,'Simplified Loader'!BR31,\"\")","v":""},{"$f":"IF('Simplified Loader'!BS31>0,'Simplified Loader'!BS31,\"\")","v":""},{"$f":"IF('Simplified Loader'!BT31=\"Male\",\"Male\",IF('Simplified Loader'!BT31=\"Female\",\"Female\",IF('Simplified Loader'!BT31=\"M\",\"Male\",IF('Simplified Loader'!BT31=\"F\",\"Female\",\"\"))))","v":""},{"$f":"IF('Simplified Loader'!BU31=\"Yes\",\"Yes\",IF('Simplified Loader'!BU31=\"No\",\"No\",IF('Simplified Loader'!BU31=\"Y\",\"Yes\",IF('Simplified Loader'!BU31=\"N\",\"No\",\"\"))))","v":""},{"$f":"IF('Simplified Loader'!BV31=\"Yes\",\"Yes\",IF('Simplified Loader'!BV31=\"No\",\"No\",IF('Simplified Loader'!BV31=\"Y\",\"Yes\",IF('Simplified Loader'!BV31=\"N\",\"No\",\"\"))))","v":""},{"$f":"IF('Simplified Loader'!BW31>0,'Simplified Loader'!BW31,\"\")","v":""},{"$f":"IF('Simplified Loader'!BX31>0,'Simplified Loader'!BX31,\"\")","v":""},{"$f":"IF('Simplified Loader'!BY31>0,'Simplified Loader'!BY31,\"\")","v":""},{"$f":"IF('Simplified Loader'!BZ31=\"Male\",\"Male\",IF('Simplified Loader'!BZ31=\"Female\",\"Female\",IF('Simplified Loader'!BZ31=\"M\",\"Male\",IF('Simplified Loader'!BZ31=\"F\",\"Female\",\"\"))))","v":""},{"$f":"IF('Simplified Loader'!CA31=\"Yes\",\"Yes\",IF('Simplified Loader'!CA31=\"No\",\"No\",IF('Simplified Loader'!CA31=\"Y\",\"Yes\",IF('Simplified Loader'!CA31=\"N\",\"No\",\"\"))))","v":""},{"$f":"IF('Simplified Loader'!CB31=\"Yes\",\"Yes\",IF('Simplified Loader'!CB31=\"No\",\"No\",IF('Simplified Loader'!CB31=\"Y\",\"Yes\",IF('Simplified Loader'!CB31=\"N\",\"No\",\"\"))))","v":""},{"$f":"IF('Simplified Loader'!CH31>0,'Simplified Loader'!CH31,\"\")","v":"    "}]
[{"$f":"IF('Simplified Loader'!A32>0,'Simplified Loader'!A32,\"\")","v":""},{"$f":"IF('Simplified Loader'!B32>0,'Simplified Loader'!B32,\"\")","v":""},{"$f":"IF('Simplified Loader'!C32>0,'Simplified Loader'!C32,\"\")","v":""},{"$f":"IF('Simplified Loader'!D32>0,'Simplified Loader'!D32,\"\")","v":""},{"$f":"IF('Simplified Loader'!E32>0,TEXT('Simplified Loader'!E32,\"000\"),\"\")","v":""},{"$f":"IF('Simplified Loader'!F32>0,'Simplified Loader'!F32,\"\")","v":""},{"$f":"IF('Simplified Loader'!G32>0,'Simplified Loader'!G32,\"\")","v":""},{"$f":"IF('Simplified Loader'!I32>0,'Simplified Loader'!I32,\"\")","v":""},{"$f":"IF('Simplified Loader'!J32>0,'Simplified Loader'!J32,\"\")","v":""},{"$f":"IF('Simplified Loader'!K32>0,'Simplified Loader'!K32,\"\")","v":""},{"$f":"IF('Simplified Loader'!L32>0,'Simplified Loader'!L32,\"\")","v":""},{"$f":"IF('Simplified Loader'!M32=\"Male\",\"Male\",IF('Simplified Loader'!M32=\"Female\",\"Female\",IF('Simplified Loader'!M32=\"M\",\"Male\",IF('Simplified Loader'!M32=\"F\",\"Female\",\"\"))))","v":""},{"$f":"IF('Simplified Loader'!N32=\"Yes\",\"Yes\",IF('Simplified Loader'!N32=\"No\",\"No\",IF('Simplified Loader'!N32=\"Y\",\"Yes\",IF('Simplified Loader'!N32=\"N\",\"No\",\"\"))))","v":""},{"$f":"IF('Simplified Loader'!O32=\"No\",\"Single\",IF('Simplified Loader'!O32=\"Yes\",\"Family\",IF('Simplified Loader'!O32=\"N\",\"Single\",IF('Simplified Loader'!O32=\"Y\",\"Family\",IF('Simplified Loader'!O32=\"In-force\",\"Family\",IF('Simplified Loader'!O32=\"In force\",\"Family\",IF('Simplified Loader'!O32=\"Applies\",\"Family\",IF('Simplified Loader'!O32=\"Applicable\",\"Family\",\"\"))))))))","v":""},{"$f":"IF('Simplified Loader'!P32=\"English\",\"English\",IF('Simplified Loader'!P32=\"French\",\"French\",IF('Simplified Loader'!P32=\"E\",\"English\",IF('Simplified Loader'!P32=\"F\",\"French\",\"\"))))","v":""},{"$f":"IF('Simplified Loader'!Q32=\"Yes\",\"Yes\",IF('Simplified Loader'!Q32=\"No\",\"No\",IF('Simplified Loader'!Q32=\"Y\",\"Yes\",IF('Simplified Loader'!Q32=\"N\",\"No\",\"\"))))","v":""},{"$f":"IF('Simplified Loader'!R32>0,'Simplified Loader'!R32,\"\")","v":""},{"$f":"IF('Simplified Loader'!S32>0,'Simplified Loader'!S32,\"\")","v":""},{"$f":"IF('Simplified Loader'!T32>0,'Simplified Loader'!T32,\"\")","v":""},{"$f":"IF('Simplified Loader'!U32>0,'Simplified Loader'!U32,\"\")","v":""},{"$f":"IF('Simplified Loader'!V32=\"Waive\",\"Yes\",\"\")","v":""},{"$f":"IF('Simplified Loader'!W32=\"Waive\",\"Yes\",\"\")","v":""},{"$f":"IF('Simplified Loader'!X32>0,'Simplified Loader'!X32,\"\")","v":""},{"$f":"IF('Simplified Loader'!Y32>0,'Simplified Loader'!Y32,\"\")","v":""},{"$f":"IF('Simplified Loader'!Z32>0,'Simplified Loader'!Z32,\"\")","v":""},{"$f":"IF('Simplified Loader'!AA32>0,'Simplified Loader'!AA32,\"\")","v":""},{"$f":"IF('Simplified Loader'!AB32>0,'Simplified Loader'!AB32,\"\")","v":""},{"$f":"IF('Simplified Loader'!AC32>0,'Simplified Loader'!AC32,\"\")","v":" "},{"$f":"IF('Simplified Loader'!AE32>0,'Simplified Loader'!AE32&\" \",\"\")&IF('Simplified Loader'!AD32>0,'Simplified Loader'!AD32,\"\")","v":""},null,{"$f":"IF('Simplified Loader'!AF32>0,'Simplified Loader'!AF32,\"\")","v":""},{"$f":"IF('Simplified Loader'!AG32>0,'Simplified Loader'!AG32,\"\")","v":""},{"$f":"IF('Simplified Loader'!AH32>0,'Simplified Loader'!AH32,\"\")","v":""},{"$f":"IF('Simplified Loader'!AI32>0,'Simplified Loader'!AI32,\"\")","v":""},{"$f":"IF('Simplified Loader'!AJ32>0,'Simplified Loader'!AJ32,\"\")","v":""},{"$f":"IF('Simplified Loader'!AK32>0,'Simplified Loader'!AK32,\"\")","v":""},{"$f":"IF('Simplified Loader'!AL32>0,'Simplified Loader'!AL32,\"\")","v":""},{"$f":"IF('Simplified Loader'!AM32>0,'Simplified Loader'!AM32,\"\")","v":""},{"$f":"IF('Simplified Loader'!AN32=\"Male\",\"Male\",IF('Simplified Loader'!AN32=\"Female\",\"Female\",IF('Simplified Loader'!AN32=\"M\",\"Male\",IF('Simplified Loader'!AN32=\"F\",\"Female\",\"\"))))","v":""},{"$f":"IF('Simplified Loader'!AO32=\"Single\",\"Single\",IF('Simplified Loader'!AO32=\"Family\",\"Family\",IF('Simplified Loader'!AO32=\"S\",\"Single\",IF('Simplified Loader'!AO32=\"F\",\"Family\",\"\"))))","v":""},{"$f":"IF('Simplified Loader'!AP32=\"Single\",\"Single\",IF('Simplified Loader'!AP32=\"Family\",\"Family\",IF('Simplified Loader'!AP32=\"S\",\"Single\",IF('Simplified Loader'!AP32=\"F\",\"Family\",\"\"))))","v":""},{"$f":"IF('Simplified Loader'!AQ32>0,'Simplified Loader'!AQ32,\"\")","v":""},{"$f":"IF('Simplified Loader'!AR32=\"Yes\",\"Yes\",IF('Simplified Loader'!AR32=\"No\",\"No\",IF('Simplified Loader'!AR32=\"Y\",\"Yes\",IF('Simplified Loader'!AR32=\"N\",\"No\",\"\"))))","v":""},{"$f":"IF('Simplified Loader'!AS32>0,'Simplified Loader'!AS32,\"\")","v":""},{"$f":"IF('Simplified Loader'!AT32>0,'Simplified Loader'!AT32,\"\")","v":""},{"$f":"IF('Simplified Loader'!AU32>0,'Simplified Loader'!AU32,\"\")","v":""},{"$f":"IF('Simplified Loader'!AV32=\"Male\",\"Male\",IF('Simplified Loader'!AV32=\"Female\",\"Female\",IF('Simplified Loader'!AV32=\"M\",\"Male\",IF('Simplified Loader'!AV32=\"F\",\"Female\",\"\"))))","v":""},{"$f":"IF('Simplified Loader'!AW32=\"Yes\",\"Yes\",IF('Simplified Loader'!AW32=\"No\",\"No\",IF('Simplified Loader'!AW32=\"Y\",\"Yes\",IF('Simplified Loader'!AW32=\"N\",\"No\",\"\"))))","v":""},{"$f":"IF('Simplified Loader'!AX32=\"Yes\",\"Yes\",IF('Simplified Loader'!AX32=\"No\",\"No\",IF('Simplified Loader'!AX32=\"Y\",\"Yes\",IF('Simplified Loader'!AX32=\"N\",\"No\",\"\"))))","v":""},{"$f":"IF('Simplified Loader'!AY32>0,'Simplified Loader'!AY32,\"\")","v":""},{"$f":"IF('Simplified Loader'!AZ32>0,'Simplified Loader'!AZ32,\"\")","v":""},{"$f":"IF('Simplified Loader'!BA32>0,'Simplified Loader'!BA32,\"\")","v":""},{"$f":"IF('Simplified Loader'!BB32=\"Male\",\"Male\",IF('Simplified Loader'!BB32=\"Female\",\"Female\",IF('Simplified Loader'!BB32=\"M\",\"Male\",IF('Simplified Loader'!BB32=\"F\",\"Female\",\"\"))))","v":""},{"$f":"IF('Simplified Loader'!BC32=\"Yes\",\"Yes\",IF('Simplified Loader'!BC32=\"No\",\"No\",IF('Simplified Loader'!BC32=\"Y\",\"Yes\",IF('Simplified Loader'!BC32=\"N\",\"No\",\"\"))))","v":""},{"$f":"IF('Simplified Loader'!BD32=\"Yes\",\"Yes\",IF('Simplified Loader'!BD32=\"No\",\"No\",IF('Simplified Loader'!BD32=\"Y\",\"Yes\",IF('Simplified Loader'!BD32=\"N\",\"No\",\"\"))))","v":""},{"$f":"IF('Simplified Loader'!BE32>0,'Simplified Loader'!BE32,\"\")","v":""},{"$f":"IF('Simplified Loader'!BF32>0,'Simplified Loader'!BF32,\"\")","v":""},{"$f":"IF('Simplified Loader'!BG32>0,'Simplified Loader'!BG32,\"\")","v":""},{"$f":"IF('Simplified Loader'!BH32=\"Male\",\"Male\",IF('Simplified Loader'!BH32=\"Female\",\"Female\",IF('Simplified Loader'!BH32=\"M\",\"Male\",IF('Simplified Loader'!BH32=\"F\",\"Female\",\"\"))))","v":""},{"$f":"IF('Simplified Loader'!BI32=\"Yes\",\"Yes\",IF('Simplified Loader'!BI32=\"No\",\"No\",IF('Simplified Loader'!BI32=\"Y\",\"Yes\",IF('Simplified Loader'!BI32=\"N\",\"No\",\"\"))))","v":""},{"$f":"IF('Simplified Loader'!BJ32=\"Yes\",\"Yes\",IF('Simplified Loader'!BJ32=\"No\",\"No\",IF('Simplified Loader'!BJ32=\"Y\",\"Yes\",IF('Simplified Loader'!BJ32=\"N\",\"No\",\"\"))))","v":""},{"$f":"IF('Simplified Loader'!BK32>0,'Simplified Loader'!BK32,\"\")","v":""},{"$f":"IF('Simplified Loader'!BL32>0,'Simplified Loader'!BL32,\"\")","v":""},{"$f":"IF('Simplified Loader'!BM32>0,'Simplified Loader'!BM32,\"\")","v":""},{"$f":"IF('Simplified Loader'!BN32=\"Male\",\"Male\",IF('Simplified Loader'!BN32=\"Female\",\"Female\",IF('Simplified Loader'!BN32=\"M\",\"Male\",IF('Simplified Loader'!BN32=\"F\",\"Female\",\"\"))))","v":""},{"$f":"IF('Simplified Loader'!BO32=\"Yes\",\"Yes\",IF('Simplified Loader'!BO32=\"No\",\"No\",IF('Simplified Loader'!BO32=\"Y\",\"Yes\",IF('Simplified Loader'!BO32=\"N\",\"No\",\"\"))))","v":""},{"$f":"IF('Simplified Loader'!BP32=\"Yes\",\"Yes\",IF('Simplified Loader'!BP32=\"No\",\"No\",IF('Simplified Loader'!BP32=\"Y\",\"Yes\",IF('Simplified Loader'!BP32=\"N\",\"No\",\"\"))))","v":""},{"$f":"IF('Simplified Loader'!BQ32>0,'Simplified Loader'!BQ32,\"\")","v":""},{"$f":"IF('Simplified Loader'!BR32>0,'Simplified Loader'!BR32,\"\")","v":""},{"$f":"IF('Simplified Loader'!BS32>0,'Simplified Loader'!BS32,\"\")","v":""},{"$f":"IF('Simplified Loader'!BT32=\"Male\",\"Male\",IF('Simplified Loader'!BT32=\"Female\",\"Female\",IF('Simplified Loader'!BT32=\"M\",\"Male\",IF('Simplified Loader'!BT32=\"F\",\"Female\",\"\"))))","v":""},{"$f":"IF('Simplified Loader'!BU32=\"Yes\",\"Yes\",IF('Simplified Loader'!BU32=\"No\",\"No\",IF('Simplified Loader'!BU32=\"Y\",\"Yes\",IF('Simplified Loader'!BU32=\"N\",\"No\",\"\"))))","v":""},{"$f":"IF('Simplified Loader'!BV32=\"Yes\",\"Yes\",IF('Simplified Loader'!BV32=\"No\",\"No\",IF('Simplified Loader'!BV32=\"Y\",\"Yes\",IF('Simplified Loader'!BV32=\"N\",\"No\",\"\"))))","v":""},{"$f":"IF('Simplified Loader'!BW32>0,'Simplified Loader'!BW32,\"\")","v":""},{"$f":"IF('Simplified Loader'!BX32>0,'Simplified Loader'!BX32,\"\")","v":""},{"$f":"IF('Simplified Loader'!BY32>0,'Simplified Loader'!BY32,\"\")","v":""},{"$f":"IF('Simplified Loader'!BZ32=\"Male\",\"Male\",IF('Simplified Loader'!BZ32=\"Female\",\"Female\",IF('Simplified Loader'!BZ32=\"M\",\"Male\",IF('Simplified Loader'!BZ32=\"F\",\"Female\",\"\"))))","v":""},{"$f":"IF('Simplified Loader'!CA32=\"Yes\",\"Yes\",IF('Simplified Loader'!CA32=\"No\",\"No\",IF('Simplified Loader'!CA32=\"Y\",\"Yes\",IF('Simplified Loader'!CA32=\"N\",\"No\",\"\"))))","v":""},{"$f":"IF('Simplified Loader'!CB32=\"Yes\",\"Yes\",IF('Simplified Loader'!CB32=\"No\",\"No\",IF('Simplified Loader'!CB32=\"Y\",\"Yes\",IF('Simplified Loader'!CB32=\"N\",\"No\",\"\"))))","v":""},{"$f":"IF('Simplified Loader'!CH32>0,'Simplified Loader'!CH32,\"\")","v":"    "}]
[{"$f":"IF('Simplified Loader'!A33>0,'Simplified Loader'!A33,\"\")","v":""},{"$f":"IF('Simplified Loader'!B33>0,'Simplified Loader'!B33,\"\")","v":""},{"$f":"IF('Simplified Loader'!C33>0,'Simplified Loader'!C33,\"\")","v":""},{"$f":"IF('Simplified Loader'!D33>0,'Simplified Loader'!D33,\"\")","v":""},{"$f":"IF('Simplified Loader'!E33>0,TEXT('Simplified Loader'!E33,\"000\"),\"\")","v":""},{"$f":"IF('Simplified Loader'!F33>0,'Simplified Loader'!F33,\"\")","v":""},{"$f":"IF('Simplified Loader'!G33>0,'Simplified Loader'!G33,\"\")","v":""},{"$f":"IF('Simplified Loader'!I33>0,'Simplified Loader'!I33,\"\")","v":""},{"$f":"IF('Simplified Loader'!J33>0,'Simplified Loader'!J33,\"\")","v":""},{"$f":"IF('Simplified Loader'!K33>0,'Simplified Loader'!K33,\"\")","v":""},{"$f":"IF('Simplified Loader'!L33>0,'Simplified Loader'!L33,\"\")","v":""},{"$f":"IF('Simplified Loader'!M33=\"Male\",\"Male\",IF('Simplified Loader'!M33=\"Female\",\"Female\",IF('Simplified Loader'!M33=\"M\",\"Male\",IF('Simplified Loader'!M33=\"F\",\"Female\",\"\"))))","v":""},{"$f":"IF('Simplified Loader'!N33=\"Yes\",\"Yes\",IF('Simplified Loader'!N33=\"No\",\"No\",IF('Simplified Loader'!N33=\"Y\",\"Yes\",IF('Simplified Loader'!N33=\"N\",\"No\",\"\"))))","v":""},{"$f":"IF('Simplified Loader'!O33=\"No\",\"Single\",IF('Simplified Loader'!O33=\"Yes\",\"Family\",IF('Simplified Loader'!O33=\"N\",\"Single\",IF('Simplified Loader'!O33=\"Y\",\"Family\",IF('Simplified Loader'!O33=\"In-force\",\"Family\",IF('Simplified Loader'!O33=\"In force\",\"Family\",IF('Simplified Loader'!O33=\"Applies\",\"Family\",IF('Simplified Loader'!O33=\"Applicable\",\"Family\",\"\"))))))))","v":""},{"$f":"IF('Simplified Loader'!P33=\"English\",\"English\",IF('Simplified Loader'!P33=\"French\",\"French\",IF('Simplified Loader'!P33=\"E\",\"English\",IF('Simplified Loader'!P33=\"F\",\"French\",\"\"))))","v":""},{"$f":"IF('Simplified Loader'!Q33=\"Yes\",\"Yes\",IF('Simplified Loader'!Q33=\"No\",\"No\",IF('Simplified Loader'!Q33=\"Y\",\"Yes\",IF('Simplified Loader'!Q33=\"N\",\"No\",\"\"))))","v":""},{"$f":"IF('Simplified Loader'!R33>0,'Simplified Loader'!R33,\"\")","v":""},{"$f":"IF('Simplified Loader'!S33>0,'Simplified Loader'!S33,\"\")","v":""},{"$f":"IF('Simplified Loader'!T33>0,'Simplified Loader'!T33,\"\")","v":""},{"$f":"IF('Simplified Loader'!U33>0,'Simplified Loader'!U33,\"\")","v":""},{"$f":"IF('Simplified Loader'!V33=\"Waive\",\"Yes\",\"\")","v":""},{"$f":"IF('Simplified Loader'!W33=\"Waive\",\"Yes\",\"\")","v":""},{"$f":"IF('Simplified Loader'!X33>0,'Simplified Loader'!X33,\"\")","v":""},{"$f":"IF('Simplified Loader'!Y33>0,'Simplified Loader'!Y33,\"\")","v":""},{"$f":"IF('Simplified Loader'!Z33>0,'Simplified Loader'!Z33,\"\")","v":""},{"$f":"IF('Simplified Loader'!AA33>0,'Simplified Loader'!AA33,\"\")","v":""},{"$f":"IF('Simplified Loader'!AB33>0,'Simplified Loader'!AB33,\"\")","v":""},{"$f":"IF('Simplified Loader'!AC33>0,'Simplified Loader'!AC33,\"\")","v":" "},{"$f":"IF('Simplified Loader'!AE33>0,'Simplified Loader'!AE33&\" \",\"\")&IF('Simplified Loader'!AD33>0,'Simplified Loader'!AD33,\"\")","v":""},null,{"$f":"IF('Simplified Loader'!AF33>0,'Simplified Loader'!AF33,\"\")","v":""},{"$f":"IF('Simplified Loader'!AG33>0,'Simplified Loader'!AG33,\"\")","v":""},{"$f":"IF('Simplified Loader'!AH33>0,'Simplified Loader'!AH33,\"\")","v":""},{"$f":"IF('Simplified Loader'!AI33>0,'Simplified Loader'!AI33,\"\")","v":""},{"$f":"IF('Simplified Loader'!AJ33>0,'Simplified Loader'!AJ33,\"\")","v":""},{"$f":"IF('Simplified Loader'!AK33>0,'Simplified Loader'!AK33,\"\")","v":""},{"$f":"IF('Simplified Loader'!AL33>0,'Simplified Loader'!AL33,\"\")","v":""},{"$f":"IF('Simplified Loader'!AM33>0,'Simplified Loader'!AM33,\"\")","v":""},{"$f":"IF('Simplified Loader'!AN33=\"Male\",\"Male\",IF('Simplified Loader'!AN33=\"Female\",\"Female\",IF('Simplified Loader'!AN33=\"M\",\"Male\",IF('Simplified Loader'!AN33=\"F\",\"Female\",\"\"))))","v":""},{"$f":"IF('Simplified Loader'!AO33=\"Single\",\"Single\",IF('Simplified Loader'!AO33=\"Family\",\"Family\",IF('Simplified Loader'!AO33=\"S\",\"Single\",IF('Simplified Loader'!AO33=\"F\",\"Family\",\"\"))))","v":""},{"$f":"IF('Simplified Loader'!AP33=\"Single\",\"Single\",IF('Simplified Loader'!AP33=\"Family\",\"Family\",IF('Simplified Loader'!AP33=\"S\",\"Single\",IF('Simplified Loader'!AP33=\"F\",\"Family\",\"\"))))","v":""},{"$f":"IF('Simplified Loader'!AQ33>0,'Simplified Loader'!AQ33,\"\")","v":""},{"$f":"IF('Simplified Loader'!AR33=\"Yes\",\"Yes\",IF('Simplified Loader'!AR33=\"No\",\"No\",IF('Simplified Loader'!AR33=\"Y\",\"Yes\",IF('Simplified Loader'!AR33=\"N\",\"No\",\"\"))))","v":""},{"$f":"IF('Simplified Loader'!AS33>0,'Simplified Loader'!AS33,\"\")","v":""},{"$f":"IF('Simplified Loader'!AT33>0,'Simplified Loader'!AT33,\"\")","v":""},{"$f":"IF('Simplified Loader'!AU33>0,'Simplified Loader'!AU33,\"\")","v":""},{"$f":"IF('Simplified Loader'!AV33=\"Male\",\"Male\",IF('Simplified Loader'!AV33=\"Female\",\"Female\",IF('Simplified Loader'!AV33=\"M\",\"Male\",IF('Simplified Loader'!AV33=\"F\",\"Female\",\"\"))))","v":""},{"$f":"IF('Simplified Loader'!AW33=\"Yes\",\"Yes\",IF('Simplified Loader'!AW33=\"No\",\"No\",IF('Simplified Loader'!AW33=\"Y\",\"Yes\",IF('Simplified Loader'!AW33=\"N\",\"No\",\"\"))))","v":""},{"$f":"IF('Simplified Loader'!AX33=\"Yes\",\"Yes\",IF('Simplified Loader'!AX33=\"No\",\"No\",IF('Simplified Loader'!AX33=\"Y\",\"Yes\",IF('Simplified Loader'!AX33=\"N\",\"No\",\"\"))))","v":""},{"$f":"IF('Simplified Loader'!AY33>0,'Simplified Loader'!AY33,\"\")","v":""},{"$f":"IF('Simplified Loader'!AZ33>0,'Simplified Loader'!AZ33,\"\")","v":""},{"$f":"IF('Simplified Loader'!BA33>0,'Simplified Loader'!BA33,\"\")","v":""},{"$f":"IF('Simplified Loader'!BB33=\"Male\",\"Male\",IF('Simplified Loader'!BB33=\"Female\",\"Female\",IF('Simplified Loader'!BB33=\"M\",\"Male\",IF('Simplified Loader'!BB33=\"F\",\"Female\",\"\"))))","v":""},{"$f":"IF('Simplified Loader'!BC33=\"Yes\",\"Yes\",IF('Simplified Loader'!BC33=\"No\",\"No\",IF('Simplified Loader'!BC33=\"Y\",\"Yes\",IF('Simplified Loader'!BC33=\"N\",\"No\",\"\"))))","v":""},{"$f":"IF('Simplified Loader'!BD33=\"Yes\",\"Yes\",IF('Simplified Loader'!BD33=\"No\",\"No\",IF('Simplified Loader'!BD33=\"Y\",\"Yes\",IF('Simplified Loader'!BD33=\"N\",\"No\",\"\"))))","v":""},{"$f":"IF('Simplified Loader'!BE33>0,'Simplified Loader'!BE33,\"\")","v":""},{"$f":"IF('Simplified Loader'!BF33>0,'Simplified Loader'!BF33,\"\")","v":""},{"$f":"IF('Simplified Loader'!BG33>0,'Simplified Loader'!BG33,\"\")","v":""},{"$f":"IF('Simplified Loader'!BH33=\"Male\",\"Male\",IF('Simplified Loader'!BH33=\"Female\",\"Female\",IF('Simplified Loader'!BH33=\"M\",\"Male\",IF('Simplified Loader'!BH33=\"F\",\"Female\",\"\"))))","v":""},{"$f":"IF('Simplified Loader'!BI33=\"Yes\",\"Yes\",IF('Simplified Loader'!BI33=\"No\",\"No\",IF('Simplified Loader'!BI33=\"Y\",\"Yes\",IF('Simplified Loader'!BI33=\"N\",\"No\",\"\"))))","v":""},{"$f":"IF('Simplified Loader'!BJ33=\"Yes\",\"Yes\",IF('Simplified Loader'!BJ33=\"No\",\"No\",IF('Simplified Loader'!BJ33=\"Y\",\"Yes\",IF('Simplified Loader'!BJ33=\"N\",\"No\",\"\"))))","v":""},{"$f":"IF('Simplified Loader'!BK33>0,'Simplified Loader'!BK33,\"\")","v":""},{"$f":"IF('Simplified Loader'!BL33>0,'Simplified Loader'!BL33,\"\")","v":""},{"$f":"IF('Simplified Loader'!BM33>0,'Simplified Loader'!BM33,\"\")","v":""},{"$f":"IF('Simplified Loader'!BN33=\"Male\",\"Male\",IF('Simplified Loader'!BN33=\"Female\",\"Female\",IF('Simplified Loader'!BN33=\"M\",\"Male\",IF('Simplified Loader'!BN33=\"F\",\"Female\",\"\"))))","v":""},{"$f":"IF('Simplified Loader'!BO33=\"Yes\",\"Yes\",IF('Simplified Loader'!BO33=\"No\",\"No\",IF('Simplified Loader'!BO33=\"Y\",\"Yes\",IF('Simplified Loader'!BO33=\"N\",\"No\",\"\"))))","v":""},{"$f":"IF('Simplified Loader'!BP33=\"Yes\",\"Yes\",IF('Simplified Loader'!BP33=\"No\",\"No\",IF('Simplified Loader'!BP33=\"Y\",\"Yes\",IF('Simplified Loader'!BP33=\"N\",\"No\",\"\"))))","v":""},{"$f":"IF('Simplified Loader'!BQ33>0,'Simplified Loader'!BQ33,\"\")","v":""},{"$f":"IF('Simplified Loader'!BR33>0,'Simplified Loader'!BR33,\"\")","v":""},{"$f":"IF('Simplified Loader'!BS33>0,'Simplified Loader'!BS33,\"\")","v":""},{"$f":"IF('Simplified Loader'!BT33=\"Male\",\"Male\",IF('Simplified Loader'!BT33=\"Female\",\"Female\",IF('Simplified Loader'!BT33=\"M\",\"Male\",IF('Simplified Loader'!BT33=\"F\",\"Female\",\"\"))))","v":""},{"$f":"IF('Simplified Loader'!BU33=\"Yes\",\"Yes\",IF('Simplified Loader'!BU33=\"No\",\"No\",IF('Simplified Loader'!BU33=\"Y\",\"Yes\",IF('Simplified Loader'!BU33=\"N\",\"No\",\"\"))))","v":""},{"$f":"IF('Simplified Loader'!BV33=\"Yes\",\"Yes\",IF('Simplified Loader'!BV33=\"No\",\"No\",IF('Simplified Loader'!BV33=\"Y\",\"Yes\",IF('Simplified Loader'!BV33=\"N\",\"No\",\"\"))))","v":""},{"$f":"IF('Simplified Loader'!BW33>0,'Simplified Loader'!BW33,\"\")","v":""},{"$f":"IF('Simplified Loader'!BX33>0,'Simplified Loader'!BX33,\"\")","v":""},{"$f":"IF('Simplified Loader'!BY33>0,'Simplified Loader'!BY33,\"\")","v":""},{"$f":"IF('Simplified Loader'!BZ33=\"Male\",\"Male\",IF('Simplified Loader'!BZ33=\"Female\",\"Female\",IF('Simplified Loader'!BZ33=\"M\",\"Male\",IF('Simplified Loader'!BZ33=\"F\",\"Female\",\"\"))))","v":""},{"$f":"IF('Simplified Loader'!CA33=\"Yes\",\"Yes\",IF('Simplified Loader'!CA33=\"No\",\"No\",IF('Simplified Loader'!CA33=\"Y\",\"Yes\",IF('Simplified Loader'!CA33=\"N\",\"No\",\"\"))))","v":""},{"$f":"IF('Simplified Loader'!CB33=\"Yes\",\"Yes\",IF('Simplified Loader'!CB33=\"No\",\"No\",IF('Simplified Loader'!CB33=\"Y\",\"Yes\",IF('Simplified Loader'!CB33=\"N\",\"No\",\"\"))))","v":""},{"$f":"IF('Simplified Loader'!CH33>0,'Simplified Loader'!CH33,\"\")","v":"    "}]
[{"$f":"IF('Simplified Loader'!A34>0,'Simplified Loader'!A34,\"\")","v":""},{"$f":"IF('Simplified Loader'!B34>0,'Simplified Loader'!B34,\"\")","v":""},{"$f":"IF('Simplified Loader'!C34>0,'Simplified Loader'!C34,\"\")","v":""},{"$f":"IF('Simplified Loader'!D34>0,'Simplified Loader'!D34,\"\")","v":""},{"$f":"IF('Simplified Loader'!E34>0,TEXT('Simplified Loader'!E34,\"000\"),\"\")","v":""},{"$f":"IF('Simplified Loader'!F34>0,'Simplified Loader'!F34,\"\")","v":""},{"$f":"IF('Simplified Loader'!G34>0,'Simplified Loader'!G34,\"\")","v":""},{"$f":"IF('Simplified Loader'!I34>0,'Simplified Loader'!I34,\"\")","v":""},{"$f":"IF('Simplified Loader'!J34>0,'Simplified Loader'!J34,\"\")","v":""},{"$f":"IF('Simplified Loader'!K34>0,'Simplified Loader'!K34,\"\")","v":""},{"$f":"IF('Simplified Loader'!L34>0,'Simplified Loader'!L34,\"\")","v":""},{"$f":"IF('Simplified Loader'!M34=\"Male\",\"Male\",IF('Simplified Loader'!M34=\"Female\",\"Female\",IF('Simplified Loader'!M34=\"M\",\"Male\",IF('Simplified Loader'!M34=\"F\",\"Female\",\"\"))))","v":""},{"$f":"IF('Simplified Loader'!N34=\"Yes\",\"Yes\",IF('Simplified Loader'!N34=\"No\",\"No\",IF('Simplified Loader'!N34=\"Y\",\"Yes\",IF('Simplified Loader'!N34=\"N\",\"No\",\"\"))))","v":""},{"$f":"IF('Simplified Loader'!O34=\"No\",\"Single\",IF('Simplified Loader'!O34=\"Yes\",\"Family\",IF('Simplified Loader'!O34=\"N\",\"Single\",IF('Simplified Loader'!O34=\"Y\",\"Family\",IF('Simplified Loader'!O34=\"In-force\",\"Family\",IF('Simplified Loader'!O34=\"In force\",\"Family\",IF('Simplified Loader'!O34=\"Applies\",\"Family\",IF('Simplified Loader'!O34=\"Applicable\",\"Family\",\"\"))))))))","v":""},{"$f":"IF('Simplified Loader'!P34=\"English\",\"English\",IF('Simplified Loader'!P34=\"French\",\"French\",IF('Simplified Loader'!P34=\"E\",\"English\",IF('Simplified Loader'!P34=\"F\",\"French\",\"\"))))","v":""},{"$f":"IF('Simplified Loader'!Q34=\"Yes\",\"Yes\",IF('Simplified Loader'!Q34=\"No\",\"No\",IF('Simplified Loader'!Q34=\"Y\",\"Yes\",IF('Simplified Loader'!Q34=\"N\",\"No\",\"\"))))","v":""},{"$f":"IF('Simplified Loader'!R34>0,'Simplified Loader'!R34,\"\")","v":""},{"$f":"IF('Simplified Loader'!S34>0,'Simplified Loader'!S34,\"\")","v":""},{"$f":"IF('Simplified Loader'!T34>0,'Simplified Loader'!T34,\"\")","v":""},{"$f":"IF('Simplified Loader'!U34>0,'Simplified Loader'!U34,\"\")","v":""},{"$f":"IF('Simplified Loader'!V34=\"Waive\",\"Yes\",\"\")","v":""},{"$f":"IF('Simplified Loader'!W34=\"Waive\",\"Yes\",\"\")","v":""},{"$f":"IF('Simplified Loader'!X34>0,'Simplified Loader'!X34,\"\")","v":""},{"$f":"IF('Simplified Loader'!Y34>0,'Simplified Loader'!Y34,\"\")","v":""},{"$f":"IF('Simplified Loader'!Z34>0,'Simplified Loader'!Z34,\"\")","v":""},{"$f":"IF('Simplified Loader'!AA34>0,'Simplified Loader'!AA34,\"\")","v":""},{"$f":"IF('Simplified Loader'!AB34>0,'Simplified Loader'!AB34,\"\")","v":""},{"$f":"IF('Simplified Loader'!AC34>0,'Simplified Loader'!AC34,\"\")","v":" "},{"$f":"IF('Simplified Loader'!AE34>0,'Simplified Loader'!AE34&\" \",\"\")&IF('Simplified Loader'!AD34>0,'Simplified Loader'!AD34,\"\")","v":""},null,{"$f":"IF('Simplified Loader'!AF34>0,'Simplified Loader'!AF34,\"\")","v":""},{"$f":"IF('Simplified Loader'!AG34>0,'Simplified Loader'!AG34,\"\")","v":""},{"$f":"IF('Simplified Loader'!AH34>0,'Simplified Loader'!AH34,\"\")","v":""},{"$f":"IF('Simplified Loader'!AI34>0,'Simplified Loader'!AI34,\"\")","v":""},{"$f":"IF('Simplified Loader'!AJ34>0,'Simplified Loader'!AJ34,\"\")","v":""},{"$f":"IF('Simplified Loader'!AK34>0,'Simplified Loader'!AK34,\"\")","v":""},{"$f":"IF('Simplified Loader'!AL34>0,'Simplified Loader'!AL34,\"\")","v":""},{"$f":"IF('Simplified Loader'!AM34>0,'Simplified Loader'!AM34,\"\")","v":""},{"$f":"IF('Simplified Loader'!AN34=\"Male\",\"Male\",IF('Simplified Loader'!AN34=\"Female\",\"Female\",IF('Simplified Loader'!AN34=\"M\",\"Male\",IF('Simplified Loader'!AN34=\"F\",\"Female\",\"\"))))","v":""},{"$f":"IF('Simplified Loader'!AO34=\"Single\",\"Single\",IF('Simplified Loader'!AO34=\"Family\",\"Family\",IF('Simplified Loader'!AO34=\"S\",\"Single\",IF('Simplified Loader'!AO34=\"F\",\"Family\",\"\"))))","v":""},{"$f":"IF('Simplified Loader'!AP34=\"Single\",\"Single\",IF('Simplified Loader'!AP34=\"Family\",\"Family\",IF('Simplified Loader'!AP34=\"S\",\"Single\",IF('Simplified Loader'!AP34=\"F\",\"Family\",\"\"))))","v":""},{"$f":"IF('Simplified Loader'!AQ34>0,'Simplified Loader'!AQ34,\"\")","v":""},{"$f":"IF('Simplified Loader'!AR34=\"Yes\",\"Yes\",IF('Simplified Loader'!AR34=\"No\",\"No\",IF('Simplified Loader'!AR34=\"Y\",\"Yes\",IF('Simplified Loader'!AR34=\"N\",\"No\",\"\"))))","v":""},{"$f":"IF('Simplified Loader'!AS34>0,'Simplified Loader'!AS34,\"\")","v":""},{"$f":"IF('Simplified Loader'!AT34>0,'Simplified Loader'!AT34,\"\")","v":""},{"$f":"IF('Simplified Loader'!AU34>0,'Simplified Loader'!AU34,\"\")","v":""},{"$f":"IF('Simplified Loader'!AV34=\"Male\",\"Male\",IF('Simplified Loader'!AV34=\"Female\",\"Female\",IF('Simplified Loader'!AV34=\"M\",\"Male\",IF('Simplified Loader'!AV34=\"F\",\"Female\",\"\"))))","v":""},{"$f":"IF('Simplified Loader'!AW34=\"Yes\",\"Yes\",IF('Simplified Loader'!AW34=\"No\",\"No\",IF('Simplified Loader'!AW34=\"Y\",\"Yes\",IF('Simplified Loader'!AW34=\"N\",\"No\",\"\"))))","v":""},{"$f":"IF('Simplified Loader'!AX34=\"Yes\",\"Yes\",IF('Simplified Loader'!AX34=\"No\",\"No\",IF('Simplified Loader'!AX34=\"Y\",\"Yes\",IF('Simplified Loader'!AX34=\"N\",\"No\",\"\"))))","v":""},{"$f":"IF('Simplified Loader'!AY34>0,'Simplified Loader'!AY34,\"\")","v":""},{"$f":"IF('Simplified Loader'!AZ34>0,'Simplified Loader'!AZ34,\"\")","v":""},{"$f":"IF('Simplified Loader'!BA34>0,'Simplified Loader'!BA34,\"\")","v":""},{"$f":"IF('Simplified Loader'!BB34=\"Male\",\"Male\",IF('Simplified Loader'!BB34=\"Female\",\"Female\",IF('Simplified Loader'!BB34=\"M\",\"Male\",IF('Simplified Loader'!BB34=\"F\",\"Female\",\"\"))))","v":""},{"$f":"IF('Simplified Loader'!BC34=\"Yes\",\"Yes\",IF('Simplified Loader'!BC34=\"No\",\"No\",IF('Simplified Loader'!BC34=\"Y\",\"Yes\",IF('Simplified Loader'!BC34=\"N\",\"No\",\"\"))))","v":""},{"$f":"IF('Simplified Loader'!BD34=\"Yes\",\"Yes\",IF('Simplified Loader'!BD34=\"No\",\"No\",IF('Simplified Loader'!BD34=\"Y\",\"Yes\",IF('Simplified Loader'!BD34=\"N\",\"No\",\"\"))))","v":""},{"$f":"IF('Simplified Loader'!BE34>0,'Simplified Loader'!BE34,\"\")","v":""},{"$f":"IF('Simplified Loader'!BF34>0,'Simplified Loader'!BF34,\"\")","v":""},{"$f":"IF('Simplified Loader'!BG34>0,'Simplified Loader'!BG34,\"\")","v":""},{"$f":"IF('Simplified Loader'!BH34=\"Male\",\"Male\",IF('Simplified Loader'!BH34=\"Female\",\"Female\",IF('Simplified Loader'!BH34=\"M\",\"Male\",IF('Simplified Loader'!BH34=\"F\",\"Female\",\"\"))))","v":""},{"$f":"IF('Simplified Loader'!BI34=\"Yes\",\"Yes\",IF('Simplified Loader'!BI34=\"No\",\"No\",IF('Simplified Loader'!BI34=\"Y\",\"Yes\",IF('Simplified Loader'!BI34=\"N\",\"No\",\"\"))))","v":""},{"$f":"IF('Simplified Loader'!BJ34=\"Yes\",\"Yes\",IF('Simplified Loader'!BJ34=\"No\",\"No\",IF('Simplified Loader'!BJ34=\"Y\",\"Yes\",IF('Simplified Loader'!BJ34=\"N\",\"No\",\"\"))))","v":""},{"$f":"IF('Simplified Loader'!BK34>0,'Simplified Loader'!BK34,\"\")","v":""},{"$f":"IF('Simplified Loader'!BL34>0,'Simplified Loader'!BL34,\"\")","v":""},{"$f":"IF('Simplified Loader'!BM34>0,'Simplified Loader'!BM34,\"\")","v":""},{"$f":"IF('Simplified Loader'!BN34=\"Male\",\"Male\",IF('Simplified Loader'!BN34=\"Female\",\"Female\",IF('Simplified Loader'!BN34=\"M\",\"Male\",IF('Simplified Loader'!BN34=\"F\",\"Female\",\"\"))))","v":""},{"$f":"IF('Simplified Loader'!BO34=\"Yes\",\"Yes\",IF('Simplified Loader'!BO34=\"No\",\"No\",IF('Simplified Loader'!BO34=\"Y\",\"Yes\",IF('Simplified Loader'!BO34=\"N\",\"No\",\"\"))))","v":""},{"$f":"IF('Simplified Loader'!BP34=\"Yes\",\"Yes\",IF('Simplified Loader'!BP34=\"No\",\"No\",IF('Simplified Loader'!BP34=\"Y\",\"Yes\",IF('Simplified Loader'!BP34=\"N\",\"No\",\"\"))))","v":""},{"$f":"IF('Simplified Loader'!BQ34>0,'Simplified Loader'!BQ34,\"\")","v":""},{"$f":"IF('Simplified Loader'!BR34>0,'Simplified Loader'!BR34,\"\")","v":""},{"$f":"IF('Simplified Loader'!BS34>0,'Simplified Loader'!BS34,\"\")","v":""},{"$f":"IF('Simplified Loader'!BT34=\"Male\",\"Male\",IF('Simplified Loader'!BT34=\"Female\",\"Female\",IF('Simplified Loader'!BT34=\"M\",\"Male\",IF('Simplified Loader'!BT34=\"F\",\"Female\",\"\"))))","v":""},{"$f":"IF('Simplified Loader'!BU34=\"Yes\",\"Yes\",IF('Simplified Loader'!BU34=\"No\",\"No\",IF('Simplified Loader'!BU34=\"Y\",\"Yes\",IF('Simplified Loader'!BU34=\"N\",\"No\",\"\"))))","v":""},{"$f":"IF('Simplified Loader'!BV34=\"Yes\",\"Yes\",IF('Simplified Loader'!BV34=\"No\",\"No\",IF('Simplified Loader'!BV34=\"Y\",\"Yes\",IF('Simplified Loader'!BV34=\"N\",\"No\",\"\"))))","v":""},{"$f":"IF('Simplified Loader'!BW34>0,'Simplified Loader'!BW34,\"\")","v":""},{"$f":"IF('Simplified Loader'!BX34>0,'Simplified Loader'!BX34,\"\")","v":""},{"$f":"IF('Simplified Loader'!BY34>0,'Simplified Loader'!BY34,\"\")","v":""},{"$f":"IF('Simplified Loader'!BZ34=\"Male\",\"Male\",IF('Simplified Loader'!BZ34=\"Female\",\"Female\",IF('Simplified Loader'!BZ34=\"M\",\"Male\",IF('Simplified Loader'!BZ34=\"F\",\"Female\",\"\"))))","v":""},{"$f":"IF('Simplified Loader'!CA34=\"Yes\",\"Yes\",IF('Simplified Loader'!CA34=\"No\",\"No\",IF('Simplified Loader'!CA34=\"Y\",\"Yes\",IF('Simplified Loader'!CA34=\"N\",\"No\",\"\"))))","v":""},{"$f":"IF('Simplified Loader'!CB34=\"Yes\",\"Yes\",IF('Simplified Loader'!CB34=\"No\",\"No\",IF('Simplified Loader'!CB34=\"Y\",\"Yes\",IF('Simplified Loader'!CB34=\"N\",\"No\",\"\"))))","v":""},{"$f":"IF('Simplified Loader'!CH34>0,'Simplified Loader'!CH34,\"\")","v":"    "}]
[{"$f":"IF('Simplified Loader'!A35>0,'Simplified Loader'!A35,\"\")","v":""},{"$f":"IF('Simplified Loader'!B35>0,'Simplified Loader'!B35,\"\")","v":""},{"$f":"IF('Simplified Loader'!C35>0,'Simplified Loader'!C35,\"\")","v":""},{"$f":"IF('Simplified Loader'!D35>0,'Simplified Loader'!D35,\"\")","v":""},{"$f":"IF('Simplified Loader'!E35>0,TEXT('Simplified Loader'!E35,\"000\"),\"\")","v":""},{"$f":"IF('Simplified Loader'!F35>0,'Simplified Loader'!F35,\"\")","v":""},{"$f":"IF('Simplified Loader'!G35>0,'Simplified Loader'!G35,\"\")","v":""},{"$f":"IF('Simplified Loader'!I35>0,'Simplified Loader'!I35,\"\")","v":""},{"$f":"IF('Simplified Loader'!J35>0,'Simplified Loader'!J35,\"\")","v":""},{"$f":"IF('Simplified Loader'!K35>0,'Simplified Loader'!K35,\"\")","v":""},{"$f":"IF('Simplified Loader'!L35>0,'Simplified Loader'!L35,\"\")","v":""},{"$f":"IF('Simplified Loader'!M35=\"Male\",\"Male\",IF('Simplified Loader'!M35=\"Female\",\"Female\",IF('Simplified Loader'!M35=\"M\",\"Male\",IF('Simplified Loader'!M35=\"F\",\"Female\",\"\"))))","v":""},{"$f":"IF('Simplified Loader'!N35=\"Yes\",\"Yes\",IF('Simplified Loader'!N35=\"No\",\"No\",IF('Simplified Loader'!N35=\"Y\",\"Yes\",IF('Simplified Loader'!N35=\"N\",\"No\",\"\"))))","v":""},{"$f":"IF('Simplified Loader'!O35=\"No\",\"Single\",IF('Simplified Loader'!O35=\"Yes\",\"Family\",IF('Simplified Loader'!O35=\"N\",\"Single\",IF('Simplified Loader'!O35=\"Y\",\"Family\",IF('Simplified Loader'!O35=\"In-force\",\"Family\",IF('Simplified Loader'!O35=\"In force\",\"Family\",IF('Simplified Loader'!O35=\"Applies\",\"Family\",IF('Simplified Loader'!O35=\"Applicable\",\"Family\",\"\"))))))))","v":""},{"$f":"IF('Simplified Loader'!P35=\"English\",\"English\",IF('Simplified Loader'!P35=\"French\",\"French\",IF('Simplified Loader'!P35=\"E\",\"English\",IF('Simplified Loader'!P35=\"F\",\"French\",\"\"))))","v":""},{"$f":"IF('Simplified Loader'!Q35=\"Yes\",\"Yes\",IF('Simplified Loader'!Q35=\"No\",\"No\",IF('Simplified Loader'!Q35=\"Y\",\"Yes\",IF('Simplified Loader'!Q35=\"N\",\"No\",\"\"))))","v":""},{"$f":"IF('Simplified Loader'!R35>0,'Simplified Loader'!R35,\"\")","v":""},{"$f":"IF('Simplified Loader'!S35>0,'Simplified Loader'!S35,\"\")","v":""},{"$f":"IF('Simplified Loader'!T35>0,'Simplified Loader'!T35,\"\")","v":""},{"$f":"IF('Simplified Loader'!U35>0,'Simplified Loader'!U35,\"\")","v":""},{"$f":"IF('Simplified Loader'!V35=\"Waive\",\"Yes\",\"\")","v":""},{"$f":"IF('Simplified Loader'!W35=\"Waive\",\"Yes\",\"\")","v":""},{"$f":"IF('Simplified Loader'!X35>0,'Simplified Loader'!X35,\"\")","v":""},{"$f":"IF('Simplified Loader'!Y35>0,'Simplified Loader'!Y35,\"\")","v":""},{"$f":"IF('Simplified Loader'!Z35>0,'Simplified Loader'!Z35,\"\")","v":""},{"$f":"IF('Simplified Loader'!AA35>0,'Simplified Loader'!AA35,\"\")","v":""},{"$f":"IF('Simplified Loader'!AB35>0,'Simplified Loader'!AB35,\"\")","v":""},{"$f":"IF('Simplified Loader'!AC35>0,'Simplified Loader'!AC35,\"\")","v":" "},{"$f":"IF('Simplified Loader'!AE35>0,'Simplified Loader'!AE35&\" \",\"\")&IF('Simplified Loader'!AD35>0,'Simplified Loader'!AD35,\"\")","v":""},null,{"$f":"IF('Simplified Loader'!AF35>0,'Simplified Loader'!AF35,\"\")","v":""},{"$f":"IF('Simplified Loader'!AG35>0,'Simplified Loader'!AG35,\"\")","v":""},{"$f":"IF('Simplified Loader'!AH35>0,'Simplified Loader'!AH35,\"\")","v":""},{"$f":"IF('Simplified Loader'!AI35>0,'Simplified Loader'!AI35,\"\")","v":""},{"$f":"IF('Simplified Loader'!AJ35>0,'Simplified Loader'!AJ35,\"\")","v":""},{"$f":"IF('Simplified Loader'!AK35>0,'Simplified Loader'!AK35,\"\")","v":""},{"$f":"IF('Simplified Loader'!AL35>0,'Simplified Loader'!AL35,\"\")","v":""},{"$f":"IF('Simplified Loader'!AM35>0,'Simplified Loader'!AM35,\"\")","v":""},{"$f":"IF('Simplified Loader'!AN35=\"Male\",\"Male\",IF('Simplified Loader'!AN35=\"Female\",\"Female\",IF('Simplified Loader'!AN35=\"M\",\"Male\",IF('Simplified Loader'!AN35=\"F\",\"Female\",\"\"))))","v":""},{"$f":"IF('Simplified Loader'!AO35=\"Single\",\"Single\",IF('Simplified Loader'!AO35=\"Family\",\"Family\",IF('Simplified Loader'!AO35=\"S\",\"Single\",IF('Simplified Loader'!AO35=\"F\",\"Family\",\"\"))))","v":""},{"$f":"IF('Simplified Loader'!AP35=\"Single\",\"Single\",IF('Simplified Loader'!AP35=\"Family\",\"Family\",IF('Simplified Loader'!AP35=\"S\",\"Single\",IF('Simplified Loader'!AP35=\"F\",\"Family\",\"\"))))","v":""},{"$f":"IF('Simplified Loader'!AQ35>0,'Simplified Loader'!AQ35,\"\")","v":""},{"$f":"IF('Simplified Loader'!AR35=\"Yes\",\"Yes\",IF('Simplified Loader'!AR35=\"No\",\"No\",IF('Simplified Loader'!AR35=\"Y\",\"Yes\",IF('Simplified Loader'!AR35=\"N\",\"No\",\"\"))))","v":""},{"$f":"IF('Simplified Loader'!AS35>0,'Simplified Loader'!AS35,\"\")","v":""},{"$f":"IF('Simplified Loader'!AT35>0,'Simplified Loader'!AT35,\"\")","v":""},{"$f":"IF('Simplified Loader'!AU35>0,'Simplified Loader'!AU35,\"\")","v":""},{"$f":"IF('Simplified Loader'!AV35=\"Male\",\"Male\",IF('Simplified Loader'!AV35=\"Female\",\"Female\",IF('Simplified Loader'!AV35=\"M\",\"Male\",IF('Simplified Loader'!AV35=\"F\",\"Female\",\"\"))))","v":""},{"$f":"IF('Simplified Loader'!AW35=\"Yes\",\"Yes\",IF('Simplified Loader'!AW35=\"No\",\"No\",IF('Simplified Loader'!AW35=\"Y\",\"Yes\",IF('Simplified Loader'!AW35=\"N\",\"No\",\"\"))))","v":""},{"$f":"IF('Simplified Loader'!AX35=\"Yes\",\"Yes\",IF('Simplified Loader'!AX35=\"No\",\"No\",IF('Simplified Loader'!AX35=\"Y\",\"Yes\",IF('Simplified Loader'!AX35=\"N\",\"No\",\"\"))))","v":""},{"$f":"IF('Simplified Loader'!AY35>0,'Simplified Loader'!AY35,\"\")","v":""},{"$f":"IF('Simplified Loader'!AZ35>0,'Simplified Loader'!AZ35,\"\")","v":""},{"$f":"IF('Simplified Loader'!BA35>0,'Simplified Loader'!BA35,\"\")","v":""},{"$f":"IF('Simplified Loader'!BB35=\"Male\",\"Male\",IF('Simplified Loader'!BB35=\"Female\",\"Female\",IF('Simplified Loader'!BB35=\"M\",\"Male\",IF('Simplified Loader'!BB35=\"F\",\"Female\",\"\"))))","v":""},{"$f":"IF('Simplified Loader'!BC35=\"Yes\",\"Yes\",IF('Simplified Loader'!BC35=\"No\",\"No\",IF('Simplified Loader'!BC35=\"Y\",\"Yes\",IF('Simplified Loader'!BC35=\"N\",\"No\",\"\"))))","v":""},{"$f":"IF('Simplified Loader'!BD35=\"Yes\",\"Yes\",IF('Simplified Loader'!BD35=\"No\",\"No\",IF('Simplified Loader'!BD35=\"Y\",\"Yes\",IF('Simplified Loader'!BD35=\"N\",\"No\",\"\"))))","v":""},{"$f":"IF('Simplified Loader'!BE35>0,'Simplified Loader'!BE35,\"\")","v":""},{"$f":"IF('Simplified Loader'!BF35>0,'Simplified Loader'!BF35,\"\")","v":""},{"$f":"IF('Simplified Loader'!BG35>0,'Simplified Loader'!BG35,\"\")","v":""},{"$f":"IF('Simplified Loader'!BH35=\"Male\",\"Male\",IF('Simplified Loader'!BH35=\"Female\",\"Female\",IF('Simplified Loader'!BH35=\"M\",\"Male\",IF('Simplified Loader'!BH35=\"F\",\"Female\",\"\"))))","v":""},{"$f":"IF('Simplified Loader'!BI35=\"Yes\",\"Yes\",IF('Simplified Loader'!BI35=\"No\",\"No\",IF('Simplified Loader'!BI35=\"Y\",\"Yes\",IF('Simplified Loader'!BI35=\"N\",\"No\",\"\"))))","v":""},{"$f":"IF('Simplified Loader'!BJ35=\"Yes\",\"Yes\",IF('Simplified Loader'!BJ35=\"No\",\"No\",IF('Simplified Loader'!BJ35=\"Y\",\"Yes\",IF('Simplified Loader'!BJ35=\"N\",\"No\",\"\"))))","v":""},{"$f":"IF('Simplified Loader'!BK35>0,'Simplified Loader'!BK35,\"\")","v":""},{"$f":"IF('Simplified Loader'!BL35>0,'Simplified Loader'!BL35,\"\")","v":""},{"$f":"IF('Simplified Loader'!BM35>0,'Simplified Loader'!BM35,\"\")","v":""},{"$f":"IF('Simplified Loader'!BN35=\"Male\",\"Male\",IF('Simplified Loader'!BN35=\"Female\",\"Female\",IF('Simplified Loader'!BN35=\"M\",\"Male\",IF('Simplified Loader'!BN35=\"F\",\"Female\",\"\"))))","v":""},{"$f":"IF('Simplified Loader'!BO35=\"Yes\",\"Yes\",IF('Simplified Loader'!BO35=\"No\",\"No\",IF('Simplified Loader'!BO35=\"Y\",\"Yes\",IF('Simplified Loader'!BO35=\"N\",\"No\",\"\"))))","v":""},{"$f":"IF('Simplified Loader'!BP35=\"Yes\",\"Yes\",IF('Simplified Loader'!BP35=\"No\",\"No\",IF('Simplified Loader'!BP35=\"Y\",\"Yes\",IF('Simplified Loader'!BP35=\"N\",\"No\",\"\"))))","v":""},{"$f":"IF('Simplified Loader'!BQ35>0,'Simplified Loader'!BQ35,\"\")","v":""},{"$f":"IF('Simplified Loader'!BR35>0,'Simplified Loader'!BR35,\"\")","v":""},{"$f":"IF('Simplified Loader'!BS35>0,'Simplified Loader'!BS35,\"\")","v":""},{"$f":"IF('Simplified Loader'!BT35=\"Male\",\"Male\",IF('Simplified Loader'!BT35=\"Female\",\"Female\",IF('Simplified Loader'!BT35=\"M\",\"Male\",IF('Simplified Loader'!BT35=\"F\",\"Female\",\"\"))))","v":""},{"$f":"IF('Simplified Loader'!BU35=\"Yes\",\"Yes\",IF('Simplified Loader'!BU35=\"No\",\"No\",IF('Simplified Loader'!BU35=\"Y\",\"Yes\",IF('Simplified Loader'!BU35=\"N\",\"No\",\"\"))))","v":""},{"$f":"IF('Simplified Loader'!BV35=\"Yes\",\"Yes\",IF('Simplified Loader'!BV35=\"No\",\"No\",IF('Simplified Loader'!BV35=\"Y\",\"Yes\",IF('Simplified Loader'!BV35=\"N\",\"No\",\"\"))))","v":""},{"$f":"IF('Simplified Loader'!BW35>0,'Simplified Loader'!BW35,\"\")","v":""},{"$f":"IF('Simplified Loader'!BX35>0,'Simplified Loader'!BX35,\"\")","v":""},{"$f":"IF('Simplified Loader'!BY35>0,'Simplified Loader'!BY35,\"\")","v":""},{"$f":"IF('Simplified Loader'!BZ35=\"Male\",\"Male\",IF('Simplified Loader'!BZ35=\"Female\",\"Female\",IF('Simplified Loader'!BZ35=\"M\",\"Male\",IF('Simplified Loader'!BZ35=\"F\",\"Female\",\"\"))))","v":""},{"$f":"IF('Simplified Loader'!CA35=\"Yes\",\"Yes\",IF('Simplified Loader'!CA35=\"No\",\"No\",IF('Simplified Loader'!CA35=\"Y\",\"Yes\",IF('Simplified Loader'!CA35=\"N\",\"No\",\"\"))))","v":""},{"$f":"IF('Simplified Loader'!CB35=\"Yes\",\"Yes\",IF('Simplified Loader'!CB35=\"No\",\"No\",IF('Simplified Loader'!CB35=\"Y\",\"Yes\",IF('Simplified Loader'!CB35=\"N\",\"No\",\"\"))))","v":""},{"$f":"IF('Simplified Loader'!CH35>0,'Simplified Loader'!CH35,\"\")","v":"    "}]
[{"$f":"IF('Simplified Loader'!A36>0,'Simplified Loader'!A36,\"\")","v":""},{"$f":"IF('Simplified Loader'!B36>0,'Simplified Loader'!B36,\"\")","v":""},{"$f":"IF('Simplified Loader'!C36>0,'Simplified Loader'!C36,\"\")","v":""},{"$f":"IF('Simplified Loader'!D36>0,'Simplified Loader'!D36,\"\")","v":""},{"$f":"IF('Simplified Loader'!E36>0,TEXT('Simplified Loader'!E36,\"000\"),\"\")","v":""},{"$f":"IF('Simplified Loader'!F36>0,'Simplified Loader'!F36,\"\")","v":""},{"$f":"IF('Simplified Loader'!G36>0,'Simplified Loader'!G36,\"\")","v":""},{"$f":"IF('Simplified Loader'!I36>0,'Simplified Loader'!I36,\"\")","v":""},{"$f":"IF('Simplified Loader'!J36>0,'Simplified Loader'!J36,\"\")","v":""},{"$f":"IF('Simplified Loader'!K36>0,'Simplified Loader'!K36,\"\")","v":""},{"$f":"IF('Simplified Loader'!L36>0,'Simplified Loader'!L36,\"\")","v":""},{"$f":"IF('Simplified Loader'!M36=\"Male\",\"Male\",IF('Simplified Loader'!M36=\"Female\",\"Female\",IF('Simplified Loader'!M36=\"M\",\"Male\",IF('Simplified Loader'!M36=\"F\",\"Female\",\"\"))))","v":""},{"$f":"IF('Simplified Loader'!N36=\"Yes\",\"Yes\",IF('Simplified Loader'!N36=\"No\",\"No\",IF('Simplified Loader'!N36=\"Y\",\"Yes\",IF('Simplified Loader'!N36=\"N\",\"No\",\"\"))))","v":""},{"$f":"IF('Simplified Loader'!O36=\"No\",\"Single\",IF('Simplified Loader'!O36=\"Yes\",\"Family\",IF('Simplified Loader'!O36=\"N\",\"Single\",IF('Simplified Loader'!O36=\"Y\",\"Family\",IF('Simplified Loader'!O36=\"In-force\",\"Family\",IF('Simplified Loader'!O36=\"In force\",\"Family\",IF('Simplified Loader'!O36=\"Applies\",\"Family\",IF('Simplified Loader'!O36=\"Applicable\",\"Family\",\"\"))))))))","v":""},{"$f":"IF('Simplified Loader'!P36=\"English\",\"English\",IF('Simplified Loader'!P36=\"French\",\"French\",IF('Simplified Loader'!P36=\"E\",\"English\",IF('Simplified Loader'!P36=\"F\",\"French\",\"\"))))","v":""},{"$f":"IF('Simplified Loader'!Q36=\"Yes\",\"Yes\",IF('Simplified Loader'!Q36=\"No\",\"No\",IF('Simplified Loader'!Q36=\"Y\",\"Yes\",IF('Simplified Loader'!Q36=\"N\",\"No\",\"\"))))","v":""},{"$f":"IF('Simplified Loader'!R36>0,'Simplified Loader'!R36,\"\")","v":""},{"$f":"IF('Simplified Loader'!S36>0,'Simplified Loader'!S36,\"\")","v":""},{"$f":"IF('Simplified Loader'!T36>0,'Simplified Loader'!T36,\"\")","v":""},{"$f":"IF('Simplified Loader'!U36>0,'Simplified Loader'!U36,\"\")","v":""},{"$f":"IF('Simplified Loader'!V36=\"Waive\",\"Yes\",\"\")","v":""},{"$f":"IF('Simplified Loader'!W36=\"Waive\",\"Yes\",\"\")","v":""},{"$f":"IF('Simplified Loader'!X36>0,'Simplified Loader'!X36,\"\")","v":""},{"$f":"IF('Simplified Loader'!Y36>0,'Simplified Loader'!Y36,\"\")","v":""},{"$f":"IF('Simplified Loader'!Z36>0,'Simplified Loader'!Z36,\"\")","v":""},{"$f":"IF('Simplified Loader'!AA36>0,'Simplified Loader'!AA36,\"\")","v":""},{"$f":"IF('Simplified Loader'!AB36>0,'Simplified Loader'!AB36,\"\")","v":""},{"$f":"IF('Simplified Loader'!AC36>0,'Simplified Loader'!AC36,\"\")","v":" "},{"$f":"IF('Simplified Loader'!AE36>0,'Simplified Loader'!AE36&\" \",\"\")&IF('Simplified Loader'!AD36>0,'Simplified Loader'!AD36,\"\")","v":""},null,{"$f":"IF('Simplified Loader'!AF36>0,'Simplified Loader'!AF36,\"\")","v":""},{"$f":"IF('Simplified Loader'!AG36>0,'Simplified Loader'!AG36,\"\")","v":""},{"$f":"IF('Simplified Loader'!AH36>0,'Simplified Loader'!AH36,\"\")","v":""},{"$f":"IF('Simplified Loader'!AI36>0,'Simplified Loader'!AI36,\"\")","v":""},{"$f":"IF('Simplified Loader'!AJ36>0,'Simplified Loader'!AJ36,\"\")","v":""},{"$f":"IF('Simplified Loader'!AK36>0,'Simplified Loader'!AK36,\"\")","v":""},{"$f":"IF('Simplified Loader'!AL36>0,'Simplified Loader'!AL36,\"\")","v":""},{"$f":"IF('Simplified Loader'!AM36>0,'Simplified Loader'!AM36,\"\")","v":""},{"$f":"IF('Simplified Loader'!AN36=\"Male\",\"Male\",IF('Simplified Loader'!AN36=\"Female\",\"Female\",IF('Simplified Loader'!AN36=\"M\",\"Male\",IF('Simplified Loader'!AN36=\"F\",\"Female\",\"\"))))","v":""},{"$f":"IF('Simplified Loader'!AO36=\"Single\",\"Single\",IF('Simplified Loader'!AO36=\"Family\",\"Family\",IF('Simplified Loader'!AO36=\"S\",\"Single\",IF('Simplified Loader'!AO36=\"F\",\"Family\",\"\"))))","v":""},{"$f":"IF('Simplified Loader'!AP36=\"Single\",\"Single\",IF('Simplified Loader'!AP36=\"Family\",\"Family\",IF('Simplified Loader'!AP36=\"S\",\"Single\",IF('Simplified Loader'!AP36=\"F\",\"Family\",\"\"))))","v":""},{"$f":"IF('Simplified Loader'!AQ36>0,'Simplified Loader'!AQ36,\"\")","v":""},{"$f":"IF('Simplified Loader'!AR36=\"Yes\",\"Yes\",IF('Simplified Loader'!AR36=\"No\",\"No\",IF('Simplified Loader'!AR36=\"Y\",\"Yes\",IF('Simplified Loader'!AR36=\"N\",\"No\",\"\"))))","v":""},{"$f":"IF('Simplified Loader'!AS36>0,'Simplified Loader'!AS36,\"\")","v":""},{"$f":"IF('Simplified Loader'!AT36>0,'Simplified Loader'!AT36,\"\")","v":""},{"$f":"IF('Simplified Loader'!AU36>0,'Simplified Loader'!AU36,\"\")","v":""},{"$f":"IF('Simplified Loader'!AV36=\"Male\",\"Male\",IF('Simplified Loader'!AV36=\"Female\",\"Female\",IF('Simplified Loader'!AV36=\"M\",\"Male\",IF('Simplified Loader'!AV36=\"F\",\"Female\",\"\"))))","v":""},{"$f":"IF('Simplified Loader'!AW36=\"Yes\",\"Yes\",IF('Simplified Loader'!AW36=\"No\",\"No\",IF('Simplified Loader'!AW36=\"Y\",\"Yes\",IF('Simplified Loader'!AW36=\"N\",\"No\",\"\"))))","v":""},{"$f":"IF('Simplified Loader'!AX36=\"Yes\",\"Yes\",IF('Simplified Loader'!AX36=\"No\",\"No\",IF('Simplified Loader'!AX36=\"Y\",\"Yes\",IF('Simplified Loader'!AX36=\"N\",\"No\",\"\"))))","v":""},{"$f":"IF('Simplified Loader'!AY36>0,'Simplified Loader'!AY36,\"\")","v":""},{"$f":"IF('Simplified Loader'!AZ36>0,'Simplified Loader'!AZ36,\"\")","v":""},{"$f":"IF('Simplified Loader'!BA36>0,'Simplified Loader'!BA36,\"\")","v":""},{"$f":"IF('Simplified Loader'!BB36=\"Male\",\"Male\",IF('Simplified Loader'!BB36=\"Female\",\"Female\",IF('Simplified Loader'!BB36=\"M\",\"Male\",IF('Simplified Loader'!BB36=\"F\",\"Female\",\"\"))))","v":""},{"$f":"IF('Simplified Loader'!BC36=\"Yes\",\"Yes\",IF('Simplified Loader'!BC36=\"No\",\"No\",IF('Simplified Loader'!BC36=\"Y\",\"Yes\",IF('Simplified Loader'!BC36=\"N\",\"No\",\"\"))))","v":""},{"$f":"IF('Simplified Loader'!BD36=\"Yes\",\"Yes\",IF('Simplified Loader'!BD36=\"No\",\"No\",IF('Simplified Loader'!BD36=\"Y\",\"Yes\",IF('Simplified Loader'!BD36=\"N\",\"No\",\"\"))))","v":""},{"$f":"IF('Simplified Loader'!BE36>0,'Simplified Loader'!BE36,\"\")","v":""},{"$f":"IF('Simplified Loader'!BF36>0,'Simplified Loader'!BF36,\"\")","v":""},{"$f":"IF('Simplified Loader'!BG36>0,'Simplified Loader'!BG36,\"\")","v":""},{"$f":"IF('Simplified Loader'!BH36=\"Male\",\"Male\",IF('Simplified Loader'!BH36=\"Female\",\"Female\",IF('Simplified Loader'!BH36=\"M\",\"Male\",IF('Simplified Loader'!BH36=\"F\",\"Female\",\"\"))))","v":""},{"$f":"IF('Simplified Loader'!BI36=\"Yes\",\"Yes\",IF('Simplified Loader'!BI36=\"No\",\"No\",IF('Simplified Loader'!BI36=\"Y\",\"Yes\",IF('Simplified Loader'!BI36=\"N\",\"No\",\"\"))))","v":""},{"$f":"IF('Simplified Loader'!BJ36=\"Yes\",\"Yes\",IF('Simplified Loader'!BJ36=\"No\",\"No\",IF('Simplified Loader'!BJ36=\"Y\",\"Yes\",IF('Simplified Loader'!BJ36=\"N\",\"No\",\"\"))))","v":""},{"$f":"IF('Simplified Loader'!BK36>0,'Simplified Loader'!BK36,\"\")","v":""},{"$f":"IF('Simplified Loader'!BL36>0,'Simplified Loader'!BL36,\"\")","v":""},{"$f":"IF('Simplified Loader'!BM36>0,'Simplified Loader'!BM36,\"\")","v":""},{"$f":"IF('Simplified Loader'!BN36=\"Male\",\"Male\",IF('Simplified Loader'!BN36=\"Female\",\"Female\",IF('Simplified Loader'!BN36=\"M\",\"Male\",IF('Simplified Loader'!BN36=\"F\",\"Female\",\"\"))))","v":""},{"$f":"IF('Simplified Loader'!BO36=\"Yes\",\"Yes\",IF('Simplified Loader'!BO36=\"No\",\"No\",IF('Simplified Loader'!BO36=\"Y\",\"Yes\",IF('Simplified Loader'!BO36=\"N\",\"No\",\"\"))))","v":""},{"$f":"IF('Simplified Loader'!BP36=\"Yes\",\"Yes\",IF('Simplified Loader'!BP36=\"No\",\"No\",IF('Simplified Loader'!BP36=\"Y\",\"Yes\",IF('Simplified Loader'!BP36=\"N\",\"No\",\"\"))))","v":""},{"$f":"IF('Simplified Loader'!BQ36>0,'Simplified Loader'!BQ36,\"\")","v":""},{"$f":"IF('Simplified Loader'!BR36>0,'Simplified Loader'!BR36,\"\")","v":""},{"$f":"IF('Simplified Loader'!BS36>0,'Simplified Loader'!BS36,\"\")","v":""},{"$f":"IF('Simplified Loader'!BT36=\"Male\",\"Male\",IF('Simplified Loader'!BT36=\"Female\",\"Female\",IF('Simplified Loader'!BT36=\"M\",\"Male\",IF('Simplified Loader'!BT36=\"F\",\"Female\",\"\"))))","v":""},{"$f":"IF('Simplified Loader'!BU36=\"Yes\",\"Yes\",IF('Simplified Loader'!BU36=\"No\",\"No\",IF('Simplified Loader'!BU36=\"Y\",\"Yes\",IF('Simplified Loader'!BU36=\"N\",\"No\",\"\"))))","v":""},{"$f":"IF('Simplified Loader'!BV36=\"Yes\",\"Yes\",IF('Simplified Loader'!BV36=\"No\",\"No\",IF('Simplified Loader'!BV36=\"Y\",\"Yes\",IF('Simplified Loader'!BV36=\"N\",\"No\",\"\"))))","v":""},{"$f":"IF('Simplified Loader'!BW36>0,'Simplified Loader'!BW36,\"\")","v":""},{"$f":"IF('Simplified Loader'!BX36>0,'Simplified Loader'!BX36,\"\")","v":""},{"$f":"IF('Simplified Loader'!BY36>0,'Simplified Loader'!BY36,\"\")","v":""},{"$f":"IF('Simplified Loader'!BZ36=\"Male\",\"Male\",IF('Simplified Loader'!BZ36=\"Female\",\"Female\",IF('Simplified Loader'!BZ36=\"M\",\"Male\",IF('Simplified Loader'!BZ36=\"F\",\"Female\",\"\"))))","v":""},{"$f":"IF('Simplified Loader'!CA36=\"Yes\",\"Yes\",IF('Simplified Loader'!CA36=\"No\",\"No\",IF('Simplified Loader'!CA36=\"Y\",\"Yes\",IF('Simplified Loader'!CA36=\"N\",\"No\",\"\"))))","v":""},{"$f":"IF('Simplified Loader'!CB36=\"Yes\",\"Yes\",IF('Simplified Loader'!CB36=\"No\",\"No\",IF('Simplified Loader'!CB36=\"Y\",\"Yes\",IF('Simplified Loader'!CB36=\"N\",\"No\",\"\"))))","v":""},{"$f":"IF('Simplified Loader'!CH36>0,'Simplified Loader'!CH36,\"\")","v":"    "}]
[{"$f":"IF('Simplified Loader'!A37>0,'Simplified Loader'!A37,\"\")","v":""},{"$f":"IF('Simplified Loader'!B37>0,'Simplified Loader'!B37,\"\")","v":""},{"$f":"IF('Simplified Loader'!C37>0,'Simplified Loader'!C37,\"\")","v":""},{"$f":"IF('Simplified Loader'!D37>0,'Simplified Loader'!D37,\"\")","v":""},{"$f":"IF('Simplified Loader'!E37>0,TEXT('Simplified Loader'!E37,\"000\"),\"\")","v":""},{"$f":"IF('Simplified Loader'!F37>0,'Simplified Loader'!F37,\"\")","v":""},{"$f":"IF('Simplified Loader'!G37>0,'Simplified Loader'!G37,\"\")","v":""},{"$f":"IF('Simplified Loader'!I37>0,'Simplified Loader'!I37,\"\")","v":""},{"$f":"IF('Simplified Loader'!J37>0,'Simplified Loader'!J37,\"\")","v":""},{"$f":"IF('Simplified Loader'!K37>0,'Simplified Loader'!K37,\"\")","v":""},{"$f":"IF('Simplified Loader'!L37>0,'Simplified Loader'!L37,\"\")","v":""},{"$f":"IF('Simplified Loader'!M37=\"Male\",\"Male\",IF('Simplified Loader'!M37=\"Female\",\"Female\",IF('Simplified Loader'!M37=\"M\",\"Male\",IF('Simplified Loader'!M37=\"F\",\"Female\",\"\"))))","v":""},{"$f":"IF('Simplified Loader'!N37=\"Yes\",\"Yes\",IF('Simplified Loader'!N37=\"No\",\"No\",IF('Simplified Loader'!N37=\"Y\",\"Yes\",IF('Simplified Loader'!N37=\"N\",\"No\",\"\"))))","v":""},{"$f":"IF('Simplified Loader'!O37=\"No\",\"Single\",IF('Simplified Loader'!O37=\"Yes\",\"Family\",IF('Simplified Loader'!O37=\"N\",\"Single\",IF('Simplified Loader'!O37=\"Y\",\"Family\",IF('Simplified Loader'!O37=\"In-force\",\"Family\",IF('Simplified Loader'!O37=\"In force\",\"Family\",IF('Simplified Loader'!O37=\"Applies\",\"Family\",IF('Simplified Loader'!O37=\"Applicable\",\"Family\",\"\"))))))))","v":""},{"$f":"IF('Simplified Loader'!P37=\"English\",\"English\",IF('Simplified Loader'!P37=\"French\",\"French\",IF('Simplified Loader'!P37=\"E\",\"English\",IF('Simplified Loader'!P37=\"F\",\"French\",\"\"))))","v":""},{"$f":"IF('Simplified Loader'!Q37=\"Yes\",\"Yes\",IF('Simplified Loader'!Q37=\"No\",\"No\",IF('Simplified Loader'!Q37=\"Y\",\"Yes\",IF('Simplified Loader'!Q37=\"N\",\"No\",\"\"))))","v":""},{"$f":"IF('Simplified Loader'!R37>0,'Simplified Loader'!R37,\"\")","v":""},{"$f":"IF('Simplified Loader'!S37>0,'Simplified Loader'!S37,\"\")","v":""},{"$f":"IF('Simplified Loader'!T37>0,'Simplified Loader'!T37,\"\")","v":""},{"$f":"IF('Simplified Loader'!U37>0,'Simplified Loader'!U37,\"\")","v":""},{"$f":"IF('Simplified Loader'!V37=\"Waive\",\"Yes\",\"\")","v":""},{"$f":"IF('Simplified Loader'!W37=\"Waive\",\"Yes\",\"\")","v":""},{"$f":"IF('Simplified Loader'!X37>0,'Simplified Loader'!X37,\"\")","v":""},{"$f":"IF('Simplified Loader'!Y37>0,'Simplified Loader'!Y37,\"\")","v":""},{"$f":"IF('Simplified Loader'!Z37>0,'Simplified Loader'!Z37,\"\")","v":""},{"$f":"IF('Simplified Loader'!AA37>0,'Simplified Loader'!AA37,\"\")","v":""},{"$f":"IF('Simplified Loader'!AB37>0,'Simplified Loader'!AB37,\"\")","v":""},{"$f":"IF('Simplified Loader'!AC37>0,'Simplified Loader'!AC37,\"\")","v":" "},{"$f":"IF('Simplified Loader'!AE37>0,'Simplified Loader'!AE37&\" \",\"\")&IF('Simplified Loader'!AD37>0,'Simplified Loader'!AD37,\"\")","v":""},null,{"$f":"IF('Simplified Loader'!AF37>0,'Simplified Loader'!AF37,\"\")","v":""},{"$f":"IF('Simplified Loader'!AG37>0,'Simplified Loader'!AG37,\"\")","v":""},{"$f":"IF('Simplified Loader'!AH37>0,'Simplified Loader'!AH37,\"\")","v":""},{"$f":"IF('Simplified Loader'!AI37>0,'Simplified Loader'!AI37,\"\")","v":""},{"$f":"IF('Simplified Loader'!AJ37>0,'Simplified Loader'!AJ37,\"\")","v":""},{"$f":"IF('Simplified Loader'!AK37>0,'Simplified Loader'!AK37,\"\")","v":""},{"$f":"IF('Simplified Loader'!AL37>0,'Simplified Loader'!AL37,\"\")","v":""},{"$f":"IF('Simplified Loader'!AM37>0,'Simplified Loader'!AM37,\"\")","v":""},{"$f":"IF('Simplified Loader'!AN37=\"Male\",\"Male\",IF('Simplified Loader'!AN37=\"Female\",\"Female\",IF('Simplified Loader'!AN37=\"M\",\"Male\",IF('Simplified Loader'!AN37=\"F\",\"Female\",\"\"))))","v":""},{"$f":"IF('Simplified Loader'!AO37=\"Single\",\"Single\",IF('Simplified Loader'!AO37=\"Family\",\"Family\",IF('Simplified Loader'!AO37=\"S\",\"Single\",IF('Simplified Loader'!AO37=\"F\",\"Family\",\"\"))))","v":""},{"$f":"IF('Simplified Loader'!AP37=\"Single\",\"Single\",IF('Simplified Loader'!AP37=\"Family\",\"Family\",IF('Simplified Loader'!AP37=\"S\",\"Single\",IF('Simplified Loader'!AP37=\"F\",\"Family\",\"\"))))","v":""},{"$f":"IF('Simplified Loader'!AQ37>0,'Simplified Loader'!AQ37,\"\")","v":""},{"$f":"IF('Simplified Loader'!AR37=\"Yes\",\"Yes\",IF('Simplified Loader'!AR37=\"No\",\"No\",IF('Simplified Loader'!AR37=\"Y\",\"Yes\",IF('Simplified Loader'!AR37=\"N\",\"No\",\"\"))))","v":""},{"$f":"IF('Simplified Loader'!AS37>0,'Simplified Loader'!AS37,\"\")","v":""},{"$f":"IF('Simplified Loader'!AT37>0,'Simplified Loader'!AT37,\"\")","v":""},{"$f":"IF('Simplified Loader'!AU37>0,'Simplified Loader'!AU37,\"\")","v":""},{"$f":"IF('Simplified Loader'!AV37=\"Male\",\"Male\",IF('Simplified Loader'!AV37=\"Female\",\"Female\",IF('Simplified Loader'!AV37=\"M\",\"Male\",IF('Simplified Loader'!AV37=\"F\",\"Female\",\"\"))))","v":""},{"$f":"IF('Simplified Loader'!AW37=\"Yes\",\"Yes\",IF('Simplified Loader'!AW37=\"No\",\"No\",IF('Simplified Loader'!AW37=\"Y\",\"Yes\",IF('Simplified Loader'!AW37=\"N\",\"No\",\"\"))))","v":""},{"$f":"IF('Simplified Loader'!AX37=\"Yes\",\"Yes\",IF('Simplified Loader'!AX37=\"No\",\"No\",IF('Simplified Loader'!AX37=\"Y\",\"Yes\",IF('Simplified Loader'!AX37=\"N\",\"No\",\"\"))))","v":""},{"$f":"IF('Simplified Loader'!AY37>0,'Simplified Loader'!AY37,\"\")","v":""},{"$f":"IF('Simplified Loader'!AZ37>0,'Simplified Loader'!AZ37,\"\")","v":""},{"$f":"IF('Simplified Loader'!BA37>0,'Simplified Loader'!BA37,\"\")","v":""},{"$f":"IF('Simplified Loader'!BB37=\"Male\",\"Male\",IF('Simplified Loader'!BB37=\"Female\",\"Female\",IF('Simplified Loader'!BB37=\"M\",\"Male\",IF('Simplified Loader'!BB37=\"F\",\"Female\",\"\"))))","v":""},{"$f":"IF('Simplified Loader'!BC37=\"Yes\",\"Yes\",IF('Simplified Loader'!BC37=\"No\",\"No\",IF('Simplified Loader'!BC37=\"Y\",\"Yes\",IF('Simplified Loader'!BC37=\"N\",\"No\",\"\"))))","v":""},{"$f":"IF('Simplified Loader'!BD37=\"Yes\",\"Yes\",IF('Simplified Loader'!BD37=\"No\",\"No\",IF('Simplified Loader'!BD37=\"Y\",\"Yes\",IF('Simplified Loader'!BD37=\"N\",\"No\",\"\"))))","v":""},{"$f":"IF('Simplified Loader'!BE37>0,'Simplified Loader'!BE37,\"\")","v":""},{"$f":"IF('Simplified Loader'!BF37>0,'Simplified Loader'!BF37,\"\")","v":""},{"$f":"IF('Simplified Loader'!BG37>0,'Simplified Loader'!BG37,\"\")","v":""},{"$f":"IF('Simplified Loader'!BH37=\"Male\",\"Male\",IF('Simplified Loader'!BH37=\"Female\",\"Female\",IF('Simplified Loader'!BH37=\"M\",\"Male\",IF('Simplified Loader'!BH37=\"F\",\"Female\",\"\"))))","v":""},{"$f":"IF('Simplified Loader'!BI37=\"Yes\",\"Yes\",IF('Simplified Loader'!BI37=\"No\",\"No\",IF('Simplified Loader'!BI37=\"Y\",\"Yes\",IF('Simplified Loader'!BI37=\"N\",\"No\",\"\"))))","v":""},{"$f":"IF('Simplified Loader'!BJ37=\"Yes\",\"Yes\",IF('Simplified Loader'!BJ37=\"No\",\"No\",IF('Simplified Loader'!BJ37=\"Y\",\"Yes\",IF('Simplified Loader'!BJ37=\"N\",\"No\",\"\"))))","v":""},{"$f":"IF('Simplified Loader'!BK37>0,'Simplified Loader'!BK37,\"\")","v":""},{"$f":"IF('Simplified Loader'!BL37>0,'Simplified Loader'!BL37,\"\")","v":""},{"$f":"IF('Simplified Loader'!BM37>0,'Simplified Loader'!BM37,\"\")","v":""},{"$f":"IF('Simplified Loader'!BN37=\"Male\",\"Male\",IF('Simplified Loader'!BN37=\"Female\",\"Female\",IF('Simplified Loader'!BN37=\"M\",\"Male\",IF('Simplified Loader'!BN37=\"F\",\"Female\",\"\"))))","v":""},{"$f":"IF('Simplified Loader'!BO37=\"Yes\",\"Yes\",IF('Simplified Loader'!BO37=\"No\",\"No\",IF('Simplified Loader'!BO37=\"Y\",\"Yes\",IF('Simplified Loader'!BO37=\"N\",\"No\",\"\"))))","v":""},{"$f":"IF('Simplified Loader'!BP37=\"Yes\",\"Yes\",IF('Simplified Loader'!BP37=\"No\",\"No\",IF('Simplified Loader'!BP37=\"Y\",\"Yes\",IF('Simplified Loader'!BP37=\"N\",\"No\",\"\"))))","v":""},{"$f":"IF('Simplified Loader'!BQ37>0,'Simplified Loader'!BQ37,\"\")","v":""},{"$f":"IF('Simplified Loader'!BR37>0,'Simplified Loader'!BR37,\"\")","v":""},{"$f":"IF('Simplified Loader'!BS37>0,'Simplified Loader'!BS37,\"\")","v":""},{"$f":"IF('Simplified Loader'!BT37=\"Male\",\"Male\",IF('Simplified Loader'!BT37=\"Female\",\"Female\",IF('Simplified Loader'!BT37=\"M\",\"Male\",IF('Simplified Loader'!BT37=\"F\",\"Female\",\"\"))))","v":""},{"$f":"IF('Simplified Loader'!BU37=\"Yes\",\"Yes\",IF('Simplified Loader'!BU37=\"No\",\"No\",IF('Simplified Loader'!BU37=\"Y\",\"Yes\",IF('Simplified Loader'!BU37=\"N\",\"No\",\"\"))))","v":""},{"$f":"IF('Simplified Loader'!BV37=\"Yes\",\"Yes\",IF('Simplified Loader'!BV37=\"No\",\"No\",IF('Simplified Loader'!BV37=\"Y\",\"Yes\",IF('Simplified Loader'!BV37=\"N\",\"No\",\"\"))))","v":""},{"$f":"IF('Simplified Loader'!BW37>0,'Simplified Loader'!BW37,\"\")","v":""},{"$f":"IF('Simplified Loader'!BX37>0,'Simplified Loader'!BX37,\"\")","v":""},{"$f":"IF('Simplified Loader'!BY37>0,'Simplified Loader'!BY37,\"\")","v":""},{"$f":"IF('Simplified Loader'!BZ37=\"Male\",\"Male\",IF('Simplified Loader'!BZ37=\"Female\",\"Female\",IF('Simplified Loader'!BZ37=\"M\",\"Male\",IF('Simplified Loader'!BZ37=\"F\",\"Female\",\"\"))))","v":""},{"$f":"IF('Simplified Loader'!CA37=\"Yes\",\"Yes\",IF('Simplified Loader'!CA37=\"No\",\"No\",IF('Simplified Loader'!CA37=\"Y\",\"Yes\",IF('Simplified Loader'!CA37=\"N\",\"No\",\"\"))))","v":""},{"$f":"IF('Simplified Loader'!CB37=\"Yes\",\"Yes\",IF('Simplified Loader'!CB37=\"No\",\"No\",IF('Simplified Loader'!CB37=\"Y\",\"Yes\",IF('Simplified Loader'!CB37=\"N\",\"No\",\"\"))))","v":""},{"$f":"IF('Simplified Loader'!CH37>0,'Simplified Loader'!CH37,\"\")","v":"    "}]
[{"$f":"IF('Simplified Loader'!A38>0,'Simplified Loader'!A38,\"\")","v":""},{"$f":"IF('Simplified Loader'!B38>0,'Simplified Loader'!B38,\"\")","v":""},{"$f":"IF('Simplified Loader'!C38>0,'Simplified Loader'!C38,\"\")","v":""},{"$f":"IF('Simplified Loader'!D38>0,'Simplified Loader'!D38,\"\")","v":""},{"$f":"IF('Simplified Loader'!E38>0,TEXT('Simplified Loader'!E38,\"000\"),\"\")","v":""},{"$f":"IF('Simplified Loader'!F38>0,'Simplified Loader'!F38,\"\")","v":""},{"$f":"IF('Simplified Loader'!G38>0,'Simplified Loader'!G38,\"\")","v":""},{"$f":"IF('Simplified Loader'!I38>0,'Simplified Loader'!I38,\"\")","v":""},{"$f":"IF('Simplified Loader'!J38>0,'Simplified Loader'!J38,\"\")","v":""},{"$f":"IF('Simplified Loader'!K38>0,'Simplified Loader'!K38,\"\")","v":""},{"$f":"IF('Simplified Loader'!L38>0,'Simplified Loader'!L38,\"\")","v":""},{"$f":"IF('Simplified Loader'!M38=\"Male\",\"Male\",IF('Simplified Loader'!M38=\"Female\",\"Female\",IF('Simplified Loader'!M38=\"M\",\"Male\",IF('Simplified Loader'!M38=\"F\",\"Female\",\"\"))))","v":""},{"$f":"IF('Simplified Loader'!N38=\"Yes\",\"Yes\",IF('Simplified Loader'!N38=\"No\",\"No\",IF('Simplified Loader'!N38=\"Y\",\"Yes\",IF('Simplified Loader'!N38=\"N\",\"No\",\"\"))))","v":""},{"$f":"IF('Simplified Loader'!O38=\"No\",\"Single\",IF('Simplified Loader'!O38=\"Yes\",\"Family\",IF('Simplified Loader'!O38=\"N\",\"Single\",IF('Simplified Loader'!O38=\"Y\",\"Family\",IF('Simplified Loader'!O38=\"In-force\",\"Family\",IF('Simplified Loader'!O38=\"In force\",\"Family\",IF('Simplified Loader'!O38=\"Applies\",\"Family\",IF('Simplified Loader'!O38=\"Applicable\",\"Family\",\"\"))))))))","v":""},{"$f":"IF('Simplified Loader'!P38=\"English\",\"English\",IF('Simplified Loader'!P38=\"French\",\"French\",IF('Simplified Loader'!P38=\"E\",\"English\",IF('Simplified Loader'!P38=\"F\",\"French\",\"\"))))","v":""},{"$f":"IF('Simplified Loader'!Q38=\"Yes\",\"Yes\",IF('Simplified Loader'!Q38=\"No\",\"No\",IF('Simplified Loader'!Q38=\"Y\",\"Yes\",IF('Simplified Loader'!Q38=\"N\",\"No\",\"\"))))","v":""},{"$f":"IF('Simplified Loader'!R38>0,'Simplified Loader'!R38,\"\")","v":""},{"$f":"IF('Simplified Loader'!S38>0,'Simplified Loader'!S38,\"\")","v":""},{"$f":"IF('Simplified Loader'!T38>0,'Simplified Loader'!T38,\"\")","v":""},{"$f":"IF('Simplified Loader'!U38>0,'Simplified Loader'!U38,\"\")","v":""},{"$f":"IF('Simplified Loader'!V38=\"Waive\",\"Yes\",\"\")","v":""},{"$f":"IF('Simplified Loader'!W38=\"Waive\",\"Yes\",\"\")","v":""},{"$f":"IF('Simplified Loader'!X38>0,'Simplified Loader'!X38,\"\")","v":""},{"$f":"IF('Simplified Loader'!Y38>0,'Simplified Loader'!Y38,\"\")","v":""},{"$f":"IF('Simplified Loader'!Z38>0,'Simplified Loader'!Z38,\"\")","v":""},{"$f":"IF('Simplified Loader'!AA38>0,'Simplified Loader'!AA38,\"\")","v":""},{"$f":"IF('Simplified Loader'!AB38>0,'Simplified Loader'!AB38,\"\")","v":""},{"$f":"IF('Simplified Loader'!AC38>0,'Simplified Loader'!AC38,\"\")","v":" "},{"$f":"IF('Simplified Loader'!AE38>0,'Simplified Loader'!AE38&\" \",\"\")&IF('Simplified Loader'!AD38>0,'Simplified Loader'!AD38,\"\")","v":""},null,{"$f":"IF('Simplified Loader'!AF38>0,'Simplified Loader'!AF38,\"\")","v":""},{"$f":"IF('Simplified Loader'!AG38>0,'Simplified Loader'!AG38,\"\")","v":""},{"$f":"IF('Simplified Loader'!AH38>0,'Simplified Loader'!AH38,\"\")","v":""},{"$f":"IF('Simplified Loader'!AI38>0,'Simplified Loader'!AI38,\"\")","v":""},{"$f":"IF('Simplified Loader'!AJ38>0,'Simplified Loader'!AJ38,\"\")","v":""},{"$f":"IF('Simplified Loader'!AK38>0,'Simplified Loader'!AK38,\"\")","v":""},{"$f":"IF('Simplified Loader'!AL38>0,'Simplified Loader'!AL38,\"\")","v":""},{"$f":"IF('Simplified Loader'!AM38>0,'Simplified Loader'!AM38,\"\")","v":""},{"$f":"IF('Simplified Loader'!AN38=\"Male\",\"Male\",IF('Simplified Loader'!AN38=\"Female\",\"Female\",IF('Simplified Loader'!AN38=\"M\",\"Male\",IF('Simplified Loader'!AN38=\"F\",\"Female\",\"\"))))","v":""},{"$f":"IF('Simplified Loader'!AO38=\"Single\",\"Single\",IF('Simplified Loader'!AO38=\"Family\",\"Family\",IF('Simplified Loader'!AO38=\"S\",\"Single\",IF('Simplified Loader'!AO38=\"F\",\"Family\",\"\"))))","v":""},{"$f":"IF('Simplified Loader'!AP38=\"Single\",\"Single\",IF('Simplified Loader'!AP38=\"Family\",\"Family\",IF('Simplified Loader'!AP38=\"S\",\"Single\",IF('Simplified Loader'!AP38=\"F\",\"Family\",\"\"))))","v":""},{"$f":"IF('Simplified Loader'!AQ38>0,'Simplified Loader'!AQ38,\"\")","v":""},{"$f":"IF('Simplified Loader'!AR38=\"Yes\",\"Yes\",IF('Simplified Loader'!AR38=\"No\",\"No\",IF('Simplified Loader'!AR38=\"Y\",\"Yes\",IF('Simplified Loader'!AR38=\"N\",\"No\",\"\"))))","v":""},{"$f":"IF('Simplified Loader'!AS38>0,'Simplified Loader'!AS38,\"\")","v":""},{"$f":"IF('Simplified Loader'!AT38>0,'Simplified Loader'!AT38,\"\")","v":""},{"$f":"IF('Simplified Loader'!AU38>0,'Simplified Loader'!AU38,\"\")","v":""},{"$f":"IF('Simplified Loader'!AV38=\"Male\",\"Male\",IF('Simplified Loader'!AV38=\"Female\",\"Female\",IF('Simplified Loader'!AV38=\"M\",\"Male\",IF('Simplified Loader'!AV38=\"F\",\"Female\",\"\"))))","v":""},{"$f":"IF('Simplified Loader'!AW38=\"Yes\",\"Yes\",IF('Simplified Loader'!AW38=\"No\",\"No\",IF('Simplified Loader'!AW38=\"Y\",\"Yes\",IF('Simplified Loader'!AW38=\"N\",\"No\",\"\"))))","v":""},{"$f":"IF('Simplified Loader'!AX38=\"Yes\",\"Yes\",IF('Simplified Loader'!AX38=\"No\",\"No\",IF('Simplified Loader'!AX38=\"Y\",\"Yes\",IF('Simplified Loader'!AX38=\"N\",\"No\",\"\"))))","v":""},{"$f":"IF('Simplified Loader'!AY38>0,'Simplified Loader'!AY38,\"\")","v":""},{"$f":"IF('Simplified Loader'!AZ38>0,'Simplified Loader'!AZ38,\"\")","v":""},{"$f":"IF('Simplified Loader'!BA38>0,'Simplified Loader'!BA38,\"\")","v":""},{"$f":"IF('Simplified Loader'!BB38=\"Male\",\"Male\",IF('Simplified Loader'!BB38=\"Female\",\"Female\",IF('Simplified Loader'!BB38=\"M\",\"Male\",IF('Simplified Loader'!BB38=\"F\",\"Female\",\"\"))))","v":""},{"$f":"IF('Simplified Loader'!BC38=\"Yes\",\"Yes\",IF('Simplified Loader'!BC38=\"No\",\"No\",IF('Simplified Loader'!BC38=\"Y\",\"Yes\",IF('Simplified Loader'!BC38=\"N\",\"No\",\"\"))))","v":""},{"$f":"IF('Simplified Loader'!BD38=\"Yes\",\"Yes\",IF('Simplified Loader'!BD38=\"No\",\"No\",IF('Simplified Loader'!BD38=\"Y\",\"Yes\",IF('Simplified Loader'!BD38=\"N\",\"No\",\"\"))))","v":""},{"$f":"IF('Simplified Loader'!BE38>0,'Simplified Loader'!BE38,\"\")","v":""},{"$f":"IF('Simplified Loader'!BF38>0,'Simplified Loader'!BF38,\"\")","v":""},{"$f":"IF('Simplified Loader'!BG38>0,'Simplified Loader'!BG38,\"\")","v":""},{"$f":"IF('Simplified Loader'!BH38=\"Male\",\"Male\",IF('Simplified Loader'!BH38=\"Female\",\"Female\",IF('Simplified Loader'!BH38=\"M\",\"Male\",IF('Simplified Loader'!BH38=\"F\",\"Female\",\"\"))))","v":""},{"$f":"IF('Simplified Loader'!BI38=\"Yes\",\"Yes\",IF('Simplified Loader'!BI38=\"No\",\"No\",IF('Simplified Loader'!BI38=\"Y\",\"Yes\",IF('Simplified Loader'!BI38=\"N\",\"No\",\"\"))))","v":""},{"$f":"IF('Simplified Loader'!BJ38=\"Yes\",\"Yes\",IF('Simplified Loader'!BJ38=\"No\",\"No\",IF('Simplified Loader'!BJ38=\"Y\",\"Yes\",IF('Simplified Loader'!BJ38=\"N\",\"No\",\"\"))))","v":""},{"$f":"IF('Simplified Loader'!BK38>0,'Simplified Loader'!BK38,\"\")","v":""},{"$f":"IF('Simplified Loader'!BL38>0,'Simplified Loader'!BL38,\"\")","v":""},{"$f":"IF('Simplified Loader'!BM38>0,'Simplified Loader'!BM38,\"\")","v":""},{"$f":"IF('Simplified Loader'!BN38=\"Male\",\"Male\",IF('Simplified Loader'!BN38=\"Female\",\"Female\",IF('Simplified Loader'!BN38=\"M\",\"Male\",IF('Simplified Loader'!BN38=\"F\",\"Female\",\"\"))))","v":""},{"$f":"IF('Simplified Loader'!BO38=\"Yes\",\"Yes\",IF('Simplified Loader'!BO38=\"No\",\"No\",IF('Simplified Loader'!BO38=\"Y\",\"Yes\",IF('Simplified Loader'!BO38=\"N\",\"No\",\"\"))))","v":""},{"$f":"IF('Simplified Loader'!BP38=\"Yes\",\"Yes\",IF('Simplified Loader'!BP38=\"No\",\"No\",IF('Simplified Loader'!BP38=\"Y\",\"Yes\",IF('Simplified Loader'!BP38=\"N\",\"No\",\"\"))))","v":""},{"$f":"IF('Simplified Loader'!BQ38>0,'Simplified Loader'!BQ38,\"\")","v":""},{"$f":"IF('Simplified Loader'!BR38>0,'Simplified Loader'!BR38,\"\")","v":""},{"$f":"IF('Simplified Loader'!BS38>0,'Simplified Loader'!BS38,\"\")","v":""},{"$f":"IF('Simplified Loader'!BT38=\"Male\",\"Male\",IF('Simplified Loader'!BT38=\"Female\",\"Female\",IF('Simplified Loader'!BT38=\"M\",\"Male\",IF('Simplified Loader'!BT38=\"F\",\"Female\",\"\"))))","v":""},{"$f":"IF('Simplified Loader'!BU38=\"Yes\",\"Yes\",IF('Simplified Loader'!BU38=\"No\",\"No\",IF('Simplified Loader'!BU38=\"Y\",\"Yes\",IF('Simplified Loader'!BU38=\"N\",\"No\",\"\"))))","v":""},{"$f":"IF('Simplified Loader'!BV38=\"Yes\",\"Yes\",IF('Simplified Loader'!BV38=\"No\",\"No\",IF('Simplified Loader'!BV38=\"Y\",\"Yes\",IF('Simplified Loader'!BV38=\"N\",\"No\",\"\"))))","v":""},{"$f":"IF('Simplified Loader'!BW38>0,'Simplified Loader'!BW38,\"\")","v":""},{"$f":"IF('Simplified Loader'!BX38>0,'Simplified Loader'!BX38,\"\")","v":""},{"$f":"IF('Simplified Loader'!BY38>0,'Simplified Loader'!BY38,\"\")","v":""},{"$f":"IF('Simplified Loader'!BZ38=\"Male\",\"Male\",IF('Simplified Loader'!BZ38=\"Female\",\"Female\",IF('Simplified Loader'!BZ38=\"M\",\"Male\",IF('Simplified Loader'!BZ38=\"F\",\"Female\",\"\"))))","v":""},{"$f":"IF('Simplified Loader'!CA38=\"Yes\",\"Yes\",IF('Simplified Loader'!CA38=\"No\",\"No\",IF('Simplified Loader'!CA38=\"Y\",\"Yes\",IF('Simplified Loader'!CA38=\"N\",\"No\",\"\"))))","v":""},{"$f":"IF('Simplified Loader'!CB38=\"Yes\",\"Yes\",IF('Simplified Loader'!CB38=\"No\",\"No\",IF('Simplified Loader'!CB38=\"Y\",\"Yes\",IF('Simplified Loader'!CB38=\"N\",\"No\",\"\"))))","v":""},{"$f":"IF('Simplified Loader'!CH38>0,'Simplified Loader'!CH38,\"\")","v":"    "}]
[{"$f":"IF('Simplified Loader'!A39>0,'Simplified Loader'!A39,\"\")","v":""},{"$f":"IF('Simplified Loader'!B39>0,'Simplified Loader'!B39,\"\")","v":""},{"$f":"IF('Simplified Loader'!C39>0,'Simplified Loader'!C39,\"\")","v":""},{"$f":"IF('Simplified Loader'!D39>0,'Simplified Loader'!D39,\"\")","v":""},{"$f":"IF('Simplified Loader'!E39>0,TEXT('Simplified Loader'!E39,\"000\"),\"\")","v":""},{"$f":"IF('Simplified Loader'!F39>0,'Simplified Loader'!F39,\"\")","v":""},{"$f":"IF('Simplified Loader'!G39>0,'Simplified Loader'!G39,\"\")","v":""},{"$f":"IF('Simplified Loader'!I39>0,'Simplified Loader'!I39,\"\")","v":""},{"$f":"IF('Simplified Loader'!J39>0,'Simplified Loader'!J39,\"\")","v":""},{"$f":"IF('Simplified Loader'!K39>0,'Simplified Loader'!K39,\"\")","v":""},{"$f":"IF('Simplified Loader'!L39>0,'Simplified Loader'!L39,\"\")","v":""},{"$f":"IF('Simplified Loader'!M39=\"Male\",\"Male\",IF('Simplified Loader'!M39=\"Female\",\"Female\",IF('Simplified Loader'!M39=\"M\",\"Male\",IF('Simplified Loader'!M39=\"F\",\"Female\",\"\"))))","v":""},{"$f":"IF('Simplified Loader'!N39=\"Yes\",\"Yes\",IF('Simplified Loader'!N39=\"No\",\"No\",IF('Simplified Loader'!N39=\"Y\",\"Yes\",IF('Simplified Loader'!N39=\"N\",\"No\",\"\"))))","v":""},{"$f":"IF('Simplified Loader'!O39=\"No\",\"Single\",IF('Simplified Loader'!O39=\"Yes\",\"Family\",IF('Simplified Loader'!O39=\"N\",\"Single\",IF('Simplified Loader'!O39=\"Y\",\"Family\",IF('Simplified Loader'!O39=\"In-force\",\"Family\",IF('Simplified Loader'!O39=\"In force\",\"Family\",IF('Simplified Loader'!O39=\"Applies\",\"Family\",IF('Simplified Loader'!O39=\"Applicable\",\"Family\",\"\"))))))))","v":""},{"$f":"IF('Simplified Loader'!P39=\"English\",\"English\",IF('Simplified Loader'!P39=\"French\",\"French\",IF('Simplified Loader'!P39=\"E\",\"English\",IF('Simplified Loader'!P39=\"F\",\"French\",\"\"))))","v":""},{"$f":"IF('Simplified Loader'!Q39=\"Yes\",\"Yes\",IF('Simplified Loader'!Q39=\"No\",\"No\",IF('Simplified Loader'!Q39=\"Y\",\"Yes\",IF('Simplified Loader'!Q39=\"N\",\"No\",\"\"))))","v":""},{"$f":"IF('Simplified Loader'!R39>0,'Simplified Loader'!R39,\"\")","v":""},{"$f":"IF('Simplified Loader'!S39>0,'Simplified Loader'!S39,\"\")","v":""},{"$f":"IF('Simplified Loader'!T39>0,'Simplified Loader'!T39,\"\")","v":""},{"$f":"IF('Simplified Loader'!U39>0,'Simplified Loader'!U39,\"\")","v":""},{"$f":"IF('Simplified Loader'!V39=\"Waive\",\"Yes\",\"\")","v":""},{"$f":"IF('Simplified Loader'!W39=\"Waive\",\"Yes\",\"\")","v":""},{"$f":"IF('Simplified Loader'!X39>0,'Simplified Loader'!X39,\"\")","v":""},{"$f":"IF('Simplified Loader'!Y39>0,'Simplified Loader'!Y39,\"\")","v":""},{"$f":"IF('Simplified Loader'!Z39>0,'Simplified Loader'!Z39,\"\")","v":""},{"$f":"IF('Simplified Loader'!AA39>0,'Simplified Loader'!AA39,\"\")","v":""},{"$f":"IF('Simplified Loader'!AB39>0,'Simplified Loader'!AB39,\"\")","v":""},{"$f":"IF('Simplified Loader'!AC39>0,'Simplified Loader'!AC39,\"\")","v":" "},{"$f":"IF('Simplified Loader'!AE39>0,'Simplified Loader'!AE39&\" \",\"\")&IF('Simplified Loader'!AD39>0,'Simplified Loader'!AD39,\"\")","v":""},null,{"$f":"IF('Simplified Loader'!AF39>0,'Simplified Loader'!AF39,\"\")","v":""},{"$f":"IF('Simplified Loader'!AG39>0,'Simplified Loader'!AG39,\"\")","v":""},{"$f":"IF('Simplified Loader'!AH39>0,'Simplified Loader'!AH39,\"\")","v":""},{"$f":"IF('Simplified Loader'!AI39>0,'Simplified Loader'!AI39,\"\")","v":""},{"$f":"IF('Simplified Loader'!AJ39>0,'Simplified Loader'!AJ39,\"\")","v":""},{"$f":"IF('Simplified Loader'!AK39>0,'Simplified Loader'!AK39,\"\")","v":""},{"$f":"IF('Simplified Loader'!AL39>0,'Simplified Loader'!AL39,\"\")","v":""},{"$f":"IF('Simplified Loader'!AM39>0,'Simplified Loader'!AM39,\"\")","v":""},{"$f":"IF('Simplified Loader'!AN39=\"Male\",\"Male\",IF('Simplified Loader'!AN39=\"Female\",\"Female\",IF('Simplified Loader'!AN39=\"M\",\"Male\",IF('Simplified Loader'!AN39=\"F\",\"Female\",\"\"))))","v":""},{"$f":"IF('Simplified Loader'!AO39=\"Single\",\"Single\",IF('Simplified Loader'!AO39=\"Family\",\"Family\",IF('Simplified Loader'!AO39=\"S\",\"Single\",IF('Simplified Loader'!AO39=\"F\",\"Family\",\"\"))))","v":""},{"$f":"IF('Simplified Loader'!AP39=\"Single\",\"Single\",IF('Simplified Loader'!AP39=\"Family\",\"Family\",IF('Simplified Loader'!AP39=\"S\",\"Single\",IF('Simplified Loader'!AP39=\"F\",\"Family\",\"\"))))","v":""},{"$f":"IF('Simplified Loader'!AQ39>0,'Simplified Loader'!AQ39,\"\")","v":""},{"$f":"IF('Simplified Loader'!AR39=\"Yes\",\"Yes\",IF('Simplified Loader'!AR39=\"No\",\"No\",IF('Simplified Loader'!AR39=\"Y\",\"Yes\",IF('Simplified Loader'!AR39=\"N\",\"No\",\"\"))))","v":""},{"$f":"IF('Simplified Loader'!AS39>0,'Simplified Loader'!AS39,\"\")","v":""},{"$f":"IF('Simplified Loader'!AT39>0,'Simplified Loader'!AT39,\"\")","v":""},{"$f":"IF('Simplified Loader'!AU39>0,'Simplified Loader'!AU39,\"\")","v":""},{"$f":"IF('Simplified Loader'!AV39=\"Male\",\"Male\",IF('Simplified Loader'!AV39=\"Female\",\"Female\",IF('Simplified Loader'!AV39=\"M\",\"Male\",IF('Simplified Loader'!AV39=\"F\",\"Female\",\"\"))))","v":""},{"$f":"IF('Simplified Loader'!AW39=\"Yes\",\"Yes\",IF('Simplified Loader'!AW39=\"No\",\"No\",IF('Simplified Loader'!AW39=\"Y\",\"Yes\",IF('Simplified Loader'!AW39=\"N\",\"No\",\"\"))))","v":""},{"$f":"IF('Simplified Loader'!AX39=\"Yes\",\"Yes\",IF('Simplified Loader'!AX39=\"No\",\"No\",IF('Simplified Loader'!AX39=\"Y\",\"Yes\",IF('Simplified Loader'!AX39=\"N\",\"No\",\"\"))))","v":""},{"$f":"IF('Simplified Loader'!AY39>0,'Simplified Loader'!AY39,\"\")","v":""},{"$f":"IF('Simplified Loader'!AZ39>0,'Simplified Loader'!AZ39,\"\")","v":""},{"$f":"IF('Simplified Loader'!BA39>0,'Simplified Loader'!BA39,\"\")","v":""},{"$f":"IF('Simplified Loader'!BB39=\"Male\",\"Male\",IF('Simplified Loader'!BB39=\"Female\",\"Female\",IF('Simplified Loader'!BB39=\"M\",\"Male\",IF('Simplified Loader'!BB39=\"F\",\"Female\",\"\"))))","v":""},{"$f":"IF('Simplified Loader'!BC39=\"Yes\",\"Yes\",IF('Simplified Loader'!BC39=\"No\",\"No\",IF('Simplified Loader'!BC39=\"Y\",\"Yes\",IF('Simplified Loader'!BC39=\"N\",\"No\",\"\"))))","v":""},{"$f":"IF('Simplified Loader'!BD39=\"Yes\",\"Yes\",IF('Simplified Loader'!BD39=\"No\",\"No\",IF('Simplified Loader'!BD39=\"Y\",\"Yes\",IF('Simplified Loader'!BD39=\"N\",\"No\",\"\"))))","v":""},{"$f":"IF('Simplified Loader'!BE39>0,'Simplified Loader'!BE39,\"\")","v":""},{"$f":"IF('Simplified Loader'!BF39>0,'Simplified Loader'!BF39,\"\")","v":""},{"$f":"IF('Simplified Loader'!BG39>0,'Simplified Loader'!BG39,\"\")","v":""},{"$f":"IF('Simplified Loader'!BH39=\"Male\",\"Male\",IF('Simplified Loader'!BH39=\"Female\",\"Female\",IF('Simplified Loader'!BH39=\"M\",\"Male\",IF('Simplified Loader'!BH39=\"F\",\"Female\",\"\"))))","v":""},{"$f":"IF('Simplified Loader'!BI39=\"Yes\",\"Yes\",IF('Simplified Loader'!BI39=\"No\",\"No\",IF('Simplified Loader'!BI39=\"Y\",\"Yes\",IF('Simplified Loader'!BI39=\"N\",\"No\",\"\"))))","v":""},{"$f":"IF('Simplified Loader'!BJ39=\"Yes\",\"Yes\",IF('Simplified Loader'!BJ39=\"No\",\"No\",IF('Simplified Loader'!BJ39=\"Y\",\"Yes\",IF('Simplified Loader'!BJ39=\"N\",\"No\",\"\"))))","v":""},{"$f":"IF('Simplified Loader'!BK39>0,'Simplified Loader'!BK39,\"\")","v":""},{"$f":"IF('Simplified Loader'!BL39>0,'Simplified Loader'!BL39,\"\")","v":""},{"$f":"IF('Simplified Loader'!BM39>0,'Simplified Loader'!BM39,\"\")","v":""},{"$f":"IF('Simplified Loader'!BN39=\"Male\",\"Male\",IF('Simplified Loader'!BN39=\"Female\",\"Female\",IF('Simplified Loader'!BN39=\"M\",\"Male\",IF('Simplified Loader'!BN39=\"F\",\"Female\",\"\"))))","v":""},{"$f":"IF('Simplified Loader'!BO39=\"Yes\",\"Yes\",IF('Simplified Loader'!BO39=\"No\",\"No\",IF('Simplified Loader'!BO39=\"Y\",\"Yes\",IF('Simplified Loader'!BO39=\"N\",\"No\",\"\"))))","v":""},{"$f":"IF('Simplified Loader'!BP39=\"Yes\",\"Yes\",IF('Simplified Loader'!BP39=\"No\",\"No\",IF('Simplified Loader'!BP39=\"Y\",\"Yes\",IF('Simplified Loader'!BP39=\"N\",\"No\",\"\"))))","v":""},{"$f":"IF('Simplified Loader'!BQ39>0,'Simplified Loader'!BQ39,\"\")","v":""},{"$f":"IF('Simplified Loader'!BR39>0,'Simplified Loader'!BR39,\"\")","v":""},{"$f":"IF('Simplified Loader'!BS39>0,'Simplified Loader'!BS39,\"\")","v":""},{"$f":"IF('Simplified Loader'!BT39=\"Male\",\"Male\",IF('Simplified Loader'!BT39=\"Female\",\"Female\",IF('Simplified Loader'!BT39=\"M\",\"Male\",IF('Simplified Loader'!BT39=\"F\",\"Female\",\"\"))))","v":""},{"$f":"IF('Simplified Loader'!BU39=\"Yes\",\"Yes\",IF('Simplified Loader'!BU39=\"No\",\"No\",IF('Simplified Loader'!BU39=\"Y\",\"Yes\",IF('Simplified Loader'!BU39=\"N\",\"No\",\"\"))))","v":""},{"$f":"IF('Simplified Loader'!BV39=\"Yes\",\"Yes\",IF('Simplified Loader'!BV39=\"No\",\"No\",IF('Simplified Loader'!BV39=\"Y\",\"Yes\",IF('Simplified Loader'!BV39=\"N\",\"No\",\"\"))))","v":""},{"$f":"IF('Simplified Loader'!BW39>0,'Simplified Loader'!BW39,\"\")","v":""},{"$f":"IF('Simplified Loader'!BX39>0,'Simplified Loader'!BX39,\"\")","v":""},{"$f":"IF('Simplified Loader'!BY39>0,'Simplified Loader'!BY39,\"\")","v":""},{"$f":"IF('Simplified Loader'!BZ39=\"Male\",\"Male\",IF('Simplified Loader'!BZ39=\"Female\",\"Female\",IF('Simplified Loader'!BZ39=\"M\",\"Male\",IF('Simplified Loader'!BZ39=\"F\",\"Female\",\"\"))))","v":""},{"$f":"IF('Simplified Loader'!CA39=\"Yes\",\"Yes\",IF('Simplified Loader'!CA39=\"No\",\"No\",IF('Simplified Loader'!CA39=\"Y\",\"Yes\",IF('Simplified Loader'!CA39=\"N\",\"No\",\"\"))))","v":""},{"$f":"IF('Simplified Loader'!CB39=\"Yes\",\"Yes\",IF('Simplified Loader'!CB39=\"No\",\"No\",IF('Simplified Loader'!CB39=\"Y\",\"Yes\",IF('Simplified Loader'!CB39=\"N\",\"No\",\"\"))))","v":""},{"$f":"IF('Simplified Loader'!CH39>0,'Simplified Loader'!CH39,\"\")","v":"    "}]
[{"$f":"IF('Simplified Loader'!A40>0,'Simplified Loader'!A40,\"\")","v":""},{"$f":"IF('Simplified Loader'!B40>0,'Simplified Loader'!B40,\"\")","v":""},{"$f":"IF('Simplified Loader'!C40>0,'Simplified Loader'!C40,\"\")","v":""},{"$f":"IF('Simplified Loader'!D40>0,'Simplified Loader'!D40,\"\")","v":""},{"$f":"IF('Simplified Loader'!E40>0,TEXT('Simplified Loader'!E40,\"000\"),\"\")","v":""},{"$f":"IF('Simplified Loader'!F40>0,'Simplified Loader'!F40,\"\")","v":""},{"$f":"IF('Simplified Loader'!G40>0,'Simplified Loader'!G40,\"\")","v":""},{"$f":"IF('Simplified Loader'!I40>0,'Simplified Loader'!I40,\"\")","v":""},{"$f":"IF('Simplified Loader'!J40>0,'Simplified Loader'!J40,\"\")","v":""},{"$f":"IF('Simplified Loader'!K40>0,'Simplified Loader'!K40,\"\")","v":""},{"$f":"IF('Simplified Loader'!L40>0,'Simplified Loader'!L40,\"\")","v":""},{"$f":"IF('Simplified Loader'!M40=\"Male\",\"Male\",IF('Simplified Loader'!M40=\"Female\",\"Female\",IF('Simplified Loader'!M40=\"M\",\"Male\",IF('Simplified Loader'!M40=\"F\",\"Female\",\"\"))))","v":""},{"$f":"IF('Simplified Loader'!N40=\"Yes\",\"Yes\",IF('Simplified Loader'!N40=\"No\",\"No\",IF('Simplified Loader'!N40=\"Y\",\"Yes\",IF('Simplified Loader'!N40=\"N\",\"No\",\"\"))))","v":""},{"$f":"IF('Simplified Loader'!O40=\"No\",\"Single\",IF('Simplified Loader'!O40=\"Yes\",\"Family\",IF('Simplified Loader'!O40=\"N\",\"Single\",IF('Simplified Loader'!O40=\"Y\",\"Family\",IF('Simplified Loader'!O40=\"In-force\",\"Family\",IF('Simplified Loader'!O40=\"In force\",\"Family\",IF('Simplified Loader'!O40=\"Applies\",\"Family\",IF('Simplified Loader'!O40=\"Applicable\",\"Family\",\"\"))))))))","v":""},{"$f":"IF('Simplified Loader'!P40=\"English\",\"English\",IF('Simplified Loader'!P40=\"French\",\"French\",IF('Simplified Loader'!P40=\"E\",\"English\",IF('Simplified Loader'!P40=\"F\",\"French\",\"\"))))","v":""},{"$f":"IF('Simplified Loader'!Q40=\"Yes\",\"Yes\",IF('Simplified Loader'!Q40=\"No\",\"No\",IF('Simplified Loader'!Q40=\"Y\",\"Yes\",IF('Simplified Loader'!Q40=\"N\",\"No\",\"\"))))","v":""},{"$f":"IF('Simplified Loader'!R40>0,'Simplified Loader'!R40,\"\")","v":""},{"$f":"IF('Simplified Loader'!S40>0,'Simplified Loader'!S40,\"\")","v":""},{"$f":"IF('Simplified Loader'!T40>0,'Simplified Loader'!T40,\"\")","v":""},{"$f":"IF('Simplified Loader'!U40>0,'Simplified Loader'!U40,\"\")","v":""},{"$f":"IF('Simplified Loader'!V40=\"Waive\",\"Yes\",\"\")","v":""},{"$f":"IF('Simplified Loader'!W40=\"Waive\",\"Yes\",\"\")","v":""},{"$f":"IF('Simplified Loader'!X40>0,'Simplified Loader'!X40,\"\")","v":""},{"$f":"IF('Simplified Loader'!Y40>0,'Simplified Loader'!Y40,\"\")","v":""},{"$f":"IF('Simplified Loader'!Z40>0,'Simplified Loader'!Z40,\"\")","v":""},{"$f":"IF('Simplified Loader'!AA40>0,'Simplified Loader'!AA40,\"\")","v":""},{"$f":"IF('Simplified Loader'!AB40>0,'Simplified Loader'!AB40,\"\")","v":""},{"$f":"IF('Simplified Loader'!AC40>0,'Simplified Loader'!AC40,\"\")","v":" "},{"$f":"IF('Simplified Loader'!AE40>0,'Simplified Loader'!AE40&\" \",\"\")&IF('Simplified Loader'!AD40>0,'Simplified Loader'!AD40,\"\")","v":""},null,{"$f":"IF('Simplified Loader'!AF40>0,'Simplified Loader'!AF40,\"\")","v":""},{"$f":"IF('Simplified Loader'!AG40>0,'Simplified Loader'!AG40,\"\")","v":""},{"$f":"IF('Simplified Loader'!AH40>0,'Simplified Loader'!AH40,\"\")","v":""},{"$f":"IF('Simplified Loader'!AI40>0,'Simplified Loader'!AI40,\"\")","v":""},{"$f":"IF('Simplified Loader'!AJ40>0,'Simplified Loader'!AJ40,\"\")","v":""},{"$f":"IF('Simplified Loader'!AK40>0,'Simplified Loader'!AK40,\"\")","v":""},{"$f":"IF('Simplified Loader'!AL40>0,'Simplified Loader'!AL40,\"\")","v":""},{"$f":"IF('Simplified Loader'!AM40>0,'Simplified Loader'!AM40,\"\")","v":""},{"$f":"IF('Simplified Loader'!AN40=\"Male\",\"Male\",IF('Simplified Loader'!AN40=\"Female\",\"Female\",IF('Simplified Loader'!AN40=\"M\",\"Male\",IF('Simplified Loader'!AN40=\"F\",\"Female\",\"\"))))","v":""},{"$f":"IF('Simplified Loader'!AO40=\"Single\",\"Single\",IF('Simplified Loader'!AO40=\"Family\",\"Family\",IF('Simplified Loader'!AO40=\"S\",\"Single\",IF('Simplified Loader'!AO40=\"F\",\"Family\",\"\"))))","v":""},{"$f":"IF('Simplified Loader'!AP40=\"Single\",\"Single\",IF('Simplified Loader'!AP40=\"Family\",\"Family\",IF('Simplified Loader'!AP40=\"S\",\"Single\",IF('Simplified Loader'!AP40=\"F\",\"Family\",\"\"))))","v":""},{"$f":"IF('Simplified Loader'!AQ40>0,'Simplified Loader'!AQ40,\"\")","v":""},{"$f":"IF('Simplified Loader'!AR40=\"Yes\",\"Yes\",IF('Simplified Loader'!AR40=\"No\",\"No\",IF('Simplified Loader'!AR40=\"Y\",\"Yes\",IF('Simplified Loader'!AR40=\"N\",\"No\",\"\"))))","v":""},{"$f":"IF('Simplified Loader'!AS40>0,'Simplified Loader'!AS40,\"\")","v":""},{"$f":"IF('Simplified Loader'!AT40>0,'Simplified Loader'!AT40,\"\")","v":""},{"$f":"IF('Simplified Loader'!AU40>0,'Simplified Loader'!AU40,\"\")","v":""},{"$f":"IF('Simplified Loader'!AV40=\"Male\",\"Male\",IF('Simplified Loader'!AV40=\"Female\",\"Female\",IF('Simplified Loader'!AV40=\"M\",\"Male\",IF('Simplified Loader'!AV40=\"F\",\"Female\",\"\"))))","v":""},{"$f":"IF('Simplified Loader'!AW40=\"Yes\",\"Yes\",IF('Simplified Loader'!AW40=\"No\",\"No\",IF('Simplified Loader'!AW40=\"Y\",\"Yes\",IF('Simplified Loader'!AW40=\"N\",\"No\",\"\"))))","v":""},{"$f":"IF('Simplified Loader'!AX40=\"Yes\",\"Yes\",IF('Simplified Loader'!AX40=\"No\",\"No\",IF('Simplified Loader'!AX40=\"Y\",\"Yes\",IF('Simplified Loader'!AX40=\"N\",\"No\",\"\"))))","v":""},{"$f":"IF('Simplified Loader'!AY40>0,'Simplified Loader'!AY40,\"\")","v":""},{"$f":"IF('Simplified Loader'!AZ40>0,'Simplified Loader'!AZ40,\"\")","v":""},{"$f":"IF('Simplified Loader'!BA40>0,'Simplified Loader'!BA40,\"\")","v":""},{"$f":"IF('Simplified Loader'!BB40=\"Male\",\"Male\",IF('Simplified Loader'!BB40=\"Female\",\"Female\",IF('Simplified Loader'!BB40=\"M\",\"Male\",IF('Simplified Loader'!BB40=\"F\",\"Female\",\"\"))))","v":""},{"$f":"IF('Simplified Loader'!BC40=\"Yes\",\"Yes\",IF('Simplified Loader'!BC40=\"No\",\"No\",IF('Simplified Loader'!BC40=\"Y\",\"Yes\",IF('Simplified Loader'!BC40=\"N\",\"No\",\"\"))))","v":""},{"$f":"IF('Simplified Loader'!BD40=\"Yes\",\"Yes\",IF('Simplified Loader'!BD40=\"No\",\"No\",IF('Simplified Loader'!BD40=\"Y\",\"Yes\",IF('Simplified Loader'!BD40=\"N\",\"No\",\"\"))))","v":""},{"$f":"IF('Simplified Loader'!BE40>0,'Simplified Loader'!BE40,\"\")","v":""},{"$f":"IF('Simplified Loader'!BF40>0,'Simplified Loader'!BF40,\"\")","v":""},{"$f":"IF('Simplified Loader'!BG40>0,'Simplified Loader'!BG40,\"\")","v":""},{"$f":"IF('Simplified Loader'!BH40=\"Male\",\"Male\",IF('Simplified Loader'!BH40=\"Female\",\"Female\",IF('Simplified Loader'!BH40=\"M\",\"Male\",IF('Simplified Loader'!BH40=\"F\",\"Female\",\"\"))))","v":""},{"$f":"IF('Simplified Loader'!BI40=\"Yes\",\"Yes\",IF('Simplified Loader'!BI40=\"No\",\"No\",IF('Simplified Loader'!BI40=\"Y\",\"Yes\",IF('Simplified Loader'!BI40=\"N\",\"No\",\"\"))))","v":""},{"$f":"IF('Simplified Loader'!BJ40=\"Yes\",\"Yes\",IF('Simplified Loader'!BJ40=\"No\",\"No\",IF('Simplified Loader'!BJ40=\"Y\",\"Yes\",IF('Simplified Loader'!BJ40=\"N\",\"No\",\"\"))))","v":""},{"$f":"IF('Simplified Loader'!BK40>0,'Simplified Loader'!BK40,\"\")","v":""},{"$f":"IF('Simplified Loader'!BL40>0,'Simplified Loader'!BL40,\"\")","v":""},{"$f":"IF('Simplified Loader'!BM40>0,'Simplified Loader'!BM40,\"\")","v":""},{"$f":"IF('Simplified Loader'!BN40=\"Male\",\"Male\",IF('Simplified Loader'!BN40=\"Female\",\"Female\",IF('Simplified Loader'!BN40=\"M\",\"Male\",IF('Simplified Loader'!BN40=\"F\",\"Female\",\"\"))))","v":""},{"$f":"IF('Simplified Loader'!BO40=\"Yes\",\"Yes\",IF('Simplified Loader'!BO40=\"No\",\"No\",IF('Simplified Loader'!BO40=\"Y\",\"Yes\",IF('Simplified Loader'!BO40=\"N\",\"No\",\"\"))))","v":""},{"$f":"IF('Simplified Loader'!BP40=\"Yes\",\"Yes\",IF('Simplified Loader'!BP40=\"No\",\"No\",IF('Simplified Loader'!BP40=\"Y\",\"Yes\",IF('Simplified Loader'!BP40=\"N\",\"No\",\"\"))))","v":""},{"$f":"IF('Simplified Loader'!BQ40>0,'Simplified Loader'!BQ40,\"\")","v":""},{"$f":"IF('Simplified Loader'!BR40>0,'Simplified Loader'!BR40,\"\")","v":""},{"$f":"IF('Simplified Loader'!BS40>0,'Simplified Loader'!BS40,\"\")","v":""},{"$f":"IF('Simplified Loader'!BT40=\"Male\",\"Male\",IF('Simplified Loader'!BT40=\"Female\",\"Female\",IF('Simplified Loader'!BT40=\"M\",\"Male\",IF('Simplified Loader'!BT40=\"F\",\"Female\",\"\"))))","v":""},{"$f":"IF('Simplified Loader'!BU40=\"Yes\",\"Yes\",IF('Simplified Loader'!BU40=\"No\",\"No\",IF('Simplified Loader'!BU40=\"Y\",\"Yes\",IF('Simplified Loader'!BU40=\"N\",\"No\",\"\"))))","v":""},{"$f":"IF('Simplified Loader'!BV40=\"Yes\",\"Yes\",IF('Simplified Loader'!BV40=\"No\",\"No\",IF('Simplified Loader'!BV40=\"Y\",\"Yes\",IF('Simplified Loader'!BV40=\"N\",\"No\",\"\"))))","v":""},{"$f":"IF('Simplified Loader'!BW40>0,'Simplified Loader'!BW40,\"\")","v":""},{"$f":"IF('Simplified Loader'!BX40>0,'Simplified Loader'!BX40,\"\")","v":""},{"$f":"IF('Simplified Loader'!BY40>0,'Simplified Loader'!BY40,\"\")","v":""},{"$f":"IF('Simplified Loader'!BZ40=\"Male\",\"Male\",IF('Simplified Loader'!BZ40=\"Female\",\"Female\",IF('Simplified Loader'!BZ40=\"M\",\"Male\",IF('Simplified Loader'!BZ40=\"F\",\"Female\",\"\"))))","v":""},{"$f":"IF('Simplified Loader'!CA40=\"Yes\",\"Yes\",IF('Simplified Loader'!CA40=\"No\",\"No\",IF('Simplified Loader'!CA40=\"Y\",\"Yes\",IF('Simplified Loader'!CA40=\"N\",\"No\",\"\"))))","v":""},{"$f":"IF('Simplified Loader'!CB40=\"Yes\",\"Yes\",IF('Simplified Loader'!CB40=\"No\",\"No\",IF('Simplified Loader'!CB40=\"Y\",\"Yes\",IF('Simplified Loader'!CB40=\"N\",\"No\",\"\"))))","v":""},{"$f":"IF('Simplified Loader'!CH40>0,'Simplified Loader'!CH40,\"\")","v":"    "}]
[{"$f":"IF('Simplified Loader'!A41>0,'Simplified Loader'!A41,\"\")","v":""},{"$f":"IF('Simplified Loader'!B41>0,'Simplified Loader'!B41,\"\")","v":""},{"$f":"IF('Simplified Loader'!C41>0,'Simplified Loader'!C41,\"\")","v":""},{"$f":"IF('Simplified Loader'!D41>0,'Simplified Loader'!D41,\"\")","v":""},{"$f":"IF('Simplified Loader'!E41>0,TEXT('Simplified Loader'!E41,\"000\"),\"\")","v":""},{"$f":"IF('Simplified Loader'!F41>0,'Simplified Loader'!F41,\"\")","v":""},{"$f":"IF('Simplified Loader'!G41>0,'Simplified Loader'!G41,\"\")","v":""},{"$f":"IF('Simplified Loader'!I41>0,'Simplified Loader'!I41,\"\")","v":""},{"$f":"IF('Simplified Loader'!J41>0,'Simplified Loader'!J41,\"\")","v":""},{"$f":"IF('Simplified Loader'!K41>0,'Simplified Loader'!K41,\"\")","v":""},{"$f":"IF('Simplified Loader'!L41>0,'Simplified Loader'!L41,\"\")","v":""},{"$f":"IF('Simplified Loader'!M41=\"Male\",\"Male\",IF('Simplified Loader'!M41=\"Female\",\"Female\",IF('Simplified Loader'!M41=\"M\",\"Male\",IF('Simplified Loader'!M41=\"F\",\"Female\",\"\"))))","v":""},{"$f":"IF('Simplified Loader'!N41=\"Yes\",\"Yes\",IF('Simplified Loader'!N41=\"No\",\"No\",IF('Simplified Loader'!N41=\"Y\",\"Yes\",IF('Simplified Loader'!N41=\"N\",\"No\",\"\"))))","v":""},{"$f":"IF('Simplified Loader'!O41=\"No\",\"Single\",IF('Simplified Loader'!O41=\"Yes\",\"Family\",IF('Simplified Loader'!O41=\"N\",\"Single\",IF('Simplified Loader'!O41=\"Y\",\"Family\",IF('Simplified Loader'!O41=\"In-force\",\"Family\",IF('Simplified Loader'!O41=\"In force\",\"Family\",IF('Simplified Loader'!O41=\"Applies\",\"Family\",IF('Simplified Loader'!O41=\"Applicable\",\"Family\",\"\"))))))))","v":""},{"$f":"IF('Simplified Loader'!P41=\"English\",\"English\",IF('Simplified Loader'!P41=\"French\",\"French\",IF('Simplified Loader'!P41=\"E\",\"English\",IF('Simplified Loader'!P41=\"F\",\"French\",\"\"))))","v":""},{"$f":"IF('Simplified Loader'!Q41=\"Yes\",\"Yes\",IF('Simplified Loader'!Q41=\"No\",\"No\",IF('Simplified Loader'!Q41=\"Y\",\"Yes\",IF('Simplified Loader'!Q41=\"N\",\"No\",\"\"))))","v":""},{"$f":"IF('Simplified Loader'!R41>0,'Simplified Loader'!R41,\"\")","v":""},{"$f":"IF('Simplified Loader'!S41>0,'Simplified Loader'!S41,\"\")","v":""},{"$f":"IF('Simplified Loader'!T41>0,'Simplified Loader'!T41,\"\")","v":""},{"$f":"IF('Simplified Loader'!U41>0,'Simplified Loader'!U41,\"\")","v":""},{"$f":"IF('Simplified Loader'!V41=\"Waive\",\"Yes\",\"\")","v":""},{"$f":"IF('Simplified Loader'!W41=\"Waive\",\"Yes\",\"\")","v":""},{"$f":"IF('Simplified Loader'!X41>0,'Simplified Loader'!X41,\"\")","v":""},{"$f":"IF('Simplified Loader'!Y41>0,'Simplified Loader'!Y41,\"\")","v":""},{"$f":"IF('Simplified Loader'!Z41>0,'Simplified Loader'!Z41,\"\")","v":""},{"$f":"IF('Simplified Loader'!AA41>0,'Simplified Loader'!AA41,\"\")","v":""},{"$f":"IF('Simplified Loader'!AB41>0,'Simplified Loader'!AB41,\"\")","v":""},{"$f":"IF('Simplified Loader'!AC41>0,'Simplified Loader'!AC41,\"\")","v":" "},{"$f":"IF('Simplified Loader'!AE41>0,'Simplified Loader'!AE41&\" \",\"\")&IF('Simplified Loader'!AD41>0,'Simplified Loader'!AD41,\"\")","v":""},null,{"$f":"IF('Simplified Loader'!AF41>0,'Simplified Loader'!AF41,\"\")","v":""},{"$f":"IF('Simplified Loader'!AG41>0,'Simplified Loader'!AG41,\"\")","v":""},{"$f":"IF('Simplified Loader'!AH41>0,'Simplified Loader'!AH41,\"\")","v":""},{"$f":"IF('Simplified Loader'!AI41>0,'Simplified Loader'!AI41,\"\")","v":""},{"$f":"IF('Simplified Loader'!AJ41>0,'Simplified Loader'!AJ41,\"\")","v":""},{"$f":"IF('Simplified Loader'!AK41>0,'Simplified Loader'!AK41,\"\")","v":""},{"$f":"IF('Simplified Loader'!AL41>0,'Simplified Loader'!AL41,\"\")","v":""},{"$f":"IF('Simplified Loader'!AM41>0,'Simplified Loader'!AM41,\"\")","v":""},{"$f":"IF('Simplified Loader'!AN41=\"Male\",\"Male\",IF('Simplified Loader'!AN41=\"Female\",\"Female\",IF('Simplified Loader'!AN41=\"M\",\"Male\",IF('Simplified Loader'!AN41=\"F\",\"Female\",\"\"))))","v":""},{"$f":"IF('Simplified Loader'!AO41=\"Single\",\"Single\",IF('Simplified Loader'!AO41=\"Family\",\"Family\",IF('Simplified Loader'!AO41=\"S\",\"Single\",IF('Simplified Loader'!AO41=\"F\",\"Family\",\"\"))))","v":""},{"$f":"IF('Simplified Loader'!AP41=\"Single\",\"Single\",IF('Simplified Loader'!AP41=\"Family\",\"Family\",IF('Simplified Loader'!AP41=\"S\",\"Single\",IF('Simplified Loader'!AP41=\"F\",\"Family\",\"\"))))","v":""},{"$f":"IF('Simplified Loader'!AQ41>0,'Simplified Loader'!AQ41,\"\")","v":""},{"$f":"IF('Simplified Loader'!AR41=\"Yes\",\"Yes\",IF('Simplified Loader'!AR41=\"No\",\"No\",IF('Simplified Loader'!AR41=\"Y\",\"Yes\",IF('Simplified Loader'!AR41=\"N\",\"No\",\"\"))))","v":""},{"$f":"IF('Simplified Loader'!AS41>0,'Simplified Loader'!AS41,\"\")","v":""},{"$f":"IF('Simplified Loader'!AT41>0,'Simplified Loader'!AT41,\"\")","v":""},{"$f":"IF('Simplified Loader'!AU41>0,'Simplified Loader'!AU41,\"\")","v":""},{"$f":"IF('Simplified Loader'!AV41=\"Male\",\"Male\",IF('Simplified Loader'!AV41=\"Female\",\"Female\",IF('Simplified Loader'!AV41=\"M\",\"Male\",IF('Simplified Loader'!AV41=\"F\",\"Female\",\"\"))))","v":""},{"$f":"IF('Simplified Loader'!AW41=\"Yes\",\"Yes\",IF('Simplified Loader'!AW41=\"No\",\"No\",IF('Simplified Loader'!AW41=\"Y\",\"Yes\",IF('Simplified Loader'!AW41=\"N\",\"No\",\"\"))))","v":""},{"$f":"IF('Simplified Loader'!AX41=\"Yes\",\"Yes\",IF('Simplified Loader'!AX41=\"No\",\"No\",IF('Simplified Loader'!AX41=\"Y\",\"Yes\",IF('Simplified Loader'!AX41=\"N\",\"No\",\"\"))))","v":""},{"$f":"IF('Simplified Loader'!AY41>0,'Simplified Loader'!AY41,\"\")","v":""},{"$f":"IF('Simplified Loader'!AZ41>0,'Simplified Loader'!AZ41,\"\")","v":""},{"$f":"IF('Simplified Loader'!BA41>0,'Simplified Loader'!BA41,\"\")","v":""},{"$f":"IF('Simplified Loader'!BB41=\"Male\",\"Male\",IF('Simplified Loader'!BB41=\"Female\",\"Female\",IF('Simplified Loader'!BB41=\"M\",\"Male\",IF('Simplified Loader'!BB41=\"F\",\"Female\",\"\"))))","v":""},{"$f":"IF('Simplified Loader'!BC41=\"Yes\",\"Yes\",IF('Simplified Loader'!BC41=\"No\",\"No\",IF('Simplified Loader'!BC41=\"Y\",\"Yes\",IF('Simplified Loader'!BC41=\"N\",\"No\",\"\"))))","v":""},{"$f":"IF('Simplified Loader'!BD41=\"Yes\",\"Yes\",IF('Simplified Loader'!BD41=\"No\",\"No\",IF('Simplified Loader'!BD41=\"Y\",\"Yes\",IF('Simplified Loader'!BD41=\"N\",\"No\",\"\"))))","v":""},{"$f":"IF('Simplified Loader'!BE41>0,'Simplified Loader'!BE41,\"\")","v":""},{"$f":"IF('Simplified Loader'!BF41>0,'Simplified Loader'!BF41,\"\")","v":""},{"$f":"IF('Simplified Loader'!BG41>0,'Simplified Loader'!BG41,\"\")","v":""},{"$f":"IF('Simplified Loader'!BH41=\"Male\",\"Male\",IF('Simplified Loader'!BH41=\"Female\",\"Female\",IF('Simplified Loader'!BH41=\"M\",\"Male\",IF('Simplified Loader'!BH41=\"F\",\"Female\",\"\"))))","v":""},{"$f":"IF('Simplified Loader'!BI41=\"Yes\",\"Yes\",IF('Simplified Loader'!BI41=\"No\",\"No\",IF('Simplified Loader'!BI41=\"Y\",\"Yes\",IF('Simplified Loader'!BI41=\"N\",\"No\",\"\"))))","v":""},{"$f":"IF('Simplified Loader'!BJ41=\"Yes\",\"Yes\",IF('Simplified Loader'!BJ41=\"No\",\"No\",IF('Simplified Loader'!BJ41=\"Y\",\"Yes\",IF('Simplified Loader'!BJ41=\"N\",\"No\",\"\"))))","v":""},{"$f":"IF('Simplified Loader'!BK41>0,'Simplified Loader'!BK41,\"\")","v":""},{"$f":"IF('Simplified Loader'!BL41>0,'Simplified Loader'!BL41,\"\")","v":""},{"$f":"IF('Simplified Loader'!BM41>0,'Simplified Loader'!BM41,\"\")","v":""},{"$f":"IF('Simplified Loader'!BN41=\"Male\",\"Male\",IF('Simplified Loader'!BN41=\"Female\",\"Female\",IF('Simplified Loader'!BN41=\"M\",\"Male\",IF('Simplified Loader'!BN41=\"F\",\"Female\",\"\"))))","v":""},{"$f":"IF('Simplified Loader'!BO41=\"Yes\",\"Yes\",IF('Simplified Loader'!BO41=\"No\",\"No\",IF('Simplified Loader'!BO41=\"Y\",\"Yes\",IF('Simplified Loader'!BO41=\"N\",\"No\",\"\"))))","v":""},{"$f":"IF('Simplified Loader'!BP41=\"Yes\",\"Yes\",IF('Simplified Loader'!BP41=\"No\",\"No\",IF('Simplified Loader'!BP41=\"Y\",\"Yes\",IF('Simplified Loader'!BP41=\"N\",\"No\",\"\"))))","v":""},{"$f":"IF('Simplified Loader'!BQ41>0,'Simplified Loader'!BQ41,\"\")","v":""},{"$f":"IF('Simplified Loader'!BR41>0,'Simplified Loader'!BR41,\"\")","v":""},{"$f":"IF('Simplified Loader'!BS41>0,'Simplified Loader'!BS41,\"\")","v":""},{"$f":"IF('Simplified Loader'!BT41=\"Male\",\"Male\",IF('Simplified Loader'!BT41=\"Female\",\"Female\",IF('Simplified Loader'!BT41=\"M\",\"Male\",IF('Simplified Loader'!BT41=\"F\",\"Female\",\"\"))))","v":""},{"$f":"IF('Simplified Loader'!BU41=\"Yes\",\"Yes\",IF('Simplified Loader'!BU41=\"No\",\"No\",IF('Simplified Loader'!BU41=\"Y\",\"Yes\",IF('Simplified Loader'!BU41=\"N\",\"No\",\"\"))))","v":""},{"$f":"IF('Simplified Loader'!BV41=\"Yes\",\"Yes\",IF('Simplified Loader'!BV41=\"No\",\"No\",IF('Simplified Loader'!BV41=\"Y\",\"Yes\",IF('Simplified Loader'!BV41=\"N\",\"No\",\"\"))))","v":""},{"$f":"IF('Simplified Loader'!BW41>0,'Simplified Loader'!BW41,\"\")","v":""},{"$f":"IF('Simplified Loader'!BX41>0,'Simplified Loader'!BX41,\"\")","v":""},{"$f":"IF('Simplified Loader'!BY41>0,'Simplified Loader'!BY41,\"\")","v":""},{"$f":"IF('Simplified Loader'!BZ41=\"Male\",\"Male\",IF('Simplified Loader'!BZ41=\"Female\",\"Female\",IF('Simplified Loader'!BZ41=\"M\",\"Male\",IF('Simplified Loader'!BZ41=\"F\",\"Female\",\"\"))))","v":""},{"$f":"IF('Simplified Loader'!CA41=\"Yes\",\"Yes\",IF('Simplified Loader'!CA41=\"No\",\"No\",IF('Simplified Loader'!CA41=\"Y\",\"Yes\",IF('Simplified Loader'!CA41=\"N\",\"No\",\"\"))))","v":""},{"$f":"IF('Simplified Loader'!CB41=\"Yes\",\"Yes\",IF('Simplified Loader'!CB41=\"No\",\"No\",IF('Simplified Loader'!CB41=\"Y\",\"Yes\",IF('Simplified Loader'!CB41=\"N\",\"No\",\"\"))))","v":""},{"$f":"IF('Simplified Loader'!CH41>0,'Simplified Loader'!CH41,\"\")","v":"    "}]
[{"$f":"IF('Simplified Loader'!A42>0,'Simplified Loader'!A42,\"\")","v":""},{"$f":"IF('Simplified Loader'!B42>0,'Simplified Loader'!B42,\"\")","v":""},{"$f":"IF('Simplified Loader'!C42>0,'Simplified Loader'!C42,\"\")","v":""},{"$f":"IF('Simplified Loader'!D42>0,'Simplified Loader'!D42,\"\")","v":""},{"$f":"IF('Simplified Loader'!E42>0,TEXT('Simplified Loader'!E42,\"000\"),\"\")","v":""},{"$f":"IF('Simplified Loader'!F42>0,'Simplified Loader'!F42,\"\")","v":""},{"$f":"IF('Simplified Loader'!G42>0,'Simplified Loader'!G42,\"\")","v":""},{"$f":"IF('Simplified Loader'!I42>0,'Simplified Loader'!I42,\"\")","v":""},{"$f":"IF('Simplified Loader'!J42>0,'Simplified Loader'!J42,\"\")","v":""},{"$f":"IF('Simplified Loader'!K42>0,'Simplified Loader'!K42,\"\")","v":""},{"$f":"IF('Simplified Loader'!L42>0,'Simplified Loader'!L42,\"\")","v":""},{"$f":"IF('Simplified Loader'!M42=\"Male\",\"Male\",IF('Simplified Loader'!M42=\"Female\",\"Female\",IF('Simplified Loader'!M42=\"M\",\"Male\",IF('Simplified Loader'!M42=\"F\",\"Female\",\"\"))))","v":""},{"$f":"IF('Simplified Loader'!N42=\"Yes\",\"Yes\",IF('Simplified Loader'!N42=\"No\",\"No\",IF('Simplified Loader'!N42=\"Y\",\"Yes\",IF('Simplified Loader'!N42=\"N\",\"No\",\"\"))))","v":""},{"$f":"IF('Simplified Loader'!O42=\"No\",\"Single\",IF('Simplified Loader'!O42=\"Yes\",\"Family\",IF('Simplified Loader'!O42=\"N\",\"Single\",IF('Simplified Loader'!O42=\"Y\",\"Family\",IF('Simplified Loader'!O42=\"In-force\",\"Family\",IF('Simplified Loader'!O42=\"In force\",\"Family\",IF('Simplified Loader'!O42=\"Applies\",\"Family\",IF('Simplified Loader'!O42=\"Applicable\",\"Family\",\"\"))))))))","v":""},{"$f":"IF('Simplified Loader'!P42=\"English\",\"English\",IF('Simplified Loader'!P42=\"French\",\"French\",IF('Simplified Loader'!P42=\"E\",\"English\",IF('Simplified Loader'!P42=\"F\",\"French\",\"\"))))","v":""},{"$f":"IF('Simplified Loader'!Q42=\"Yes\",\"Yes\",IF('Simplified Loader'!Q42=\"No\",\"No\",IF('Simplified Loader'!Q42=\"Y\",\"Yes\",IF('Simplified Loader'!Q42=\"N\",\"No\",\"\"))))","v":""},{"$f":"IF('Simplified Loader'!R42>0,'Simplified Loader'!R42,\"\")","v":""},{"$f":"IF('Simplified Loader'!S42>0,'Simplified Loader'!S42,\"\")","v":""},{"$f":"IF('Simplified Loader'!T42>0,'Simplified Loader'!T42,\"\")","v":""},{"$f":"IF('Simplified Loader'!U42>0,'Simplified Loader'!U42,\"\")","v":""},{"$f":"IF('Simplified Loader'!V42=\"Waive\",\"Yes\",\"\")","v":""},{"$f":"IF('Simplified Loader'!W42=\"Waive\",\"Yes\",\"\")","v":""},{"$f":"IF('Simplified Loader'!X42>0,'Simplified Loader'!X42,\"\")","v":""},{"$f":"IF('Simplified Loader'!Y42>0,'Simplified Loader'!Y42,\"\")","v":""},{"$f":"IF('Simplified Loader'!Z42>0,'Simplified Loader'!Z42,\"\")","v":""},{"$f":"IF('Simplified Loader'!AA42>0,'Simplified Loader'!AA42,\"\")","v":""},{"$f":"IF('Simplified Loader'!AB42>0,'Simplified Loader'!AB42,\"\")","v":""},{"$f":"IF('Simplified Loader'!AC42>0,'Simplified Loader'!AC42,\"\")","v":" "},{"$f":"IF('Simplified Loader'!AE42>0,'Simplified Loader'!AE42&\" \",\"\")&IF('Simplified Loader'!AD42>0,'Simplified Loader'!AD42,\"\")","v":""},null,{"$f":"IF('Simplified Loader'!AF42>0,'Simplified Loader'!AF42,\"\")","v":""},{"$f":"IF('Simplified Loader'!AG42>0,'Simplified Loader'!AG42,\"\")","v":""},{"$f":"IF('Simplified Loader'!AH42>0,'Simplified Loader'!AH42,\"\")","v":""},{"$f":"IF('Simplified Loader'!AI42>0,'Simplified Loader'!AI42,\"\")","v":""},{"$f":"IF('Simplified Loader'!AJ42>0,'Simplified Loader'!AJ42,\"\")","v":""},{"$f":"IF('Simplified Loader'!AK42>0,'Simplified Loader'!AK42,\"\")","v":""},{"$f":"IF('Simplified Loader'!AL42>0,'Simplified Loader'!AL42,\"\")","v":""},{"$f":"IF('Simplified Loader'!AM42>0,'Simplified Loader'!AM42,\"\")","v":""},{"$f":"IF('Simplified Loader'!AN42=\"Male\",\"Male\",IF('Simplified Loader'!AN42=\"Female\",\"Female\",IF('Simplified Loader'!AN42=\"M\",\"Male\",IF('Simplified Loader'!AN42=\"F\",\"Female\",\"\"))))","v":""},{"$f":"IF('Simplified Loader'!AO42=\"Single\",\"Single\",IF('Simplified Loader'!AO42=\"Family\",\"Family\",IF('Simplified Loader'!AO42=\"S\",\"Single\",IF('Simplified Loader'!AO42=\"F\",\"Family\",\"\"))))","v":""},{"$f":"IF('Simplified Loader'!AP42=\"Single\",\"Single\",IF('Simplified Loader'!AP42=\"Family\",\"Family\",IF('Simplified Loader'!AP42=\"S\",\"Single\",IF('Simplified Loader'!AP42=\"F\",\"Family\",\"\"))))","v":""},{"$f":"IF('Simplified Loader'!AQ42>0,'Simplified Loader'!AQ42,\"\")","v":""},{"$f":"IF('Simplified Loader'!AR42=\"Yes\",\"Yes\",IF('Simplified Loader'!AR42=\"No\",\"No\",IF('Simplified Loader'!AR42=\"Y\",\"Yes\",IF('Simplified Loader'!AR42=\"N\",\"No\",\"\"))))","v":""},{"$f":"IF('Simplified Loader'!AS42>0,'Simplified Loader'!AS42,\"\")","v":""},{"$f":"IF('Simplified Loader'!AT42>0,'Simplified Loader'!AT42,\"\")","v":""},{"$f":"IF('Simplified Loader'!AU42>0,'Simplified Loader'!AU42,\"\")","v":""},{"$f":"IF('Simplified Loader'!AV42=\"Male\",\"Male\",IF('Simplified Loader'!AV42=\"Female\",\"Female\",IF('Simplified Loader'!AV42=\"M\",\"Male\",IF('Simplified Loader'!AV42=\"F\",\"Female\",\"\"))))","v":""},{"$f":"IF('Simplified Loader'!AW42=\"Yes\",\"Yes\",IF('Simplified Loader'!AW42=\"No\",\"No\",IF('Simplified Loader'!AW42=\"Y\",\"Yes\",IF('Simplified Loader'!AW42=\"N\",\"No\",\"\"))))","v":""},{"$f":"IF('Simplified Loader'!AX42=\"Yes\",\"Yes\",IF('Simplified Loader'!AX42=\"No\",\"No\",IF('Simplified Loader'!AX42=\"Y\",\"Yes\",IF('Simplified Loader'!AX42=\"N\",\"No\",\"\"))))","v":""},{"$f":"IF('Simplified Loader'!AY42>0,'Simplified Loader'!AY42,\"\")","v":""},{"$f":"IF('Simplified Loader'!AZ42>0,'Simplified Loader'!AZ42,\"\")","v":""},{"$f":"IF('Simplified Loader'!BA42>0,'Simplified Loader'!BA42,\"\")","v":""},{"$f":"IF('Simplified Loader'!BB42=\"Male\",\"Male\",IF('Simplified Loader'!BB42=\"Female\",\"Female\",IF('Simplified Loader'!BB42=\"M\",\"Male\",IF('Simplified Loader'!BB42=\"F\",\"Female\",\"\"))))","v":""},{"$f":"IF('Simplified Loader'!BC42=\"Yes\",\"Yes\",IF('Simplified Loader'!BC42=\"No\",\"No\",IF('Simplified Loader'!BC42=\"Y\",\"Yes\",IF('Simplified Loader'!BC42=\"N\",\"No\",\"\"))))","v":""},{"$f":"IF('Simplified Loader'!BD42=\"Yes\",\"Yes\",IF('Simplified Loader'!BD42=\"No\",\"No\",IF('Simplified Loader'!BD42=\"Y\",\"Yes\",IF('Simplified Loader'!BD42=\"N\",\"No\",\"\"))))","v":""},{"$f":"IF('Simplified Loader'!BE42>0,'Simplified Loader'!BE42,\"\")","v":""},{"$f":"IF('Simplified Loader'!BF42>0,'Simplified Loader'!BF42,\"\")","v":""},{"$f":"IF('Simplified Loader'!BG42>0,'Simplified Loader'!BG42,\"\")","v":""},{"$f":"IF('Simplified Loader'!BH42=\"Male\",\"Male\",IF('Simplified Loader'!BH42=\"Female\",\"Female\",IF('Simplified Loader'!BH42=\"M\",\"Male\",IF('Simplified Loader'!BH42=\"F\",\"Female\",\"\"))))","v":""},{"$f":"IF('Simplified Loader'!BI42=\"Yes\",\"Yes\",IF('Simplified Loader'!BI42=\"No\",\"No\",IF('Simplified Loader'!BI42=\"Y\",\"Yes\",IF('Simplified Loader'!BI42=\"N\",\"No\",\"\"))))","v":""},{"$f":"IF('Simplified Loader'!BJ42=\"Yes\",\"Yes\",IF('Simplified Loader'!BJ42=\"No\",\"No\",IF('Simplified Loader'!BJ42=\"Y\",\"Yes\",IF('Simplified Loader'!BJ42=\"N\",\"No\",\"\"))))","v":""},{"$f":"IF('Simplified Loader'!BK42>0,'Simplified Loader'!BK42,\"\")","v":""},{"$f":"IF('Simplified Loader'!BL42>0,'Simplified Loader'!BL42,\"\")","v":""},{"$f":"IF('Simplified Loader'!BM42>0,'Simplified Loader'!BM42,\"\")","v":""},{"$f":"IF('Simplified Loader'!BN42=\"Male\",\"Male\",IF('Simplified Loader'!BN42=\"Female\",\"Female\",IF('Simplified Loader'!BN42=\"M\",\"Male\",IF('Simplified Loader'!BN42=\"F\",\"Female\",\"\"))))","v":""},{"$f":"IF('Simplified Loader'!BO42=\"Yes\",\"Yes\",IF('Simplified Loader'!BO42=\"No\",\"No\",IF('Simplified Loader'!BO42=\"Y\",\"Yes\",IF('Simplified Loader'!BO42=\"N\",\"No\",\"\"))))","v":""},{"$f":"IF('Simplified Loader'!BP42=\"Yes\",\"Yes\",IF('Simplified Loader'!BP42=\"No\",\"No\",IF('Simplified Loader'!BP42=\"Y\",\"Yes\",IF('Simplified Loader'!BP42=\"N\",\"No\",\"\"))))","v":""},{"$f":"IF('Simplified Loader'!BQ42>0,'Simplified Loader'!BQ42,\"\")","v":""},{"$f":"IF('Simplified Loader'!BR42>0,'Simplified Loader'!BR42,\"\")","v":""},{"$f":"IF('Simplified Loader'!BS42>0,'Simplified Loader'!BS42,\"\")","v":""},{"$f":"IF('Simplified Loader'!BT42=\"Male\",\"Male\",IF('Simplified Loader'!BT42=\"Female\",\"Female\",IF('Simplified Loader'!BT42=\"M\",\"Male\",IF('Simplified Loader'!BT42=\"F\",\"Female\",\"\"))))","v":""},{"$f":"IF('Simplified Loader'!BU42=\"Yes\",\"Yes\",IF('Simplified Loader'!BU42=\"No\",\"No\",IF('Simplified Loader'!BU42=\"Y\",\"Yes\",IF('Simplified Loader'!BU42=\"N\",\"No\",\"\"))))","v":""},{"$f":"IF('Simplified Loader'!BV42=\"Yes\",\"Yes\",IF('Simplified Loader'!BV42=\"No\",\"No\",IF('Simplified Loader'!BV42=\"Y\",\"Yes\",IF('Simplified Loader'!BV42=\"N\",\"No\",\"\"))))","v":""},{"$f":"IF('Simplified Loader'!BW42>0,'Simplified Loader'!BW42,\"\")","v":""},{"$f":"IF('Simplified Loader'!BX42>0,'Simplified Loader'!BX42,\"\")","v":""},{"$f":"IF('Simplified Loader'!BY42>0,'Simplified Loader'!BY42,\"\")","v":""},{"$f":"IF('Simplified Loader'!BZ42=\"Male\",\"Male\",IF('Simplified Loader'!BZ42=\"Female\",\"Female\",IF('Simplified Loader'!BZ42=\"M\",\"Male\",IF('Simplified Loader'!BZ42=\"F\",\"Female\",\"\"))))","v":""},{"$f":"IF('Simplified Loader'!CA42=\"Yes\",\"Yes\",IF('Simplified Loader'!CA42=\"No\",\"No\",IF('Simplified Loader'!CA42=\"Y\",\"Yes\",IF('Simplified Loader'!CA42=\"N\",\"No\",\"\"))))","v":""},{"$f":"IF('Simplified Loader'!CB42=\"Yes\",\"Yes\",IF('Simplified Loader'!CB42=\"No\",\"No\",IF('Simplified Loader'!CB42=\"Y\",\"Yes\",IF('Simplified Loader'!CB42=\"N\",\"No\",\"\"))))","v":""},{"$f":"IF('Simplified Loader'!CH42>0,'Simplified Loader'!CH42,\"\")","v":"    "}]
[{"$f":"IF('Simplified Loader'!A43>0,'Simplified Loader'!A43,\"\")","v":""},{"$f":"IF('Simplified Loader'!B43>0,'Simplified Loader'!B43,\"\")","v":""},{"$f":"IF('Simplified Loader'!C43>0,'Simplified Loader'!C43,\"\")","v":""},{"$f":"IF('Simplified Loader'!D43>0,'Simplified Loader'!D43,\"\")","v":""},{"$f":"IF('Simplified Loader'!E43>0,TEXT('Simplified Loader'!E43,\"000\"),\"\")","v":""},{"$f":"IF('Simplified Loader'!F43>0,'Simplified Loader'!F43,\"\")","v":""},{"$f":"IF('Simplified Loader'!G43>0,'Simplified Loader'!G43,\"\")","v":""},{"$f":"IF('Simplified Loader'!I43>0,'Simplified Loader'!I43,\"\")","v":""},{"$f":"IF('Simplified Loader'!J43>0,'Simplified Loader'!J43,\"\")","v":""},{"$f":"IF('Simplified Loader'!K43>0,'Simplified Loader'!K43,\"\")","v":""},{"$f":"IF('Simplified Loader'!L43>0,'Simplified Loader'!L43,\"\")","v":""},{"$f":"IF('Simplified Loader'!M43=\"Male\",\"Male\",IF('Simplified Loader'!M43=\"Female\",\"Female\",IF('Simplified Loader'!M43=\"M\",\"Male\",IF('Simplified Loader'!M43=\"F\",\"Female\",\"\"))))","v":""},{"$f":"IF('Simplified Loader'!N43=\"Yes\",\"Yes\",IF('Simplified Loader'!N43=\"No\",\"No\",IF('Simplified Loader'!N43=\"Y\",\"Yes\",IF('Simplified Loader'!N43=\"N\",\"No\",\"\"))))","v":""},{"$f":"IF('Simplified Loader'!O43=\"No\",\"Single\",IF('Simplified Loader'!O43=\"Yes\",\"Family\",IF('Simplified Loader'!O43=\"N\",\"Single\",IF('Simplified Loader'!O43=\"Y\",\"Family\",IF('Simplified Loader'!O43=\"In-force\",\"Family\",IF('Simplified Loader'!O43=\"In force\",\"Family\",IF('Simplified Loader'!O43=\"Applies\",\"Family\",IF('Simplified Loader'!O43=\"Applicable\",\"Family\",\"\"))))))))","v":""},{"$f":"IF('Simplified Loader'!P43=\"English\",\"English\",IF('Simplified Loader'!P43=\"French\",\"French\",IF('Simplified Loader'!P43=\"E\",\"English\",IF('Simplified Loader'!P43=\"F\",\"French\",\"\"))))","v":""},{"$f":"IF('Simplified Loader'!Q43=\"Yes\",\"Yes\",IF('Simplified Loader'!Q43=\"No\",\"No\",IF('Simplified Loader'!Q43=\"Y\",\"Yes\",IF('Simplified Loader'!Q43=\"N\",\"No\",\"\"))))","v":""},{"$f":"IF('Simplified Loader'!R43>0,'Simplified Loader'!R43,\"\")","v":""},{"$f":"IF('Simplified Loader'!S43>0,'Simplified Loader'!S43,\"\")","v":""},{"$f":"IF('Simplified Loader'!T43>0,'Simplified Loader'!T43,\"\")","v":""},{"$f":"IF('Simplified Loader'!U43>0,'Simplified Loader'!U43,\"\")","v":""},{"$f":"IF('Simplified Loader'!V43=\"Waive\",\"Yes\",\"\")","v":""},{"$f":"IF('Simplified Loader'!W43=\"Waive\",\"Yes\",\"\")","v":""},{"$f":"IF('Simplified Loader'!X43>0,'Simplified Loader'!X43,\"\")","v":""},{"$f":"IF('Simplified Loader'!Y43>0,'Simplified Loader'!Y43,\"\")","v":""},{"$f":"IF('Simplified Loader'!Z43>0,'Simplified Loader'!Z43,\"\")","v":""},{"$f":"IF('Simplified Loader'!AA43>0,'Simplified Loader'!AA43,\"\")","v":""},{"$f":"IF('Simplified Loader'!AB43>0,'Simplified Loader'!AB43,\"\")","v":""},{"$f":"IF('Simplified Loader'!AC43>0,'Simplified Loader'!AC43,\"\")","v":" "},{"$f":"IF('Simplified Loader'!AE43>0,'Simplified Loader'!AE43&\" \",\"\")&IF('Simplified Loader'!AD43>0,'Simplified Loader'!AD43,\"\")","v":""},null,{"$f":"IF('Simplified Loader'!AF43>0,'Simplified Loader'!AF43,\"\")","v":""},{"$f":"IF('Simplified Loader'!AG43>0,'Simplified Loader'!AG43,\"\")","v":""},{"$f":"IF('Simplified Loader'!AH43>0,'Simplified Loader'!AH43,\"\")","v":""},{"$f":"IF('Simplified Loader'!AI43>0,'Simplified Loader'!AI43,\"\")","v":""},{"$f":"IF('Simplified Loader'!AJ43>0,'Simplified Loader'!AJ43,\"\")","v":""},{"$f":"IF('Simplified Loader'!AK43>0,'Simplified Loader'!AK43,\"\")","v":""},{"$f":"IF('Simplified Loader'!AL43>0,'Simplified Loader'!AL43,\"\")","v":""},{"$f":"IF('Simplified Loader'!AM43>0,'Simplified Loader'!AM43,\"\")","v":""},{"$f":"IF('Simplified Loader'!AN43=\"Male\",\"Male\",IF('Simplified Loader'!AN43=\"Female\",\"Female\",IF('Simplified Loader'!AN43=\"M\",\"Male\",IF('Simplified Loader'!AN43=\"F\",\"Female\",\"\"))))","v":""},{"$f":"IF('Simplified Loader'!AO43=\"Single\",\"Single\",IF('Simplified Loader'!AO43=\"Family\",\"Family\",IF('Simplified Loader'!AO43=\"S\",\"Single\",IF('Simplified Loader'!AO43=\"F\",\"Family\",\"\"))))","v":""},{"$f":"IF('Simplified Loader'!AP43=\"Single\",\"Single\",IF('Simplified Loader'!AP43=\"Family\",\"Family\",IF('Simplified Loader'!AP43=\"S\",\"Single\",IF('Simplified Loader'!AP43=\"F\",\"Family\",\"\"))))","v":""},{"$f":"IF('Simplified Loader'!AQ43>0,'Simplified Loader'!AQ43,\"\")","v":""},{"$f":"IF('Simplified Loader'!AR43=\"Yes\",\"Yes\",IF('Simplified Loader'!AR43=\"No\",\"No\",IF('Simplified Loader'!AR43=\"Y\",\"Yes\",IF('Simplified Loader'!AR43=\"N\",\"No\",\"\"))))","v":""},{"$f":"IF('Simplified Loader'!AS43>0,'Simplified Loader'!AS43,\"\")","v":""},{"$f":"IF('Simplified Loader'!AT43>0,'Simplified Loader'!AT43,\"\")","v":""},{"$f":"IF('Simplified Loader'!AU43>0,'Simplified Loader'!AU43,\"\")","v":""},{"$f":"IF('Simplified Loader'!AV43=\"Male\",\"Male\",IF('Simplified Loader'!AV43=\"Female\",\"Female\",IF('Simplified Loader'!AV43=\"M\",\"Male\",IF('Simplified Loader'!AV43=\"F\",\"Female\",\"\"))))","v":""},{"$f":"IF('Simplified Loader'!AW43=\"Yes\",\"Yes\",IF('Simplified Loader'!AW43=\"No\",\"No\",IF('Simplified Loader'!AW43=\"Y\",\"Yes\",IF('Simplified Loader'!AW43=\"N\",\"No\",\"\"))))","v":""},{"$f":"IF('Simplified Loader'!AX43=\"Yes\",\"Yes\",IF('Simplified Loader'!AX43=\"No\",\"No\",IF('Simplified Loader'!AX43=\"Y\",\"Yes\",IF('Simplified Loader'!AX43=\"N\",\"No\",\"\"))))","v":""},{"$f":"IF('Simplified Loader'!AY43>0,'Simplified Loader'!AY43,\"\")","v":""},{"$f":"IF('Simplified Loader'!AZ43>0,'Simplified Loader'!AZ43,\"\")","v":""},{"$f":"IF('Simplified Loader'!BA43>0,'Simplified Loader'!BA43,\"\")","v":""},{"$f":"IF('Simplified Loader'!BB43=\"Male\",\"Male\",IF('Simplified Loader'!BB43=\"Female\",\"Female\",IF('Simplified Loader'!BB43=\"M\",\"Male\",IF('Simplified Loader'!BB43=\"F\",\"Female\",\"\"))))","v":""},{"$f":"IF('Simplified Loader'!BC43=\"Yes\",\"Yes\",IF('Simplified Loader'!BC43=\"No\",\"No\",IF('Simplified Loader'!BC43=\"Y\",\"Yes\",IF('Simplified Loader'!BC43=\"N\",\"No\",\"\"))))","v":""},{"$f":"IF('Simplified Loader'!BD43=\"Yes\",\"Yes\",IF('Simplified Loader'!BD43=\"No\",\"No\",IF('Simplified Loader'!BD43=\"Y\",\"Yes\",IF('Simplified Loader'!BD43=\"N\",\"No\",\"\"))))","v":""},{"$f":"IF('Simplified Loader'!BE43>0,'Simplified Loader'!BE43,\"\")","v":""},{"$f":"IF('Simplified Loader'!BF43>0,'Simplified Loader'!BF43,\"\")","v":""},{"$f":"IF('Simplified Loader'!BG43>0,'Simplified Loader'!BG43,\"\")","v":""},{"$f":"IF('Simplified Loader'!BH43=\"Male\",\"Male\",IF('Simplified Loader'!BH43=\"Female\",\"Female\",IF('Simplified Loader'!BH43=\"M\",\"Male\",IF('Simplified Loader'!BH43=\"F\",\"Female\",\"\"))))","v":""},{"$f":"IF('Simplified Loader'!BI43=\"Yes\",\"Yes\",IF('Simplified Loader'!BI43=\"No\",\"No\",IF('Simplified Loader'!BI43=\"Y\",\"Yes\",IF('Simplified Loader'!BI43=\"N\",\"No\",\"\"))))","v":""},{"$f":"IF('Simplified Loader'!BJ43=\"Yes\",\"Yes\",IF('Simplified Loader'!BJ43=\"No\",\"No\",IF('Simplified Loader'!BJ43=\"Y\",\"Yes\",IF('Simplified Loader'!BJ43=\"N\",\"No\",\"\"))))","v":""},{"$f":"IF('Simplified Loader'!BK43>0,'Simplified Loader'!BK43,\"\")","v":""},{"$f":"IF('Simplified Loader'!BL43>0,'Simplified Loader'!BL43,\"\")","v":""},{"$f":"IF('Simplified Loader'!BM43>0,'Simplified Loader'!BM43,\"\")","v":""},{"$f":"IF('Simplified Loader'!BN43=\"Male\",\"Male\",IF('Simplified Loader'!BN43=\"Female\",\"Female\",IF('Simplified Loader'!BN43=\"M\",\"Male\",IF('Simplified Loader'!BN43=\"F\",\"Female\",\"\"))))","v":""},{"$f":"IF('Simplified Loader'!BO43=\"Yes\",\"Yes\",IF('Simplified Loader'!BO43=\"No\",\"No\",IF('Simplified Loader'!BO43=\"Y\",\"Yes\",IF('Simplified Loader'!BO43=\"N\",\"No\",\"\"))))","v":""},{"$f":"IF('Simplified Loader'!BP43=\"Yes\",\"Yes\",IF('Simplified Loader'!BP43=\"No\",\"No\",IF('Simplified Loader'!BP43=\"Y\",\"Yes\",IF('Simplified Loader'!BP43=\"N\",\"No\",\"\"))))","v":""},{"$f":"IF('Simplified Loader'!BQ43>0,'Simplified Loader'!BQ43,\"\")","v":""},{"$f":"IF('Simplified Loader'!BR43>0,'Simplified Loader'!BR43,\"\")","v":""},{"$f":"IF('Simplified Loader'!BS43>0,'Simplified Loader'!BS43,\"\")","v":""},{"$f":"IF('Simplified Loader'!BT43=\"Male\",\"Male\",IF('Simplified Loader'!BT43=\"Female\",\"Female\",IF('Simplified Loader'!BT43=\"M\",\"Male\",IF('Simplified Loader'!BT43=\"F\",\"Female\",\"\"))))","v":""},{"$f":"IF('Simplified Loader'!BU43=\"Yes\",\"Yes\",IF('Simplified Loader'!BU43=\"No\",\"No\",IF('Simplified Loader'!BU43=\"Y\",\"Yes\",IF('Simplified Loader'!BU43=\"N\",\"No\",\"\"))))","v":""},{"$f":"IF('Simplified Loader'!BV43=\"Yes\",\"Yes\",IF('Simplified Loader'!BV43=\"No\",\"No\",IF('Simplified Loader'!BV43=\"Y\",\"Yes\",IF('Simplified Loader'!BV43=\"N\",\"No\",\"\"))))","v":""},{"$f":"IF('Simplified Loader'!BW43>0,'Simplified Loader'!BW43,\"\")","v":""},{"$f":"IF('Simplified Loader'!BX43>0,'Simplified Loader'!BX43,\"\")","v":""},{"$f":"IF('Simplified Loader'!BY43>0,'Simplified Loader'!BY43,\"\")","v":""},{"$f":"IF('Simplified Loader'!BZ43=\"Male\",\"Male\",IF('Simplified Loader'!BZ43=\"Female\",\"Female\",IF('Simplified Loader'!BZ43=\"M\",\"Male\",IF('Simplified Loader'!BZ43=\"F\",\"Female\",\"\"))))","v":""},{"$f":"IF('Simplified Loader'!CA43=\"Yes\",\"Yes\",IF('Simplified Loader'!CA43=\"No\",\"No\",IF('Simplified Loader'!CA43=\"Y\",\"Yes\",IF('Simplified Loader'!CA43=\"N\",\"No\",\"\"))))","v":""},{"$f":"IF('Simplified Loader'!CB43=\"Yes\",\"Yes\",IF('Simplified Loader'!CB43=\"No\",\"No\",IF('Simplified Loader'!CB43=\"Y\",\"Yes\",IF('Simplified Loader'!CB43=\"N\",\"No\",\"\"))))","v":""},{"$f":"IF('Simplified Loader'!CH43>0,'Simplified Loader'!CH43,\"\")","v":"    "}]
[{"$f":"IF('Simplified Loader'!A44>0,'Simplified Loader'!A44,\"\")","v":""},{"$f":"IF('Simplified Loader'!B44>0,'Simplified Loader'!B44,\"\")","v":""},{"$f":"IF('Simplified Loader'!C44>0,'Simplified Loader'!C44,\"\")","v":""},{"$f":"IF('Simplified Loader'!D44>0,'Simplified Loader'!D44,\"\")","v":""},{"$f":"IF('Simplified Loader'!E44>0,TEXT('Simplified Loader'!E44,\"000\"),\"\")","v":""},{"$f":"IF('Simplified Loader'!F44>0,'Simplified Loader'!F44,\"\")","v":""},{"$f":"IF('Simplified Loader'!G44>0,'Simplified Loader'!G44,\"\")","v":""},{"$f":"IF('Simplified Loader'!I44>0,'Simplified Loader'!I44,\"\")","v":""},{"$f":"IF('Simplified Loader'!J44>0,'Simplified Loader'!J44,\"\")","v":""},{"$f":"IF('Simplified Loader'!K44>0,'Simplified Loader'!K44,\"\")","v":""},{"$f":"IF('Simplified Loader'!L44>0,'Simplified Loader'!L44,\"\")","v":""},{"$f":"IF('Simplified Loader'!M44=\"Male\",\"Male\",IF('Simplified Loader'!M44=\"Female\",\"Female\",IF('Simplified Loader'!M44=\"M\",\"Male\",IF('Simplified Loader'!M44=\"F\",\"Female\",\"\"))))","v":""},{"$f":"IF('Simplified Loader'!N44=\"Yes\",\"Yes\",IF('Simplified Loader'!N44=\"No\",\"No\",IF('Simplified Loader'!N44=\"Y\",\"Yes\",IF('Simplified Loader'!N44=\"N\",\"No\",\"\"))))","v":""},{"$f":"IF('Simplified Loader'!O44=\"No\",\"Single\",IF('Simplified Loader'!O44=\"Yes\",\"Family\",IF('Simplified Loader'!O44=\"N\",\"Single\",IF('Simplified Loader'!O44=\"Y\",\"Family\",IF('Simplified Loader'!O44=\"In-force\",\"Family\",IF('Simplified Loader'!O44=\"In force\",\"Family\",IF('Simplified Loader'!O44=\"Applies\",\"Family\",IF('Simplified Loader'!O44=\"Applicable\",\"Family\",\"\"))))))))","v":""},{"$f":"IF('Simplified Loader'!P44=\"English\",\"English\",IF('Simplified Loader'!P44=\"French\",\"French\",IF('Simplified Loader'!P44=\"E\",\"English\",IF('Simplified Loader'!P44=\"F\",\"French\",\"\"))))","v":""},{"$f":"IF('Simplified Loader'!Q44=\"Yes\",\"Yes\",IF('Simplified Loader'!Q44=\"No\",\"No\",IF('Simplified Loader'!Q44=\"Y\",\"Yes\",IF('Simplified Loader'!Q44=\"N\",\"No\",\"\"))))","v":""},{"$f":"IF('Simplified Loader'!R44>0,'Simplified Loader'!R44,\"\")","v":""},{"$f":"IF('Simplified Loader'!S44>0,'Simplified Loader'!S44,\"\")","v":""},{"$f":"IF('Simplified Loader'!T44>0,'Simplified Loader'!T44,\"\")","v":""},{"$f":"IF('Simplified Loader'!U44>0,'Simplified Loader'!U44,\"\")","v":""},{"$f":"IF('Simplified Loader'!V44=\"Waive\",\"Yes\",\"\")","v":""},{"$f":"IF('Simplified Loader'!W44=\"Waive\",\"Yes\",\"\")","v":""},{"$f":"IF('Simplified Loader'!X44>0,'Simplified Loader'!X44,\"\")","v":""},{"$f":"IF('Simplified Loader'!Y44>0,'Simplified Loader'!Y44,\"\")","v":""},{"$f":"IF('Simplified Loader'!Z44>0,'Simplified Loader'!Z44,\"\")","v":""},{"$f":"IF('Simplified Loader'!AA44>0,'Simplified Loader'!AA44,\"\")","v":""},{"$f":"IF('Simplified Loader'!AB44>0,'Simplified Loader'!AB44,\"\")","v":""},{"$f":"IF('Simplified Loader'!AC44>0,'Simplified Loader'!AC44,\"\")","v":" "},{"$f":"IF('Simplified Loader'!AE44>0,'Simplified Loader'!AE44&\" \",\"\")&IF('Simplified Loader'!AD44>0,'Simplified Loader'!AD44,\"\")","v":""},null,{"$f":"IF('Simplified Loader'!AF44>0,'Simplified Loader'!AF44,\"\")","v":""},{"$f":"IF('Simplified Loader'!AG44>0,'Simplified Loader'!AG44,\"\")","v":""},{"$f":"IF('Simplified Loader'!AH44>0,'Simplified Loader'!AH44,\"\")","v":""},{"$f":"IF('Simplified Loader'!AI44>0,'Simplified Loader'!AI44,\"\")","v":""},{"$f":"IF('Simplified Loader'!AJ44>0,'Simplified Loader'!AJ44,\"\")","v":""},{"$f":"IF('Simplified Loader'!AK44>0,'Simplified Loader'!AK44,\"\")","v":""},{"$f":"IF('Simplified Loader'!AL44>0,'Simplified Loader'!AL44,\"\")","v":""},{"$f":"IF('Simplified Loader'!AM44>0,'Simplified Loader'!AM44,\"\")","v":""},{"$f":"IF('Simplified Loader'!AN44=\"Male\",\"Male\",IF('Simplified Loader'!AN44=\"Female\",\"Female\",IF('Simplified Loader'!AN44=\"M\",\"Male\",IF('Simplified Loader'!AN44=\"F\",\"Female\",\"\"))))","v":""},{"$f":"IF('Simplified Loader'!AO44=\"Single\",\"Single\",IF('Simplified Loader'!AO44=\"Family\",\"Family\",IF('Simplified Loader'!AO44=\"S\",\"Single\",IF('Simplified Loader'!AO44=\"F\",\"Family\",\"\"))))","v":""},{"$f":"IF('Simplified Loader'!AP44=\"Single\",\"Single\",IF('Simplified Loader'!AP44=\"Family\",\"Family\",IF('Simplified Loader'!AP44=\"S\",\"Single\",IF('Simplified Loader'!AP44=\"F\",\"Family\",\"\"))))","v":""},{"$f":"IF('Simplified Loader'!AQ44>0,'Simplified Loader'!AQ44,\"\")","v":""},{"$f":"IF('Simplified Loader'!AR44=\"Yes\",\"Yes\",IF('Simplified Loader'!AR44=\"No\",\"No\",IF('Simplified Loader'!AR44=\"Y\",\"Yes\",IF('Simplified Loader'!AR44=\"N\",\"No\",\"\"))))","v":""},{"$f":"IF('Simplified Loader'!AS44>0,'Simplified Loader'!AS44,\"\")","v":""},{"$f":"IF('Simplified Loader'!AT44>0,'Simplified Loader'!AT44,\"\")","v":""},{"$f":"IF('Simplified Loader'!AU44>0,'Simplified Loader'!AU44,\"\")","v":""},{"$f":"IF('Simplified Loader'!AV44=\"Male\",\"Male\",IF('Simplified Loader'!AV44=\"Female\",\"Female\",IF('Simplified Loader'!AV44=\"M\",\"Male\",IF('Simplified Loader'!AV44=\"F\",\"Female\",\"\"))))","v":""},{"$f":"IF('Simplified Loader'!AW44=\"Yes\",\"Yes\",IF('Simplified Loader'!AW44=\"No\",\"No\",IF('Simplified Loader'!AW44=\"Y\",\"Yes\",IF('Simplified Loader'!AW44=\"N\",\"No\",\"\"))))","v":""},{"$f":"IF('Simplified Loader'!AX44=\"Yes\",\"Yes\",IF('Simplified Loader'!AX44=\"No\",\"No\",IF('Simplified Loader'!AX44=\"Y\",\"Yes\",IF('Simplified Loader'!AX44=\"N\",\"No\",\"\"))))","v":""},{"$f":"IF('Simplified Loader'!AY44>0,'Simplified Loader'!AY44,\"\")","v":""},{"$f":"IF('Simplified Loader'!AZ44>0,'Simplified Loader'!AZ44,\"\")","v":""},{"$f":"IF('Simplified Loader'!BA44>0,'Simplified Loader'!BA44,\"\")","v":""},{"$f":"IF('Simplified Loader'!BB44=\"Male\",\"Male\",IF('Simplified Loader'!BB44=\"Female\",\"Female\",IF('Simplified Loader'!BB44=\"M\",\"Male\",IF('Simplified Loader'!BB44=\"F\",\"Female\",\"\"))))","v":""},{"$f":"IF('Simplified Loader'!BC44=\"Yes\",\"Yes\",IF('Simplified Loader'!BC44=\"No\",\"No\",IF('Simplified Loader'!BC44=\"Y\",\"Yes\",IF('Simplified Loader'!BC44=\"N\",\"No\",\"\"))))","v":""},{"$f":"IF('Simplified Loader'!BD44=\"Yes\",\"Yes\",IF('Simplified Loader'!BD44=\"No\",\"No\",IF('Simplified Loader'!BD44=\"Y\",\"Yes\",IF('Simplified Loader'!BD44=\"N\",\"No\",\"\"))))","v":""},{"$f":"IF('Simplified Loader'!BE44>0,'Simplified Loader'!BE44,\"\")","v":""},{"$f":"IF('Simplified Loader'!BF44>0,'Simplified Loader'!BF44,\"\")","v":""},{"$f":"IF('Simplified Loader'!BG44>0,'Simplified Loader'!BG44,\"\")","v":""},{"$f":"IF('Simplified Loader'!BH44=\"Male\",\"Male\",IF('Simplified Loader'!BH44=\"Female\",\"Female\",IF('Simplified Loader'!BH44=\"M\",\"Male\",IF('Simplified Loader'!BH44=\"F\",\"Female\",\"\"))))","v":""},{"$f":"IF('Simplified Loader'!BI44=\"Yes\",\"Yes\",IF('Simplified Loader'!BI44=\"No\",\"No\",IF('Simplified Loader'!BI44=\"Y\",\"Yes\",IF('Simplified Loader'!BI44=\"N\",\"No\",\"\"))))","v":""},{"$f":"IF('Simplified Loader'!BJ44=\"Yes\",\"Yes\",IF('Simplified Loader'!BJ44=\"No\",\"No\",IF('Simplified Loader'!BJ44=\"Y\",\"Yes\",IF('Simplified Loader'!BJ44=\"N\",\"No\",\"\"))))","v":""},{"$f":"IF('Simplified Loader'!BK44>0,'Simplified Loader'!BK44,\"\")","v":""},{"$f":"IF('Simplified Loader'!BL44>0,'Simplified Loader'!BL44,\"\")","v":""},{"$f":"IF('Simplified Loader'!BM44>0,'Simplified Loader'!BM44,\"\")","v":""},{"$f":"IF('Simplified Loader'!BN44=\"Male\",\"Male\",IF('Simplified Loader'!BN44=\"Female\",\"Female\",IF('Simplified Loader'!BN44=\"M\",\"Male\",IF('Simplified Loader'!BN44=\"F\",\"Female\",\"\"))))","v":""},{"$f":"IF('Simplified Loader'!BO44=\"Yes\",\"Yes\",IF('Simplified Loader'!BO44=\"No\",\"No\",IF('Simplified Loader'!BO44=\"Y\",\"Yes\",IF('Simplified Loader'!BO44=\"N\",\"No\",\"\"))))","v":""},{"$f":"IF('Simplified Loader'!BP44=\"Yes\",\"Yes\",IF('Simplified Loader'!BP44=\"No\",\"No\",IF('Simplified Loader'!BP44=\"Y\",\"Yes\",IF('Simplified Loader'!BP44=\"N\",\"No\",\"\"))))","v":""},{"$f":"IF('Simplified Loader'!BQ44>0,'Simplified Loader'!BQ44,\"\")","v":""},{"$f":"IF('Simplified Loader'!BR44>0,'Simplified Loader'!BR44,\"\")","v":""},{"$f":"IF('Simplified Loader'!BS44>0,'Simplified Loader'!BS44,\"\")","v":""},{"$f":"IF('Simplified Loader'!BT44=\"Male\",\"Male\",IF('Simplified Loader'!BT44=\"Female\",\"Female\",IF('Simplified Loader'!BT44=\"M\",\"Male\",IF('Simplified Loader'!BT44=\"F\",\"Female\",\"\"))))","v":""},{"$f":"IF('Simplified Loader'!BU44=\"Yes\",\"Yes\",IF('Simplified Loader'!BU44=\"No\",\"No\",IF('Simplified Loader'!BU44=\"Y\",\"Yes\",IF('Simplified Loader'!BU44=\"N\",\"No\",\"\"))))","v":""},{"$f":"IF('Simplified Loader'!BV44=\"Yes\",\"Yes\",IF('Simplified Loader'!BV44=\"No\",\"No\",IF('Simplified Loader'!BV44=\"Y\",\"Yes\",IF('Simplified Loader'!BV44=\"N\",\"No\",\"\"))))","v":""},{"$f":"IF('Simplified Loader'!BW44>0,'Simplified Loader'!BW44,\"\")","v":""},{"$f":"IF('Simplified Loader'!BX44>0,'Simplified Loader'!BX44,\"\")","v":""},{"$f":"IF('Simplified Loader'!BY44>0,'Simplified Loader'!BY44,\"\")","v":""},{"$f":"IF('Simplified Loader'!BZ44=\"Male\",\"Male\",IF('Simplified Loader'!BZ44=\"Female\",\"Female\",IF('Simplified Loader'!BZ44=\"M\",\"Male\",IF('Simplified Loader'!BZ44=\"F\",\"Female\",\"\"))))","v":""},{"$f":"IF('Simplified Loader'!CA44=\"Yes\",\"Yes\",IF('Simplified Loader'!CA44=\"No\",\"No\",IF('Simplified Loader'!CA44=\"Y\",\"Yes\",IF('Simplified Loader'!CA44=\"N\",\"No\",\"\"))))","v":""},{"$f":"IF('Simplified Loader'!CB44=\"Yes\",\"Yes\",IF('Simplified Loader'!CB44=\"No\",\"No\",IF('Simplified Loader'!CB44=\"Y\",\"Yes\",IF('Simplified Loader'!CB44=\"N\",\"No\",\"\"))))","v":""},{"$f":"IF('Simplified Loader'!CH44>0,'Simplified Loader'!CH44,\"\")","v":"    "}]
[{"$f":"IF('Simplified Loader'!A45>0,'Simplified Loader'!A45,\"\")","v":""},{"$f":"IF('Simplified Loader'!B45>0,'Simplified Loader'!B45,\"\")","v":""},{"$f":"IF('Simplified Loader'!C45>0,'Simplified Loader'!C45,\"\")","v":""},{"$f":"IF('Simplified Loader'!D45>0,'Simplified Loader'!D45,\"\")","v":""},{"$f":"IF('Simplified Loader'!E45>0,TEXT('Simplified Loader'!E45,\"000\"),\"\")","v":""},{"$f":"IF('Simplified Loader'!F45>0,'Simplified Loader'!F45,\"\")","v":""},{"$f":"IF('Simplified Loader'!G45>0,'Simplified Loader'!G45,\"\")","v":""},{"$f":"IF('Simplified Loader'!I45>0,'Simplified Loader'!I45,\"\")","v":""},{"$f":"IF('Simplified Loader'!J45>0,'Simplified Loader'!J45,\"\")","v":""},{"$f":"IF('Simplified Loader'!K45>0,'Simplified Loader'!K45,\"\")","v":""},{"$f":"IF('Simplified Loader'!L45>0,'Simplified Loader'!L45,\"\")","v":""},{"$f":"IF('Simplified Loader'!M45=\"Male\",\"Male\",IF('Simplified Loader'!M45=\"Female\",\"Female\",IF('Simplified Loader'!M45=\"M\",\"Male\",IF('Simplified Loader'!M45=\"F\",\"Female\",\"\"))))","v":""},{"$f":"IF('Simplified Loader'!N45=\"Yes\",\"Yes\",IF('Simplified Loader'!N45=\"No\",\"No\",IF('Simplified Loader'!N45=\"Y\",\"Yes\",IF('Simplified Loader'!N45=\"N\",\"No\",\"\"))))","v":""},{"$f":"IF('Simplified Loader'!O45=\"No\",\"Single\",IF('Simplified Loader'!O45=\"Yes\",\"Family\",IF('Simplified Loader'!O45=\"N\",\"Single\",IF('Simplified Loader'!O45=\"Y\",\"Family\",IF('Simplified Loader'!O45=\"In-force\",\"Family\",IF('Simplified Loader'!O45=\"In force\",\"Family\",IF('Simplified Loader'!O45=\"Applies\",\"Family\",IF('Simplified Loader'!O45=\"Applicable\",\"Family\",\"\"))))))))","v":""},{"$f":"IF('Simplified Loader'!P45=\"English\",\"English\",IF('Simplified Loader'!P45=\"French\",\"French\",IF('Simplified Loader'!P45=\"E\",\"English\",IF('Simplified Loader'!P45=\"F\",\"French\",\"\"))))","v":""},{"$f":"IF('Simplified Loader'!Q45=\"Yes\",\"Yes\",IF('Simplified Loader'!Q45=\"No\",\"No\",IF('Simplified Loader'!Q45=\"Y\",\"Yes\",IF('Simplified Loader'!Q45=\"N\",\"No\",\"\"))))","v":""},{"$f":"IF('Simplified Loader'!R45>0,'Simplified Loader'!R45,\"\")","v":""},{"$f":"IF('Simplified Loader'!S45>0,'Simplified Loader'!S45,\"\")","v":""},{"$f":"IF('Simplified Loader'!T45>0,'Simplified Loader'!T45,\"\")","v":""},{"$f":"IF('Simplified Loader'!U45>0,'Simplified Loader'!U45,\"\")","v":""},{"$f":"IF('Simplified Loader'!V45=\"Waive\",\"Yes\",\"\")","v":""},{"$f":"IF('Simplified Loader'!W45=\"Waive\",\"Yes\",\"\")","v":""},{"$f":"IF('Simplified Loader'!X45>0,'Simplified Loader'!X45,\"\")","v":""},{"$f":"IF('Simplified Loader'!Y45>0,'Simplified Loader'!Y45,\"\")","v":""},{"$f":"IF('Simplified Loader'!Z45>0,'Simplified Loader'!Z45,\"\")","v":""},{"$f":"IF('Simplified Loader'!AA45>0,'Simplified Loader'!AA45,\"\")","v":""},{"$f":"IF('Simplified Loader'!AB45>0,'Simplified Loader'!AB45,\"\")","v":""},{"$f":"IF('Simplified Loader'!AC45>0,'Simplified Loader'!AC45,\"\")","v":" "},{"$f":"IF('Simplified Loader'!AE45>0,'Simplified Loader'!AE45&\" \",\"\")&IF('Simplified Loader'!AD45>0,'Simplified Loader'!AD45,\"\")","v":""},null,{"$f":"IF('Simplified Loader'!AF45>0,'Simplified Loader'!AF45,\"\")","v":""},{"$f":"IF('Simplified Loader'!AG45>0,'Simplified Loader'!AG45,\"\")","v":""},{"$f":"IF('Simplified Loader'!AH45>0,'Simplified Loader'!AH45,\"\")","v":""},{"$f":"IF('Simplified Loader'!AI45>0,'Simplified Loader'!AI45,\"\")","v":""},{"$f":"IF('Simplified Loader'!AJ45>0,'Simplified Loader'!AJ45,\"\")","v":""},{"$f":"IF('Simplified Loader'!AK45>0,'Simplified Loader'!AK45,\"\")","v":""},{"$f":"IF('Simplified Loader'!AL45>0,'Simplified Loader'!AL45,\"\")","v":""},{"$f":"IF('Simplified Loader'!AM45>0,'Simplified Loader'!AM45,\"\")","v":""},{"$f":"IF('Simplified Loader'!AN45=\"Male\",\"Male\",IF('Simplified Loader'!AN45=\"Female\",\"Female\",IF('Simplified Loader'!AN45=\"M\",\"Male\",IF('Simplified Loader'!AN45=\"F\",\"Female\",\"\"))))","v":""},{"$f":"IF('Simplified Loader'!AO45=\"Single\",\"Single\",IF('Simplified Loader'!AO45=\"Family\",\"Family\",IF('Simplified Loader'!AO45=\"S\",\"Single\",IF('Simplified Loader'!AO45=\"F\",\"Family\",\"\"))))","v":""},{"$f":"IF('Simplified Loader'!AP45=\"Single\",\"Single\",IF('Simplified Loader'!AP45=\"Family\",\"Family\",IF('Simplified Loader'!AP45=\"S\",\"Single\",IF('Simplified Loader'!AP45=\"F\",\"Family\",\"\"))))","v":""},{"$f":"IF('Simplified Loader'!AQ45>0,'Simplified Loader'!AQ45,\"\")","v":""},{"$f":"IF('Simplified Loader'!AR45=\"Yes\",\"Yes\",IF('Simplified Loader'!AR45=\"No\",\"No\",IF('Simplified Loader'!AR45=\"Y\",\"Yes\",IF('Simplified Loader'!AR45=\"N\",\"No\",\"\"))))","v":""},{"$f":"IF('Simplified Loader'!AS45>0,'Simplified Loader'!AS45,\"\")","v":""},{"$f":"IF('Simplified Loader'!AT45>0,'Simplified Loader'!AT45,\"\")","v":""},{"$f":"IF('Simplified Loader'!AU45>0,'Simplified Loader'!AU45,\"\")","v":""},{"$f":"IF('Simplified Loader'!AV45=\"Male\",\"Male\",IF('Simplified Loader'!AV45=\"Female\",\"Female\",IF('Simplified Loader'!AV45=\"M\",\"Male\",IF('Simplified Loader'!AV45=\"F\",\"Female\",\"\"))))","v":""},{"$f":"IF('Simplified Loader'!AW45=\"Yes\",\"Yes\",IF('Simplified Loader'!AW45=\"No\",\"No\",IF('Simplified Loader'!AW45=\"Y\",\"Yes\",IF('Simplified Loader'!AW45=\"N\",\"No\",\"\"))))","v":""},{"$f":"IF('Simplified Loader'!AX45=\"Yes\",\"Yes\",IF('Simplified Loader'!AX45=\"No\",\"No\",IF('Simplified Loader'!AX45=\"Y\",\"Yes\",IF('Simplified Loader'!AX45=\"N\",\"No\",\"\"))))","v":""},{"$f":"IF('Simplified Loader'!AY45>0,'Simplified Loader'!AY45,\"\")","v":""},{"$f":"IF('Simplified Loader'!AZ45>0,'Simplified Loader'!AZ45,\"\")","v":""},{"$f":"IF('Simplified Loader'!BA45>0,'Simplified Loader'!BA45,\"\")","v":""},{"$f":"IF('Simplified Loader'!BB45=\"Male\",\"Male\",IF('Simplified Loader'!BB45=\"Female\",\"Female\",IF('Simplified Loader'!BB45=\"M\",\"Male\",IF('Simplified Loader'!BB45=\"F\",\"Female\",\"\"))))","v":""},{"$f":"IF('Simplified Loader'!BC45=\"Yes\",\"Yes\",IF('Simplified Loader'!BC45=\"No\",\"No\",IF('Simplified Loader'!BC45=\"Y\",\"Yes\",IF('Simplified Loader'!BC45=\"N\",\"No\",\"\"))))","v":""},{"$f":"IF('Simplified Loader'!BD45=\"Yes\",\"Yes\",IF('Simplified Loader'!BD45=\"No\",\"No\",IF('Simplified Loader'!BD45=\"Y\",\"Yes\",IF('Simplified Loader'!BD45=\"N\",\"No\",\"\"))))","v":""},{"$f":"IF('Simplified Loader'!BE45>0,'Simplified Loader'!BE45,\"\")","v":""},{"$f":"IF('Simplified Loader'!BF45>0,'Simplified Loader'!BF45,\"\")","v":""},{"$f":"IF('Simplified Loader'!BG45>0,'Simplified Loader'!BG45,\"\")","v":""},{"$f":"IF('Simplified Loader'!BH45=\"Male\",\"Male\",IF('Simplified Loader'!BH45=\"Female\",\"Female\",IF('Simplified Loader'!BH45=\"M\",\"Male\",IF('Simplified Loader'!BH45=\"F\",\"Female\",\"\"))))","v":""},{"$f":"IF('Simplified Loader'!BI45=\"Yes\",\"Yes\",IF('Simplified Loader'!BI45=\"No\",\"No\",IF('Simplified Loader'!BI45=\"Y\",\"Yes\",IF('Simplified Loader'!BI45=\"N\",\"No\",\"\"))))","v":""},{"$f":"IF('Simplified Loader'!BJ45=\"Yes\",\"Yes\",IF('Simplified Loader'!BJ45=\"No\",\"No\",IF('Simplified Loader'!BJ45=\"Y\",\"Yes\",IF('Simplified Loader'!BJ45=\"N\",\"No\",\"\"))))","v":""},{"$f":"IF('Simplified Loader'!BK45>0,'Simplified Loader'!BK45,\"\")","v":""},{"$f":"IF('Simplified Loader'!BL45>0,'Simplified Loader'!BL45,\"\")","v":""},{"$f":"IF('Simplified Loader'!BM45>0,'Simplified Loader'!BM45,\"\")","v":""},{"$f":"IF('Simplified Loader'!BN45=\"Male\",\"Male\",IF('Simplified Loader'!BN45=\"Female\",\"Female\",IF('Simplified Loader'!BN45=\"M\",\"Male\",IF('Simplified Loader'!BN45=\"F\",\"Female\",\"\"))))","v":""},{"$f":"IF('Simplified Loader'!BO45=\"Yes\",\"Yes\",IF('Simplified Loader'!BO45=\"No\",\"No\",IF('Simplified Loader'!BO45=\"Y\",\"Yes\",IF('Simplified Loader'!BO45=\"N\",\"No\",\"\"))))","v":""},{"$f":"IF('Simplified Loader'!BP45=\"Yes\",\"Yes\",IF('Simplified Loader'!BP45=\"No\",\"No\",IF('Simplified Loader'!BP45=\"Y\",\"Yes\",IF('Simplified Loader'!BP45=\"N\",\"No\",\"\"))))","v":""},{"$f":"IF('Simplified Loader'!BQ45>0,'Simplified Loader'!BQ45,\"\")","v":""},{"$f":"IF('Simplified Loader'!BR45>0,'Simplified Loader'!BR45,\"\")","v":""},{"$f":"IF('Simplified Loader'!BS45>0,'Simplified Loader'!BS45,\"\")","v":""},{"$f":"IF('Simplified Loader'!BT45=\"Male\",\"Male\",IF('Simplified Loader'!BT45=\"Female\",\"Female\",IF('Simplified Loader'!BT45=\"M\",\"Male\",IF('Simplified Loader'!BT45=\"F\",\"Female\",\"\"))))","v":""},{"$f":"IF('Simplified Loader'!BU45=\"Yes\",\"Yes\",IF('Simplified Loader'!BU45=\"No\",\"No\",IF('Simplified Loader'!BU45=\"Y\",\"Yes\",IF('Simplified Loader'!BU45=\"N\",\"No\",\"\"))))","v":""},{"$f":"IF('Simplified Loader'!BV45=\"Yes\",\"Yes\",IF('Simplified Loader'!BV45=\"No\",\"No\",IF('Simplified Loader'!BV45=\"Y\",\"Yes\",IF('Simplified Loader'!BV45=\"N\",\"No\",\"\"))))","v":""},{"$f":"IF('Simplified Loader'!BW45>0,'Simplified Loader'!BW45,\"\")","v":""},{"$f":"IF('Simplified Loader'!BX45>0,'Simplified Loader'!BX45,\"\")","v":""},{"$f":"IF('Simplified Loader'!BY45>0,'Simplified Loader'!BY45,\"\")","v":""},{"$f":"IF('Simplified Loader'!BZ45=\"Male\",\"Male\",IF('Simplified Loader'!BZ45=\"Female\",\"Female\",IF('Simplified Loader'!BZ45=\"M\",\"Male\",IF('Simplified Loader'!BZ45=\"F\",\"Female\",\"\"))))","v":""},{"$f":"IF('Simplified Loader'!CA45=\"Yes\",\"Yes\",IF('Simplified Loader'!CA45=\"No\",\"No\",IF('Simplified Loader'!CA45=\"Y\",\"Yes\",IF('Simplified Loader'!CA45=\"N\",\"No\",\"\"))))","v":""},{"$f":"IF('Simplified Loader'!CB45=\"Yes\",\"Yes\",IF('Simplified Loader'!CB45=\"No\",\"No\",IF('Simplified Loader'!CB45=\"Y\",\"Yes\",IF('Simplified Loader'!CB45=\"N\",\"No\",\"\"))))","v":""},{"$f":"IF('Simplified Loader'!CH45>0,'Simplified Loader'!CH45,\"\")","v":"    "}]
[{"$f":"IF('Simplified Loader'!A46>0,'Simplified Loader'!A46,\"\")","v":""},{"$f":"IF('Simplified Loader'!B46>0,'Simplified Loader'!B46,\"\")","v":""},{"$f":"IF('Simplified Loader'!C46>0,'Simplified Loader'!C46,\"\")","v":""},{"$f":"IF('Simplified Loader'!D46>0,'Simplified Loader'!D46,\"\")","v":""},{"$f":"IF('Simplified Loader'!E46>0,TEXT('Simplified Loader'!E46,\"000\"),\"\")","v":""},{"$f":"IF('Simplified Loader'!F46>0,'Simplified Loader'!F46,\"\")","v":""},{"$f":"IF('Simplified Loader'!G46>0,'Simplified Loader'!G46,\"\")","v":""},{"$f":"IF('Simplified Loader'!I46>0,'Simplified Loader'!I46,\"\")","v":""},{"$f":"IF('Simplified Loader'!J46>0,'Simplified Loader'!J46,\"\")","v":""},{"$f":"IF('Simplified Loader'!K46>0,'Simplified Loader'!K46,\"\")","v":""},{"$f":"IF('Simplified Loader'!L46>0,'Simplified Loader'!L46,\"\")","v":""},{"$f":"IF('Simplified Loader'!M46=\"Male\",\"Male\",IF('Simplified Loader'!M46=\"Female\",\"Female\",IF('Simplified Loader'!M46=\"M\",\"Male\",IF('Simplified Loader'!M46=\"F\",\"Female\",\"\"))))","v":""},{"$f":"IF('Simplified Loader'!N46=\"Yes\",\"Yes\",IF('Simplified Loader'!N46=\"No\",\"No\",IF('Simplified Loader'!N46=\"Y\",\"Yes\",IF('Simplified Loader'!N46=\"N\",\"No\",\"\"))))","v":""},{"$f":"IF('Simplified Loader'!O46=\"No\",\"Single\",IF('Simplified Loader'!O46=\"Yes\",\"Family\",IF('Simplified Loader'!O46=\"N\",\"Single\",IF('Simplified Loader'!O46=\"Y\",\"Family\",IF('Simplified Loader'!O46=\"In-force\",\"Family\",IF('Simplified Loader'!O46=\"In force\",\"Family\",IF('Simplified Loader'!O46=\"Applies\",\"Family\",IF('Simplified Loader'!O46=\"Applicable\",\"Family\",\"\"))))))))","v":""},{"$f":"IF('Simplified Loader'!P46=\"English\",\"English\",IF('Simplified Loader'!P46=\"French\",\"French\",IF('Simplified Loader'!P46=\"E\",\"English\",IF('Simplified Loader'!P46=\"F\",\"French\",\"\"))))","v":""},{"$f":"IF('Simplified Loader'!Q46=\"Yes\",\"Yes\",IF('Simplified Loader'!Q46=\"No\",\"No\",IF('Simplified Loader'!Q46=\"Y\",\"Yes\",IF('Simplified Loader'!Q46=\"N\",\"No\",\"\"))))","v":""},{"$f":"IF('Simplified Loader'!R46>0,'Simplified Loader'!R46,\"\")","v":""},{"$f":"IF('Simplified Loader'!S46>0,'Simplified Loader'!S46,\"\")","v":""},{"$f":"IF('Simplified Loader'!T46>0,'Simplified Loader'!T46,\"\")","v":""},{"$f":"IF('Simplified Loader'!U46>0,'Simplified Loader'!U46,\"\")","v":""},{"$f":"IF('Simplified Loader'!V46=\"Waive\",\"Yes\",\"\")","v":""},{"$f":"IF('Simplified Loader'!W46=\"Waive\",\"Yes\",\"\")","v":""},{"$f":"IF('Simplified Loader'!X46>0,'Simplified Loader'!X46,\"\")","v":""},{"$f":"IF('Simplified Loader'!Y46>0,'Simplified Loader'!Y46,\"\")","v":""},{"$f":"IF('Simplified Loader'!Z46>0,'Simplified Loader'!Z46,\"\")","v":""},{"$f":"IF('Simplified Loader'!AA46>0,'Simplified Loader'!AA46,\"\")","v":""},{"$f":"IF('Simplified Loader'!AB46>0,'Simplified Loader'!AB46,\"\")","v":""},{"$f":"IF('Simplified Loader'!AC46>0,'Simplified Loader'!AC46,\"\")","v":" "},{"$f":"IF('Simplified Loader'!AE46>0,'Simplified Loader'!AE46&\" \",\"\")&IF('Simplified Loader'!AD46>0,'Simplified Loader'!AD46,\"\")","v":""},null,{"$f":"IF('Simplified Loader'!AF46>0,'Simplified Loader'!AF46,\"\")","v":""},{"$f":"IF('Simplified Loader'!AG46>0,'Simplified Loader'!AG46,\"\")","v":""},{"$f":"IF('Simplified Loader'!AH46>0,'Simplified Loader'!AH46,\"\")","v":""},{"$f":"IF('Simplified Loader'!AI46>0,'Simplified Loader'!AI46,\"\")","v":""},{"$f":"IF('Simplified Loader'!AJ46>0,'Simplified Loader'!AJ46,\"\")","v":""},{"$f":"IF('Simplified Loader'!AK46>0,'Simplified Loader'!AK46,\"\")","v":""},{"$f":"IF('Simplified Loader'!AL46>0,'Simplified Loader'!AL46,\"\")","v":""},{"$f":"IF('Simplified Loader'!AM46>0,'Simplified Loader'!AM46,\"\")","v":""},{"$f":"IF('Simplified Loader'!AN46=\"Male\",\"Male\",IF('Simplified Loader'!AN46=\"Female\",\"Female\",IF('Simplified Loader'!AN46=\"M\",\"Male\",IF('Simplified Loader'!AN46=\"F\",\"Female\",\"\"))))","v":""},{"$f":"IF('Simplified Loader'!AO46=\"Single\",\"Single\",IF('Simplified Loader'!AO46=\"Family\",\"Family\",IF('Simplified Loader'!AO46=\"S\",\"Single\",IF('Simplified Loader'!AO46=\"F\",\"Family\",\"\"))))","v":""},{"$f":"IF('Simplified Loader'!AP46=\"Single\",\"Single\",IF('Simplified Loader'!AP46=\"Family\",\"Family\",IF('Simplified Loader'!AP46=\"S\",\"Single\",IF('Simplified Loader'!AP46=\"F\",\"Family\",\"\"))))","v":""},{"$f":"IF('Simplified Loader'!AQ46>0,'Simplified Loader'!AQ46,\"\")","v":""},{"$f":"IF('Simplified Loader'!AR46=\"Yes\",\"Yes\",IF('Simplified Loader'!AR46=\"No\",\"No\",IF('Simplified Loader'!AR46=\"Y\",\"Yes\",IF('Simplified Loader'!AR46=\"N\",\"No\",\"\"))))","v":""},{"$f":"IF('Simplified Loader'!AS46>0,'Simplified Loader'!AS46,\"\")","v":""},{"$f":"IF('Simplified Loader'!AT46>0,'Simplified Loader'!AT46,\"\")","v":""},{"$f":"IF('Simplified Loader'!AU46>0,'Simplified Loader'!AU46,\"\")","v":""},{"$f":"IF('Simplified Loader'!AV46=\"Male\",\"Male\",IF('Simplified Loader'!AV46=\"Female\",\"Female\",IF('Simplified Loader'!AV46=\"M\",\"Male\",IF('Simplified Loader'!AV46=\"F\",\"Female\",\"\"))))","v":""},{"$f":"IF('Simplified Loader'!AW46=\"Yes\",\"Yes\",IF('Simplified Loader'!AW46=\"No\",\"No\",IF('Simplified Loader'!AW46=\"Y\",\"Yes\",IF('Simplified Loader'!AW46=\"N\",\"No\",\"\"))))","v":""},{"$f":"IF('Simplified Loader'!AX46=\"Yes\",\"Yes\",IF('Simplified Loader'!AX46=\"No\",\"No\",IF('Simplified Loader'!AX46=\"Y\",\"Yes\",IF('Simplified Loader'!AX46=\"N\",\"No\",\"\"))))","v":""},{"$f":"IF('Simplified Loader'!AY46>0,'Simplified Loader'!AY46,\"\")","v":""},{"$f":"IF('Simplified Loader'!AZ46>0,'Simplified Loader'!AZ46,\"\")","v":""},{"$f":"IF('Simplified Loader'!BA46>0,'Simplified Loader'!BA46,\"\")","v":""},{"$f":"IF('Simplified Loader'!BB46=\"Male\",\"Male\",IF('Simplified Loader'!BB46=\"Female\",\"Female\",IF('Simplified Loader'!BB46=\"M\",\"Male\",IF('Simplified Loader'!BB46=\"F\",\"Female\",\"\"))))","v":""},{"$f":"IF('Simplified Loader'!BC46=\"Yes\",\"Yes\",IF('Simplified Loader'!BC46=\"No\",\"No\",IF('Simplified Loader'!BC46=\"Y\",\"Yes\",IF('Simplified Loader'!BC46=\"N\",\"No\",\"\"))))","v":""},{"$f":"IF('Simplified Loader'!BD46=\"Yes\",\"Yes\",IF('Simplified Loader'!BD46=\"No\",\"No\",IF('Simplified Loader'!BD46=\"Y\",\"Yes\",IF('Simplified Loader'!BD46=\"N\",\"No\",\"\"))))","v":""},{"$f":"IF('Simplified Loader'!BE46>0,'Simplified Loader'!BE46,\"\")","v":""},{"$f":"IF('Simplified Loader'!BF46>0,'Simplified Loader'!BF46,\"\")","v":""},{"$f":"IF('Simplified Loader'!BG46>0,'Simplified Loader'!BG46,\"\")","v":""},{"$f":"IF('Simplified Loader'!BH46=\"Male\",\"Male\",IF('Simplified Loader'!BH46=\"Female\",\"Female\",IF('Simplified Loader'!BH46=\"M\",\"Male\",IF('Simplified Loader'!BH46=\"F\",\"Female\",\"\"))))","v":""},{"$f":"IF('Simplified Loader'!BI46=\"Yes\",\"Yes\",IF('Simplified Loader'!BI46=\"No\",\"No\",IF('Simplified Loader'!BI46=\"Y\",\"Yes\",IF('Simplified Loader'!BI46=\"N\",\"No\",\"\"))))","v":""},{"$f":"IF('Simplified Loader'!BJ46=\"Yes\",\"Yes\",IF('Simplified Loader'!BJ46=\"No\",\"No\",IF('Simplified Loader'!BJ46=\"Y\",\"Yes\",IF('Simplified Loader'!BJ46=\"N\",\"No\",\"\"))))","v":""},{"$f":"IF('Simplified Loader'!BK46>0,'Simplified Loader'!BK46,\"\")","v":""},{"$f":"IF('Simplified Loader'!BL46>0,'Simplified Loader'!BL46,\"\")","v":""},{"$f":"IF('Simplified Loader'!BM46>0,'Simplified Loader'!BM46,\"\")","v":""},{"$f":"IF('Simplified Loader'!BN46=\"Male\",\"Male\",IF('Simplified Loader'!BN46=\"Female\",\"Female\",IF('Simplified Loader'!BN46=\"M\",\"Male\",IF('Simplified Loader'!BN46=\"F\",\"Female\",\"\"))))","v":""},{"$f":"IF('Simplified Loader'!BO46=\"Yes\",\"Yes\",IF('Simplified Loader'!BO46=\"No\",\"No\",IF('Simplified Loader'!BO46=\"Y\",\"Yes\",IF('Simplified Loader'!BO46=\"N\",\"No\",\"\"))))","v":""},{"$f":"IF('Simplified Loader'!BP46=\"Yes\",\"Yes\",IF('Simplified Loader'!BP46=\"No\",\"No\",IF('Simplified Loader'!BP46=\"Y\",\"Yes\",IF('Simplified Loader'!BP46=\"N\",\"No\",\"\"))))","v":""},{"$f":"IF('Simplified Loader'!BQ46>0,'Simplified Loader'!BQ46,\"\")","v":""},{"$f":"IF('Simplified Loader'!BR46>0,'Simplified Loader'!BR46,\"\")","v":""},{"$f":"IF('Simplified Loader'!BS46>0,'Simplified Loader'!BS46,\"\")","v":""},{"$f":"IF('Simplified Loader'!BT46=\"Male\",\"Male\",IF('Simplified Loader'!BT46=\"Female\",\"Female\",IF('Simplified Loader'!BT46=\"M\",\"Male\",IF('Simplified Loader'!BT46=\"F\",\"Female\",\"\"))))","v":""},{"$f":"IF('Simplified Loader'!BU46=\"Yes\",\"Yes\",IF('Simplified Loader'!BU46=\"No\",\"No\",IF('Simplified Loader'!BU46=\"Y\",\"Yes\",IF('Simplified Loader'!BU46=\"N\",\"No\",\"\"))))","v":""},{"$f":"IF('Simplified Loader'!BV46=\"Yes\",\"Yes\",IF('Simplified Loader'!BV46=\"No\",\"No\",IF('Simplified Loader'!BV46=\"Y\",\"Yes\",IF('Simplified Loader'!BV46=\"N\",\"No\",\"\"))))","v":""},{"$f":"IF('Simplified Loader'!BW46>0,'Simplified Loader'!BW46,\"\")","v":""},{"$f":"IF('Simplified Loader'!BX46>0,'Simplified Loader'!BX46,\"\")","v":""},{"$f":"IF('Simplified Loader'!BY46>0,'Simplified Loader'!BY46,\"\")","v":""},{"$f":"IF('Simplified Loader'!BZ46=\"Male\",\"Male\",IF('Simplified Loader'!BZ46=\"Female\",\"Female\",IF('Simplified Loader'!BZ46=\"M\",\"Male\",IF('Simplified Loader'!BZ46=\"F\",\"Female\",\"\"))))","v":""},{"$f":"IF('Simplified Loader'!CA46=\"Yes\",\"Yes\",IF('Simplified Loader'!CA46=\"No\",\"No\",IF('Simplified Loader'!CA46=\"Y\",\"Yes\",IF('Simplified Loader'!CA46=\"N\",\"No\",\"\"))))","v":""},{"$f":"IF('Simplified Loader'!CB46=\"Yes\",\"Yes\",IF('Simplified Loader'!CB46=\"No\",\"No\",IF('Simplified Loader'!CB46=\"Y\",\"Yes\",IF('Simplified Loader'!CB46=\"N\",\"No\",\"\"))))","v":""},{"$f":"IF('Simplified Loader'!CH46>0,'Simplified Loader'!CH46,\"\")","v":"    "}]
[{"$f":"IF('Simplified Loader'!A47>0,'Simplified Loader'!A47,\"\")","v":""},{"$f":"IF('Simplified Loader'!B47>0,'Simplified Loader'!B47,\"\")","v":""},{"$f":"IF('Simplified Loader'!C47>0,'Simplified Loader'!C47,\"\")","v":""},{"$f":"IF('Simplified Loader'!D47>0,'Simplified Loader'!D47,\"\")","v":""},{"$f":"IF('Simplified Loader'!E47>0,TEXT('Simplified Loader'!E47,\"000\"),\"\")","v":""},{"$f":"IF('Simplified Loader'!F47>0,'Simplified Loader'!F47,\"\")","v":""},{"$f":"IF('Simplified Loader'!G47>0,'Simplified Loader'!G47,\"\")","v":""},{"$f":"IF('Simplified Loader'!I47>0,'Simplified Loader'!I47,\"\")","v":""},{"$f":"IF('Simplified Loader'!J47>0,'Simplified Loader'!J47,\"\")","v":""},{"$f":"IF('Simplified Loader'!K47>0,'Simplified Loader'!K47,\"\")","v":""},{"$f":"IF('Simplified Loader'!L47>0,'Simplified Loader'!L47,\"\")","v":""},{"$f":"IF('Simplified Loader'!M47=\"Male\",\"Male\",IF('Simplified Loader'!M47=\"Female\",\"Female\",IF('Simplified Loader'!M47=\"M\",\"Male\",IF('Simplified Loader'!M47=\"F\",\"Female\",\"\"))))","v":""},{"$f":"IF('Simplified Loader'!N47=\"Yes\",\"Yes\",IF('Simplified Loader'!N47=\"No\",\"No\",IF('Simplified Loader'!N47=\"Y\",\"Yes\",IF('Simplified Loader'!N47=\"N\",\"No\",\"\"))))","v":""},{"$f":"IF('Simplified Loader'!O47=\"No\",\"Single\",IF('Simplified Loader'!O47=\"Yes\",\"Family\",IF('Simplified Loader'!O47=\"N\",\"Single\",IF('Simplified Loader'!O47=\"Y\",\"Family\",IF('Simplified Loader'!O47=\"In-force\",\"Family\",IF('Simplified Loader'!O47=\"In force\",\"Family\",IF('Simplified Loader'!O47=\"Applies\",\"Family\",IF('Simplified Loader'!O47=\"Applicable\",\"Family\",\"\"))))))))","v":""},{"$f":"IF('Simplified Loader'!P47=\"English\",\"English\",IF('Simplified Loader'!P47=\"French\",\"French\",IF('Simplified Loader'!P47=\"E\",\"English\",IF('Simplified Loader'!P47=\"F\",\"French\",\"\"))))","v":""},{"$f":"IF('Simplified Loader'!Q47=\"Yes\",\"Yes\",IF('Simplified Loader'!Q47=\"No\",\"No\",IF('Simplified Loader'!Q47=\"Y\",\"Yes\",IF('Simplified Loader'!Q47=\"N\",\"No\",\"\"))))","v":""},{"$f":"IF('Simplified Loader'!R47>0,'Simplified Loader'!R47,\"\")","v":""},{"$f":"IF('Simplified Loader'!S47>0,'Simplified Loader'!S47,\"\")","v":""},{"$f":"IF('Simplified Loader'!T47>0,'Simplified Loader'!T47,\"\")","v":""},{"$f":"IF('Simplified Loader'!U47>0,'Simplified Loader'!U47,\"\")","v":""},{"$f":"IF('Simplified Loader'!V47=\"Waive\",\"Yes\",\"\")","v":""},{"$f":"IF('Simplified Loader'!W47=\"Waive\",\"Yes\",\"\")","v":""},{"$f":"IF('Simplified Loader'!X47>0,'Simplified Loader'!X47,\"\")","v":""},{"$f":"IF('Simplified Loader'!Y47>0,'Simplified Loader'!Y47,\"\")","v":""},{"$f":"IF('Simplified Loader'!Z47>0,'Simplified Loader'!Z47,\"\")","v":""},{"$f":"IF('Simplified Loader'!AA47>0,'Simplified Loader'!AA47,\"\")","v":""},{"$f":"IF('Simplified Loader'!AB47>0,'Simplified Loader'!AB47,\"\")","v":""},{"$f":"IF('Simplified Loader'!AC47>0,'Simplified Loader'!AC47,\"\")","v":" "},{"$f":"IF('Simplified Loader'!AE47>0,'Simplified Loader'!AE47&\" \",\"\")&IF('Simplified Loader'!AD47>0,'Simplified Loader'!AD47,\"\")","v":""},null,{"$f":"IF('Simplified Loader'!AF47>0,'Simplified Loader'!AF47,\"\")","v":""},{"$f":"IF('Simplified Loader'!AG47>0,'Simplified Loader'!AG47,\"\")","v":""},{"$f":"IF('Simplified Loader'!AH47>0,'Simplified Loader'!AH47,\"\")","v":""},{"$f":"IF('Simplified Loader'!AI47>0,'Simplified Loader'!AI47,\"\")","v":""},{"$f":"IF('Simplified Loader'!AJ47>0,'Simplified Loader'!AJ47,\"\")","v":""},{"$f":"IF('Simplified Loader'!AK47>0,'Simplified Loader'!AK47,\"\")","v":""},{"$f":"IF('Simplified Loader'!AL47>0,'Simplified Loader'!AL47,\"\")","v":""},{"$f":"IF('Simplified Loader'!AM47>0,'Simplified Loader'!AM47,\"\")","v":""},{"$f":"IF('Simplified Loader'!AN47=\"Male\",\"Male\",IF('Simplified Loader'!AN47=\"Female\",\"Female\",IF('Simplified Loader'!AN47=\"M\",\"Male\",IF('Simplified Loader'!AN47=\"F\",\"Female\",\"\"))))","v":""},{"$f":"IF('Simplified Loader'!AO47=\"Single\",\"Single\",IF('Simplified Loader'!AO47=\"Family\",\"Family\",IF('Simplified Loader'!AO47=\"S\",\"Single\",IF('Simplified Loader'!AO47=\"F\",\"Family\",\"\"))))","v":""},{"$f":"IF('Simplified Loader'!AP47=\"Single\",\"Single\",IF('Simplified Loader'!AP47=\"Family\",\"Family\",IF('Simplified Loader'!AP47=\"S\",\"Single\",IF('Simplified Loader'!AP47=\"F\",\"Family\",\"\"))))","v":""},{"$f":"IF('Simplified Loader'!AQ47>0,'Simplified Loader'!AQ47,\"\")","v":""},{"$f":"IF('Simplified Loader'!AR47=\"Yes\",\"Yes\",IF('Simplified Loader'!AR47=\"No\",\"No\",IF('Simplified Loader'!AR47=\"Y\",\"Yes\",IF('Simplified Loader'!AR47=\"N\",\"No\",\"\"))))","v":""},{"$f":"IF('Simplified Loader'!AS47>0,'Simplified Loader'!AS47,\"\")","v":""},{"$f":"IF('Simplified Loader'!AT47>0,'Simplified Loader'!AT47,\"\")","v":""},{"$f":"IF('Simplified Loader'!AU47>0,'Simplified Loader'!AU47,\"\")","v":""},{"$f":"IF('Simplified Loader'!AV47=\"Male\",\"Male\",IF('Simplified Loader'!AV47=\"Female\",\"Female\",IF('Simplified Loader'!AV47=\"M\",\"Male\",IF('Simplified Loader'!AV47=\"F\",\"Female\",\"\"))))","v":""},{"$f":"IF('Simplified Loader'!AW47=\"Yes\",\"Yes\",IF('Simplified Loader'!AW47=\"No\",\"No\",IF('Simplified Loader'!AW47=\"Y\",\"Yes\",IF('Simplified Loader'!AW47=\"N\",\"No\",\"\"))))","v":""},{"$f":"IF('Simplified Loader'!AX47=\"Yes\",\"Yes\",IF('Simplified Loader'!AX47=\"No\",\"No\",IF('Simplified Loader'!AX47=\"Y\",\"Yes\",IF('Simplified Loader'!AX47=\"N\",\"No\",\"\"))))","v":""},{"$f":"IF('Simplified Loader'!AY47>0,'Simplified Loader'!AY47,\"\")","v":""},{"$f":"IF('Simplified Loader'!AZ47>0,'Simplified Loader'!AZ47,\"\")","v":""},{"$f":"IF('Simplified Loader'!BA47>0,'Simplified Loader'!BA47,\"\")","v":""},{"$f":"IF('Simplified Loader'!BB47=\"Male\",\"Male\",IF('Simplified Loader'!BB47=\"Female\",\"Female\",IF('Simplified Loader'!BB47=\"M\",\"Male\",IF('Simplified Loader'!BB47=\"F\",\"Female\",\"\"))))","v":""},{"$f":"IF('Simplified Loader'!BC47=\"Yes\",\"Yes\",IF('Simplified Loader'!BC47=\"No\",\"No\",IF('Simplified Loader'!BC47=\"Y\",\"Yes\",IF('Simplified Loader'!BC47=\"N\",\"No\",\"\"))))","v":""},{"$f":"IF('Simplified Loader'!BD47=\"Yes\",\"Yes\",IF('Simplified Loader'!BD47=\"No\",\"No\",IF('Simplified Loader'!BD47=\"Y\",\"Yes\",IF('Simplified Loader'!BD47=\"N\",\"No\",\"\"))))","v":""},{"$f":"IF('Simplified Loader'!BE47>0,'Simplified Loader'!BE47,\"\")","v":""},{"$f":"IF('Simplified Loader'!BF47>0,'Simplified Loader'!BF47,\"\")","v":""},{"$f":"IF('Simplified Loader'!BG47>0,'Simplified Loader'!BG47,\"\")","v":""},{"$f":"IF('Simplified Loader'!BH47=\"Male\",\"Male\",IF('Simplified Loader'!BH47=\"Female\",\"Female\",IF('Simplified Loader'!BH47=\"M\",\"Male\",IF('Simplified Loader'!BH47=\"F\",\"Female\",\"\"))))","v":""},{"$f":"IF('Simplified Loader'!BI47=\"Yes\",\"Yes\",IF('Simplified Loader'!BI47=\"No\",\"No\",IF('Simplified Loader'!BI47=\"Y\",\"Yes\",IF('Simplified Loader'!BI47=\"N\",\"No\",\"\"))))","v":""},{"$f":"IF('Simplified Loader'!BJ47=\"Yes\",\"Yes\",IF('Simplified Loader'!BJ47=\"No\",\"No\",IF('Simplified Loader'!BJ47=\"Y\",\"Yes\",IF('Simplified Loader'!BJ47=\"N\",\"No\",\"\"))))","v":""},{"$f":"IF('Simplified Loader'!BK47>0,'Simplified Loader'!BK47,\"\")","v":""},{"$f":"IF('Simplified Loader'!BL47>0,'Simplified Loader'!BL47,\"\")","v":""},{"$f":"IF('Simplified Loader'!BM47>0,'Simplified Loader'!BM47,\"\")","v":""},{"$f":"IF('Simplified Loader'!BN47=\"Male\",\"Male\",IF('Simplified Loader'!BN47=\"Female\",\"Female\",IF('Simplified Loader'!BN47=\"M\",\"Male\",IF('Simplified Loader'!BN47=\"F\",\"Female\",\"\"))))","v":""},{"$f":"IF('Simplified Loader'!BO47=\"Yes\",\"Yes\",IF('Simplified Loader'!BO47=\"No\",\"No\",IF('Simplified Loader'!BO47=\"Y\",\"Yes\",IF('Simplified Loader'!BO47=\"N\",\"No\",\"\"))))","v":""},{"$f":"IF('Simplified Loader'!BP47=\"Yes\",\"Yes\",IF('Simplified Loader'!BP47=\"No\",\"No\",IF('Simplified Loader'!BP47=\"Y\",\"Yes\",IF('Simplified Loader'!BP47=\"N\",\"No\",\"\"))))","v":""},{"$f":"IF('Simplified Loader'!BQ47>0,'Simplified Loader'!BQ47,\"\")","v":""},{"$f":"IF('Simplified Loader'!BR47>0,'Simplified Loader'!BR47,\"\")","v":""},{"$f":"IF('Simplified Loader'!BS47>0,'Simplified Loader'!BS47,\"\")","v":""},{"$f":"IF('Simplified Loader'!BT47=\"Male\",\"Male\",IF('Simplified Loader'!BT47=\"Female\",\"Female\",IF('Simplified Loader'!BT47=\"M\",\"Male\",IF('Simplified Loader'!BT47=\"F\",\"Female\",\"\"))))","v":""},{"$f":"IF('Simplified Loader'!BU47=\"Yes\",\"Yes\",IF('Simplified Loader'!BU47=\"No\",\"No\",IF('Simplified Loader'!BU47=\"Y\",\"Yes\",IF('Simplified Loader'!BU47=\"N\",\"No\",\"\"))))","v":""},{"$f":"IF('Simplified Loader'!BV47=\"Yes\",\"Yes\",IF('Simplified Loader'!BV47=\"No\",\"No\",IF('Simplified Loader'!BV47=\"Y\",\"Yes\",IF('Simplified Loader'!BV47=\"N\",\"No\",\"\"))))","v":""},{"$f":"IF('Simplified Loader'!BW47>0,'Simplified Loader'!BW47,\"\")","v":""},{"$f":"IF('Simplified Loader'!BX47>0,'Simplified Loader'!BX47,\"\")","v":""},{"$f":"IF('Simplified Loader'!BY47>0,'Simplified Loader'!BY47,\"\")","v":""},{"$f":"IF('Simplified Loader'!BZ47=\"Male\",\"Male\",IF('Simplified Loader'!BZ47=\"Female\",\"Female\",IF('Simplified Loader'!BZ47=\"M\",\"Male\",IF('Simplified Loader'!BZ47=\"F\",\"Female\",\"\"))))","v":""},{"$f":"IF('Simplified Loader'!CA47=\"Yes\",\"Yes\",IF('Simplified Loader'!CA47=\"No\",\"No\",IF('Simplified Loader'!CA47=\"Y\",\"Yes\",IF('Simplified Loader'!CA47=\"N\",\"No\",\"\"))))","v":""},{"$f":"IF('Simplified Loader'!CB47=\"Yes\",\"Yes\",IF('Simplified Loader'!CB47=\"No\",\"No\",IF('Simplified Loader'!CB47=\"Y\",\"Yes\",IF('Simplified Loader'!CB47=\"N\",\"No\",\"\"))))","v":""},{"$f":"IF('Simplified Loader'!CH47>0,'Simplified Loader'!CH47,\"\")","v":"    "}]
[{"$f":"IF('Simplified Loader'!A48>0,'Simplified Loader'!A48,\"\")","v":""},{"$f":"IF('Simplified Loader'!B48>0,'Simplified Loader'!B48,\"\")","v":""},{"$f":"IF('Simplified Loader'!C48>0,'Simplified Loader'!C48,\"\")","v":""},{"$f":"IF('Simplified Loader'!D48>0,'Simplified Loader'!D48,\"\")","v":""},{"$f":"IF('Simplified Loader'!E48>0,TEXT('Simplified Loader'!E48,\"000\"),\"\")","v":""},{"$f":"IF('Simplified Loader'!F48>0,'Simplified Loader'!F48,\"\")","v":""},{"$f":"IF('Simplified Loader'!G48>0,'Simplified Loader'!G48,\"\")","v":""},{"$f":"IF('Simplified Loader'!I48>0,'Simplified Loader'!I48,\"\")","v":""},{"$f":"IF('Simplified Loader'!J48>0,'Simplified Loader'!J48,\"\")","v":""},{"$f":"IF('Simplified Loader'!K48>0,'Simplified Loader'!K48,\"\")","v":""},{"$f":"IF('Simplified Loader'!L48>0,'Simplified Loader'!L48,\"\")","v":""},{"$f":"IF('Simplified Loader'!M48=\"Male\",\"Male\",IF('Simplified Loader'!M48=\"Female\",\"Female\",IF('Simplified Loader'!M48=\"M\",\"Male\",IF('Simplified Loader'!M48=\"F\",\"Female\",\"\"))))","v":""},{"$f":"IF('Simplified Loader'!N48=\"Yes\",\"Yes\",IF('Simplified Loader'!N48=\"No\",\"No\",IF('Simplified Loader'!N48=\"Y\",\"Yes\",IF('Simplified Loader'!N48=\"N\",\"No\",\"\"))))","v":""},{"$f":"IF('Simplified Loader'!O48=\"No\",\"Single\",IF('Simplified Loader'!O48=\"Yes\",\"Family\",IF('Simplified Loader'!O48=\"N\",\"Single\",IF('Simplified Loader'!O48=\"Y\",\"Family\",IF('Simplified Loader'!O48=\"In-force\",\"Family\",IF('Simplified Loader'!O48=\"In force\",\"Family\",IF('Simplified Loader'!O48=\"Applies\",\"Family\",IF('Simplified Loader'!O48=\"Applicable\",\"Family\",\"\"))))))))","v":""},{"$f":"IF('Simplified Loader'!P48=\"English\",\"English\",IF('Simplified Loader'!P48=\"French\",\"French\",IF('Simplified Loader'!P48=\"E\",\"English\",IF('Simplified Loader'!P48=\"F\",\"French\",\"\"))))","v":""},{"$f":"IF('Simplified Loader'!Q48=\"Yes\",\"Yes\",IF('Simplified Loader'!Q48=\"No\",\"No\",IF('Simplified Loader'!Q48=\"Y\",\"Yes\",IF('Simplified Loader'!Q48=\"N\",\"No\",\"\"))))","v":""},{"$f":"IF('Simplified Loader'!R48>0,'Simplified Loader'!R48,\"\")","v":""},{"$f":"IF('Simplified Loader'!S48>0,'Simplified Loader'!S48,\"\")","v":""},{"$f":"IF('Simplified Loader'!T48>0,'Simplified Loader'!T48,\"\")","v":""},{"$f":"IF('Simplified Loader'!U48>0,'Simplified Loader'!U48,\"\")","v":""},{"$f":"IF('Simplified Loader'!V48=\"Waive\",\"Yes\",\"\")","v":""},{"$f":"IF('Simplified Loader'!W48=\"Waive\",\"Yes\",\"\")","v":""},{"$f":"IF('Simplified Loader'!X48>0,'Simplified Loader'!X48,\"\")","v":""},{"$f":"IF('Simplified Loader'!Y48>0,'Simplified Loader'!Y48,\"\")","v":""},{"$f":"IF('Simplified Loader'!Z48>0,'Simplified Loader'!Z48,\"\")","v":""},{"$f":"IF('Simplified Loader'!AA48>0,'Simplified Loader'!AA48,\"\")","v":""},{"$f":"IF('Simplified Loader'!AB48>0,'Simplified Loader'!AB48,\"\")","v":""},{"$f":"IF('Simplified Loader'!AC48>0,'Simplified Loader'!AC48,\"\")","v":" "},{"$f":"IF('Simplified Loader'!AE48>0,'Simplified Loader'!AE48&\" \",\"\")&IF('Simplified Loader'!AD48>0,'Simplified Loader'!AD48,\"\")","v":""},null,{"$f":"IF('Simplified Loader'!AF48>0,'Simplified Loader'!AF48,\"\")","v":""},{"$f":"IF('Simplified Loader'!AG48>0,'Simplified Loader'!AG48,\"\")","v":""},{"$f":"IF('Simplified Loader'!AH48>0,'Simplified Loader'!AH48,\"\")","v":""},{"$f":"IF('Simplified Loader'!AI48>0,'Simplified Loader'!AI48,\"\")","v":""},{"$f":"IF('Simplified Loader'!AJ48>0,'Simplified Loader'!AJ48,\"\")","v":""},{"$f":"IF('Simplified Loader'!AK48>0,'Simplified Loader'!AK48,\"\")","v":""},{"$f":"IF('Simplified Loader'!AL48>0,'Simplified Loader'!AL48,\"\")","v":""},{"$f":"IF('Simplified Loader'!AM48>0,'Simplified Loader'!AM48,\"\")","v":""},{"$f":"IF('Simplified Loader'!AN48=\"Male\",\"Male\",IF('Simplified Loader'!AN48=\"Female\",\"Female\",IF('Simplified Loader'!AN48=\"M\",\"Male\",IF('Simplified Loader'!AN48=\"F\",\"Female\",\"\"))))","v":""},{"$f":"IF('Simplified Loader'!AO48=\"Single\",\"Single\",IF('Simplified Loader'!AO48=\"Family\",\"Family\",IF('Simplified Loader'!AO48=\"S\",\"Single\",IF('Simplified Loader'!AO48=\"F\",\"Family\",\"\"))))","v":""},{"$f":"IF('Simplified Loader'!AP48=\"Single\",\"Single\",IF('Simplified Loader'!AP48=\"Family\",\"Family\",IF('Simplified Loader'!AP48=\"S\",\"Single\",IF('Simplified Loader'!AP48=\"F\",\"Family\",\"\"))))","v":""},{"$f":"IF('Simplified Loader'!AQ48>0,'Simplified Loader'!AQ48,\"\")","v":""},{"$f":"IF('Simplified Loader'!AR48=\"Yes\",\"Yes\",IF('Simplified Loader'!AR48=\"No\",\"No\",IF('Simplified Loader'!AR48=\"Y\",\"Yes\",IF('Simplified Loader'!AR48=\"N\",\"No\",\"\"))))","v":""},{"$f":"IF('Simplified Loader'!AS48>0,'Simplified Loader'!AS48,\"\")","v":""},{"$f":"IF('Simplified Loader'!AT48>0,'Simplified Loader'!AT48,\"\")","v":""},{"$f":"IF('Simplified Loader'!AU48>0,'Simplified Loader'!AU48,\"\")","v":""},{"$f":"IF('Simplified Loader'!AV48=\"Male\",\"Male\",IF('Simplified Loader'!AV48=\"Female\",\"Female\",IF('Simplified Loader'!AV48=\"M\",\"Male\",IF('Simplified Loader'!AV48=\"F\",\"Female\",\"\"))))","v":""},{"$f":"IF('Simplified Loader'!AW48=\"Yes\",\"Yes\",IF('Simplified Loader'!AW48=\"No\",\"No\",IF('Simplified Loader'!AW48=\"Y\",\"Yes\",IF('Simplified Loader'!AW48=\"N\",\"No\",\"\"))))","v":""},{"$f":"IF('Simplified Loader'!AX48=\"Yes\",\"Yes\",IF('Simplified Loader'!AX48=\"No\",\"No\",IF('Simplified Loader'!AX48=\"Y\",\"Yes\",IF('Simplified Loader'!AX48=\"N\",\"No\",\"\"))))","v":""},{"$f":"IF('Simplified Loader'!AY48>0,'Simplified Loader'!AY48,\"\")","v":""},{"$f":"IF('Simplified Loader'!AZ48>0,'Simplified Loader'!AZ48,\"\")","v":""},{"$f":"IF('Simplified Loader'!BA48>0,'Simplified Loader'!BA48,\"\")","v":""},{"$f":"IF('Simplified Loader'!BB48=\"Male\",\"Male\",IF('Simplified Loader'!BB48=\"Female\",\"Female\",IF('Simplified Loader'!BB48=\"M\",\"Male\",IF('Simplified Loader'!BB48=\"F\",\"Female\",\"\"))))","v":""},{"$f":"IF('Simplified Loader'!BC48=\"Yes\",\"Yes\",IF('Simplified Loader'!BC48=\"No\",\"No\",IF('Simplified Loader'!BC48=\"Y\",\"Yes\",IF('Simplified Loader'!BC48=\"N\",\"No\",\"\"))))","v":""},{"$f":"IF('Simplified Loader'!BD48=\"Yes\",\"Yes\",IF('Simplified Loader'!BD48=\"No\",\"No\",IF('Simplified Loader'!BD48=\"Y\",\"Yes\",IF('Simplified Loader'!BD48=\"N\",\"No\",\"\"))))","v":""},{"$f":"IF('Simplified Loader'!BE48>0,'Simplified Loader'!BE48,\"\")","v":""},{"$f":"IF('Simplified Loader'!BF48>0,'Simplified Loader'!BF48,\"\")","v":""},{"$f":"IF('Simplified Loader'!BG48>0,'Simplified Loader'!BG48,\"\")","v":""},{"$f":"IF('Simplified Loader'!BH48=\"Male\",\"Male\",IF('Simplified Loader'!BH48=\"Female\",\"Female\",IF('Simplified Loader'!BH48=\"M\",\"Male\",IF('Simplified Loader'!BH48=\"F\",\"Female\",\"\"))))","v":""},{"$f":"IF('Simplified Loader'!BI48=\"Yes\",\"Yes\",IF('Simplified Loader'!BI48=\"No\",\"No\",IF('Simplified Loader'!BI48=\"Y\",\"Yes\",IF('Simplified Loader'!BI48=\"N\",\"No\",\"\"))))","v":""},{"$f":"IF('Simplified Loader'!BJ48=\"Yes\",\"Yes\",IF('Simplified Loader'!BJ48=\"No\",\"No\",IF('Simplified Loader'!BJ48=\"Y\",\"Yes\",IF('Simplified Loader'!BJ48=\"N\",\"No\",\"\"))))","v":""},{"$f":"IF('Simplified Loader'!BK48>0,'Simplified Loader'!BK48,\"\")","v":""},{"$f":"IF('Simplified Loader'!BL48>0,'Simplified Loader'!BL48,\"\")","v":""},{"$f":"IF('Simplified Loader'!BM48>0,'Simplified Loader'!BM48,\"\")","v":""},{"$f":"IF('Simplified Loader'!BN48=\"Male\",\"Male\",IF('Simplified Loader'!BN48=\"Female\",\"Female\",IF('Simplified Loader'!BN48=\"M\",\"Male\",IF('Simplified Loader'!BN48=\"F\",\"Female\",\"\"))))","v":""},{"$f":"IF('Simplified Loader'!BO48=\"Yes\",\"Yes\",IF('Simplified Loader'!BO48=\"No\",\"No\",IF('Simplified Loader'!BO48=\"Y\",\"Yes\",IF('Simplified Loader'!BO48=\"N\",\"No\",\"\"))))","v":""},{"$f":"IF('Simplified Loader'!BP48=\"Yes\",\"Yes\",IF('Simplified Loader'!BP48=\"No\",\"No\",IF('Simplified Loader'!BP48=\"Y\",\"Yes\",IF('Simplified Loader'!BP48=\"N\",\"No\",\"\"))))","v":""},{"$f":"IF('Simplified Loader'!BQ48>0,'Simplified Loader'!BQ48,\"\")","v":""},{"$f":"IF('Simplified Loader'!BR48>0,'Simplified Loader'!BR48,\"\")","v":""},{"$f":"IF('Simplified Loader'!BS48>0,'Simplified Loader'!BS48,\"\")","v":""},{"$f":"IF('Simplified Loader'!BT48=\"Male\",\"Male\",IF('Simplified Loader'!BT48=\"Female\",\"Female\",IF('Simplified Loader'!BT48=\"M\",\"Male\",IF('Simplified Loader'!BT48=\"F\",\"Female\",\"\"))))","v":""},{"$f":"IF('Simplified Loader'!BU48=\"Yes\",\"Yes\",IF('Simplified Loader'!BU48=\"No\",\"No\",IF('Simplified Loader'!BU48=\"Y\",\"Yes\",IF('Simplified Loader'!BU48=\"N\",\"No\",\"\"))))","v":""},{"$f":"IF('Simplified Loader'!BV48=\"Yes\",\"Yes\",IF('Simplified Loader'!BV48=\"No\",\"No\",IF('Simplified Loader'!BV48=\"Y\",\"Yes\",IF('Simplified Loader'!BV48=\"N\",\"No\",\"\"))))","v":""},{"$f":"IF('Simplified Loader'!BW48>0,'Simplified Loader'!BW48,\"\")","v":""},{"$f":"IF('Simplified Loader'!BX48>0,'Simplified Loader'!BX48,\"\")","v":""},{"$f":"IF('Simplified Loader'!BY48>0,'Simplified Loader'!BY48,\"\")","v":""},{"$f":"IF('Simplified Loader'!BZ48=\"Male\",\"Male\",IF('Simplified Loader'!BZ48=\"Female\",\"Female\",IF('Simplified Loader'!BZ48=\"M\",\"Male\",IF('Simplified Loader'!BZ48=\"F\",\"Female\",\"\"))))","v":""},{"$f":"IF('Simplified Loader'!CA48=\"Yes\",\"Yes\",IF('Simplified Loader'!CA48=\"No\",\"No\",IF('Simplified Loader'!CA48=\"Y\",\"Yes\",IF('Simplified Loader'!CA48=\"N\",\"No\",\"\"))))","v":""},{"$f":"IF('Simplified Loader'!CB48=\"Yes\",\"Yes\",IF('Simplified Loader'!CB48=\"No\",\"No\",IF('Simplified Loader'!CB48=\"Y\",\"Yes\",IF('Simplified Loader'!CB48=\"N\",\"No\",\"\"))))","v":""},{"$f":"IF('Simplified Loader'!CH48>0,'Simplified Loader'!CH48,\"\")","v":"    "}]
[{"$f":"IF('Simplified Loader'!A49>0,'Simplified Loader'!A49,\"\")","v":""},{"$f":"IF('Simplified Loader'!B49>0,'Simplified Loader'!B49,\"\")","v":""},{"$f":"IF('Simplified Loader'!C49>0,'Simplified Loader'!C49,\"\")","v":""},{"$f":"IF('Simplified Loader'!D49>0,'Simplified Loader'!D49,\"\")","v":""},{"$f":"IF('Simplified Loader'!E49>0,TEXT('Simplified Loader'!E49,\"000\"),\"\")","v":""},{"$f":"IF('Simplified Loader'!F49>0,'Simplified Loader'!F49,\"\")","v":""},{"$f":"IF('Simplified Loader'!G49>0,'Simplified Loader'!G49,\"\")","v":""},{"$f":"IF('Simplified Loader'!I49>0,'Simplified Loader'!I49,\"\")","v":""},{"$f":"IF('Simplified Loader'!J49>0,'Simplified Loader'!J49,\"\")","v":""},{"$f":"IF('Simplified Loader'!K49>0,'Simplified Loader'!K49,\"\")","v":""},{"$f":"IF('Simplified Loader'!L49>0,'Simplified Loader'!L49,\"\")","v":""},{"$f":"IF('Simplified Loader'!M49=\"Male\",\"Male\",IF('Simplified Loader'!M49=\"Female\",\"Female\",IF('Simplified Loader'!M49=\"M\",\"Male\",IF('Simplified Loader'!M49=\"F\",\"Female\",\"\"))))","v":""},{"$f":"IF('Simplified Loader'!N49=\"Yes\",\"Yes\",IF('Simplified Loader'!N49=\"No\",\"No\",IF('Simplified Loader'!N49=\"Y\",\"Yes\",IF('Simplified Loader'!N49=\"N\",\"No\",\"\"))))","v":""},{"$f":"IF('Simplified Loader'!O49=\"No\",\"Single\",IF('Simplified Loader'!O49=\"Yes\",\"Family\",IF('Simplified Loader'!O49=\"N\",\"Single\",IF('Simplified Loader'!O49=\"Y\",\"Family\",IF('Simplified Loader'!O49=\"In-force\",\"Family\",IF('Simplified Loader'!O49=\"In force\",\"Family\",IF('Simplified Loader'!O49=\"Applies\",\"Family\",IF('Simplified Loader'!O49=\"Applicable\",\"Family\",\"\"))))))))","v":""},{"$f":"IF('Simplified Loader'!P49=\"English\",\"English\",IF('Simplified Loader'!P49=\"French\",\"French\",IF('Simplified Loader'!P49=\"E\",\"English\",IF('Simplified Loader'!P49=\"F\",\"French\",\"\"))))","v":""},{"$f":"IF('Simplified Loader'!Q49=\"Yes\",\"Yes\",IF('Simplified Loader'!Q49=\"No\",\"No\",IF('Simplified Loader'!Q49=\"Y\",\"Yes\",IF('Simplified Loader'!Q49=\"N\",\"No\",\"\"))))","v":""},{"$f":"IF('Simplified Loader'!R49>0,'Simplified Loader'!R49,\"\")","v":""},{"$f":"IF('Simplified Loader'!S49>0,'Simplified Loader'!S49,\"\")","v":""},{"$f":"IF('Simplified Loader'!T49>0,'Simplified Loader'!T49,\"\")","v":""},{"$f":"IF('Simplified Loader'!U49>0,'Simplified Loader'!U49,\"\")","v":""},{"$f":"IF('Simplified Loader'!V49=\"Waive\",\"Yes\",\"\")","v":""},{"$f":"IF('Simplified Loader'!W49=\"Waive\",\"Yes\",\"\")","v":""},{"$f":"IF('Simplified Loader'!X49>0,'Simplified Loader'!X49,\"\")","v":""},{"$f":"IF('Simplified Loader'!Y49>0,'Simplified Loader'!Y49,\"\")","v":""},{"$f":"IF('Simplified Loader'!Z49>0,'Simplified Loader'!Z49,\"\")","v":""},{"$f":"IF('Simplified Loader'!AA49>0,'Simplified Loader'!AA49,\"\")","v":""},{"$f":"IF('Simplified Loader'!AB49>0,'Simplified Loader'!AB49,\"\")","v":""},{"$f":"IF('Simplified Loader'!AC49>0,'Simplified Loader'!AC49,\"\")","v":" "},{"$f":"IF('Simplified Loader'!AE49>0,'Simplified Loader'!AE49&\" \",\"\")&IF('Simplified Loader'!AD49>0,'Simplified Loader'!AD49,\"\")","v":""},null,{"$f":"IF('Simplified Loader'!AF49>0,'Simplified Loader'!AF49,\"\")","v":""},{"$f":"IF('Simplified Loader'!AG49>0,'Simplified Loader'!AG49,\"\")","v":""},{"$f":"IF('Simplified Loader'!AH49>0,'Simplified Loader'!AH49,\"\")","v":""},{"$f":"IF('Simplified Loader'!AI49>0,'Simplified Loader'!AI49,\"\")","v":""},{"$f":"IF('Simplified Loader'!AJ49>0,'Simplified Loader'!AJ49,\"\")","v":""},{"$f":"IF('Simplified Loader'!AK49>0,'Simplified Loader'!AK49,\"\")","v":""},{"$f":"IF('Simplified Loader'!AL49>0,'Simplified Loader'!AL49,\"\")","v":""},{"$f":"IF('Simplified Loader'!AM49>0,'Simplified Loader'!AM49,\"\")","v":""},{"$f":"IF('Simplified Loader'!AN49=\"Male\",\"Male\",IF('Simplified Loader'!AN49=\"Female\",\"Female\",IF('Simplified Loader'!AN49=\"M\",\"Male\",IF('Simplified Loader'!AN49=\"F\",\"Female\",\"\"))))","v":""},{"$f":"IF('Simplified Loader'!AO49=\"Single\",\"Single\",IF('Simplified Loader'!AO49=\"Family\",\"Family\",IF('Simplified Loader'!AO49=\"S\",\"Single\",IF('Simplified Loader'!AO49=\"F\",\"Family\",\"\"))))","v":""},{"$f":"IF('Simplified Loader'!AP49=\"Single\",\"Single\",IF('Simplified Loader'!AP49=\"Family\",\"Family\",IF('Simplified Loader'!AP49=\"S\",\"Single\",IF('Simplified Loader'!AP49=\"F\",\"Family\",\"\"))))","v":""},{"$f":"IF('Simplified Loader'!AQ49>0,'Simplified Loader'!AQ49,\"\")","v":""},{"$f":"IF('Simplified Loader'!AR49=\"Yes\",\"Yes\",IF('Simplified Loader'!AR49=\"No\",\"No\",IF('Simplified Loader'!AR49=\"Y\",\"Yes\",IF('Simplified Loader'!AR49=\"N\",\"No\",\"\"))))","v":""},{"$f":"IF('Simplified Loader'!AS49>0,'Simplified Loader'!AS49,\"\")","v":""},{"$f":"IF('Simplified Loader'!AT49>0,'Simplified Loader'!AT49,\"\")","v":""},{"$f":"IF('Simplified Loader'!AU49>0,'Simplified Loader'!AU49,\"\")","v":""},{"$f":"IF('Simplified Loader'!AV49=\"Male\",\"Male\",IF('Simplified Loader'!AV49=\"Female\",\"Female\",IF('Simplified Loader'!AV49=\"M\",\"Male\",IF('Simplified Loader'!AV49=\"F\",\"Female\",\"\"))))","v":""},{"$f":"IF('Simplified Loader'!AW49=\"Yes\",\"Yes\",IF('Simplified Loader'!AW49=\"No\",\"No\",IF('Simplified Loader'!AW49=\"Y\",\"Yes\",IF('Simplified Loader'!AW49=\"N\",\"No\",\"\"))))","v":""},{"$f":"IF('Simplified Loader'!AX49=\"Yes\",\"Yes\",IF('Simplified Loader'!AX49=\"No\",\"No\",IF('Simplified Loader'!AX49=\"Y\",\"Yes\",IF('Simplified Loader'!AX49=\"N\",\"No\",\"\"))))","v":""},{"$f":"IF('Simplified Loader'!AY49>0,'Simplified Loader'!AY49,\"\")","v":""},{"$f":"IF('Simplified Loader'!AZ49>0,'Simplified Loader'!AZ49,\"\")","v":""},{"$f":"IF('Simplified Loader'!BA49>0,'Simplified Loader'!BA49,\"\")","v":""},{"$f":"IF('Simplified Loader'!BB49=\"Male\",\"Male\",IF('Simplified Loader'!BB49=\"Female\",\"Female\",IF('Simplified Loader'!BB49=\"M\",\"Male\",IF('Simplified Loader'!BB49=\"F\",\"Female\",\"\"))))","v":""},{"$f":"IF('Simplified Loader'!BC49=\"Yes\",\"Yes\",IF('Simplified Loader'!BC49=\"No\",\"No\",IF('Simplified Loader'!BC49=\"Y\",\"Yes\",IF('Simplified Loader'!BC49=\"N\",\"No\",\"\"))))","v":""},{"$f":"IF('Simplified Loader'!BD49=\"Yes\",\"Yes\",IF('Simplified Loader'!BD49=\"No\",\"No\",IF('Simplified Loader'!BD49=\"Y\",\"Yes\",IF('Simplified Loader'!BD49=\"N\",\"No\",\"\"))))","v":""},{"$f":"IF('Simplified Loader'!BE49>0,'Simplified Loader'!BE49,\"\")","v":""},{"$f":"IF('Simplified Loader'!BF49>0,'Simplified Loader'!BF49,\"\")","v":""},{"$f":"IF('Simplified Loader'!BG49>0,'Simplified Loader'!BG49,\"\")","v":""},{"$f":"IF('Simplified Loader'!BH49=\"Male\",\"Male\",IF('Simplified Loader'!BH49=\"Female\",\"Female\",IF('Simplified Loader'!BH49=\"M\",\"Male\",IF('Simplified Loader'!BH49=\"F\",\"Female\",\"\"))))","v":""},{"$f":"IF('Simplified Loader'!BI49=\"Yes\",\"Yes\",IF('Simplified Loader'!BI49=\"No\",\"No\",IF('Simplified Loader'!BI49=\"Y\",\"Yes\",IF('Simplified Loader'!BI49=\"N\",\"No\",\"\"))))","v":""},{"$f":"IF('Simplified Loader'!BJ49=\"Yes\",\"Yes\",IF('Simplified Loader'!BJ49=\"No\",\"No\",IF('Simplified Loader'!BJ49=\"Y\",\"Yes\",IF('Simplified Loader'!BJ49=\"N\",\"No\",\"\"))))","v":""},{"$f":"IF('Simplified Loader'!BK49>0,'Simplified Loader'!BK49,\"\")","v":""},{"$f":"IF('Simplified Loader'!BL49>0,'Simplified Loader'!BL49,\"\")","v":""},{"$f":"IF('Simplified Loader'!BM49>0,'Simplified Loader'!BM49,\"\")","v":""},{"$f":"IF('Simplified Loader'!BN49=\"Male\",\"Male\",IF('Simplified Loader'!BN49=\"Female\",\"Female\",IF('Simplified Loader'!BN49=\"M\",\"Male\",IF('Simplified Loader'!BN49=\"F\",\"Female\",\"\"))))","v":""},{"$f":"IF('Simplified Loader'!BO49=\"Yes\",\"Yes\",IF('Simplified Loader'!BO49=\"No\",\"No\",IF('Simplified Loader'!BO49=\"Y\",\"Yes\",IF('Simplified Loader'!BO49=\"N\",\"No\",\"\"))))","v":""},{"$f":"IF('Simplified Loader'!BP49=\"Yes\",\"Yes\",IF('Simplified Loader'!BP49=\"No\",\"No\",IF('Simplified Loader'!BP49=\"Y\",\"Yes\",IF('Simplified Loader'!BP49=\"N\",\"No\",\"\"))))","v":""},{"$f":"IF('Simplified Loader'!BQ49>0,'Simplified Loader'!BQ49,\"\")","v":""},{"$f":"IF('Simplified Loader'!BR49>0,'Simplified Loader'!BR49,\"\")","v":""},{"$f":"IF('Simplified Loader'!BS49>0,'Simplified Loader'!BS49,\"\")","v":""},{"$f":"IF('Simplified Loader'!BT49=\"Male\",\"Male\",IF('Simplified Loader'!BT49=\"Female\",\"Female\",IF('Simplified Loader'!BT49=\"M\",\"Male\",IF('Simplified Loader'!BT49=\"F\",\"Female\",\"\"))))","v":""},{"$f":"IF('Simplified Loader'!BU49=\"Yes\",\"Yes\",IF('Simplified Loader'!BU49=\"No\",\"No\",IF('Simplified Loader'!BU49=\"Y\",\"Yes\",IF('Simplified Loader'!BU49=\"N\",\"No\",\"\"))))","v":""},{"$f":"IF('Simplified Loader'!BV49=\"Yes\",\"Yes\",IF('Simplified Loader'!BV49=\"No\",\"No\",IF('Simplified Loader'!BV49=\"Y\",\"Yes\",IF('Simplified Loader'!BV49=\"N\",\"No\",\"\"))))","v":""},{"$f":"IF('Simplified Loader'!BW49>0,'Simplified Loader'!BW49,\"\")","v":""},{"$f":"IF('Simplified Loader'!BX49>0,'Simplified Loader'!BX49,\"\")","v":""},{"$f":"IF('Simplified Loader'!BY49>0,'Simplified Loader'!BY49,\"\")","v":""},{"$f":"IF('Simplified Loader'!BZ49=\"Male\",\"Male\",IF('Simplified Loader'!BZ49=\"Female\",\"Female\",IF('Simplified Loader'!BZ49=\"M\",\"Male\",IF('Simplified Loader'!BZ49=\"F\",\"Female\",\"\"))))","v":""},{"$f":"IF('Simplified Loader'!CA49=\"Yes\",\"Yes\",IF('Simplified Loader'!CA49=\"No\",\"No\",IF('Simplified Loader'!CA49=\"Y\",\"Yes\",IF('Simplified Loader'!CA49=\"N\",\"No\",\"\"))))","v":""},{"$f":"IF('Simplified Loader'!CB49=\"Yes\",\"Yes\",IF('Simplified Loader'!CB49=\"No\",\"No\",IF('Simplified Loader'!CB49=\"Y\",\"Yes\",IF('Simplified Loader'!CB49=\"N\",\"No\",\"\"))))","v":""},{"$f":"IF('Simplified Loader'!CH49>0,'Simplified Loader'!CH49,\"\")","v":"    "}]
[{"$f":"IF('Simplified Loader'!A50>0,'Simplified Loader'!A50,\"\")","v":""},{"$f":"IF('Simplified Loader'!B50>0,'Simplified Loader'!B50,\"\")","v":""},{"$f":"IF('Simplified Loader'!C50>0,'Simplified Loader'!C50,\"\")","v":""},{"$f":"IF('Simplified Loader'!D50>0,'Simplified Loader'!D50,\"\")","v":""},{"$f":"IF('Simplified Loader'!E50>0,TEXT('Simplified Loader'!E50,\"000\"),\"\")","v":""},{"$f":"IF('Simplified Loader'!F50>0,'Simplified Loader'!F50,\"\")","v":""},{"$f":"IF('Simplified Loader'!G50>0,'Simplified Loader'!G50,\"\")","v":""},{"$f":"IF('Simplified Loader'!I50>0,'Simplified Loader'!I50,\"\")","v":""},{"$f":"IF('Simplified Loader'!J50>0,'Simplified Loader'!J50,\"\")","v":""},{"$f":"IF('Simplified Loader'!K50>0,'Simplified Loader'!K50,\"\")","v":""},{"$f":"IF('Simplified Loader'!L50>0,'Simplified Loader'!L50,\"\")","v":""},{"$f":"IF('Simplified Loader'!M50=\"Male\",\"Male\",IF('Simplified Loader'!M50=\"Female\",\"Female\",IF('Simplified Loader'!M50=\"M\",\"Male\",IF('Simplified Loader'!M50=\"F\",\"Female\",\"\"))))","v":""},{"$f":"IF('Simplified Loader'!N50=\"Yes\",\"Yes\",IF('Simplified Loader'!N50=\"No\",\"No\",IF('Simplified Loader'!N50=\"Y\",\"Yes\",IF('Simplified Loader'!N50=\"N\",\"No\",\"\"))))","v":""},{"$f":"IF('Simplified Loader'!O50=\"No\",\"Single\",IF('Simplified Loader'!O50=\"Yes\",\"Family\",IF('Simplified Loader'!O50=\"N\",\"Single\",IF('Simplified Loader'!O50=\"Y\",\"Family\",IF('Simplified Loader'!O50=\"In-force\",\"Family\",IF('Simplified Loader'!O50=\"In force\",\"Family\",IF('Simplified Loader'!O50=\"Applies\",\"Family\",IF('Simplified Loader'!O50=\"Applicable\",\"Family\",\"\"))))))))","v":""},{"$f":"IF('Simplified Loader'!P50=\"English\",\"English\",IF('Simplified Loader'!P50=\"French\",\"French\",IF('Simplified Loader'!P50=\"E\",\"English\",IF('Simplified Loader'!P50=\"F\",\"French\",\"\"))))","v":""},{"$f":"IF('Simplified Loader'!Q50=\"Yes\",\"Yes\",IF('Simplified Loader'!Q50=\"No\",\"No\",IF('Simplified Loader'!Q50=\"Y\",\"Yes\",IF('Simplified Loader'!Q50=\"N\",\"No\",\"\"))))","v":""},{"$f":"IF('Simplified Loader'!R50>0,'Simplified Loader'!R50,\"\")","v":""},{"$f":"IF('Simplified Loader'!S50>0,'Simplified Loader'!S50,\"\")","v":""},{"$f":"IF('Simplified Loader'!T50>0,'Simplified Loader'!T50,\"\")","v":""},{"$f":"IF('Simplified Loader'!U50>0,'Simplified Loader'!U50,\"\")","v":""},{"$f":"IF('Simplified Loader'!V50=\"Waive\",\"Yes\",\"\")","v":""},{"$f":"IF('Simplified Loader'!W50=\"Waive\",\"Yes\",\"\")","v":""},{"$f":"IF('Simplified Loader'!X50>0,'Simplified Loader'!X50,\"\")","v":""},{"$f":"IF('Simplified Loader'!Y50>0,'Simplified Loader'!Y50,\"\")","v":""},{"$f":"IF('Simplified Loader'!Z50>0,'Simplified Loader'!Z50,\"\")","v":""},{"$f":"IF('Simplified Loader'!AA50>0,'Simplified Loader'!AA50,\"\")","v":""},{"$f":"IF('Simplified Loader'!AB50>0,'Simplified Loader'!AB50,\"\")","v":""},{"$f":"IF('Simplified Loader'!AC50>0,'Simplified Loader'!AC50,\"\")","v":" "},{"$f":"IF('Simplified Loader'!AE50>0,'Simplified Loader'!AE50&\" \",\"\")&IF('Simplified Loader'!AD50>0,'Simplified Loader'!AD50,\"\")","v":""},null,{"$f":"IF('Simplified Loader'!AF50>0,'Simplified Loader'!AF50,\"\")","v":""},{"$f":"IF('Simplified Loader'!AG50>0,'Simplified Loader'!AG50,\"\")","v":""},{"$f":"IF('Simplified Loader'!AH50>0,'Simplified Loader'!AH50,\"\")","v":""},{"$f":"IF('Simplified Loader'!AI50>0,'Simplified Loader'!AI50,\"\")","v":""},{"$f":"IF('Simplified Loader'!AJ50>0,'Simplified Loader'!AJ50,\"\")","v":""},{"$f":"IF('Simplified Loader'!AK50>0,'Simplified Loader'!AK50,\"\")","v":""},{"$f":"IF('Simplified Loader'!AL50>0,'Simplified Loader'!AL50,\"\")","v":""},{"$f":"IF('Simplified Loader'!AM50>0,'Simplified Loader'!AM50,\"\")","v":""},{"$f":"IF('Simplified Loader'!AN50=\"Male\",\"Male\",IF('Simplified Loader'!AN50=\"Female\",\"Female\",IF('Simplified Loader'!AN50=\"M\",\"Male\",IF('Simplified Loader'!AN50=\"F\",\"Female\",\"\"))))","v":""},{"$f":"IF('Simplified Loader'!AO50=\"Single\",\"Single\",IF('Simplified Loader'!AO50=\"Family\",\"Family\",IF('Simplified Loader'!AO50=\"S\",\"Single\",IF('Simplified Loader'!AO50=\"F\",\"Family\",\"\"))))","v":""},{"$f":"IF('Simplified Loader'!AP50=\"Single\",\"Single\",IF('Simplified Loader'!AP50=\"Family\",\"Family\",IF('Simplified Loader'!AP50=\"S\",\"Single\",IF('Simplified Loader'!AP50=\"F\",\"Family\",\"\"))))","v":""},{"$f":"IF('Simplified Loader'!AQ50>0,'Simplified Loader'!AQ50,\"\")","v":""},{"$f":"IF('Simplified Loader'!AR50=\"Yes\",\"Yes\",IF('Simplified Loader'!AR50=\"No\",\"No\",IF('Simplified Loader'!AR50=\"Y\",\"Yes\",IF('Simplified Loader'!AR50=\"N\",\"No\",\"\"))))","v":""},{"$f":"IF('Simplified Loader'!AS50>0,'Simplified Loader'!AS50,\"\")","v":""},{"$f":"IF('Simplified Loader'!AT50>0,'Simplified Loader'!AT50,\"\")","v":""},{"$f":"IF('Simplified Loader'!AU50>0,'Simplified Loader'!AU50,\"\")","v":""},{"$f":"IF('Simplified Loader'!AV50=\"Male\",\"Male\",IF('Simplified Loader'!AV50=\"Female\",\"Female\",IF('Simplified Loader'!AV50=\"M\",\"Male\",IF('Simplified Loader'!AV50=\"F\",\"Female\",\"\"))))","v":""},{"$f":"IF('Simplified Loader'!AW50=\"Yes\",\"Yes\",IF('Simplified Loader'!AW50=\"No\",\"No\",IF('Simplified Loader'!AW50=\"Y\",\"Yes\",IF('Simplified Loader'!AW50=\"N\",\"No\",\"\"))))","v":""},{"$f":"IF('Simplified Loader'!AX50=\"Yes\",\"Yes\",IF('Simplified Loader'!AX50=\"No\",\"No\",IF('Simplified Loader'!AX50=\"Y\",\"Yes\",IF('Simplified Loader'!AX50=\"N\",\"No\",\"\"))))","v":""},{"$f":"IF('Simplified Loader'!AY50>0,'Simplified Loader'!AY50,\"\")","v":""},{"$f":"IF('Simplified Loader'!AZ50>0,'Simplified Loader'!AZ50,\"\")","v":""},{"$f":"IF('Simplified Loader'!BA50>0,'Simplified Loader'!BA50,\"\")","v":""},{"$f":"IF('Simplified Loader'!BB50=\"Male\",\"Male\",IF('Simplified Loader'!BB50=\"Female\",\"Female\",IF('Simplified Loader'!BB50=\"M\",\"Male\",IF('Simplified Loader'!BB50=\"F\",\"Female\",\"\"))))","v":""},{"$f":"IF('Simplified Loader'!BC50=\"Yes\",\"Yes\",IF('Simplified Loader'!BC50=\"No\",\"No\",IF('Simplified Loader'!BC50=\"Y\",\"Yes\",IF('Simplified Loader'!BC50=\"N\",\"No\",\"\"))))","v":""},{"$f":"IF('Simplified Loader'!BD50=\"Yes\",\"Yes\",IF('Simplified Loader'!BD50=\"No\",\"No\",IF('Simplified Loader'!BD50=\"Y\",\"Yes\",IF('Simplified Loader'!BD50=\"N\",\"No\",\"\"))))","v":""},{"$f":"IF('Simplified Loader'!BE50>0,'Simplified Loader'!BE50,\"\")","v":""},{"$f":"IF('Simplified Loader'!BF50>0,'Simplified Loader'!BF50,\"\")","v":""},{"$f":"IF('Simplified Loader'!BG50>0,'Simplified Loader'!BG50,\"\")","v":""},{"$f":"IF('Simplified Loader'!BH50=\"Male\",\"Male\",IF('Simplified Loader'!BH50=\"Female\",\"Female\",IF('Simplified Loader'!BH50=\"M\",\"Male\",IF('Simplified Loader'!BH50=\"F\",\"Female\",\"\"))))","v":""},{"$f":"IF('Simplified Loader'!BI50=\"Yes\",\"Yes\",IF('Simplified Loader'!BI50=\"No\",\"No\",IF('Simplified Loader'!BI50=\"Y\",\"Yes\",IF('Simplified Loader'!BI50=\"N\",\"No\",\"\"))))","v":""},{"$f":"IF('Simplified Loader'!BJ50=\"Yes\",\"Yes\",IF('Simplified Loader'!BJ50=\"No\",\"No\",IF('Simplified Loader'!BJ50=\"Y\",\"Yes\",IF('Simplified Loader'!BJ50=\"N\",\"No\",\"\"))))","v":""},{"$f":"IF('Simplified Loader'!BK50>0,'Simplified Loader'!BK50,\"\")","v":""},{"$f":"IF('Simplified Loader'!BL50>0,'Simplified Loader'!BL50,\"\")","v":""},{"$f":"IF('Simplified Loader'!BM50>0,'Simplified Loader'!BM50,\"\")","v":""},{"$f":"IF('Simplified Loader'!BN50=\"Male\",\"Male\",IF('Simplified Loader'!BN50=\"Female\",\"Female\",IF('Simplified Loader'!BN50=\"M\",\"Male\",IF('Simplified Loader'!BN50=\"F\",\"Female\",\"\"))))","v":""},{"$f":"IF('Simplified Loader'!BO50=\"Yes\",\"Yes\",IF('Simplified Loader'!BO50=\"No\",\"No\",IF('Simplified Loader'!BO50=\"Y\",\"Yes\",IF('Simplified Loader'!BO50=\"N\",\"No\",\"\"))))","v":""},{"$f":"IF('Simplified Loader'!BP50=\"Yes\",\"Yes\",IF('Simplified Loader'!BP50=\"No\",\"No\",IF('Simplified Loader'!BP50=\"Y\",\"Yes\",IF('Simplified Loader'!BP50=\"N\",\"No\",\"\"))))","v":""},{"$f":"IF('Simplified Loader'!BQ50>0,'Simplified Loader'!BQ50,\"\")","v":""},{"$f":"IF('Simplified Loader'!BR50>0,'Simplified Loader'!BR50,\"\")","v":""},{"$f":"IF('Simplified Loader'!BS50>0,'Simplified Loader'!BS50,\"\")","v":""},{"$f":"IF('Simplified Loader'!BT50=\"Male\",\"Male\",IF('Simplified Loader'!BT50=\"Female\",\"Female\",IF('Simplified Loader'!BT50=\"M\",\"Male\",IF('Simplified Loader'!BT50=\"F\",\"Female\",\"\"))))","v":""},{"$f":"IF('Simplified Loader'!BU50=\"Yes\",\"Yes\",IF('Simplified Loader'!BU50=\"No\",\"No\",IF('Simplified Loader'!BU50=\"Y\",\"Yes\",IF('Simplified Loader'!BU50=\"N\",\"No\",\"\"))))","v":""},{"$f":"IF('Simplified Loader'!BV50=\"Yes\",\"Yes\",IF('Simplified Loader'!BV50=\"No\",\"No\",IF('Simplified Loader'!BV50=\"Y\",\"Yes\",IF('Simplified Loader'!BV50=\"N\",\"No\",\"\"))))","v":""},{"$f":"IF('Simplified Loader'!BW50>0,'Simplified Loader'!BW50,\"\")","v":""},{"$f":"IF('Simplified Loader'!BX50>0,'Simplified Loader'!BX50,\"\")","v":""},{"$f":"IF('Simplified Loader'!BY50>0,'Simplified Loader'!BY50,\"\")","v":""},{"$f":"IF('Simplified Loader'!BZ50=\"Male\",\"Male\",IF('Simplified Loader'!BZ50=\"Female\",\"Female\",IF('Simplified Loader'!BZ50=\"M\",\"Male\",IF('Simplified Loader'!BZ50=\"F\",\"Female\",\"\"))))","v":""},{"$f":"IF('Simplified Loader'!CA50=\"Yes\",\"Yes\",IF('Simplified Loader'!CA50=\"No\",\"No\",IF('Simplified Loader'!CA50=\"Y\",\"Yes\",IF('Simplified Loader'!CA50=\"N\",\"No\",\"\"))))","v":""},{"$f":"IF('Simplified Loader'!CB50=\"Yes\",\"Yes\",IF('Simplified Loader'!CB50=\"No\",\"No\",IF('Simplified Loader'!CB50=\"Y\",\"Yes\",IF('Simplified Loader'!CB50=\"N\",\"No\",\"\"))))","v":""},{"$f":"IF('Simplified Loader'!CH50>0,'Simplified Loader'!CH50,\"\")","v":"    "}]
[{"$f":"IF('Simplified Loader'!A51>0,'Simplified Loader'!A51,\"\")","v":""},{"$f":"IF('Simplified Loader'!B51>0,'Simplified Loader'!B51,\"\")","v":""},{"$f":"IF('Simplified Loader'!C51>0,'Simplified Loader'!C51,\"\")","v":""},{"$f":"IF('Simplified Loader'!D51>0,'Simplified Loader'!D51,\"\")","v":""},{"$f":"IF('Simplified Loader'!E51>0,TEXT('Simplified Loader'!E51,\"000\"),\"\")","v":""},{"$f":"IF('Simplified Loader'!F51>0,'Simplified Loader'!F51,\"\")","v":""},{"$f":"IF('Simplified Loader'!G51>0,'Simplified Loader'!G51,\"\")","v":""},{"$f":"IF('Simplified Loader'!I51>0,'Simplified Loader'!I51,\"\")","v":""},{"$f":"IF('Simplified Loader'!J51>0,'Simplified Loader'!J51,\"\")","v":""},{"$f":"IF('Simplified Loader'!K51>0,'Simplified Loader'!K51,\"\")","v":""},{"$f":"IF('Simplified Loader'!L51>0,'Simplified Loader'!L51,\"\")","v":""},{"$f":"IF('Simplified Loader'!M51=\"Male\",\"Male\",IF('Simplified Loader'!M51=\"Female\",\"Female\",IF('Simplified Loader'!M51=\"M\",\"Male\",IF('Simplified Loader'!M51=\"F\",\"Female\",\"\"))))","v":""},{"$f":"IF('Simplified Loader'!N51=\"Yes\",\"Yes\",IF('Simplified Loader'!N51=\"No\",\"No\",IF('Simplified Loader'!N51=\"Y\",\"Yes\",IF('Simplified Loader'!N51=\"N\",\"No\",\"\"))))","v":""},{"$f":"IF('Simplified Loader'!O51=\"No\",\"Single\",IF('Simplified Loader'!O51=\"Yes\",\"Family\",IF('Simplified Loader'!O51=\"N\",\"Single\",IF('Simplified Loader'!O51=\"Y\",\"Family\",IF('Simplified Loader'!O51=\"In-force\",\"Family\",IF('Simplified Loader'!O51=\"In force\",\"Family\",IF('Simplified Loader'!O51=\"Applies\",\"Family\",IF('Simplified Loader'!O51=\"Applicable\",\"Family\",\"\"))))))))","v":""},{"$f":"IF('Simplified Loader'!P51=\"English\",\"English\",IF('Simplified Loader'!P51=\"French\",\"French\",IF('Simplified Loader'!P51=\"E\",\"English\",IF('Simplified Loader'!P51=\"F\",\"French\",\"\"))))","v":""},{"$f":"IF('Simplified Loader'!Q51=\"Yes\",\"Yes\",IF('Simplified Loader'!Q51=\"No\",\"No\",IF('Simplified Loader'!Q51=\"Y\",\"Yes\",IF('Simplified Loader'!Q51=\"N\",\"No\",\"\"))))","v":""},{"$f":"IF('Simplified Loader'!R51>0,'Simplified Loader'!R51,\"\")","v":""},{"$f":"IF('Simplified Loader'!S51>0,'Simplified Loader'!S51,\"\")","v":""},{"$f":"IF('Simplified Loader'!T51>0,'Simplified Loader'!T51,\"\")","v":""},{"$f":"IF('Simplified Loader'!U51>0,'Simplified Loader'!U51,\"\")","v":""},{"$f":"IF('Simplified Loader'!V51=\"Waive\",\"Yes\",\"\")","v":""},{"$f":"IF('Simplified Loader'!W51=\"Waive\",\"Yes\",\"\")","v":""},{"$f":"IF('Simplified Loader'!X51>0,'Simplified Loader'!X51,\"\")","v":""},{"$f":"IF('Simplified Loader'!Y51>0,'Simplified Loader'!Y51,\"\")","v":""},{"$f":"IF('Simplified Loader'!Z51>0,'Simplified Loader'!Z51,\"\")","v":""},{"$f":"IF('Simplified Loader'!AA51>0,'Simplified Loader'!AA51,\"\")","v":""},{"$f":"IF('Simplified Loader'!AB51>0,'Simplified Loader'!AB51,\"\")","v":""},{"$f":"IF('Simplified Loader'!AC51>0,'Simplified Loader'!AC51,\"\")","v":" "},{"$f":"IF('Simplified Loader'!AE51>0,'Simplified Loader'!AE51&\" \",\"\")&IF('Simplified Loader'!AD51>0,'Simplified Loader'!AD51,\"\")","v":""},null,{"$f":"IF('Simplified Loader'!AF51>0,'Simplified Loader'!AF51,\"\")","v":""},{"$f":"IF('Simplified Loader'!AG51>0,'Simplified Loader'!AG51,\"\")","v":""},{"$f":"IF('Simplified Loader'!AH51>0,'Simplified Loader'!AH51,\"\")","v":""},{"$f":"IF('Simplified Loader'!AI51>0,'Simplified Loader'!AI51,\"\")","v":""},{"$f":"IF('Simplified Loader'!AJ51>0,'Simplified Loader'!AJ51,\"\")","v":""},{"$f":"IF('Simplified Loader'!AK51>0,'Simplified Loader'!AK51,\"\")","v":""},{"$f":"IF('Simplified Loader'!AL51>0,'Simplified Loader'!AL51,\"\")","v":""},{"$f":"IF('Simplified Loader'!AM51>0,'Simplified Loader'!AM51,\"\")","v":""},{"$f":"IF('Simplified Loader'!AN51=\"Male\",\"Male\",IF('Simplified Loader'!AN51=\"Female\",\"Female\",IF('Simplified Loader'!AN51=\"M\",\"Male\",IF('Simplified Loader'!AN51=\"F\",\"Female\",\"\"))))","v":""},{"$f":"IF('Simplified Loader'!AO51=\"Single\",\"Single\",IF('Simplified Loader'!AO51=\"Family\",\"Family\",IF('Simplified Loader'!AO51=\"S\",\"Single\",IF('Simplified Loader'!AO51=\"F\",\"Family\",\"\"))))","v":""},{"$f":"IF('Simplified Loader'!AP51=\"Single\",\"Single\",IF('Simplified Loader'!AP51=\"Family\",\"Family\",IF('Simplified Loader'!AP51=\"S\",\"Single\",IF('Simplified Loader'!AP51=\"F\",\"Family\",\"\"))))","v":""},{"$f":"IF('Simplified Loader'!AQ51>0,'Simplified Loader'!AQ51,\"\")","v":""},{"$f":"IF('Simplified Loader'!AR51=\"Yes\",\"Yes\",IF('Simplified Loader'!AR51=\"No\",\"No\",IF('Simplified Loader'!AR51=\"Y\",\"Yes\",IF('Simplified Loader'!AR51=\"N\",\"No\",\"\"))))","v":""},{"$f":"IF('Simplified Loader'!AS51>0,'Simplified Loader'!AS51,\"\")","v":""},{"$f":"IF('Simplified Loader'!AT51>0,'Simplified Loader'!AT51,\"\")","v":""},{"$f":"IF('Simplified Loader'!AU51>0,'Simplified Loader'!AU51,\"\")","v":""},{"$f":"IF('Simplified Loader'!AV51=\"Male\",\"Male\",IF('Simplified Loader'!AV51=\"Female\",\"Female\",IF('Simplified Loader'!AV51=\"M\",\"Male\",IF('Simplified Loader'!AV51=\"F\",\"Female\",\"\"))))","v":""},{"$f":"IF('Simplified Loader'!AW51=\"Yes\",\"Yes\",IF('Simplified Loader'!AW51=\"No\",\"No\",IF('Simplified Loader'!AW51=\"Y\",\"Yes\",IF('Simplified Loader'!AW51=\"N\",\"No\",\"\"))))","v":""},{"$f":"IF('Simplified Loader'!AX51=\"Yes\",\"Yes\",IF('Simplified Loader'!AX51=\"No\",\"No\",IF('Simplified Loader'!AX51=\"Y\",\"Yes\",IF('Simplified Loader'!AX51=\"N\",\"No\",\"\"))))","v":""},{"$f":"IF('Simplified Loader'!AY51>0,'Simplified Loader'!AY51,\"\")","v":""},{"$f":"IF('Simplified Loader'!AZ51>0,'Simplified Loader'!AZ51,\"\")","v":""},{"$f":"IF('Simplified Loader'!BA51>0,'Simplified Loader'!BA51,\"\")","v":""},{"$f":"IF('Simplified Loader'!BB51=\"Male\",\"Male\",IF('Simplified Loader'!BB51=\"Female\",\"Female\",IF('Simplified Loader'!BB51=\"M\",\"Male\",IF('Simplified Loader'!BB51=\"F\",\"Female\",\"\"))))","v":""},{"$f":"IF('Simplified Loader'!BC51=\"Yes\",\"Yes\",IF('Simplified Loader'!BC51=\"No\",\"No\",IF('Simplified Loader'!BC51=\"Y\",\"Yes\",IF('Simplified Loader'!BC51=\"N\",\"No\",\"\"))))","v":""},{"$f":"IF('Simplified Loader'!BD51=\"Yes\",\"Yes\",IF('Simplified Loader'!BD51=\"No\",\"No\",IF('Simplified Loader'!BD51=\"Y\",\"Yes\",IF('Simplified Loader'!BD51=\"N\",\"No\",\"\"))))","v":""},{"$f":"IF('Simplified Loader'!BE51>0,'Simplified Loader'!BE51,\"\")","v":""},{"$f":"IF('Simplified Loader'!BF51>0,'Simplified Loader'!BF51,\"\")","v":""},{"$f":"IF('Simplified Loader'!BG51>0,'Simplified Loader'!BG51,\"\")","v":""},{"$f":"IF('Simplified Loader'!BH51=\"Male\",\"Male\",IF('Simplified Loader'!BH51=\"Female\",\"Female\",IF('Simplified Loader'!BH51=\"M\",\"Male\",IF('Simplified Loader'!BH51=\"F\",\"Female\",\"\"))))","v":""},{"$f":"IF('Simplified Loader'!BI51=\"Yes\",\"Yes\",IF('Simplified Loader'!BI51=\"No\",\"No\",IF('Simplified Loader'!BI51=\"Y\",\"Yes\",IF('Simplified Loader'!BI51=\"N\",\"No\",\"\"))))","v":""},{"$f":"IF('Simplified Loader'!BJ51=\"Yes\",\"Yes\",IF('Simplified Loader'!BJ51=\"No\",\"No\",IF('Simplified Loader'!BJ51=\"Y\",\"Yes\",IF('Simplified Loader'!BJ51=\"N\",\"No\",\"\"))))","v":""},{"$f":"IF('Simplified Loader'!BK51>0,'Simplified Loader'!BK51,\"\")","v":""},{"$f":"IF('Simplified Loader'!BL51>0,'Simplified Loader'!BL51,\"\")","v":""},{"$f":"IF('Simplified Loader'!BM51>0,'Simplified Loader'!BM51,\"\")","v":""},{"$f":"IF('Simplified Loader'!BN51=\"Male\",\"Male\",IF('Simplified Loader'!BN51=\"Female\",\"Female\",IF('Simplified Loader'!BN51=\"M\",\"Male\",IF('Simplified Loader'!BN51=\"F\",\"Female\",\"\"))))","v":""},{"$f":"IF('Simplified Loader'!BO51=\"Yes\",\"Yes\",IF('Simplified Loader'!BO51=\"No\",\"No\",IF('Simplified Loader'!BO51=\"Y\",\"Yes\",IF('Simplified Loader'!BO51=\"N\",\"No\",\"\"))))","v":""},{"$f":"IF('Simplified Loader'!BP51=\"Yes\",\"Yes\",IF('Simplified Loader'!BP51=\"No\",\"No\",IF('Simplified Loader'!BP51=\"Y\",\"Yes\",IF('Simplified Loader'!BP51=\"N\",\"No\",\"\"))))","v":""},{"$f":"IF('Simplified Loader'!BQ51>0,'Simplified Loader'!BQ51,\"\")","v":""},{"$f":"IF('Simplified Loader'!BR51>0,'Simplified Loader'!BR51,\"\")","v":""},{"$f":"IF('Simplified Loader'!BS51>0,'Simplified Loader'!BS51,\"\")","v":""},{"$f":"IF('Simplified Loader'!BT51=\"Male\",\"Male\",IF('Simplified Loader'!BT51=\"Female\",\"Female\",IF('Simplified Loader'!BT51=\"M\",\"Male\",IF('Simplified Loader'!BT51=\"F\",\"Female\",\"\"))))","v":""},{"$f":"IF('Simplified Loader'!BU51=\"Yes\",\"Yes\",IF('Simplified Loader'!BU51=\"No\",\"No\",IF('Simplified Loader'!BU51=\"Y\",\"Yes\",IF('Simplified Loader'!BU51=\"N\",\"No\",\"\"))))","v":""},{"$f":"IF('Simplified Loader'!BV51=\"Yes\",\"Yes\",IF('Simplified Loader'!BV51=\"No\",\"No\",IF('Simplified Loader'!BV51=\"Y\",\"Yes\",IF('Simplified Loader'!BV51=\"N\",\"No\",\"\"))))","v":""},{"$f":"IF('Simplified Loader'!BW51>0,'Simplified Loader'!BW51,\"\")","v":""},{"$f":"IF('Simplified Loader'!BX51>0,'Simplified Loader'!BX51,\"\")","v":""},{"$f":"IF('Simplified Loader'!BY51>0,'Simplified Loader'!BY51,\"\")","v":""},{"$f":"IF('Simplified Loader'!BZ51=\"Male\",\"Male\",IF('Simplified Loader'!BZ51=\"Female\",\"Female\",IF('Simplified Loader'!BZ51=\"M\",\"Male\",IF('Simplified Loader'!BZ51=\"F\",\"Female\",\"\"))))","v":""},{"$f":"IF('Simplified Loader'!CA51=\"Yes\",\"Yes\",IF('Simplified Loader'!CA51=\"No\",\"No\",IF('Simplified Loader'!CA51=\"Y\",\"Yes\",IF('Simplified Loader'!CA51=\"N\",\"No\",\"\"))))","v":""},{"$f":"IF('Simplified Loader'!CB51=\"Yes\",\"Yes\",IF('Simplified Loader'!CB51=\"No\",\"No\",IF('Simplified Loader'!CB51=\"Y\",\"Yes\",IF('Simplified Loader'!CB51=\"N\",\"No\",\"\"))))","v":""},{"$f":"IF('Simplified Loader'!CH51>0,'Simplified Loader'!CH51,\"\")","v":"    "}]
[{"$f":"IF('Simplified Loader'!A52>0,'Simplified Loader'!A52,\"\")","v":""},{"$f":"IF('Simplified Loader'!B52>0,'Simplified Loader'!B52,\"\")","v":""},{"$f":"IF('Simplified Loader'!C52>0,'Simplified Loader'!C52,\"\")","v":""},{"$f":"IF('Simplified Loader'!D52>0,'Simplified Loader'!D52,\"\")","v":""},{"$f":"IF('Simplified Loader'!E52>0,TEXT('Simplified Loader'!E52,\"000\"),\"\")","v":""},{"$f":"IF('Simplified Loader'!F52>0,'Simplified Loader'!F52,\"\")","v":""},{"$f":"IF('Simplified Loader'!G52>0,'Simplified Loader'!G52,\"\")","v":""},{"$f":"IF('Simplified Loader'!I52>0,'Simplified Loader'!I52,\"\")","v":""},{"$f":"IF('Simplified Loader'!J52>0,'Simplified Loader'!J52,\"\")","v":""},{"$f":"IF('Simplified Loader'!K52>0,'Simplified Loader'!K52,\"\")","v":""},{"$f":"IF('Simplified Loader'!L52>0,'Simplified Loader'!L52,\"\")","v":""},{"$f":"IF('Simplified Loader'!M52=\"Male\",\"Male\",IF('Simplified Loader'!M52=\"Female\",\"Female\",IF('Simplified Loader'!M52=\"M\",\"Male\",IF('Simplified Loader'!M52=\"F\",\"Female\",\"\"))))","v":""},{"$f":"IF('Simplified Loader'!N52=\"Yes\",\"Yes\",IF('Simplified Loader'!N52=\"No\",\"No\",IF('Simplified Loader'!N52=\"Y\",\"Yes\",IF('Simplified Loader'!N52=\"N\",\"No\",\"\"))))","v":""},{"$f":"IF('Simplified Loader'!O52=\"No\",\"Single\",IF('Simplified Loader'!O52=\"Yes\",\"Family\",IF('Simplified Loader'!O52=\"N\",\"Single\",IF('Simplified Loader'!O52=\"Y\",\"Family\",IF('Simplified Loader'!O52=\"In-force\",\"Family\",IF('Simplified Loader'!O52=\"In force\",\"Family\",IF('Simplified Loader'!O52=\"Applies\",\"Family\",IF('Simplified Loader'!O52=\"Applicable\",\"Family\",\"\"))))))))","v":""},{"$f":"IF('Simplified Loader'!P52=\"English\",\"English\",IF('Simplified Loader'!P52=\"French\",\"French\",IF('Simplified Loader'!P52=\"E\",\"English\",IF('Simplified Loader'!P52=\"F\",\"French\",\"\"))))","v":""},{"$f":"IF('Simplified Loader'!Q52=\"Yes\",\"Yes\",IF('Simplified Loader'!Q52=\"No\",\"No\",IF('Simplified Loader'!Q52=\"Y\",\"Yes\",IF('Simplified Loader'!Q52=\"N\",\"No\",\"\"))))","v":""},{"$f":"IF('Simplified Loader'!R52>0,'Simplified Loader'!R52,\"\")","v":""},{"$f":"IF('Simplified Loader'!S52>0,'Simplified Loader'!S52,\"\")","v":""},{"$f":"IF('Simplified Loader'!T52>0,'Simplified Loader'!T52,\"\")","v":""},{"$f":"IF('Simplified Loader'!U52>0,'Simplified Loader'!U52,\"\")","v":""},{"$f":"IF('Simplified Loader'!V52=\"Waive\",\"Yes\",\"\")","v":""},{"$f":"IF('Simplified Loader'!W52=\"Waive\",\"Yes\",\"\")","v":""},{"$f":"IF('Simplified Loader'!X52>0,'Simplified Loader'!X52,\"\")","v":""},{"$f":"IF('Simplified Loader'!Y52>0,'Simplified Loader'!Y52,\"\")","v":""},{"$f":"IF('Simplified Loader'!Z52>0,'Simplified Loader'!Z52,\"\")","v":""},{"$f":"IF('Simplified Loader'!AA52>0,'Simplified Loader'!AA52,\"\")","v":""},{"$f":"IF('Simplified Loader'!AB52>0,'Simplified Loader'!AB52,\"\")","v":""},{"$f":"IF('Simplified Loader'!AC52>0,'Simplified Loader'!AC52,\"\")","v":" "},{"$f":"IF('Simplified Loader'!AE52>0,'Simplified Loader'!AE52&\" \",\"\")&IF('Simplified Loader'!AD52>0,'Simplified Loader'!AD52,\"\")","v":""},null,{"$f":"IF('Simplified Loader'!AF52>0,'Simplified Loader'!AF52,\"\")","v":""},{"$f":"IF('Simplified Loader'!AG52>0,'Simplified Loader'!AG52,\"\")","v":""},{"$f":"IF('Simplified Loader'!AH52>0,'Simplified Loader'!AH52,\"\")","v":""},{"$f":"IF('Simplified Loader'!AI52>0,'Simplified Loader'!AI52,\"\")","v":""},{"$f":"IF('Simplified Loader'!AJ52>0,'Simplified Loader'!AJ52,\"\")","v":""},{"$f":"IF('Simplified Loader'!AK52>0,'Simplified Loader'!AK52,\"\")","v":""},{"$f":"IF('Simplified Loader'!AL52>0,'Simplified Loader'!AL52,\"\")","v":""},{"$f":"IF('Simplified Loader'!AM52>0,'Simplified Loader'!AM52,\"\")","v":""},{"$f":"IF('Simplified Loader'!AN52=\"Male\",\"Male\",IF('Simplified Loader'!AN52=\"Female\",\"Female\",IF('Simplified Loader'!AN52=\"M\",\"Male\",IF('Simplified Loader'!AN52=\"F\",\"Female\",\"\"))))","v":""},{"$f":"IF('Simplified Loader'!AO52=\"Single\",\"Single\",IF('Simplified Loader'!AO52=\"Family\",\"Family\",IF('Simplified Loader'!AO52=\"S\",\"Single\",IF('Simplified Loader'!AO52=\"F\",\"Family\",\"\"))))","v":""},{"$f":"IF('Simplified Loader'!AP52=\"Single\",\"Single\",IF('Simplified Loader'!AP52=\"Family\",\"Family\",IF('Simplified Loader'!AP52=\"S\",\"Single\",IF('Simplified Loader'!AP52=\"F\",\"Family\",\"\"))))","v":""},{"$f":"IF('Simplified Loader'!AQ52>0,'Simplified Loader'!AQ52,\"\")","v":""},{"$f":"IF('Simplified Loader'!AR52=\"Yes\",\"Yes\",IF('Simplified Loader'!AR52=\"No\",\"No\",IF('Simplified Loader'!AR52=\"Y\",\"Yes\",IF('Simplified Loader'!AR52=\"N\",\"No\",\"\"))))","v":""},{"$f":"IF('Simplified Loader'!AS52>0,'Simplified Loader'!AS52,\"\")","v":""},{"$f":"IF('Simplified Loader'!AT52>0,'Simplified Loader'!AT52,\"\")","v":""},{"$f":"IF('Simplified Loader'!AU52>0,'Simplified Loader'!AU52,\"\")","v":""},{"$f":"IF('Simplified Loader'!AV52=\"Male\",\"Male\",IF('Simplified Loader'!AV52=\"Female\",\"Female\",IF('Simplified Loader'!AV52=\"M\",\"Male\",IF('Simplified Loader'!AV52=\"F\",\"Female\",\"\"))))","v":""},{"$f":"IF('Simplified Loader'!AW52=\"Yes\",\"Yes\",IF('Simplified Loader'!AW52=\"No\",\"No\",IF('Simplified Loader'!AW52=\"Y\",\"Yes\",IF('Simplified Loader'!AW52=\"N\",\"No\",\"\"))))","v":""},{"$f":"IF('Simplified Loader'!AX52=\"Yes\",\"Yes\",IF('Simplified Loader'!AX52=\"No\",\"No\",IF('Simplified Loader'!AX52=\"Y\",\"Yes\",IF('Simplified Loader'!AX52=\"N\",\"No\",\"\"))))","v":""},{"$f":"IF('Simplified Loader'!AY52>0,'Simplified Loader'!AY52,\"\")","v":""},{"$f":"IF('Simplified Loader'!AZ52>0,'Simplified Loader'!AZ52,\"\")","v":""},{"$f":"IF('Simplified Loader'!BA52>0,'Simplified Loader'!BA52,\"\")","v":""},{"$f":"IF('Simplified Loader'!BB52=\"Male\",\"Male\",IF('Simplified Loader'!BB52=\"Female\",\"Female\",IF('Simplified Loader'!BB52=\"M\",\"Male\",IF('Simplified Loader'!BB52=\"F\",\"Female\",\"\"))))","v":""},{"$f":"IF('Simplified Loader'!BC52=\"Yes\",\"Yes\",IF('Simplified Loader'!BC52=\"No\",\"No\",IF('Simplified Loader'!BC52=\"Y\",\"Yes\",IF('Simplified Loader'!BC52=\"N\",\"No\",\"\"))))","v":""},{"$f":"IF('Simplified Loader'!BD52=\"Yes\",\"Yes\",IF('Simplified Loader'!BD52=\"No\",\"No\",IF('Simplified Loader'!BD52=\"Y\",\"Yes\",IF('Simplified Loader'!BD52=\"N\",\"No\",\"\"))))","v":""},{"$f":"IF('Simplified Loader'!BE52>0,'Simplified Loader'!BE52,\"\")","v":""},{"$f":"IF('Simplified Loader'!BF52>0,'Simplified Loader'!BF52,\"\")","v":""},{"$f":"IF('Simplified Loader'!BG52>0,'Simplified Loader'!BG52,\"\")","v":""},{"$f":"IF('Simplified Loader'!BH52=\"Male\",\"Male\",IF('Simplified Loader'!BH52=\"Female\",\"Female\",IF('Simplified Loader'!BH52=\"M\",\"Male\",IF('Simplified Loader'!BH52=\"F\",\"Female\",\"\"))))","v":""},{"$f":"IF('Simplified Loader'!BI52=\"Yes\",\"Yes\",IF('Simplified Loader'!BI52=\"No\",\"No\",IF('Simplified Loader'!BI52=\"Y\",\"Yes\",IF('Simplified Loader'!BI52=\"N\",\"No\",\"\"))))","v":""},{"$f":"IF('Simplified Loader'!BJ52=\"Yes\",\"Yes\",IF('Simplified Loader'!BJ52=\"No\",\"No\",IF('Simplified Loader'!BJ52=\"Y\",\"Yes\",IF('Simplified Loader'!BJ52=\"N\",\"No\",\"\"))))","v":""},{"$f":"IF('Simplified Loader'!BK52>0,'Simplified Loader'!BK52,\"\")","v":""},{"$f":"IF('Simplified Loader'!BL52>0,'Simplified Loader'!BL52,\"\")","v":""},{"$f":"IF('Simplified Loader'!BM52>0,'Simplified Loader'!BM52,\"\")","v":""},{"$f":"IF('Simplified Loader'!BN52=\"Male\",\"Male\",IF('Simplified Loader'!BN52=\"Female\",\"Female\",IF('Simplified Loader'!BN52=\"M\",\"Male\",IF('Simplified Loader'!BN52=\"F\",\"Female\",\"\"))))","v":""},{"$f":"IF('Simplified Loader'!BO52=\"Yes\",\"Yes\",IF('Simplified Loader'!BO52=\"No\",\"No\",IF('Simplified Loader'!BO52=\"Y\",\"Yes\",IF('Simplified Loader'!BO52=\"N\",\"No\",\"\"))))","v":""},{"$f":"IF('Simplified Loader'!BP52=\"Yes\",\"Yes\",IF('Simplified Loader'!BP52=\"No\",\"No\",IF('Simplified Loader'!BP52=\"Y\",\"Yes\",IF('Simplified Loader'!BP52=\"N\",\"No\",\"\"))))","v":""},{"$f":"IF('Simplified Loader'!BQ52>0,'Simplified Loader'!BQ52,\"\")","v":""},{"$f":"IF('Simplified Loader'!BR52>0,'Simplified Loader'!BR52,\"\")","v":""},{"$f":"IF('Simplified Loader'!BS52>0,'Simplified Loader'!BS52,\"\")","v":""},{"$f":"IF('Simplified Loader'!BT52=\"Male\",\"Male\",IF('Simplified Loader'!BT52=\"Female\",\"Female\",IF('Simplified Loader'!BT52=\"M\",\"Male\",IF('Simplified Loader'!BT52=\"F\",\"Female\",\"\"))))","v":""},{"$f":"IF('Simplified Loader'!BU52=\"Yes\",\"Yes\",IF('Simplified Loader'!BU52=\"No\",\"No\",IF('Simplified Loader'!BU52=\"Y\",\"Yes\",IF('Simplified Loader'!BU52=\"N\",\"No\",\"\"))))","v":""},{"$f":"IF('Simplified Loader'!BV52=\"Yes\",\"Yes\",IF('Simplified Loader'!BV52=\"No\",\"No\",IF('Simplified Loader'!BV52=\"Y\",\"Yes\",IF('Simplified Loader'!BV52=\"N\",\"No\",\"\"))))","v":""},{"$f":"IF('Simplified Loader'!BW52>0,'Simplified Loader'!BW52,\"\")","v":""},{"$f":"IF('Simplified Loader'!BX52>0,'Simplified Loader'!BX52,\"\")","v":""},{"$f":"IF('Simplified Loader'!BY52>0,'Simplified Loader'!BY52,\"\")","v":""},{"$f":"IF('Simplified Loader'!BZ52=\"Male\",\"Male\",IF('Simplified Loader'!BZ52=\"Female\",\"Female\",IF('Simplified Loader'!BZ52=\"M\",\"Male\",IF('Simplified Loader'!BZ52=\"F\",\"Female\",\"\"))))","v":""},{"$f":"IF('Simplified Loader'!CA52=\"Yes\",\"Yes\",IF('Simplified Loader'!CA52=\"No\",\"No\",IF('Simplified Loader'!CA52=\"Y\",\"Yes\",IF('Simplified Loader'!CA52=\"N\",\"No\",\"\"))))","v":""},{"$f":"IF('Simplified Loader'!CB52=\"Yes\",\"Yes\",IF('Simplified Loader'!CB52=\"No\",\"No\",IF('Simplified Loader'!CB52=\"Y\",\"Yes\",IF('Simplified Loader'!CB52=\"N\",\"No\",\"\"))))","v":""},{"$f":"IF('Simplified Loader'!CH52>0,'Simplified Loader'!CH52,\"\")","v":"    "}]
[{"$f":"IF('Simplified Loader'!A53>0,'Simplified Loader'!A53,\"\")","v":""},{"$f":"IF('Simplified Loader'!B53>0,'Simplified Loader'!B53,\"\")","v":""},{"$f":"IF('Simplified Loader'!C53>0,'Simplified Loader'!C53,\"\")","v":""},{"$f":"IF('Simplified Loader'!D53>0,'Simplified Loader'!D53,\"\")","v":""},{"$f":"IF('Simplified Loader'!E53>0,TEXT('Simplified Loader'!E53,\"000\"),\"\")","v":""},{"$f":"IF('Simplified Loader'!F53>0,'Simplified Loader'!F53,\"\")","v":""},{"$f":"IF('Simplified Loader'!G53>0,'Simplified Loader'!G53,\"\")","v":""},{"$f":"IF('Simplified Loader'!I53>0,'Simplified Loader'!I53,\"\")","v":""},{"$f":"IF('Simplified Loader'!J53>0,'Simplified Loader'!J53,\"\")","v":""},{"$f":"IF('Simplified Loader'!K53>0,'Simplified Loader'!K53,\"\")","v":""},{"$f":"IF('Simplified Loader'!L53>0,'Simplified Loader'!L53,\"\")","v":""},{"$f":"IF('Simplified Loader'!M53=\"Male\",\"Male\",IF('Simplified Loader'!M53=\"Female\",\"Female\",IF('Simplified Loader'!M53=\"M\",\"Male\",IF('Simplified Loader'!M53=\"F\",\"Female\",\"\"))))","v":""},{"$f":"IF('Simplified Loader'!N53=\"Yes\",\"Yes\",IF('Simplified Loader'!N53=\"No\",\"No\",IF('Simplified Loader'!N53=\"Y\",\"Yes\",IF('Simplified Loader'!N53=\"N\",\"No\",\"\"))))","v":""},{"$f":"IF('Simplified Loader'!O53=\"No\",\"Single\",IF('Simplified Loader'!O53=\"Yes\",\"Family\",IF('Simplified Loader'!O53=\"N\",\"Single\",IF('Simplified Loader'!O53=\"Y\",\"Family\",IF('Simplified Loader'!O53=\"In-force\",\"Family\",IF('Simplified Loader'!O53=\"In force\",\"Family\",IF('Simplified Loader'!O53=\"Applies\",\"Family\",IF('Simplified Loader'!O53=\"Applicable\",\"Family\",\"\"))))))))","v":""},{"$f":"IF('Simplified Loader'!P53=\"English\",\"English\",IF('Simplified Loader'!P53=\"French\",\"French\",IF('Simplified Loader'!P53=\"E\",\"English\",IF('Simplified Loader'!P53=\"F\",\"French\",\"\"))))","v":""},{"$f":"IF('Simplified Loader'!Q53=\"Yes\",\"Yes\",IF('Simplified Loader'!Q53=\"No\",\"No\",IF('Simplified Loader'!Q53=\"Y\",\"Yes\",IF('Simplified Loader'!Q53=\"N\",\"No\",\"\"))))","v":""},{"$f":"IF('Simplified Loader'!R53>0,'Simplified Loader'!R53,\"\")","v":""},{"$f":"IF('Simplified Loader'!S53>0,'Simplified Loader'!S53,\"\")","v":""},{"$f":"IF('Simplified Loader'!T53>0,'Simplified Loader'!T53,\"\")","v":""},{"$f":"IF('Simplified Loader'!U53>0,'Simplified Loader'!U53,\"\")","v":""},{"$f":"IF('Simplified Loader'!V53=\"Waive\",\"Yes\",\"\")","v":""},{"$f":"IF('Simplified Loader'!W53=\"Waive\",\"Yes\",\"\")","v":""},{"$f":"IF('Simplified Loader'!X53>0,'Simplified Loader'!X53,\"\")","v":""},{"$f":"IF('Simplified Loader'!Y53>0,'Simplified Loader'!Y53,\"\")","v":""},{"$f":"IF('Simplified Loader'!Z53>0,'Simplified Loader'!Z53,\"\")","v":""},{"$f":"IF('Simplified Loader'!AA53>0,'Simplified Loader'!AA53,\"\")","v":""},{"$f":"IF('Simplified Loader'!AB53>0,'Simplified Loader'!AB53,\"\")","v":""},{"$f":"IF('Simplified Loader'!AC53>0,'Simplified Loader'!AC53,\"\")","v":" "},{"$f":"IF('Simplified Loader'!AE53>0,'Simplified Loader'!AE53&\" \",\"\")&IF('Simplified Loader'!AD53>0,'Simplified Loader'!AD53,\"\")","v":""},null,{"$f":"IF('Simplified Loader'!AF53>0,'Simplified Loader'!AF53,\"\")","v":""},{"$f":"IF('Simplified Loader'!AG53>0,'Simplified Loader'!AG53,\"\")","v":""},{"$f":"IF('Simplified Loader'!AH53>0,'Simplified Loader'!AH53,\"\")","v":""},{"$f":"IF('Simplified Loader'!AI53>0,'Simplified Loader'!AI53,\"\")","v":""},{"$f":"IF('Simplified Loader'!AJ53>0,'Simplified Loader'!AJ53,\"\")","v":""},{"$f":"IF('Simplified Loader'!AK53>0,'Simplified Loader'!AK53,\"\")","v":""},{"$f":"IF('Simplified Loader'!AL53>0,'Simplified Loader'!AL53,\"\")","v":""},{"$f":"IF('Simplified Loader'!AM53>0,'Simplified Loader'!AM53,\"\")","v":""},{"$f":"IF('Simplified Loader'!AN53=\"Male\",\"Male\",IF('Simplified Loader'!AN53=\"Female\",\"Female\",IF('Simplified Loader'!AN53=\"M\",\"Male\",IF('Simplified Loader'!AN53=\"F\",\"Female\",\"\"))))","v":""},{"$f":"IF('Simplified Loader'!AO53=\"Single\",\"Single\",IF('Simplified Loader'!AO53=\"Family\",\"Family\",IF('Simplified Loader'!AO53=\"S\",\"Single\",IF('Simplified Loader'!AO53=\"F\",\"Family\",\"\"))))","v":""},{"$f":"IF('Simplified Loader'!AP53=\"Single\",\"Single\",IF('Simplified Loader'!AP53=\"Family\",\"Family\",IF('Simplified Loader'!AP53=\"S\",\"Single\",IF('Simplified Loader'!AP53=\"F\",\"Family\",\"\"))))","v":""},{"$f":"IF('Simplified Loader'!AQ53>0,'Simplified Loader'!AQ53,\"\")","v":""},{"$f":"IF('Simplified Loader'!AR53=\"Yes\",\"Yes\",IF('Simplified Loader'!AR53=\"No\",\"No\",IF('Simplified Loader'!AR53=\"Y\",\"Yes\",IF('Simplified Loader'!AR53=\"N\",\"No\",\"\"))))","v":""},{"$f":"IF('Simplified Loader'!AS53>0,'Simplified Loader'!AS53,\"\")","v":""},{"$f":"IF('Simplified Loader'!AT53>0,'Simplified Loader'!AT53,\"\")","v":""},{"$f":"IF('Simplified Loader'!AU53>0,'Simplified Loader'!AU53,\"\")","v":""},{"$f":"IF('Simplified Loader'!AV53=\"Male\",\"Male\",IF('Simplified Loader'!AV53=\"Female\",\"Female\",IF('Simplified Loader'!AV53=\"M\",\"Male\",IF('Simplified Loader'!AV53=\"F\",\"Female\",\"\"))))","v":""},{"$f":"IF('Simplified Loader'!AW53=\"Yes\",\"Yes\",IF('Simplified Loader'!AW53=\"No\",\"No\",IF('Simplified Loader'!AW53=\"Y\",\"Yes\",IF('Simplified Loader'!AW53=\"N\",\"No\",\"\"))))","v":""},{"$f":"IF('Simplified Loader'!AX53=\"Yes\",\"Yes\",IF('Simplified Loader'!AX53=\"No\",\"No\",IF('Simplified Loader'!AX53=\"Y\",\"Yes\",IF('Simplified Loader'!AX53=\"N\",\"No\",\"\"))))","v":""},{"$f":"IF('Simplified Loader'!AY53>0,'Simplified Loader'!AY53,\"\")","v":""},{"$f":"IF('Simplified Loader'!AZ53>0,'Simplified Loader'!AZ53,\"\")","v":""},{"$f":"IF('Simplified Loader'!BA53>0,'Simplified Loader'!BA53,\"\")","v":""},{"$f":"IF('Simplified Loader'!BB53=\"Male\",\"Male\",IF('Simplified Loader'!BB53=\"Female\",\"Female\",IF('Simplified Loader'!BB53=\"M\",\"Male\",IF('Simplified Loader'!BB53=\"F\",\"Female\",\"\"))))","v":""},{"$f":"IF('Simplified Loader'!BC53=\"Yes\",\"Yes\",IF('Simplified Loader'!BC53=\"No\",\"No\",IF('Simplified Loader'!BC53=\"Y\",\"Yes\",IF('Simplified Loader'!BC53=\"N\",\"No\",\"\"))))","v":""},{"$f":"IF('Simplified Loader'!BD53=\"Yes\",\"Yes\",IF('Simplified Loader'!BD53=\"No\",\"No\",IF('Simplified Loader'!BD53=\"Y\",\"Yes\",IF('Simplified Loader'!BD53=\"N\",\"No\",\"\"))))","v":""},{"$f":"IF('Simplified Loader'!BE53>0,'Simplified Loader'!BE53,\"\")","v":""},{"$f":"IF('Simplified Loader'!BF53>0,'Simplified Loader'!BF53,\"\")","v":""},{"$f":"IF('Simplified Loader'!BG53>0,'Simplified Loader'!BG53,\"\")","v":""},{"$f":"IF('Simplified Loader'!BH53=\"Male\",\"Male\",IF('Simplified Loader'!BH53=\"Female\",\"Female\",IF('Simplified Loader'!BH53=\"M\",\"Male\",IF('Simplified Loader'!BH53=\"F\",\"Female\",\"\"))))","v":""},{"$f":"IF('Simplified Loader'!BI53=\"Yes\",\"Yes\",IF('Simplified Loader'!BI53=\"No\",\"No\",IF('Simplified Loader'!BI53=\"Y\",\"Yes\",IF('Simplified Loader'!BI53=\"N\",\"No\",\"\"))))","v":""},{"$f":"IF('Simplified Loader'!BJ53=\"Yes\",\"Yes\",IF('Simplified Loader'!BJ53=\"No\",\"No\",IF('Simplified Loader'!BJ53=\"Y\",\"Yes\",IF('Simplified Loader'!BJ53=\"N\",\"No\",\"\"))))","v":""},{"$f":"IF('Simplified Loader'!BK53>0,'Simplified Loader'!BK53,\"\")","v":""},{"$f":"IF('Simplified Loader'!BL53>0,'Simplified Loader'!BL53,\"\")","v":""},{"$f":"IF('Simplified Loader'!BM53>0,'Simplified Loader'!BM53,\"\")","v":""},{"$f":"IF('Simplified Loader'!BN53=\"Male\",\"Male\",IF('Simplified Loader'!BN53=\"Female\",\"Female\",IF('Simplified Loader'!BN53=\"M\",\"Male\",IF('Simplified Loader'!BN53=\"F\",\"Female\",\"\"))))","v":""},{"$f":"IF('Simplified Loader'!BO53=\"Yes\",\"Yes\",IF('Simplified Loader'!BO53=\"No\",\"No\",IF('Simplified Loader'!BO53=\"Y\",\"Yes\",IF('Simplified Loader'!BO53=\"N\",\"No\",\"\"))))","v":""},{"$f":"IF('Simplified Loader'!BP53=\"Yes\",\"Yes\",IF('Simplified Loader'!BP53=\"No\",\"No\",IF('Simplified Loader'!BP53=\"Y\",\"Yes\",IF('Simplified Loader'!BP53=\"N\",\"No\",\"\"))))","v":""},{"$f":"IF('Simplified Loader'!BQ53>0,'Simplified Loader'!BQ53,\"\")","v":""},{"$f":"IF('Simplified Loader'!BR53>0,'Simplified Loader'!BR53,\"\")","v":""},{"$f":"IF('Simplified Loader'!BS53>0,'Simplified Loader'!BS53,\"\")","v":""},{"$f":"IF('Simplified Loader'!BT53=\"Male\",\"Male\",IF('Simplified Loader'!BT53=\"Female\",\"Female\",IF('Simplified Loader'!BT53=\"M\",\"Male\",IF('Simplified Loader'!BT53=\"F\",\"Female\",\"\"))))","v":""},{"$f":"IF('Simplified Loader'!BU53=\"Yes\",\"Yes\",IF('Simplified Loader'!BU53=\"No\",\"No\",IF('Simplified Loader'!BU53=\"Y\",\"Yes\",IF('Simplified Loader'!BU53=\"N\",\"No\",\"\"))))","v":""},{"$f":"IF('Simplified Loader'!BV53=\"Yes\",\"Yes\",IF('Simplified Loader'!BV53=\"No\",\"No\",IF('Simplified Loader'!BV53=\"Y\",\"Yes\",IF('Simplified Loader'!BV53=\"N\",\"No\",\"\"))))","v":""},{"$f":"IF('Simplified Loader'!BW53>0,'Simplified Loader'!BW53,\"\")","v":""},{"$f":"IF('Simplified Loader'!BX53>0,'Simplified Loader'!BX53,\"\")","v":""},{"$f":"IF('Simplified Loader'!BY53>0,'Simplified Loader'!BY53,\"\")","v":""},{"$f":"IF('Simplified Loader'!BZ53=\"Male\",\"Male\",IF('Simplified Loader'!BZ53=\"Female\",\"Female\",IF('Simplified Loader'!BZ53=\"M\",\"Male\",IF('Simplified Loader'!BZ53=\"F\",\"Female\",\"\"))))","v":""},{"$f":"IF('Simplified Loader'!CA53=\"Yes\",\"Yes\",IF('Simplified Loader'!CA53=\"No\",\"No\",IF('Simplified Loader'!CA53=\"Y\",\"Yes\",IF('Simplified Loader'!CA53=\"N\",\"No\",\"\"))))","v":""},{"$f":"IF('Simplified Loader'!CB53=\"Yes\",\"Yes\",IF('Simplified Loader'!CB53=\"No\",\"No\",IF('Simplified Loader'!CB53=\"Y\",\"Yes\",IF('Simplified Loader'!CB53=\"N\",\"No\",\"\"))))","v":""},{"$f":"IF('Simplified Loader'!CH53>0,'Simplified Loader'!CH53,\"\")","v":"    "}]
[{"$f":"IF('Simplified Loader'!A54>0,'Simplified Loader'!A54,\"\")","v":""},{"$f":"IF('Simplified Loader'!B54>0,'Simplified Loader'!B54,\"\")","v":""},{"$f":"IF('Simplified Loader'!C54>0,'Simplified Loader'!C54,\"\")","v":""},{"$f":"IF('Simplified Loader'!D54>0,'Simplified Loader'!D54,\"\")","v":""},{"$f":"IF('Simplified Loader'!E54>0,TEXT('Simplified Loader'!E54,\"000\"),\"\")","v":""},{"$f":"IF('Simplified Loader'!F54>0,'Simplified Loader'!F54,\"\")","v":""},{"$f":"IF('Simplified Loader'!G54>0,'Simplified Loader'!G54,\"\")","v":""},{"$f":"IF('Simplified Loader'!I54>0,'Simplified Loader'!I54,\"\")","v":""},{"$f":"IF('Simplified Loader'!J54>0,'Simplified Loader'!J54,\"\")","v":""},{"$f":"IF('Simplified Loader'!K54>0,'Simplified Loader'!K54,\"\")","v":""},{"$f":"IF('Simplified Loader'!L54>0,'Simplified Loader'!L54,\"\")","v":""},{"$f":"IF('Simplified Loader'!M54=\"Male\",\"Male\",IF('Simplified Loader'!M54=\"Female\",\"Female\",IF('Simplified Loader'!M54=\"M\",\"Male\",IF('Simplified Loader'!M54=\"F\",\"Female\",\"\"))))","v":""},{"$f":"IF('Simplified Loader'!N54=\"Yes\",\"Yes\",IF('Simplified Loader'!N54=\"No\",\"No\",IF('Simplified Loader'!N54=\"Y\",\"Yes\",IF('Simplified Loader'!N54=\"N\",\"No\",\"\"))))","v":""},{"$f":"IF('Simplified Loader'!O54=\"No\",\"Single\",IF('Simplified Loader'!O54=\"Yes\",\"Family\",IF('Simplified Loader'!O54=\"N\",\"Single\",IF('Simplified Loader'!O54=\"Y\",\"Family\",IF('Simplified Loader'!O54=\"In-force\",\"Family\",IF('Simplified Loader'!O54=\"In force\",\"Family\",IF('Simplified Loader'!O54=\"Applies\",\"Family\",IF('Simplified Loader'!O54=\"Applicable\",\"Family\",\"\"))))))))","v":""},{"$f":"IF('Simplified Loader'!P54=\"English\",\"English\",IF('Simplified Loader'!P54=\"French\",\"French\",IF('Simplified Loader'!P54=\"E\",\"English\",IF('Simplified Loader'!P54=\"F\",\"French\",\"\"))))","v":""},{"$f":"IF('Simplified Loader'!Q54=\"Yes\",\"Yes\",IF('Simplified Loader'!Q54=\"No\",\"No\",IF('Simplified Loader'!Q54=\"Y\",\"Yes\",IF('Simplified Loader'!Q54=\"N\",\"No\",\"\"))))","v":""},{"$f":"IF('Simplified Loader'!R54>0,'Simplified Loader'!R54,\"\")","v":""},{"$f":"IF('Simplified Loader'!S54>0,'Simplified Loader'!S54,\"\")","v":""},{"$f":"IF('Simplified Loader'!T54>0,'Simplified Loader'!T54,\"\")","v":""},{"$f":"IF('Simplified Loader'!U54>0,'Simplified Loader'!U54,\"\")","v":""},{"$f":"IF('Simplified Loader'!V54=\"Waive\",\"Yes\",\"\")","v":""},{"$f":"IF('Simplified Loader'!W54=\"Waive\",\"Yes\",\"\")","v":""},{"$f":"IF('Simplified Loader'!X54>0,'Simplified Loader'!X54,\"\")","v":""},{"$f":"IF('Simplified Loader'!Y54>0,'Simplified Loader'!Y54,\"\")","v":""},{"$f":"IF('Simplified Loader'!Z54>0,'Simplified Loader'!Z54,\"\")","v":""},{"$f":"IF('Simplified Loader'!AA54>0,'Simplified Loader'!AA54,\"\")","v":""},{"$f":"IF('Simplified Loader'!AB54>0,'Simplified Loader'!AB54,\"\")","v":""},{"$f":"IF('Simplified Loader'!AC54>0,'Simplified Loader'!AC54,\"\")","v":" "},{"$f":"IF('Simplified Loader'!AE54>0,'Simplified Loader'!AE54&\" \",\"\")&IF('Simplified Loader'!AD54>0,'Simplified Loader'!AD54,\"\")","v":""},null,{"$f":"IF('Simplified Loader'!AF54>0,'Simplified Loader'!AF54,\"\")","v":""},{"$f":"IF('Simplified Loader'!AG54>0,'Simplified Loader'!AG54,\"\")","v":""},{"$f":"IF('Simplified Loader'!AH54>0,'Simplified Loader'!AH54,\"\")","v":""},{"$f":"IF('Simplified Loader'!AI54>0,'Simplified Loader'!AI54,\"\")","v":""},{"$f":"IF('Simplified Loader'!AJ54>0,'Simplified Loader'!AJ54,\"\")","v":""},{"$f":"IF('Simplified Loader'!AK54>0,'Simplified Loader'!AK54,\"\")","v":""},{"$f":"IF('Simplified Loader'!AL54>0,'Simplified Loader'!AL54,\"\")","v":""},{"$f":"IF('Simplified Loader'!AM54>0,'Simplified Loader'!AM54,\"\")","v":""},{"$f":"IF('Simplified Loader'!AN54=\"Male\",\"Male\",IF('Simplified Loader'!AN54=\"Female\",\"Female\",IF('Simplified Loader'!AN54=\"M\",\"Male\",IF('Simplified Loader'!AN54=\"F\",\"Female\",\"\"))))","v":""},{"$f":"IF('Simplified Loader'!AO54=\"Single\",\"Single\",IF('Simplified Loader'!AO54=\"Family\",\"Family\",IF('Simplified Loader'!AO54=\"S\",\"Single\",IF('Simplified Loader'!AO54=\"F\",\"Family\",\"\"))))","v":""},{"$f":"IF('Simplified Loader'!AP54=\"Single\",\"Single\",IF('Simplified Loader'!AP54=\"Family\",\"Family\",IF('Simplified Loader'!AP54=\"S\",\"Single\",IF('Simplified Loader'!AP54=\"F\",\"Family\",\"\"))))","v":""},{"$f":"IF('Simplified Loader'!AQ54>0,'Simplified Loader'!AQ54,\"\")","v":""},{"$f":"IF('Simplified Loader'!AR54=\"Yes\",\"Yes\",IF('Simplified Loader'!AR54=\"No\",\"No\",IF('Simplified Loader'!AR54=\"Y\",\"Yes\",IF('Simplified Loader'!AR54=\"N\",\"No\",\"\"))))","v":""},{"$f":"IF('Simplified Loader'!AS54>0,'Simplified Loader'!AS54,\"\")","v":""},{"$f":"IF('Simplified Loader'!AT54>0,'Simplified Loader'!AT54,\"\")","v":""},{"$f":"IF('Simplified Loader'!AU54>0,'Simplified Loader'!AU54,\"\")","v":""},{"$f":"IF('Simplified Loader'!AV54=\"Male\",\"Male\",IF('Simplified Loader'!AV54=\"Female\",\"Female\",IF('Simplified Loader'!AV54=\"M\",\"Male\",IF('Simplified Loader'!AV54=\"F\",\"Female\",\"\"))))","v":""},{"$f":"IF('Simplified Loader'!AW54=\"Yes\",\"Yes\",IF('Simplified Loader'!AW54=\"No\",\"No\",IF('Simplified Loader'!AW54=\"Y\",\"Yes\",IF('Simplified Loader'!AW54=\"N\",\"No\",\"\"))))","v":""},{"$f":"IF('Simplified Loader'!AX54=\"Yes\",\"Yes\",IF('Simplified Loader'!AX54=\"No\",\"No\",IF('Simplified Loader'!AX54=\"Y\",\"Yes\",IF('Simplified Loader'!AX54=\"N\",\"No\",\"\"))))","v":""},{"$f":"IF('Simplified Loader'!AY54>0,'Simplified Loader'!AY54,\"\")","v":""},{"$f":"IF('Simplified Loader'!AZ54>0,'Simplified Loader'!AZ54,\"\")","v":""},{"$f":"IF('Simplified Loader'!BA54>0,'Simplified Loader'!BA54,\"\")","v":""},{"$f":"IF('Simplified Loader'!BB54=\"Male\",\"Male\",IF('Simplified Loader'!BB54=\"Female\",\"Female\",IF('Simplified Loader'!BB54=\"M\",\"Male\",IF('Simplified Loader'!BB54=\"F\",\"Female\",\"\"))))","v":""},{"$f":"IF('Simplified Loader'!BC54=\"Yes\",\"Yes\",IF('Simplified Loader'!BC54=\"No\",\"No\",IF('Simplified Loader'!BC54=\"Y\",\"Yes\",IF('Simplified Loader'!BC54=\"N\",\"No\",\"\"))))","v":""},{"$f":"IF('Simplified Loader'!BD54=\"Yes\",\"Yes\",IF('Simplified Loader'!BD54=\"No\",\"No\",IF('Simplified Loader'!BD54=\"Y\",\"Yes\",IF('Simplified Loader'!BD54=\"N\",\"No\",\"\"))))","v":""},{"$f":"IF('Simplified Loader'!BE54>0,'Simplified Loader'!BE54,\"\")","v":""},{"$f":"IF('Simplified Loader'!BF54>0,'Simplified Loader'!BF54,\"\")","v":""},{"$f":"IF('Simplified Loader'!BG54>0,'Simplified Loader'!BG54,\"\")","v":""},{"$f":"IF('Simplified Loader'!BH54=\"Male\",\"Male\",IF('Simplified Loader'!BH54=\"Female\",\"Female\",IF('Simplified Loader'!BH54=\"M\",\"Male\",IF('Simplified Loader'!BH54=\"F\",\"Female\",\"\"))))","v":""},{"$f":"IF('Simplified Loader'!BI54=\"Yes\",\"Yes\",IF('Simplified Loader'!BI54=\"No\",\"No\",IF('Simplified Loader'!BI54=\"Y\",\"Yes\",IF('Simplified Loader'!BI54=\"N\",\"No\",\"\"))))","v":""},{"$f":"IF('Simplified Loader'!BJ54=\"Yes\",\"Yes\",IF('Simplified Loader'!BJ54=\"No\",\"No\",IF('Simplified Loader'!BJ54=\"Y\",\"Yes\",IF('Simplified Loader'!BJ54=\"N\",\"No\",\"\"))))","v":""},{"$f":"IF('Simplified Loader'!BK54>0,'Simplified Loader'!BK54,\"\")","v":""},{"$f":"IF('Simplified Loader'!BL54>0,'Simplified Loader'!BL54,\"\")","v":""},{"$f":"IF('Simplified Loader'!BM54>0,'Simplified Loader'!BM54,\"\")","v":""},{"$f":"IF('Simplified Loader'!BN54=\"Male\",\"Male\",IF('Simplified Loader'!BN54=\"Female\",\"Female\",IF('Simplified Loader'!BN54=\"M\",\"Male\",IF('Simplified Loader'!BN54=\"F\",\"Female\",\"\"))))","v":""},{"$f":"IF('Simplified Loader'!BO54=\"Yes\",\"Yes\",IF('Simplified Loader'!BO54=\"No\",\"No\",IF('Simplified Loader'!BO54=\"Y\",\"Yes\",IF('Simplified Loader'!BO54=\"N\",\"No\",\"\"))))","v":""},{"$f":"IF('Simplified Loader'!BP54=\"Yes\",\"Yes\",IF('Simplified Loader'!BP54=\"No\",\"No\",IF('Simplified Loader'!BP54=\"Y\",\"Yes\",IF('Simplified Loader'!BP54=\"N\",\"No\",\"\"))))","v":""},{"$f":"IF('Simplified Loader'!BQ54>0,'Simplified Loader'!BQ54,\"\")","v":""},{"$f":"IF('Simplified Loader'!BR54>0,'Simplified Loader'!BR54,\"\")","v":""},{"$f":"IF('Simplified Loader'!BS54>0,'Simplified Loader'!BS54,\"\")","v":""},{"$f":"IF('Simplified Loader'!BT54=\"Male\",\"Male\",IF('Simplified Loader'!BT54=\"Female\",\"Female\",IF('Simplified Loader'!BT54=\"M\",\"Male\",IF('Simplified Loader'!BT54=\"F\",\"Female\",\"\"))))","v":""},{"$f":"IF('Simplified Loader'!BU54=\"Yes\",\"Yes\",IF('Simplified Loader'!BU54=\"No\",\"No\",IF('Simplified Loader'!BU54=\"Y\",\"Yes\",IF('Simplified Loader'!BU54=\"N\",\"No\",\"\"))))","v":""},{"$f":"IF('Simplified Loader'!BV54=\"Yes\",\"Yes\",IF('Simplified Loader'!BV54=\"No\",\"No\",IF('Simplified Loader'!BV54=\"Y\",\"Yes\",IF('Simplified Loader'!BV54=\"N\",\"No\",\"\"))))","v":""},{"$f":"IF('Simplified Loader'!BW54>0,'Simplified Loader'!BW54,\"\")","v":""},{"$f":"IF('Simplified Loader'!BX54>0,'Simplified Loader'!BX54,\"\")","v":""},{"$f":"IF('Simplified Loader'!BY54>0,'Simplified Loader'!BY54,\"\")","v":""},{"$f":"IF('Simplified Loader'!BZ54=\"Male\",\"Male\",IF('Simplified Loader'!BZ54=\"Female\",\"Female\",IF('Simplified Loader'!BZ54=\"M\",\"Male\",IF('Simplified Loader'!BZ54=\"F\",\"Female\",\"\"))))","v":""},{"$f":"IF('Simplified Loader'!CA54=\"Yes\",\"Yes\",IF('Simplified Loader'!CA54=\"No\",\"No\",IF('Simplified Loader'!CA54=\"Y\",\"Yes\",IF('Simplified Loader'!CA54=\"N\",\"No\",\"\"))))","v":""},{"$f":"IF('Simplified Loader'!CB54=\"Yes\",\"Yes\",IF('Simplified Loader'!CB54=\"No\",\"No\",IF('Simplified Loader'!CB54=\"Y\",\"Yes\",IF('Simplified Loader'!CB54=\"N\",\"No\",\"\"))))","v":""},{"$f":"IF('Simplified Loader'!CH54>0,'Simplified Loader'!CH54,\"\")","v":"    "}]
[{"$f":"IF('Simplified Loader'!A55>0,'Simplified Loader'!A55,\"\")","v":""},{"$f":"IF('Simplified Loader'!B55>0,'Simplified Loader'!B55,\"\")","v":""},{"$f":"IF('Simplified Loader'!C55>0,'Simplified Loader'!C55,\"\")","v":""},{"$f":"IF('Simplified Loader'!D55>0,'Simplified Loader'!D55,\"\")","v":""},{"$f":"IF('Simplified Loader'!E55>0,TEXT('Simplified Loader'!E55,\"000\"),\"\")","v":""},{"$f":"IF('Simplified Loader'!F55>0,'Simplified Loader'!F55,\"\")","v":""},{"$f":"IF('Simplified Loader'!G55>0,'Simplified Loader'!G55,\"\")","v":""},{"$f":"IF('Simplified Loader'!I55>0,'Simplified Loader'!I55,\"\")","v":""},{"$f":"IF('Simplified Loader'!J55>0,'Simplified Loader'!J55,\"\")","v":""},{"$f":"IF('Simplified Loader'!K55>0,'Simplified Loader'!K55,\"\")","v":""},{"$f":"IF('Simplified Loader'!L55>0,'Simplified Loader'!L55,\"\")","v":""},{"$f":"IF('Simplified Loader'!M55=\"Male\",\"Male\",IF('Simplified Loader'!M55=\"Female\",\"Female\",IF('Simplified Loader'!M55=\"M\",\"Male\",IF('Simplified Loader'!M55=\"F\",\"Female\",\"\"))))","v":""},{"$f":"IF('Simplified Loader'!N55=\"Yes\",\"Yes\",IF('Simplified Loader'!N55=\"No\",\"No\",IF('Simplified Loader'!N55=\"Y\",\"Yes\",IF('Simplified Loader'!N55=\"N\",\"No\",\"\"))))","v":""},{"$f":"IF('Simplified Loader'!O55=\"No\",\"Single\",IF('Simplified Loader'!O55=\"Yes\",\"Family\",IF('Simplified Loader'!O55=\"N\",\"Single\",IF('Simplified Loader'!O55=\"Y\",\"Family\",IF('Simplified Loader'!O55=\"In-force\",\"Family\",IF('Simplified Loader'!O55=\"In force\",\"Family\",IF('Simplified Loader'!O55=\"Applies\",\"Family\",IF('Simplified Loader'!O55=\"Applicable\",\"Family\",\"\"))))))))","v":""},{"$f":"IF('Simplified Loader'!P55=\"English\",\"English\",IF('Simplified Loader'!P55=\"French\",\"French\",IF('Simplified Loader'!P55=\"E\",\"English\",IF('Simplified Loader'!P55=\"F\",\"French\",\"\"))))","v":""},{"$f":"IF('Simplified Loader'!Q55=\"Yes\",\"Yes\",IF('Simplified Loader'!Q55=\"No\",\"No\",IF('Simplified Loader'!Q55=\"Y\",\"Yes\",IF('Simplified Loader'!Q55=\"N\",\"No\",\"\"))))","v":""},{"$f":"IF('Simplified Loader'!R55>0,'Simplified Loader'!R55,\"\")","v":""},{"$f":"IF('Simplified Loader'!S55>0,'Simplified Loader'!S55,\"\")","v":""},{"$f":"IF('Simplified Loader'!T55>0,'Simplified Loader'!T55,\"\")","v":""},{"$f":"IF('Simplified Loader'!U55>0,'Simplified Loader'!U55,\"\")","v":""},{"$f":"IF('Simplified Loader'!V55=\"Waive\",\"Yes\",\"\")","v":""},{"$f":"IF('Simplified Loader'!W55=\"Waive\",\"Yes\",\"\")","v":""},{"$f":"IF('Simplified Loader'!X55>0,'Simplified Loader'!X55,\"\")","v":""},{"$f":"IF('Simplified Loader'!Y55>0,'Simplified Loader'!Y55,\"\")","v":""},{"$f":"IF('Simplified Loader'!Z55>0,'Simplified Loader'!Z55,\"\")","v":""},{"$f":"IF('Simplified Loader'!AA55>0,'Simplified Loader'!AA55,\"\")","v":""},{"$f":"IF('Simplified Loader'!AB55>0,'Simplified Loader'!AB55,\"\")","v":""},{"$f":"IF('Simplified Loader'!AC55>0,'Simplified Loader'!AC55,\"\")","v":" "},{"$f":"IF('Simplified Loader'!AE55>0,'Simplified Loader'!AE55&\" \",\"\")&IF('Simplified Loader'!AD55>0,'Simplified Loader'!AD55,\"\")","v":""},null,{"$f":"IF('Simplified Loader'!AF55>0,'Simplified Loader'!AF55,\"\")","v":""},{"$f":"IF('Simplified Loader'!AG55>0,'Simplified Loader'!AG55,\"\")","v":""},{"$f":"IF('Simplified Loader'!AH55>0,'Simplified Loader'!AH55,\"\")","v":""},{"$f":"IF('Simplified Loader'!AI55>0,'Simplified Loader'!AI55,\"\")","v":""},{"$f":"IF('Simplified Loader'!AJ55>0,'Simplified Loader'!AJ55,\"\")","v":""},{"$f":"IF('Simplified Loader'!AK55>0,'Simplified Loader'!AK55,\"\")","v":""},{"$f":"IF('Simplified Loader'!AL55>0,'Simplified Loader'!AL55,\"\")","v":""},{"$f":"IF('Simplified Loader'!AM55>0,'Simplified Loader'!AM55,\"\")","v":""},{"$f":"IF('Simplified Loader'!AN55=\"Male\",\"Male\",IF('Simplified Loader'!AN55=\"Female\",\"Female\",IF('Simplified Loader'!AN55=\"M\",\"Male\",IF('Simplified Loader'!AN55=\"F\",\"Female\",\"\"))))","v":""},{"$f":"IF('Simplified Loader'!AO55=\"Single\",\"Single\",IF('Simplified Loader'!AO55=\"Family\",\"Family\",IF('Simplified Loader'!AO55=\"S\",\"Single\",IF('Simplified Loader'!AO55=\"F\",\"Family\",\"\"))))","v":""},{"$f":"IF('Simplified Loader'!AP55=\"Single\",\"Single\",IF('Simplified Loader'!AP55=\"Family\",\"Family\",IF('Simplified Loader'!AP55=\"S\",\"Single\",IF('Simplified Loader'!AP55=\"F\",\"Family\",\"\"))))","v":""},{"$f":"IF('Simplified Loader'!AQ55>0,'Simplified Loader'!AQ55,\"\")","v":""},{"$f":"IF('Simplified Loader'!AR55=\"Yes\",\"Yes\",IF('Simplified Loader'!AR55=\"No\",\"No\",IF('Simplified Loader'!AR55=\"Y\",\"Yes\",IF('Simplified Loader'!AR55=\"N\",\"No\",\"\"))))","v":""},{"$f":"IF('Simplified Loader'!AS55>0,'Simplified Loader'!AS55,\"\")","v":""},{"$f":"IF('Simplified Loader'!AT55>0,'Simplified Loader'!AT55,\"\")","v":""},{"$f":"IF('Simplified Loader'!AU55>0,'Simplified Loader'!AU55,\"\")","v":""},{"$f":"IF('Simplified Loader'!AV55=\"Male\",\"Male\",IF('Simplified Loader'!AV55=\"Female\",\"Female\",IF('Simplified Loader'!AV55=\"M\",\"Male\",IF('Simplified Loader'!AV55=\"F\",\"Female\",\"\"))))","v":""},{"$f":"IF('Simplified Loader'!AW55=\"Yes\",\"Yes\",IF('Simplified Loader'!AW55=\"No\",\"No\",IF('Simplified Loader'!AW55=\"Y\",\"Yes\",IF('Simplified Loader'!AW55=\"N\",\"No\",\"\"))))","v":""},{"$f":"IF('Simplified Loader'!AX55=\"Yes\",\"Yes\",IF('Simplified Loader'!AX55=\"No\",\"No\",IF('Simplified Loader'!AX55=\"Y\",\"Yes\",IF('Simplified Loader'!AX55=\"N\",\"No\",\"\"))))","v":""},{"$f":"IF('Simplified Loader'!AY55>0,'Simplified Loader'!AY55,\"\")","v":""},{"$f":"IF('Simplified Loader'!AZ55>0,'Simplified Loader'!AZ55,\"\")","v":""},{"$f":"IF('Simplified Loader'!BA55>0,'Simplified Loader'!BA55,\"\")","v":""},{"$f":"IF('Simplified Loader'!BB55=\"Male\",\"Male\",IF('Simplified Loader'!BB55=\"Female\",\"Female\",IF('Simplified Loader'!BB55=\"M\",\"Male\",IF('Simplified Loader'!BB55=\"F\",\"Female\",\"\"))))","v":""},{"$f":"IF('Simplified Loader'!BC55=\"Yes\",\"Yes\",IF('Simplified Loader'!BC55=\"No\",\"No\",IF('Simplified Loader'!BC55=\"Y\",\"Yes\",IF('Simplified Loader'!BC55=\"N\",\"No\",\"\"))))","v":""},{"$f":"IF('Simplified Loader'!BD55=\"Yes\",\"Yes\",IF('Simplified Loader'!BD55=\"No\",\"No\",IF('Simplified Loader'!BD55=\"Y\",\"Yes\",IF('Simplified Loader'!BD55=\"N\",\"No\",\"\"))))","v":""},{"$f":"IF('Simplified Loader'!BE55>0,'Simplified Loader'!BE55,\"\")","v":""},{"$f":"IF('Simplified Loader'!BF55>0,'Simplified Loader'!BF55,\"\")","v":""},{"$f":"IF('Simplified Loader'!BG55>0,'Simplified Loader'!BG55,\"\")","v":""},{"$f":"IF('Simplified Loader'!BH55=\"Male\",\"Male\",IF('Simplified Loader'!BH55=\"Female\",\"Female\",IF('Simplified Loader'!BH55=\"M\",\"Male\",IF('Simplified Loader'!BH55=\"F\",\"Female\",\"\"))))","v":""},{"$f":"IF('Simplified Loader'!BI55=\"Yes\",\"Yes\",IF('Simplified Loader'!BI55=\"No\",\"No\",IF('Simplified Loader'!BI55=\"Y\",\"Yes\",IF('Simplified Loader'!BI55=\"N\",\"No\",\"\"))))","v":""},{"$f":"IF('Simplified Loader'!BJ55=\"Yes\",\"Yes\",IF('Simplified Loader'!BJ55=\"No\",\"No\",IF('Simplified Loader'!BJ55=\"Y\",\"Yes\",IF('Simplified Loader'!BJ55=\"N\",\"No\",\"\"))))","v":""},{"$f":"IF('Simplified Loader'!BK55>0,'Simplified Loader'!BK55,\"\")","v":""},{"$f":"IF('Simplified Loader'!BL55>0,'Simplified Loader'!BL55,\"\")","v":""},{"$f":"IF('Simplified Loader'!BM55>0,'Simplified Loader'!BM55,\"\")","v":""},{"$f":"IF('Simplified Loader'!BN55=\"Male\",\"Male\",IF('Simplified Loader'!BN55=\"Female\",\"Female\",IF('Simplified Loader'!BN55=\"M\",\"Male\",IF('Simplified Loader'!BN55=\"F\",\"Female\",\"\"))))","v":""},{"$f":"IF('Simplified Loader'!BO55=\"Yes\",\"Yes\",IF('Simplified Loader'!BO55=\"No\",\"No\",IF('Simplified Loader'!BO55=\"Y\",\"Yes\",IF('Simplified Loader'!BO55=\"N\",\"No\",\"\"))))","v":""},{"$f":"IF('Simplified Loader'!BP55=\"Yes\",\"Yes\",IF('Simplified Loader'!BP55=\"No\",\"No\",IF('Simplified Loader'!BP55=\"Y\",\"Yes\",IF('Simplified Loader'!BP55=\"N\",\"No\",\"\"))))","v":""},{"$f":"IF('Simplified Loader'!BQ55>0,'Simplified Loader'!BQ55,\"\")","v":""},{"$f":"IF('Simplified Loader'!BR55>0,'Simplified Loader'!BR55,\"\")","v":""},{"$f":"IF('Simplified Loader'!BS55>0,'Simplified Loader'!BS55,\"\")","v":""},{"$f":"IF('Simplified Loader'!BT55=\"Male\",\"Male\",IF('Simplified Loader'!BT55=\"Female\",\"Female\",IF('Simplified Loader'!BT55=\"M\",\"Male\",IF('Simplified Loader'!BT55=\"F\",\"Female\",\"\"))))","v":""},{"$f":"IF('Simplified Loader'!BU55=\"Yes\",\"Yes\",IF('Simplified Loader'!BU55=\"No\",\"No\",IF('Simplified Loader'!BU55=\"Y\",\"Yes\",IF('Simplified Loader'!BU55=\"N\",\"No\",\"\"))))","v":""},{"$f":"IF('Simplified Loader'!BV55=\"Yes\",\"Yes\",IF('Simplified Loader'!BV55=\"No\",\"No\",IF('Simplified Loader'!BV55=\"Y\",\"Yes\",IF('Simplified Loader'!BV55=\"N\",\"No\",\"\"))))","v":""},{"$f":"IF('Simplified Loader'!BW55>0,'Simplified Loader'!BW55,\"\")","v":""},{"$f":"IF('Simplified Loader'!BX55>0,'Simplified Loader'!BX55,\"\")","v":""},{"$f":"IF('Simplified Loader'!BY55>0,'Simplified Loader'!BY55,\"\")","v":""},{"$f":"IF('Simplified Loader'!BZ55=\"Male\",\"Male\",IF('Simplified Loader'!BZ55=\"Female\",\"Female\",IF('Simplified Loader'!BZ55=\"M\",\"Male\",IF('Simplified Loader'!BZ55=\"F\",\"Female\",\"\"))))","v":""},{"$f":"IF('Simplified Loader'!CA55=\"Yes\",\"Yes\",IF('Simplified Loader'!CA55=\"No\",\"No\",IF('Simplified Loader'!CA55=\"Y\",\"Yes\",IF('Simplified Loader'!CA55=\"N\",\"No\",\"\"))))","v":""},{"$f":"IF('Simplified Loader'!CB55=\"Yes\",\"Yes\",IF('Simplified Loader'!CB55=\"No\",\"No\",IF('Simplified Loader'!CB55=\"Y\",\"Yes\",IF('Simplified Loader'!CB55=\"N\",\"No\",\"\"))))","v":""},{"$f":"IF('Simplified Loader'!CH55>0,'Simplified Loader'!CH55,\"\")","v":"    "}]
[{"$f":"IF('Simplified Loader'!A56>0,'Simplified Loader'!A56,\"\")","v":""},{"$f":"IF('Simplified Loader'!B56>0,'Simplified Loader'!B56,\"\")","v":""},{"$f":"IF('Simplified Loader'!C56>0,'Simplified Loader'!C56,\"\")","v":""},{"$f":"IF('Simplified Loader'!D56>0,'Simplified Loader'!D56,\"\")","v":""},{"$f":"IF('Simplified Loader'!E56>0,TEXT('Simplified Loader'!E56,\"000\"),\"\")","v":""},{"$f":"IF('Simplified Loader'!F56>0,'Simplified Loader'!F56,\"\")","v":""},{"$f":"IF('Simplified Loader'!G56>0,'Simplified Loader'!G56,\"\")","v":""},{"$f":"IF('Simplified Loader'!I56>0,'Simplified Loader'!I56,\"\")","v":""},{"$f":"IF('Simplified Loader'!J56>0,'Simplified Loader'!J56,\"\")","v":""},{"$f":"IF('Simplified Loader'!K56>0,'Simplified Loader'!K56,\"\")","v":""},{"$f":"IF('Simplified Loader'!L56>0,'Simplified Loader'!L56,\"\")","v":""},{"$f":"IF('Simplified Loader'!M56=\"Male\",\"Male\",IF('Simplified Loader'!M56=\"Female\",\"Female\",IF('Simplified Loader'!M56=\"M\",\"Male\",IF('Simplified Loader'!M56=\"F\",\"Female\",\"\"))))","v":""},{"$f":"IF('Simplified Loader'!N56=\"Yes\",\"Yes\",IF('Simplified Loader'!N56=\"No\",\"No\",IF('Simplified Loader'!N56=\"Y\",\"Yes\",IF('Simplified Loader'!N56=\"N\",\"No\",\"\"))))","v":""},{"$f":"IF('Simplified Loader'!O56=\"No\",\"Single\",IF('Simplified Loader'!O56=\"Yes\",\"Family\",IF('Simplified Loader'!O56=\"N\",\"Single\",IF('Simplified Loader'!O56=\"Y\",\"Family\",IF('Simplified Loader'!O56=\"In-force\",\"Family\",IF('Simplified Loader'!O56=\"In force\",\"Family\",IF('Simplified Loader'!O56=\"Applies\",\"Family\",IF('Simplified Loader'!O56=\"Applicable\",\"Family\",\"\"))))))))","v":""},{"$f":"IF('Simplified Loader'!P56=\"English\",\"English\",IF('Simplified Loader'!P56=\"French\",\"French\",IF('Simplified Loader'!P56=\"E\",\"English\",IF('Simplified Loader'!P56=\"F\",\"French\",\"\"))))","v":""},{"$f":"IF('Simplified Loader'!Q56=\"Yes\",\"Yes\",IF('Simplified Loader'!Q56=\"No\",\"No\",IF('Simplified Loader'!Q56=\"Y\",\"Yes\",IF('Simplified Loader'!Q56=\"N\",\"No\",\"\"))))","v":""},{"$f":"IF('Simplified Loader'!R56>0,'Simplified Loader'!R56,\"\")","v":""},{"$f":"IF('Simplified Loader'!S56>0,'Simplified Loader'!S56,\"\")","v":""},{"$f":"IF('Simplified Loader'!T56>0,'Simplified Loader'!T56,\"\")","v":""},{"$f":"IF('Simplified Loader'!U56>0,'Simplified Loader'!U56,\"\")","v":""},{"$f":"IF('Simplified Loader'!V56=\"Waive\",\"Yes\",\"\")","v":""},{"$f":"IF('Simplified Loader'!W56=\"Waive\",\"Yes\",\"\")","v":""},{"$f":"IF('Simplified Loader'!X56>0,'Simplified Loader'!X56,\"\")","v":""},{"$f":"IF('Simplified Loader'!Y56>0,'Simplified Loader'!Y56,\"\")","v":""},{"$f":"IF('Simplified Loader'!Z56>0,'Simplified Loader'!Z56,\"\")","v":""},{"$f":"IF('Simplified Loader'!AA56>0,'Simplified Loader'!AA56,\"\")","v":""},{"$f":"IF('Simplified Loader'!AB56>0,'Simplified Loader'!AB56,\"\")","v":""},{"$f":"IF('Simplified Loader'!AC56>0,'Simplified Loader'!AC56,\"\")","v":" "},{"$f":"IF('Simplified Loader'!AE56>0,'Simplified Loader'!AE56&\" \",\"\")&IF('Simplified Loader'!AD56>0,'Simplified Loader'!AD56,\"\")","v":""},null,{"$f":"IF('Simplified Loader'!AF56>0,'Simplified Loader'!AF56,\"\")","v":""},{"$f":"IF('Simplified Loader'!AG56>0,'Simplified Loader'!AG56,\"\")","v":""},{"$f":"IF('Simplified Loader'!AH56>0,'Simplified Loader'!AH56,\"\")","v":""},{"$f":"IF('Simplified Loader'!AI56>0,'Simplified Loader'!AI56,\"\")","v":""},{"$f":"IF('Simplified Loader'!AJ56>0,'Simplified Loader'!AJ56,\"\")","v":""},{"$f":"IF('Simplified Loader'!AK56>0,'Simplified Loader'!AK56,\"\")","v":""},{"$f":"IF('Simplified Loader'!AL56>0,'Simplified Loader'!AL56,\"\")","v":""},{"$f":"IF('Simplified Loader'!AM56>0,'Simplified Loader'!AM56,\"\")","v":""},{"$f":"IF('Simplified Loader'!AN56=\"Male\",\"Male\",IF('Simplified Loader'!AN56=\"Female\",\"Female\",IF('Simplified Loader'!AN56=\"M\",\"Male\",IF('Simplified Loader'!AN56=\"F\",\"Female\",\"\"))))","v":""},{"$f":"IF('Simplified Loader'!AO56=\"Single\",\"Single\",IF('Simplified Loader'!AO56=\"Family\",\"Family\",IF('Simplified Loader'!AO56=\"S\",\"Single\",IF('Simplified Loader'!AO56=\"F\",\"Family\",\"\"))))","v":""},{"$f":"IF('Simplified Loader'!AP56=\"Single\",\"Single\",IF('Simplified Loader'!AP56=\"Family\",\"Family\",IF('Simplified Loader'!AP56=\"S\",\"Single\",IF('Simplified Loader'!AP56=\"F\",\"Family\",\"\"))))","v":""},{"$f":"IF('Simplified Loader'!AQ56>0,'Simplified Loader'!AQ56,\"\")","v":""},{"$f":"IF('Simplified Loader'!AR56=\"Yes\",\"Yes\",IF('Simplified Loader'!AR56=\"No\",\"No\",IF('Simplified Loader'!AR56=\"Y\",\"Yes\",IF('Simplified Loader'!AR56=\"N\",\"No\",\"\"))))","v":""},{"$f":"IF('Simplified Loader'!AS56>0,'Simplified Loader'!AS56,\"\")","v":""},{"$f":"IF('Simplified Loader'!AT56>0,'Simplified Loader'!AT56,\"\")","v":""},{"$f":"IF('Simplified Loader'!AU56>0,'Simplified Loader'!AU56,\"\")","v":""},{"$f":"IF('Simplified Loader'!AV56=\"Male\",\"Male\",IF('Simplified Loader'!AV56=\"Female\",\"Female\",IF('Simplified Loader'!AV56=\"M\",\"Male\",IF('Simplified Loader'!AV56=\"F\",\"Female\",\"\"))))","v":""},{"$f":"IF('Simplified Loader'!AW56=\"Yes\",\"Yes\",IF('Simplified Loader'!AW56=\"No\",\"No\",IF('Simplified Loader'!AW56=\"Y\",\"Yes\",IF('Simplified Loader'!AW56=\"N\",\"No\",\"\"))))","v":""},{"$f":"IF('Simplified Loader'!AX56=\"Yes\",\"Yes\",IF('Simplified Loader'!AX56=\"No\",\"No\",IF('Simplified Loader'!AX56=\"Y\",\"Yes\",IF('Simplified Loader'!AX56=\"N\",\"No\",\"\"))))","v":""},{"$f":"IF('Simplified Loader'!AY56>0,'Simplified Loader'!AY56,\"\")","v":""},{"$f":"IF('Simplified Loader'!AZ56>0,'Simplified Loader'!AZ56,\"\")","v":""},{"$f":"IF('Simplified Loader'!BA56>0,'Simplified Loader'!BA56,\"\")","v":""},{"$f":"IF('Simplified Loader'!BB56=\"Male\",\"Male\",IF('Simplified Loader'!BB56=\"Female\",\"Female\",IF('Simplified Loader'!BB56=\"M\",\"Male\",IF('Simplified Loader'!BB56=\"F\",\"Female\",\"\"))))","v":""},{"$f":"IF('Simplified Loader'!BC56=\"Yes\",\"Yes\",IF('Simplified Loader'!BC56=\"No\",\"No\",IF('Simplified Loader'!BC56=\"Y\",\"Yes\",IF('Simplified Loader'!BC56=\"N\",\"No\",\"\"))))","v":""},{"$f":"IF('Simplified Loader'!BD56=\"Yes\",\"Yes\",IF('Simplified Loader'!BD56=\"No\",\"No\",IF('Simplified Loader'!BD56=\"Y\",\"Yes\",IF('Simplified Loader'!BD56=\"N\",\"No\",\"\"))))","v":""},{"$f":"IF('Simplified Loader'!BE56>0,'Simplified Loader'!BE56,\"\")","v":""},{"$f":"IF('Simplified Loader'!BF56>0,'Simplified Loader'!BF56,\"\")","v":""},{"$f":"IF('Simplified Loader'!BG56>0,'Simplified Loader'!BG56,\"\")","v":""},{"$f":"IF('Simplified Loader'!BH56=\"Male\",\"Male\",IF('Simplified Loader'!BH56=\"Female\",\"Female\",IF('Simplified Loader'!BH56=\"M\",\"Male\",IF('Simplified Loader'!BH56=\"F\",\"Female\",\"\"))))","v":""},{"$f":"IF('Simplified Loader'!BI56=\"Yes\",\"Yes\",IF('Simplified Loader'!BI56=\"No\",\"No\",IF('Simplified Loader'!BI56=\"Y\",\"Yes\",IF('Simplified Loader'!BI56=\"N\",\"No\",\"\"))))","v":""},{"$f":"IF('Simplified Loader'!BJ56=\"Yes\",\"Yes\",IF('Simplified Loader'!BJ56=\"No\",\"No\",IF('Simplified Loader'!BJ56=\"Y\",\"Yes\",IF('Simplified Loader'!BJ56=\"N\",\"No\",\"\"))))","v":""},{"$f":"IF('Simplified Loader'!BK56>0,'Simplified Loader'!BK56,\"\")","v":""},{"$f":"IF('Simplified Loader'!BL56>0,'Simplified Loader'!BL56,\"\")","v":""},{"$f":"IF('Simplified Loader'!BM56>0,'Simplified Loader'!BM56,\"\")","v":""},{"$f":"IF('Simplified Loader'!BN56=\"Male\",\"Male\",IF('Simplified Loader'!BN56=\"Female\",\"Female\",IF('Simplified Loader'!BN56=\"M\",\"Male\",IF('Simplified Loader'!BN56=\"F\",\"Female\",\"\"))))","v":""},{"$f":"IF('Simplified Loader'!BO56=\"Yes\",\"Yes\",IF('Simplified Loader'!BO56=\"No\",\"No\",IF('Simplified Loader'!BO56=\"Y\",\"Yes\",IF('Simplified Loader'!BO56=\"N\",\"No\",\"\"))))","v":""},{"$f":"IF('Simplified Loader'!BP56=\"Yes\",\"Yes\",IF('Simplified Loader'!BP56=\"No\",\"No\",IF('Simplified Loader'!BP56=\"Y\",\"Yes\",IF('Simplified Loader'!BP56=\"N\",\"No\",\"\"))))","v":""},{"$f":"IF('Simplified Loader'!BQ56>0,'Simplified Loader'!BQ56,\"\")","v":""},{"$f":"IF('Simplified Loader'!BR56>0,'Simplified Loader'!BR56,\"\")","v":""},{"$f":"IF('Simplified Loader'!BS56>0,'Simplified Loader'!BS56,\"\")","v":""},{"$f":"IF('Simplified Loader'!BT56=\"Male\",\"Male\",IF('Simplified Loader'!BT56=\"Female\",\"Female\",IF('Simplified Loader'!BT56=\"M\",\"Male\",IF('Simplified Loader'!BT56=\"F\",\"Female\",\"\"))))","v":""},{"$f":"IF('Simplified Loader'!BU56=\"Yes\",\"Yes\",IF('Simplified Loader'!BU56=\"No\",\"No\",IF('Simplified Loader'!BU56=\"Y\",\"Yes\",IF('Simplified Loader'!BU56=\"N\",\"No\",\"\"))))","v":""},{"$f":"IF('Simplified Loader'!BV56=\"Yes\",\"Yes\",IF('Simplified Loader'!BV56=\"No\",\"No\",IF('Simplified Loader'!BV56=\"Y\",\"Yes\",IF('Simplified Loader'!BV56=\"N\",\"No\",\"\"))))","v":""},{"$f":"IF('Simplified Loader'!BW56>0,'Simplified Loader'!BW56,\"\")","v":""},{"$f":"IF('Simplified Loader'!BX56>0,'Simplified Loader'!BX56,\"\")","v":""},{"$f":"IF('Simplified Loader'!BY56>0,'Simplified Loader'!BY56,\"\")","v":""},{"$f":"IF('Simplified Loader'!BZ56=\"Male\",\"Male\",IF('Simplified Loader'!BZ56=\"Female\",\"Female\",IF('Simplified Loader'!BZ56=\"M\",\"Male\",IF('Simplified Loader'!BZ56=\"F\",\"Female\",\"\"))))","v":""},{"$f":"IF('Simplified Loader'!CA56=\"Yes\",\"Yes\",IF('Simplified Loader'!CA56=\"No\",\"No\",IF('Simplified Loader'!CA56=\"Y\",\"Yes\",IF('Simplified Loader'!CA56=\"N\",\"No\",\"\"))))","v":""},{"$f":"IF('Simplified Loader'!CB56=\"Yes\",\"Yes\",IF('Simplified Loader'!CB56=\"No\",\"No\",IF('Simplified Loader'!CB56=\"Y\",\"Yes\",IF('Simplified Loader'!CB56=\"N\",\"No\",\"\"))))","v":""},{"$f":"IF('Simplified Loader'!CH56>0,'Simplified Loader'!CH56,\"\")","v":"    "}]
[{"$f":"IF('Simplified Loader'!A57>0,'Simplified Loader'!A57,\"\")","v":""},{"$f":"IF('Simplified Loader'!B57>0,'Simplified Loader'!B57,\"\")","v":""},{"$f":"IF('Simplified Loader'!C57>0,'Simplified Loader'!C57,\"\")","v":""},{"$f":"IF('Simplified Loader'!D57>0,'Simplified Loader'!D57,\"\")","v":""},{"$f":"IF('Simplified Loader'!E57>0,TEXT('Simplified Loader'!E57,\"000\"),\"\")","v":""},{"$f":"IF('Simplified Loader'!F57>0,'Simplified Loader'!F57,\"\")","v":""},{"$f":"IF('Simplified Loader'!G57>0,'Simplified Loader'!G57,\"\")","v":""},{"$f":"IF('Simplified Loader'!I57>0,'Simplified Loader'!I57,\"\")","v":""},{"$f":"IF('Simplified Loader'!J57>0,'Simplified Loader'!J57,\"\")","v":""},{"$f":"IF('Simplified Loader'!K57>0,'Simplified Loader'!K57,\"\")","v":""},{"$f":"IF('Simplified Loader'!L57>0,'Simplified Loader'!L57,\"\")","v":""},{"$f":"IF('Simplified Loader'!M57=\"Male\",\"Male\",IF('Simplified Loader'!M57=\"Female\",\"Female\",IF('Simplified Loader'!M57=\"M\",\"Male\",IF('Simplified Loader'!M57=\"F\",\"Female\",\"\"))))","v":""},{"$f":"IF('Simplified Loader'!N57=\"Yes\",\"Yes\",IF('Simplified Loader'!N57=\"No\",\"No\",IF('Simplified Loader'!N57=\"Y\",\"Yes\",IF('Simplified Loader'!N57=\"N\",\"No\",\"\"))))","v":""},{"$f":"IF('Simplified Loader'!O57=\"No\",\"Single\",IF('Simplified Loader'!O57=\"Yes\",\"Family\",IF('Simplified Loader'!O57=\"N\",\"Single\",IF('Simplified Loader'!O57=\"Y\",\"Family\",IF('Simplified Loader'!O57=\"In-force\",\"Family\",IF('Simplified Loader'!O57=\"In force\",\"Family\",IF('Simplified Loader'!O57=\"Applies\",\"Family\",IF('Simplified Loader'!O57=\"Applicable\",\"Family\",\"\"))))))))","v":""},{"$f":"IF('Simplified Loader'!P57=\"English\",\"English\",IF('Simplified Loader'!P57=\"French\",\"French\",IF('Simplified Loader'!P57=\"E\",\"English\",IF('Simplified Loader'!P57=\"F\",\"French\",\"\"))))","v":""},{"$f":"IF('Simplified Loader'!Q57=\"Yes\",\"Yes\",IF('Simplified Loader'!Q57=\"No\",\"No\",IF('Simplified Loader'!Q57=\"Y\",\"Yes\",IF('Simplified Loader'!Q57=\"N\",\"No\",\"\"))))","v":""},{"$f":"IF('Simplified Loader'!R57>0,'Simplified Loader'!R57,\"\")","v":""},{"$f":"IF('Simplified Loader'!S57>0,'Simplified Loader'!S57,\"\")","v":""},{"$f":"IF('Simplified Loader'!T57>0,'Simplified Loader'!T57,\"\")","v":""},{"$f":"IF('Simplified Loader'!U57>0,'Simplified Loader'!U57,\"\")","v":""},{"$f":"IF('Simplified Loader'!V57=\"Waive\",\"Yes\",\"\")","v":""},{"$f":"IF('Simplified Loader'!W57=\"Waive\",\"Yes\",\"\")","v":""},{"$f":"IF('Simplified Loader'!X57>0,'Simplified Loader'!X57,\"\")","v":""},{"$f":"IF('Simplified Loader'!Y57>0,'Simplified Loader'!Y57,\"\")","v":""},{"$f":"IF('Simplified Loader'!Z57>0,'Simplified Loader'!Z57,\"\")","v":""},{"$f":"IF('Simplified Loader'!AA57>0,'Simplified Loader'!AA57,\"\")","v":""},{"$f":"IF('Simplified Loader'!AB57>0,'Simplified Loader'!AB57,\"\")","v":""},{"$f":"IF('Simplified Loader'!AC57>0,'Simplified Loader'!AC57,\"\")","v":" "},{"$f":"IF('Simplified Loader'!AE57>0,'Simplified Loader'!AE57&\" \",\"\")&IF('Simplified Loader'!AD57>0,'Simplified Loader'!AD57,\"\")","v":""},null,{"$f":"IF('Simplified Loader'!AF57>0,'Simplified Loader'!AF57,\"\")","v":""},{"$f":"IF('Simplified Loader'!AG57>0,'Simplified Loader'!AG57,\"\")","v":""},{"$f":"IF('Simplified Loader'!AH57>0,'Simplified Loader'!AH57,\"\")","v":""},{"$f":"IF('Simplified Loader'!AI57>0,'Simplified Loader'!AI57,\"\")","v":""},{"$f":"IF('Simplified Loader'!AJ57>0,'Simplified Loader'!AJ57,\"\")","v":""},{"$f":"IF('Simplified Loader'!AK57>0,'Simplified Loader'!AK57,\"\")","v":""},{"$f":"IF('Simplified Loader'!AL57>0,'Simplified Loader'!AL57,\"\")","v":""},{"$f":"IF('Simplified Loader'!AM57>0,'Simplified Loader'!AM57,\"\")","v":""},{"$f":"IF('Simplified Loader'!AN57=\"Male\",\"Male\",IF('Simplified Loader'!AN57=\"Female\",\"Female\",IF('Simplified Loader'!AN57=\"M\",\"Male\",IF('Simplified Loader'!AN57=\"F\",\"Female\",\"\"))))","v":""},{"$f":"IF('Simplified Loader'!AO57=\"Single\",\"Single\",IF('Simplified Loader'!AO57=\"Family\",\"Family\",IF('Simplified Loader'!AO57=\"S\",\"Single\",IF('Simplified Loader'!AO57=\"F\",\"Family\",\"\"))))","v":""},{"$f":"IF('Simplified Loader'!AP57=\"Single\",\"Single\",IF('Simplified Loader'!AP57=\"Family\",\"Family\",IF('Simplified Loader'!AP57=\"S\",\"Single\",IF('Simplified Loader'!AP57=\"F\",\"Family\",\"\"))))","v":""},{"$f":"IF('Simplified Loader'!AQ57>0,'Simplified Loader'!AQ57,\"\")","v":""},{"$f":"IF('Simplified Loader'!AR57=\"Yes\",\"Yes\",IF('Simplified Loader'!AR57=\"No\",\"No\",IF('Simplified Loader'!AR57=\"Y\",\"Yes\",IF('Simplified Loader'!AR57=\"N\",\"No\",\"\"))))","v":""},{"$f":"IF('Simplified Loader'!AS57>0,'Simplified Loader'!AS57,\"\")","v":""},{"$f":"IF('Simplified Loader'!AT57>0,'Simplified Loader'!AT57,\"\")","v":""},{"$f":"IF('Simplified Loader'!AU57>0,'Simplified Loader'!AU57,\"\")","v":""},{"$f":"IF('Simplified Loader'!AV57=\"Male\",\"Male\",IF('Simplified Loader'!AV57=\"Female\",\"Female\",IF('Simplified Loader'!AV57=\"M\",\"Male\",IF('Simplified Loader'!AV57=\"F\",\"Female\",\"\"))))","v":""},{"$f":"IF('Simplified Loader'!AW57=\"Yes\",\"Yes\",IF('Simplified Loader'!AW57=\"No\",\"No\",IF('Simplified Loader'!AW57=\"Y\",\"Yes\",IF('Simplified Loader'!AW57=\"N\",\"No\",\"\"))))","v":""},{"$f":"IF('Simplified Loader'!AX57=\"Yes\",\"Yes\",IF('Simplified Loader'!AX57=\"No\",\"No\",IF('Simplified Loader'!AX57=\"Y\",\"Yes\",IF('Simplified Loader'!AX57=\"N\",\"No\",\"\"))))","v":""},{"$f":"IF('Simplified Loader'!AY57>0,'Simplified Loader'!AY57,\"\")","v":""},{"$f":"IF('Simplified Loader'!AZ57>0,'Simplified Loader'!AZ57,\"\")","v":""},{"$f":"IF('Simplified Loader'!BA57>0,'Simplified Loader'!BA57,\"\")","v":""},{"$f":"IF('Simplified Loader'!BB57=\"Male\",\"Male\",IF('Simplified Loader'!BB57=\"Female\",\"Female\",IF('Simplified Loader'!BB57=\"M\",\"Male\",IF('Simplified Loader'!BB57=\"F\",\"Female\",\"\"))))","v":""},{"$f":"IF('Simplified Loader'!BC57=\"Yes\",\"Yes\",IF('Simplified Loader'!BC57=\"No\",\"No\",IF('Simplified Loader'!BC57=\"Y\",\"Yes\",IF('Simplified Loader'!BC57=\"N\",\"No\",\"\"))))","v":""},{"$f":"IF('Simplified Loader'!BD57=\"Yes\",\"Yes\",IF('Simplified Loader'!BD57=\"No\",\"No\",IF('Simplified Loader'!BD57=\"Y\",\"Yes\",IF('Simplified Loader'!BD57=\"N\",\"No\",\"\"))))","v":""},{"$f":"IF('Simplified Loader'!BE57>0,'Simplified Loader'!BE57,\"\")","v":""},{"$f":"IF('Simplified Loader'!BF57>0,'Simplified Loader'!BF57,\"\")","v":""},{"$f":"IF('Simplified Loader'!BG57>0,'Simplified Loader'!BG57,\"\")","v":""},{"$f":"IF('Simplified Loader'!BH57=\"Male\",\"Male\",IF('Simplified Loader'!BH57=\"Female\",\"Female\",IF('Simplified Loader'!BH57=\"M\",\"Male\",IF('Simplified Loader'!BH57=\"F\",\"Female\",\"\"))))","v":""},{"$f":"IF('Simplified Loader'!BI57=\"Yes\",\"Yes\",IF('Simplified Loader'!BI57=\"No\",\"No\",IF('Simplified Loader'!BI57=\"Y\",\"Yes\",IF('Simplified Loader'!BI57=\"N\",\"No\",\"\"))))","v":""},{"$f":"IF('Simplified Loader'!BJ57=\"Yes\",\"Yes\",IF('Simplified Loader'!BJ57=\"No\",\"No\",IF('Simplified Loader'!BJ57=\"Y\",\"Yes\",IF('Simplified Loader'!BJ57=\"N\",\"No\",\"\"))))","v":""},{"$f":"IF('Simplified Loader'!BK57>0,'Simplified Loader'!BK57,\"\")","v":""},{"$f":"IF('Simplified Loader'!BL57>0,'Simplified Loader'!BL57,\"\")","v":""},{"$f":"IF('Simplified Loader'!BM57>0,'Simplified Loader'!BM57,\"\")","v":""},{"$f":"IF('Simplified Loader'!BN57=\"Male\",\"Male\",IF('Simplified Loader'!BN57=\"Female\",\"Female\",IF('Simplified Loader'!BN57=\"M\",\"Male\",IF('Simplified Loader'!BN57=\"F\",\"Female\",\"\"))))","v":""},{"$f":"IF('Simplified Loader'!BO57=\"Yes\",\"Yes\",IF('Simplified Loader'!BO57=\"No\",\"No\",IF('Simplified Loader'!BO57=\"Y\",\"Yes\",IF('Simplified Loader'!BO57=\"N\",\"No\",\"\"))))","v":""},{"$f":"IF('Simplified Loader'!BP57=\"Yes\",\"Yes\",IF('Simplified Loader'!BP57=\"No\",\"No\",IF('Simplified Loader'!BP57=\"Y\",\"Yes\",IF('Simplified Loader'!BP57=\"N\",\"No\",\"\"))))","v":""},{"$f":"IF('Simplified Loader'!BQ57>0,'Simplified Loader'!BQ57,\"\")","v":""},{"$f":"IF('Simplified Loader'!BR57>0,'Simplified Loader'!BR57,\"\")","v":""},{"$f":"IF('Simplified Loader'!BS57>0,'Simplified Loader'!BS57,\"\")","v":""},{"$f":"IF('Simplified Loader'!BT57=\"Male\",\"Male\",IF('Simplified Loader'!BT57=\"Female\",\"Female\",IF('Simplified Loader'!BT57=\"M\",\"Male\",IF('Simplified Loader'!BT57=\"F\",\"Female\",\"\"))))","v":""},{"$f":"IF('Simplified Loader'!BU57=\"Yes\",\"Yes\",IF('Simplified Loader'!BU57=\"No\",\"No\",IF('Simplified Loader'!BU57=\"Y\",\"Yes\",IF('Simplified Loader'!BU57=\"N\",\"No\",\"\"))))","v":""},{"$f":"IF('Simplified Loader'!BV57=\"Yes\",\"Yes\",IF('Simplified Loader'!BV57=\"No\",\"No\",IF('Simplified Loader'!BV57=\"Y\",\"Yes\",IF('Simplified Loader'!BV57=\"N\",\"No\",\"\"))))","v":""},{"$f":"IF('Simplified Loader'!BW57>0,'Simplified Loader'!BW57,\"\")","v":""},{"$f":"IF('Simplified Loader'!BX57>0,'Simplified Loader'!BX57,\"\")","v":""},{"$f":"IF('Simplified Loader'!BY57>0,'Simplified Loader'!BY57,\"\")","v":""},{"$f":"IF('Simplified Loader'!BZ57=\"Male\",\"Male\",IF('Simplified Loader'!BZ57=\"Female\",\"Female\",IF('Simplified Loader'!BZ57=\"M\",\"Male\",IF('Simplified Loader'!BZ57=\"F\",\"Female\",\"\"))))","v":""},{"$f":"IF('Simplified Loader'!CA57=\"Yes\",\"Yes\",IF('Simplified Loader'!CA57=\"No\",\"No\",IF('Simplified Loader'!CA57=\"Y\",\"Yes\",IF('Simplified Loader'!CA57=\"N\",\"No\",\"\"))))","v":""},{"$f":"IF('Simplified Loader'!CB57=\"Yes\",\"Yes\",IF('Simplified Loader'!CB57=\"No\",\"No\",IF('Simplified Loader'!CB57=\"Y\",\"Yes\",IF('Simplified Loader'!CB57=\"N\",\"No\",\"\"))))","v":""},{"$f":"IF('Simplified Loader'!CH57>0,'Simplified Loader'!CH57,\"\")","v":"    "}]
[{"$f":"IF('Simplified Loader'!A58>0,'Simplified Loader'!A58,\"\")","v":""},{"$f":"IF('Simplified Loader'!B58>0,'Simplified Loader'!B58,\"\")","v":""},{"$f":"IF('Simplified Loader'!C58>0,'Simplified Loader'!C58,\"\")","v":""},{"$f":"IF('Simplified Loader'!D58>0,'Simplified Loader'!D58,\"\")","v":""},{"$f":"IF('Simplified Loader'!E58>0,TEXT('Simplified Loader'!E58,\"000\"),\"\")","v":""},{"$f":"IF('Simplified Loader'!F58>0,'Simplified Loader'!F58,\"\")","v":""},{"$f":"IF('Simplified Loader'!G58>0,'Simplified Loader'!G58,\"\")","v":""},{"$f":"IF('Simplified Loader'!I58>0,'Simplified Loader'!I58,\"\")","v":""},{"$f":"IF('Simplified Loader'!J58>0,'Simplified Loader'!J58,\"\")","v":""},{"$f":"IF('Simplified Loader'!K58>0,'Simplified Loader'!K58,\"\")","v":""},{"$f":"IF('Simplified Loader'!L58>0,'Simplified Loader'!L58,\"\")","v":""},{"$f":"IF('Simplified Loader'!M58=\"Male\",\"Male\",IF('Simplified Loader'!M58=\"Female\",\"Female\",IF('Simplified Loader'!M58=\"M\",\"Male\",IF('Simplified Loader'!M58=\"F\",\"Female\",\"\"))))","v":""},{"$f":"IF('Simplified Loader'!N58=\"Yes\",\"Yes\",IF('Simplified Loader'!N58=\"No\",\"No\",IF('Simplified Loader'!N58=\"Y\",\"Yes\",IF('Simplified Loader'!N58=\"N\",\"No\",\"\"))))","v":""},{"$f":"IF('Simplified Loader'!O58=\"No\",\"Single\",IF('Simplified Loader'!O58=\"Yes\",\"Family\",IF('Simplified Loader'!O58=\"N\",\"Single\",IF('Simplified Loader'!O58=\"Y\",\"Family\",IF('Simplified Loader'!O58=\"In-force\",\"Family\",IF('Simplified Loader'!O58=\"In force\",\"Family\",IF('Simplified Loader'!O58=\"Applies\",\"Family\",IF('Simplified Loader'!O58=\"Applicable\",\"Family\",\"\"))))))))","v":""},{"$f":"IF('Simplified Loader'!P58=\"English\",\"English\",IF('Simplified Loader'!P58=\"French\",\"French\",IF('Simplified Loader'!P58=\"E\",\"English\",IF('Simplified Loader'!P58=\"F\",\"French\",\"\"))))","v":""},{"$f":"IF('Simplified Loader'!Q58=\"Yes\",\"Yes\",IF('Simplified Loader'!Q58=\"No\",\"No\",IF('Simplified Loader'!Q58=\"Y\",\"Yes\",IF('Simplified Loader'!Q58=\"N\",\"No\",\"\"))))","v":""},{"$f":"IF('Simplified Loader'!R58>0,'Simplified Loader'!R58,\"\")","v":""},{"$f":"IF('Simplified Loader'!S58>0,'Simplified Loader'!S58,\"\")","v":""},{"$f":"IF('Simplified Loader'!T58>0,'Simplified Loader'!T58,\"\")","v":""},{"$f":"IF('Simplified Loader'!U58>0,'Simplified Loader'!U58,\"\")","v":""},{"$f":"IF('Simplified Loader'!V58=\"Waive\",\"Yes\",\"\")","v":""},{"$f":"IF('Simplified Loader'!W58=\"Waive\",\"Yes\",\"\")","v":""},{"$f":"IF('Simplified Loader'!X58>0,'Simplified Loader'!X58,\"\")","v":""},{"$f":"IF('Simplified Loader'!Y58>0,'Simplified Loader'!Y58,\"\")","v":""},{"$f":"IF('Simplified Loader'!Z58>0,'Simplified Loader'!Z58,\"\")","v":""},{"$f":"IF('Simplified Loader'!AA58>0,'Simplified Loader'!AA58,\"\")","v":""},{"$f":"IF('Simplified Loader'!AB58>0,'Simplified Loader'!AB58,\"\")","v":""},{"$f":"IF('Simplified Loader'!AC58>0,'Simplified Loader'!AC58,\"\")","v":" "},{"$f":"IF('Simplified Loader'!AE58>0,'Simplified Loader'!AE58&\" \",\"\")&IF('Simplified Loader'!AD58>0,'Simplified Loader'!AD58,\"\")","v":""},null,{"$f":"IF('Simplified Loader'!AF58>0,'Simplified Loader'!AF58,\"\")","v":""},{"$f":"IF('Simplified Loader'!AG58>0,'Simplified Loader'!AG58,\"\")","v":""},{"$f":"IF('Simplified Loader'!AH58>0,'Simplified Loader'!AH58,\"\")","v":""},{"$f":"IF('Simplified Loader'!AI58>0,'Simplified Loader'!AI58,\"\")","v":""},{"$f":"IF('Simplified Loader'!AJ58>0,'Simplified Loader'!AJ58,\"\")","v":""},{"$f":"IF('Simplified Loader'!AK58>0,'Simplified Loader'!AK58,\"\")","v":""},{"$f":"IF('Simplified Loader'!AL58>0,'Simplified Loader'!AL58,\"\")","v":""},{"$f":"IF('Simplified Loader'!AM58>0,'Simplified Loader'!AM58,\"\")","v":""},{"$f":"IF('Simplified Loader'!AN58=\"Male\",\"Male\",IF('Simplified Loader'!AN58=\"Female\",\"Female\",IF('Simplified Loader'!AN58=\"M\",\"Male\",IF('Simplified Loader'!AN58=\"F\",\"Female\",\"\"))))","v":""},{"$f":"IF('Simplified Loader'!AO58=\"Single\",\"Single\",IF('Simplified Loader'!AO58=\"Family\",\"Family\",IF('Simplified Loader'!AO58=\"S\",\"Single\",IF('Simplified Loader'!AO58=\"F\",\"Family\",\"\"))))","v":""},{"$f":"IF('Simplified Loader'!AP58=\"Single\",\"Single\",IF('Simplified Loader'!AP58=\"Family\",\"Family\",IF('Simplified Loader'!AP58=\"S\",\"Single\",IF('Simplified Loader'!AP58=\"F\",\"Family\",\"\"))))","v":""},{"$f":"IF('Simplified Loader'!AQ58>0,'Simplified Loader'!AQ58,\"\")","v":""},{"$f":"IF('Simplified Loader'!AR58=\"Yes\",\"Yes\",IF('Simplified Loader'!AR58=\"No\",\"No\",IF('Simplified Loader'!AR58=\"Y\",\"Yes\",IF('Simplified Loader'!AR58=\"N\",\"No\",\"\"))))","v":""},{"$f":"IF('Simplified Loader'!AS58>0,'Simplified Loader'!AS58,\"\")","v":""},{"$f":"IF('Simplified Loader'!AT58>0,'Simplified Loader'!AT58,\"\")","v":""},{"$f":"IF('Simplified Loader'!AU58>0,'Simplified Loader'!AU58,\"\")","v":""},{"$f":"IF('Simplified Loader'!AV58=\"Male\",\"Male\",IF('Simplified Loader'!AV58=\"Female\",\"Female\",IF('Simplified Loader'!AV58=\"M\",\"Male\",IF('Simplified Loader'!AV58=\"F\",\"Female\",\"\"))))","v":""},{"$f":"IF('Simplified Loader'!AW58=\"Yes\",\"Yes\",IF('Simplified Loader'!AW58=\"No\",\"No\",IF('Simplified Loader'!AW58=\"Y\",\"Yes\",IF('Simplified Loader'!AW58=\"N\",\"No\",\"\"))))","v":""},{"$f":"IF('Simplified Loader'!AX58=\"Yes\",\"Yes\",IF('Simplified Loader'!AX58=\"No\",\"No\",IF('Simplified Loader'!AX58=\"Y\",\"Yes\",IF('Simplified Loader'!AX58=\"N\",\"No\",\"\"))))","v":""},{"$f":"IF('Simplified Loader'!AY58>0,'Simplified Loader'!AY58,\"\")","v":""},{"$f":"IF('Simplified Loader'!AZ58>0,'Simplified Loader'!AZ58,\"\")","v":""},{"$f":"IF('Simplified Loader'!BA58>0,'Simplified Loader'!BA58,\"\")","v":""},{"$f":"IF('Simplified Loader'!BB58=\"Male\",\"Male\",IF('Simplified Loader'!BB58=\"Female\",\"Female\",IF('Simplified Loader'!BB58=\"M\",\"Male\",IF('Simplified Loader'!BB58=\"F\",\"Female\",\"\"))))","v":""},{"$f":"IF('Simplified Loader'!BC58=\"Yes\",\"Yes\",IF('Simplified Loader'!BC58=\"No\",\"No\",IF('Simplified Loader'!BC58=\"Y\",\"Yes\",IF('Simplified Loader'!BC58=\"N\",\"No\",\"\"))))","v":""},{"$f":"IF('Simplified Loader'!BD58=\"Yes\",\"Yes\",IF('Simplified Loader'!BD58=\"No\",\"No\",IF('Simplified Loader'!BD58=\"Y\",\"Yes\",IF('Simplified Loader'!BD58=\"N\",\"No\",\"\"))))","v":""},{"$f":"IF('Simplified Loader'!BE58>0,'Simplified Loader'!BE58,\"\")","v":""},{"$f":"IF('Simplified Loader'!BF58>0,'Simplified Loader'!BF58,\"\")","v":""},{"$f":"IF('Simplified Loader'!BG58>0,'Simplified Loader'!BG58,\"\")","v":""},{"$f":"IF('Simplified Loader'!BH58=\"Male\",\"Male\",IF('Simplified Loader'!BH58=\"Female\",\"Female\",IF('Simplified Loader'!BH58=\"M\",\"Male\",IF('Simplified Loader'!BH58=\"F\",\"Female\",\"\"))))","v":""},{"$f":"IF('Simplified Loader'!BI58=\"Yes\",\"Yes\",IF('Simplified Loader'!BI58=\"No\",\"No\",IF('Simplified Loader'!BI58=\"Y\",\"Yes\",IF('Simplified Loader'!BI58=\"N\",\"No\",\"\"))))","v":""},{"$f":"IF('Simplified Loader'!BJ58=\"Yes\",\"Yes\",IF('Simplified Loader'!BJ58=\"No\",\"No\",IF('Simplified Loader'!BJ58=\"Y\",\"Yes\",IF('Simplified Loader'!BJ58=\"N\",\"No\",\"\"))))","v":""},{"$f":"IF('Simplified Loader'!BK58>0,'Simplified Loader'!BK58,\"\")","v":""},{"$f":"IF('Simplified Loader'!BL58>0,'Simplified Loader'!BL58,\"\")","v":""},{"$f":"IF('Simplified Loader'!BM58>0,'Simplified Loader'!BM58,\"\")","v":""},{"$f":"IF('Simplified Loader'!BN58=\"Male\",\"Male\",IF('Simplified Loader'!BN58=\"Female\",\"Female\",IF('Simplified Loader'!BN58=\"M\",\"Male\",IF('Simplified Loader'!BN58=\"F\",\"Female\",\"\"))))","v":""},{"$f":"IF('Simplified Loader'!BO58=\"Yes\",\"Yes\",IF('Simplified Loader'!BO58=\"No\",\"No\",IF('Simplified Loader'!BO58=\"Y\",\"Yes\",IF('Simplified Loader'!BO58=\"N\",\"No\",\"\"))))","v":""},{"$f":"IF('Simplified Loader'!BP58=\"Yes\",\"Yes\",IF('Simplified Loader'!BP58=\"No\",\"No\",IF('Simplified Loader'!BP58=\"Y\",\"Yes\",IF('Simplified Loader'!BP58=\"N\",\"No\",\"\"))))","v":""},{"$f":"IF('Simplified Loader'!BQ58>0,'Simplified Loader'!BQ58,\"\")","v":""},{"$f":"IF('Simplified Loader'!BR58>0,'Simplified Loader'!BR58,\"\")","v":""},{"$f":"IF('Simplified Loader'!BS58>0,'Simplified Loader'!BS58,\"\")","v":""},{"$f":"IF('Simplified Loader'!BT58=\"Male\",\"Male\",IF('Simplified Loader'!BT58=\"Female\",\"Female\",IF('Simplified Loader'!BT58=\"M\",\"Male\",IF('Simplified Loader'!BT58=\"F\",\"Female\",\"\"))))","v":""},{"$f":"IF('Simplified Loader'!BU58=\"Yes\",\"Yes\",IF('Simplified Loader'!BU58=\"No\",\"No\",IF('Simplified Loader'!BU58=\"Y\",\"Yes\",IF('Simplified Loader'!BU58=\"N\",\"No\",\"\"))))","v":""},{"$f":"IF('Simplified Loader'!BV58=\"Yes\",\"Yes\",IF('Simplified Loader'!BV58=\"No\",\"No\",IF('Simplified Loader'!BV58=\"Y\",\"Yes\",IF('Simplified Loader'!BV58=\"N\",\"No\",\"\"))))","v":""},{"$f":"IF('Simplified Loader'!BW58>0,'Simplified Loader'!BW58,\"\")","v":""},{"$f":"IF('Simplified Loader'!BX58>0,'Simplified Loader'!BX58,\"\")","v":""},{"$f":"IF('Simplified Loader'!BY58>0,'Simplified Loader'!BY58,\"\")","v":""},{"$f":"IF('Simplified Loader'!BZ58=\"Male\",\"Male\",IF('Simplified Loader'!BZ58=\"Female\",\"Female\",IF('Simplified Loader'!BZ58=\"M\",\"Male\",IF('Simplified Loader'!BZ58=\"F\",\"Female\",\"\"))))","v":""},{"$f":"IF('Simplified Loader'!CA58=\"Yes\",\"Yes\",IF('Simplified Loader'!CA58=\"No\",\"No\",IF('Simplified Loader'!CA58=\"Y\",\"Yes\",IF('Simplified Loader'!CA58=\"N\",\"No\",\"\"))))","v":""},{"$f":"IF('Simplified Loader'!CB58=\"Yes\",\"Yes\",IF('Simplified Loader'!CB58=\"No\",\"No\",IF('Simplified Loader'!CB58=\"Y\",\"Yes\",IF('Simplified Loader'!CB58=\"N\",\"No\",\"\"))))","v":""},{"$f":"IF('Simplified Loader'!CH58>0,'Simplified Loader'!CH58,\"\")","v":"    "}]
[{"$f":"IF('Simplified Loader'!A59>0,'Simplified Loader'!A59,\"\")","v":""},{"$f":"IF('Simplified Loader'!B59>0,'Simplified Loader'!B59,\"\")","v":""},{"$f":"IF('Simplified Loader'!C59>0,'Simplified Loader'!C59,\"\")","v":""},{"$f":"IF('Simplified Loader'!D59>0,'Simplified Loader'!D59,\"\")","v":""},{"$f":"IF('Simplified Loader'!E59>0,TEXT('Simplified Loader'!E59,\"000\"),\"\")","v":""},{"$f":"IF('Simplified Loader'!F59>0,'Simplified Loader'!F59,\"\")","v":""},{"$f":"IF('Simplified Loader'!G59>0,'Simplified Loader'!G59,\"\")","v":""},{"$f":"IF('Simplified Loader'!I59>0,'Simplified Loader'!I59,\"\")","v":""},{"$f":"IF('Simplified Loader'!J59>0,'Simplified Loader'!J59,\"\")","v":""},{"$f":"IF('Simplified Loader'!K59>0,'Simplified Loader'!K59,\"\")","v":""},{"$f":"IF('Simplified Loader'!L59>0,'Simplified Loader'!L59,\"\")","v":""},{"$f":"IF('Simplified Loader'!M59=\"Male\",\"Male\",IF('Simplified Loader'!M59=\"Female\",\"Female\",IF('Simplified Loader'!M59=\"M\",\"Male\",IF('Simplified Loader'!M59=\"F\",\"Female\",\"\"))))","v":""},{"$f":"IF('Simplified Loader'!N59=\"Yes\",\"Yes\",IF('Simplified Loader'!N59=\"No\",\"No\",IF('Simplified Loader'!N59=\"Y\",\"Yes\",IF('Simplified Loader'!N59=\"N\",\"No\",\"\"))))","v":""},{"$f":"IF('Simplified Loader'!O59=\"No\",\"Single\",IF('Simplified Loader'!O59=\"Yes\",\"Family\",IF('Simplified Loader'!O59=\"N\",\"Single\",IF('Simplified Loader'!O59=\"Y\",\"Family\",IF('Simplified Loader'!O59=\"In-force\",\"Family\",IF('Simplified Loader'!O59=\"In force\",\"Family\",IF('Simplified Loader'!O59=\"Applies\",\"Family\",IF('Simplified Loader'!O59=\"Applicable\",\"Family\",\"\"))))))))","v":""},{"$f":"IF('Simplified Loader'!P59=\"English\",\"English\",IF('Simplified Loader'!P59=\"French\",\"French\",IF('Simplified Loader'!P59=\"E\",\"English\",IF('Simplified Loader'!P59=\"F\",\"French\",\"\"))))","v":""},{"$f":"IF('Simplified Loader'!Q59=\"Yes\",\"Yes\",IF('Simplified Loader'!Q59=\"No\",\"No\",IF('Simplified Loader'!Q59=\"Y\",\"Yes\",IF('Simplified Loader'!Q59=\"N\",\"No\",\"\"))))","v":""},{"$f":"IF('Simplified Loader'!R59>0,'Simplified Loader'!R59,\"\")","v":""},{"$f":"IF('Simplified Loader'!S59>0,'Simplified Loader'!S59,\"\")","v":""},{"$f":"IF('Simplified Loader'!T59>0,'Simplified Loader'!T59,\"\")","v":""},{"$f":"IF('Simplified Loader'!U59>0,'Simplified Loader'!U59,\"\")","v":""},{"$f":"IF('Simplified Loader'!V59=\"Waive\",\"Yes\",\"\")","v":""},{"$f":"IF('Simplified Loader'!W59=\"Waive\",\"Yes\",\"\")","v":""},{"$f":"IF('Simplified Loader'!X59>0,'Simplified Loader'!X59,\"\")","v":""},{"$f":"IF('Simplified Loader'!Y59>0,'Simplified Loader'!Y59,\"\")","v":""},{"$f":"IF('Simplified Loader'!Z59>0,'Simplified Loader'!Z59,\"\")","v":""},{"$f":"IF('Simplified Loader'!AA59>0,'Simplified Loader'!AA59,\"\")","v":""},{"$f":"IF('Simplified Loader'!AB59>0,'Simplified Loader'!AB59,\"\")","v":""},{"$f":"IF('Simplified Loader'!AC59>0,'Simplified Loader'!AC59,\"\")","v":" "},{"$f":"IF('Simplified Loader'!AE59>0,'Simplified Loader'!AE59&\" \",\"\")&IF('Simplified Loader'!AD59>0,'Simplified Loader'!AD59,\"\")","v":""},null,{"$f":"IF('Simplified Loader'!AF59>0,'Simplified Loader'!AF59,\"\")","v":""},{"$f":"IF('Simplified Loader'!AG59>0,'Simplified Loader'!AG59,\"\")","v":""},{"$f":"IF('Simplified Loader'!AH59>0,'Simplified Loader'!AH59,\"\")","v":""},{"$f":"IF('Simplified Loader'!AI59>0,'Simplified Loader'!AI59,\"\")","v":""},{"$f":"IF('Simplified Loader'!AJ59>0,'Simplified Loader'!AJ59,\"\")","v":""},{"$f":"IF('Simplified Loader'!AK59>0,'Simplified Loader'!AK59,\"\")","v":""},{"$f":"IF('Simplified Loader'!AL59>0,'Simplified Loader'!AL59,\"\")","v":""},{"$f":"IF('Simplified Loader'!AM59>0,'Simplified Loader'!AM59,\"\")","v":""},{"$f":"IF('Simplified Loader'!AN59=\"Male\",\"Male\",IF('Simplified Loader'!AN59=\"Female\",\"Female\",IF('Simplified Loader'!AN59=\"M\",\"Male\",IF('Simplified Loader'!AN59=\"F\",\"Female\",\"\"))))","v":""},{"$f":"IF('Simplified Loader'!AO59=\"Single\",\"Single\",IF('Simplified Loader'!AO59=\"Family\",\"Family\",IF('Simplified Loader'!AO59=\"S\",\"Single\",IF('Simplified Loader'!AO59=\"F\",\"Family\",\"\"))))","v":""},{"$f":"IF('Simplified Loader'!AP59=\"Single\",\"Single\",IF('Simplified Loader'!AP59=\"Family\",\"Family\",IF('Simplified Loader'!AP59=\"S\",\"Single\",IF('Simplified Loader'!AP59=\"F\",\"Family\",\"\"))))","v":""},{"$f":"IF('Simplified Loader'!AQ59>0,'Simplified Loader'!AQ59,\"\")","v":""},{"$f":"IF('Simplified Loader'!AR59=\"Yes\",\"Yes\",IF('Simplified Loader'!AR59=\"No\",\"No\",IF('Simplified Loader'!AR59=\"Y\",\"Yes\",IF('Simplified Loader'!AR59=\"N\",\"No\",\"\"))))","v":""},{"$f":"IF('Simplified Loader'!AS59>0,'Simplified Loader'!AS59,\"\")","v":""},{"$f":"IF('Simplified Loader'!AT59>0,'Simplified Loader'!AT59,\"\")","v":""},{"$f":"IF('Simplified Loader'!AU59>0,'Simplified Loader'!AU59,\"\")","v":""},{"$f":"IF('Simplified Loader'!AV59=\"Male\",\"Male\",IF('Simplified Loader'!AV59=\"Female\",\"Female\",IF('Simplified Loader'!AV59=\"M\",\"Male\",IF('Simplified Loader'!AV59=\"F\",\"Female\",\"\"))))","v":""},{"$f":"IF('Simplified Loader'!AW59=\"Yes\",\"Yes\",IF('Simplified Loader'!AW59=\"No\",\"No\",IF('Simplified Loader'!AW59=\"Y\",\"Yes\",IF('Simplified Loader'!AW59=\"N\",\"No\",\"\"))))","v":""},{"$f":"IF('Simplified Loader'!AX59=\"Yes\",\"Yes\",IF('Simplified Loader'!AX59=\"No\",\"No\",IF('Simplified Loader'!AX59=\"Y\",\"Yes\",IF('Simplified Loader'!AX59=\"N\",\"No\",\"\"))))","v":""},{"$f":"IF('Simplified Loader'!AY59>0,'Simplified Loader'!AY59,\"\")","v":""},{"$f":"IF('Simplified Loader'!AZ59>0,'Simplified Loader'!AZ59,\"\")","v":""},{"$f":"IF('Simplified Loader'!BA59>0,'Simplified Loader'!BA59,\"\")","v":""},{"$f":"IF('Simplified Loader'!BB59=\"Male\",\"Male\",IF('Simplified Loader'!BB59=\"Female\",\"Female\",IF('Simplified Loader'!BB59=\"M\",\"Male\",IF('Simplified Loader'!BB59=\"F\",\"Female\",\"\"))))","v":""},{"$f":"IF('Simplified Loader'!BC59=\"Yes\",\"Yes\",IF('Simplified Loader'!BC59=\"No\",\"No\",IF('Simplified Loader'!BC59=\"Y\",\"Yes\",IF('Simplified Loader'!BC59=\"N\",\"No\",\"\"))))","v":""},{"$f":"IF('Simplified Loader'!BD59=\"Yes\",\"Yes\",IF('Simplified Loader'!BD59=\"No\",\"No\",IF('Simplified Loader'!BD59=\"Y\",\"Yes\",IF('Simplified Loader'!BD59=\"N\",\"No\",\"\"))))","v":""},{"$f":"IF('Simplified Loader'!BE59>0,'Simplified Loader'!BE59,\"\")","v":""},{"$f":"IF('Simplified Loader'!BF59>0,'Simplified Loader'!BF59,\"\")","v":""},{"$f":"IF('Simplified Loader'!BG59>0,'Simplified Loader'!BG59,\"\")","v":""},{"$f":"IF('Simplified Loader'!BH59=\"Male\",\"Male\",IF('Simplified Loader'!BH59=\"Female\",\"Female\",IF('Simplified Loader'!BH59=\"M\",\"Male\",IF('Simplified Loader'!BH59=\"F\",\"Female\",\"\"))))","v":""},{"$f":"IF('Simplified Loader'!BI59=\"Yes\",\"Yes\",IF('Simplified Loader'!BI59=\"No\",\"No\",IF('Simplified Loader'!BI59=\"Y\",\"Yes\",IF('Simplified Loader'!BI59=\"N\",\"No\",\"\"))))","v":""},{"$f":"IF('Simplified Loader'!BJ59=\"Yes\",\"Yes\",IF('Simplified Loader'!BJ59=\"No\",\"No\",IF('Simplified Loader'!BJ59=\"Y\",\"Yes\",IF('Simplified Loader'!BJ59=\"N\",\"No\",\"\"))))","v":""},{"$f":"IF('Simplified Loader'!BK59>0,'Simplified Loader'!BK59,\"\")","v":""},{"$f":"IF('Simplified Loader'!BL59>0,'Simplified Loader'!BL59,\"\")","v":""},{"$f":"IF('Simplified Loader'!BM59>0,'Simplified Loader'!BM59,\"\")","v":""},{"$f":"IF('Simplified Loader'!BN59=\"Male\",\"Male\",IF('Simplified Loader'!BN59=\"Female\",\"Female\",IF('Simplified Loader'!BN59=\"M\",\"Male\",IF('Simplified Loader'!BN59=\"F\",\"Female\",\"\"))))","v":""},{"$f":"IF('Simplified Loader'!BO59=\"Yes\",\"Yes\",IF('Simplified Loader'!BO59=\"No\",\"No\",IF('Simplified Loader'!BO59=\"Y\",\"Yes\",IF('Simplified Loader'!BO59=\"N\",\"No\",\"\"))))","v":""},{"$f":"IF('Simplified Loader'!BP59=\"Yes\",\"Yes\",IF('Simplified Loader'!BP59=\"No\",\"No\",IF('Simplified Loader'!BP59=\"Y\",\"Yes\",IF('Simplified Loader'!BP59=\"N\",\"No\",\"\"))))","v":""},{"$f":"IF('Simplified Loader'!BQ59>0,'Simplified Loader'!BQ59,\"\")","v":""},{"$f":"IF('Simplified Loader'!BR59>0,'Simplified Loader'!BR59,\"\")","v":""},{"$f":"IF('Simplified Loader'!BS59>0,'Simplified Loader'!BS59,\"\")","v":""},{"$f":"IF('Simplified Loader'!BT59=\"Male\",\"Male\",IF('Simplified Loader'!BT59=\"Female\",\"Female\",IF('Simplified Loader'!BT59=\"M\",\"Male\",IF('Simplified Loader'!BT59=\"F\",\"Female\",\"\"))))","v":""},{"$f":"IF('Simplified Loader'!BU59=\"Yes\",\"Yes\",IF('Simplified Loader'!BU59=\"No\",\"No\",IF('Simplified Loader'!BU59=\"Y\",\"Yes\",IF('Simplified Loader'!BU59=\"N\",\"No\",\"\"))))","v":""},{"$f":"IF('Simplified Loader'!BV59=\"Yes\",\"Yes\",IF('Simplified Loader'!BV59=\"No\",\"No\",IF('Simplified Loader'!BV59=\"Y\",\"Yes\",IF('Simplified Loader'!BV59=\"N\",\"No\",\"\"))))","v":""},{"$f":"IF('Simplified Loader'!BW59>0,'Simplified Loader'!BW59,\"\")","v":""},{"$f":"IF('Simplified Loader'!BX59>0,'Simplified Loader'!BX59,\"\")","v":""},{"$f":"IF('Simplified Loader'!BY59>0,'Simplified Loader'!BY59,\"\")","v":""},{"$f":"IF('Simplified Loader'!BZ59=\"Male\",\"Male\",IF('Simplified Loader'!BZ59=\"Female\",\"Female\",IF('Simplified Loader'!BZ59=\"M\",\"Male\",IF('Simplified Loader'!BZ59=\"F\",\"Female\",\"\"))))","v":""},{"$f":"IF('Simplified Loader'!CA59=\"Yes\",\"Yes\",IF('Simplified Loader'!CA59=\"No\",\"No\",IF('Simplified Loader'!CA59=\"Y\",\"Yes\",IF('Simplified Loader'!CA59=\"N\",\"No\",\"\"))))","v":""},{"$f":"IF('Simplified Loader'!CB59=\"Yes\",\"Yes\",IF('Simplified Loader'!CB59=\"No\",\"No\",IF('Simplified Loader'!CB59=\"Y\",\"Yes\",IF('Simplified Loader'!CB59=\"N\",\"No\",\"\"))))","v":""},{"$f":"IF('Simplified Loader'!CH59>0,'Simplified Loader'!CH59,\"\")","v":"    "}]
[{"$f":"IF('Simplified Loader'!A60>0,'Simplified Loader'!A60,\"\")","v":""},{"$f":"IF('Simplified Loader'!B60>0,'Simplified Loader'!B60,\"\")","v":""},{"$f":"IF('Simplified Loader'!C60>0,'Simplified Loader'!C60,\"\")","v":""},{"$f":"IF('Simplified Loader'!D60>0,'Simplified Loader'!D60,\"\")","v":""},{"$f":"IF('Simplified Loader'!E60>0,TEXT('Simplified Loader'!E60,\"000\"),\"\")","v":""},{"$f":"IF('Simplified Loader'!F60>0,'Simplified Loader'!F60,\"\")","v":""},{"$f":"IF('Simplified Loader'!G60>0,'Simplified Loader'!G60,\"\")","v":""},{"$f":"IF('Simplified Loader'!I60>0,'Simplified Loader'!I60,\"\")","v":""},{"$f":"IF('Simplified Loader'!J60>0,'Simplified Loader'!J60,\"\")","v":""},{"$f":"IF('Simplified Loader'!K60>0,'Simplified Loader'!K60,\"\")","v":""},{"$f":"IF('Simplified Loader'!L60>0,'Simplified Loader'!L60,\"\")","v":""},{"$f":"IF('Simplified Loader'!M60=\"Male\",\"Male\",IF('Simplified Loader'!M60=\"Female\",\"Female\",IF('Simplified Loader'!M60=\"M\",\"Male\",IF('Simplified Loader'!M60=\"F\",\"Female\",\"\"))))","v":""},{"$f":"IF('Simplified Loader'!N60=\"Yes\",\"Yes\",IF('Simplified Loader'!N60=\"No\",\"No\",IF('Simplified Loader'!N60=\"Y\",\"Yes\",IF('Simplified Loader'!N60=\"N\",\"No\",\"\"))))","v":""},{"$f":"IF('Simplified Loader'!O60=\"No\",\"Single\",IF('Simplified Loader'!O60=\"Yes\",\"Family\",IF('Simplified Loader'!O60=\"N\",\"Single\",IF('Simplified Loader'!O60=\"Y\",\"Family\",IF('Simplified Loader'!O60=\"In-force\",\"Family\",IF('Simplified Loader'!O60=\"In force\",\"Family\",IF('Simplified Loader'!O60=\"Applies\",\"Family\",IF('Simplified Loader'!O60=\"Applicable\",\"Family\",\"\"))))))))","v":""},{"$f":"IF('Simplified Loader'!P60=\"English\",\"English\",IF('Simplified Loader'!P60=\"French\",\"French\",IF('Simplified Loader'!P60=\"E\",\"English\",IF('Simplified Loader'!P60=\"F\",\"French\",\"\"))))","v":""},{"$f":"IF('Simplified Loader'!Q60=\"Yes\",\"Yes\",IF('Simplified Loader'!Q60=\"No\",\"No\",IF('Simplified Loader'!Q60=\"Y\",\"Yes\",IF('Simplified Loader'!Q60=\"N\",\"No\",\"\"))))","v":""},{"$f":"IF('Simplified Loader'!R60>0,'Simplified Loader'!R60,\"\")","v":""},{"$f":"IF('Simplified Loader'!S60>0,'Simplified Loader'!S60,\"\")","v":""},{"$f":"IF('Simplified Loader'!T60>0,'Simplified Loader'!T60,\"\")","v":""},{"$f":"IF('Simplified Loader'!U60>0,'Simplified Loader'!U60,\"\")","v":""},{"$f":"IF('Simplified Loader'!V60=\"Waive\",\"Yes\",\"\")","v":""},{"$f":"IF('Simplified Loader'!W60=\"Waive\",\"Yes\",\"\")","v":""},{"$f":"IF('Simplified Loader'!X60>0,'Simplified Loader'!X60,\"\")","v":""},{"$f":"IF('Simplified Loader'!Y60>0,'Simplified Loader'!Y60,\"\")","v":""},{"$f":"IF('Simplified Loader'!Z60>0,'Simplified Loader'!Z60,\"\")","v":""},{"$f":"IF('Simplified Loader'!AA60>0,'Simplified Loader'!AA60,\"\")","v":""},{"$f":"IF('Simplified Loader'!AB60>0,'Simplified Loader'!AB60,\"\")","v":""},{"$f":"IF('Simplified Loader'!AC60>0,'Simplified Loader'!AC60,\"\")","v":" "},{"$f":"IF('Simplified Loader'!AE60>0,'Simplified Loader'!AE60&\" \",\"\")&IF('Simplified Loader'!AD60>0,'Simplified Loader'!AD60,\"\")","v":""},null,{"$f":"IF('Simplified Loader'!AF60>0,'Simplified Loader'!AF60,\"\")","v":""},{"$f":"IF('Simplified Loader'!AG60>0,'Simplified Loader'!AG60,\"\")","v":""},{"$f":"IF('Simplified Loader'!AH60>0,'Simplified Loader'!AH60,\"\")","v":""},{"$f":"IF('Simplified Loader'!AI60>0,'Simplified Loader'!AI60,\"\")","v":""},{"$f":"IF('Simplified Loader'!AJ60>0,'Simplified Loader'!AJ60,\"\")","v":""},{"$f":"IF('Simplified Loader'!AK60>0,'Simplified Loader'!AK60,\"\")","v":""},{"$f":"IF('Simplified Loader'!AL60>0,'Simplified Loader'!AL60,\"\")","v":""},{"$f":"IF('Simplified Loader'!AM60>0,'Simplified Loader'!AM60,\"\")","v":""},{"$f":"IF('Simplified Loader'!AN60=\"Male\",\"Male\",IF('Simplified Loader'!AN60=\"Female\",\"Female\",IF('Simplified Loader'!AN60=\"M\",\"Male\",IF('Simplified Loader'!AN60=\"F\",\"Female\",\"\"))))","v":""},{"$f":"IF('Simplified Loader'!AO60=\"Single\",\"Single\",IF('Simplified Loader'!AO60=\"Family\",\"Family\",IF('Simplified Loader'!AO60=\"S\",\"Single\",IF('Simplified Loader'!AO60=\"F\",\"Family\",\"\"))))","v":""},{"$f":"IF('Simplified Loader'!AP60=\"Single\",\"Single\",IF('Simplified Loader'!AP60=\"Family\",\"Family\",IF('Simplified Loader'!AP60=\"S\",\"Single\",IF('Simplified Loader'!AP60=\"F\",\"Family\",\"\"))))","v":""},{"$f":"IF('Simplified Loader'!AQ60>0,'Simplified Loader'!AQ60,\"\")","v":""},{"$f":"IF('Simplified Loader'!AR60=\"Yes\",\"Yes\",IF('Simplified Loader'!AR60=\"No\",\"No\",IF('Simplified Loader'!AR60=\"Y\",\"Yes\",IF('Simplified Loader'!AR60=\"N\",\"No\",\"\"))))","v":""},{"$f":"IF('Simplified Loader'!AS60>0,'Simplified Loader'!AS60,\"\")","v":""},{"$f":"IF('Simplified Loader'!AT60>0,'Simplified Loader'!AT60,\"\")","v":""},{"$f":"IF('Simplified Loader'!AU60>0,'Simplified Loader'!AU60,\"\")","v":""},{"$f":"IF('Simplified Loader'!AV60=\"Male\",\"Male\",IF('Simplified Loader'!AV60=\"Female\",\"Female\",IF('Simplified Loader'!AV60=\"M\",\"Male\",IF('Simplified Loader'!AV60=\"F\",\"Female\",\"\"))))","v":""},{"$f":"IF('Simplified Loader'!AW60=\"Yes\",\"Yes\",IF('Simplified Loader'!AW60=\"No\",\"No\",IF('Simplified Loader'!AW60=\"Y\",\"Yes\",IF('Simplified Loader'!AW60=\"N\",\"No\",\"\"))))","v":""},{"$f":"IF('Simplified Loader'!AX60=\"Yes\",\"Yes\",IF('Simplified Loader'!AX60=\"No\",\"No\",IF('Simplified Loader'!AX60=\"Y\",\"Yes\",IF('Simplified Loader'!AX60=\"N\",\"No\",\"\"))))","v":""},{"$f":"IF('Simplified Loader'!AY60>0,'Simplified Loader'!AY60,\"\")","v":""},{"$f":"IF('Simplified Loader'!AZ60>0,'Simplified Loader'!AZ60,\"\")","v":""},{"$f":"IF('Simplified Loader'!BA60>0,'Simplified Loader'!BA60,\"\")","v":""},{"$f":"IF('Simplified Loader'!BB60=\"Male\",\"Male\",IF('Simplified Loader'!BB60=\"Female\",\"Female\",IF('Simplified Loader'!BB60=\"M\",\"Male\",IF('Simplified Loader'!BB60=\"F\",\"Female\",\"\"))))","v":""},{"$f":"IF('Simplified Loader'!BC60=\"Yes\",\"Yes\",IF('Simplified Loader'!BC60=\"No\",\"No\",IF('Simplified Loader'!BC60=\"Y\",\"Yes\",IF('Simplified Loader'!BC60=\"N\",\"No\",\"\"))))","v":""},{"$f":"IF('Simplified Loader'!BD60=\"Yes\",\"Yes\",IF('Simplified Loader'!BD60=\"No\",\"No\",IF('Simplified Loader'!BD60=\"Y\",\"Yes\",IF('Simplified Loader'!BD60=\"N\",\"No\",\"\"))))","v":""},{"$f":"IF('Simplified Loader'!BE60>0,'Simplified Loader'!BE60,\"\")","v":""},{"$f":"IF('Simplified Loader'!BF60>0,'Simplified Loader'!BF60,\"\")","v":""},{"$f":"IF('Simplified Loader'!BG60>0,'Simplified Loader'!BG60,\"\")","v":""},{"$f":"IF('Simplified Loader'!BH60=\"Male\",\"Male\",IF('Simplified Loader'!BH60=\"Female\",\"Female\",IF('Simplified Loader'!BH60=\"M\",\"Male\",IF('Simplified Loader'!BH60=\"F\",\"Female\",\"\"))))","v":""},{"$f":"IF('Simplified Loader'!BI60=\"Yes\",\"Yes\",IF('Simplified Loader'!BI60=\"No\",\"No\",IF('Simplified Loader'!BI60=\"Y\",\"Yes\",IF('Simplified Loader'!BI60=\"N\",\"No\",\"\"))))","v":""},{"$f":"IF('Simplified Loader'!BJ60=\"Yes\",\"Yes\",IF('Simplified Loader'!BJ60=\"No\",\"No\",IF('Simplified Loader'!BJ60=\"Y\",\"Yes\",IF('Simplified Loader'!BJ60=\"N\",\"No\",\"\"))))","v":""},{"$f":"IF('Simplified Loader'!BK60>0,'Simplified Loader'!BK60,\"\")","v":""},{"$f":"IF('Simplified Loader'!BL60>0,'Simplified Loader'!BL60,\"\")","v":""},{"$f":"IF('Simplified Loader'!BM60>0,'Simplified Loader'!BM60,\"\")","v":""},{"$f":"IF('Simplified Loader'!BN60=\"Male\",\"Male\",IF('Simplified Loader'!BN60=\"Female\",\"Female\",IF('Simplified Loader'!BN60=\"M\",\"Male\",IF('Simplified Loader'!BN60=\"F\",\"Female\",\"\"))))","v":""},{"$f":"IF('Simplified Loader'!BO60=\"Yes\",\"Yes\",IF('Simplified Loader'!BO60=\"No\",\"No\",IF('Simplified Loader'!BO60=\"Y\",\"Yes\",IF('Simplified Loader'!BO60=\"N\",\"No\",\"\"))))","v":""},{"$f":"IF('Simplified Loader'!BP60=\"Yes\",\"Yes\",IF('Simplified Loader'!BP60=\"No\",\"No\",IF('Simplified Loader'!BP60=\"Y\",\"Yes\",IF('Simplified Loader'!BP60=\"N\",\"No\",\"\"))))","v":""},{"$f":"IF('Simplified Loader'!BQ60>0,'Simplified Loader'!BQ60,\"\")","v":""},{"$f":"IF('Simplified Loader'!BR60>0,'Simplified Loader'!BR60,\"\")","v":""},{"$f":"IF('Simplified Loader'!BS60>0,'Simplified Loader'!BS60,\"\")","v":""},{"$f":"IF('Simplified Loader'!BT60=\"Male\",\"Male\",IF('Simplified Loader'!BT60=\"Female\",\"Female\",IF('Simplified Loader'!BT60=\"M\",\"Male\",IF('Simplified Loader'!BT60=\"F\",\"Female\",\"\"))))","v":""},{"$f":"IF('Simplified Loader'!BU60=\"Yes\",\"Yes\",IF('Simplified Loader'!BU60=\"No\",\"No\",IF('Simplified Loader'!BU60=\"Y\",\"Yes\",IF('Simplified Loader'!BU60=\"N\",\"No\",\"\"))))","v":""},{"$f":"IF('Simplified Loader'!BV60=\"Yes\",\"Yes\",IF('Simplified Loader'!BV60=\"No\",\"No\",IF('Simplified Loader'!BV60=\"Y\",\"Yes\",IF('Simplified Loader'!BV60=\"N\",\"No\",\"\"))))","v":""},{"$f":"IF('Simplified Loader'!BW60>0,'Simplified Loader'!BW60,\"\")","v":""},{"$f":"IF('Simplified Loader'!BX60>0,'Simplified Loader'!BX60,\"\")","v":""},{"$f":"IF('Simplified Loader'!BY60>0,'Simplified Loader'!BY60,\"\")","v":""},{"$f":"IF('Simplified Loader'!BZ60=\"Male\",\"Male\",IF('Simplified Loader'!BZ60=\"Female\",\"Female\",IF('Simplified Loader'!BZ60=\"M\",\"Male\",IF('Simplified Loader'!BZ60=\"F\",\"Female\",\"\"))))","v":""},{"$f":"IF('Simplified Loader'!CA60=\"Yes\",\"Yes\",IF('Simplified Loader'!CA60=\"No\",\"No\",IF('Simplified Loader'!CA60=\"Y\",\"Yes\",IF('Simplified Loader'!CA60=\"N\",\"No\",\"\"))))","v":""},{"$f":"IF('Simplified Loader'!CB60=\"Yes\",\"Yes\",IF('Simplified Loader'!CB60=\"No\",\"No\",IF('Simplified Loader'!CB60=\"Y\",\"Yes\",IF('Simplified Loader'!CB60=\"N\",\"No\",\"\"))))","v":""},{"$f":"IF('Simplified Loader'!CH60>0,'Simplified Loader'!CH60,\"\")","v":"    "}]
[{"$f":"IF('Simplified Loader'!A61>0,'Simplified Loader'!A61,\"\")","v":""},{"$f":"IF('Simplified Loader'!B61>0,'Simplified Loader'!B61,\"\")","v":""},{"$f":"IF('Simplified Loader'!C61>0,'Simplified Loader'!C61,\"\")","v":""},{"$f":"IF('Simplified Loader'!D61>0,'Simplified Loader'!D61,\"\")","v":""},{"$f":"IF('Simplified Loader'!E61>0,TEXT('Simplified Loader'!E61,\"000\"),\"\")","v":""},{"$f":"IF('Simplified Loader'!F61>0,'Simplified Loader'!F61,\"\")","v":""},{"$f":"IF('Simplified Loader'!G61>0,'Simplified Loader'!G61,\"\")","v":""},{"$f":"IF('Simplified Loader'!I61>0,'Simplified Loader'!I61,\"\")","v":""},{"$f":"IF('Simplified Loader'!J61>0,'Simplified Loader'!J61,\"\")","v":""},{"$f":"IF('Simplified Loader'!K61>0,'Simplified Loader'!K61,\"\")","v":""},{"$f":"IF('Simplified Loader'!L61>0,'Simplified Loader'!L61,\"\")","v":""},{"$f":"IF('Simplified Loader'!M61=\"Male\",\"Male\",IF('Simplified Loader'!M61=\"Female\",\"Female\",IF('Simplified Loader'!M61=\"M\",\"Male\",IF('Simplified Loader'!M61=\"F\",\"Female\",\"\"))))","v":""},{"$f":"IF('Simplified Loader'!N61=\"Yes\",\"Yes\",IF('Simplified Loader'!N61=\"No\",\"No\",IF('Simplified Loader'!N61=\"Y\",\"Yes\",IF('Simplified Loader'!N61=\"N\",\"No\",\"\"))))","v":""},{"$f":"IF('Simplified Loader'!O61=\"No\",\"Single\",IF('Simplified Loader'!O61=\"Yes\",\"Family\",IF('Simplified Loader'!O61=\"N\",\"Single\",IF('Simplified Loader'!O61=\"Y\",\"Family\",IF('Simplified Loader'!O61=\"In-force\",\"Family\",IF('Simplified Loader'!O61=\"In force\",\"Family\",IF('Simplified Loader'!O61=\"Applies\",\"Family\",IF('Simplified Loader'!O61=\"Applicable\",\"Family\",\"\"))))))))","v":""},{"$f":"IF('Simplified Loader'!P61=\"English\",\"English\",IF('Simplified Loader'!P61=\"French\",\"French\",IF('Simplified Loader'!P61=\"E\",\"English\",IF('Simplified Loader'!P61=\"F\",\"French\",\"\"))))","v":""},{"$f":"IF('Simplified Loader'!Q61=\"Yes\",\"Yes\",IF('Simplified Loader'!Q61=\"No\",\"No\",IF('Simplified Loader'!Q61=\"Y\",\"Yes\",IF('Simplified Loader'!Q61=\"N\",\"No\",\"\"))))","v":""},{"$f":"IF('Simplified Loader'!R61>0,'Simplified Loader'!R61,\"\")","v":""},{"$f":"IF('Simplified Loader'!S61>0,'Simplified Loader'!S61,\"\")","v":""},{"$f":"IF('Simplified Loader'!T61>0,'Simplified Loader'!T61,\"\")","v":""},{"$f":"IF('Simplified Loader'!U61>0,'Simplified Loader'!U61,\"\")","v":""},{"$f":"IF('Simplified Loader'!V61=\"Waive\",\"Yes\",\"\")","v":""},{"$f":"IF('Simplified Loader'!W61=\"Waive\",\"Yes\",\"\")","v":""},{"$f":"IF('Simplified Loader'!X61>0,'Simplified Loader'!X61,\"\")","v":""},{"$f":"IF('Simplified Loader'!Y61>0,'Simplified Loader'!Y61,\"\")","v":""},{"$f":"IF('Simplified Loader'!Z61>0,'Simplified Loader'!Z61,\"\")","v":""},{"$f":"IF('Simplified Loader'!AA61>0,'Simplified Loader'!AA61,\"\")","v":""},{"$f":"IF('Simplified Loader'!AB61>0,'Simplified Loader'!AB61,\"\")","v":""},{"$f":"IF('Simplified Loader'!AC61>0,'Simplified Loader'!AC61,\"\")","v":" "},{"$f":"IF('Simplified Loader'!AE61>0,'Simplified Loader'!AE61&\" \",\"\")&IF('Simplified Loader'!AD61>0,'Simplified Loader'!AD61,\"\")","v":""},null,{"$f":"IF('Simplified Loader'!AF61>0,'Simplified Loader'!AF61,\"\")","v":""},{"$f":"IF('Simplified Loader'!AG61>0,'Simplified Loader'!AG61,\"\")","v":""},{"$f":"IF('Simplified Loader'!AH61>0,'Simplified Loader'!AH61,\"\")","v":""},{"$f":"IF('Simplified Loader'!AI61>0,'Simplified Loader'!AI61,\"\")","v":""},{"$f":"IF('Simplified Loader'!AJ61>0,'Simplified Loader'!AJ61,\"\")","v":""},{"$f":"IF('Simplified Loader'!AK61>0,'Simplified Loader'!AK61,\"\")","v":""},{"$f":"IF('Simplified Loader'!AL61>0,'Simplified Loader'!AL61,\"\")","v":""},{"$f":"IF('Simplified Loader'!AM61>0,'Simplified Loader'!AM61,\"\")","v":""},{"$f":"IF('Simplified Loader'!AN61=\"Male\",\"Male\",IF('Simplified Loader'!AN61=\"Female\",\"Female\",IF('Simplified Loader'!AN61=\"M\",\"Male\",IF('Simplified Loader'!AN61=\"F\",\"Female\",\"\"))))","v":""},{"$f":"IF('Simplified Loader'!AO61=\"Single\",\"Single\",IF('Simplified Loader'!AO61=\"Family\",\"Family\",IF('Simplified Loader'!AO61=\"S\",\"Single\",IF('Simplified Loader'!AO61=\"F\",\"Family\",\"\"))))","v":""},{"$f":"IF('Simplified Loader'!AP61=\"Single\",\"Single\",IF('Simplified Loader'!AP61=\"Family\",\"Family\",IF('Simplified Loader'!AP61=\"S\",\"Single\",IF('Simplified Loader'!AP61=\"F\",\"Family\",\"\"))))","v":""},{"$f":"IF('Simplified Loader'!AQ61>0,'Simplified Loader'!AQ61,\"\")","v":""},{"$f":"IF('Simplified Loader'!AR61=\"Yes\",\"Yes\",IF('Simplified Loader'!AR61=\"No\",\"No\",IF('Simplified Loader'!AR61=\"Y\",\"Yes\",IF('Simplified Loader'!AR61=\"N\",\"No\",\"\"))))","v":""},{"$f":"IF('Simplified Loader'!AS61>0,'Simplified Loader'!AS61,\"\")","v":""},{"$f":"IF('Simplified Loader'!AT61>0,'Simplified Loader'!AT61,\"\")","v":""},{"$f":"IF('Simplified Loader'!AU61>0,'Simplified Loader'!AU61,\"\")","v":""},{"$f":"IF('Simplified Loader'!AV61=\"Male\",\"Male\",IF('Simplified Loader'!AV61=\"Female\",\"Female\",IF('Simplified Loader'!AV61=\"M\",\"Male\",IF('Simplified Loader'!AV61=\"F\",\"Female\",\"\"))))","v":""},{"$f":"IF('Simplified Loader'!AW61=\"Yes\",\"Yes\",IF('Simplified Loader'!AW61=\"No\",\"No\",IF('Simplified Loader'!AW61=\"Y\",\"Yes\",IF('Simplified Loader'!AW61=\"N\",\"No\",\"\"))))","v":""},{"$f":"IF('Simplified Loader'!AX61=\"Yes\",\"Yes\",IF('Simplified Loader'!AX61=\"No\",\"No\",IF('Simplified Loader'!AX61=\"Y\",\"Yes\",IF('Simplified Loader'!AX61=\"N\",\"No\",\"\"))))","v":""},{"$f":"IF('Simplified Loader'!AY61>0,'Simplified Loader'!AY61,\"\")","v":""},{"$f":"IF('Simplified Loader'!AZ61>0,'Simplified Loader'!AZ61,\"\")","v":""},{"$f":"IF('Simplified Loader'!BA61>0,'Simplified Loader'!BA61,\"\")","v":""},{"$f":"IF('Simplified Loader'!BB61=\"Male\",\"Male\",IF('Simplified Loader'!BB61=\"Female\",\"Female\",IF('Simplified Loader'!BB61=\"M\",\"Male\",IF('Simplified Loader'!BB61=\"F\",\"Female\",\"\"))))","v":""},{"$f":"IF('Simplified Loader'!BC61=\"Yes\",\"Yes\",IF('Simplified Loader'!BC61=\"No\",\"No\",IF('Simplified Loader'!BC61=\"Y\",\"Yes\",IF('Simplified Loader'!BC61=\"N\",\"No\",\"\"))))","v":""},{"$f":"IF('Simplified Loader'!BD61=\"Yes\",\"Yes\",IF('Simplified Loader'!BD61=\"No\",\"No\",IF('Simplified Loader'!BD61=\"Y\",\"Yes\",IF('Simplified Loader'!BD61=\"N\",\"No\",\"\"))))","v":""},{"$f":"IF('Simplified Loader'!BE61>0,'Simplified Loader'!BE61,\"\")","v":""},{"$f":"IF('Simplified Loader'!BF61>0,'Simplified Loader'!BF61,\"\")","v":""},{"$f":"IF('Simplified Loader'!BG61>0,'Simplified Loader'!BG61,\"\")","v":""},{"$f":"IF('Simplified Loader'!BH61=\"Male\",\"Male\",IF('Simplified Loader'!BH61=\"Female\",\"Female\",IF('Simplified Loader'!BH61=\"M\",\"Male\",IF('Simplified Loader'!BH61=\"F\",\"Female\",\"\"))))","v":""},{"$f":"IF('Simplified Loader'!BI61=\"Yes\",\"Yes\",IF('Simplified Loader'!BI61=\"No\",\"No\",IF('Simplified Loader'!BI61=\"Y\",\"Yes\",IF('Simplified Loader'!BI61=\"N\",\"No\",\"\"))))","v":""},{"$f":"IF('Simplified Loader'!BJ61=\"Yes\",\"Yes\",IF('Simplified Loader'!BJ61=\"No\",\"No\",IF('Simplified Loader'!BJ61=\"Y\",\"Yes\",IF('Simplified Loader'!BJ61=\"N\",\"No\",\"\"))))","v":""},{"$f":"IF('Simplified Loader'!BK61>0,'Simplified Loader'!BK61,\"\")","v":""},{"$f":"IF('Simplified Loader'!BL61>0,'Simplified Loader'!BL61,\"\")","v":""},{"$f":"IF('Simplified Loader'!BM61>0,'Simplified Loader'!BM61,\"\")","v":""},{"$f":"IF('Simplified Loader'!BN61=\"Male\",\"Male\",IF('Simplified Loader'!BN61=\"Female\",\"Female\",IF('Simplified Loader'!BN61=\"M\",\"Male\",IF('Simplified Loader'!BN61=\"F\",\"Female\",\"\"))))","v":""},{"$f":"IF('Simplified Loader'!BO61=\"Yes\",\"Yes\",IF('Simplified Loader'!BO61=\"No\",\"No\",IF('Simplified Loader'!BO61=\"Y\",\"Yes\",IF('Simplified Loader'!BO61=\"N\",\"No\",\"\"))))","v":""},{"$f":"IF('Simplified Loader'!BP61=\"Yes\",\"Yes\",IF('Simplified Loader'!BP61=\"No\",\"No\",IF('Simplified Loader'!BP61=\"Y\",\"Yes\",IF('Simplified Loader'!BP61=\"N\",\"No\",\"\"))))","v":""},{"$f":"IF('Simplified Loader'!BQ61>0,'Simplified Loader'!BQ61,\"\")","v":""},{"$f":"IF('Simplified Loader'!BR61>0,'Simplified Loader'!BR61,\"\")","v":""},{"$f":"IF('Simplified Loader'!BS61>0,'Simplified Loader'!BS61,\"\")","v":""},{"$f":"IF('Simplified Loader'!BT61=\"Male\",\"Male\",IF('Simplified Loader'!BT61=\"Female\",\"Female\",IF('Simplified Loader'!BT61=\"M\",\"Male\",IF('Simplified Loader'!BT61=\"F\",\"Female\",\"\"))))","v":""},{"$f":"IF('Simplified Loader'!BU61=\"Yes\",\"Yes\",IF('Simplified Loader'!BU61=\"No\",\"No\",IF('Simplified Loader'!BU61=\"Y\",\"Yes\",IF('Simplified Loader'!BU61=\"N\",\"No\",\"\"))))","v":""},{"$f":"IF('Simplified Loader'!BV61=\"Yes\",\"Yes\",IF('Simplified Loader'!BV61=\"No\",\"No\",IF('Simplified Loader'!BV61=\"Y\",\"Yes\",IF('Simplified Loader'!BV61=\"N\",\"No\",\"\"))))","v":""},{"$f":"IF('Simplified Loader'!BW61>0,'Simplified Loader'!BW61,\"\")","v":""},{"$f":"IF('Simplified Loader'!BX61>0,'Simplified Loader'!BX61,\"\")","v":""},{"$f":"IF('Simplified Loader'!BY61>0,'Simplified Loader'!BY61,\"\")","v":""},{"$f":"IF('Simplified Loader'!BZ61=\"Male\",\"Male\",IF('Simplified Loader'!BZ61=\"Female\",\"Female\",IF('Simplified Loader'!BZ61=\"M\",\"Male\",IF('Simplified Loader'!BZ61=\"F\",\"Female\",\"\"))))","v":""},{"$f":"IF('Simplified Loader'!CA61=\"Yes\",\"Yes\",IF('Simplified Loader'!CA61=\"No\",\"No\",IF('Simplified Loader'!CA61=\"Y\",\"Yes\",IF('Simplified Loader'!CA61=\"N\",\"No\",\"\"))))","v":""},{"$f":"IF('Simplified Loader'!CB61=\"Yes\",\"Yes\",IF('Simplified Loader'!CB61=\"No\",\"No\",IF('Simplified Loader'!CB61=\"Y\",\"Yes\",IF('Simplified Loader'!CB61=\"N\",\"No\",\"\"))))","v":""},{"$f":"IF('Simplified Loader'!CH61>0,'Simplified Loader'!CH61,\"\")","v":"    "}]
[{"$f":"IF('Simplified Loader'!A62>0,'Simplified Loader'!A62,\"\")","v":""},{"$f":"IF('Simplified Loader'!B62>0,'Simplified Loader'!B62,\"\")","v":""},{"$f":"IF('Simplified Loader'!C62>0,'Simplified Loader'!C62,\"\")","v":""},{"$f":"IF('Simplified Loader'!D62>0,'Simplified Loader'!D62,\"\")","v":""},{"$f":"IF('Simplified Loader'!E62>0,TEXT('Simplified Loader'!E62,\"000\"),\"\")","v":""},{"$f":"IF('Simplified Loader'!F62>0,'Simplified Loader'!F62,\"\")","v":""},{"$f":"IF('Simplified Loader'!G62>0,'Simplified Loader'!G62,\"\")","v":""},{"$f":"IF('Simplified Loader'!I62>0,'Simplified Loader'!I62,\"\")","v":""},{"$f":"IF('Simplified Loader'!J62>0,'Simplified Loader'!J62,\"\")","v":""},{"$f":"IF('Simplified Loader'!K62>0,'Simplified Loader'!K62,\"\")","v":""},{"$f":"IF('Simplified Loader'!L62>0,'Simplified Loader'!L62,\"\")","v":""},{"$f":"IF('Simplified Loader'!M62=\"Male\",\"Male\",IF('Simplified Loader'!M62=\"Female\",\"Female\",IF('Simplified Loader'!M62=\"M\",\"Male\",IF('Simplified Loader'!M62=\"F\",\"Female\",\"\"))))","v":""},{"$f":"IF('Simplified Loader'!N62=\"Yes\",\"Yes\",IF('Simplified Loader'!N62=\"No\",\"No\",IF('Simplified Loader'!N62=\"Y\",\"Yes\",IF('Simplified Loader'!N62=\"N\",\"No\",\"\"))))","v":""},{"$f":"IF('Simplified Loader'!O62=\"No\",\"Single\",IF('Simplified Loader'!O62=\"Yes\",\"Family\",IF('Simplified Loader'!O62=\"N\",\"Single\",IF('Simplified Loader'!O62=\"Y\",\"Family\",IF('Simplified Loader'!O62=\"In-force\",\"Family\",IF('Simplified Loader'!O62=\"In force\",\"Family\",IF('Simplified Loader'!O62=\"Applies\",\"Family\",IF('Simplified Loader'!O62=\"Applicable\",\"Family\",\"\"))))))))","v":""},{"$f":"IF('Simplified Loader'!P62=\"English\",\"English\",IF('Simplified Loader'!P62=\"French\",\"French\",IF('Simplified Loader'!P62=\"E\",\"English\",IF('Simplified Loader'!P62=\"F\",\"French\",\"\"))))","v":""},{"$f":"IF('Simplified Loader'!Q62=\"Yes\",\"Yes\",IF('Simplified Loader'!Q62=\"No\",\"No\",IF('Simplified Loader'!Q62=\"Y\",\"Yes\",IF('Simplified Loader'!Q62=\"N\",\"No\",\"\"))))","v":""},{"$f":"IF('Simplified Loader'!R62>0,'Simplified Loader'!R62,\"\")","v":""},{"$f":"IF('Simplified Loader'!S62>0,'Simplified Loader'!S62,\"\")","v":""},{"$f":"IF('Simplified Loader'!T62>0,'Simplified Loader'!T62,\"\")","v":""},{"$f":"IF('Simplified Loader'!U62>0,'Simplified Loader'!U62,\"\")","v":""},{"$f":"IF('Simplified Loader'!V62=\"Waive\",\"Yes\",\"\")","v":""},{"$f":"IF('Simplified Loader'!W62=\"Waive\",\"Yes\",\"\")","v":""},{"$f":"IF('Simplified Loader'!X62>0,'Simplified Loader'!X62,\"\")","v":""},{"$f":"IF('Simplified Loader'!Y62>0,'Simplified Loader'!Y62,\"\")","v":""},{"$f":"IF('Simplified Loader'!Z62>0,'Simplified Loader'!Z62,\"\")","v":""},{"$f":"IF('Simplified Loader'!AA62>0,'Simplified Loader'!AA62,\"\")","v":""},{"$f":"IF('Simplified Loader'!AB62>0,'Simplified Loader'!AB62,\"\")","v":""},{"$f":"IF('Simplified Loader'!AC62>0,'Simplified Loader'!AC62,\"\")","v":" "},{"$f":"IF('Simplified Loader'!AE62>0,'Simplified Loader'!AE62&\" \",\"\")&IF('Simplified Loader'!AD62>0,'Simplified Loader'!AD62,\"\")","v":""},null,{"$f":"IF('Simplified Loader'!AF62>0,'Simplified Loader'!AF62,\"\")","v":""},{"$f":"IF('Simplified Loader'!AG62>0,'Simplified Loader'!AG62,\"\")","v":""},{"$f":"IF('Simplified Loader'!AH62>0,'Simplified Loader'!AH62,\"\")","v":""},{"$f":"IF('Simplified Loader'!AI62>0,'Simplified Loader'!AI62,\"\")","v":""},{"$f":"IF('Simplified Loader'!AJ62>0,'Simplified Loader'!AJ62,\"\")","v":""},{"$f":"IF('Simplified Loader'!AK62>0,'Simplified Loader'!AK62,\"\")","v":""},{"$f":"IF('Simplified Loader'!AL62>0,'Simplified Loader'!AL62,\"\")","v":""},{"$f":"IF('Simplified Loader'!AM62>0,'Simplified Loader'!AM62,\"\")","v":""},{"$f":"IF('Simplified Loader'!AN62=\"Male\",\"Male\",IF('Simplified Loader'!AN62=\"Female\",\"Female\",IF('Simplified Loader'!AN62=\"M\",\"Male\",IF('Simplified Loader'!AN62=\"F\",\"Female\",\"\"))))","v":""},{"$f":"IF('Simplified Loader'!AO62=\"Single\",\"Single\",IF('Simplified Loader'!AO62=\"Family\",\"Family\",IF('Simplified Loader'!AO62=\"S\",\"Single\",IF('Simplified Loader'!AO62=\"F\",\"Family\",\"\"))))","v":""},{"$f":"IF('Simplified Loader'!AP62=\"Single\",\"Single\",IF('Simplified Loader'!AP62=\"Family\",\"Family\",IF('Simplified Loader'!AP62=\"S\",\"Single\",IF('Simplified Loader'!AP62=\"F\",\"Family\",\"\"))))","v":""},{"$f":"IF('Simplified Loader'!AQ62>0,'Simplified Loader'!AQ62,\"\")","v":""},{"$f":"IF('Simplified Loader'!AR62=\"Yes\",\"Yes\",IF('Simplified Loader'!AR62=\"No\",\"No\",IF('Simplified Loader'!AR62=\"Y\",\"Yes\",IF('Simplified Loader'!AR62=\"N\",\"No\",\"\"))))","v":""},{"$f":"IF('Simplified Loader'!AS62>0,'Simplified Loader'!AS62,\"\")","v":""},{"$f":"IF('Simplified Loader'!AT62>0,'Simplified Loader'!AT62,\"\")","v":""},{"$f":"IF('Simplified Loader'!AU62>0,'Simplified Loader'!AU62,\"\")","v":""},{"$f":"IF('Simplified Loader'!AV62=\"Male\",\"Male\",IF('Simplified Loader'!AV62=\"Female\",\"Female\",IF('Simplified Loader'!AV62=\"M\",\"Male\",IF('Simplified Loader'!AV62=\"F\",\"Female\",\"\"))))","v":""},{"$f":"IF('Simplified Loader'!AW62=\"Yes\",\"Yes\",IF('Simplified Loader'!AW62=\"No\",\"No\",IF('Simplified Loader'!AW62=\"Y\",\"Yes\",IF('Simplified Loader'!AW62=\"N\",\"No\",\"\"))))","v":""},{"$f":"IF('Simplified Loader'!AX62=\"Yes\",\"Yes\",IF('Simplified Loader'!AX62=\"No\",\"No\",IF('Simplified Loader'!AX62=\"Y\",\"Yes\",IF('Simplified Loader'!AX62=\"N\",\"No\",\"\"))))","v":""},{"$f":"IF('Simplified Loader'!AY62>0,'Simplified Loader'!AY62,\"\")","v":""},{"$f":"IF('Simplified Loader'!AZ62>0,'Simplified Loader'!AZ62,\"\")","v":""},{"$f":"IF('Simplified Loader'!BA62>0,'Simplified Loader'!BA62,\"\")","v":""},{"$f":"IF('Simplified Loader'!BB62=\"Male\",\"Male\",IF('Simplified Loader'!BB62=\"Female\",\"Female\",IF('Simplified Loader'!BB62=\"M\",\"Male\",IF('Simplified Loader'!BB62=\"F\",\"Female\",\"\"))))","v":""},{"$f":"IF('Simplified Loader'!BC62=\"Yes\",\"Yes\",IF('Simplified Loader'!BC62=\"No\",\"No\",IF('Simplified Loader'!BC62=\"Y\",\"Yes\",IF('Simplified Loader'!BC62=\"N\",\"No\",\"\"))))","v":""},{"$f":"IF('Simplified Loader'!BD62=\"Yes\",\"Yes\",IF('Simplified Loader'!BD62=\"No\",\"No\",IF('Simplified Loader'!BD62=\"Y\",\"Yes\",IF('Simplified Loader'!BD62=\"N\",\"No\",\"\"))))","v":""},{"$f":"IF('Simplified Loader'!BE62>0,'Simplified Loader'!BE62,\"\")","v":""},{"$f":"IF('Simplified Loader'!BF62>0,'Simplified Loader'!BF62,\"\")","v":""},{"$f":"IF('Simplified Loader'!BG62>0,'Simplified Loader'!BG62,\"\")","v":""},{"$f":"IF('Simplified Loader'!BH62=\"Male\",\"Male\",IF('Simplified Loader'!BH62=\"Female\",\"Female\",IF('Simplified Loader'!BH62=\"M\",\"Male\",IF('Simplified Loader'!BH62=\"F\",\"Female\",\"\"))))","v":""},{"$f":"IF('Simplified Loader'!BI62=\"Yes\",\"Yes\",IF('Simplified Loader'!BI62=\"No\",\"No\",IF('Simplified Loader'!BI62=\"Y\",\"Yes\",IF('Simplified Loader'!BI62=\"N\",\"No\",\"\"))))","v":""},{"$f":"IF('Simplified Loader'!BJ62=\"Yes\",\"Yes\",IF('Simplified Loader'!BJ62=\"No\",\"No\",IF('Simplified Loader'!BJ62=\"Y\",\"Yes\",IF('Simplified Loader'!BJ62=\"N\",\"No\",\"\"))))","v":""},{"$f":"IF('Simplified Loader'!BK62>0,'Simplified Loader'!BK62,\"\")","v":""},{"$f":"IF('Simplified Loader'!BL62>0,'Simplified Loader'!BL62,\"\")","v":""},{"$f":"IF('Simplified Loader'!BM62>0,'Simplified Loader'!BM62,\"\")","v":""},{"$f":"IF('Simplified Loader'!BN62=\"Male\",\"Male\",IF('Simplified Loader'!BN62=\"Female\",\"Female\",IF('Simplified Loader'!BN62=\"M\",\"Male\",IF('Simplified Loader'!BN62=\"F\",\"Female\",\"\"))))","v":""},{"$f":"IF('Simplified Loader'!BO62=\"Yes\",\"Yes\",IF('Simplified Loader'!BO62=\"No\",\"No\",IF('Simplified Loader'!BO62=\"Y\",\"Yes\",IF('Simplified Loader'!BO62=\"N\",\"No\",\"\"))))","v":""},{"$f":"IF('Simplified Loader'!BP62=\"Yes\",\"Yes\",IF('Simplified Loader'!BP62=\"No\",\"No\",IF('Simplified Loader'!BP62=\"Y\",\"Yes\",IF('Simplified Loader'!BP62=\"N\",\"No\",\"\"))))","v":""},{"$f":"IF('Simplified Loader'!BQ62>0,'Simplified Loader'!BQ62,\"\")","v":""},{"$f":"IF('Simplified Loader'!BR62>0,'Simplified Loader'!BR62,\"\")","v":""},{"$f":"IF('Simplified Loader'!BS62>0,'Simplified Loader'!BS62,\"\")","v":""},{"$f":"IF('Simplified Loader'!BT62=\"Male\",\"Male\",IF('Simplified Loader'!BT62=\"Female\",\"Female\",IF('Simplified Loader'!BT62=\"M\",\"Male\",IF('Simplified Loader'!BT62=\"F\",\"Female\",\"\"))))","v":""},{"$f":"IF('Simplified Loader'!BU62=\"Yes\",\"Yes\",IF('Simplified Loader'!BU62=\"No\",\"No\",IF('Simplified Loader'!BU62=\"Y\",\"Yes\",IF('Simplified Loader'!BU62=\"N\",\"No\",\"\"))))","v":""},{"$f":"IF('Simplified Loader'!BV62=\"Yes\",\"Yes\",IF('Simplified Loader'!BV62=\"No\",\"No\",IF('Simplified Loader'!BV62=\"Y\",\"Yes\",IF('Simplified Loader'!BV62=\"N\",\"No\",\"\"))))","v":""},{"$f":"IF('Simplified Loader'!BW62>0,'Simplified Loader'!BW62,\"\")","v":""},{"$f":"IF('Simplified Loader'!BX62>0,'Simplified Loader'!BX62,\"\")","v":""},{"$f":"IF('Simplified Loader'!BY62>0,'Simplified Loader'!BY62,\"\")","v":""},{"$f":"IF('Simplified Loader'!BZ62=\"Male\",\"Male\",IF('Simplified Loader'!BZ62=\"Female\",\"Female\",IF('Simplified Loader'!BZ62=\"M\",\"Male\",IF('Simplified Loader'!BZ62=\"F\",\"Female\",\"\"))))","v":""},{"$f":"IF('Simplified Loader'!CA62=\"Yes\",\"Yes\",IF('Simplified Loader'!CA62=\"No\",\"No\",IF('Simplified Loader'!CA62=\"Y\",\"Yes\",IF('Simplified Loader'!CA62=\"N\",\"No\",\"\"))))","v":""},{"$f":"IF('Simplified Loader'!CB62=\"Yes\",\"Yes\",IF('Simplified Loader'!CB62=\"No\",\"No\",IF('Simplified Loader'!CB62=\"Y\",\"Yes\",IF('Simplified Loader'!CB62=\"N\",\"No\",\"\"))))","v":""},{"$f":"IF('Simplified Loader'!CH62>0,'Simplified Loader'!CH62,\"\")","v":"    "}]
[{"$f":"IF('Simplified Loader'!A63>0,'Simplified Loader'!A63,\"\")","v":""},{"$f":"IF('Simplified Loader'!B63>0,'Simplified Loader'!B63,\"\")","v":""},{"$f":"IF('Simplified Loader'!C63>0,'Simplified Loader'!C63,\"\")","v":""},{"$f":"IF('Simplified Loader'!D63>0,'Simplified Loader'!D63,\"\")","v":""},{"$f":"IF('Simplified Loader'!E63>0,TEXT('Simplified Loader'!E63,\"000\"),\"\")","v":""},{"$f":"IF('Simplified Loader'!F63>0,'Simplified Loader'!F63,\"\")","v":""},{"$f":"IF('Simplified Loader'!G63>0,'Simplified Loader'!G63,\"\")","v":""},{"$f":"IF('Simplified Loader'!I63>0,'Simplified Loader'!I63,\"\")","v":""},{"$f":"IF('Simplified Loader'!J63>0,'Simplified Loader'!J63,\"\")","v":""},{"$f":"IF('Simplified Loader'!K63>0,'Simplified Loader'!K63,\"\")","v":""},{"$f":"IF('Simplified Loader'!L63>0,'Simplified Loader'!L63,\"\")","v":""},{"$f":"IF('Simplified Loader'!M63=\"Male\",\"Male\",IF('Simplified Loader'!M63=\"Female\",\"Female\",IF('Simplified Loader'!M63=\"M\",\"Male\",IF('Simplified Loader'!M63=\"F\",\"Female\",\"\"))))","v":""},{"$f":"IF('Simplified Loader'!N63=\"Yes\",\"Yes\",IF('Simplified Loader'!N63=\"No\",\"No\",IF('Simplified Loader'!N63=\"Y\",\"Yes\",IF('Simplified Loader'!N63=\"N\",\"No\",\"\"))))","v":""},{"$f":"IF('Simplified Loader'!O63=\"No\",\"Single\",IF('Simplified Loader'!O63=\"Yes\",\"Family\",IF('Simplified Loader'!O63=\"N\",\"Single\",IF('Simplified Loader'!O63=\"Y\",\"Family\",IF('Simplified Loader'!O63=\"In-force\",\"Family\",IF('Simplified Loader'!O63=\"In force\",\"Family\",IF('Simplified Loader'!O63=\"Applies\",\"Family\",IF('Simplified Loader'!O63=\"Applicable\",\"Family\",\"\"))))))))","v":""},{"$f":"IF('Simplified Loader'!P63=\"English\",\"English\",IF('Simplified Loader'!P63=\"French\",\"French\",IF('Simplified Loader'!P63=\"E\",\"English\",IF('Simplified Loader'!P63=\"F\",\"French\",\"\"))))","v":""},{"$f":"IF('Simplified Loader'!Q63=\"Yes\",\"Yes\",IF('Simplified Loader'!Q63=\"No\",\"No\",IF('Simplified Loader'!Q63=\"Y\",\"Yes\",IF('Simplified Loader'!Q63=\"N\",\"No\",\"\"))))","v":""},{"$f":"IF('Simplified Loader'!R63>0,'Simplified Loader'!R63,\"\")","v":""},{"$f":"IF('Simplified Loader'!S63>0,'Simplified Loader'!S63,\"\")","v":""},{"$f":"IF('Simplified Loader'!T63>0,'Simplified Loader'!T63,\"\")","v":""},{"$f":"IF('Simplified Loader'!U63>0,'Simplified Loader'!U63,\"\")","v":""},{"$f":"IF('Simplified Loader'!V63=\"Waive\",\"Yes\",\"\")","v":""},{"$f":"IF('Simplified Loader'!W63=\"Waive\",\"Yes\",\"\")","v":""},{"$f":"IF('Simplified Loader'!X63>0,'Simplified Loader'!X63,\"\")","v":""},{"$f":"IF('Simplified Loader'!Y63>0,'Simplified Loader'!Y63,\"\")","v":""},{"$f":"IF('Simplified Loader'!Z63>0,'Simplified Loader'!Z63,\"\")","v":""},{"$f":"IF('Simplified Loader'!AA63>0,'Simplified Loader'!AA63,\"\")","v":""},{"$f":"IF('Simplified Loader'!AB63>0,'Simplified Loader'!AB63,\"\")","v":""},{"$f":"IF('Simplified Loader'!AC63>0,'Simplified Loader'!AC63,\"\")","v":" "},{"$f":"IF('Simplified Loader'!AE63>0,'Simplified Loader'!AE63&\" \",\"\")&IF('Simplified Loader'!AD63>0,'Simplified Loader'!AD63,\"\")","v":""},null,{"$f":"IF('Simplified Loader'!AF63>0,'Simplified Loader'!AF63,\"\")","v":""},{"$f":"IF('Simplified Loader'!AG63>0,'Simplified Loader'!AG63,\"\")","v":""},{"$f":"IF('Simplified Loader'!AH63>0,'Simplified Loader'!AH63,\"\")","v":""},{"$f":"IF('Simplified Loader'!AI63>0,'Simplified Loader'!AI63,\"\")","v":""},{"$f":"IF('Simplified Loader'!AJ63>0,'Simplified Loader'!AJ63,\"\")","v":""},{"$f":"IF('Simplified Loader'!AK63>0,'Simplified Loader'!AK63,\"\")","v":""},{"$f":"IF('Simplified Loader'!AL63>0,'Simplified Loader'!AL63,\"\")","v":""},{"$f":"IF('Simplified Loader'!AM63>0,'Simplified Loader'!AM63,\"\")","v":""},{"$f":"IF('Simplified Loader'!AN63=\"Male\",\"Male\",IF('Simplified Loader'!AN63=\"Female\",\"Female\",IF('Simplified Loader'!AN63=\"M\",\"Male\",IF('Simplified Loader'!AN63=\"F\",\"Female\",\"\"))))","v":""},{"$f":"IF('Simplified Loader'!AO63=\"Single\",\"Single\",IF('Simplified Loader'!AO63=\"Family\",\"Family\",IF('Simplified Loader'!AO63=\"S\",\"Single\",IF('Simplified Loader'!AO63=\"F\",\"Family\",\"\"))))","v":""},{"$f":"IF('Simplified Loader'!AP63=\"Single\",\"Single\",IF('Simplified Loader'!AP63=\"Family\",\"Family\",IF('Simplified Loader'!AP63=\"S\",\"Single\",IF('Simplified Loader'!AP63=\"F\",\"Family\",\"\"))))","v":""},{"$f":"IF('Simplified Loader'!AQ63>0,'Simplified Loader'!AQ63,\"\")","v":""},{"$f":"IF('Simplified Loader'!AR63=\"Yes\",\"Yes\",IF('Simplified Loader'!AR63=\"No\",\"No\",IF('Simplified Loader'!AR63=\"Y\",\"Yes\",IF('Simplified Loader'!AR63=\"N\",\"No\",\"\"))))","v":""},{"$f":"IF('Simplified Loader'!AS63>0,'Simplified Loader'!AS63,\"\")","v":""},{"$f":"IF('Simplified Loader'!AT63>0,'Simplified Loader'!AT63,\"\")","v":""},{"$f":"IF('Simplified Loader'!AU63>0,'Simplified Loader'!AU63,\"\")","v":""},{"$f":"IF('Simplified Loader'!AV63=\"Male\",\"Male\",IF('Simplified Loader'!AV63=\"Female\",\"Female\",IF('Simplified Loader'!AV63=\"M\",\"Male\",IF('Simplified Loader'!AV63=\"F\",\"Female\",\"\"))))","v":""},{"$f":"IF('Simplified Loader'!AW63=\"Yes\",\"Yes\",IF('Simplified Loader'!AW63=\"No\",\"No\",IF('Simplified Loader'!AW63=\"Y\",\"Yes\",IF('Simplified Loader'!AW63=\"N\",\"No\",\"\"))))","v":""},{"$f":"IF('Simplified Loader'!AX63=\"Yes\",\"Yes\",IF('Simplified Loader'!AX63=\"No\",\"No\",IF('Simplified Loader'!AX63=\"Y\",\"Yes\",IF('Simplified Loader'!AX63=\"N\",\"No\",\"\"))))","v":""},{"$f":"IF('Simplified Loader'!AY63>0,'Simplified Loader'!AY63,\"\")","v":""},{"$f":"IF('Simplified Loader'!AZ63>0,'Simplified Loader'!AZ63,\"\")","v":""},{"$f":"IF('Simplified Loader'!BA63>0,'Simplified Loader'!BA63,\"\")","v":""},{"$f":"IF('Simplified Loader'!BB63=\"Male\",\"Male\",IF('Simplified Loader'!BB63=\"Female\",\"Female\",IF('Simplified Loader'!BB63=\"M\",\"Male\",IF('Simplified Loader'!BB63=\"F\",\"Female\",\"\"))))","v":""},{"$f":"IF('Simplified Loader'!BC63=\"Yes\",\"Yes\",IF('Simplified Loader'!BC63=\"No\",\"No\",IF('Simplified Loader'!BC63=\"Y\",\"Yes\",IF('Simplified Loader'!BC63=\"N\",\"No\",\"\"))))","v":""},{"$f":"IF('Simplified Loader'!BD63=\"Yes\",\"Yes\",IF('Simplified Loader'!BD63=\"No\",\"No\",IF('Simplified Loader'!BD63=\"Y\",\"Yes\",IF('Simplified Loader'!BD63=\"N\",\"No\",\"\"))))","v":""},{"$f":"IF('Simplified Loader'!BE63>0,'Simplified Loader'!BE63,\"\")","v":""},{"$f":"IF('Simplified Loader'!BF63>0,'Simplified Loader'!BF63,\"\")","v":""},{"$f":"IF('Simplified Loader'!BG63>0,'Simplified Loader'!BG63,\"\")","v":""},{"$f":"IF('Simplified Loader'!BH63=\"Male\",\"Male\",IF('Simplified Loader'!BH63=\"Female\",\"Female\",IF('Simplified Loader'!BH63=\"M\",\"Male\",IF('Simplified Loader'!BH63=\"F\",\"Female\",\"\"))))","v":""},{"$f":"IF('Simplified Loader'!BI63=\"Yes\",\"Yes\",IF('Simplified Loader'!BI63=\"No\",\"No\",IF('Simplified Loader'!BI63=\"Y\",\"Yes\",IF('Simplified Loader'!BI63=\"N\",\"No\",\"\"))))","v":""},{"$f":"IF('Simplified Loader'!BJ63=\"Yes\",\"Yes\",IF('Simplified Loader'!BJ63=\"No\",\"No\",IF('Simplified Loader'!BJ63=\"Y\",\"Yes\",IF('Simplified Loader'!BJ63=\"N\",\"No\",\"\"))))","v":""},{"$f":"IF('Simplified Loader'!BK63>0,'Simplified Loader'!BK63,\"\")","v":""},{"$f":"IF('Simplified Loader'!BL63>0,'Simplified Loader'!BL63,\"\")","v":""},{"$f":"IF('Simplified Loader'!BM63>0,'Simplified Loader'!BM63,\"\")","v":""},{"$f":"IF('Simplified Loader'!BN63=\"Male\",\"Male\",IF('Simplified Loader'!BN63=\"Female\",\"Female\",IF('Simplified Loader'!BN63=\"M\",\"Male\",IF('Simplified Loader'!BN63=\"F\",\"Female\",\"\"))))","v":""},{"$f":"IF('Simplified Loader'!BO63=\"Yes\",\"Yes\",IF('Simplified Loader'!BO63=\"No\",\"No\",IF('Simplified Loader'!BO63=\"Y\",\"Yes\",IF('Simplified Loader'!BO63=\"N\",\"No\",\"\"))))","v":""},{"$f":"IF('Simplified Loader'!BP63=\"Yes\",\"Yes\",IF('Simplified Loader'!BP63=\"No\",\"No\",IF('Simplified Loader'!BP63=\"Y\",\"Yes\",IF('Simplified Loader'!BP63=\"N\",\"No\",\"\"))))","v":""},{"$f":"IF('Simplified Loader'!BQ63>0,'Simplified Loader'!BQ63,\"\")","v":""},{"$f":"IF('Simplified Loader'!BR63>0,'Simplified Loader'!BR63,\"\")","v":""},{"$f":"IF('Simplified Loader'!BS63>0,'Simplified Loader'!BS63,\"\")","v":""},{"$f":"IF('Simplified Loader'!BT63=\"Male\",\"Male\",IF('Simplified Loader'!BT63=\"Female\",\"Female\",IF('Simplified Loader'!BT63=\"M\",\"Male\",IF('Simplified Loader'!BT63=\"F\",\"Female\",\"\"))))","v":""},{"$f":"IF('Simplified Loader'!BU63=\"Yes\",\"Yes\",IF('Simplified Loader'!BU63=\"No\",\"No\",IF('Simplified Loader'!BU63=\"Y\",\"Yes\",IF('Simplified Loader'!BU63=\"N\",\"No\",\"\"))))","v":""},{"$f":"IF('Simplified Loader'!BV63=\"Yes\",\"Yes\",IF('Simplified Loader'!BV63=\"No\",\"No\",IF('Simplified Loader'!BV63=\"Y\",\"Yes\",IF('Simplified Loader'!BV63=\"N\",\"No\",\"\"))))","v":""},{"$f":"IF('Simplified Loader'!BW63>0,'Simplified Loader'!BW63,\"\")","v":""},{"$f":"IF('Simplified Loader'!BX63>0,'Simplified Loader'!BX63,\"\")","v":""},{"$f":"IF('Simplified Loader'!BY63>0,'Simplified Loader'!BY63,\"\")","v":""},{"$f":"IF('Simplified Loader'!BZ63=\"Male\",\"Male\",IF('Simplified Loader'!BZ63=\"Female\",\"Female\",IF('Simplified Loader'!BZ63=\"M\",\"Male\",IF('Simplified Loader'!BZ63=\"F\",\"Female\",\"\"))))","v":""},{"$f":"IF('Simplified Loader'!CA63=\"Yes\",\"Yes\",IF('Simplified Loader'!CA63=\"No\",\"No\",IF('Simplified Loader'!CA63=\"Y\",\"Yes\",IF('Simplified Loader'!CA63=\"N\",\"No\",\"\"))))","v":""},{"$f":"IF('Simplified Loader'!CB63=\"Yes\",\"Yes\",IF('Simplified Loader'!CB63=\"No\",\"No\",IF('Simplified Loader'!CB63=\"Y\",\"Yes\",IF('Simplified Loader'!CB63=\"N\",\"No\",\"\"))))","v":""},{"$f":"IF('Simplified Loader'!CH63>0,'Simplified Loader'!CH63,\"\")","v":"    "}]
[{"$f":"IF('Simplified Loader'!A64>0,'Simplified Loader'!A64,\"\")","v":""},{"$f":"IF('Simplified Loader'!B64>0,'Simplified Loader'!B64,\"\")","v":""},{"$f":"IF('Simplified Loader'!C64>0,'Simplified Loader'!C64,\"\")","v":""},{"$f":"IF('Simplified Loader'!D64>0,'Simplified Loader'!D64,\"\")","v":""},{"$f":"IF('Simplified Loader'!E64>0,TEXT('Simplified Loader'!E64,\"000\"),\"\")","v":""},{"$f":"IF('Simplified Loader'!F64>0,'Simplified Loader'!F64,\"\")","v":""},{"$f":"IF('Simplified Loader'!G64>0,'Simplified Loader'!G64,\"\")","v":""},{"$f":"IF('Simplified Loader'!I64>0,'Simplified Loader'!I64,\"\")","v":""},{"$f":"IF('Simplified Loader'!J64>0,'Simplified Loader'!J64,\"\")","v":""},{"$f":"IF('Simplified Loader'!K64>0,'Simplified Loader'!K64,\"\")","v":""},{"$f":"IF('Simplified Loader'!L64>0,'Simplified Loader'!L64,\"\")","v":""},{"$f":"IF('Simplified Loader'!M64=\"Male\",\"Male\",IF('Simplified Loader'!M64=\"Female\",\"Female\",IF('Simplified Loader'!M64=\"M\",\"Male\",IF('Simplified Loader'!M64=\"F\",\"Female\",\"\"))))","v":""},{"$f":"IF('Simplified Loader'!N64=\"Yes\",\"Yes\",IF('Simplified Loader'!N64=\"No\",\"No\",IF('Simplified Loader'!N64=\"Y\",\"Yes\",IF('Simplified Loader'!N64=\"N\",\"No\",\"\"))))","v":""},{"$f":"IF('Simplified Loader'!O64=\"No\",\"Single\",IF('Simplified Loader'!O64=\"Yes\",\"Family\",IF('Simplified Loader'!O64=\"N\",\"Single\",IF('Simplified Loader'!O64=\"Y\",\"Family\",IF('Simplified Loader'!O64=\"In-force\",\"Family\",IF('Simplified Loader'!O64=\"In force\",\"Family\",IF('Simplified Loader'!O64=\"Applies\",\"Family\",IF('Simplified Loader'!O64=\"Applicable\",\"Family\",\"\"))))))))","v":""},{"$f":"IF('Simplified Loader'!P64=\"English\",\"English\",IF('Simplified Loader'!P64=\"French\",\"French\",IF('Simplified Loader'!P64=\"E\",\"English\",IF('Simplified Loader'!P64=\"F\",\"French\",\"\"))))","v":""},{"$f":"IF('Simplified Loader'!Q64=\"Yes\",\"Yes\",IF('Simplified Loader'!Q64=\"No\",\"No\",IF('Simplified Loader'!Q64=\"Y\",\"Yes\",IF('Simplified Loader'!Q64=\"N\",\"No\",\"\"))))","v":""},{"$f":"IF('Simplified Loader'!R64>0,'Simplified Loader'!R64,\"\")","v":""},{"$f":"IF('Simplified Loader'!S64>0,'Simplified Loader'!S64,\"\")","v":""},{"$f":"IF('Simplified Loader'!T64>0,'Simplified Loader'!T64,\"\")","v":""},{"$f":"IF('Simplified Loader'!U64>0,'Simplified Loader'!U64,\"\")","v":""},{"$f":"IF('Simplified Loader'!V64=\"Waive\",\"Yes\",\"\")","v":""},{"$f":"IF('Simplified Loader'!W64=\"Waive\",\"Yes\",\"\")","v":""},{"$f":"IF('Simplified Loader'!X64>0,'Simplified Loader'!X64,\"\")","v":""},{"$f":"IF('Simplified Loader'!Y64>0,'Simplified Loader'!Y64,\"\")","v":""},{"$f":"IF('Simplified Loader'!Z64>0,'Simplified Loader'!Z64,\"\")","v":""},{"$f":"IF('Simplified Loader'!AA64>0,'Simplified Loader'!AA64,\"\")","v":""},{"$f":"IF('Simplified Loader'!AB64>0,'Simplified Loader'!AB64,\"\")","v":""},{"$f":"IF('Simplified Loader'!AC64>0,'Simplified Loader'!AC64,\"\")","v":" "},{"$f":"IF('Simplified Loader'!AE64>0,'Simplified Loader'!AE64&\" \",\"\")&IF('Simplified Loader'!AD64>0,'Simplified Loader'!AD64,\"\")","v":""},null,{"$f":"IF('Simplified Loader'!AF64>0,'Simplified Loader'!AF64,\"\")","v":""},{"$f":"IF('Simplified Loader'!AG64>0,'Simplified Loader'!AG64,\"\")","v":""},{"$f":"IF('Simplified Loader'!AH64>0,'Simplified Loader'!AH64,\"\")","v":""},{"$f":"IF('Simplified Loader'!AI64>0,'Simplified Loader'!AI64,\"\")","v":""},{"$f":"IF('Simplified Loader'!AJ64>0,'Simplified Loader'!AJ64,\"\")","v":""},{"$f":"IF('Simplified Loader'!AK64>0,'Simplified Loader'!AK64,\"\")","v":""},{"$f":"IF('Simplified Loader'!AL64>0,'Simplified Loader'!AL64,\"\")","v":""},{"$f":"IF('Simplified Loader'!AM64>0,'Simplified Loader'!AM64,\"\")","v":""},{"$f":"IF('Simplified Loader'!AN64=\"Male\",\"Male\",IF('Simplified Loader'!AN64=\"Female\",\"Female\",IF('Simplified Loader'!AN64=\"M\",\"Male\",IF('Simplified Loader'!AN64=\"F\",\"Female\",\"\"))))","v":""},{"$f":"IF('Simplified Loader'!AO64=\"Single\",\"Single\",IF('Simplified Loader'!AO64=\"Family\",\"Family\",IF('Simplified Loader'!AO64=\"S\",\"Single\",IF('Simplified Loader'!AO64=\"F\",\"Family\",\"\"))))","v":""},{"$f":"IF('Simplified Loader'!AP64=\"Single\",\"Single\",IF('Simplified Loader'!AP64=\"Family\",\"Family\",IF('Simplified Loader'!AP64=\"S\",\"Single\",IF('Simplified Loader'!AP64=\"F\",\"Family\",\"\"))))","v":""},{"$f":"IF('Simplified Loader'!AQ64>0,'Simplified Loader'!AQ64,\"\")","v":""},{"$f":"IF('Simplified Loader'!AR64=\"Yes\",\"Yes\",IF('Simplified Loader'!AR64=\"No\",\"No\",IF('Simplified Loader'!AR64=\"Y\",\"Yes\",IF('Simplified Loader'!AR64=\"N\",\"No\",\"\"))))","v":""},{"$f":"IF('Simplified Loader'!AS64>0,'Simplified Loader'!AS64,\"\")","v":""},{"$f":"IF('Simplified Loader'!AT64>0,'Simplified Loader'!AT64,\"\")","v":""},{"$f":"IF('Simplified Loader'!AU64>0,'Simplified Loader'!AU64,\"\")","v":""},{"$f":"IF('Simplified Loader'!AV64=\"Male\",\"Male\",IF('Simplified Loader'!AV64=\"Female\",\"Female\",IF('Simplified Loader'!AV64=\"M\",\"Male\",IF('Simplified Loader'!AV64=\"F\",\"Female\",\"\"))))","v":""},{"$f":"IF('Simplified Loader'!AW64=\"Yes\",\"Yes\",IF('Simplified Loader'!AW64=\"No\",\"No\",IF('Simplified Loader'!AW64=\"Y\",\"Yes\",IF('Simplified Loader'!AW64=\"N\",\"No\",\"\"))))","v":""},{"$f":"IF('Simplified Loader'!AX64=\"Yes\",\"Yes\",IF('Simplified Loader'!AX64=\"No\",\"No\",IF('Simplified Loader'!AX64=\"Y\",\"Yes\",IF('Simplified Loader'!AX64=\"N\",\"No\",\"\"))))","v":""},{"$f":"IF('Simplified Loader'!AY64>0,'Simplified Loader'!AY64,\"\")","v":""},{"$f":"IF('Simplified Loader'!AZ64>0,'Simplified Loader'!AZ64,\"\")","v":""},{"$f":"IF('Simplified Loader'!BA64>0,'Simplified Loader'!BA64,\"\")","v":""},{"$f":"IF('Simplified Loader'!BB64=\"Male\",\"Male\",IF('Simplified Loader'!BB64=\"Female\",\"Female\",IF('Simplified Loader'!BB64=\"M\",\"Male\",IF('Simplified Loader'!BB64=\"F\",\"Female\",\"\"))))","v":""},{"$f":"IF('Simplified Loader'!BC64=\"Yes\",\"Yes\",IF('Simplified Loader'!BC64=\"No\",\"No\",IF('Simplified Loader'!BC64=\"Y\",\"Yes\",IF('Simplified Loader'!BC64=\"N\",\"No\",\"\"))))","v":""},{"$f":"IF('Simplified Loader'!BD64=\"Yes\",\"Yes\",IF('Simplified Loader'!BD64=\"No\",\"No\",IF('Simplified Loader'!BD64=\"Y\",\"Yes\",IF('Simplified Loader'!BD64=\"N\",\"No\",\"\"))))","v":""},{"$f":"IF('Simplified Loader'!BE64>0,'Simplified Loader'!BE64,\"\")","v":""},{"$f":"IF('Simplified Loader'!BF64>0,'Simplified Loader'!BF64,\"\")","v":""},{"$f":"IF('Simplified Loader'!BG64>0,'Simplified Loader'!BG64,\"\")","v":""},{"$f":"IF('Simplified Loader'!BH64=\"Male\",\"Male\",IF('Simplified Loader'!BH64=\"Female\",\"Female\",IF('Simplified Loader'!BH64=\"M\",\"Male\",IF('Simplified Loader'!BH64=\"F\",\"Female\",\"\"))))","v":""},{"$f":"IF('Simplified Loader'!BI64=\"Yes\",\"Yes\",IF('Simplified Loader'!BI64=\"No\",\"No\",IF('Simplified Loader'!BI64=\"Y\",\"Yes\",IF('Simplified Loader'!BI64=\"N\",\"No\",\"\"))))","v":""},{"$f":"IF('Simplified Loader'!BJ64=\"Yes\",\"Yes\",IF('Simplified Loader'!BJ64=\"No\",\"No\",IF('Simplified Loader'!BJ64=\"Y\",\"Yes\",IF('Simplified Loader'!BJ64=\"N\",\"No\",\"\"))))","v":""},{"$f":"IF('Simplified Loader'!BK64>0,'Simplified Loader'!BK64,\"\")","v":""},{"$f":"IF('Simplified Loader'!BL64>0,'Simplified Loader'!BL64,\"\")","v":""},{"$f":"IF('Simplified Loader'!BM64>0,'Simplified Loader'!BM64,\"\")","v":""},{"$f":"IF('Simplified Loader'!BN64=\"Male\",\"Male\",IF('Simplified Loader'!BN64=\"Female\",\"Female\",IF('Simplified Loader'!BN64=\"M\",\"Male\",IF('Simplified Loader'!BN64=\"F\",\"Female\",\"\"))))","v":""},{"$f":"IF('Simplified Loader'!BO64=\"Yes\",\"Yes\",IF('Simplified Loader'!BO64=\"No\",\"No\",IF('Simplified Loader'!BO64=\"Y\",\"Yes\",IF('Simplified Loader'!BO64=\"N\",\"No\",\"\"))))","v":""},{"$f":"IF('Simplified Loader'!BP64=\"Yes\",\"Yes\",IF('Simplified Loader'!BP64=\"No\",\"No\",IF('Simplified Loader'!BP64=\"Y\",\"Yes\",IF('Simplified Loader'!BP64=\"N\",\"No\",\"\"))))","v":""},{"$f":"IF('Simplified Loader'!BQ64>0,'Simplified Loader'!BQ64,\"\")","v":""},{"$f":"IF('Simplified Loader'!BR64>0,'Simplified Loader'!BR64,\"\")","v":""},{"$f":"IF('Simplified Loader'!BS64>0,'Simplified Loader'!BS64,\"\")","v":""},{"$f":"IF('Simplified Loader'!BT64=\"Male\",\"Male\",IF('Simplified Loader'!BT64=\"Female\",\"Female\",IF('Simplified Loader'!BT64=\"M\",\"Male\",IF('Simplified Loader'!BT64=\"F\",\"Female\",\"\"))))","v":""},{"$f":"IF('Simplified Loader'!BU64=\"Yes\",\"Yes\",IF('Simplified Loader'!BU64=\"No\",\"No\",IF('Simplified Loader'!BU64=\"Y\",\"Yes\",IF('Simplified Loader'!BU64=\"N\",\"No\",\"\"))))","v":""},{"$f":"IF('Simplified Loader'!BV64=\"Yes\",\"Yes\",IF('Simplified Loader'!BV64=\"No\",\"No\",IF('Simplified Loader'!BV64=\"Y\",\"Yes\",IF('Simplified Loader'!BV64=\"N\",\"No\",\"\"))))","v":""},{"$f":"IF('Simplified Loader'!BW64>0,'Simplified Loader'!BW64,\"\")","v":""},{"$f":"IF('Simplified Loader'!BX64>0,'Simplified Loader'!BX64,\"\")","v":""},{"$f":"IF('Simplified Loader'!BY64>0,'Simplified Loader'!BY64,\"\")","v":""},{"$f":"IF('Simplified Loader'!BZ64=\"Male\",\"Male\",IF('Simplified Loader'!BZ64=\"Female\",\"Female\",IF('Simplified Loader'!BZ64=\"M\",\"Male\",IF('Simplified Loader'!BZ64=\"F\",\"Female\",\"\"))))","v":""},{"$f":"IF('Simplified Loader'!CA64=\"Yes\",\"Yes\",IF('Simplified Loader'!CA64=\"No\",\"No\",IF('Simplified Loader'!CA64=\"Y\",\"Yes\",IF('Simplified Loader'!CA64=\"N\",\"No\",\"\"))))","v":""},{"$f":"IF('Simplified Loader'!CB64=\"Yes\",\"Yes\",IF('Simplified Loader'!CB64=\"No\",\"No\",IF('Simplified Loader'!CB64=\"Y\",\"Yes\",IF('Simplified Loader'!CB64=\"N\",\"No\",\"\"))))","v":""},{"$f":"IF('Simplified Loader'!CH64>0,'Simplified Loader'!CH64,\"\")","v":"    "}]
[{"$f":"IF('Simplified Loader'!A65>0,'Simplified Loader'!A65,\"\")","v":""},{"$f":"IF('Simplified Loader'!B65>0,'Simplified Loader'!B65,\"\")","v":""},{"$f":"IF('Simplified Loader'!C65>0,'Simplified Loader'!C65,\"\")","v":""},{"$f":"IF('Simplified Loader'!D65>0,'Simplified Loader'!D65,\"\")","v":""},{"$f":"IF('Simplified Loader'!E65>0,TEXT('Simplified Loader'!E65,\"000\"),\"\")","v":""},{"$f":"IF('Simplified Loader'!F65>0,'Simplified Loader'!F65,\"\")","v":""},{"$f":"IF('Simplified Loader'!G65>0,'Simplified Loader'!G65,\"\")","v":""},{"$f":"IF('Simplified Loader'!I65>0,'Simplified Loader'!I65,\"\")","v":""},{"$f":"IF('Simplified Loader'!J65>0,'Simplified Loader'!J65,\"\")","v":""},{"$f":"IF('Simplified Loader'!K65>0,'Simplified Loader'!K65,\"\")","v":""},{"$f":"IF('Simplified Loader'!L65>0,'Simplified Loader'!L65,\"\")","v":""},{"$f":"IF('Simplified Loader'!M65=\"Male\",\"Male\",IF('Simplified Loader'!M65=\"Female\",\"Female\",IF('Simplified Loader'!M65=\"M\",\"Male\",IF('Simplified Loader'!M65=\"F\",\"Female\",\"\"))))","v":""},{"$f":"IF('Simplified Loader'!N65=\"Yes\",\"Yes\",IF('Simplified Loader'!N65=\"No\",\"No\",IF('Simplified Loader'!N65=\"Y\",\"Yes\",IF('Simplified Loader'!N65=\"N\",\"No\",\"\"))))","v":""},{"$f":"IF('Simplified Loader'!O65=\"No\",\"Single\",IF('Simplified Loader'!O65=\"Yes\",\"Family\",IF('Simplified Loader'!O65=\"N\",\"Single\",IF('Simplified Loader'!O65=\"Y\",\"Family\",IF('Simplified Loader'!O65=\"In-force\",\"Family\",IF('Simplified Loader'!O65=\"In force\",\"Family\",IF('Simplified Loader'!O65=\"Applies\",\"Family\",IF('Simplified Loader'!O65=\"Applicable\",\"Family\",\"\"))))))))","v":""},{"$f":"IF('Simplified Loader'!P65=\"English\",\"English\",IF('Simplified Loader'!P65=\"French\",\"French\",IF('Simplified Loader'!P65=\"E\",\"English\",IF('Simplified Loader'!P65=\"F\",\"French\",\"\"))))","v":""},{"$f":"IF('Simplified Loader'!Q65=\"Yes\",\"Yes\",IF('Simplified Loader'!Q65=\"No\",\"No\",IF('Simplified Loader'!Q65=\"Y\",\"Yes\",IF('Simplified Loader'!Q65=\"N\",\"No\",\"\"))))","v":""},{"$f":"IF('Simplified Loader'!R65>0,'Simplified Loader'!R65,\"\")","v":""},{"$f":"IF('Simplified Loader'!S65>0,'Simplified Loader'!S65,\"\")","v":""},{"$f":"IF('Simplified Loader'!T65>0,'Simplified Loader'!T65,\"\")","v":""},{"$f":"IF('Simplified Loader'!U65>0,'Simplified Loader'!U65,\"\")","v":""},{"$f":"IF('Simplified Loader'!V65=\"Waive\",\"Yes\",\"\")","v":""},{"$f":"IF('Simplified Loader'!W65=\"Waive\",\"Yes\",\"\")","v":""},{"$f":"IF('Simplified Loader'!X65>0,'Simplified Loader'!X65,\"\")","v":""},{"$f":"IF('Simplified Loader'!Y65>0,'Simplified Loader'!Y65,\"\")","v":""},{"$f":"IF('Simplified Loader'!Z65>0,'Simplified Loader'!Z65,\"\")","v":""},{"$f":"IF('Simplified Loader'!AA65>0,'Simplified Loader'!AA65,\"\")","v":""},{"$f":"IF('Simplified Loader'!AB65>0,'Simplified Loader'!AB65,\"\")","v":""},{"$f":"IF('Simplified Loader'!AC65>0,'Simplified Loader'!AC65,\"\")","v":" "},{"$f":"IF('Simplified Loader'!AE65>0,'Simplified Loader'!AE65&\" \",\"\")&IF('Simplified Loader'!AD65>0,'Simplified Loader'!AD65,\"\")","v":""},null,{"$f":"IF('Simplified Loader'!AF65>0,'Simplified Loader'!AF65,\"\")","v":""},{"$f":"IF('Simplified Loader'!AG65>0,'Simplified Loader'!AG65,\"\")","v":""},{"$f":"IF('Simplified Loader'!AH65>0,'Simplified Loader'!AH65,\"\")","v":""},{"$f":"IF('Simplified Loader'!AI65>0,'Simplified Loader'!AI65,\"\")","v":""},{"$f":"IF('Simplified Loader'!AJ65>0,'Simplified Loader'!AJ65,\"\")","v":""},{"$f":"IF('Simplified Loader'!AK65>0,'Simplified Loader'!AK65,\"\")","v":""},{"$f":"IF('Simplified Loader'!AL65>0,'Simplified Loader'!AL65,\"\")","v":""},{"$f":"IF('Simplified Loader'!AM65>0,'Simplified Loader'!AM65,\"\")","v":""},{"$f":"IF('Simplified Loader'!AN65=\"Male\",\"Male\",IF('Simplified Loader'!AN65=\"Female\",\"Female\",IF('Simplified Loader'!AN65=\"M\",\"Male\",IF('Simplified Loader'!AN65=\"F\",\"Female\",\"\"))))","v":""},{"$f":"IF('Simplified Loader'!AO65=\"Single\",\"Single\",IF('Simplified Loader'!AO65=\"Family\",\"Family\",IF('Simplified Loader'!AO65=\"S\",\"Single\",IF('Simplified Loader'!AO65=\"F\",\"Family\",\"\"))))","v":""},{"$f":"IF('Simplified Loader'!AP65=\"Single\",\"Single\",IF('Simplified Loader'!AP65=\"Family\",\"Family\",IF('Simplified Loader'!AP65=\"S\",\"Single\",IF('Simplified Loader'!AP65=\"F\",\"Family\",\"\"))))","v":""},{"$f":"IF('Simplified Loader'!AQ65>0,'Simplified Loader'!AQ65,\"\")","v":""},{"$f":"IF('Simplified Loader'!AR65=\"Yes\",\"Yes\",IF('Simplified Loader'!AR65=\"No\",\"No\",IF('Simplified Loader'!AR65=\"Y\",\"Yes\",IF('Simplified Loader'!AR65=\"N\",\"No\",\"\"))))","v":""},{"$f":"IF('Simplified Loader'!AS65>0,'Simplified Loader'!AS65,\"\")","v":""},{"$f":"IF('Simplified Loader'!AT65>0,'Simplified Loader'!AT65,\"\")","v":""},{"$f":"IF('Simplified Loader'!AU65>0,'Simplified Loader'!AU65,\"\")","v":""},{"$f":"IF('Simplified Loader'!AV65=\"Male\",\"Male\",IF('Simplified Loader'!AV65=\"Female\",\"Female\",IF('Simplified Loader'!AV65=\"M\",\"Male\",IF('Simplified Loader'!AV65=\"F\",\"Female\",\"\"))))","v":""},{"$f":"IF('Simplified Loader'!AW65=\"Yes\",\"Yes\",IF('Simplified Loader'!AW65=\"No\",\"No\",IF('Simplified Loader'!AW65=\"Y\",\"Yes\",IF('Simplified Loader'!AW65=\"N\",\"No\",\"\"))))","v":""},{"$f":"IF('Simplified Loader'!AX65=\"Yes\",\"Yes\",IF('Simplified Loader'!AX65=\"No\",\"No\",IF('Simplified Loader'!AX65=\"Y\",\"Yes\",IF('Simplified Loader'!AX65=\"N\",\"No\",\"\"))))","v":""},{"$f":"IF('Simplified Loader'!AY65>0,'Simplified Loader'!AY65,\"\")","v":""},{"$f":"IF('Simplified Loader'!AZ65>0,'Simplified Loader'!AZ65,\"\")","v":""},{"$f":"IF('Simplified Loader'!BA65>0,'Simplified Loader'!BA65,\"\")","v":""},{"$f":"IF('Simplified Loader'!BB65=\"Male\",\"Male\",IF('Simplified Loader'!BB65=\"Female\",\"Female\",IF('Simplified Loader'!BB65=\"M\",\"Male\",IF('Simplified Loader'!BB65=\"F\",\"Female\",\"\"))))","v":""},{"$f":"IF('Simplified Loader'!BC65=\"Yes\",\"Yes\",IF('Simplified Loader'!BC65=\"No\",\"No\",IF('Simplified Loader'!BC65=\"Y\",\"Yes\",IF('Simplified Loader'!BC65=\"N\",\"No\",\"\"))))","v":""},{"$f":"IF('Simplified Loader'!BD65=\"Yes\",\"Yes\",IF('Simplified Loader'!BD65=\"No\",\"No\",IF('Simplified Loader'!BD65=\"Y\",\"Yes\",IF('Simplified Loader'!BD65=\"N\",\"No\",\"\"))))","v":""},{"$f":"IF('Simplified Loader'!BE65>0,'Simplified Loader'!BE65,\"\")","v":""},{"$f":"IF('Simplified Loader'!BF65>0,'Simplified Loader'!BF65,\"\")","v":""},{"$f":"IF('Simplified Loader'!BG65>0,'Simplified Loader'!BG65,\"\")","v":""},{"$f":"IF('Simplified Loader'!BH65=\"Male\",\"Male\",IF('Simplified Loader'!BH65=\"Female\",\"Female\",IF('Simplified Loader'!BH65=\"M\",\"Male\",IF('Simplified Loader'!BH65=\"F\",\"Female\",\"\"))))","v":""},{"$f":"IF('Simplified Loader'!BI65=\"Yes\",\"Yes\",IF('Simplified Loader'!BI65=\"No\",\"No\",IF('Simplified Loader'!BI65=\"Y\",\"Yes\",IF('Simplified Loader'!BI65=\"N\",\"No\",\"\"))))","v":""},{"$f":"IF('Simplified Loader'!BJ65=\"Yes\",\"Yes\",IF('Simplified Loader'!BJ65=\"No\",\"No\",IF('Simplified Loader'!BJ65=\"Y\",\"Yes\",IF('Simplified Loader'!BJ65=\"N\",\"No\",\"\"))))","v":""},{"$f":"IF('Simplified Loader'!BK65>0,'Simplified Loader'!BK65,\"\")","v":""},{"$f":"IF('Simplified Loader'!BL65>0,'Simplified Loader'!BL65,\"\")","v":""},{"$f":"IF('Simplified Loader'!BM65>0,'Simplified Loader'!BM65,\"\")","v":""},{"$f":"IF('Simplified Loader'!BN65=\"Male\",\"Male\",IF('Simplified Loader'!BN65=\"Female\",\"Female\",IF('Simplified Loader'!BN65=\"M\",\"Male\",IF('Simplified Loader'!BN65=\"F\",\"Female\",\"\"))))","v":""},{"$f":"IF('Simplified Loader'!BO65=\"Yes\",\"Yes\",IF('Simplified Loader'!BO65=\"No\",\"No\",IF('Simplified Loader'!BO65=\"Y\",\"Yes\",IF('Simplified Loader'!BO65=\"N\",\"No\",\"\"))))","v":""},{"$f":"IF('Simplified Loader'!BP65=\"Yes\",\"Yes\",IF('Simplified Loader'!BP65=\"No\",\"No\",IF('Simplified Loader'!BP65=\"Y\",\"Yes\",IF('Simplified Loader'!BP65=\"N\",\"No\",\"\"))))","v":""},{"$f":"IF('Simplified Loader'!BQ65>0,'Simplified Loader'!BQ65,\"\")","v":""},{"$f":"IF('Simplified Loader'!BR65>0,'Simplified Loader'!BR65,\"\")","v":""},{"$f":"IF('Simplified Loader'!BS65>0,'Simplified Loader'!BS65,\"\")","v":""},{"$f":"IF('Simplified Loader'!BT65=\"Male\",\"Male\",IF('Simplified Loader'!BT65=\"Female\",\"Female\",IF('Simplified Loader'!BT65=\"M\",\"Male\",IF('Simplified Loader'!BT65=\"F\",\"Female\",\"\"))))","v":""},{"$f":"IF('Simplified Loader'!BU65=\"Yes\",\"Yes\",IF('Simplified Loader'!BU65=\"No\",\"No\",IF('Simplified Loader'!BU65=\"Y\",\"Yes\",IF('Simplified Loader'!BU65=\"N\",\"No\",\"\"))))","v":""},{"$f":"IF('Simplified Loader'!BV65=\"Yes\",\"Yes\",IF('Simplified Loader'!BV65=\"No\",\"No\",IF('Simplified Loader'!BV65=\"Y\",\"Yes\",IF('Simplified Loader'!BV65=\"N\",\"No\",\"\"))))","v":""},{"$f":"IF('Simplified Loader'!BW65>0,'Simplified Loader'!BW65,\"\")","v":""},{"$f":"IF('Simplified Loader'!BX65>0,'Simplified Loader'!BX65,\"\")","v":""},{"$f":"IF('Simplified Loader'!BY65>0,'Simplified Loader'!BY65,\"\")","v":""},{"$f":"IF('Simplified Loader'!BZ65=\"Male\",\"Male\",IF('Simplified Loader'!BZ65=\"Female\",\"Female\",IF('Simplified Loader'!BZ65=\"M\",\"Male\",IF('Simplified Loader'!BZ65=\"F\",\"Female\",\"\"))))","v":""},{"$f":"IF('Simplified Loader'!CA65=\"Yes\",\"Yes\",IF('Simplified Loader'!CA65=\"No\",\"No\",IF('Simplified Loader'!CA65=\"Y\",\"Yes\",IF('Simplified Loader'!CA65=\"N\",\"No\",\"\"))))","v":""},{"$f":"IF('Simplified Loader'!CB65=\"Yes\",\"Yes\",IF('Simplified Loader'!CB65=\"No\",\"No\",IF('Simplified Loader'!CB65=\"Y\",\"Yes\",IF('Simplified Loader'!CB65=\"N\",\"No\",\"\"))))","v":""},{"$f":"IF('Simplified Loader'!CH65>0,'Simplified Loader'!CH65,\"\")","v":"    "}]
[{"$f":"IF('Simplified Loader'!A66>0,'Simplified Loader'!A66,\"\")","v":""},{"$f":"IF('Simplified Loader'!B66>0,'Simplified Loader'!B66,\"\")","v":""},{"$f":"IF('Simplified Loader'!C66>0,'Simplified Loader'!C66,\"\")","v":""},{"$f":"IF('Simplified Loader'!D66>0,'Simplified Loader'!D66,\"\")","v":""},{"$f":"IF('Simplified Loader'!E66>0,TEXT('Simplified Loader'!E66,\"000\"),\"\")","v":""},{"$f":"IF('Simplified Loader'!F66>0,'Simplified Loader'!F66,\"\")","v":""},{"$f":"IF('Simplified Loader'!G66>0,'Simplified Loader'!G66,\"\")","v":""},{"$f":"IF('Simplified Loader'!I66>0,'Simplified Loader'!I66,\"\")","v":""},{"$f":"IF('Simplified Loader'!J66>0,'Simplified Loader'!J66,\"\")","v":""},{"$f":"IF('Simplified Loader'!K66>0,'Simplified Loader'!K66,\"\")","v":""},{"$f":"IF('Simplified Loader'!L66>0,'Simplified Loader'!L66,\"\")","v":""},{"$f":"IF('Simplified Loader'!M66=\"Male\",\"Male\",IF('Simplified Loader'!M66=\"Female\",\"Female\",IF('Simplified Loader'!M66=\"M\",\"Male\",IF('Simplified Loader'!M66=\"F\",\"Female\",\"\"))))","v":""},{"$f":"IF('Simplified Loader'!N66=\"Yes\",\"Yes\",IF('Simplified Loader'!N66=\"No\",\"No\",IF('Simplified Loader'!N66=\"Y\",\"Yes\",IF('Simplified Loader'!N66=\"N\",\"No\",\"\"))))","v":""},{"$f":"IF('Simplified Loader'!O66=\"No\",\"Single\",IF('Simplified Loader'!O66=\"Yes\",\"Family\",IF('Simplified Loader'!O66=\"N\",\"Single\",IF('Simplified Loader'!O66=\"Y\",\"Family\",IF('Simplified Loader'!O66=\"In-force\",\"Family\",IF('Simplified Loader'!O66=\"In force\",\"Family\",IF('Simplified Loader'!O66=\"Applies\",\"Family\",IF('Simplified Loader'!O66=\"Applicable\",\"Family\",\"\"))))))))","v":""},{"$f":"IF('Simplified Loader'!P66=\"English\",\"English\",IF('Simplified Loader'!P66=\"French\",\"French\",IF('Simplified Loader'!P66=\"E\",\"English\",IF('Simplified Loader'!P66=\"F\",\"French\",\"\"))))","v":""},{"$f":"IF('Simplified Loader'!Q66=\"Yes\",\"Yes\",IF('Simplified Loader'!Q66=\"No\",\"No\",IF('Simplified Loader'!Q66=\"Y\",\"Yes\",IF('Simplified Loader'!Q66=\"N\",\"No\",\"\"))))","v":""},{"$f":"IF('Simplified Loader'!R66>0,'Simplified Loader'!R66,\"\")","v":""},{"$f":"IF('Simplified Loader'!S66>0,'Simplified Loader'!S66,\"\")","v":""},{"$f":"IF('Simplified Loader'!T66>0,'Simplified Loader'!T66,\"\")","v":""},{"$f":"IF('Simplified Loader'!U66>0,'Simplified Loader'!U66,\"\")","v":""},{"$f":"IF('Simplified Loader'!V66=\"Waive\",\"Yes\",\"\")","v":""},{"$f":"IF('Simplified Loader'!W66=\"Waive\",\"Yes\",\"\")","v":""},{"$f":"IF('Simplified Loader'!X66>0,'Simplified Loader'!X66,\"\")","v":""},{"$f":"IF('Simplified Loader'!Y66>0,'Simplified Loader'!Y66,\"\")","v":""},{"$f":"IF('Simplified Loader'!Z66>0,'Simplified Loader'!Z66,\"\")","v":""},{"$f":"IF('Simplified Loader'!AA66>0,'Simplified Loader'!AA66,\"\")","v":""},{"$f":"IF('Simplified Loader'!AB66>0,'Simplified Loader'!AB66,\"\")","v":""},{"$f":"IF('Simplified Loader'!AC66>0,'Simplified Loader'!AC66,\"\")","v":" "},{"$f":"IF('Simplified Loader'!AE66>0,'Simplified Loader'!AE66&\" \",\"\")&IF('Simplified Loader'!AD66>0,'Simplified Loader'!AD66,\"\")","v":""},null,{"$f":"IF('Simplified Loader'!AF66>0,'Simplified Loader'!AF66,\"\")","v":""},{"$f":"IF('Simplified Loader'!AG66>0,'Simplified Loader'!AG66,\"\")","v":""},{"$f":"IF('Simplified Loader'!AH66>0,'Simplified Loader'!AH66,\"\")","v":""},{"$f":"IF('Simplified Loader'!AI66>0,'Simplified Loader'!AI66,\"\")","v":""},{"$f":"IF('Simplified Loader'!AJ66>0,'Simplified Loader'!AJ66,\"\")","v":""},{"$f":"IF('Simplified Loader'!AK66>0,'Simplified Loader'!AK66,\"\")","v":""},{"$f":"IF('Simplified Loader'!AL66>0,'Simplified Loader'!AL66,\"\")","v":""},{"$f":"IF('Simplified Loader'!AM66>0,'Simplified Loader'!AM66,\"\")","v":""},{"$f":"IF('Simplified Loader'!AN66=\"Male\",\"Male\",IF('Simplified Loader'!AN66=\"Female\",\"Female\",IF('Simplified Loader'!AN66=\"M\",\"Male\",IF('Simplified Loader'!AN66=\"F\",\"Female\",\"\"))))","v":""},{"$f":"IF('Simplified Loader'!AO66=\"Single\",\"Single\",IF('Simplified Loader'!AO66=\"Family\",\"Family\",IF('Simplified Loader'!AO66=\"S\",\"Single\",IF('Simplified Loader'!AO66=\"F\",\"Family\",\"\"))))","v":""},{"$f":"IF('Simplified Loader'!AP66=\"Single\",\"Single\",IF('Simplified Loader'!AP66=\"Family\",\"Family\",IF('Simplified Loader'!AP66=\"S\",\"Single\",IF('Simplified Loader'!AP66=\"F\",\"Family\",\"\"))))","v":""},{"$f":"IF('Simplified Loader'!AQ66>0,'Simplified Loader'!AQ66,\"\")","v":""},{"$f":"IF('Simplified Loader'!AR66=\"Yes\",\"Yes\",IF('Simplified Loader'!AR66=\"No\",\"No\",IF('Simplified Loader'!AR66=\"Y\",\"Yes\",IF('Simplified Loader'!AR66=\"N\",\"No\",\"\"))))","v":""},{"$f":"IF('Simplified Loader'!AS66>0,'Simplified Loader'!AS66,\"\")","v":""},{"$f":"IF('Simplified Loader'!AT66>0,'Simplified Loader'!AT66,\"\")","v":""},{"$f":"IF('Simplified Loader'!AU66>0,'Simplified Loader'!AU66,\"\")","v":""},{"$f":"IF('Simplified Loader'!AV66=\"Male\",\"Male\",IF('Simplified Loader'!AV66=\"Female\",\"Female\",IF('Simplified Loader'!AV66=\"M\",\"Male\",IF('Simplified Loader'!AV66=\"F\",\"Female\",\"\"))))","v":""},{"$f":"IF('Simplified Loader'!AW66=\"Yes\",\"Yes\",IF('Simplified Loader'!AW66=\"No\",\"No\",IF('Simplified Loader'!AW66=\"Y\",\"Yes\",IF('Simplified Loader'!AW66=\"N\",\"No\",\"\"))))","v":""},{"$f":"IF('Simplified Loader'!AX66=\"Yes\",\"Yes\",IF('Simplified Loader'!AX66=\"No\",\"No\",IF('Simplified Loader'!AX66=\"Y\",\"Yes\",IF('Simplified Loader'!AX66=\"N\",\"No\",\"\"))))","v":""},{"$f":"IF('Simplified Loader'!AY66>0,'Simplified Loader'!AY66,\"\")","v":""},{"$f":"IF('Simplified Loader'!AZ66>0,'Simplified Loader'!AZ66,\"\")","v":""},{"$f":"IF('Simplified Loader'!BA66>0,'Simplified Loader'!BA66,\"\")","v":""},{"$f":"IF('Simplified Loader'!BB66=\"Male\",\"Male\",IF('Simplified Loader'!BB66=\"Female\",\"Female\",IF('Simplified Loader'!BB66=\"M\",\"Male\",IF('Simplified Loader'!BB66=\"F\",\"Female\",\"\"))))","v":""},{"$f":"IF('Simplified Loader'!BC66=\"Yes\",\"Yes\",IF('Simplified Loader'!BC66=\"No\",\"No\",IF('Simplified Loader'!BC66=\"Y\",\"Yes\",IF('Simplified Loader'!BC66=\"N\",\"No\",\"\"))))","v":""},{"$f":"IF('Simplified Loader'!BD66=\"Yes\",\"Yes\",IF('Simplified Loader'!BD66=\"No\",\"No\",IF('Simplified Loader'!BD66=\"Y\",\"Yes\",IF('Simplified Loader'!BD66=\"N\",\"No\",\"\"))))","v":""},{"$f":"IF('Simplified Loader'!BE66>0,'Simplified Loader'!BE66,\"\")","v":""},{"$f":"IF('Simplified Loader'!BF66>0,'Simplified Loader'!BF66,\"\")","v":""},{"$f":"IF('Simplified Loader'!BG66>0,'Simplified Loader'!BG66,\"\")","v":""},{"$f":"IF('Simplified Loader'!BH66=\"Male\",\"Male\",IF('Simplified Loader'!BH66=\"Female\",\"Female\",IF('Simplified Loader'!BH66=\"M\",\"Male\",IF('Simplified Loader'!BH66=\"F\",\"Female\",\"\"))))","v":""},{"$f":"IF('Simplified Loader'!BI66=\"Yes\",\"Yes\",IF('Simplified Loader'!BI66=\"No\",\"No\",IF('Simplified Loader'!BI66=\"Y\",\"Yes\",IF('Simplified Loader'!BI66=\"N\",\"No\",\"\"))))","v":""},{"$f":"IF('Simplified Loader'!BJ66=\"Yes\",\"Yes\",IF('Simplified Loader'!BJ66=\"No\",\"No\",IF('Simplified Loader'!BJ66=\"Y\",\"Yes\",IF('Simplified Loader'!BJ66=\"N\",\"No\",\"\"))))","v":""},{"$f":"IF('Simplified Loader'!BK66>0,'Simplified Loader'!BK66,\"\")","v":""},{"$f":"IF('Simplified Loader'!BL66>0,'Simplified Loader'!BL66,\"\")","v":""},{"$f":"IF('Simplified Loader'!BM66>0,'Simplified Loader'!BM66,\"\")","v":""},{"$f":"IF('Simplified Loader'!BN66=\"Male\",\"Male\",IF('Simplified Loader'!BN66=\"Female\",\"Female\",IF('Simplified Loader'!BN66=\"M\",\"Male\",IF('Simplified Loader'!BN66=\"F\",\"Female\",\"\"))))","v":""},{"$f":"IF('Simplified Loader'!BO66=\"Yes\",\"Yes\",IF('Simplified Loader'!BO66=\"No\",\"No\",IF('Simplified Loader'!BO66=\"Y\",\"Yes\",IF('Simplified Loader'!BO66=\"N\",\"No\",\"\"))))","v":""},{"$f":"IF('Simplified Loader'!BP66=\"Yes\",\"Yes\",IF('Simplified Loader'!BP66=\"No\",\"No\",IF('Simplified Loader'!BP66=\"Y\",\"Yes\",IF('Simplified Loader'!BP66=\"N\",\"No\",\"\"))))","v":""},{"$f":"IF('Simplified Loader'!BQ66>0,'Simplified Loader'!BQ66,\"\")","v":""},{"$f":"IF('Simplified Loader'!BR66>0,'Simplified Loader'!BR66,\"\")","v":""},{"$f":"IF('Simplified Loader'!BS66>0,'Simplified Loader'!BS66,\"\")","v":""},{"$f":"IF('Simplified Loader'!BT66=\"Male\",\"Male\",IF('Simplified Loader'!BT66=\"Female\",\"Female\",IF('Simplified Loader'!BT66=\"M\",\"Male\",IF('Simplified Loader'!BT66=\"F\",\"Female\",\"\"))))","v":""},{"$f":"IF('Simplified Loader'!BU66=\"Yes\",\"Yes\",IF('Simplified Loader'!BU66=\"No\",\"No\",IF('Simplified Loader'!BU66=\"Y\",\"Yes\",IF('Simplified Loader'!BU66=\"N\",\"No\",\"\"))))","v":""},{"$f":"IF('Simplified Loader'!BV66=\"Yes\",\"Yes\",IF('Simplified Loader'!BV66=\"No\",\"No\",IF('Simplified Loader'!BV66=\"Y\",\"Yes\",IF('Simplified Loader'!BV66=\"N\",\"No\",\"\"))))","v":""},{"$f":"IF('Simplified Loader'!BW66>0,'Simplified Loader'!BW66,\"\")","v":""},{"$f":"IF('Simplified Loader'!BX66>0,'Simplified Loader'!BX66,\"\")","v":""},{"$f":"IF('Simplified Loader'!BY66>0,'Simplified Loader'!BY66,\"\")","v":""},{"$f":"IF('Simplified Loader'!BZ66=\"Male\",\"Male\",IF('Simplified Loader'!BZ66=\"Female\",\"Female\",IF('Simplified Loader'!BZ66=\"M\",\"Male\",IF('Simplified Loader'!BZ66=\"F\",\"Female\",\"\"))))","v":""},{"$f":"IF('Simplified Loader'!CA66=\"Yes\",\"Yes\",IF('Simplified Loader'!CA66=\"No\",\"No\",IF('Simplified Loader'!CA66=\"Y\",\"Yes\",IF('Simplified Loader'!CA66=\"N\",\"No\",\"\"))))","v":""},{"$f":"IF('Simplified Loader'!CB66=\"Yes\",\"Yes\",IF('Simplified Loader'!CB66=\"No\",\"No\",IF('Simplified Loader'!CB66=\"Y\",\"Yes\",IF('Simplified Loader'!CB66=\"N\",\"No\",\"\"))))","v":""},{"$f":"IF('Simplified Loader'!CH66>0,'Simplified Loader'!CH66,\"\")","v":"    "}]
[{"$f":"IF('Simplified Loader'!A67>0,'Simplified Loader'!A67,\"\")","v":""},{"$f":"IF('Simplified Loader'!B67>0,'Simplified Loader'!B67,\"\")","v":""},{"$f":"IF('Simplified Loader'!C67>0,'Simplified Loader'!C67,\"\")","v":""},{"$f":"IF('Simplified Loader'!D67>0,'Simplified Loader'!D67,\"\")","v":""},{"$f":"IF('Simplified Loader'!E67>0,TEXT('Simplified Loader'!E67,\"000\"),\"\")","v":""},{"$f":"IF('Simplified Loader'!F67>0,'Simplified Loader'!F67,\"\")","v":""},{"$f":"IF('Simplified Loader'!G67>0,'Simplified Loader'!G67,\"\")","v":""},{"$f":"IF('Simplified Loader'!I67>0,'Simplified Loader'!I67,\"\")","v":""},{"$f":"IF('Simplified Loader'!J67>0,'Simplified Loader'!J67,\"\")","v":""},{"$f":"IF('Simplified Loader'!K67>0,'Simplified Loader'!K67,\"\")","v":""},{"$f":"IF('Simplified Loader'!L67>0,'Simplified Loader'!L67,\"\")","v":""},{"$f":"IF('Simplified Loader'!M67=\"Male\",\"Male\",IF('Simplified Loader'!M67=\"Female\",\"Female\",IF('Simplified Loader'!M67=\"M\",\"Male\",IF('Simplified Loader'!M67=\"F\",\"Female\",\"\"))))","v":""},{"$f":"IF('Simplified Loader'!N67=\"Yes\",\"Yes\",IF('Simplified Loader'!N67=\"No\",\"No\",IF('Simplified Loader'!N67=\"Y\",\"Yes\",IF('Simplified Loader'!N67=\"N\",\"No\",\"\"))))","v":""},{"$f":"IF('Simplified Loader'!O67=\"No\",\"Single\",IF('Simplified Loader'!O67=\"Yes\",\"Family\",IF('Simplified Loader'!O67=\"N\",\"Single\",IF('Simplified Loader'!O67=\"Y\",\"Family\",IF('Simplified Loader'!O67=\"In-force\",\"Family\",IF('Simplified Loader'!O67=\"In force\",\"Family\",IF('Simplified Loader'!O67=\"Applies\",\"Family\",IF('Simplified Loader'!O67=\"Applicable\",\"Family\",\"\"))))))))","v":""},{"$f":"IF('Simplified Loader'!P67=\"English\",\"English\",IF('Simplified Loader'!P67=\"French\",\"French\",IF('Simplified Loader'!P67=\"E\",\"English\",IF('Simplified Loader'!P67=\"F\",\"French\",\"\"))))","v":""},{"$f":"IF('Simplified Loader'!Q67=\"Yes\",\"Yes\",IF('Simplified Loader'!Q67=\"No\",\"No\",IF('Simplified Loader'!Q67=\"Y\",\"Yes\",IF('Simplified Loader'!Q67=\"N\",\"No\",\"\"))))","v":""},{"$f":"IF('Simplified Loader'!R67>0,'Simplified Loader'!R67,\"\")","v":""},{"$f":"IF('Simplified Loader'!S67>0,'Simplified Loader'!S67,\"\")","v":""},{"$f":"IF('Simplified Loader'!T67>0,'Simplified Loader'!T67,\"\")","v":""},{"$f":"IF('Simplified Loader'!U67>0,'Simplified Loader'!U67,\"\")","v":""},{"$f":"IF('Simplified Loader'!V67=\"Waive\",\"Yes\",\"\")","v":""},{"$f":"IF('Simplified Loader'!W67=\"Waive\",\"Yes\",\"\")","v":""},{"$f":"IF('Simplified Loader'!X67>0,'Simplified Loader'!X67,\"\")","v":""},{"$f":"IF('Simplified Loader'!Y67>0,'Simplified Loader'!Y67,\"\")","v":""},{"$f":"IF('Simplified Loader'!Z67>0,'Simplified Loader'!Z67,\"\")","v":""},{"$f":"IF('Simplified Loader'!AA67>0,'Simplified Loader'!AA67,\"\")","v":""},{"$f":"IF('Simplified Loader'!AB67>0,'Simplified Loader'!AB67,\"\")","v":""},{"$f":"IF('Simplified Loader'!AC67>0,'Simplified Loader'!AC67,\"\")","v":" "},{"$f":"IF('Simplified Loader'!AE67>0,'Simplified Loader'!AE67&\" \",\"\")&IF('Simplified Loader'!AD67>0,'Simplified Loader'!AD67,\"\")","v":""},null,{"$f":"IF('Simplified Loader'!AF67>0,'Simplified Loader'!AF67,\"\")","v":""},{"$f":"IF('Simplified Loader'!AG67>0,'Simplified Loader'!AG67,\"\")","v":""},{"$f":"IF('Simplified Loader'!AH67>0,'Simplified Loader'!AH67,\"\")","v":""},{"$f":"IF('Simplified Loader'!AI67>0,'Simplified Loader'!AI67,\"\")","v":""},{"$f":"IF('Simplified Loader'!AJ67>0,'Simplified Loader'!AJ67,\"\")","v":""},{"$f":"IF('Simplified Loader'!AK67>0,'Simplified Loader'!AK67,\"\")","v":""},{"$f":"IF('Simplified Loader'!AL67>0,'Simplified Loader'!AL67,\"\")","v":""},{"$f":"IF('Simplified Loader'!AM67>0,'Simplified Loader'!AM67,\"\")","v":""},{"$f":"IF('Simplified Loader'!AN67=\"Male\",\"Male\",IF('Simplified Loader'!AN67=\"Female\",\"Female\",IF('Simplified Loader'!AN67=\"M\",\"Male\",IF('Simplified Loader'!AN67=\"F\",\"Female\",\"\"))))","v":""},{"$f":"IF('Simplified Loader'!AO67=\"Single\",\"Single\",IF('Simplified Loader'!AO67=\"Family\",\"Family\",IF('Simplified Loader'!AO67=\"S\",\"Single\",IF('Simplified Loader'!AO67=\"F\",\"Family\",\"\"))))","v":""},{"$f":"IF('Simplified Loader'!AP67=\"Single\",\"Single\",IF('Simplified Loader'!AP67=\"Family\",\"Family\",IF('Simplified Loader'!AP67=\"S\",\"Single\",IF('Simplified Loader'!AP67=\"F\",\"Family\",\"\"))))","v":""},{"$f":"IF('Simplified Loader'!AQ67>0,'Simplified Loader'!AQ67,\"\")","v":""},{"$f":"IF('Simplified Loader'!AR67=\"Yes\",\"Yes\",IF('Simplified Loader'!AR67=\"No\",\"No\",IF('Simplified Loader'!AR67=\"Y\",\"Yes\",IF('Simplified Loader'!AR67=\"N\",\"No\",\"\"))))","v":""},{"$f":"IF('Simplified Loader'!AS67>0,'Simplified Loader'!AS67,\"\")","v":""},{"$f":"IF('Simplified Loader'!AT67>0,'Simplified Loader'!AT67,\"\")","v":""},{"$f":"IF('Simplified Loader'!AU67>0,'Simplified Loader'!AU67,\"\")","v":""},{"$f":"IF('Simplified Loader'!AV67=\"Male\",\"Male\",IF('Simplified Loader'!AV67=\"Female\",\"Female\",IF('Simplified Loader'!AV67=\"M\",\"Male\",IF('Simplified Loader'!AV67=\"F\",\"Female\",\"\"))))","v":""},{"$f":"IF('Simplified Loader'!AW67=\"Yes\",\"Yes\",IF('Simplified Loader'!AW67=\"No\",\"No\",IF('Simplified Loader'!AW67=\"Y\",\"Yes\",IF('Simplified Loader'!AW67=\"N\",\"No\",\"\"))))","v":""},{"$f":"IF('Simplified Loader'!AX67=\"Yes\",\"Yes\",IF('Simplified Loader'!AX67=\"No\",\"No\",IF('Simplified Loader'!AX67=\"Y\",\"Yes\",IF('Simplified Loader'!AX67=\"N\",\"No\",\"\"))))","v":""},{"$f":"IF('Simplified Loader'!AY67>0,'Simplified Loader'!AY67,\"\")","v":""},{"$f":"IF('Simplified Loader'!AZ67>0,'Simplified Loader'!AZ67,\"\")","v":""},{"$f":"IF('Simplified Loader'!BA67>0,'Simplified Loader'!BA67,\"\")","v":""},{"$f":"IF('Simplified Loader'!BB67=\"Male\",\"Male\",IF('Simplified Loader'!BB67=\"Female\",\"Female\",IF('Simplified Loader'!BB67=\"M\",\"Male\",IF('Simplified Loader'!BB67=\"F\",\"Female\",\"\"))))","v":""},{"$f":"IF('Simplified Loader'!BC67=\"Yes\",\"Yes\",IF('Simplified Loader'!BC67=\"No\",\"No\",IF('Simplified Loader'!BC67=\"Y\",\"Yes\",IF('Simplified Loader'!BC67=\"N\",\"No\",\"\"))))","v":""},{"$f":"IF('Simplified Loader'!BD67=\"Yes\",\"Yes\",IF('Simplified Loader'!BD67=\"No\",\"No\",IF('Simplified Loader'!BD67=\"Y\",\"Yes\",IF('Simplified Loader'!BD67=\"N\",\"No\",\"\"))))","v":""},{"$f":"IF('Simplified Loader'!BE67>0,'Simplified Loader'!BE67,\"\")","v":""},{"$f":"IF('Simplified Loader'!BF67>0,'Simplified Loader'!BF67,\"\")","v":""},{"$f":"IF('Simplified Loader'!BG67>0,'Simplified Loader'!BG67,\"\")","v":""},{"$f":"IF('Simplified Loader'!BH67=\"Male\",\"Male\",IF('Simplified Loader'!BH67=\"Female\",\"Female\",IF('Simplified Loader'!BH67=\"M\",\"Male\",IF('Simplified Loader'!BH67=\"F\",\"Female\",\"\"))))","v":""},{"$f":"IF('Simplified Loader'!BI67=\"Yes\",\"Yes\",IF('Simplified Loader'!BI67=\"No\",\"No\",IF('Simplified Loader'!BI67=\"Y\",\"Yes\",IF('Simplified Loader'!BI67=\"N\",\"No\",\"\"))))","v":""},{"$f":"IF('Simplified Loader'!BJ67=\"Yes\",\"Yes\",IF('Simplified Loader'!BJ67=\"No\",\"No\",IF('Simplified Loader'!BJ67=\"Y\",\"Yes\",IF('Simplified Loader'!BJ67=\"N\",\"No\",\"\"))))","v":""},{"$f":"IF('Simplified Loader'!BK67>0,'Simplified Loader'!BK67,\"\")","v":""},{"$f":"IF('Simplified Loader'!BL67>0,'Simplified Loader'!BL67,\"\")","v":""},{"$f":"IF('Simplified Loader'!BM67>0,'Simplified Loader'!BM67,\"\")","v":""},{"$f":"IF('Simplified Loader'!BN67=\"Male\",\"Male\",IF('Simplified Loader'!BN67=\"Female\",\"Female\",IF('Simplified Loader'!BN67=\"M\",\"Male\",IF('Simplified Loader'!BN67=\"F\",\"Female\",\"\"))))","v":""},{"$f":"IF('Simplified Loader'!BO67=\"Yes\",\"Yes\",IF('Simplified Loader'!BO67=\"No\",\"No\",IF('Simplified Loader'!BO67=\"Y\",\"Yes\",IF('Simplified Loader'!BO67=\"N\",\"No\",\"\"))))","v":""},{"$f":"IF('Simplified Loader'!BP67=\"Yes\",\"Yes\",IF('Simplified Loader'!BP67=\"No\",\"No\",IF('Simplified Loader'!BP67=\"Y\",\"Yes\",IF('Simplified Loader'!BP67=\"N\",\"No\",\"\"))))","v":""},{"$f":"IF('Simplified Loader'!BQ67>0,'Simplified Loader'!BQ67,\"\")","v":""},{"$f":"IF('Simplified Loader'!BR67>0,'Simplified Loader'!BR67,\"\")","v":""},{"$f":"IF('Simplified Loader'!BS67>0,'Simplified Loader'!BS67,\"\")","v":""},{"$f":"IF('Simplified Loader'!BT67=\"Male\",\"Male\",IF('Simplified Loader'!BT67=\"Female\",\"Female\",IF('Simplified Loader'!BT67=\"M\",\"Male\",IF('Simplified Loader'!BT67=\"F\",\"Female\",\"\"))))","v":""},{"$f":"IF('Simplified Loader'!BU67=\"Yes\",\"Yes\",IF('Simplified Loader'!BU67=\"No\",\"No\",IF('Simplified Loader'!BU67=\"Y\",\"Yes\",IF('Simplified Loader'!BU67=\"N\",\"No\",\"\"))))","v":""},{"$f":"IF('Simplified Loader'!BV67=\"Yes\",\"Yes\",IF('Simplified Loader'!BV67=\"No\",\"No\",IF('Simplified Loader'!BV67=\"Y\",\"Yes\",IF('Simplified Loader'!BV67=\"N\",\"No\",\"\"))))","v":""},{"$f":"IF('Simplified Loader'!BW67>0,'Simplified Loader'!BW67,\"\")","v":""},{"$f":"IF('Simplified Loader'!BX67>0,'Simplified Loader'!BX67,\"\")","v":""},{"$f":"IF('Simplified Loader'!BY67>0,'Simplified Loader'!BY67,\"\")","v":""},{"$f":"IF('Simplified Loader'!BZ67=\"Male\",\"Male\",IF('Simplified Loader'!BZ67=\"Female\",\"Female\",IF('Simplified Loader'!BZ67=\"M\",\"Male\",IF('Simplified Loader'!BZ67=\"F\",\"Female\",\"\"))))","v":""},{"$f":"IF('Simplified Loader'!CA67=\"Yes\",\"Yes\",IF('Simplified Loader'!CA67=\"No\",\"No\",IF('Simplified Loader'!CA67=\"Y\",\"Yes\",IF('Simplified Loader'!CA67=\"N\",\"No\",\"\"))))","v":""},{"$f":"IF('Simplified Loader'!CB67=\"Yes\",\"Yes\",IF('Simplified Loader'!CB67=\"No\",\"No\",IF('Simplified Loader'!CB67=\"Y\",\"Yes\",IF('Simplified Loader'!CB67=\"N\",\"No\",\"\"))))","v":""},{"$f":"IF('Simplified Loader'!CH67>0,'Simplified Loader'!CH67,\"\")","v":"    "}]
[{"$f":"IF('Simplified Loader'!A68>0,'Simplified Loader'!A68,\"\")","v":""},{"$f":"IF('Simplified Loader'!B68>0,'Simplified Loader'!B68,\"\")","v":""},{"$f":"IF('Simplified Loader'!C68>0,'Simplified Loader'!C68,\"\")","v":""},{"$f":"IF('Simplified Loader'!D68>0,'Simplified Loader'!D68,\"\")","v":""},{"$f":"IF('Simplified Loader'!E68>0,TEXT('Simplified Loader'!E68,\"000\"),\"\")","v":""},{"$f":"IF('Simplified Loader'!F68>0,'Simplified Loader'!F68,\"\")","v":""},{"$f":"IF('Simplified Loader'!G68>0,'Simplified Loader'!G68,\"\")","v":""},{"$f":"IF('Simplified Loader'!I68>0,'Simplified Loader'!I68,\"\")","v":""},{"$f":"IF('Simplified Loader'!J68>0,'Simplified Loader'!J68,\"\")","v":""},{"$f":"IF('Simplified Loader'!K68>0,'Simplified Loader'!K68,\"\")","v":""},{"$f":"IF('Simplified Loader'!L68>0,'Simplified Loader'!L68,\"\")","v":""},{"$f":"IF('Simplified Loader'!M68=\"Male\",\"Male\",IF('Simplified Loader'!M68=\"Female\",\"Female\",IF('Simplified Loader'!M68=\"M\",\"Male\",IF('Simplified Loader'!M68=\"F\",\"Female\",\"\"))))","v":""},{"$f":"IF('Simplified Loader'!N68=\"Yes\",\"Yes\",IF('Simplified Loader'!N68=\"No\",\"No\",IF('Simplified Loader'!N68=\"Y\",\"Yes\",IF('Simplified Loader'!N68=\"N\",\"No\",\"\"))))","v":""},{"$f":"IF('Simplified Loader'!O68=\"No\",\"Single\",IF('Simplified Loader'!O68=\"Yes\",\"Family\",IF('Simplified Loader'!O68=\"N\",\"Single\",IF('Simplified Loader'!O68=\"Y\",\"Family\",IF('Simplified Loader'!O68=\"In-force\",\"Family\",IF('Simplified Loader'!O68=\"In force\",\"Family\",IF('Simplified Loader'!O68=\"Applies\",\"Family\",IF('Simplified Loader'!O68=\"Applicable\",\"Family\",\"\"))))))))","v":""},{"$f":"IF('Simplified Loader'!P68=\"English\",\"English\",IF('Simplified Loader'!P68=\"French\",\"French\",IF('Simplified Loader'!P68=\"E\",\"English\",IF('Simplified Loader'!P68=\"F\",\"French\",\"\"))))","v":""},{"$f":"IF('Simplified Loader'!Q68=\"Yes\",\"Yes\",IF('Simplified Loader'!Q68=\"No\",\"No\",IF('Simplified Loader'!Q68=\"Y\",\"Yes\",IF('Simplified Loader'!Q68=\"N\",\"No\",\"\"))))","v":""},{"$f":"IF('Simplified Loader'!R68>0,'Simplified Loader'!R68,\"\")","v":""},{"$f":"IF('Simplified Loader'!S68>0,'Simplified Loader'!S68,\"\")","v":""},{"$f":"IF('Simplified Loader'!T68>0,'Simplified Loader'!T68,\"\")","v":""},{"$f":"IF('Simplified Loader'!U68>0,'Simplified Loader'!U68,\"\")","v":""},{"$f":"IF('Simplified Loader'!V68=\"Waive\",\"Yes\",\"\")","v":""},{"$f":"IF('Simplified Loader'!W68=\"Waive\",\"Yes\",\"\")","v":""},{"$f":"IF('Simplified Loader'!X68>0,'Simplified Loader'!X68,\"\")","v":""},{"$f":"IF('Simplified Loader'!Y68>0,'Simplified Loader'!Y68,\"\")","v":""},{"$f":"IF('Simplified Loader'!Z68>0,'Simplified Loader'!Z68,\"\")","v":""},{"$f":"IF('Simplified Loader'!AA68>0,'Simplified Loader'!AA68,\"\")","v":""},{"$f":"IF('Simplified Loader'!AB68>0,'Simplified Loader'!AB68,\"\")","v":""},{"$f":"IF('Simplified Loader'!AC68>0,'Simplified Loader'!AC68,\"\")","v":" "},{"$f":"IF('Simplified Loader'!AE68>0,'Simplified Loader'!AE68&\" \",\"\")&IF('Simplified Loader'!AD68>0,'Simplified Loader'!AD68,\"\")","v":""},null,{"$f":"IF('Simplified Loader'!AF68>0,'Simplified Loader'!AF68,\"\")","v":""},{"$f":"IF('Simplified Loader'!AG68>0,'Simplified Loader'!AG68,\"\")","v":""},{"$f":"IF('Simplified Loader'!AH68>0,'Simplified Loader'!AH68,\"\")","v":""},{"$f":"IF('Simplified Loader'!AI68>0,'Simplified Loader'!AI68,\"\")","v":""},{"$f":"IF('Simplified Loader'!AJ68>0,'Simplified Loader'!AJ68,\"\")","v":""},{"$f":"IF('Simplified Loader'!AK68>0,'Simplified Loader'!AK68,\"\")","v":""},{"$f":"IF('Simplified Loader'!AL68>0,'Simplified Loader'!AL68,\"\")","v":""},{"$f":"IF('Simplified Loader'!AM68>0,'Simplified Loader'!AM68,\"\")","v":""},{"$f":"IF('Simplified Loader'!AN68=\"Male\",\"Male\",IF('Simplified Loader'!AN68=\"Female\",\"Female\",IF('Simplified Loader'!AN68=\"M\",\"Male\",IF('Simplified Loader'!AN68=\"F\",\"Female\",\"\"))))","v":""},{"$f":"IF('Simplified Loader'!AO68=\"Single\",\"Single\",IF('Simplified Loader'!AO68=\"Family\",\"Family\",IF('Simplified Loader'!AO68=\"S\",\"Single\",IF('Simplified Loader'!AO68=\"F\",\"Family\",\"\"))))","v":""},{"$f":"IF('Simplified Loader'!AP68=\"Single\",\"Single\",IF('Simplified Loader'!AP68=\"Family\",\"Family\",IF('Simplified Loader'!AP68=\"S\",\"Single\",IF('Simplified Loader'!AP68=\"F\",\"Family\",\"\"))))","v":""},{"$f":"IF('Simplified Loader'!AQ68>0,'Simplified Loader'!AQ68,\"\")","v":""},{"$f":"IF('Simplified Loader'!AR68=\"Yes\",\"Yes\",IF('Simplified Loader'!AR68=\"No\",\"No\",IF('Simplified Loader'!AR68=\"Y\",\"Yes\",IF('Simplified Loader'!AR68=\"N\",\"No\",\"\"))))","v":""},{"$f":"IF('Simplified Loader'!AS68>0,'Simplified Loader'!AS68,\"\")","v":""},{"$f":"IF('Simplified Loader'!AT68>0,'Simplified Loader'!AT68,\"\")","v":""},{"$f":"IF('Simplified Loader'!AU68>0,'Simplified Loader'!AU68,\"\")","v":""},{"$f":"IF('Simplified Loader'!AV68=\"Male\",\"Male\",IF('Simplified Loader'!AV68=\"Female\",\"Female\",IF('Simplified Loader'!AV68=\"M\",\"Male\",IF('Simplified Loader'!AV68=\"F\",\"Female\",\"\"))))","v":""},{"$f":"IF('Simplified Loader'!AW68=\"Yes\",\"Yes\",IF('Simplified Loader'!AW68=\"No\",\"No\",IF('Simplified Loader'!AW68=\"Y\",\"Yes\",IF('Simplified Loader'!AW68=\"N\",\"No\",\"\"))))","v":""},{"$f":"IF('Simplified Loader'!AX68=\"Yes\",\"Yes\",IF('Simplified Loader'!AX68=\"No\",\"No\",IF('Simplified Loader'!AX68=\"Y\",\"Yes\",IF('Simplified Loader'!AX68=\"N\",\"No\",\"\"))))","v":""},{"$f":"IF('Simplified Loader'!AY68>0,'Simplified Loader'!AY68,\"\")","v":""},{"$f":"IF('Simplified Loader'!AZ68>0,'Simplified Loader'!AZ68,\"\")","v":""},{"$f":"IF('Simplified Loader'!BA68>0,'Simplified Loader'!BA68,\"\")","v":""},{"$f":"IF('Simplified Loader'!BB68=\"Male\",\"Male\",IF('Simplified Loader'!BB68=\"Female\",\"Female\",IF('Simplified Loader'!BB68=\"M\",\"Male\",IF('Simplified Loader'!BB68=\"F\",\"Female\",\"\"))))","v":""},{"$f":"IF('Simplified Loader'!BC68=\"Yes\",\"Yes\",IF('Simplified Loader'!BC68=\"No\",\"No\",IF('Simplified Loader'!BC68=\"Y\",\"Yes\",IF('Simplified Loader'!BC68=\"N\",\"No\",\"\"))))","v":""},{"$f":"IF('Simplified Loader'!BD68=\"Yes\",\"Yes\",IF('Simplified Loader'!BD68=\"No\",\"No\",IF('Simplified Loader'!BD68=\"Y\",\"Yes\",IF('Simplified Loader'!BD68=\"N\",\"No\",\"\"))))","v":""},{"$f":"IF('Simplified Loader'!BE68>0,'Simplified Loader'!BE68,\"\")","v":""},{"$f":"IF('Simplified Loader'!BF68>0,'Simplified Loader'!BF68,\"\")","v":""},{"$f":"IF('Simplified Loader'!BG68>0,'Simplified Loader'!BG68,\"\")","v":""},{"$f":"IF('Simplified Loader'!BH68=\"Male\",\"Male\",IF('Simplified Loader'!BH68=\"Female\",\"Female\",IF('Simplified Loader'!BH68=\"M\",\"Male\",IF('Simplified Loader'!BH68=\"F\",\"Female\",\"\"))))","v":""},{"$f":"IF('Simplified Loader'!BI68=\"Yes\",\"Yes\",IF('Simplified Loader'!BI68=\"No\",\"No\",IF('Simplified Loader'!BI68=\"Y\",\"Yes\",IF('Simplified Loader'!BI68=\"N\",\"No\",\"\"))))","v":""},{"$f":"IF('Simplified Loader'!BJ68=\"Yes\",\"Yes\",IF('Simplified Loader'!BJ68=\"No\",\"No\",IF('Simplified Loader'!BJ68=\"Y\",\"Yes\",IF('Simplified Loader'!BJ68=\"N\",\"No\",\"\"))))","v":""},{"$f":"IF('Simplified Loader'!BK68>0,'Simplified Loader'!BK68,\"\")","v":""},{"$f":"IF('Simplified Loader'!BL68>0,'Simplified Loader'!BL68,\"\")","v":""},{"$f":"IF('Simplified Loader'!BM68>0,'Simplified Loader'!BM68,\"\")","v":""},{"$f":"IF('Simplified Loader'!BN68=\"Male\",\"Male\",IF('Simplified Loader'!BN68=\"Female\",\"Female\",IF('Simplified Loader'!BN68=\"M\",\"Male\",IF('Simplified Loader'!BN68=\"F\",\"Female\",\"\"))))","v":""},{"$f":"IF('Simplified Loader'!BO68=\"Yes\",\"Yes\",IF('Simplified Loader'!BO68=\"No\",\"No\",IF('Simplified Loader'!BO68=\"Y\",\"Yes\",IF('Simplified Loader'!BO68=\"N\",\"No\",\"\"))))","v":""},{"$f":"IF('Simplified Loader'!BP68=\"Yes\",\"Yes\",IF('Simplified Loader'!BP68=\"No\",\"No\",IF('Simplified Loader'!BP68=\"Y\",\"Yes\",IF('Simplified Loader'!BP68=\"N\",\"No\",\"\"))))","v":""},{"$f":"IF('Simplified Loader'!BQ68>0,'Simplified Loader'!BQ68,\"\")","v":""},{"$f":"IF('Simplified Loader'!BR68>0,'Simplified Loader'!BR68,\"\")","v":""},{"$f":"IF('Simplified Loader'!BS68>0,'Simplified Loader'!BS68,\"\")","v":""},{"$f":"IF('Simplified Loader'!BT68=\"Male\",\"Male\",IF('Simplified Loader'!BT68=\"Female\",\"Female\",IF('Simplified Loader'!BT68=\"M\",\"Male\",IF('Simplified Loader'!BT68=\"F\",\"Female\",\"\"))))","v":""},{"$f":"IF('Simplified Loader'!BU68=\"Yes\",\"Yes\",IF('Simplified Loader'!BU68=\"No\",\"No\",IF('Simplified Loader'!BU68=\"Y\",\"Yes\",IF('Simplified Loader'!BU68=\"N\",\"No\",\"\"))))","v":""},{"$f":"IF('Simplified Loader'!BV68=\"Yes\",\"Yes\",IF('Simplified Loader'!BV68=\"No\",\"No\",IF('Simplified Loader'!BV68=\"Y\",\"Yes\",IF('Simplified Loader'!BV68=\"N\",\"No\",\"\"))))","v":""},{"$f":"IF('Simplified Loader'!BW68>0,'Simplified Loader'!BW68,\"\")","v":""},{"$f":"IF('Simplified Loader'!BX68>0,'Simplified Loader'!BX68,\"\")","v":""},{"$f":"IF('Simplified Loader'!BY68>0,'Simplified Loader'!BY68,\"\")","v":""},{"$f":"IF('Simplified Loader'!BZ68=\"Male\",\"Male\",IF('Simplified Loader'!BZ68=\"Female\",\"Female\",IF('Simplified Loader'!BZ68=\"M\",\"Male\",IF('Simplified Loader'!BZ68=\"F\",\"Female\",\"\"))))","v":""},{"$f":"IF('Simplified Loader'!CA68=\"Yes\",\"Yes\",IF('Simplified Loader'!CA68=\"No\",\"No\",IF('Simplified Loader'!CA68=\"Y\",\"Yes\",IF('Simplified Loader'!CA68=\"N\",\"No\",\"\"))))","v":""},{"$f":"IF('Simplified Loader'!CB68=\"Yes\",\"Yes\",IF('Simplified Loader'!CB68=\"No\",\"No\",IF('Simplified Loader'!CB68=\"Y\",\"Yes\",IF('Simplified Loader'!CB68=\"N\",\"No\",\"\"))))","v":""},{"$f":"IF('Simplified Loader'!CH68>0,'Simplified Loader'!CH68,\"\")","v":"    "}]
[{"$f":"IF('Simplified Loader'!A69>0,'Simplified Loader'!A69,\"\")","v":""},{"$f":"IF('Simplified Loader'!B69>0,'Simplified Loader'!B69,\"\")","v":""},{"$f":"IF('Simplified Loader'!C69>0,'Simplified Loader'!C69,\"\")","v":""},{"$f":"IF('Simplified Loader'!D69>0,'Simplified Loader'!D69,\"\")","v":""},{"$f":"IF('Simplified Loader'!E69>0,TEXT('Simplified Loader'!E69,\"000\"),\"\")","v":""},{"$f":"IF('Simplified Loader'!F69>0,'Simplified Loader'!F69,\"\")","v":""},{"$f":"IF('Simplified Loader'!G69>0,'Simplified Loader'!G69,\"\")","v":""},{"$f":"IF('Simplified Loader'!I69>0,'Simplified Loader'!I69,\"\")","v":""},{"$f":"IF('Simplified Loader'!J69>0,'Simplified Loader'!J69,\"\")","v":""},{"$f":"IF('Simplified Loader'!K69>0,'Simplified Loader'!K69,\"\")","v":""},{"$f":"IF('Simplified Loader'!L69>0,'Simplified Loader'!L69,\"\")","v":""},{"$f":"IF('Simplified Loader'!M69=\"Male\",\"Male\",IF('Simplified Loader'!M69=\"Female\",\"Female\",IF('Simplified Loader'!M69=\"M\",\"Male\",IF('Simplified Loader'!M69=\"F\",\"Female\",\"\"))))","v":""},{"$f":"IF('Simplified Loader'!N69=\"Yes\",\"Yes\",IF('Simplified Loader'!N69=\"No\",\"No\",IF('Simplified Loader'!N69=\"Y\",\"Yes\",IF('Simplified Loader'!N69=\"N\",\"No\",\"\"))))","v":""},{"$f":"IF('Simplified Loader'!O69=\"No\",\"Single\",IF('Simplified Loader'!O69=\"Yes\",\"Family\",IF('Simplified Loader'!O69=\"N\",\"Single\",IF('Simplified Loader'!O69=\"Y\",\"Family\",IF('Simplified Loader'!O69=\"In-force\",\"Family\",IF('Simplified Loader'!O69=\"In force\",\"Family\",IF('Simplified Loader'!O69=\"Applies\",\"Family\",IF('Simplified Loader'!O69=\"Applicable\",\"Family\",\"\"))))))))","v":""},{"$f":"IF('Simplified Loader'!P69=\"English\",\"English\",IF('Simplified Loader'!P69=\"French\",\"French\",IF('Simplified Loader'!P69=\"E\",\"English\",IF('Simplified Loader'!P69=\"F\",\"French\",\"\"))))","v":""},{"$f":"IF('Simplified Loader'!Q69=\"Yes\",\"Yes\",IF('Simplified Loader'!Q69=\"No\",\"No\",IF('Simplified Loader'!Q69=\"Y\",\"Yes\",IF('Simplified Loader'!Q69=\"N\",\"No\",\"\"))))","v":""},{"$f":"IF('Simplified Loader'!R69>0,'Simplified Loader'!R69,\"\")","v":""},{"$f":"IF('Simplified Loader'!S69>0,'Simplified Loader'!S69,\"\")","v":""},{"$f":"IF('Simplified Loader'!T69>0,'Simplified Loader'!T69,\"\")","v":""},{"$f":"IF('Simplified Loader'!U69>0,'Simplified Loader'!U69,\"\")","v":""},{"$f":"IF('Simplified Loader'!V69=\"Waive\",\"Yes\",\"\")","v":""},{"$f":"IF('Simplified Loader'!W69=\"Waive\",\"Yes\",\"\")","v":""},{"$f":"IF('Simplified Loader'!X69>0,'Simplified Loader'!X69,\"\")","v":""},{"$f":"IF('Simplified Loader'!Y69>0,'Simplified Loader'!Y69,\"\")","v":""},{"$f":"IF('Simplified Loader'!Z69>0,'Simplified Loader'!Z69,\"\")","v":""},{"$f":"IF('Simplified Loader'!AA69>0,'Simplified Loader'!AA69,\"\")","v":""},{"$f":"IF('Simplified Loader'!AB69>0,'Simplified Loader'!AB69,\"\")","v":""},{"$f":"IF('Simplified Loader'!AC69>0,'Simplified Loader'!AC69,\"\")","v":" "},{"$f":"IF('Simplified Loader'!AE69>0,'Simplified Loader'!AE69&\" \",\"\")&IF('Simplified Loader'!AD69>0,'Simplified Loader'!AD69,\"\")","v":""},null,{"$f":"IF('Simplified Loader'!AF69>0,'Simplified Loader'!AF69,\"\")","v":""},{"$f":"IF('Simplified Loader'!AG69>0,'Simplified Loader'!AG69,\"\")","v":""},{"$f":"IF('Simplified Loader'!AH69>0,'Simplified Loader'!AH69,\"\")","v":""},{"$f":"IF('Simplified Loader'!AI69>0,'Simplified Loader'!AI69,\"\")","v":""},{"$f":"IF('Simplified Loader'!AJ69>0,'Simplified Loader'!AJ69,\"\")","v":""},{"$f":"IF('Simplified Loader'!AK69>0,'Simplified Loader'!AK69,\"\")","v":""},{"$f":"IF('Simplified Loader'!AL69>0,'Simplified Loader'!AL69,\"\")","v":""},{"$f":"IF('Simplified Loader'!AM69>0,'Simplified Loader'!AM69,\"\")","v":""},{"$f":"IF('Simplified Loader'!AN69=\"Male\",\"Male\",IF('Simplified Loader'!AN69=\"Female\",\"Female\",IF('Simplified Loader'!AN69=\"M\",\"Male\",IF('Simplified Loader'!AN69=\"F\",\"Female\",\"\"))))","v":""},{"$f":"IF('Simplified Loader'!AO69=\"Single\",\"Single\",IF('Simplified Loader'!AO69=\"Family\",\"Family\",IF('Simplified Loader'!AO69=\"S\",\"Single\",IF('Simplified Loader'!AO69=\"F\",\"Family\",\"\"))))","v":""},{"$f":"IF('Simplified Loader'!AP69=\"Single\",\"Single\",IF('Simplified Loader'!AP69=\"Family\",\"Family\",IF('Simplified Loader'!AP69=\"S\",\"Single\",IF('Simplified Loader'!AP69=\"F\",\"Family\",\"\"))))","v":""},{"$f":"IF('Simplified Loader'!AQ69>0,'Simplified Loader'!AQ69,\"\")","v":""},{"$f":"IF('Simplified Loader'!AR69=\"Yes\",\"Yes\",IF('Simplified Loader'!AR69=\"No\",\"No\",IF('Simplified Loader'!AR69=\"Y\",\"Yes\",IF('Simplified Loader'!AR69=\"N\",\"No\",\"\"))))","v":""},{"$f":"IF('Simplified Loader'!AS69>0,'Simplified Loader'!AS69,\"\")","v":""},{"$f":"IF('Simplified Loader'!AT69>0,'Simplified Loader'!AT69,\"\")","v":""},{"$f":"IF('Simplified Loader'!AU69>0,'Simplified Loader'!AU69,\"\")","v":""},{"$f":"IF('Simplified Loader'!AV69=\"Male\",\"Male\",IF('Simplified Loader'!AV69=\"Female\",\"Female\",IF('Simplified Loader'!AV69=\"M\",\"Male\",IF('Simplified Loader'!AV69=\"F\",\"Female\",\"\"))))","v":""},{"$f":"IF('Simplified Loader'!AW69=\"Yes\",\"Yes\",IF('Simplified Loader'!AW69=\"No\",\"No\",IF('Simplified Loader'!AW69=\"Y\",\"Yes\",IF('Simplified Loader'!AW69=\"N\",\"No\",\"\"))))","v":""},{"$f":"IF('Simplified Loader'!AX69=\"Yes\",\"Yes\",IF('Simplified Loader'!AX69=\"No\",\"No\",IF('Simplified Loader'!AX69=\"Y\",\"Yes\",IF('Simplified Loader'!AX69=\"N\",\"No\",\"\"))))","v":""},{"$f":"IF('Simplified Loader'!AY69>0,'Simplified Loader'!AY69,\"\")","v":""},{"$f":"IF('Simplified Loader'!AZ69>0,'Simplified Loader'!AZ69,\"\")","v":""},{"$f":"IF('Simplified Loader'!BA69>0,'Simplified Loader'!BA69,\"\")","v":""},{"$f":"IF('Simplified Loader'!BB69=\"Male\",\"Male\",IF('Simplified Loader'!BB69=\"Female\",\"Female\",IF('Simplified Loader'!BB69=\"M\",\"Male\",IF('Simplified Loader'!BB69=\"F\",\"Female\",\"\"))))","v":""},{"$f":"IF('Simplified Loader'!BC69=\"Yes\",\"Yes\",IF('Simplified Loader'!BC69=\"No\",\"No\",IF('Simplified Loader'!BC69=\"Y\",\"Yes\",IF('Simplified Loader'!BC69=\"N\",\"No\",\"\"))))","v":""},{"$f":"IF('Simplified Loader'!BD69=\"Yes\",\"Yes\",IF('Simplified Loader'!BD69=\"No\",\"No\",IF('Simplified Loader'!BD69=\"Y\",\"Yes\",IF('Simplified Loader'!BD69=\"N\",\"No\",\"\"))))","v":""},{"$f":"IF('Simplified Loader'!BE69>0,'Simplified Loader'!BE69,\"\")","v":""},{"$f":"IF('Simplified Loader'!BF69>0,'Simplified Loader'!BF69,\"\")","v":""},{"$f":"IF('Simplified Loader'!BG69>0,'Simplified Loader'!BG69,\"\")","v":""},{"$f":"IF('Simplified Loader'!BH69=\"Male\",\"Male\",IF('Simplified Loader'!BH69=\"Female\",\"Female\",IF('Simplified Loader'!BH69=\"M\",\"Male\",IF('Simplified Loader'!BH69=\"F\",\"Female\",\"\"))))","v":""},{"$f":"IF('Simplified Loader'!BI69=\"Yes\",\"Yes\",IF('Simplified Loader'!BI69=\"No\",\"No\",IF('Simplified Loader'!BI69=\"Y\",\"Yes\",IF('Simplified Loader'!BI69=\"N\",\"No\",\"\"))))","v":""},{"$f":"IF('Simplified Loader'!BJ69=\"Yes\",\"Yes\",IF('Simplified Loader'!BJ69=\"No\",\"No\",IF('Simplified Loader'!BJ69=\"Y\",\"Yes\",IF('Simplified Loader'!BJ69=\"N\",\"No\",\"\"))))","v":""},{"$f":"IF('Simplified Loader'!BK69>0,'Simplified Loader'!BK69,\"\")","v":""},{"$f":"IF('Simplified Loader'!BL69>0,'Simplified Loader'!BL69,\"\")","v":""},{"$f":"IF('Simplified Loader'!BM69>0,'Simplified Loader'!BM69,\"\")","v":""},{"$f":"IF('Simplified Loader'!BN69=\"Male\",\"Male\",IF('Simplified Loader'!BN69=\"Female\",\"Female\",IF('Simplified Loader'!BN69=\"M\",\"Male\",IF('Simplified Loader'!BN69=\"F\",\"Female\",\"\"))))","v":""},{"$f":"IF('Simplified Loader'!BO69=\"Yes\",\"Yes\",IF('Simplified Loader'!BO69=\"No\",\"No\",IF('Simplified Loader'!BO69=\"Y\",\"Yes\",IF('Simplified Loader'!BO69=\"N\",\"No\",\"\"))))","v":""},{"$f":"IF('Simplified Loader'!BP69=\"Yes\",\"Yes\",IF('Simplified Loader'!BP69=\"No\",\"No\",IF('Simplified Loader'!BP69=\"Y\",\"Yes\",IF('Simplified Loader'!BP69=\"N\",\"No\",\"\"))))","v":""},{"$f":"IF('Simplified Loader'!BQ69>0,'Simplified Loader'!BQ69,\"\")","v":""},{"$f":"IF('Simplified Loader'!BR69>0,'Simplified Loader'!BR69,\"\")","v":""},{"$f":"IF('Simplified Loader'!BS69>0,'Simplified Loader'!BS69,\"\")","v":""},{"$f":"IF('Simplified Loader'!BT69=\"Male\",\"Male\",IF('Simplified Loader'!BT69=\"Female\",\"Female\",IF('Simplified Loader'!BT69=\"M\",\"Male\",IF('Simplified Loader'!BT69=\"F\",\"Female\",\"\"))))","v":""},{"$f":"IF('Simplified Loader'!BU69=\"Yes\",\"Yes\",IF('Simplified Loader'!BU69=\"No\",\"No\",IF('Simplified Loader'!BU69=\"Y\",\"Yes\",IF('Simplified Loader'!BU69=\"N\",\"No\",\"\"))))","v":""},{"$f":"IF('Simplified Loader'!BV69=\"Yes\",\"Yes\",IF('Simplified Loader'!BV69=\"No\",\"No\",IF('Simplified Loader'!BV69=\"Y\",\"Yes\",IF('Simplified Loader'!BV69=\"N\",\"No\",\"\"))))","v":""},{"$f":"IF('Simplified Loader'!BW69>0,'Simplified Loader'!BW69,\"\")","v":""},{"$f":"IF('Simplified Loader'!BX69>0,'Simplified Loader'!BX69,\"\")","v":""},{"$f":"IF('Simplified Loader'!BY69>0,'Simplified Loader'!BY69,\"\")","v":""},{"$f":"IF('Simplified Loader'!BZ69=\"Male\",\"Male\",IF('Simplified Loader'!BZ69=\"Female\",\"Female\",IF('Simplified Loader'!BZ69=\"M\",\"Male\",IF('Simplified Loader'!BZ69=\"F\",\"Female\",\"\"))))","v":""},{"$f":"IF('Simplified Loader'!CA69=\"Yes\",\"Yes\",IF('Simplified Loader'!CA69=\"No\",\"No\",IF('Simplified Loader'!CA69=\"Y\",\"Yes\",IF('Simplified Loader'!CA69=\"N\",\"No\",\"\"))))","v":""},{"$f":"IF('Simplified Loader'!CB69=\"Yes\",\"Yes\",IF('Simplified Loader'!CB69=\"No\",\"No\",IF('Simplified Loader'!CB69=\"Y\",\"Yes\",IF('Simplified Loader'!CB69=\"N\",\"No\",\"\"))))","v":""},{"$f":"IF('Simplified Loader'!CH69>0,'Simplified Loader'!CH69,\"\")","v":"    "}]
[{"$f":"IF('Simplified Loader'!A70>0,'Simplified Loader'!A70,\"\")","v":""},{"$f":"IF('Simplified Loader'!B70>0,'Simplified Loader'!B70,\"\")","v":""},{"$f":"IF('Simplified Loader'!C70>0,'Simplified Loader'!C70,\"\")","v":""},{"$f":"IF('Simplified Loader'!D70>0,'Simplified Loader'!D70,\"\")","v":""},{"$f":"IF('Simplified Loader'!E70>0,TEXT('Simplified Loader'!E70,\"000\"),\"\")","v":""},{"$f":"IF('Simplified Loader'!F70>0,'Simplified Loader'!F70,\"\")","v":""},{"$f":"IF('Simplified Loader'!G70>0,'Simplified Loader'!G70,\"\")","v":""},{"$f":"IF('Simplified Loader'!I70>0,'Simplified Loader'!I70,\"\")","v":""},{"$f":"IF('Simplified Loader'!J70>0,'Simplified Loader'!J70,\"\")","v":""},{"$f":"IF('Simplified Loader'!K70>0,'Simplified Loader'!K70,\"\")","v":""},{"$f":"IF('Simplified Loader'!L70>0,'Simplified Loader'!L70,\"\")","v":""},{"$f":"IF('Simplified Loader'!M70=\"Male\",\"Male\",IF('Simplified Loader'!M70=\"Female\",\"Female\",IF('Simplified Loader'!M70=\"M\",\"Male\",IF('Simplified Loader'!M70=\"F\",\"Female\",\"\"))))","v":""},{"$f":"IF('Simplified Loader'!N70=\"Yes\",\"Yes\",IF('Simplified Loader'!N70=\"No\",\"No\",IF('Simplified Loader'!N70=\"Y\",\"Yes\",IF('Simplified Loader'!N70=\"N\",\"No\",\"\"))))","v":""},{"$f":"IF('Simplified Loader'!O70=\"No\",\"Single\",IF('Simplified Loader'!O70=\"Yes\",\"Family\",IF('Simplified Loader'!O70=\"N\",\"Single\",IF('Simplified Loader'!O70=\"Y\",\"Family\",IF('Simplified Loader'!O70=\"In-force\",\"Family\",IF('Simplified Loader'!O70=\"In force\",\"Family\",IF('Simplified Loader'!O70=\"Applies\",\"Family\",IF('Simplified Loader'!O70=\"Applicable\",\"Family\",\"\"))))))))","v":""},{"$f":"IF('Simplified Loader'!P70=\"English\",\"English\",IF('Simplified Loader'!P70=\"French\",\"French\",IF('Simplified Loader'!P70=\"E\",\"English\",IF('Simplified Loader'!P70=\"F\",\"French\",\"\"))))","v":""},{"$f":"IF('Simplified Loader'!Q70=\"Yes\",\"Yes\",IF('Simplified Loader'!Q70=\"No\",\"No\",IF('Simplified Loader'!Q70=\"Y\",\"Yes\",IF('Simplified Loader'!Q70=\"N\",\"No\",\"\"))))","v":""},{"$f":"IF('Simplified Loader'!R70>0,'Simplified Loader'!R70,\"\")","v":""},{"$f":"IF('Simplified Loader'!S70>0,'Simplified Loader'!S70,\"\")","v":""},{"$f":"IF('Simplified Loader'!T70>0,'Simplified Loader'!T70,\"\")","v":""},{"$f":"IF('Simplified Loader'!U70>0,'Simplified Loader'!U70,\"\")","v":""},{"$f":"IF('Simplified Loader'!V70=\"Waive\",\"Yes\",\"\")","v":""},{"$f":"IF('Simplified Loader'!W70=\"Waive\",\"Yes\",\"\")","v":""},{"$f":"IF('Simplified Loader'!X70>0,'Simplified Loader'!X70,\"\")","v":""},{"$f":"IF('Simplified Loader'!Y70>0,'Simplified Loader'!Y70,\"\")","v":""},{"$f":"IF('Simplified Loader'!Z70>0,'Simplified Loader'!Z70,\"\")","v":""},{"$f":"IF('Simplified Loader'!AA70>0,'Simplified Loader'!AA70,\"\")","v":""},{"$f":"IF('Simplified Loader'!AB70>0,'Simplified Loader'!AB70,\"\")","v":""},{"$f":"IF('Simplified Loader'!AC70>0,'Simplified Loader'!AC70,\"\")","v":" "},{"$f":"IF('Simplified Loader'!AE70>0,'Simplified Loader'!AE70&\" \",\"\")&IF('Simplified Loader'!AD70>0,'Simplified Loader'!AD70,\"\")","v":""},null,{"$f":"IF('Simplified Loader'!AF70>0,'Simplified Loader'!AF70,\"\")","v":""},{"$f":"IF('Simplified Loader'!AG70>0,'Simplified Loader'!AG70,\"\")","v":""},{"$f":"IF('Simplified Loader'!AH70>0,'Simplified Loader'!AH70,\"\")","v":""},{"$f":"IF('Simplified Loader'!AI70>0,'Simplified Loader'!AI70,\"\")","v":""},{"$f":"IF('Simplified Loader'!AJ70>0,'Simplified Loader'!AJ70,\"\")","v":""},{"$f":"IF('Simplified Loader'!AK70>0,'Simplified Loader'!AK70,\"\")","v":""},{"$f":"IF('Simplified Loader'!AL70>0,'Simplified Loader'!AL70,\"\")","v":""},{"$f":"IF('Simplified Loader'!AM70>0,'Simplified Loader'!AM70,\"\")","v":""},{"$f":"IF('Simplified Loader'!AN70=\"Male\",\"Male\",IF('Simplified Loader'!AN70=\"Female\",\"Female\",IF('Simplified Loader'!AN70=\"M\",\"Male\",IF('Simplified Loader'!AN70=\"F\",\"Female\",\"\"))))","v":""},{"$f":"IF('Simplified Loader'!AO70=\"Single\",\"Single\",IF('Simplified Loader'!AO70=\"Family\",\"Family\",IF('Simplified Loader'!AO70=\"S\",\"Single\",IF('Simplified Loader'!AO70=\"F\",\"Family\",\"\"))))","v":""},{"$f":"IF('Simplified Loader'!AP70=\"Single\",\"Single\",IF('Simplified Loader'!AP70=\"Family\",\"Family\",IF('Simplified Loader'!AP70=\"S\",\"Single\",IF('Simplified Loader'!AP70=\"F\",\"Family\",\"\"))))","v":""},{"$f":"IF('Simplified Loader'!AQ70>0,'Simplified Loader'!AQ70,\"\")","v":""},{"$f":"IF('Simplified Loader'!AR70=\"Yes\",\"Yes\",IF('Simplified Loader'!AR70=\"No\",\"No\",IF('Simplified Loader'!AR70=\"Y\",\"Yes\",IF('Simplified Loader'!AR70=\"N\",\"No\",\"\"))))","v":""},{"$f":"IF('Simplified Loader'!AS70>0,'Simplified Loader'!AS70,\"\")","v":""},{"$f":"IF('Simplified Loader'!AT70>0,'Simplified Loader'!AT70,\"\")","v":""},{"$f":"IF('Simplified Loader'!AU70>0,'Simplified Loader'!AU70,\"\")","v":""},{"$f":"IF('Simplified Loader'!AV70=\"Male\",\"Male\",IF('Simplified Loader'!AV70=\"Female\",\"Female\",IF('Simplified Loader'!AV70=\"M\",\"Male\",IF('Simplified Loader'!AV70=\"F\",\"Female\",\"\"))))","v":""},{"$f":"IF('Simplified Loader'!AW70=\"Yes\",\"Yes\",IF('Simplified Loader'!AW70=\"No\",\"No\",IF('Simplified Loader'!AW70=\"Y\",\"Yes\",IF('Simplified Loader'!AW70=\"N\",\"No\",\"\"))))","v":""},{"$f":"IF('Simplified Loader'!AX70=\"Yes\",\"Yes\",IF('Simplified Loader'!AX70=\"No\",\"No\",IF('Simplified Loader'!AX70=\"Y\",\"Yes\",IF('Simplified Loader'!AX70=\"N\",\"No\",\"\"))))","v":""},{"$f":"IF('Simplified Loader'!AY70>0,'Simplified Loader'!AY70,\"\")","v":""},{"$f":"IF('Simplified Loader'!AZ70>0,'Simplified Loader'!AZ70,\"\")","v":""},{"$f":"IF('Simplified Loader'!BA70>0,'Simplified Loader'!BA70,\"\")","v":""},{"$f":"IF('Simplified Loader'!BB70=\"Male\",\"Male\",IF('Simplified Loader'!BB70=\"Female\",\"Female\",IF('Simplified Loader'!BB70=\"M\",\"Male\",IF('Simplified Loader'!BB70=\"F\",\"Female\",\"\"))))","v":""},{"$f":"IF('Simplified Loader'!BC70=\"Yes\",\"Yes\",IF('Simplified Loader'!BC70=\"No\",\"No\",IF('Simplified Loader'!BC70=\"Y\",\"Yes\",IF('Simplified Loader'!BC70=\"N\",\"No\",\"\"))))","v":""},{"$f":"IF('Simplified Loader'!BD70=\"Yes\",\"Yes\",IF('Simplified Loader'!BD70=\"No\",\"No\",IF('Simplified Loader'!BD70=\"Y\",\"Yes\",IF('Simplified Loader'!BD70=\"N\",\"No\",\"\"))))","v":""},{"$f":"IF('Simplified Loader'!BE70>0,'Simplified Loader'!BE70,\"\")","v":""},{"$f":"IF('Simplified Loader'!BF70>0,'Simplified Loader'!BF70,\"\")","v":""},{"$f":"IF('Simplified Loader'!BG70>0,'Simplified Loader'!BG70,\"\")","v":""},{"$f":"IF('Simplified Loader'!BH70=\"Male\",\"Male\",IF('Simplified Loader'!BH70=\"Female\",\"Female\",IF('Simplified Loader'!BH70=\"M\",\"Male\",IF('Simplified Loader'!BH70=\"F\",\"Female\",\"\"))))","v":""},{"$f":"IF('Simplified Loader'!BI70=\"Yes\",\"Yes\",IF('Simplified Loader'!BI70=\"No\",\"No\",IF('Simplified Loader'!BI70=\"Y\",\"Yes\",IF('Simplified Loader'!BI70=\"N\",\"No\",\"\"))))","v":""},{"$f":"IF('Simplified Loader'!BJ70=\"Yes\",\"Yes\",IF('Simplified Loader'!BJ70=\"No\",\"No\",IF('Simplified Loader'!BJ70=\"Y\",\"Yes\",IF('Simplified Loader'!BJ70=\"N\",\"No\",\"\"))))","v":""},{"$f":"IF('Simplified Loader'!BK70>0,'Simplified Loader'!BK70,\"\")","v":""},{"$f":"IF('Simplified Loader'!BL70>0,'Simplified Loader'!BL70,\"\")","v":""},{"$f":"IF('Simplified Loader'!BM70>0,'Simplified Loader'!BM70,\"\")","v":""},{"$f":"IF('Simplified Loader'!BN70=\"Male\",\"Male\",IF('Simplified Loader'!BN70=\"Female\",\"Female\",IF('Simplified Loader'!BN70=\"M\",\"Male\",IF('Simplified Loader'!BN70=\"F\",\"Female\",\"\"))))","v":""},{"$f":"IF('Simplified Loader'!BO70=\"Yes\",\"Yes\",IF('Simplified Loader'!BO70=\"No\",\"No\",IF('Simplified Loader'!BO70=\"Y\",\"Yes\",IF('Simplified Loader'!BO70=\"N\",\"No\",\"\"))))","v":""},{"$f":"IF('Simplified Loader'!BP70=\"Yes\",\"Yes\",IF('Simplified Loader'!BP70=\"No\",\"No\",IF('Simplified Loader'!BP70=\"Y\",\"Yes\",IF('Simplified Loader'!BP70=\"N\",\"No\",\"\"))))","v":""},{"$f":"IF('Simplified Loader'!BQ70>0,'Simplified Loader'!BQ70,\"\")","v":""},{"$f":"IF('Simplified Loader'!BR70>0,'Simplified Loader'!BR70,\"\")","v":""},{"$f":"IF('Simplified Loader'!BS70>0,'Simplified Loader'!BS70,\"\")","v":""},{"$f":"IF('Simplified Loader'!BT70=\"Male\",\"Male\",IF('Simplified Loader'!BT70=\"Female\",\"Female\",IF('Simplified Loader'!BT70=\"M\",\"Male\",IF('Simplified Loader'!BT70=\"F\",\"Female\",\"\"))))","v":""},{"$f":"IF('Simplified Loader'!BU70=\"Yes\",\"Yes\",IF('Simplified Loader'!BU70=\"No\",\"No\",IF('Simplified Loader'!BU70=\"Y\",\"Yes\",IF('Simplified Loader'!BU70=\"N\",\"No\",\"\"))))","v":""},{"$f":"IF('Simplified Loader'!BV70=\"Yes\",\"Yes\",IF('Simplified Loader'!BV70=\"No\",\"No\",IF('Simplified Loader'!BV70=\"Y\",\"Yes\",IF('Simplified Loader'!BV70=\"N\",\"No\",\"\"))))","v":""},{"$f":"IF('Simplified Loader'!BW70>0,'Simplified Loader'!BW70,\"\")","v":""},{"$f":"IF('Simplified Loader'!BX70>0,'Simplified Loader'!BX70,\"\")","v":""},{"$f":"IF('Simplified Loader'!BY70>0,'Simplified Loader'!BY70,\"\")","v":""},{"$f":"IF('Simplified Loader'!BZ70=\"Male\",\"Male\",IF('Simplified Loader'!BZ70=\"Female\",\"Female\",IF('Simplified Loader'!BZ70=\"M\",\"Male\",IF('Simplified Loader'!BZ70=\"F\",\"Female\",\"\"))))","v":""},{"$f":"IF('Simplified Loader'!CA70=\"Yes\",\"Yes\",IF('Simplified Loader'!CA70=\"No\",\"No\",IF('Simplified Loader'!CA70=\"Y\",\"Yes\",IF('Simplified Loader'!CA70=\"N\",\"No\",\"\"))))","v":""},{"$f":"IF('Simplified Loader'!CB70=\"Yes\",\"Yes\",IF('Simplified Loader'!CB70=\"No\",\"No\",IF('Simplified Loader'!CB70=\"Y\",\"Yes\",IF('Simplified Loader'!CB70=\"N\",\"No\",\"\"))))","v":""},{"$f":"IF('Simplified Loader'!CH70>0,'Simplified Loader'!CH70,\"\")","v":"    "}]
[{"$f":"IF('Simplified Loader'!A71>0,'Simplified Loader'!A71,\"\")","v":""},{"$f":"IF('Simplified Loader'!B71>0,'Simplified Loader'!B71,\"\")","v":""},{"$f":"IF('Simplified Loader'!C71>0,'Simplified Loader'!C71,\"\")","v":""},{"$f":"IF('Simplified Loader'!D71>0,'Simplified Loader'!D71,\"\")","v":""},{"$f":"IF('Simplified Loader'!E71>0,TEXT('Simplified Loader'!E71,\"000\"),\"\")","v":""},{"$f":"IF('Simplified Loader'!F71>0,'Simplified Loader'!F71,\"\")","v":""},{"$f":"IF('Simplified Loader'!G71>0,'Simplified Loader'!G71,\"\")","v":""},{"$f":"IF('Simplified Loader'!I71>0,'Simplified Loader'!I71,\"\")","v":""},{"$f":"IF('Simplified Loader'!J71>0,'Simplified Loader'!J71,\"\")","v":""},{"$f":"IF('Simplified Loader'!K71>0,'Simplified Loader'!K71,\"\")","v":""},{"$f":"IF('Simplified Loader'!L71>0,'Simplified Loader'!L71,\"\")","v":""},{"$f":"IF('Simplified Loader'!M71=\"Male\",\"Male\",IF('Simplified Loader'!M71=\"Female\",\"Female\",IF('Simplified Loader'!M71=\"M\",\"Male\",IF('Simplified Loader'!M71=\"F\",\"Female\",\"\"))))","v":""},{"$f":"IF('Simplified Loader'!N71=\"Yes\",\"Yes\",IF('Simplified Loader'!N71=\"No\",\"No\",IF('Simplified Loader'!N71=\"Y\",\"Yes\",IF('Simplified Loader'!N71=\"N\",\"No\",\"\"))))","v":""},{"$f":"IF('Simplified Loader'!O71=\"No\",\"Single\",IF('Simplified Loader'!O71=\"Yes\",\"Family\",IF('Simplified Loader'!O71=\"N\",\"Single\",IF('Simplified Loader'!O71=\"Y\",\"Family\",IF('Simplified Loader'!O71=\"In-force\",\"Family\",IF('Simplified Loader'!O71=\"In force\",\"Family\",IF('Simplified Loader'!O71=\"Applies\",\"Family\",IF('Simplified Loader'!O71=\"Applicable\",\"Family\",\"\"))))))))","v":""},{"$f":"IF('Simplified Loader'!P71=\"English\",\"English\",IF('Simplified Loader'!P71=\"French\",\"French\",IF('Simplified Loader'!P71=\"E\",\"English\",IF('Simplified Loader'!P71=\"F\",\"French\",\"\"))))","v":""},{"$f":"IF('Simplified Loader'!Q71=\"Yes\",\"Yes\",IF('Simplified Loader'!Q71=\"No\",\"No\",IF('Simplified Loader'!Q71=\"Y\",\"Yes\",IF('Simplified Loader'!Q71=\"N\",\"No\",\"\"))))","v":""},{"$f":"IF('Simplified Loader'!R71>0,'Simplified Loader'!R71,\"\")","v":""},{"$f":"IF('Simplified Loader'!S71>0,'Simplified Loader'!S71,\"\")","v":""},{"$f":"IF('Simplified Loader'!T71>0,'Simplified Loader'!T71,\"\")","v":""},{"$f":"IF('Simplified Loader'!U71>0,'Simplified Loader'!U71,\"\")","v":""},{"$f":"IF('Simplified Loader'!V71=\"Waive\",\"Yes\",\"\")","v":""},{"$f":"IF('Simplified Loader'!W71=\"Waive\",\"Yes\",\"\")","v":""},{"$f":"IF('Simplified Loader'!X71>0,'Simplified Loader'!X71,\"\")","v":""},{"$f":"IF('Simplified Loader'!Y71>0,'Simplified Loader'!Y71,\"\")","v":""},{"$f":"IF('Simplified Loader'!Z71>0,'Simplified Loader'!Z71,\"\")","v":""},{"$f":"IF('Simplified Loader'!AA71>0,'Simplified Loader'!AA71,\"\")","v":""},{"$f":"IF('Simplified Loader'!AB71>0,'Simplified Loader'!AB71,\"\")","v":""},{"$f":"IF('Simplified Loader'!AC71>0,'Simplified Loader'!AC71,\"\")","v":" "},{"$f":"IF('Simplified Loader'!AE71>0,'Simplified Loader'!AE71&\" \",\"\")&IF('Simplified Loader'!AD71>0,'Simplified Loader'!AD71,\"\")","v":""},null,{"$f":"IF('Simplified Loader'!AF71>0,'Simplified Loader'!AF71,\"\")","v":""},{"$f":"IF('Simplified Loader'!AG71>0,'Simplified Loader'!AG71,\"\")","v":""},{"$f":"IF('Simplified Loader'!AH71>0,'Simplified Loader'!AH71,\"\")","v":""},{"$f":"IF('Simplified Loader'!AI71>0,'Simplified Loader'!AI71,\"\")","v":""},{"$f":"IF('Simplified Loader'!AJ71>0,'Simplified Loader'!AJ71,\"\")","v":""},{"$f":"IF('Simplified Loader'!AK71>0,'Simplified Loader'!AK71,\"\")","v":""},{"$f":"IF('Simplified Loader'!AL71>0,'Simplified Loader'!AL71,\"\")","v":""},{"$f":"IF('Simplified Loader'!AM71>0,'Simplified Loader'!AM71,\"\")","v":""},{"$f":"IF('Simplified Loader'!AN71=\"Male\",\"Male\",IF('Simplified Loader'!AN71=\"Female\",\"Female\",IF('Simplified Loader'!AN71=\"M\",\"Male\",IF('Simplified Loader'!AN71=\"F\",\"Female\",\"\"))))","v":""},{"$f":"IF('Simplified Loader'!AO71=\"Single\",\"Single\",IF('Simplified Loader'!AO71=\"Family\",\"Family\",IF('Simplified Loader'!AO71=\"S\",\"Single\",IF('Simplified Loader'!AO71=\"F\",\"Family\",\"\"))))","v":""},{"$f":"IF('Simplified Loader'!AP71=\"Single\",\"Single\",IF('Simplified Loader'!AP71=\"Family\",\"Family\",IF('Simplified Loader'!AP71=\"S\",\"Single\",IF('Simplified Loader'!AP71=\"F\",\"Family\",\"\"))))","v":""},{"$f":"IF('Simplified Loader'!AQ71>0,'Simplified Loader'!AQ71,\"\")","v":""},{"$f":"IF('Simplified Loader'!AR71=\"Yes\",\"Yes\",IF('Simplified Loader'!AR71=\"No\",\"No\",IF('Simplified Loader'!AR71=\"Y\",\"Yes\",IF('Simplified Loader'!AR71=\"N\",\"No\",\"\"))))","v":""},{"$f":"IF('Simplified Loader'!AS71>0,'Simplified Loader'!AS71,\"\")","v":""},{"$f":"IF('Simplified Loader'!AT71>0,'Simplified Loader'!AT71,\"\")","v":""},{"$f":"IF('Simplified Loader'!AU71>0,'Simplified Loader'!AU71,\"\")","v":""},{"$f":"IF('Simplified Loader'!AV71=\"Male\",\"Male\",IF('Simplified Loader'!AV71=\"Female\",\"Female\",IF('Simplified Loader'!AV71=\"M\",\"Male\",IF('Simplified Loader'!AV71=\"F\",\"Female\",\"\"))))","v":""},{"$f":"IF('Simplified Loader'!AW71=\"Yes\",\"Yes\",IF('Simplified Loader'!AW71=\"No\",\"No\",IF('Simplified Loader'!AW71=\"Y\",\"Yes\",IF('Simplified Loader'!AW71=\"N\",\"No\",\"\"))))","v":""},{"$f":"IF('Simplified Loader'!AX71=\"Yes\",\"Yes\",IF('Simplified Loader'!AX71=\"No\",\"No\",IF('Simplified Loader'!AX71=\"Y\",\"Yes\",IF('Simplified Loader'!AX71=\"N\",\"No\",\"\"))))","v":""},{"$f":"IF('Simplified Loader'!AY71>0,'Simplified Loader'!AY71,\"\")","v":""},{"$f":"IF('Simplified Loader'!AZ71>0,'Simplified Loader'!AZ71,\"\")","v":""},{"$f":"IF('Simplified Loader'!BA71>0,'Simplified Loader'!BA71,\"\")","v":""},{"$f":"IF('Simplified Loader'!BB71=\"Male\",\"Male\",IF('Simplified Loader'!BB71=\"Female\",\"Female\",IF('Simplified Loader'!BB71=\"M\",\"Male\",IF('Simplified Loader'!BB71=\"F\",\"Female\",\"\"))))","v":""},{"$f":"IF('Simplified Loader'!BC71=\"Yes\",\"Yes\",IF('Simplified Loader'!BC71=\"No\",\"No\",IF('Simplified Loader'!BC71=\"Y\",\"Yes\",IF('Simplified Loader'!BC71=\"N\",\"No\",\"\"))))","v":""},{"$f":"IF('Simplified Loader'!BD71=\"Yes\",\"Yes\",IF('Simplified Loader'!BD71=\"No\",\"No\",IF('Simplified Loader'!BD71=\"Y\",\"Yes\",IF('Simplified Loader'!BD71=\"N\",\"No\",\"\"))))","v":""},{"$f":"IF('Simplified Loader'!BE71>0,'Simplified Loader'!BE71,\"\")","v":""},{"$f":"IF('Simplified Loader'!BF71>0,'Simplified Loader'!BF71,\"\")","v":""},{"$f":"IF('Simplified Loader'!BG71>0,'Simplified Loader'!BG71,\"\")","v":""},{"$f":"IF('Simplified Loader'!BH71=\"Male\",\"Male\",IF('Simplified Loader'!BH71=\"Female\",\"Female\",IF('Simplified Loader'!BH71=\"M\",\"Male\",IF('Simplified Loader'!BH71=\"F\",\"Female\",\"\"))))","v":""},{"$f":"IF('Simplified Loader'!BI71=\"Yes\",\"Yes\",IF('Simplified Loader'!BI71=\"No\",\"No\",IF('Simplified Loader'!BI71=\"Y\",\"Yes\",IF('Simplified Loader'!BI71=\"N\",\"No\",\"\"))))","v":""},{"$f":"IF('Simplified Loader'!BJ71=\"Yes\",\"Yes\",IF('Simplified Loader'!BJ71=\"No\",\"No\",IF('Simplified Loader'!BJ71=\"Y\",\"Yes\",IF('Simplified Loader'!BJ71=\"N\",\"No\",\"\"))))","v":""},{"$f":"IF('Simplified Loader'!BK71>0,'Simplified Loader'!BK71,\"\")","v":""},{"$f":"IF('Simplified Loader'!BL71>0,'Simplified Loader'!BL71,\"\")","v":""},{"$f":"IF('Simplified Loader'!BM71>0,'Simplified Loader'!BM71,\"\")","v":""},{"$f":"IF('Simplified Loader'!BN71=\"Male\",\"Male\",IF('Simplified Loader'!BN71=\"Female\",\"Female\",IF('Simplified Loader'!BN71=\"M\",\"Male\",IF('Simplified Loader'!BN71=\"F\",\"Female\",\"\"))))","v":""},{"$f":"IF('Simplified Loader'!BO71=\"Yes\",\"Yes\",IF('Simplified Loader'!BO71=\"No\",\"No\",IF('Simplified Loader'!BO71=\"Y\",\"Yes\",IF('Simplified Loader'!BO71=\"N\",\"No\",\"\"))))","v":""},{"$f":"IF('Simplified Loader'!BP71=\"Yes\",\"Yes\",IF('Simplified Loader'!BP71=\"No\",\"No\",IF('Simplified Loader'!BP71=\"Y\",\"Yes\",IF('Simplified Loader'!BP71=\"N\",\"No\",\"\"))))","v":""},{"$f":"IF('Simplified Loader'!BQ71>0,'Simplified Loader'!BQ71,\"\")","v":""},{"$f":"IF('Simplified Loader'!BR71>0,'Simplified Loader'!BR71,\"\")","v":""},{"$f":"IF('Simplified Loader'!BS71>0,'Simplified Loader'!BS71,\"\")","v":""},{"$f":"IF('Simplified Loader'!BT71=\"Male\",\"Male\",IF('Simplified Loader'!BT71=\"Female\",\"Female\",IF('Simplified Loader'!BT71=\"M\",\"Male\",IF('Simplified Loader'!BT71=\"F\",\"Female\",\"\"))))","v":""},{"$f":"IF('Simplified Loader'!BU71=\"Yes\",\"Yes\",IF('Simplified Loader'!BU71=\"No\",\"No\",IF('Simplified Loader'!BU71=\"Y\",\"Yes\",IF('Simplified Loader'!BU71=\"N\",\"No\",\"\"))))","v":""},{"$f":"IF('Simplified Loader'!BV71=\"Yes\",\"Yes\",IF('Simplified Loader'!BV71=\"No\",\"No\",IF('Simplified Loader'!BV71=\"Y\",\"Yes\",IF('Simplified Loader'!BV71=\"N\",\"No\",\"\"))))","v":""},{"$f":"IF('Simplified Loader'!BW71>0,'Simplified Loader'!BW71,\"\")","v":""},{"$f":"IF('Simplified Loader'!BX71>0,'Simplified Loader'!BX71,\"\")","v":""},{"$f":"IF('Simplified Loader'!BY71>0,'Simplified Loader'!BY71,\"\")","v":""},{"$f":"IF('Simplified Loader'!BZ71=\"Male\",\"Male\",IF('Simplified Loader'!BZ71=\"Female\",\"Female\",IF('Simplified Loader'!BZ71=\"M\",\"Male\",IF('Simplified Loader'!BZ71=\"F\",\"Female\",\"\"))))","v":""},{"$f":"IF('Simplified Loader'!CA71=\"Yes\",\"Yes\",IF('Simplified Loader'!CA71=\"No\",\"No\",IF('Simplified Loader'!CA71=\"Y\",\"Yes\",IF('Simplified Loader'!CA71=\"N\",\"No\",\"\"))))","v":""},{"$f":"IF('Simplified Loader'!CB71=\"Yes\",\"Yes\",IF('Simplified Loader'!CB71=\"No\",\"No\",IF('Simplified Loader'!CB71=\"Y\",\"Yes\",IF('Simplified Loader'!CB71=\"N\",\"No\",\"\"))))","v":""},{"$f":"IF('Simplified Loader'!CH71>0,'Simplified Loader'!CH71,\"\")","v":"    "}]
[{"$f":"IF('Simplified Loader'!A72>0,'Simplified Loader'!A72,\"\")","v":""},{"$f":"IF('Simplified Loader'!B72>0,'Simplified Loader'!B72,\"\")","v":""},{"$f":"IF('Simplified Loader'!C72>0,'Simplified Loader'!C72,\"\")","v":""},{"$f":"IF('Simplified Loader'!D72>0,'Simplified Loader'!D72,\"\")","v":""},{"$f":"IF('Simplified Loader'!E72>0,TEXT('Simplified Loader'!E72,\"000\"),\"\")","v":""},{"$f":"IF('Simplified Loader'!F72>0,'Simplified Loader'!F72,\"\")","v":""},{"$f":"IF('Simplified Loader'!G72>0,'Simplified Loader'!G72,\"\")","v":""},{"$f":"IF('Simplified Loader'!I72>0,'Simplified Loader'!I72,\"\")","v":""},{"$f":"IF('Simplified Loader'!J72>0,'Simplified Loader'!J72,\"\")","v":""},{"$f":"IF('Simplified Loader'!K72>0,'Simplified Loader'!K72,\"\")","v":""},{"$f":"IF('Simplified Loader'!L72>0,'Simplified Loader'!L72,\"\")","v":""},{"$f":"IF('Simplified Loader'!M72=\"Male\",\"Male\",IF('Simplified Loader'!M72=\"Female\",\"Female\",IF('Simplified Loader'!M72=\"M\",\"Male\",IF('Simplified Loader'!M72=\"F\",\"Female\",\"\"))))","v":""},{"$f":"IF('Simplified Loader'!N72=\"Yes\",\"Yes\",IF('Simplified Loader'!N72=\"No\",\"No\",IF('Simplified Loader'!N72=\"Y\",\"Yes\",IF('Simplified Loader'!N72=\"N\",\"No\",\"\"))))","v":""},{"$f":"IF('Simplified Loader'!O72=\"No\",\"Single\",IF('Simplified Loader'!O72=\"Yes\",\"Family\",IF('Simplified Loader'!O72=\"N\",\"Single\",IF('Simplified Loader'!O72=\"Y\",\"Family\",IF('Simplified Loader'!O72=\"In-force\",\"Family\",IF('Simplified Loader'!O72=\"In force\",\"Family\",IF('Simplified Loader'!O72=\"Applies\",\"Family\",IF('Simplified Loader'!O72=\"Applicable\",\"Family\",\"\"))))))))","v":""},{"$f":"IF('Simplified Loader'!P72=\"English\",\"English\",IF('Simplified Loader'!P72=\"French\",\"French\",IF('Simplified Loader'!P72=\"E\",\"English\",IF('Simplified Loader'!P72=\"F\",\"French\",\"\"))))","v":""},{"$f":"IF('Simplified Loader'!Q72=\"Yes\",\"Yes\",IF('Simplified Loader'!Q72=\"No\",\"No\",IF('Simplified Loader'!Q72=\"Y\",\"Yes\",IF('Simplified Loader'!Q72=\"N\",\"No\",\"\"))))","v":""},{"$f":"IF('Simplified Loader'!R72>0,'Simplified Loader'!R72,\"\")","v":""},{"$f":"IF('Simplified Loader'!S72>0,'Simplified Loader'!S72,\"\")","v":""},{"$f":"IF('Simplified Loader'!T72>0,'Simplified Loader'!T72,\"\")","v":""},{"$f":"IF('Simplified Loader'!U72>0,'Simplified Loader'!U72,\"\")","v":""},{"$f":"IF('Simplified Loader'!V72=\"Waive\",\"Yes\",\"\")","v":""},{"$f":"IF('Simplified Loader'!W72=\"Waive\",\"Yes\",\"\")","v":""},{"$f":"IF('Simplified Loader'!X72>0,'Simplified Loader'!X72,\"\")","v":""},{"$f":"IF('Simplified Loader'!Y72>0,'Simplified Loader'!Y72,\"\")","v":""},{"$f":"IF('Simplified Loader'!Z72>0,'Simplified Loader'!Z72,\"\")","v":""},{"$f":"IF('Simplified Loader'!AA72>0,'Simplified Loader'!AA72,\"\")","v":""},{"$f":"IF('Simplified Loader'!AB72>0,'Simplified Loader'!AB72,\"\")","v":""},{"$f":"IF('Simplified Loader'!AC72>0,'Simplified Loader'!AC72,\"\")","v":" "},{"$f":"IF('Simplified Loader'!AE72>0,'Simplified Loader'!AE72&\" \",\"\")&IF('Simplified Loader'!AD72>0,'Simplified Loader'!AD72,\"\")","v":""},null,{"$f":"IF('Simplified Loader'!AF72>0,'Simplified Loader'!AF72,\"\")","v":""},{"$f":"IF('Simplified Loader'!AG72>0,'Simplified Loader'!AG72,\"\")","v":""},{"$f":"IF('Simplified Loader'!AH72>0,'Simplified Loader'!AH72,\"\")","v":""},{"$f":"IF('Simplified Loader'!AI72>0,'Simplified Loader'!AI72,\"\")","v":""},{"$f":"IF('Simplified Loader'!AJ72>0,'Simplified Loader'!AJ72,\"\")","v":""},{"$f":"IF('Simplified Loader'!AK72>0,'Simplified Loader'!AK72,\"\")","v":""},{"$f":"IF('Simplified Loader'!AL72>0,'Simplified Loader'!AL72,\"\")","v":""},{"$f":"IF('Simplified Loader'!AM72>0,'Simplified Loader'!AM72,\"\")","v":""},{"$f":"IF('Simplified Loader'!AN72=\"Male\",\"Male\",IF('Simplified Loader'!AN72=\"Female\",\"Female\",IF('Simplified Loader'!AN72=\"M\",\"Male\",IF('Simplified Loader'!AN72=\"F\",\"Female\",\"\"))))","v":""},{"$f":"IF('Simplified Loader'!AO72=\"Single\",\"Single\",IF('Simplified Loader'!AO72=\"Family\",\"Family\",IF('Simplified Loader'!AO72=\"S\",\"Single\",IF('Simplified Loader'!AO72=\"F\",\"Family\",\"\"))))","v":""},{"$f":"IF('Simplified Loader'!AP72=\"Single\",\"Single\",IF('Simplified Loader'!AP72=\"Family\",\"Family\",IF('Simplified Loader'!AP72=\"S\",\"Single\",IF('Simplified Loader'!AP72=\"F\",\"Family\",\"\"))))","v":""},{"$f":"IF('Simplified Loader'!AQ72>0,'Simplified Loader'!AQ72,\"\")","v":""},{"$f":"IF('Simplified Loader'!AR72=\"Yes\",\"Yes\",IF('Simplified Loader'!AR72=\"No\",\"No\",IF('Simplified Loader'!AR72=\"Y\",\"Yes\",IF('Simplified Loader'!AR72=\"N\",\"No\",\"\"))))","v":""},{"$f":"IF('Simplified Loader'!AS72>0,'Simplified Loader'!AS72,\"\")","v":""},{"$f":"IF('Simplified Loader'!AT72>0,'Simplified Loader'!AT72,\"\")","v":""},{"$f":"IF('Simplified Loader'!AU72>0,'Simplified Loader'!AU72,\"\")","v":""},{"$f":"IF('Simplified Loader'!AV72=\"Male\",\"Male\",IF('Simplified Loader'!AV72=\"Female\",\"Female\",IF('Simplified Loader'!AV72=\"M\",\"Male\",IF('Simplified Loader'!AV72=\"F\",\"Female\",\"\"))))","v":""},{"$f":"IF('Simplified Loader'!AW72=\"Yes\",\"Yes\",IF('Simplified Loader'!AW72=\"No\",\"No\",IF('Simplified Loader'!AW72=\"Y\",\"Yes\",IF('Simplified Loader'!AW72=\"N\",\"No\",\"\"))))","v":""},{"$f":"IF('Simplified Loader'!AX72=\"Yes\",\"Yes\",IF('Simplified Loader'!AX72=\"No\",\"No\",IF('Simplified Loader'!AX72=\"Y\",\"Yes\",IF('Simplified Loader'!AX72=\"N\",\"No\",\"\"))))","v":""},{"$f":"IF('Simplified Loader'!AY72>0,'Simplified Loader'!AY72,\"\")","v":""},{"$f":"IF('Simplified Loader'!AZ72>0,'Simplified Loader'!AZ72,\"\")","v":""},{"$f":"IF('Simplified Loader'!BA72>0,'Simplified Loader'!BA72,\"\")","v":""},{"$f":"IF('Simplified Loader'!BB72=\"Male\",\"Male\",IF('Simplified Loader'!BB72=\"Female\",\"Female\",IF('Simplified Loader'!BB72=\"M\",\"Male\",IF('Simplified Loader'!BB72=\"F\",\"Female\",\"\"))))","v":""},{"$f":"IF('Simplified Loader'!BC72=\"Yes\",\"Yes\",IF('Simplified Loader'!BC72=\"No\",\"No\",IF('Simplified Loader'!BC72=\"Y\",\"Yes\",IF('Simplified Loader'!BC72=\"N\",\"No\",\"\"))))","v":""},{"$f":"IF('Simplified Loader'!BD72=\"Yes\",\"Yes\",IF('Simplified Loader'!BD72=\"No\",\"No\",IF('Simplified Loader'!BD72=\"Y\",\"Yes\",IF('Simplified Loader'!BD72=\"N\",\"No\",\"\"))))","v":""},{"$f":"IF('Simplified Loader'!BE72>0,'Simplified Loader'!BE72,\"\")","v":""},{"$f":"IF('Simplified Loader'!BF72>0,'Simplified Loader'!BF72,\"\")","v":""},{"$f":"IF('Simplified Loader'!BG72>0,'Simplified Loader'!BG72,\"\")","v":""},{"$f":"IF('Simplified Loader'!BH72=\"Male\",\"Male\",IF('Simplified Loader'!BH72=\"Female\",\"Female\",IF('Simplified Loader'!BH72=\"M\",\"Male\",IF('Simplified Loader'!BH72=\"F\",\"Female\",\"\"))))","v":""},{"$f":"IF('Simplified Loader'!BI72=\"Yes\",\"Yes\",IF('Simplified Loader'!BI72=\"No\",\"No\",IF('Simplified Loader'!BI72=\"Y\",\"Yes\",IF('Simplified Loader'!BI72=\"N\",\"No\",\"\"))))","v":""},{"$f":"IF('Simplified Loader'!BJ72=\"Yes\",\"Yes\",IF('Simplified Loader'!BJ72=\"No\",\"No\",IF('Simplified Loader'!BJ72=\"Y\",\"Yes\",IF('Simplified Loader'!BJ72=\"N\",\"No\",\"\"))))","v":""},{"$f":"IF('Simplified Loader'!BK72>0,'Simplified Loader'!BK72,\"\")","v":""},{"$f":"IF('Simplified Loader'!BL72>0,'Simplified Loader'!BL72,\"\")","v":""},{"$f":"IF('Simplified Loader'!BM72>0,'Simplified Loader'!BM72,\"\")","v":""},{"$f":"IF('Simplified Loader'!BN72=\"Male\",\"Male\",IF('Simplified Loader'!BN72=\"Female\",\"Female\",IF('Simplified Loader'!BN72=\"M\",\"Male\",IF('Simplified Loader'!BN72=\"F\",\"Female\",\"\"))))","v":""},{"$f":"IF('Simplified Loader'!BO72=\"Yes\",\"Yes\",IF('Simplified Loader'!BO72=\"No\",\"No\",IF('Simplified Loader'!BO72=\"Y\",\"Yes\",IF('Simplified Loader'!BO72=\"N\",\"No\",\"\"))))","v":""},{"$f":"IF('Simplified Loader'!BP72=\"Yes\",\"Yes\",IF('Simplified Loader'!BP72=\"No\",\"No\",IF('Simplified Loader'!BP72=\"Y\",\"Yes\",IF('Simplified Loader'!BP72=\"N\",\"No\",\"\"))))","v":""},{"$f":"IF('Simplified Loader'!BQ72>0,'Simplified Loader'!BQ72,\"\")","v":""},{"$f":"IF('Simplified Loader'!BR72>0,'Simplified Loader'!BR72,\"\")","v":""},{"$f":"IF('Simplified Loader'!BS72>0,'Simplified Loader'!BS72,\"\")","v":""},{"$f":"IF('Simplified Loader'!BT72=\"Male\",\"Male\",IF('Simplified Loader'!BT72=\"Female\",\"Female\",IF('Simplified Loader'!BT72=\"M\",\"Male\",IF('Simplified Loader'!BT72=\"F\",\"Female\",\"\"))))","v":""},{"$f":"IF('Simplified Loader'!BU72=\"Yes\",\"Yes\",IF('Simplified Loader'!BU72=\"No\",\"No\",IF('Simplified Loader'!BU72=\"Y\",\"Yes\",IF('Simplified Loader'!BU72=\"N\",\"No\",\"\"))))","v":""},{"$f":"IF('Simplified Loader'!BV72=\"Yes\",\"Yes\",IF('Simplified Loader'!BV72=\"No\",\"No\",IF('Simplified Loader'!BV72=\"Y\",\"Yes\",IF('Simplified Loader'!BV72=\"N\",\"No\",\"\"))))","v":""},{"$f":"IF('Simplified Loader'!BW72>0,'Simplified Loader'!BW72,\"\")","v":""},{"$f":"IF('Simplified Loader'!BX72>0,'Simplified Loader'!BX72,\"\")","v":""},{"$f":"IF('Simplified Loader'!BY72>0,'Simplified Loader'!BY72,\"\")","v":""},{"$f":"IF('Simplified Loader'!BZ72=\"Male\",\"Male\",IF('Simplified Loader'!BZ72=\"Female\",\"Female\",IF('Simplified Loader'!BZ72=\"M\",\"Male\",IF('Simplified Loader'!BZ72=\"F\",\"Female\",\"\"))))","v":""},{"$f":"IF('Simplified Loader'!CA72=\"Yes\",\"Yes\",IF('Simplified Loader'!CA72=\"No\",\"No\",IF('Simplified Loader'!CA72=\"Y\",\"Yes\",IF('Simplified Loader'!CA72=\"N\",\"No\",\"\"))))","v":""},{"$f":"IF('Simplified Loader'!CB72=\"Yes\",\"Yes\",IF('Simplified Loader'!CB72=\"No\",\"No\",IF('Simplified Loader'!CB72=\"Y\",\"Yes\",IF('Simplified Loader'!CB72=\"N\",\"No\",\"\"))))","v":""},{"$f":"IF('Simplified Loader'!CH72>0,'Simplified Loader'!CH72,\"\")","v":"    "}]
[{"$f":"IF('Simplified Loader'!A73>0,'Simplified Loader'!A73,\"\")","v":""},{"$f":"IF('Simplified Loader'!B73>0,'Simplified Loader'!B73,\"\")","v":""},{"$f":"IF('Simplified Loader'!C73>0,'Simplified Loader'!C73,\"\")","v":""},{"$f":"IF('Simplified Loader'!D73>0,'Simplified Loader'!D73,\"\")","v":""},{"$f":"IF('Simplified Loader'!E73>0,TEXT('Simplified Loader'!E73,\"000\"),\"\")","v":""},{"$f":"IF('Simplified Loader'!F73>0,'Simplified Loader'!F73,\"\")","v":""},{"$f":"IF('Simplified Loader'!G73>0,'Simplified Loader'!G73,\"\")","v":""},{"$f":"IF('Simplified Loader'!I73>0,'Simplified Loader'!I73,\"\")","v":""},{"$f":"IF('Simplified Loader'!J73>0,'Simplified Loader'!J73,\"\")","v":""},{"$f":"IF('Simplified Loader'!K73>0,'Simplified Loader'!K73,\"\")","v":""},{"$f":"IF('Simplified Loader'!L73>0,'Simplified Loader'!L73,\"\")","v":""},{"$f":"IF('Simplified Loader'!M73=\"Male\",\"Male\",IF('Simplified Loader'!M73=\"Female\",\"Female\",IF('Simplified Loader'!M73=\"M\",\"Male\",IF('Simplified Loader'!M73=\"F\",\"Female\",\"\"))))","v":""},{"$f":"IF('Simplified Loader'!N73=\"Yes\",\"Yes\",IF('Simplified Loader'!N73=\"No\",\"No\",IF('Simplified Loader'!N73=\"Y\",\"Yes\",IF('Simplified Loader'!N73=\"N\",\"No\",\"\"))))","v":""},{"$f":"IF('Simplified Loader'!O73=\"No\",\"Single\",IF('Simplified Loader'!O73=\"Yes\",\"Family\",IF('Simplified Loader'!O73=\"N\",\"Single\",IF('Simplified Loader'!O73=\"Y\",\"Family\",IF('Simplified Loader'!O73=\"In-force\",\"Family\",IF('Simplified Loader'!O73=\"In force\",\"Family\",IF('Simplified Loader'!O73=\"Applies\",\"Family\",IF('Simplified Loader'!O73=\"Applicable\",\"Family\",\"\"))))))))","v":""},{"$f":"IF('Simplified Loader'!P73=\"English\",\"English\",IF('Simplified Loader'!P73=\"French\",\"French\",IF('Simplified Loader'!P73=\"E\",\"English\",IF('Simplified Loader'!P73=\"F\",\"French\",\"\"))))","v":""},{"$f":"IF('Simplified Loader'!Q73=\"Yes\",\"Yes\",IF('Simplified Loader'!Q73=\"No\",\"No\",IF('Simplified Loader'!Q73=\"Y\",\"Yes\",IF('Simplified Loader'!Q73=\"N\",\"No\",\"\"))))","v":""},{"$f":"IF('Simplified Loader'!R73>0,'Simplified Loader'!R73,\"\")","v":""},{"$f":"IF('Simplified Loader'!S73>0,'Simplified Loader'!S73,\"\")","v":""},{"$f":"IF('Simplified Loader'!T73>0,'Simplified Loader'!T73,\"\")","v":""},{"$f":"IF('Simplified Loader'!U73>0,'Simplified Loader'!U73,\"\")","v":""},{"$f":"IF('Simplified Loader'!V73=\"Waive\",\"Yes\",\"\")","v":""},{"$f":"IF('Simplified Loader'!W73=\"Waive\",\"Yes\",\"\")","v":""},{"$f":"IF('Simplified Loader'!X73>0,'Simplified Loader'!X73,\"\")","v":""},{"$f":"IF('Simplified Loader'!Y73>0,'Simplified Loader'!Y73,\"\")","v":""},{"$f":"IF('Simplified Loader'!Z73>0,'Simplified Loader'!Z73,\"\")","v":""},{"$f":"IF('Simplified Loader'!AA73>0,'Simplified Loader'!AA73,\"\")","v":""},{"$f":"IF('Simplified Loader'!AB73>0,'Simplified Loader'!AB73,\"\")","v":""},{"$f":"IF('Simplified Loader'!AC73>0,'Simplified Loader'!AC73,\"\")","v":" "},{"$f":"IF('Simplified Loader'!AE73>0,'Simplified Loader'!AE73&\" \",\"\")&IF('Simplified Loader'!AD73>0,'Simplified Loader'!AD73,\"\")","v":""},null,{"$f":"IF('Simplified Loader'!AF73>0,'Simplified Loader'!AF73,\"\")","v":""},{"$f":"IF('Simplified Loader'!AG73>0,'Simplified Loader'!AG73,\"\")","v":""},{"$f":"IF('Simplified Loader'!AH73>0,'Simplified Loader'!AH73,\"\")","v":""},{"$f":"IF('Simplified Loader'!AI73>0,'Simplified Loader'!AI73,\"\")","v":""},{"$f":"IF('Simplified Loader'!AJ73>0,'Simplified Loader'!AJ73,\"\")","v":""},{"$f":"IF('Simplified Loader'!AK73>0,'Simplified Loader'!AK73,\"\")","v":""},{"$f":"IF('Simplified Loader'!AL73>0,'Simplified Loader'!AL73,\"\")","v":""},{"$f":"IF('Simplified Loader'!AM73>0,'Simplified Loader'!AM73,\"\")","v":""},{"$f":"IF('Simplified Loader'!AN73=\"Male\",\"Male\",IF('Simplified Loader'!AN73=\"Female\",\"Female\",IF('Simplified Loader'!AN73=\"M\",\"Male\",IF('Simplified Loader'!AN73=\"F\",\"Female\",\"\"))))","v":""},{"$f":"IF('Simplified Loader'!AO73=\"Single\",\"Single\",IF('Simplified Loader'!AO73=\"Family\",\"Family\",IF('Simplified Loader'!AO73=\"S\",\"Single\",IF('Simplified Loader'!AO73=\"F\",\"Family\",\"\"))))","v":""},{"$f":"IF('Simplified Loader'!AP73=\"Single\",\"Single\",IF('Simplified Loader'!AP73=\"Family\",\"Family\",IF('Simplified Loader'!AP73=\"S\",\"Single\",IF('Simplified Loader'!AP73=\"F\",\"Family\",\"\"))))","v":""},{"$f":"IF('Simplified Loader'!AQ73>0,'Simplified Loader'!AQ73,\"\")","v":""},{"$f":"IF('Simplified Loader'!AR73=\"Yes\",\"Yes\",IF('Simplified Loader'!AR73=\"No\",\"No\",IF('Simplified Loader'!AR73=\"Y\",\"Yes\",IF('Simplified Loader'!AR73=\"N\",\"No\",\"\"))))","v":""},{"$f":"IF('Simplified Loader'!AS73>0,'Simplified Loader'!AS73,\"\")","v":""},{"$f":"IF('Simplified Loader'!AT73>0,'Simplified Loader'!AT73,\"\")","v":""},{"$f":"IF('Simplified Loader'!AU73>0,'Simplified Loader'!AU73,\"\")","v":""},{"$f":"IF('Simplified Loader'!AV73=\"Male\",\"Male\",IF('Simplified Loader'!AV73=\"Female\",\"Female\",IF('Simplified Loader'!AV73=\"M\",\"Male\",IF('Simplified Loader'!AV73=\"F\",\"Female\",\"\"))))","v":""},{"$f":"IF('Simplified Loader'!AW73=\"Yes\",\"Yes\",IF('Simplified Loader'!AW73=\"No\",\"No\",IF('Simplified Loader'!AW73=\"Y\",\"Yes\",IF('Simplified Loader'!AW73=\"N\",\"No\",\"\"))))","v":""},{"$f":"IF('Simplified Loader'!AX73=\"Yes\",\"Yes\",IF('Simplified Loader'!AX73=\"No\",\"No\",IF('Simplified Loader'!AX73=\"Y\",\"Yes\",IF('Simplified Loader'!AX73=\"N\",\"No\",\"\"))))","v":""},{"$f":"IF('Simplified Loader'!AY73>0,'Simplified Loader'!AY73,\"\")","v":""},{"$f":"IF('Simplified Loader'!AZ73>0,'Simplified Loader'!AZ73,\"\")","v":""},{"$f":"IF('Simplified Loader'!BA73>0,'Simplified Loader'!BA73,\"\")","v":""},{"$f":"IF('Simplified Loader'!BB73=\"Male\",\"Male\",IF('Simplified Loader'!BB73=\"Female\",\"Female\",IF('Simplified Loader'!BB73=\"M\",\"Male\",IF('Simplified Loader'!BB73=\"F\",\"Female\",\"\"))))","v":""},{"$f":"IF('Simplified Loader'!BC73=\"Yes\",\"Yes\",IF('Simplified Loader'!BC73=\"No\",\"No\",IF('Simplified Loader'!BC73=\"Y\",\"Yes\",IF('Simplified Loader'!BC73=\"N\",\"No\",\"\"))))","v":""},{"$f":"IF('Simplified Loader'!BD73=\"Yes\",\"Yes\",IF('Simplified Loader'!BD73=\"No\",\"No\",IF('Simplified Loader'!BD73=\"Y\",\"Yes\",IF('Simplified Loader'!BD73=\"N\",\"No\",\"\"))))","v":""},{"$f":"IF('Simplified Loader'!BE73>0,'Simplified Loader'!BE73,\"\")","v":""},{"$f":"IF('Simplified Loader'!BF73>0,'Simplified Loader'!BF73,\"\")","v":""},{"$f":"IF('Simplified Loader'!BG73>0,'Simplified Loader'!BG73,\"\")","v":""},{"$f":"IF('Simplified Loader'!BH73=\"Male\",\"Male\",IF('Simplified Loader'!BH73=\"Female\",\"Female\",IF('Simplified Loader'!BH73=\"M\",\"Male\",IF('Simplified Loader'!BH73=\"F\",\"Female\",\"\"))))","v":""},{"$f":"IF('Simplified Loader'!BI73=\"Yes\",\"Yes\",IF('Simplified Loader'!BI73=\"No\",\"No\",IF('Simplified Loader'!BI73=\"Y\",\"Yes\",IF('Simplified Loader'!BI73=\"N\",\"No\",\"\"))))","v":""},{"$f":"IF('Simplified Loader'!BJ73=\"Yes\",\"Yes\",IF('Simplified Loader'!BJ73=\"No\",\"No\",IF('Simplified Loader'!BJ73=\"Y\",\"Yes\",IF('Simplified Loader'!BJ73=\"N\",\"No\",\"\"))))","v":""},{"$f":"IF('Simplified Loader'!BK73>0,'Simplified Loader'!BK73,\"\")","v":""},{"$f":"IF('Simplified Loader'!BL73>0,'Simplified Loader'!BL73,\"\")","v":""},{"$f":"IF('Simplified Loader'!BM73>0,'Simplified Loader'!BM73,\"\")","v":""},{"$f":"IF('Simplified Loader'!BN73=\"Male\",\"Male\",IF('Simplified Loader'!BN73=\"Female\",\"Female\",IF('Simplified Loader'!BN73=\"M\",\"Male\",IF('Simplified Loader'!BN73=\"F\",\"Female\",\"\"))))","v":""},{"$f":"IF('Simplified Loader'!BO73=\"Yes\",\"Yes\",IF('Simplified Loader'!BO73=\"No\",\"No\",IF('Simplified Loader'!BO73=\"Y\",\"Yes\",IF('Simplified Loader'!BO73=\"N\",\"No\",\"\"))))","v":""},{"$f":"IF('Simplified Loader'!BP73=\"Yes\",\"Yes\",IF('Simplified Loader'!BP73=\"No\",\"No\",IF('Simplified Loader'!BP73=\"Y\",\"Yes\",IF('Simplified Loader'!BP73=\"N\",\"No\",\"\"))))","v":""},{"$f":"IF('Simplified Loader'!BQ73>0,'Simplified Loader'!BQ73,\"\")","v":""},{"$f":"IF('Simplified Loader'!BR73>0,'Simplified Loader'!BR73,\"\")","v":""},{"$f":"IF('Simplified Loader'!BS73>0,'Simplified Loader'!BS73,\"\")","v":""},{"$f":"IF('Simplified Loader'!BT73=\"Male\",\"Male\",IF('Simplified Loader'!BT73=\"Female\",\"Female\",IF('Simplified Loader'!BT73=\"M\",\"Male\",IF('Simplified Loader'!BT73=\"F\",\"Female\",\"\"))))","v":""},{"$f":"IF('Simplified Loader'!BU73=\"Yes\",\"Yes\",IF('Simplified Loader'!BU73=\"No\",\"No\",IF('Simplified Loader'!BU73=\"Y\",\"Yes\",IF('Simplified Loader'!BU73=\"N\",\"No\",\"\"))))","v":""},{"$f":"IF('Simplified Loader'!BV73=\"Yes\",\"Yes\",IF('Simplified Loader'!BV73=\"No\",\"No\",IF('Simplified Loader'!BV73=\"Y\",\"Yes\",IF('Simplified Loader'!BV73=\"N\",\"No\",\"\"))))","v":""},{"$f":"IF('Simplified Loader'!BW73>0,'Simplified Loader'!BW73,\"\")","v":""},{"$f":"IF('Simplified Loader'!BX73>0,'Simplified Loader'!BX73,\"\")","v":""},{"$f":"IF('Simplified Loader'!BY73>0,'Simplified Loader'!BY73,\"\")","v":""},{"$f":"IF('Simplified Loader'!BZ73=\"Male\",\"Male\",IF('Simplified Loader'!BZ73=\"Female\",\"Female\",IF('Simplified Loader'!BZ73=\"M\",\"Male\",IF('Simplified Loader'!BZ73=\"F\",\"Female\",\"\"))))","v":""},{"$f":"IF('Simplified Loader'!CA73=\"Yes\",\"Yes\",IF('Simplified Loader'!CA73=\"No\",\"No\",IF('Simplified Loader'!CA73=\"Y\",\"Yes\",IF('Simplified Loader'!CA73=\"N\",\"No\",\"\"))))","v":""},{"$f":"IF('Simplified Loader'!CB73=\"Yes\",\"Yes\",IF('Simplified Loader'!CB73=\"No\",\"No\",IF('Simplified Loader'!CB73=\"Y\",\"Yes\",IF('Simplified Loader'!CB73=\"N\",\"No\",\"\"))))","v":""},{"$f":"IF('Simplified Loader'!CH73>0,'Simplified Loader'!CH73,\"\")","v":"    "}]
[{"$f":"IF('Simplified Loader'!A74>0,'Simplified Loader'!A74,\"\")","v":""},{"$f":"IF('Simplified Loader'!B74>0,'Simplified Loader'!B74,\"\")","v":""},{"$f":"IF('Simplified Loader'!C74>0,'Simplified Loader'!C74,\"\")","v":""},{"$f":"IF('Simplified Loader'!D74>0,'Simplified Loader'!D74,\"\")","v":""},{"$f":"IF('Simplified Loader'!E74>0,TEXT('Simplified Loader'!E74,\"000\"),\"\")","v":""},{"$f":"IF('Simplified Loader'!F74>0,'Simplified Loader'!F74,\"\")","v":""},{"$f":"IF('Simplified Loader'!G74>0,'Simplified Loader'!G74,\"\")","v":""},{"$f":"IF('Simplified Loader'!I74>0,'Simplified Loader'!I74,\"\")","v":""},{"$f":"IF('Simplified Loader'!J74>0,'Simplified Loader'!J74,\"\")","v":""},{"$f":"IF('Simplified Loader'!K74>0,'Simplified Loader'!K74,\"\")","v":""},{"$f":"IF('Simplified Loader'!L74>0,'Simplified Loader'!L74,\"\")","v":""},{"$f":"IF('Simplified Loader'!M74=\"Male\",\"Male\",IF('Simplified Loader'!M74=\"Female\",\"Female\",IF('Simplified Loader'!M74=\"M\",\"Male\",IF('Simplified Loader'!M74=\"F\",\"Female\",\"\"))))","v":""},{"$f":"IF('Simplified Loader'!N74=\"Yes\",\"Yes\",IF('Simplified Loader'!N74=\"No\",\"No\",IF('Simplified Loader'!N74=\"Y\",\"Yes\",IF('Simplified Loader'!N74=\"N\",\"No\",\"\"))))","v":""},{"$f":"IF('Simplified Loader'!O74=\"No\",\"Single\",IF('Simplified Loader'!O74=\"Yes\",\"Family\",IF('Simplified Loader'!O74=\"N\",\"Single\",IF('Simplified Loader'!O74=\"Y\",\"Family\",IF('Simplified Loader'!O74=\"In-force\",\"Family\",IF('Simplified Loader'!O74=\"In force\",\"Family\",IF('Simplified Loader'!O74=\"Applies\",\"Family\",IF('Simplified Loader'!O74=\"Applicable\",\"Family\",\"\"))))))))","v":""},{"$f":"IF('Simplified Loader'!P74=\"English\",\"English\",IF('Simplified Loader'!P74=\"French\",\"French\",IF('Simplified Loader'!P74=\"E\",\"English\",IF('Simplified Loader'!P74=\"F\",\"French\",\"\"))))","v":""},{"$f":"IF('Simplified Loader'!Q74=\"Yes\",\"Yes\",IF('Simplified Loader'!Q74=\"No\",\"No\",IF('Simplified Loader'!Q74=\"Y\",\"Yes\",IF('Simplified Loader'!Q74=\"N\",\"No\",\"\"))))","v":""},{"$f":"IF('Simplified Loader'!R74>0,'Simplified Loader'!R74,\"\")","v":""},{"$f":"IF('Simplified Loader'!S74>0,'Simplified Loader'!S74,\"\")","v":""},{"$f":"IF('Simplified Loader'!T74>0,'Simplified Loader'!T74,\"\")","v":""},{"$f":"IF('Simplified Loader'!U74>0,'Simplified Loader'!U74,\"\")","v":""},{"$f":"IF('Simplified Loader'!V74=\"Waive\",\"Yes\",\"\")","v":""},{"$f":"IF('Simplified Loader'!W74=\"Waive\",\"Yes\",\"\")","v":""},{"$f":"IF('Simplified Loader'!X74>0,'Simplified Loader'!X74,\"\")","v":""},{"$f":"IF('Simplified Loader'!Y74>0,'Simplified Loader'!Y74,\"\")","v":""},{"$f":"IF('Simplified Loader'!Z74>0,'Simplified Loader'!Z74,\"\")","v":""},{"$f":"IF('Simplified Loader'!AA74>0,'Simplified Loader'!AA74,\"\")","v":""},{"$f":"IF('Simplified Loader'!AB74>0,'Simplified Loader'!AB74,\"\")","v":""},{"$f":"IF('Simplified Loader'!AC74>0,'Simplified Loader'!AC74,\"\")","v":" "},{"$f":"IF('Simplified Loader'!AE74>0,'Simplified Loader'!AE74&\" \",\"\")&IF('Simplified Loader'!AD74>0,'Simplified Loader'!AD74,\"\")","v":""},null,{"$f":"IF('Simplified Loader'!AF74>0,'Simplified Loader'!AF74,\"\")","v":""},{"$f":"IF('Simplified Loader'!AG74>0,'Simplified Loader'!AG74,\"\")","v":""},{"$f":"IF('Simplified Loader'!AH74>0,'Simplified Loader'!AH74,\"\")","v":""},{"$f":"IF('Simplified Loader'!AI74>0,'Simplified Loader'!AI74,\"\")","v":""},{"$f":"IF('Simplified Loader'!AJ74>0,'Simplified Loader'!AJ74,\"\")","v":""},{"$f":"IF('Simplified Loader'!AK74>0,'Simplified Loader'!AK74,\"\")","v":""},{"$f":"IF('Simplified Loader'!AL74>0,'Simplified Loader'!AL74,\"\")","v":""},{"$f":"IF('Simplified Loader'!AM74>0,'Simplified Loader'!AM74,\"\")","v":""},{"$f":"IF('Simplified Loader'!AN74=\"Male\",\"Male\",IF('Simplified Loader'!AN74=\"Female\",\"Female\",IF('Simplified Loader'!AN74=\"M\",\"Male\",IF('Simplified Loader'!AN74=\"F\",\"Female\",\"\"))))","v":""},{"$f":"IF('Simplified Loader'!AO74=\"Single\",\"Single\",IF('Simplified Loader'!AO74=\"Family\",\"Family\",IF('Simplified Loader'!AO74=\"S\",\"Single\",IF('Simplified Loader'!AO74=\"F\",\"Family\",\"\"))))","v":""},{"$f":"IF('Simplified Loader'!AP74=\"Single\",\"Single\",IF('Simplified Loader'!AP74=\"Family\",\"Family\",IF('Simplified Loader'!AP74=\"S\",\"Single\",IF('Simplified Loader'!AP74=\"F\",\"Family\",\"\"))))","v":""},{"$f":"IF('Simplified Loader'!AQ74>0,'Simplified Loader'!AQ74,\"\")","v":""},{"$f":"IF('Simplified Loader'!AR74=\"Yes\",\"Yes\",IF('Simplified Loader'!AR74=\"No\",\"No\",IF('Simplified Loader'!AR74=\"Y\",\"Yes\",IF('Simplified Loader'!AR74=\"N\",\"No\",\"\"))))","v":""},{"$f":"IF('Simplified Loader'!AS74>0,'Simplified Loader'!AS74,\"\")","v":""},{"$f":"IF('Simplified Loader'!AT74>0,'Simplified Loader'!AT74,\"\")","v":""},{"$f":"IF('Simplified Loader'!AU74>0,'Simplified Loader'!AU74,\"\")","v":""},{"$f":"IF('Simplified Loader'!AV74=\"Male\",\"Male\",IF('Simplified Loader'!AV74=\"Female\",\"Female\",IF('Simplified Loader'!AV74=\"M\",\"Male\",IF('Simplified Loader'!AV74=\"F\",\"Female\",\"\"))))","v":""},{"$f":"IF('Simplified Loader'!AW74=\"Yes\",\"Yes\",IF('Simplified Loader'!AW74=\"No\",\"No\",IF('Simplified Loader'!AW74=\"Y\",\"Yes\",IF('Simplified Loader'!AW74=\"N\",\"No\",\"\"))))","v":""},{"$f":"IF('Simplified Loader'!AX74=\"Yes\",\"Yes\",IF('Simplified Loader'!AX74=\"No\",\"No\",IF('Simplified Loader'!AX74=\"Y\",\"Yes\",IF('Simplified Loader'!AX74=\"N\",\"No\",\"\"))))","v":""},{"$f":"IF('Simplified Loader'!AY74>0,'Simplified Loader'!AY74,\"\")","v":""},{"$f":"IF('Simplified Loader'!AZ74>0,'Simplified Loader'!AZ74,\"\")","v":""},{"$f":"IF('Simplified Loader'!BA74>0,'Simplified Loader'!BA74,\"\")","v":""},{"$f":"IF('Simplified Loader'!BB74=\"Male\",\"Male\",IF('Simplified Loader'!BB74=\"Female\",\"Female\",IF('Simplified Loader'!BB74=\"M\",\"Male\",IF('Simplified Loader'!BB74=\"F\",\"Female\",\"\"))))","v":""},{"$f":"IF('Simplified Loader'!BC74=\"Yes\",\"Yes\",IF('Simplified Loader'!BC74=\"No\",\"No\",IF('Simplified Loader'!BC74=\"Y\",\"Yes\",IF('Simplified Loader'!BC74=\"N\",\"No\",\"\"))))","v":""},{"$f":"IF('Simplified Loader'!BD74=\"Yes\",\"Yes\",IF('Simplified Loader'!BD74=\"No\",\"No\",IF('Simplified Loader'!BD74=\"Y\",\"Yes\",IF('Simplified Loader'!BD74=\"N\",\"No\",\"\"))))","v":""},{"$f":"IF('Simplified Loader'!BE74>0,'Simplified Loader'!BE74,\"\")","v":""},{"$f":"IF('Simplified Loader'!BF74>0,'Simplified Loader'!BF74,\"\")","v":""},{"$f":"IF('Simplified Loader'!BG74>0,'Simplified Loader'!BG74,\"\")","v":""},{"$f":"IF('Simplified Loader'!BH74=\"Male\",\"Male\",IF('Simplified Loader'!BH74=\"Female\",\"Female\",IF('Simplified Loader'!BH74=\"M\",\"Male\",IF('Simplified Loader'!BH74=\"F\",\"Female\",\"\"))))","v":""},{"$f":"IF('Simplified Loader'!BI74=\"Yes\",\"Yes\",IF('Simplified Loader'!BI74=\"No\",\"No\",IF('Simplified Loader'!BI74=\"Y\",\"Yes\",IF('Simplified Loader'!BI74=\"N\",\"No\",\"\"))))","v":""},{"$f":"IF('Simplified Loader'!BJ74=\"Yes\",\"Yes\",IF('Simplified Loader'!BJ74=\"No\",\"No\",IF('Simplified Loader'!BJ74=\"Y\",\"Yes\",IF('Simplified Loader'!BJ74=\"N\",\"No\",\"\"))))","v":""},{"$f":"IF('Simplified Loader'!BK74>0,'Simplified Loader'!BK74,\"\")","v":""},{"$f":"IF('Simplified Loader'!BL74>0,'Simplified Loader'!BL74,\"\")","v":""},{"$f":"IF('Simplified Loader'!BM74>0,'Simplified Loader'!BM74,\"\")","v":""},{"$f":"IF('Simplified Loader'!BN74=\"Male\",\"Male\",IF('Simplified Loader'!BN74=\"Female\",\"Female\",IF('Simplified Loader'!BN74=\"M\",\"Male\",IF('Simplified Loader'!BN74=\"F\",\"Female\",\"\"))))","v":""},{"$f":"IF('Simplified Loader'!BO74=\"Yes\",\"Yes\",IF('Simplified Loader'!BO74=\"No\",\"No\",IF('Simplified Loader'!BO74=\"Y\",\"Yes\",IF('Simplified Loader'!BO74=\"N\",\"No\",\"\"))))","v":""},{"$f":"IF('Simplified Loader'!BP74=\"Yes\",\"Yes\",IF('Simplified Loader'!BP74=\"No\",\"No\",IF('Simplified Loader'!BP74=\"Y\",\"Yes\",IF('Simplified Loader'!BP74=\"N\",\"No\",\"\"))))","v":""},{"$f":"IF('Simplified Loader'!BQ74>0,'Simplified Loader'!BQ74,\"\")","v":""},{"$f":"IF('Simplified Loader'!BR74>0,'Simplified Loader'!BR74,\"\")","v":""},{"$f":"IF('Simplified Loader'!BS74>0,'Simplified Loader'!BS74,\"\")","v":""},{"$f":"IF('Simplified Loader'!BT74=\"Male\",\"Male\",IF('Simplified Loader'!BT74=\"Female\",\"Female\",IF('Simplified Loader'!BT74=\"M\",\"Male\",IF('Simplified Loader'!BT74=\"F\",\"Female\",\"\"))))","v":""},{"$f":"IF('Simplified Loader'!BU74=\"Yes\",\"Yes\",IF('Simplified Loader'!BU74=\"No\",\"No\",IF('Simplified Loader'!BU74=\"Y\",\"Yes\",IF('Simplified Loader'!BU74=\"N\",\"No\",\"\"))))","v":""},{"$f":"IF('Simplified Loader'!BV74=\"Yes\",\"Yes\",IF('Simplified Loader'!BV74=\"No\",\"No\",IF('Simplified Loader'!BV74=\"Y\",\"Yes\",IF('Simplified Loader'!BV74=\"N\",\"No\",\"\"))))","v":""},{"$f":"IF('Simplified Loader'!BW74>0,'Simplified Loader'!BW74,\"\")","v":""},{"$f":"IF('Simplified Loader'!BX74>0,'Simplified Loader'!BX74,\"\")","v":""},{"$f":"IF('Simplified Loader'!BY74>0,'Simplified Loader'!BY74,\"\")","v":""},{"$f":"IF('Simplified Loader'!BZ74=\"Male\",\"Male\",IF('Simplified Loader'!BZ74=\"Female\",\"Female\",IF('Simplified Loader'!BZ74=\"M\",\"Male\",IF('Simplified Loader'!BZ74=\"F\",\"Female\",\"\"))))","v":""},{"$f":"IF('Simplified Loader'!CA74=\"Yes\",\"Yes\",IF('Simplified Loader'!CA74=\"No\",\"No\",IF('Simplified Loader'!CA74=\"Y\",\"Yes\",IF('Simplified Loader'!CA74=\"N\",\"No\",\"\"))))","v":""},{"$f":"IF('Simplified Loader'!CB74=\"Yes\",\"Yes\",IF('Simplified Loader'!CB74=\"No\",\"No\",IF('Simplified Loader'!CB74=\"Y\",\"Yes\",IF('Simplified Loader'!CB74=\"N\",\"No\",\"\"))))","v":""},{"$f":"IF('Simplified Loader'!CH74>0,'Simplified Loader'!CH74,\"\")","v":"    "}]
[{"$f":"IF('Simplified Loader'!A75>0,'Simplified Loader'!A75,\"\")","v":""},{"$f":"IF('Simplified Loader'!B75>0,'Simplified Loader'!B75,\"\")","v":""},{"$f":"IF('Simplified Loader'!C75>0,'Simplified Loader'!C75,\"\")","v":""},{"$f":"IF('Simplified Loader'!D75>0,'Simplified Loader'!D75,\"\")","v":""},{"$f":"IF('Simplified Loader'!E75>0,TEXT('Simplified Loader'!E75,\"000\"),\"\")","v":""},{"$f":"IF('Simplified Loader'!F75>0,'Simplified Loader'!F75,\"\")","v":""},{"$f":"IF('Simplified Loader'!G75>0,'Simplified Loader'!G75,\"\")","v":""},{"$f":"IF('Simplified Loader'!I75>0,'Simplified Loader'!I75,\"\")","v":""},{"$f":"IF('Simplified Loader'!J75>0,'Simplified Loader'!J75,\"\")","v":""},{"$f":"IF('Simplified Loader'!K75>0,'Simplified Loader'!K75,\"\")","v":""},{"$f":"IF('Simplified Loader'!L75>0,'Simplified Loader'!L75,\"\")","v":""},{"$f":"IF('Simplified Loader'!M75=\"Male\",\"Male\",IF('Simplified Loader'!M75=\"Female\",\"Female\",IF('Simplified Loader'!M75=\"M\",\"Male\",IF('Simplified Loader'!M75=\"F\",\"Female\",\"\"))))","v":""},{"$f":"IF('Simplified Loader'!N75=\"Yes\",\"Yes\",IF('Simplified Loader'!N75=\"No\",\"No\",IF('Simplified Loader'!N75=\"Y\",\"Yes\",IF('Simplified Loader'!N75=\"N\",\"No\",\"\"))))","v":""},{"$f":"IF('Simplified Loader'!O75=\"No\",\"Single\",IF('Simplified Loader'!O75=\"Yes\",\"Family\",IF('Simplified Loader'!O75=\"N\",\"Single\",IF('Simplified Loader'!O75=\"Y\",\"Family\",IF('Simplified Loader'!O75=\"In-force\",\"Family\",IF('Simplified Loader'!O75=\"In force\",\"Family\",IF('Simplified Loader'!O75=\"Applies\",\"Family\",IF('Simplified Loader'!O75=\"Applicable\",\"Family\",\"\"))))))))","v":""},{"$f":"IF('Simplified Loader'!P75=\"English\",\"English\",IF('Simplified Loader'!P75=\"French\",\"French\",IF('Simplified Loader'!P75=\"E\",\"English\",IF('Simplified Loader'!P75=\"F\",\"French\",\"\"))))","v":""},{"$f":"IF('Simplified Loader'!Q75=\"Yes\",\"Yes\",IF('Simplified Loader'!Q75=\"No\",\"No\",IF('Simplified Loader'!Q75=\"Y\",\"Yes\",IF('Simplified Loader'!Q75=\"N\",\"No\",\"\"))))","v":""},{"$f":"IF('Simplified Loader'!R75>0,'Simplified Loader'!R75,\"\")","v":""},{"$f":"IF('Simplified Loader'!S75>0,'Simplified Loader'!S75,\"\")","v":""},{"$f":"IF('Simplified Loader'!T75>0,'Simplified Loader'!T75,\"\")","v":""},{"$f":"IF('Simplified Loader'!U75>0,'Simplified Loader'!U75,\"\")","v":""},{"$f":"IF('Simplified Loader'!V75=\"Waive\",\"Yes\",\"\")","v":""},{"$f":"IF('Simplified Loader'!W75=\"Waive\",\"Yes\",\"\")","v":""},{"$f":"IF('Simplified Loader'!X75>0,'Simplified Loader'!X75,\"\")","v":""},{"$f":"IF('Simplified Loader'!Y75>0,'Simplified Loader'!Y75,\"\")","v":""},{"$f":"IF('Simplified Loader'!Z75>0,'Simplified Loader'!Z75,\"\")","v":""},{"$f":"IF('Simplified Loader'!AA75>0,'Simplified Loader'!AA75,\"\")","v":""},{"$f":"IF('Simplified Loader'!AB75>0,'Simplified Loader'!AB75,\"\")","v":""},{"$f":"IF('Simplified Loader'!AC75>0,'Simplified Loader'!AC75,\"\")","v":" "},{"$f":"IF('Simplified Loader'!AE75>0,'Simplified Loader'!AE75&\" \",\"\")&IF('Simplified Loader'!AD75>0,'Simplified Loader'!AD75,\"\")","v":""},null,{"$f":"IF('Simplified Loader'!AF75>0,'Simplified Loader'!AF75,\"\")","v":""},{"$f":"IF('Simplified Loader'!AG75>0,'Simplified Loader'!AG75,\"\")","v":""},{"$f":"IF('Simplified Loader'!AH75>0,'Simplified Loader'!AH75,\"\")","v":""},{"$f":"IF('Simplified Loader'!AI75>0,'Simplified Loader'!AI75,\"\")","v":""},{"$f":"IF('Simplified Loader'!AJ75>0,'Simplified Loader'!AJ75,\"\")","v":""},{"$f":"IF('Simplified Loader'!AK75>0,'Simplified Loader'!AK75,\"\")","v":""},{"$f":"IF('Simplified Loader'!AL75>0,'Simplified Loader'!AL75,\"\")","v":""},{"$f":"IF('Simplified Loader'!AM75>0,'Simplified Loader'!AM75,\"\")","v":""},{"$f":"IF('Simplified Loader'!AN75=\"Male\",\"Male\",IF('Simplified Loader'!AN75=\"Female\",\"Female\",IF('Simplified Loader'!AN75=\"M\",\"Male\",IF('Simplified Loader'!AN75=\"F\",\"Female\",\"\"))))","v":""},{"$f":"IF('Simplified Loader'!AO75=\"Single\",\"Single\",IF('Simplified Loader'!AO75=\"Family\",\"Family\",IF('Simplified Loader'!AO75=\"S\",\"Single\",IF('Simplified Loader'!AO75=\"F\",\"Family\",\"\"))))","v":""},{"$f":"IF('Simplified Loader'!AP75=\"Single\",\"Single\",IF('Simplified Loader'!AP75=\"Family\",\"Family\",IF('Simplified Loader'!AP75=\"S\",\"Single\",IF('Simplified Loader'!AP75=\"F\",\"Family\",\"\"))))","v":""},{"$f":"IF('Simplified Loader'!AQ75>0,'Simplified Loader'!AQ75,\"\")","v":""},{"$f":"IF('Simplified Loader'!AR75=\"Yes\",\"Yes\",IF('Simplified Loader'!AR75=\"No\",\"No\",IF('Simplified Loader'!AR75=\"Y\",\"Yes\",IF('Simplified Loader'!AR75=\"N\",\"No\",\"\"))))","v":""},{"$f":"IF('Simplified Loader'!AS75>0,'Simplified Loader'!AS75,\"\")","v":""},{"$f":"IF('Simplified Loader'!AT75>0,'Simplified Loader'!AT75,\"\")","v":""},{"$f":"IF('Simplified Loader'!AU75>0,'Simplified Loader'!AU75,\"\")","v":""},{"$f":"IF('Simplified Loader'!AV75=\"Male\",\"Male\",IF('Simplified Loader'!AV75=\"Female\",\"Female\",IF('Simplified Loader'!AV75=\"M\",\"Male\",IF('Simplified Loader'!AV75=\"F\",\"Female\",\"\"))))","v":""},{"$f":"IF('Simplified Loader'!AW75=\"Yes\",\"Yes\",IF('Simplified Loader'!AW75=\"No\",\"No\",IF('Simplified Loader'!AW75=\"Y\",\"Yes\",IF('Simplified Loader'!AW75=\"N\",\"No\",\"\"))))","v":""},{"$f":"IF('Simplified Loader'!AX75=\"Yes\",\"Yes\",IF('Simplified Loader'!AX75=\"No\",\"No\",IF('Simplified Loader'!AX75=\"Y\",\"Yes\",IF('Simplified Loader'!AX75=\"N\",\"No\",\"\"))))","v":""},{"$f":"IF('Simplified Loader'!AY75>0,'Simplified Loader'!AY75,\"\")","v":""},{"$f":"IF('Simplified Loader'!AZ75>0,'Simplified Loader'!AZ75,\"\")","v":""},{"$f":"IF('Simplified Loader'!BA75>0,'Simplified Loader'!BA75,\"\")","v":""},{"$f":"IF('Simplified Loader'!BB75=\"Male\",\"Male\",IF('Simplified Loader'!BB75=\"Female\",\"Female\",IF('Simplified Loader'!BB75=\"M\",\"Male\",IF('Simplified Loader'!BB75=\"F\",\"Female\",\"\"))))","v":""},{"$f":"IF('Simplified Loader'!BC75=\"Yes\",\"Yes\",IF('Simplified Loader'!BC75=\"No\",\"No\",IF('Simplified Loader'!BC75=\"Y\",\"Yes\",IF('Simplified Loader'!BC75=\"N\",\"No\",\"\"))))","v":""},{"$f":"IF('Simplified Loader'!BD75=\"Yes\",\"Yes\",IF('Simplified Loader'!BD75=\"No\",\"No\",IF('Simplified Loader'!BD75=\"Y\",\"Yes\",IF('Simplified Loader'!BD75=\"N\",\"No\",\"\"))))","v":""},{"$f":"IF('Simplified Loader'!BE75>0,'Simplified Loader'!BE75,\"\")","v":""},{"$f":"IF('Simplified Loader'!BF75>0,'Simplified Loader'!BF75,\"\")","v":""},{"$f":"IF('Simplified Loader'!BG75>0,'Simplified Loader'!BG75,\"\")","v":""},{"$f":"IF('Simplified Loader'!BH75=\"Male\",\"Male\",IF('Simplified Loader'!BH75=\"Female\",\"Female\",IF('Simplified Loader'!BH75=\"M\",\"Male\",IF('Simplified Loader'!BH75=\"F\",\"Female\",\"\"))))","v":""},{"$f":"IF('Simplified Loader'!BI75=\"Yes\",\"Yes\",IF('Simplified Loader'!BI75=\"No\",\"No\",IF('Simplified Loader'!BI75=\"Y\",\"Yes\",IF('Simplified Loader'!BI75=\"N\",\"No\",\"\"))))","v":""},{"$f":"IF('Simplified Loader'!BJ75=\"Yes\",\"Yes\",IF('Simplified Loader'!BJ75=\"No\",\"No\",IF('Simplified Loader'!BJ75=\"Y\",\"Yes\",IF('Simplified Loader'!BJ75=\"N\",\"No\",\"\"))))","v":""},{"$f":"IF('Simplified Loader'!BK75>0,'Simplified Loader'!BK75,\"\")","v":""},{"$f":"IF('Simplified Loader'!BL75>0,'Simplified Loader'!BL75,\"\")","v":""},{"$f":"IF('Simplified Loader'!BM75>0,'Simplified Loader'!BM75,\"\")","v":""},{"$f":"IF('Simplified Loader'!BN75=\"Male\",\"Male\",IF('Simplified Loader'!BN75=\"Female\",\"Female\",IF('Simplified Loader'!BN75=\"M\",\"Male\",IF('Simplified Loader'!BN75=\"F\",\"Female\",\"\"))))","v":""},{"$f":"IF('Simplified Loader'!BO75=\"Yes\",\"Yes\",IF('Simplified Loader'!BO75=\"No\",\"No\",IF('Simplified Loader'!BO75=\"Y\",\"Yes\",IF('Simplified Loader'!BO75=\"N\",\"No\",\"\"))))","v":""},{"$f":"IF('Simplified Loader'!BP75=\"Yes\",\"Yes\",IF('Simplified Loader'!BP75=\"No\",\"No\",IF('Simplified Loader'!BP75=\"Y\",\"Yes\",IF('Simplified Loader'!BP75=\"N\",\"No\",\"\"))))","v":""},{"$f":"IF('Simplified Loader'!BQ75>0,'Simplified Loader'!BQ75,\"\")","v":""},{"$f":"IF('Simplified Loader'!BR75>0,'Simplified Loader'!BR75,\"\")","v":""},{"$f":"IF('Simplified Loader'!BS75>0,'Simplified Loader'!BS75,\"\")","v":""},{"$f":"IF('Simplified Loader'!BT75=\"Male\",\"Male\",IF('Simplified Loader'!BT75=\"Female\",\"Female\",IF('Simplified Loader'!BT75=\"M\",\"Male\",IF('Simplified Loader'!BT75=\"F\",\"Female\",\"\"))))","v":""},{"$f":"IF('Simplified Loader'!BU75=\"Yes\",\"Yes\",IF('Simplified Loader'!BU75=\"No\",\"No\",IF('Simplified Loader'!BU75=\"Y\",\"Yes\",IF('Simplified Loader'!BU75=\"N\",\"No\",\"\"))))","v":""},{"$f":"IF('Simplified Loader'!BV75=\"Yes\",\"Yes\",IF('Simplified Loader'!BV75=\"No\",\"No\",IF('Simplified Loader'!BV75=\"Y\",\"Yes\",IF('Simplified Loader'!BV75=\"N\",\"No\",\"\"))))","v":""},{"$f":"IF('Simplified Loader'!BW75>0,'Simplified Loader'!BW75,\"\")","v":""},{"$f":"IF('Simplified Loader'!BX75>0,'Simplified Loader'!BX75,\"\")","v":""},{"$f":"IF('Simplified Loader'!BY75>0,'Simplified Loader'!BY75,\"\")","v":""},{"$f":"IF('Simplified Loader'!BZ75=\"Male\",\"Male\",IF('Simplified Loader'!BZ75=\"Female\",\"Female\",IF('Simplified Loader'!BZ75=\"M\",\"Male\",IF('Simplified Loader'!BZ75=\"F\",\"Female\",\"\"))))","v":""},{"$f":"IF('Simplified Loader'!CA75=\"Yes\",\"Yes\",IF('Simplified Loader'!CA75=\"No\",\"No\",IF('Simplified Loader'!CA75=\"Y\",\"Yes\",IF('Simplified Loader'!CA75=\"N\",\"No\",\"\"))))","v":""},{"$f":"IF('Simplified Loader'!CB75=\"Yes\",\"Yes\",IF('Simplified Loader'!CB75=\"No\",\"No\",IF('Simplified Loader'!CB75=\"Y\",\"Yes\",IF('Simplified Loader'!CB75=\"N\",\"No\",\"\"))))","v":""},{"$f":"IF('Simplified Loader'!CH75>0,'Simplified Loader'!CH75,\"\")","v":"    "}]
[{"$f":"IF('Simplified Loader'!A76>0,'Simplified Loader'!A76,\"\")","v":""},{"$f":"IF('Simplified Loader'!B76>0,'Simplified Loader'!B76,\"\")","v":""},{"$f":"IF('Simplified Loader'!C76>0,'Simplified Loader'!C76,\"\")","v":""},{"$f":"IF('Simplified Loader'!D76>0,'Simplified Loader'!D76,\"\")","v":""},{"$f":"IF('Simplified Loader'!E76>0,TEXT('Simplified Loader'!E76,\"000\"),\"\")","v":""},{"$f":"IF('Simplified Loader'!F76>0,'Simplified Loader'!F76,\"\")","v":""},{"$f":"IF('Simplified Loader'!G76>0,'Simplified Loader'!G76,\"\")","v":""},{"$f":"IF('Simplified Loader'!I76>0,'Simplified Loader'!I76,\"\")","v":""},{"$f":"IF('Simplified Loader'!J76>0,'Simplified Loader'!J76,\"\")","v":""},{"$f":"IF('Simplified Loader'!K76>0,'Simplified Loader'!K76,\"\")","v":""},{"$f":"IF('Simplified Loader'!L76>0,'Simplified Loader'!L76,\"\")","v":""},{"$f":"IF('Simplified Loader'!M76=\"Male\",\"Male\",IF('Simplified Loader'!M76=\"Female\",\"Female\",IF('Simplified Loader'!M76=\"M\",\"Male\",IF('Simplified Loader'!M76=\"F\",\"Female\",\"\"))))","v":""},{"$f":"IF('Simplified Loader'!N76=\"Yes\",\"Yes\",IF('Simplified Loader'!N76=\"No\",\"No\",IF('Simplified Loader'!N76=\"Y\",\"Yes\",IF('Simplified Loader'!N76=\"N\",\"No\",\"\"))))","v":""},{"$f":"IF('Simplified Loader'!O76=\"No\",\"Single\",IF('Simplified Loader'!O76=\"Yes\",\"Family\",IF('Simplified Loader'!O76=\"N\",\"Single\",IF('Simplified Loader'!O76=\"Y\",\"Family\",IF('Simplified Loader'!O76=\"In-force\",\"Family\",IF('Simplified Loader'!O76=\"In force\",\"Family\",IF('Simplified Loader'!O76=\"Applies\",\"Family\",IF('Simplified Loader'!O76=\"Applicable\",\"Family\",\"\"))))))))","v":""},{"$f":"IF('Simplified Loader'!P76=\"English\",\"English\",IF('Simplified Loader'!P76=\"French\",\"French\",IF('Simplified Loader'!P76=\"E\",\"English\",IF('Simplified Loader'!P76=\"F\",\"French\",\"\"))))","v":""},{"$f":"IF('Simplified Loader'!Q76=\"Yes\",\"Yes\",IF('Simplified Loader'!Q76=\"No\",\"No\",IF('Simplified Loader'!Q76=\"Y\",\"Yes\",IF('Simplified Loader'!Q76=\"N\",\"No\",\"\"))))","v":""},{"$f":"IF('Simplified Loader'!R76>0,'Simplified Loader'!R76,\"\")","v":""},{"$f":"IF('Simplified Loader'!S76>0,'Simplified Loader'!S76,\"\")","v":""},{"$f":"IF('Simplified Loader'!T76>0,'Simplified Loader'!T76,\"\")","v":""},{"$f":"IF('Simplified Loader'!U76>0,'Simplified Loader'!U76,\"\")","v":""},{"$f":"IF('Simplified Loader'!V76=\"Waive\",\"Yes\",\"\")","v":""},{"$f":"IF('Simplified Loader'!W76=\"Waive\",\"Yes\",\"\")","v":""},{"$f":"IF('Simplified Loader'!X76>0,'Simplified Loader'!X76,\"\")","v":""},{"$f":"IF('Simplified Loader'!Y76>0,'Simplified Loader'!Y76,\"\")","v":""},{"$f":"IF('Simplified Loader'!Z76>0,'Simplified Loader'!Z76,\"\")","v":""},{"$f":"IF('Simplified Loader'!AA76>0,'Simplified Loader'!AA76,\"\")","v":""},{"$f":"IF('Simplified Loader'!AB76>0,'Simplified Loader'!AB76,\"\")","v":""},{"$f":"IF('Simplified Loader'!AC76>0,'Simplified Loader'!AC76,\"\")","v":" "},{"$f":"IF('Simplified Loader'!AE76>0,'Simplified Loader'!AE76&\" \",\"\")&IF('Simplified Loader'!AD76>0,'Simplified Loader'!AD76,\"\")","v":""},null,{"$f":"IF('Simplified Loader'!AF76>0,'Simplified Loader'!AF76,\"\")","v":""},{"$f":"IF('Simplified Loader'!AG76>0,'Simplified Loader'!AG76,\"\")","v":""},{"$f":"IF('Simplified Loader'!AH76>0,'Simplified Loader'!AH76,\"\")","v":""},{"$f":"IF('Simplified Loader'!AI76>0,'Simplified Loader'!AI76,\"\")","v":""},{"$f":"IF('Simplified Loader'!AJ76>0,'Simplified Loader'!AJ76,\"\")","v":""},{"$f":"IF('Simplified Loader'!AK76>0,'Simplified Loader'!AK76,\"\")","v":""},{"$f":"IF('Simplified Loader'!AL76>0,'Simplified Loader'!AL76,\"\")","v":""},{"$f":"IF('Simplified Loader'!AM76>0,'Simplified Loader'!AM76,\"\")","v":""},{"$f":"IF('Simplified Loader'!AN76=\"Male\",\"Male\",IF('Simplified Loader'!AN76=\"Female\",\"Female\",IF('Simplified Loader'!AN76=\"M\",\"Male\",IF('Simplified Loader'!AN76=\"F\",\"Female\",\"\"))))","v":""},{"$f":"IF('Simplified Loader'!AO76=\"Single\",\"Single\",IF('Simplified Loader'!AO76=\"Family\",\"Family\",IF('Simplified Loader'!AO76=\"S\",\"Single\",IF('Simplified Loader'!AO76=\"F\",\"Family\",\"\"))))","v":""},{"$f":"IF('Simplified Loader'!AP76=\"Single\",\"Single\",IF('Simplified Loader'!AP76=\"Family\",\"Family\",IF('Simplified Loader'!AP76=\"S\",\"Single\",IF('Simplified Loader'!AP76=\"F\",\"Family\",\"\"))))","v":""},{"$f":"IF('Simplified Loader'!AQ76>0,'Simplified Loader'!AQ76,\"\")","v":""},{"$f":"IF('Simplified Loader'!AR76=\"Yes\",\"Yes\",IF('Simplified Loader'!AR76=\"No\",\"No\",IF('Simplified Loader'!AR76=\"Y\",\"Yes\",IF('Simplified Loader'!AR76=\"N\",\"No\",\"\"))))","v":""},{"$f":"IF('Simplified Loader'!AS76>0,'Simplified Loader'!AS76,\"\")","v":""},{"$f":"IF('Simplified Loader'!AT76>0,'Simplified Loader'!AT76,\"\")","v":""},{"$f":"IF('Simplified Loader'!AU76>0,'Simplified Loader'!AU76,\"\")","v":""},{"$f":"IF('Simplified Loader'!AV76=\"Male\",\"Male\",IF('Simplified Loader'!AV76=\"Female\",\"Female\",IF('Simplified Loader'!AV76=\"M\",\"Male\",IF('Simplified Loader'!AV76=\"F\",\"Female\",\"\"))))","v":""},{"$f":"IF('Simplified Loader'!AW76=\"Yes\",\"Yes\",IF('Simplified Loader'!AW76=\"No\",\"No\",IF('Simplified Loader'!AW76=\"Y\",\"Yes\",IF('Simplified Loader'!AW76=\"N\",\"No\",\"\"))))","v":""},{"$f":"IF('Simplified Loader'!AX76=\"Yes\",\"Yes\",IF('Simplified Loader'!AX76=\"No\",\"No\",IF('Simplified Loader'!AX76=\"Y\",\"Yes\",IF('Simplified Loader'!AX76=\"N\",\"No\",\"\"))))","v":""},{"$f":"IF('Simplified Loader'!AY76>0,'Simplified Loader'!AY76,\"\")","v":""},{"$f":"IF('Simplified Loader'!AZ76>0,'Simplified Loader'!AZ76,\"\")","v":""},{"$f":"IF('Simplified Loader'!BA76>0,'Simplified Loader'!BA76,\"\")","v":""},{"$f":"IF('Simplified Loader'!BB76=\"Male\",\"Male\",IF('Simplified Loader'!BB76=\"Female\",\"Female\",IF('Simplified Loader'!BB76=\"M\",\"Male\",IF('Simplified Loader'!BB76=\"F\",\"Female\",\"\"))))","v":""},{"$f":"IF('Simplified Loader'!BC76=\"Yes\",\"Yes\",IF('Simplified Loader'!BC76=\"No\",\"No\",IF('Simplified Loader'!BC76=\"Y\",\"Yes\",IF('Simplified Loader'!BC76=\"N\",\"No\",\"\"))))","v":""},{"$f":"IF('Simplified Loader'!BD76=\"Yes\",\"Yes\",IF('Simplified Loader'!BD76=\"No\",\"No\",IF('Simplified Loader'!BD76=\"Y\",\"Yes\",IF('Simplified Loader'!BD76=\"N\",\"No\",\"\"))))","v":""},{"$f":"IF('Simplified Loader'!BE76>0,'Simplified Loader'!BE76,\"\")","v":""},{"$f":"IF('Simplified Loader'!BF76>0,'Simplified Loader'!BF76,\"\")","v":""},{"$f":"IF('Simplified Loader'!BG76>0,'Simplified Loader'!BG76,\"\")","v":""},{"$f":"IF('Simplified Loader'!BH76=\"Male\",\"Male\",IF('Simplified Loader'!BH76=\"Female\",\"Female\",IF('Simplified Loader'!BH76=\"M\",\"Male\",IF('Simplified Loader'!BH76=\"F\",\"Female\",\"\"))))","v":""},{"$f":"IF('Simplified Loader'!BI76=\"Yes\",\"Yes\",IF('Simplified Loader'!BI76=\"No\",\"No\",IF('Simplified Loader'!BI76=\"Y\",\"Yes\",IF('Simplified Loader'!BI76=\"N\",\"No\",\"\"))))","v":""},{"$f":"IF('Simplified Loader'!BJ76=\"Yes\",\"Yes\",IF('Simplified Loader'!BJ76=\"No\",\"No\",IF('Simplified Loader'!BJ76=\"Y\",\"Yes\",IF('Simplified Loader'!BJ76=\"N\",\"No\",\"\"))))","v":""},{"$f":"IF('Simplified Loader'!BK76>0,'Simplified Loader'!BK76,\"\")","v":""},{"$f":"IF('Simplified Loader'!BL76>0,'Simplified Loader'!BL76,\"\")","v":""},{"$f":"IF('Simplified Loader'!BM76>0,'Simplified Loader'!BM76,\"\")","v":""},{"$f":"IF('Simplified Loader'!BN76=\"Male\",\"Male\",IF('Simplified Loader'!BN76=\"Female\",\"Female\",IF('Simplified Loader'!BN76=\"M\",\"Male\",IF('Simplified Loader'!BN76=\"F\",\"Female\",\"\"))))","v":""},{"$f":"IF('Simplified Loader'!BO76=\"Yes\",\"Yes\",IF('Simplified Loader'!BO76=\"No\",\"No\",IF('Simplified Loader'!BO76=\"Y\",\"Yes\",IF('Simplified Loader'!BO76=\"N\",\"No\",\"\"))))","v":""},{"$f":"IF('Simplified Loader'!BP76=\"Yes\",\"Yes\",IF('Simplified Loader'!BP76=\"No\",\"No\",IF('Simplified Loader'!BP76=\"Y\",\"Yes\",IF('Simplified Loader'!BP76=\"N\",\"No\",\"\"))))","v":""},{"$f":"IF('Simplified Loader'!BQ76>0,'Simplified Loader'!BQ76,\"\")","v":""},{"$f":"IF('Simplified Loader'!BR76>0,'Simplified Loader'!BR76,\"\")","v":""},{"$f":"IF('Simplified Loader'!BS76>0,'Simplified Loader'!BS76,\"\")","v":""},{"$f":"IF('Simplified Loader'!BT76=\"Male\",\"Male\",IF('Simplified Loader'!BT76=\"Female\",\"Female\",IF('Simplified Loader'!BT76=\"M\",\"Male\",IF('Simplified Loader'!BT76=\"F\",\"Female\",\"\"))))","v":""},{"$f":"IF('Simplified Loader'!BU76=\"Yes\",\"Yes\",IF('Simplified Loader'!BU76=\"No\",\"No\",IF('Simplified Loader'!BU76=\"Y\",\"Yes\",IF('Simplified Loader'!BU76=\"N\",\"No\",\"\"))))","v":""},{"$f":"IF('Simplified Loader'!BV76=\"Yes\",\"Yes\",IF('Simplified Loader'!BV76=\"No\",\"No\",IF('Simplified Loader'!BV76=\"Y\",\"Yes\",IF('Simplified Loader'!BV76=\"N\",\"No\",\"\"))))","v":""},{"$f":"IF('Simplified Loader'!BW76>0,'Simplified Loader'!BW76,\"\")","v":""},{"$f":"IF('Simplified Loader'!BX76>0,'Simplified Loader'!BX76,\"\")","v":""},{"$f":"IF('Simplified Loader'!BY76>0,'Simplified Loader'!BY76,\"\")","v":""},{"$f":"IF('Simplified Loader'!BZ76=\"Male\",\"Male\",IF('Simplified Loader'!BZ76=\"Female\",\"Female\",IF('Simplified Loader'!BZ76=\"M\",\"Male\",IF('Simplified Loader'!BZ76=\"F\",\"Female\",\"\"))))","v":""},{"$f":"IF('Simplified Loader'!CA76=\"Yes\",\"Yes\",IF('Simplified Loader'!CA76=\"No\",\"No\",IF('Simplified Loader'!CA76=\"Y\",\"Yes\",IF('Simplified Loader'!CA76=\"N\",\"No\",\"\"))))","v":""},{"$f":"IF('Simplified Loader'!CB76=\"Yes\",\"Yes\",IF('Simplified Loader'!CB76=\"No\",\"No\",IF('Simplified Loader'!CB76=\"Y\",\"Yes\",IF('Simplified Loader'!CB76=\"N\",\"No\",\"\"))))","v":""},{"$f":"IF('Simplified Loader'!CH76>0,'Simplified Loader'!CH76,\"\")","v":"    "}]
[{"$f":"IF('Simplified Loader'!A77>0,'Simplified Loader'!A77,\"\")","v":""},{"$f":"IF('Simplified Loader'!B77>0,'Simplified Loader'!B77,\"\")","v":""},{"$f":"IF('Simplified Loader'!C77>0,'Simplified Loader'!C77,\"\")","v":""},{"$f":"IF('Simplified Loader'!D77>0,'Simplified Loader'!D77,\"\")","v":""},{"$f":"IF('Simplified Loader'!E77>0,TEXT('Simplified Loader'!E77,\"000\"),\"\")","v":""},{"$f":"IF('Simplified Loader'!F77>0,'Simplified Loader'!F77,\"\")","v":""},{"$f":"IF('Simplified Loader'!G77>0,'Simplified Loader'!G77,\"\")","v":""},{"$f":"IF('Simplified Loader'!I77>0,'Simplified Loader'!I77,\"\")","v":""},{"$f":"IF('Simplified Loader'!J77>0,'Simplified Loader'!J77,\"\")","v":""},{"$f":"IF('Simplified Loader'!K77>0,'Simplified Loader'!K77,\"\")","v":""},{"$f":"IF('Simplified Loader'!L77>0,'Simplified Loader'!L77,\"\")","v":""},{"$f":"IF('Simplified Loader'!M77=\"Male\",\"Male\",IF('Simplified Loader'!M77=\"Female\",\"Female\",IF('Simplified Loader'!M77=\"M\",\"Male\",IF('Simplified Loader'!M77=\"F\",\"Female\",\"\"))))","v":""},{"$f":"IF('Simplified Loader'!N77=\"Yes\",\"Yes\",IF('Simplified Loader'!N77=\"No\",\"No\",IF('Simplified Loader'!N77=\"Y\",\"Yes\",IF('Simplified Loader'!N77=\"N\",\"No\",\"\"))))","v":""},{"$f":"IF('Simplified Loader'!O77=\"No\",\"Single\",IF('Simplified Loader'!O77=\"Yes\",\"Family\",IF('Simplified Loader'!O77=\"N\",\"Single\",IF('Simplified Loader'!O77=\"Y\",\"Family\",IF('Simplified Loader'!O77=\"In-force\",\"Family\",IF('Simplified Loader'!O77=\"In force\",\"Family\",IF('Simplified Loader'!O77=\"Applies\",\"Family\",IF('Simplified Loader'!O77=\"Applicable\",\"Family\",\"\"))))))))","v":""},{"$f":"IF('Simplified Loader'!P77=\"English\",\"English\",IF('Simplified Loader'!P77=\"French\",\"French\",IF('Simplified Loader'!P77=\"E\",\"English\",IF('Simplified Loader'!P77=\"F\",\"French\",\"\"))))","v":""},{"$f":"IF('Simplified Loader'!Q77=\"Yes\",\"Yes\",IF('Simplified Loader'!Q77=\"No\",\"No\",IF('Simplified Loader'!Q77=\"Y\",\"Yes\",IF('Simplified Loader'!Q77=\"N\",\"No\",\"\"))))","v":""},{"$f":"IF('Simplified Loader'!R77>0,'Simplified Loader'!R77,\"\")","v":""},{"$f":"IF('Simplified Loader'!S77>0,'Simplified Loader'!S77,\"\")","v":""},{"$f":"IF('Simplified Loader'!T77>0,'Simplified Loader'!T77,\"\")","v":""},{"$f":"IF('Simplified Loader'!U77>0,'Simplified Loader'!U77,\"\")","v":""},{"$f":"IF('Simplified Loader'!V77=\"Waive\",\"Yes\",\"\")","v":""},{"$f":"IF('Simplified Loader'!W77=\"Waive\",\"Yes\",\"\")","v":""},{"$f":"IF('Simplified Loader'!X77>0,'Simplified Loader'!X77,\"\")","v":""},{"$f":"IF('Simplified Loader'!Y77>0,'Simplified Loader'!Y77,\"\")","v":""},{"$f":"IF('Simplified Loader'!Z77>0,'Simplified Loader'!Z77,\"\")","v":""},{"$f":"IF('Simplified Loader'!AA77>0,'Simplified Loader'!AA77,\"\")","v":""},{"$f":"IF('Simplified Loader'!AB77>0,'Simplified Loader'!AB77,\"\")","v":""},{"$f":"IF('Simplified Loader'!AC77>0,'Simplified Loader'!AC77,\"\")","v":" "},{"$f":"IF('Simplified Loader'!AE77>0,'Simplified Loader'!AE77&\" \",\"\")&IF('Simplified Loader'!AD77>0,'Simplified Loader'!AD77,\"\")","v":""},null,{"$f":"IF('Simplified Loader'!AF77>0,'Simplified Loader'!AF77,\"\")","v":""},{"$f":"IF('Simplified Loader'!AG77>0,'Simplified Loader'!AG77,\"\")","v":""},{"$f":"IF('Simplified Loader'!AH77>0,'Simplified Loader'!AH77,\"\")","v":""},{"$f":"IF('Simplified Loader'!AI77>0,'Simplified Loader'!AI77,\"\")","v":""},{"$f":"IF('Simplified Loader'!AJ77>0,'Simplified Loader'!AJ77,\"\")","v":""},{"$f":"IF('Simplified Loader'!AK77>0,'Simplified Loader'!AK77,\"\")","v":""},{"$f":"IF('Simplified Loader'!AL77>0,'Simplified Loader'!AL77,\"\")","v":""},{"$f":"IF('Simplified Loader'!AM77>0,'Simplified Loader'!AM77,\"\")","v":""},{"$f":"IF('Simplified Loader'!AN77=\"Male\",\"Male\",IF('Simplified Loader'!AN77=\"Female\",\"Female\",IF('Simplified Loader'!AN77=\"M\",\"Male\",IF('Simplified Loader'!AN77=\"F\",\"Female\",\"\"))))","v":""},{"$f":"IF('Simplified Loader'!AO77=\"Single\",\"Single\",IF('Simplified Loader'!AO77=\"Family\",\"Family\",IF('Simplified Loader'!AO77=\"S\",\"Single\",IF('Simplified Loader'!AO77=\"F\",\"Family\",\"\"))))","v":""},{"$f":"IF('Simplified Loader'!AP77=\"Single\",\"Single\",IF('Simplified Loader'!AP77=\"Family\",\"Family\",IF('Simplified Loader'!AP77=\"S\",\"Single\",IF('Simplified Loader'!AP77=\"F\",\"Family\",\"\"))))","v":""},{"$f":"IF('Simplified Loader'!AQ77>0,'Simplified Loader'!AQ77,\"\")","v":""},{"$f":"IF('Simplified Loader'!AR77=\"Yes\",\"Yes\",IF('Simplified Loader'!AR77=\"No\",\"No\",IF('Simplified Loader'!AR77=\"Y\",\"Yes\",IF('Simplified Loader'!AR77=\"N\",\"No\",\"\"))))","v":""},{"$f":"IF('Simplified Loader'!AS77>0,'Simplified Loader'!AS77,\"\")","v":""},{"$f":"IF('Simplified Loader'!AT77>0,'Simplified Loader'!AT77,\"\")","v":""},{"$f":"IF('Simplified Loader'!AU77>0,'Simplified Loader'!AU77,\"\")","v":""},{"$f":"IF('Simplified Loader'!AV77=\"Male\",\"Male\",IF('Simplified Loader'!AV77=\"Female\",\"Female\",IF('Simplified Loader'!AV77=\"M\",\"Male\",IF('Simplified Loader'!AV77=\"F\",\"Female\",\"\"))))","v":""},{"$f":"IF('Simplified Loader'!AW77=\"Yes\",\"Yes\",IF('Simplified Loader'!AW77=\"No\",\"No\",IF('Simplified Loader'!AW77=\"Y\",\"Yes\",IF('Simplified Loader'!AW77=\"N\",\"No\",\"\"))))","v":""},{"$f":"IF('Simplified Loader'!AX77=\"Yes\",\"Yes\",IF('Simplified Loader'!AX77=\"No\",\"No\",IF('Simplified Loader'!AX77=\"Y\",\"Yes\",IF('Simplified Loader'!AX77=\"N\",\"No\",\"\"))))","v":""},{"$f":"IF('Simplified Loader'!AY77>0,'Simplified Loader'!AY77,\"\")","v":""},{"$f":"IF('Simplified Loader'!AZ77>0,'Simplified Loader'!AZ77,\"\")","v":""},{"$f":"IF('Simplified Loader'!BA77>0,'Simplified Loader'!BA77,\"\")","v":""},{"$f":"IF('Simplified Loader'!BB77=\"Male\",\"Male\",IF('Simplified Loader'!BB77=\"Female\",\"Female\",IF('Simplified Loader'!BB77=\"M\",\"Male\",IF('Simplified Loader'!BB77=\"F\",\"Female\",\"\"))))","v":""},{"$f":"IF('Simplified Loader'!BC77=\"Yes\",\"Yes\",IF('Simplified Loader'!BC77=\"No\",\"No\",IF('Simplified Loader'!BC77=\"Y\",\"Yes\",IF('Simplified Loader'!BC77=\"N\",\"No\",\"\"))))","v":""},{"$f":"IF('Simplified Loader'!BD77=\"Yes\",\"Yes\",IF('Simplified Loader'!BD77=\"No\",\"No\",IF('Simplified Loader'!BD77=\"Y\",\"Yes\",IF('Simplified Loader'!BD77=\"N\",\"No\",\"\"))))","v":""},{"$f":"IF('Simplified Loader'!BE77>0,'Simplified Loader'!BE77,\"\")","v":""},{"$f":"IF('Simplified Loader'!BF77>0,'Simplified Loader'!BF77,\"\")","v":""},{"$f":"IF('Simplified Loader'!BG77>0,'Simplified Loader'!BG77,\"\")","v":""},{"$f":"IF('Simplified Loader'!BH77=\"Male\",\"Male\",IF('Simplified Loader'!BH77=\"Female\",\"Female\",IF('Simplified Loader'!BH77=\"M\",\"Male\",IF('Simplified Loader'!BH77=\"F\",\"Female\",\"\"))))","v":""},{"$f":"IF('Simplified Loader'!BI77=\"Yes\",\"Yes\",IF('Simplified Loader'!BI77=\"No\",\"No\",IF('Simplified Loader'!BI77=\"Y\",\"Yes\",IF('Simplified Loader'!BI77=\"N\",\"No\",\"\"))))","v":""},{"$f":"IF('Simplified Loader'!BJ77=\"Yes\",\"Yes\",IF('Simplified Loader'!BJ77=\"No\",\"No\",IF('Simplified Loader'!BJ77=\"Y\",\"Yes\",IF('Simplified Loader'!BJ77=\"N\",\"No\",\"\"))))","v":""},{"$f":"IF('Simplified Loader'!BK77>0,'Simplified Loader'!BK77,\"\")","v":""},{"$f":"IF('Simplified Loader'!BL77>0,'Simplified Loader'!BL77,\"\")","v":""},{"$f":"IF('Simplified Loader'!BM77>0,'Simplified Loader'!BM77,\"\")","v":""},{"$f":"IF('Simplified Loader'!BN77=\"Male\",\"Male\",IF('Simplified Loader'!BN77=\"Female\",\"Female\",IF('Simplified Loader'!BN77=\"M\",\"Male\",IF('Simplified Loader'!BN77=\"F\",\"Female\",\"\"))))","v":""},{"$f":"IF('Simplified Loader'!BO77=\"Yes\",\"Yes\",IF('Simplified Loader'!BO77=\"No\",\"No\",IF('Simplified Loader'!BO77=\"Y\",\"Yes\",IF('Simplified Loader'!BO77=\"N\",\"No\",\"\"))))","v":""},{"$f":"IF('Simplified Loader'!BP77=\"Yes\",\"Yes\",IF('Simplified Loader'!BP77=\"No\",\"No\",IF('Simplified Loader'!BP77=\"Y\",\"Yes\",IF('Simplified Loader'!BP77=\"N\",\"No\",\"\"))))","v":""},{"$f":"IF('Simplified Loader'!BQ77>0,'Simplified Loader'!BQ77,\"\")","v":""},{"$f":"IF('Simplified Loader'!BR77>0,'Simplified Loader'!BR77,\"\")","v":""},{"$f":"IF('Simplified Loader'!BS77>0,'Simplified Loader'!BS77,\"\")","v":""},{"$f":"IF('Simplified Loader'!BT77=\"Male\",\"Male\",IF('Simplified Loader'!BT77=\"Female\",\"Female\",IF('Simplified Loader'!BT77=\"M\",\"Male\",IF('Simplified Loader'!BT77=\"F\",\"Female\",\"\"))))","v":""},{"$f":"IF('Simplified Loader'!BU77=\"Yes\",\"Yes\",IF('Simplified Loader'!BU77=\"No\",\"No\",IF('Simplified Loader'!BU77=\"Y\",\"Yes\",IF('Simplified Loader'!BU77=\"N\",\"No\",\"\"))))","v":""},{"$f":"IF('Simplified Loader'!BV77=\"Yes\",\"Yes\",IF('Simplified Loader'!BV77=\"No\",\"No\",IF('Simplified Loader'!BV77=\"Y\",\"Yes\",IF('Simplified Loader'!BV77=\"N\",\"No\",\"\"))))","v":""},{"$f":"IF('Simplified Loader'!BW77>0,'Simplified Loader'!BW77,\"\")","v":""},{"$f":"IF('Simplified Loader'!BX77>0,'Simplified Loader'!BX77,\"\")","v":""},{"$f":"IF('Simplified Loader'!BY77>0,'Simplified Loader'!BY77,\"\")","v":""},{"$f":"IF('Simplified Loader'!BZ77=\"Male\",\"Male\",IF('Simplified Loader'!BZ77=\"Female\",\"Female\",IF('Simplified Loader'!BZ77=\"M\",\"Male\",IF('Simplified Loader'!BZ77=\"F\",\"Female\",\"\"))))","v":""},{"$f":"IF('Simplified Loader'!CA77=\"Yes\",\"Yes\",IF('Simplified Loader'!CA77=\"No\",\"No\",IF('Simplified Loader'!CA77=\"Y\",\"Yes\",IF('Simplified Loader'!CA77=\"N\",\"No\",\"\"))))","v":""},{"$f":"IF('Simplified Loader'!CB77=\"Yes\",\"Yes\",IF('Simplified Loader'!CB77=\"No\",\"No\",IF('Simplified Loader'!CB77=\"Y\",\"Yes\",IF('Simplified Loader'!CB77=\"N\",\"No\",\"\"))))","v":""},{"$f":"IF('Simplified Loader'!CH77>0,'Simplified Loader'!CH77,\"\")","v":"    "}]
[{"$f":"IF('Simplified Loader'!A78>0,'Simplified Loader'!A78,\"\")","v":""},{"$f":"IF('Simplified Loader'!B78>0,'Simplified Loader'!B78,\"\")","v":""},{"$f":"IF('Simplified Loader'!C78>0,'Simplified Loader'!C78,\"\")","v":""},{"$f":"IF('Simplified Loader'!D78>0,'Simplified Loader'!D78,\"\")","v":""},{"$f":"IF('Simplified Loader'!E78>0,TEXT('Simplified Loader'!E78,\"000\"),\"\")","v":""},{"$f":"IF('Simplified Loader'!F78>0,'Simplified Loader'!F78,\"\")","v":""},{"$f":"IF('Simplified Loader'!G78>0,'Simplified Loader'!G78,\"\")","v":""},{"$f":"IF('Simplified Loader'!I78>0,'Simplified Loader'!I78,\"\")","v":""},{"$f":"IF('Simplified Loader'!J78>0,'Simplified Loader'!J78,\"\")","v":""},{"$f":"IF('Simplified Loader'!K78>0,'Simplified Loader'!K78,\"\")","v":""},{"$f":"IF('Simplified Loader'!L78>0,'Simplified Loader'!L78,\"\")","v":""},{"$f":"IF('Simplified Loader'!M78=\"Male\",\"Male\",IF('Simplified Loader'!M78=\"Female\",\"Female\",IF('Simplified Loader'!M78=\"M\",\"Male\",IF('Simplified Loader'!M78=\"F\",\"Female\",\"\"))))","v":""},{"$f":"IF('Simplified Loader'!N78=\"Yes\",\"Yes\",IF('Simplified Loader'!N78=\"No\",\"No\",IF('Simplified Loader'!N78=\"Y\",\"Yes\",IF('Simplified Loader'!N78=\"N\",\"No\",\"\"))))","v":""},{"$f":"IF('Simplified Loader'!O78=\"No\",\"Single\",IF('Simplified Loader'!O78=\"Yes\",\"Family\",IF('Simplified Loader'!O78=\"N\",\"Single\",IF('Simplified Loader'!O78=\"Y\",\"Family\",IF('Simplified Loader'!O78=\"In-force\",\"Family\",IF('Simplified Loader'!O78=\"In force\",\"Family\",IF('Simplified Loader'!O78=\"Applies\",\"Family\",IF('Simplified Loader'!O78=\"Applicable\",\"Family\",\"\"))))))))","v":""},{"$f":"IF('Simplified Loader'!P78=\"English\",\"English\",IF('Simplified Loader'!P78=\"French\",\"French\",IF('Simplified Loader'!P78=\"E\",\"English\",IF('Simplified Loader'!P78=\"F\",\"French\",\"\"))))","v":""},{"$f":"IF('Simplified Loader'!Q78=\"Yes\",\"Yes\",IF('Simplified Loader'!Q78=\"No\",\"No\",IF('Simplified Loader'!Q78=\"Y\",\"Yes\",IF('Simplified Loader'!Q78=\"N\",\"No\",\"\"))))","v":""},{"$f":"IF('Simplified Loader'!R78>0,'Simplified Loader'!R78,\"\")","v":""},{"$f":"IF('Simplified Loader'!S78>0,'Simplified Loader'!S78,\"\")","v":""},{"$f":"IF('Simplified Loader'!T78>0,'Simplified Loader'!T78,\"\")","v":""},{"$f":"IF('Simplified Loader'!U78>0,'Simplified Loader'!U78,\"\")","v":""},{"$f":"IF('Simplified Loader'!V78=\"Waive\",\"Yes\",\"\")","v":""},{"$f":"IF('Simplified Loader'!W78=\"Waive\",\"Yes\",\"\")","v":""},{"$f":"IF('Simplified Loader'!X78>0,'Simplified Loader'!X78,\"\")","v":""},{"$f":"IF('Simplified Loader'!Y78>0,'Simplified Loader'!Y78,\"\")","v":""},{"$f":"IF('Simplified Loader'!Z78>0,'Simplified Loader'!Z78,\"\")","v":""},{"$f":"IF('Simplified Loader'!AA78>0,'Simplified Loader'!AA78,\"\")","v":""},{"$f":"IF('Simplified Loader'!AB78>0,'Simplified Loader'!AB78,\"\")","v":""},{"$f":"IF('Simplified Loader'!AC78>0,'Simplified Loader'!AC78,\"\")","v":" "},{"$f":"IF('Simplified Loader'!AE78>0,'Simplified Loader'!AE78&\" \",\"\")&IF('Simplified Loader'!AD78>0,'Simplified Loader'!AD78,\"\")","v":""},null,{"$f":"IF('Simplified Loader'!AF78>0,'Simplified Loader'!AF78,\"\")","v":""},{"$f":"IF('Simplified Loader'!AG78>0,'Simplified Loader'!AG78,\"\")","v":""},{"$f":"IF('Simplified Loader'!AH78>0,'Simplified Loader'!AH78,\"\")","v":""},{"$f":"IF('Simplified Loader'!AI78>0,'Simplified Loader'!AI78,\"\")","v":""},{"$f":"IF('Simplified Loader'!AJ78>0,'Simplified Loader'!AJ78,\"\")","v":""},{"$f":"IF('Simplified Loader'!AK78>0,'Simplified Loader'!AK78,\"\")","v":""},{"$f":"IF('Simplified Loader'!AL78>0,'Simplified Loader'!AL78,\"\")","v":""},{"$f":"IF('Simplified Loader'!AM78>0,'Simplified Loader'!AM78,\"\")","v":""},{"$f":"IF('Simplified Loader'!AN78=\"Male\",\"Male\",IF('Simplified Loader'!AN78=\"Female\",\"Female\",IF('Simplified Loader'!AN78=\"M\",\"Male\",IF('Simplified Loader'!AN78=\"F\",\"Female\",\"\"))))","v":""},{"$f":"IF('Simplified Loader'!AO78=\"Single\",\"Single\",IF('Simplified Loader'!AO78=\"Family\",\"Family\",IF('Simplified Loader'!AO78=\"S\",\"Single\",IF('Simplified Loader'!AO78=\"F\",\"Family\",\"\"))))","v":""},{"$f":"IF('Simplified Loader'!AP78=\"Single\",\"Single\",IF('Simplified Loader'!AP78=\"Family\",\"Family\",IF('Simplified Loader'!AP78=\"S\",\"Single\",IF('Simplified Loader'!AP78=\"F\",\"Family\",\"\"))))","v":""},{"$f":"IF('Simplified Loader'!AQ78>0,'Simplified Loader'!AQ78,\"\")","v":""},{"$f":"IF('Simplified Loader'!AR78=\"Yes\",\"Yes\",IF('Simplified Loader'!AR78=\"No\",\"No\",IF('Simplified Loader'!AR78=\"Y\",\"Yes\",IF('Simplified Loader'!AR78=\"N\",\"No\",\"\"))))","v":""},{"$f":"IF('Simplified Loader'!AS78>0,'Simplified Loader'!AS78,\"\")","v":""},{"$f":"IF('Simplified Loader'!AT78>0,'Simplified Loader'!AT78,\"\")","v":""},{"$f":"IF('Simplified Loader'!AU78>0,'Simplified Loader'!AU78,\"\")","v":""},{"$f":"IF('Simplified Loader'!AV78=\"Male\",\"Male\",IF('Simplified Loader'!AV78=\"Female\",\"Female\",IF('Simplified Loader'!AV78=\"M\",\"Male\",IF('Simplified Loader'!AV78=\"F\",\"Female\",\"\"))))","v":""},{"$f":"IF('Simplified Loader'!AW78=\"Yes\",\"Yes\",IF('Simplified Loader'!AW78=\"No\",\"No\",IF('Simplified Loader'!AW78=\"Y\",\"Yes\",IF('Simplified Loader'!AW78=\"N\",\"No\",\"\"))))","v":""},{"$f":"IF('Simplified Loader'!AX78=\"Yes\",\"Yes\",IF('Simplified Loader'!AX78=\"No\",\"No\",IF('Simplified Loader'!AX78=\"Y\",\"Yes\",IF('Simplified Loader'!AX78=\"N\",\"No\",\"\"))))","v":""},{"$f":"IF('Simplified Loader'!AY78>0,'Simplified Loader'!AY78,\"\")","v":""},{"$f":"IF('Simplified Loader'!AZ78>0,'Simplified Loader'!AZ78,\"\")","v":""},{"$f":"IF('Simplified Loader'!BA78>0,'Simplified Loader'!BA78,\"\")","v":""},{"$f":"IF('Simplified Loader'!BB78=\"Male\",\"Male\",IF('Simplified Loader'!BB78=\"Female\",\"Female\",IF('Simplified Loader'!BB78=\"M\",\"Male\",IF('Simplified Loader'!BB78=\"F\",\"Female\",\"\"))))","v":""},{"$f":"IF('Simplified Loader'!BC78=\"Yes\",\"Yes\",IF('Simplified Loader'!BC78=\"No\",\"No\",IF('Simplified Loader'!BC78=\"Y\",\"Yes\",IF('Simplified Loader'!BC78=\"N\",\"No\",\"\"))))","v":""},{"$f":"IF('Simplified Loader'!BD78=\"Yes\",\"Yes\",IF('Simplified Loader'!BD78=\"No\",\"No\",IF('Simplified Loader'!BD78=\"Y\",\"Yes\",IF('Simplified Loader'!BD78=\"N\",\"No\",\"\"))))","v":""},{"$f":"IF('Simplified Loader'!BE78>0,'Simplified Loader'!BE78,\"\")","v":""},{"$f":"IF('Simplified Loader'!BF78>0,'Simplified Loader'!BF78,\"\")","v":""},{"$f":"IF('Simplified Loader'!BG78>0,'Simplified Loader'!BG78,\"\")","v":""},{"$f":"IF('Simplified Loader'!BH78=\"Male\",\"Male\",IF('Simplified Loader'!BH78=\"Female\",\"Female\",IF('Simplified Loader'!BH78=\"M\",\"Male\",IF('Simplified Loader'!BH78=\"F\",\"Female\",\"\"))))","v":""},{"$f":"IF('Simplified Loader'!BI78=\"Yes\",\"Yes\",IF('Simplified Loader'!BI78=\"No\",\"No\",IF('Simplified Loader'!BI78=\"Y\",\"Yes\",IF('Simplified Loader'!BI78=\"N\",\"No\",\"\"))))","v":""},{"$f":"IF('Simplified Loader'!BJ78=\"Yes\",\"Yes\",IF('Simplified Loader'!BJ78=\"No\",\"No\",IF('Simplified Loader'!BJ78=\"Y\",\"Yes\",IF('Simplified Loader'!BJ78=\"N\",\"No\",\"\"))))","v":""},{"$f":"IF('Simplified Loader'!BK78>0,'Simplified Loader'!BK78,\"\")","v":""},{"$f":"IF('Simplified Loader'!BL78>0,'Simplified Loader'!BL78,\"\")","v":""},{"$f":"IF('Simplified Loader'!BM78>0,'Simplified Loader'!BM78,\"\")","v":""},{"$f":"IF('Simplified Loader'!BN78=\"Male\",\"Male\",IF('Simplified Loader'!BN78=\"Female\",\"Female\",IF('Simplified Loader'!BN78=\"M\",\"Male\",IF('Simplified Loader'!BN78=\"F\",\"Female\",\"\"))))","v":""},{"$f":"IF('Simplified Loader'!BO78=\"Yes\",\"Yes\",IF('Simplified Loader'!BO78=\"No\",\"No\",IF('Simplified Loader'!BO78=\"Y\",\"Yes\",IF('Simplified Loader'!BO78=\"N\",\"No\",\"\"))))","v":""},{"$f":"IF('Simplified Loader'!BP78=\"Yes\",\"Yes\",IF('Simplified Loader'!BP78=\"No\",\"No\",IF('Simplified Loader'!BP78=\"Y\",\"Yes\",IF('Simplified Loader'!BP78=\"N\",\"No\",\"\"))))","v":""},{"$f":"IF('Simplified Loader'!BQ78>0,'Simplified Loader'!BQ78,\"\")","v":""},{"$f":"IF('Simplified Loader'!BR78>0,'Simplified Loader'!BR78,\"\")","v":""},{"$f":"IF('Simplified Loader'!BS78>0,'Simplified Loader'!BS78,\"\")","v":""},{"$f":"IF('Simplified Loader'!BT78=\"Male\",\"Male\",IF('Simplified Loader'!BT78=\"Female\",\"Female\",IF('Simplified Loader'!BT78=\"M\",\"Male\",IF('Simplified Loader'!BT78=\"F\",\"Female\",\"\"))))","v":""},{"$f":"IF('Simplified Loader'!BU78=\"Yes\",\"Yes\",IF('Simplified Loader'!BU78=\"No\",\"No\",IF('Simplified Loader'!BU78=\"Y\",\"Yes\",IF('Simplified Loader'!BU78=\"N\",\"No\",\"\"))))","v":""},{"$f":"IF('Simplified Loader'!BV78=\"Yes\",\"Yes\",IF('Simplified Loader'!BV78=\"No\",\"No\",IF('Simplified Loader'!BV78=\"Y\",\"Yes\",IF('Simplified Loader'!BV78=\"N\",\"No\",\"\"))))","v":""},{"$f":"IF('Simplified Loader'!BW78>0,'Simplified Loader'!BW78,\"\")","v":""},{"$f":"IF('Simplified Loader'!BX78>0,'Simplified Loader'!BX78,\"\")","v":""},{"$f":"IF('Simplified Loader'!BY78>0,'Simplified Loader'!BY78,\"\")","v":""},{"$f":"IF('Simplified Loader'!BZ78=\"Male\",\"Male\",IF('Simplified Loader'!BZ78=\"Female\",\"Female\",IF('Simplified Loader'!BZ78=\"M\",\"Male\",IF('Simplified Loader'!BZ78=\"F\",\"Female\",\"\"))))","v":""},{"$f":"IF('Simplified Loader'!CA78=\"Yes\",\"Yes\",IF('Simplified Loader'!CA78=\"No\",\"No\",IF('Simplified Loader'!CA78=\"Y\",\"Yes\",IF('Simplified Loader'!CA78=\"N\",\"No\",\"\"))))","v":""},{"$f":"IF('Simplified Loader'!CB78=\"Yes\",\"Yes\",IF('Simplified Loader'!CB78=\"No\",\"No\",IF('Simplified Loader'!CB78=\"Y\",\"Yes\",IF('Simplified Loader'!CB78=\"N\",\"No\",\"\"))))","v":""},{"$f":"IF('Simplified Loader'!CH78>0,'Simplified Loader'!CH78,\"\")","v":"    "}]
[{"$f":"IF('Simplified Loader'!A79>0,'Simplified Loader'!A79,\"\")","v":""},{"$f":"IF('Simplified Loader'!B79>0,'Simplified Loader'!B79,\"\")","v":""},{"$f":"IF('Simplified Loader'!C79>0,'Simplified Loader'!C79,\"\")","v":""},{"$f":"IF('Simplified Loader'!D79>0,'Simplified Loader'!D79,\"\")","v":""},{"$f":"IF('Simplified Loader'!E79>0,TEXT('Simplified Loader'!E79,\"000\"),\"\")","v":""},{"$f":"IF('Simplified Loader'!F79>0,'Simplified Loader'!F79,\"\")","v":""},{"$f":"IF('Simplified Loader'!G79>0,'Simplified Loader'!G79,\"\")","v":""},{"$f":"IF('Simplified Loader'!I79>0,'Simplified Loader'!I79,\"\")","v":""},{"$f":"IF('Simplified Loader'!J79>0,'Simplified Loader'!J79,\"\")","v":""},{"$f":"IF('Simplified Loader'!K79>0,'Simplified Loader'!K79,\"\")","v":""},{"$f":"IF('Simplified Loader'!L79>0,'Simplified Loader'!L79,\"\")","v":""},{"$f":"IF('Simplified Loader'!M79=\"Male\",\"Male\",IF('Simplified Loader'!M79=\"Female\",\"Female\",IF('Simplified Loader'!M79=\"M\",\"Male\",IF('Simplified Loader'!M79=\"F\",\"Female\",\"\"))))","v":""},{"$f":"IF('Simplified Loader'!N79=\"Yes\",\"Yes\",IF('Simplified Loader'!N79=\"No\",\"No\",IF('Simplified Loader'!N79=\"Y\",\"Yes\",IF('Simplified Loader'!N79=\"N\",\"No\",\"\"))))","v":""},{"$f":"IF('Simplified Loader'!O79=\"No\",\"Single\",IF('Simplified Loader'!O79=\"Yes\",\"Family\",IF('Simplified Loader'!O79=\"N\",\"Single\",IF('Simplified Loader'!O79=\"Y\",\"Family\",IF('Simplified Loader'!O79=\"In-force\",\"Family\",IF('Simplified Loader'!O79=\"In force\",\"Family\",IF('Simplified Loader'!O79=\"Applies\",\"Family\",IF('Simplified Loader'!O79=\"Applicable\",\"Family\",\"\"))))))))","v":""},{"$f":"IF('Simplified Loader'!P79=\"English\",\"English\",IF('Simplified Loader'!P79=\"French\",\"French\",IF('Simplified Loader'!P79=\"E\",\"English\",IF('Simplified Loader'!P79=\"F\",\"French\",\"\"))))","v":""},{"$f":"IF('Simplified Loader'!Q79=\"Yes\",\"Yes\",IF('Simplified Loader'!Q79=\"No\",\"No\",IF('Simplified Loader'!Q79=\"Y\",\"Yes\",IF('Simplified Loader'!Q79=\"N\",\"No\",\"\"))))","v":""},{"$f":"IF('Simplified Loader'!R79>0,'Simplified Loader'!R79,\"\")","v":""},{"$f":"IF('Simplified Loader'!S79>0,'Simplified Loader'!S79,\"\")","v":""},{"$f":"IF('Simplified Loader'!T79>0,'Simplified Loader'!T79,\"\")","v":""},{"$f":"IF('Simplified Loader'!U79>0,'Simplified Loader'!U79,\"\")","v":""},{"$f":"IF('Simplified Loader'!V79=\"Waive\",\"Yes\",\"\")","v":""},{"$f":"IF('Simplified Loader'!W79=\"Waive\",\"Yes\",\"\")","v":""},{"$f":"IF('Simplified Loader'!X79>0,'Simplified Loader'!X79,\"\")","v":""},{"$f":"IF('Simplified Loader'!Y79>0,'Simplified Loader'!Y79,\"\")","v":""},{"$f":"IF('Simplified Loader'!Z79>0,'Simplified Loader'!Z79,\"\")","v":""},{"$f":"IF('Simplified Loader'!AA79>0,'Simplified Loader'!AA79,\"\")","v":""},{"$f":"IF('Simplified Loader'!AB79>0,'Simplified Loader'!AB79,\"\")","v":""},{"$f":"IF('Simplified Loader'!AC79>0,'Simplified Loader'!AC79,\"\")","v":" "},{"$f":"IF('Simplified Loader'!AE79>0,'Simplified Loader'!AE79&\" \",\"\")&IF('Simplified Loader'!AD79>0,'Simplified Loader'!AD79,\"\")","v":""},null,{"$f":"IF('Simplified Loader'!AF79>0,'Simplified Loader'!AF79,\"\")","v":""},{"$f":"IF('Simplified Loader'!AG79>0,'Simplified Loader'!AG79,\"\")","v":""},{"$f":"IF('Simplified Loader'!AH79>0,'Simplified Loader'!AH79,\"\")","v":""},{"$f":"IF('Simplified Loader'!AI79>0,'Simplified Loader'!AI79,\"\")","v":""},{"$f":"IF('Simplified Loader'!AJ79>0,'Simplified Loader'!AJ79,\"\")","v":""},{"$f":"IF('Simplified Loader'!AK79>0,'Simplified Loader'!AK79,\"\")","v":""},{"$f":"IF('Simplified Loader'!AL79>0,'Simplified Loader'!AL79,\"\")","v":""},{"$f":"IF('Simplified Loader'!AM79>0,'Simplified Loader'!AM79,\"\")","v":""},{"$f":"IF('Simplified Loader'!AN79=\"Male\",\"Male\",IF('Simplified Loader'!AN79=\"Female\",\"Female\",IF('Simplified Loader'!AN79=\"M\",\"Male\",IF('Simplified Loader'!AN79=\"F\",\"Female\",\"\"))))","v":""},{"$f":"IF('Simplified Loader'!AO79=\"Single\",\"Single\",IF('Simplified Loader'!AO79=\"Family\",\"Family\",IF('Simplified Loader'!AO79=\"S\",\"Single\",IF('Simplified Loader'!AO79=\"F\",\"Family\",\"\"))))","v":""},{"$f":"IF('Simplified Loader'!AP79=\"Single\",\"Single\",IF('Simplified Loader'!AP79=\"Family\",\"Family\",IF('Simplified Loader'!AP79=\"S\",\"Single\",IF('Simplified Loader'!AP79=\"F\",\"Family\",\"\"))))","v":""},{"$f":"IF('Simplified Loader'!AQ79>0,'Simplified Loader'!AQ79,\"\")","v":""},{"$f":"IF('Simplified Loader'!AR79=\"Yes\",\"Yes\",IF('Simplified Loader'!AR79=\"No\",\"No\",IF('Simplified Loader'!AR79=\"Y\",\"Yes\",IF('Simplified Loader'!AR79=\"N\",\"No\",\"\"))))","v":""},{"$f":"IF('Simplified Loader'!AS79>0,'Simplified Loader'!AS79,\"\")","v":""},{"$f":"IF('Simplified Loader'!AT79>0,'Simplified Loader'!AT79,\"\")","v":""},{"$f":"IF('Simplified Loader'!AU79>0,'Simplified Loader'!AU79,\"\")","v":""},{"$f":"IF('Simplified Loader'!AV79=\"Male\",\"Male\",IF('Simplified Loader'!AV79=\"Female\",\"Female\",IF('Simplified Loader'!AV79=\"M\",\"Male\",IF('Simplified Loader'!AV79=\"F\",\"Female\",\"\"))))","v":""},{"$f":"IF('Simplified Loader'!AW79=\"Yes\",\"Yes\",IF('Simplified Loader'!AW79=\"No\",\"No\",IF('Simplified Loader'!AW79=\"Y\",\"Yes\",IF('Simplified Loader'!AW79=\"N\",\"No\",\"\"))))","v":""},{"$f":"IF('Simplified Loader'!AX79=\"Yes\",\"Yes\",IF('Simplified Loader'!AX79=\"No\",\"No\",IF('Simplified Loader'!AX79=\"Y\",\"Yes\",IF('Simplified Loader'!AX79=\"N\",\"No\",\"\"))))","v":""},{"$f":"IF('Simplified Loader'!AY79>0,'Simplified Loader'!AY79,\"\")","v":""},{"$f":"IF('Simplified Loader'!AZ79>0,'Simplified Loader'!AZ79,\"\")","v":""},{"$f":"IF('Simplified Loader'!BA79>0,'Simplified Loader'!BA79,\"\")","v":""},{"$f":"IF('Simplified Loader'!BB79=\"Male\",\"Male\",IF('Simplified Loader'!BB79=\"Female\",\"Female\",IF('Simplified Loader'!BB79=\"M\",\"Male\",IF('Simplified Loader'!BB79=\"F\",\"Female\",\"\"))))","v":""},{"$f":"IF('Simplified Loader'!BC79=\"Yes\",\"Yes\",IF('Simplified Loader'!BC79=\"No\",\"No\",IF('Simplified Loader'!BC79=\"Y\",\"Yes\",IF('Simplified Loader'!BC79=\"N\",\"No\",\"\"))))","v":""},{"$f":"IF('Simplified Loader'!BD79=\"Yes\",\"Yes\",IF('Simplified Loader'!BD79=\"No\",\"No\",IF('Simplified Loader'!BD79=\"Y\",\"Yes\",IF('Simplified Loader'!BD79=\"N\",\"No\",\"\"))))","v":""},{"$f":"IF('Simplified Loader'!BE79>0,'Simplified Loader'!BE79,\"\")","v":""},{"$f":"IF('Simplified Loader'!BF79>0,'Simplified Loader'!BF79,\"\")","v":""},{"$f":"IF('Simplified Loader'!BG79>0,'Simplified Loader'!BG79,\"\")","v":""},{"$f":"IF('Simplified Loader'!BH79=\"Male\",\"Male\",IF('Simplified Loader'!BH79=\"Female\",\"Female\",IF('Simplified Loader'!BH79=\"M\",\"Male\",IF('Simplified Loader'!BH79=\"F\",\"Female\",\"\"))))","v":""},{"$f":"IF('Simplified Loader'!BI79=\"Yes\",\"Yes\",IF('Simplified Loader'!BI79=\"No\",\"No\",IF('Simplified Loader'!BI79=\"Y\",\"Yes\",IF('Simplified Loader'!BI79=\"N\",\"No\",\"\"))))","v":""},{"$f":"IF('Simplified Loader'!BJ79=\"Yes\",\"Yes\",IF('Simplified Loader'!BJ79=\"No\",\"No\",IF('Simplified Loader'!BJ79=\"Y\",\"Yes\",IF('Simplified Loader'!BJ79=\"N\",\"No\",\"\"))))","v":""},{"$f":"IF('Simplified Loader'!BK79>0,'Simplified Loader'!BK79,\"\")","v":""},{"$f":"IF('Simplified Loader'!BL79>0,'Simplified Loader'!BL79,\"\")","v":""},{"$f":"IF('Simplified Loader'!BM79>0,'Simplified Loader'!BM79,\"\")","v":""},{"$f":"IF('Simplified Loader'!BN79=\"Male\",\"Male\",IF('Simplified Loader'!BN79=\"Female\",\"Female\",IF('Simplified Loader'!BN79=\"M\",\"Male\",IF('Simplified Loader'!BN79=\"F\",\"Female\",\"\"))))","v":""},{"$f":"IF('Simplified Loader'!BO79=\"Yes\",\"Yes\",IF('Simplified Loader'!BO79=\"No\",\"No\",IF('Simplified Loader'!BO79=\"Y\",\"Yes\",IF('Simplified Loader'!BO79=\"N\",\"No\",\"\"))))","v":""},{"$f":"IF('Simplified Loader'!BP79=\"Yes\",\"Yes\",IF('Simplified Loader'!BP79=\"No\",\"No\",IF('Simplified Loader'!BP79=\"Y\",\"Yes\",IF('Simplified Loader'!BP79=\"N\",\"No\",\"\"))))","v":""},{"$f":"IF('Simplified Loader'!BQ79>0,'Simplified Loader'!BQ79,\"\")","v":""},{"$f":"IF('Simplified Loader'!BR79>0,'Simplified Loader'!BR79,\"\")","v":""},{"$f":"IF('Simplified Loader'!BS79>0,'Simplified Loader'!BS79,\"\")","v":""},{"$f":"IF('Simplified Loader'!BT79=\"Male\",\"Male\",IF('Simplified Loader'!BT79=\"Female\",\"Female\",IF('Simplified Loader'!BT79=\"M\",\"Male\",IF('Simplified Loader'!BT79=\"F\",\"Female\",\"\"))))","v":""},{"$f":"IF('Simplified Loader'!BU79=\"Yes\",\"Yes\",IF('Simplified Loader'!BU79=\"No\",\"No\",IF('Simplified Loader'!BU79=\"Y\",\"Yes\",IF('Simplified Loader'!BU79=\"N\",\"No\",\"\"))))","v":""},{"$f":"IF('Simplified Loader'!BV79=\"Yes\",\"Yes\",IF('Simplified Loader'!BV79=\"No\",\"No\",IF('Simplified Loader'!BV79=\"Y\",\"Yes\",IF('Simplified Loader'!BV79=\"N\",\"No\",\"\"))))","v":""},{"$f":"IF('Simplified Loader'!BW79>0,'Simplified Loader'!BW79,\"\")","v":""},{"$f":"IF('Simplified Loader'!BX79>0,'Simplified Loader'!BX79,\"\")","v":""},{"$f":"IF('Simplified Loader'!BY79>0,'Simplified Loader'!BY79,\"\")","v":""},{"$f":"IF('Simplified Loader'!BZ79=\"Male\",\"Male\",IF('Simplified Loader'!BZ79=\"Female\",\"Female\",IF('Simplified Loader'!BZ79=\"M\",\"Male\",IF('Simplified Loader'!BZ79=\"F\",\"Female\",\"\"))))","v":""},{"$f":"IF('Simplified Loader'!CA79=\"Yes\",\"Yes\",IF('Simplified Loader'!CA79=\"No\",\"No\",IF('Simplified Loader'!CA79=\"Y\",\"Yes\",IF('Simplified Loader'!CA79=\"N\",\"No\",\"\"))))","v":""},{"$f":"IF('Simplified Loader'!CB79=\"Yes\",\"Yes\",IF('Simplified Loader'!CB79=\"No\",\"No\",IF('Simplified Loader'!CB79=\"Y\",\"Yes\",IF('Simplified Loader'!CB79=\"N\",\"No\",\"\"))))","v":""},{"$f":"IF('Simplified Loader'!CH79>0,'Simplified Loader'!CH79,\"\")","v":"    "}]
[{"$f":"IF('Simplified Loader'!A80>0,'Simplified Loader'!A80,\"\")","v":""},{"$f":"IF('Simplified Loader'!B80>0,'Simplified Loader'!B80,\"\")","v":""},{"$f":"IF('Simplified Loader'!C80>0,'Simplified Loader'!C80,\"\")","v":""},{"$f":"IF('Simplified Loader'!D80>0,'Simplified Loader'!D80,\"\")","v":""},{"$f":"IF('Simplified Loader'!E80>0,TEXT('Simplified Loader'!E80,\"000\"),\"\")","v":""},{"$f":"IF('Simplified Loader'!F80>0,'Simplified Loader'!F80,\"\")","v":""},{"$f":"IF('Simplified Loader'!G80>0,'Simplified Loader'!G80,\"\")","v":""},{"$f":"IF('Simplified Loader'!I80>0,'Simplified Loader'!I80,\"\")","v":""},{"$f":"IF('Simplified Loader'!J80>0,'Simplified Loader'!J80,\"\")","v":""},{"$f":"IF('Simplified Loader'!K80>0,'Simplified Loader'!K80,\"\")","v":""},{"$f":"IF('Simplified Loader'!L80>0,'Simplified Loader'!L80,\"\")","v":""},{"$f":"IF('Simplified Loader'!M80=\"Male\",\"Male\",IF('Simplified Loader'!M80=\"Female\",\"Female\",IF('Simplified Loader'!M80=\"M\",\"Male\",IF('Simplified Loader'!M80=\"F\",\"Female\",\"\"))))","v":""},{"$f":"IF('Simplified Loader'!N80=\"Yes\",\"Yes\",IF('Simplified Loader'!N80=\"No\",\"No\",IF('Simplified Loader'!N80=\"Y\",\"Yes\",IF('Simplified Loader'!N80=\"N\",\"No\",\"\"))))","v":""},{"$f":"IF('Simplified Loader'!O80=\"No\",\"Single\",IF('Simplified Loader'!O80=\"Yes\",\"Family\",IF('Simplified Loader'!O80=\"N\",\"Single\",IF('Simplified Loader'!O80=\"Y\",\"Family\",IF('Simplified Loader'!O80=\"In-force\",\"Family\",IF('Simplified Loader'!O80=\"In force\",\"Family\",IF('Simplified Loader'!O80=\"Applies\",\"Family\",IF('Simplified Loader'!O80=\"Applicable\",\"Family\",\"\"))))))))","v":""},{"$f":"IF('Simplified Loader'!P80=\"English\",\"English\",IF('Simplified Loader'!P80=\"French\",\"French\",IF('Simplified Loader'!P80=\"E\",\"English\",IF('Simplified Loader'!P80=\"F\",\"French\",\"\"))))","v":""},{"$f":"IF('Simplified Loader'!Q80=\"Yes\",\"Yes\",IF('Simplified Loader'!Q80=\"No\",\"No\",IF('Simplified Loader'!Q80=\"Y\",\"Yes\",IF('Simplified Loader'!Q80=\"N\",\"No\",\"\"))))","v":""},{"$f":"IF('Simplified Loader'!R80>0,'Simplified Loader'!R80,\"\")","v":""},{"$f":"IF('Simplified Loader'!S80>0,'Simplified Loader'!S80,\"\")","v":""},{"$f":"IF('Simplified Loader'!T80>0,'Simplified Loader'!T80,\"\")","v":""},{"$f":"IF('Simplified Loader'!U80>0,'Simplified Loader'!U80,\"\")","v":""},{"$f":"IF('Simplified Loader'!V80=\"Waive\",\"Yes\",\"\")","v":""},{"$f":"IF('Simplified Loader'!W80=\"Waive\",\"Yes\",\"\")","v":""},{"$f":"IF('Simplified Loader'!X80>0,'Simplified Loader'!X80,\"\")","v":""},{"$f":"IF('Simplified Loader'!Y80>0,'Simplified Loader'!Y80,\"\")","v":""},{"$f":"IF('Simplified Loader'!Z80>0,'Simplified Loader'!Z80,\"\")","v":""},{"$f":"IF('Simplified Loader'!AA80>0,'Simplified Loader'!AA80,\"\")","v":""},{"$f":"IF('Simplified Loader'!AB80>0,'Simplified Loader'!AB80,\"\")","v":""},{"$f":"IF('Simplified Loader'!AC80>0,'Simplified Loader'!AC80,\"\")","v":" "},{"$f":"IF('Simplified Loader'!AE80>0,'Simplified Loader'!AE80&\" \",\"\")&IF('Simplified Loader'!AD80>0,'Simplified Loader'!AD80,\"\")","v":""},null,{"$f":"IF('Simplified Loader'!AF80>0,'Simplified Loader'!AF80,\"\")","v":""},{"$f":"IF('Simplified Loader'!AG80>0,'Simplified Loader'!AG80,\"\")","v":""},{"$f":"IF('Simplified Loader'!AH80>0,'Simplified Loader'!AH80,\"\")","v":""},{"$f":"IF('Simplified Loader'!AI80>0,'Simplified Loader'!AI80,\"\")","v":""},{"$f":"IF('Simplified Loader'!AJ80>0,'Simplified Loader'!AJ80,\"\")","v":""},{"$f":"IF('Simplified Loader'!AK80>0,'Simplified Loader'!AK80,\"\")","v":""},{"$f":"IF('Simplified Loader'!AL80>0,'Simplified Loader'!AL80,\"\")","v":""},{"$f":"IF('Simplified Loader'!AM80>0,'Simplified Loader'!AM80,\"\")","v":""},{"$f":"IF('Simplified Loader'!AN80=\"Male\",\"Male\",IF('Simplified Loader'!AN80=\"Female\",\"Female\",IF('Simplified Loader'!AN80=\"M\",\"Male\",IF('Simplified Loader'!AN80=\"F\",\"Female\",\"\"))))","v":""},{"$f":"IF('Simplified Loader'!AO80=\"Single\",\"Single\",IF('Simplified Loader'!AO80=\"Family\",\"Family\",IF('Simplified Loader'!AO80=\"S\",\"Single\",IF('Simplified Loader'!AO80=\"F\",\"Family\",\"\"))))","v":""},{"$f":"IF('Simplified Loader'!AP80=\"Single\",\"Single\",IF('Simplified Loader'!AP80=\"Family\",\"Family\",IF('Simplified Loader'!AP80=\"S\",\"Single\",IF('Simplified Loader'!AP80=\"F\",\"Family\",\"\"))))","v":""},{"$f":"IF('Simplified Loader'!AQ80>0,'Simplified Loader'!AQ80,\"\")","v":""},{"$f":"IF('Simplified Loader'!AR80=\"Yes\",\"Yes\",IF('Simplified Loader'!AR80=\"No\",\"No\",IF('Simplified Loader'!AR80=\"Y\",\"Yes\",IF('Simplified Loader'!AR80=\"N\",\"No\",\"\"))))","v":""},{"$f":"IF('Simplified Loader'!AS80>0,'Simplified Loader'!AS80,\"\")","v":""},{"$f":"IF('Simplified Loader'!AT80>0,'Simplified Loader'!AT80,\"\")","v":""},{"$f":"IF('Simplified Loader'!AU80>0,'Simplified Loader'!AU80,\"\")","v":""},{"$f":"IF('Simplified Loader'!AV80=\"Male\",\"Male\",IF('Simplified Loader'!AV80=\"Female\",\"Female\",IF('Simplified Loader'!AV80=\"M\",\"Male\",IF('Simplified Loader'!AV80=\"F\",\"Female\",\"\"))))","v":""},{"$f":"IF('Simplified Loader'!AW80=\"Yes\",\"Yes\",IF('Simplified Loader'!AW80=\"No\",\"No\",IF('Simplified Loader'!AW80=\"Y\",\"Yes\",IF('Simplified Loader'!AW80=\"N\",\"No\",\"\"))))","v":""},{"$f":"IF('Simplified Loader'!AX80=\"Yes\",\"Yes\",IF('Simplified Loader'!AX80=\"No\",\"No\",IF('Simplified Loader'!AX80=\"Y\",\"Yes\",IF('Simplified Loader'!AX80=\"N\",\"No\",\"\"))))","v":""},{"$f":"IF('Simplified Loader'!AY80>0,'Simplified Loader'!AY80,\"\")","v":""},{"$f":"IF('Simplified Loader'!AZ80>0,'Simplified Loader'!AZ80,\"\")","v":""},{"$f":"IF('Simplified Loader'!BA80>0,'Simplified Loader'!BA80,\"\")","v":""},{"$f":"IF('Simplified Loader'!BB80=\"Male\",\"Male\",IF('Simplified Loader'!BB80=\"Female\",\"Female\",IF('Simplified Loader'!BB80=\"M\",\"Male\",IF('Simplified Loader'!BB80=\"F\",\"Female\",\"\"))))","v":""},{"$f":"IF('Simplified Loader'!BC80=\"Yes\",\"Yes\",IF('Simplified Loader'!BC80=\"No\",\"No\",IF('Simplified Loader'!BC80=\"Y\",\"Yes\",IF('Simplified Loader'!BC80=\"N\",\"No\",\"\"))))","v":""},{"$f":"IF('Simplified Loader'!BD80=\"Yes\",\"Yes\",IF('Simplified Loader'!BD80=\"No\",\"No\",IF('Simplified Loader'!BD80=\"Y\",\"Yes\",IF('Simplified Loader'!BD80=\"N\",\"No\",\"\"))))","v":""},{"$f":"IF('Simplified Loader'!BE80>0,'Simplified Loader'!BE80,\"\")","v":""},{"$f":"IF('Simplified Loader'!BF80>0,'Simplified Loader'!BF80,\"\")","v":""},{"$f":"IF('Simplified Loader'!BG80>0,'Simplified Loader'!BG80,\"\")","v":""},{"$f":"IF('Simplified Loader'!BH80=\"Male\",\"Male\",IF('Simplified Loader'!BH80=\"Female\",\"Female\",IF('Simplified Loader'!BH80=\"M\",\"Male\",IF('Simplified Loader'!BH80=\"F\",\"Female\",\"\"))))","v":""},{"$f":"IF('Simplified Loader'!BI80=\"Yes\",\"Yes\",IF('Simplified Loader'!BI80=\"No\",\"No\",IF('Simplified Loader'!BI80=\"Y\",\"Yes\",IF('Simplified Loader'!BI80=\"N\",\"No\",\"\"))))","v":""},{"$f":"IF('Simplified Loader'!BJ80=\"Yes\",\"Yes\",IF('Simplified Loader'!BJ80=\"No\",\"No\",IF('Simplified Loader'!BJ80=\"Y\",\"Yes\",IF('Simplified Loader'!BJ80=\"N\",\"No\",\"\"))))","v":""},{"$f":"IF('Simplified Loader'!BK80>0,'Simplified Loader'!BK80,\"\")","v":""},{"$f":"IF('Simplified Loader'!BL80>0,'Simplified Loader'!BL80,\"\")","v":""},{"$f":"IF('Simplified Loader'!BM80>0,'Simplified Loader'!BM80,\"\")","v":""},{"$f":"IF('Simplified Loader'!BN80=\"Male\",\"Male\",IF('Simplified Loader'!BN80=\"Female\",\"Female\",IF('Simplified Loader'!BN80=\"M\",\"Male\",IF('Simplified Loader'!BN80=\"F\",\"Female\",\"\"))))","v":""},{"$f":"IF('Simplified Loader'!BO80=\"Yes\",\"Yes\",IF('Simplified Loader'!BO80=\"No\",\"No\",IF('Simplified Loader'!BO80=\"Y\",\"Yes\",IF('Simplified Loader'!BO80=\"N\",\"No\",\"\"))))","v":""},{"$f":"IF('Simplified Loader'!BP80=\"Yes\",\"Yes\",IF('Simplified Loader'!BP80=\"No\",\"No\",IF('Simplified Loader'!BP80=\"Y\",\"Yes\",IF('Simplified Loader'!BP80=\"N\",\"No\",\"\"))))","v":""},{"$f":"IF('Simplified Loader'!BQ80>0,'Simplified Loader'!BQ80,\"\")","v":""},{"$f":"IF('Simplified Loader'!BR80>0,'Simplified Loader'!BR80,\"\")","v":""},{"$f":"IF('Simplified Loader'!BS80>0,'Simplified Loader'!BS80,\"\")","v":""},{"$f":"IF('Simplified Loader'!BT80=\"Male\",\"Male\",IF('Simplified Loader'!BT80=\"Female\",\"Female\",IF('Simplified Loader'!BT80=\"M\",\"Male\",IF('Simplified Loader'!BT80=\"F\",\"Female\",\"\"))))","v":""},{"$f":"IF('Simplified Loader'!BU80=\"Yes\",\"Yes\",IF('Simplified Loader'!BU80=\"No\",\"No\",IF('Simplified Loader'!BU80=\"Y\",\"Yes\",IF('Simplified Loader'!BU80=\"N\",\"No\",\"\"))))","v":""},{"$f":"IF('Simplified Loader'!BV80=\"Yes\",\"Yes\",IF('Simplified Loader'!BV80=\"No\",\"No\",IF('Simplified Loader'!BV80=\"Y\",\"Yes\",IF('Simplified Loader'!BV80=\"N\",\"No\",\"\"))))","v":""},{"$f":"IF('Simplified Loader'!BW80>0,'Simplified Loader'!BW80,\"\")","v":""},{"$f":"IF('Simplified Loader'!BX80>0,'Simplified Loader'!BX80,\"\")","v":""},{"$f":"IF('Simplified Loader'!BY80>0,'Simplified Loader'!BY80,\"\")","v":""},{"$f":"IF('Simplified Loader'!BZ80=\"Male\",\"Male\",IF('Simplified Loader'!BZ80=\"Female\",\"Female\",IF('Simplified Loader'!BZ80=\"M\",\"Male\",IF('Simplified Loader'!BZ80=\"F\",\"Female\",\"\"))))","v":""},{"$f":"IF('Simplified Loader'!CA80=\"Yes\",\"Yes\",IF('Simplified Loader'!CA80=\"No\",\"No\",IF('Simplified Loader'!CA80=\"Y\",\"Yes\",IF('Simplified Loader'!CA80=\"N\",\"No\",\"\"))))","v":""},{"$f":"IF('Simplified Loader'!CB80=\"Yes\",\"Yes\",IF('Simplified Loader'!CB80=\"No\",\"No\",IF('Simplified Loader'!CB80=\"Y\",\"Yes\",IF('Simplified Loader'!CB80=\"N\",\"No\",\"\"))))","v":""},{"$f":"IF('Simplified Loader'!CH80>0,'Simplified Loader'!CH80,\"\")","v":"    "}]
[{"$f":"IF('Simplified Loader'!A81>0,'Simplified Loader'!A81,\"\")","v":""},{"$f":"IF('Simplified Loader'!B81>0,'Simplified Loader'!B81,\"\")","v":""},{"$f":"IF('Simplified Loader'!C81>0,'Simplified Loader'!C81,\"\")","v":""},{"$f":"IF('Simplified Loader'!D81>0,'Simplified Loader'!D81,\"\")","v":""},{"$f":"IF('Simplified Loader'!E81>0,TEXT('Simplified Loader'!E81,\"000\"),\"\")","v":""},{"$f":"IF('Simplified Loader'!F81>0,'Simplified Loader'!F81,\"\")","v":""},{"$f":"IF('Simplified Loader'!G81>0,'Simplified Loader'!G81,\"\")","v":""},{"$f":"IF('Simplified Loader'!I81>0,'Simplified Loader'!I81,\"\")","v":""},{"$f":"IF('Simplified Loader'!J81>0,'Simplified Loader'!J81,\"\")","v":""},{"$f":"IF('Simplified Loader'!K81>0,'Simplified Loader'!K81,\"\")","v":""},{"$f":"IF('Simplified Loader'!L81>0,'Simplified Loader'!L81,\"\")","v":""},{"$f":"IF('Simplified Loader'!M81=\"Male\",\"Male\",IF('Simplified Loader'!M81=\"Female\",\"Female\",IF('Simplified Loader'!M81=\"M\",\"Male\",IF('Simplified Loader'!M81=\"F\",\"Female\",\"\"))))","v":""},{"$f":"IF('Simplified Loader'!N81=\"Yes\",\"Yes\",IF('Simplified Loader'!N81=\"No\",\"No\",IF('Simplified Loader'!N81=\"Y\",\"Yes\",IF('Simplified Loader'!N81=\"N\",\"No\",\"\"))))","v":""},{"$f":"IF('Simplified Loader'!O81=\"No\",\"Single\",IF('Simplified Loader'!O81=\"Yes\",\"Family\",IF('Simplified Loader'!O81=\"N\",\"Single\",IF('Simplified Loader'!O81=\"Y\",\"Family\",IF('Simplified Loader'!O81=\"In-force\",\"Family\",IF('Simplified Loader'!O81=\"In force\",\"Family\",IF('Simplified Loader'!O81=\"Applies\",\"Family\",IF('Simplified Loader'!O81=\"Applicable\",\"Family\",\"\"))))))))","v":""},{"$f":"IF('Simplified Loader'!P81=\"English\",\"English\",IF('Simplified Loader'!P81=\"French\",\"French\",IF('Simplified Loader'!P81=\"E\",\"English\",IF('Simplified Loader'!P81=\"F\",\"French\",\"\"))))","v":""},{"$f":"IF('Simplified Loader'!Q81=\"Yes\",\"Yes\",IF('Simplified Loader'!Q81=\"No\",\"No\",IF('Simplified Loader'!Q81=\"Y\",\"Yes\",IF('Simplified Loader'!Q81=\"N\",\"No\",\"\"))))","v":""},{"$f":"IF('Simplified Loader'!R81>0,'Simplified Loader'!R81,\"\")","v":""},{"$f":"IF('Simplified Loader'!S81>0,'Simplified Loader'!S81,\"\")","v":""},{"$f":"IF('Simplified Loader'!T81>0,'Simplified Loader'!T81,\"\")","v":""},{"$f":"IF('Simplified Loader'!U81>0,'Simplified Loader'!U81,\"\")","v":""},{"$f":"IF('Simplified Loader'!V81=\"Waive\",\"Yes\",\"\")","v":""},{"$f":"IF('Simplified Loader'!W81=\"Waive\",\"Yes\",\"\")","v":""},{"$f":"IF('Simplified Loader'!X81>0,'Simplified Loader'!X81,\"\")","v":""},{"$f":"IF('Simplified Loader'!Y81>0,'Simplified Loader'!Y81,\"\")","v":""},{"$f":"IF('Simplified Loader'!Z81>0,'Simplified Loader'!Z81,\"\")","v":""},{"$f":"IF('Simplified Loader'!AA81>0,'Simplified Loader'!AA81,\"\")","v":""},{"$f":"IF('Simplified Loader'!AB81>0,'Simplified Loader'!AB81,\"\")","v":""},{"$f":"IF('Simplified Loader'!AC81>0,'Simplified Loader'!AC81,\"\")","v":" "},{"$f":"IF('Simplified Loader'!AE81>0,'Simplified Loader'!AE81&\" \",\"\")&IF('Simplified Loader'!AD81>0,'Simplified Loader'!AD81,\"\")","v":""},null,{"$f":"IF('Simplified Loader'!AF81>0,'Simplified Loader'!AF81,\"\")","v":""},{"$f":"IF('Simplified Loader'!AG81>0,'Simplified Loader'!AG81,\"\")","v":""},{"$f":"IF('Simplified Loader'!AH81>0,'Simplified Loader'!AH81,\"\")","v":""},{"$f":"IF('Simplified Loader'!AI81>0,'Simplified Loader'!AI81,\"\")","v":""},{"$f":"IF('Simplified Loader'!AJ81>0,'Simplified Loader'!AJ81,\"\")","v":""},{"$f":"IF('Simplified Loader'!AK81>0,'Simplified Loader'!AK81,\"\")","v":""},{"$f":"IF('Simplified Loader'!AL81>0,'Simplified Loader'!AL81,\"\")","v":""},{"$f":"IF('Simplified Loader'!AM81>0,'Simplified Loader'!AM81,\"\")","v":""},{"$f":"IF('Simplified Loader'!AN81=\"Male\",\"Male\",IF('Simplified Loader'!AN81=\"Female\",\"Female\",IF('Simplified Loader'!AN81=\"M\",\"Male\",IF('Simplified Loader'!AN81=\"F\",\"Female\",\"\"))))","v":""},{"$f":"IF('Simplified Loader'!AO81=\"Single\",\"Single\",IF('Simplified Loader'!AO81=\"Family\",\"Family\",IF('Simplified Loader'!AO81=\"S\",\"Single\",IF('Simplified Loader'!AO81=\"F\",\"Family\",\"\"))))","v":""},{"$f":"IF('Simplified Loader'!AP81=\"Single\",\"Single\",IF('Simplified Loader'!AP81=\"Family\",\"Family\",IF('Simplified Loader'!AP81=\"S\",\"Single\",IF('Simplified Loader'!AP81=\"F\",\"Family\",\"\"))))","v":""},{"$f":"IF('Simplified Loader'!AQ81>0,'Simplified Loader'!AQ81,\"\")","v":""},{"$f":"IF('Simplified Loader'!AR81=\"Yes\",\"Yes\",IF('Simplified Loader'!AR81=\"No\",\"No\",IF('Simplified Loader'!AR81=\"Y\",\"Yes\",IF('Simplified Loader'!AR81=\"N\",\"No\",\"\"))))","v":""},{"$f":"IF('Simplified Loader'!AS81>0,'Simplified Loader'!AS81,\"\")","v":""},{"$f":"IF('Simplified Loader'!AT81>0,'Simplified Loader'!AT81,\"\")","v":""},{"$f":"IF('Simplified Loader'!AU81>0,'Simplified Loader'!AU81,\"\")","v":""},{"$f":"IF('Simplified Loader'!AV81=\"Male\",\"Male\",IF('Simplified Loader'!AV81=\"Female\",\"Female\",IF('Simplified Loader'!AV81=\"M\",\"Male\",IF('Simplified Loader'!AV81=\"F\",\"Female\",\"\"))))","v":""},{"$f":"IF('Simplified Loader'!AW81=\"Yes\",\"Yes\",IF('Simplified Loader'!AW81=\"No\",\"No\",IF('Simplified Loader'!AW81=\"Y\",\"Yes\",IF('Simplified Loader'!AW81=\"N\",\"No\",\"\"))))","v":""},{"$f":"IF('Simplified Loader'!AX81=\"Yes\",\"Yes\",IF('Simplified Loader'!AX81=\"No\",\"No\",IF('Simplified Loader'!AX81=\"Y\",\"Yes\",IF('Simplified Loader'!AX81=\"N\",\"No\",\"\"))))","v":""},{"$f":"IF('Simplified Loader'!AY81>0,'Simplified Loader'!AY81,\"\")","v":""},{"$f":"IF('Simplified Loader'!AZ81>0,'Simplified Loader'!AZ81,\"\")","v":""},{"$f":"IF('Simplified Loader'!BA81>0,'Simplified Loader'!BA81,\"\")","v":""},{"$f":"IF('Simplified Loader'!BB81=\"Male\",\"Male\",IF('Simplified Loader'!BB81=\"Female\",\"Female\",IF('Simplified Loader'!BB81=\"M\",\"Male\",IF('Simplified Loader'!BB81=\"F\",\"Female\",\"\"))))","v":""},{"$f":"IF('Simplified Loader'!BC81=\"Yes\",\"Yes\",IF('Simplified Loader'!BC81=\"No\",\"No\",IF('Simplified Loader'!BC81=\"Y\",\"Yes\",IF('Simplified Loader'!BC81=\"N\",\"No\",\"\"))))","v":""},{"$f":"IF('Simplified Loader'!BD81=\"Yes\",\"Yes\",IF('Simplified Loader'!BD81=\"No\",\"No\",IF('Simplified Loader'!BD81=\"Y\",\"Yes\",IF('Simplified Loader'!BD81=\"N\",\"No\",\"\"))))","v":""},{"$f":"IF('Simplified Loader'!BE81>0,'Simplified Loader'!BE81,\"\")","v":""},{"$f":"IF('Simplified Loader'!BF81>0,'Simplified Loader'!BF81,\"\")","v":""},{"$f":"IF('Simplified Loader'!BG81>0,'Simplified Loader'!BG81,\"\")","v":""},{"$f":"IF('Simplified Loader'!BH81=\"Male\",\"Male\",IF('Simplified Loader'!BH81=\"Female\",\"Female\",IF('Simplified Loader'!BH81=\"M\",\"Male\",IF('Simplified Loader'!BH81=\"F\",\"Female\",\"\"))))","v":""},{"$f":"IF('Simplified Loader'!BI81=\"Yes\",\"Yes\",IF('Simplified Loader'!BI81=\"No\",\"No\",IF('Simplified Loader'!BI81=\"Y\",\"Yes\",IF('Simplified Loader'!BI81=\"N\",\"No\",\"\"))))","v":""},{"$f":"IF('Simplified Loader'!BJ81=\"Yes\",\"Yes\",IF('Simplified Loader'!BJ81=\"No\",\"No\",IF('Simplified Loader'!BJ81=\"Y\",\"Yes\",IF('Simplified Loader'!BJ81=\"N\",\"No\",\"\"))))","v":""},{"$f":"IF('Simplified Loader'!BK81>0,'Simplified Loader'!BK81,\"\")","v":""},{"$f":"IF('Simplified Loader'!BL81>0,'Simplified Loader'!BL81,\"\")","v":""},{"$f":"IF('Simplified Loader'!BM81>0,'Simplified Loader'!BM81,\"\")","v":""},{"$f":"IF('Simplified Loader'!BN81=\"Male\",\"Male\",IF('Simplified Loader'!BN81=\"Female\",\"Female\",IF('Simplified Loader'!BN81=\"M\",\"Male\",IF('Simplified Loader'!BN81=\"F\",\"Female\",\"\"))))","v":""},{"$f":"IF('Simplified Loader'!BO81=\"Yes\",\"Yes\",IF('Simplified Loader'!BO81=\"No\",\"No\",IF('Simplified Loader'!BO81=\"Y\",\"Yes\",IF('Simplified Loader'!BO81=\"N\",\"No\",\"\"))))","v":""},{"$f":"IF('Simplified Loader'!BP81=\"Yes\",\"Yes\",IF('Simplified Loader'!BP81=\"No\",\"No\",IF('Simplified Loader'!BP81=\"Y\",\"Yes\",IF('Simplified Loader'!BP81=\"N\",\"No\",\"\"))))","v":""},{"$f":"IF('Simplified Loader'!BQ81>0,'Simplified Loader'!BQ81,\"\")","v":""},{"$f":"IF('Simplified Loader'!BR81>0,'Simplified Loader'!BR81,\"\")","v":""},{"$f":"IF('Simplified Loader'!BS81>0,'Simplified Loader'!BS81,\"\")","v":""},{"$f":"IF('Simplified Loader'!BT81=\"Male\",\"Male\",IF('Simplified Loader'!BT81=\"Female\",\"Female\",IF('Simplified Loader'!BT81=\"M\",\"Male\",IF('Simplified Loader'!BT81=\"F\",\"Female\",\"\"))))","v":""},{"$f":"IF('Simplified Loader'!BU81=\"Yes\",\"Yes\",IF('Simplified Loader'!BU81=\"No\",\"No\",IF('Simplified Loader'!BU81=\"Y\",\"Yes\",IF('Simplified Loader'!BU81=\"N\",\"No\",\"\"))))","v":""},{"$f":"IF('Simplified Loader'!BV81=\"Yes\",\"Yes\",IF('Simplified Loader'!BV81=\"No\",\"No\",IF('Simplified Loader'!BV81=\"Y\",\"Yes\",IF('Simplified Loader'!BV81=\"N\",\"No\",\"\"))))","v":""},{"$f":"IF('Simplified Loader'!BW81>0,'Simplified Loader'!BW81,\"\")","v":""},{"$f":"IF('Simplified Loader'!BX81>0,'Simplified Loader'!BX81,\"\")","v":""},{"$f":"IF('Simplified Loader'!BY81>0,'Simplified Loader'!BY81,\"\")","v":""},{"$f":"IF('Simplified Loader'!BZ81=\"Male\",\"Male\",IF('Simplified Loader'!BZ81=\"Female\",\"Female\",IF('Simplified Loader'!BZ81=\"M\",\"Male\",IF('Simplified Loader'!BZ81=\"F\",\"Female\",\"\"))))","v":""},{"$f":"IF('Simplified Loader'!CA81=\"Yes\",\"Yes\",IF('Simplified Loader'!CA81=\"No\",\"No\",IF('Simplified Loader'!CA81=\"Y\",\"Yes\",IF('Simplified Loader'!CA81=\"N\",\"No\",\"\"))))","v":""},{"$f":"IF('Simplified Loader'!CB81=\"Yes\",\"Yes\",IF('Simplified Loader'!CB81=\"No\",\"No\",IF('Simplified Loader'!CB81=\"Y\",\"Yes\",IF('Simplified Loader'!CB81=\"N\",\"No\",\"\"))))","v":""},{"$f":"IF('Simplified Loader'!CH81>0,'Simplified Loader'!CH81,\"\")","v":"    "}]
[{"$f":"IF('Simplified Loader'!A82>0,'Simplified Loader'!A82,\"\")","v":""},{"$f":"IF('Simplified Loader'!B82>0,'Simplified Loader'!B82,\"\")","v":""},{"$f":"IF('Simplified Loader'!C82>0,'Simplified Loader'!C82,\"\")","v":""},{"$f":"IF('Simplified Loader'!D82>0,'Simplified Loader'!D82,\"\")","v":""},{"$f":"IF('Simplified Loader'!E82>0,TEXT('Simplified Loader'!E82,\"000\"),\"\")","v":""},{"$f":"IF('Simplified Loader'!F82>0,'Simplified Loader'!F82,\"\")","v":""},{"$f":"IF('Simplified Loader'!G82>0,'Simplified Loader'!G82,\"\")","v":""},{"$f":"IF('Simplified Loader'!I82>0,'Simplified Loader'!I82,\"\")","v":""},{"$f":"IF('Simplified Loader'!J82>0,'Simplified Loader'!J82,\"\")","v":""},{"$f":"IF('Simplified Loader'!K82>0,'Simplified Loader'!K82,\"\")","v":""},{"$f":"IF('Simplified Loader'!L82>0,'Simplified Loader'!L82,\"\")","v":""},{"$f":"IF('Simplified Loader'!M82=\"Male\",\"Male\",IF('Simplified Loader'!M82=\"Female\",\"Female\",IF('Simplified Loader'!M82=\"M\",\"Male\",IF('Simplified Loader'!M82=\"F\",\"Female\",\"\"))))","v":""},{"$f":"IF('Simplified Loader'!N82=\"Yes\",\"Yes\",IF('Simplified Loader'!N82=\"No\",\"No\",IF('Simplified Loader'!N82=\"Y\",\"Yes\",IF('Simplified Loader'!N82=\"N\",\"No\",\"\"))))","v":""},{"$f":"IF('Simplified Loader'!O82=\"No\",\"Single\",IF('Simplified Loader'!O82=\"Yes\",\"Family\",IF('Simplified Loader'!O82=\"N\",\"Single\",IF('Simplified Loader'!O82=\"Y\",\"Family\",IF('Simplified Loader'!O82=\"In-force\",\"Family\",IF('Simplified Loader'!O82=\"In force\",\"Family\",IF('Simplified Loader'!O82=\"Applies\",\"Family\",IF('Simplified Loader'!O82=\"Applicable\",\"Family\",\"\"))))))))","v":""},{"$f":"IF('Simplified Loader'!P82=\"English\",\"English\",IF('Simplified Loader'!P82=\"French\",\"French\",IF('Simplified Loader'!P82=\"E\",\"English\",IF('Simplified Loader'!P82=\"F\",\"French\",\"\"))))","v":""},{"$f":"IF('Simplified Loader'!Q82=\"Yes\",\"Yes\",IF('Simplified Loader'!Q82=\"No\",\"No\",IF('Simplified Loader'!Q82=\"Y\",\"Yes\",IF('Simplified Loader'!Q82=\"N\",\"No\",\"\"))))","v":""},{"$f":"IF('Simplified Loader'!R82>0,'Simplified Loader'!R82,\"\")","v":""},{"$f":"IF('Simplified Loader'!S82>0,'Simplified Loader'!S82,\"\")","v":""},{"$f":"IF('Simplified Loader'!T82>0,'Simplified Loader'!T82,\"\")","v":""},{"$f":"IF('Simplified Loader'!U82>0,'Simplified Loader'!U82,\"\")","v":""},{"$f":"IF('Simplified Loader'!V82=\"Waive\",\"Yes\",\"\")","v":""},{"$f":"IF('Simplified Loader'!W82=\"Waive\",\"Yes\",\"\")","v":""},{"$f":"IF('Simplified Loader'!X82>0,'Simplified Loader'!X82,\"\")","v":""},{"$f":"IF('Simplified Loader'!Y82>0,'Simplified Loader'!Y82,\"\")","v":""},{"$f":"IF('Simplified Loader'!Z82>0,'Simplified Loader'!Z82,\"\")","v":""},{"$f":"IF('Simplified Loader'!AA82>0,'Simplified Loader'!AA82,\"\")","v":""},{"$f":"IF('Simplified Loader'!AB82>0,'Simplified Loader'!AB82,\"\")","v":""},{"$f":"IF('Simplified Loader'!AC82>0,'Simplified Loader'!AC82,\"\")","v":" "},{"$f":"IF('Simplified Loader'!AE82>0,'Simplified Loader'!AE82&\" \",\"\")&IF('Simplified Loader'!AD82>0,'Simplified Loader'!AD82,\"\")","v":""},null,{"$f":"IF('Simplified Loader'!AF82>0,'Simplified Loader'!AF82,\"\")","v":""},{"$f":"IF('Simplified Loader'!AG82>0,'Simplified Loader'!AG82,\"\")","v":""},{"$f":"IF('Simplified Loader'!AH82>0,'Simplified Loader'!AH82,\"\")","v":""},{"$f":"IF('Simplified Loader'!AI82>0,'Simplified Loader'!AI82,\"\")","v":""},{"$f":"IF('Simplified Loader'!AJ82>0,'Simplified Loader'!AJ82,\"\")","v":""},{"$f":"IF('Simplified Loader'!AK82>0,'Simplified Loader'!AK82,\"\")","v":""},{"$f":"IF('Simplified Loader'!AL82>0,'Simplified Loader'!AL82,\"\")","v":""},{"$f":"IF('Simplified Loader'!AM82>0,'Simplified Loader'!AM82,\"\")","v":""},{"$f":"IF('Simplified Loader'!AN82=\"Male\",\"Male\",IF('Simplified Loader'!AN82=\"Female\",\"Female\",IF('Simplified Loader'!AN82=\"M\",\"Male\",IF('Simplified Loader'!AN82=\"F\",\"Female\",\"\"))))","v":""},{"$f":"IF('Simplified Loader'!AO82=\"Single\",\"Single\",IF('Simplified Loader'!AO82=\"Family\",\"Family\",IF('Simplified Loader'!AO82=\"S\",\"Single\",IF('Simplified Loader'!AO82=\"F\",\"Family\",\"\"))))","v":""},{"$f":"IF('Simplified Loader'!AP82=\"Single\",\"Single\",IF('Simplified Loader'!AP82=\"Family\",\"Family\",IF('Simplified Loader'!AP82=\"S\",\"Single\",IF('Simplified Loader'!AP82=\"F\",\"Family\",\"\"))))","v":""},{"$f":"IF('Simplified Loader'!AQ82>0,'Simplified Loader'!AQ82,\"\")","v":""},{"$f":"IF('Simplified Loader'!AR82=\"Yes\",\"Yes\",IF('Simplified Loader'!AR82=\"No\",\"No\",IF('Simplified Loader'!AR82=\"Y\",\"Yes\",IF('Simplified Loader'!AR82=\"N\",\"No\",\"\"))))","v":""},{"$f":"IF('Simplified Loader'!AS82>0,'Simplified Loader'!AS82,\"\")","v":""},{"$f":"IF('Simplified Loader'!AT82>0,'Simplified Loader'!AT82,\"\")","v":""},{"$f":"IF('Simplified Loader'!AU82>0,'Simplified Loader'!AU82,\"\")","v":""},{"$f":"IF('Simplified Loader'!AV82=\"Male\",\"Male\",IF('Simplified Loader'!AV82=\"Female\",\"Female\",IF('Simplified Loader'!AV82=\"M\",\"Male\",IF('Simplified Loader'!AV82=\"F\",\"Female\",\"\"))))","v":""},{"$f":"IF('Simplified Loader'!AW82=\"Yes\",\"Yes\",IF('Simplified Loader'!AW82=\"No\",\"No\",IF('Simplified Loader'!AW82=\"Y\",\"Yes\",IF('Simplified Loader'!AW82=\"N\",\"No\",\"\"))))","v":""},{"$f":"IF('Simplified Loader'!AX82=\"Yes\",\"Yes\",IF('Simplified Loader'!AX82=\"No\",\"No\",IF('Simplified Loader'!AX82=\"Y\",\"Yes\",IF('Simplified Loader'!AX82=\"N\",\"No\",\"\"))))","v":""},{"$f":"IF('Simplified Loader'!AY82>0,'Simplified Loader'!AY82,\"\")","v":""},{"$f":"IF('Simplified Loader'!AZ82>0,'Simplified Loader'!AZ82,\"\")","v":""},{"$f":"IF('Simplified Loader'!BA82>0,'Simplified Loader'!BA82,\"\")","v":""},{"$f":"IF('Simplified Loader'!BB82=\"Male\",\"Male\",IF('Simplified Loader'!BB82=\"Female\",\"Female\",IF('Simplified Loader'!BB82=\"M\",\"Male\",IF('Simplified Loader'!BB82=\"F\",\"Female\",\"\"))))","v":""},{"$f":"IF('Simplified Loader'!BC82=\"Yes\",\"Yes\",IF('Simplified Loader'!BC82=\"No\",\"No\",IF('Simplified Loader'!BC82=\"Y\",\"Yes\",IF('Simplified Loader'!BC82=\"N\",\"No\",\"\"))))","v":""},{"$f":"IF('Simplified Loader'!BD82=\"Yes\",\"Yes\",IF('Simplified Loader'!BD82=\"No\",\"No\",IF('Simplified Loader'!BD82=\"Y\",\"Yes\",IF('Simplified Loader'!BD82=\"N\",\"No\",\"\"))))","v":""},{"$f":"IF('Simplified Loader'!BE82>0,'Simplified Loader'!BE82,\"\")","v":""},{"$f":"IF('Simplified Loader'!BF82>0,'Simplified Loader'!BF82,\"\")","v":""},{"$f":"IF('Simplified Loader'!BG82>0,'Simplified Loader'!BG82,\"\")","v":""},{"$f":"IF('Simplified Loader'!BH82=\"Male\",\"Male\",IF('Simplified Loader'!BH82=\"Female\",\"Female\",IF('Simplified Loader'!BH82=\"M\",\"Male\",IF('Simplified Loader'!BH82=\"F\",\"Female\",\"\"))))","v":""},{"$f":"IF('Simplified Loader'!BI82=\"Yes\",\"Yes\",IF('Simplified Loader'!BI82=\"No\",\"No\",IF('Simplified Loader'!BI82=\"Y\",\"Yes\",IF('Simplified Loader'!BI82=\"N\",\"No\",\"\"))))","v":""},{"$f":"IF('Simplified Loader'!BJ82=\"Yes\",\"Yes\",IF('Simplified Loader'!BJ82=\"No\",\"No\",IF('Simplified Loader'!BJ82=\"Y\",\"Yes\",IF('Simplified Loader'!BJ82=\"N\",\"No\",\"\"))))","v":""},{"$f":"IF('Simplified Loader'!BK82>0,'Simplified Loader'!BK82,\"\")","v":""},{"$f":"IF('Simplified Loader'!BL82>0,'Simplified Loader'!BL82,\"\")","v":""},{"$f":"IF('Simplified Loader'!BM82>0,'Simplified Loader'!BM82,\"\")","v":""},{"$f":"IF('Simplified Loader'!BN82=\"Male\",\"Male\",IF('Simplified Loader'!BN82=\"Female\",\"Female\",IF('Simplified Loader'!BN82=\"M\",\"Male\",IF('Simplified Loader'!BN82=\"F\",\"Female\",\"\"))))","v":""},{"$f":"IF('Simplified Loader'!BO82=\"Yes\",\"Yes\",IF('Simplified Loader'!BO82=\"No\",\"No\",IF('Simplified Loader'!BO82=\"Y\",\"Yes\",IF('Simplified Loader'!BO82=\"N\",\"No\",\"\"))))","v":""},{"$f":"IF('Simplified Loader'!BP82=\"Yes\",\"Yes\",IF('Simplified Loader'!BP82=\"No\",\"No\",IF('Simplified Loader'!BP82=\"Y\",\"Yes\",IF('Simplified Loader'!BP82=\"N\",\"No\",\"\"))))","v":""},{"$f":"IF('Simplified Loader'!BQ82>0,'Simplified Loader'!BQ82,\"\")","v":""},{"$f":"IF('Simplified Loader'!BR82>0,'Simplified Loader'!BR82,\"\")","v":""},{"$f":"IF('Simplified Loader'!BS82>0,'Simplified Loader'!BS82,\"\")","v":""},{"$f":"IF('Simplified Loader'!BT82=\"Male\",\"Male\",IF('Simplified Loader'!BT82=\"Female\",\"Female\",IF('Simplified Loader'!BT82=\"M\",\"Male\",IF('Simplified Loader'!BT82=\"F\",\"Female\",\"\"))))","v":""},{"$f":"IF('Simplified Loader'!BU82=\"Yes\",\"Yes\",IF('Simplified Loader'!BU82=\"No\",\"No\",IF('Simplified Loader'!BU82=\"Y\",\"Yes\",IF('Simplified Loader'!BU82=\"N\",\"No\",\"\"))))","v":""},{"$f":"IF('Simplified Loader'!BV82=\"Yes\",\"Yes\",IF('Simplified Loader'!BV82=\"No\",\"No\",IF('Simplified Loader'!BV82=\"Y\",\"Yes\",IF('Simplified Loader'!BV82=\"N\",\"No\",\"\"))))","v":""},{"$f":"IF('Simplified Loader'!BW82>0,'Simplified Loader'!BW82,\"\")","v":""},{"$f":"IF('Simplified Loader'!BX82>0,'Simplified Loader'!BX82,\"\")","v":""},{"$f":"IF('Simplified Loader'!BY82>0,'Simplified Loader'!BY82,\"\")","v":""},{"$f":"IF('Simplified Loader'!BZ82=\"Male\",\"Male\",IF('Simplified Loader'!BZ82=\"Female\",\"Female\",IF('Simplified Loader'!BZ82=\"M\",\"Male\",IF('Simplified Loader'!BZ82=\"F\",\"Female\",\"\"))))","v":""},{"$f":"IF('Simplified Loader'!CA82=\"Yes\",\"Yes\",IF('Simplified Loader'!CA82=\"No\",\"No\",IF('Simplified Loader'!CA82=\"Y\",\"Yes\",IF('Simplified Loader'!CA82=\"N\",\"No\",\"\"))))","v":""},{"$f":"IF('Simplified Loader'!CB82=\"Yes\",\"Yes\",IF('Simplified Loader'!CB82=\"No\",\"No\",IF('Simplified Loader'!CB82=\"Y\",\"Yes\",IF('Simplified Loader'!CB82=\"N\",\"No\",\"\"))))","v":""},{"$f":"IF('Simplified Loader'!CH82>0,'Simplified Loader'!CH82,\"\")","v":"    "}]
[{"$f":"IF('Simplified Loader'!A83>0,'Simplified Loader'!A83,\"\")","v":""},{"$f":"IF('Simplified Loader'!B83>0,'Simplified Loader'!B83,\"\")","v":""},{"$f":"IF('Simplified Loader'!C83>0,'Simplified Loader'!C83,\"\")","v":""},{"$f":"IF('Simplified Loader'!D83>0,'Simplified Loader'!D83,\"\")","v":""},{"$f":"IF('Simplified Loader'!E83>0,TEXT('Simplified Loader'!E83,\"000\"),\"\")","v":""},{"$f":"IF('Simplified Loader'!F83>0,'Simplified Loader'!F83,\"\")","v":""},{"$f":"IF('Simplified Loader'!G83>0,'Simplified Loader'!G83,\"\")","v":""},{"$f":"IF('Simplified Loader'!I83>0,'Simplified Loader'!I83,\"\")","v":""},{"$f":"IF('Simplified Loader'!J83>0,'Simplified Loader'!J83,\"\")","v":""},{"$f":"IF('Simplified Loader'!K83>0,'Simplified Loader'!K83,\"\")","v":""},{"$f":"IF('Simplified Loader'!L83>0,'Simplified Loader'!L83,\"\")","v":""},{"$f":"IF('Simplified Loader'!M83=\"Male\",\"Male\",IF('Simplified Loader'!M83=\"Female\",\"Female\",IF('Simplified Loader'!M83=\"M\",\"Male\",IF('Simplified Loader'!M83=\"F\",\"Female\",\"\"))))","v":""},{"$f":"IF('Simplified Loader'!N83=\"Yes\",\"Yes\",IF('Simplified Loader'!N83=\"No\",\"No\",IF('Simplified Loader'!N83=\"Y\",\"Yes\",IF('Simplified Loader'!N83=\"N\",\"No\",\"\"))))","v":""},{"$f":"IF('Simplified Loader'!O83=\"No\",\"Single\",IF('Simplified Loader'!O83=\"Yes\",\"Family\",IF('Simplified Loader'!O83=\"N\",\"Single\",IF('Simplified Loader'!O83=\"Y\",\"Family\",IF('Simplified Loader'!O83=\"In-force\",\"Family\",IF('Simplified Loader'!O83=\"In force\",\"Family\",IF('Simplified Loader'!O83=\"Applies\",\"Family\",IF('Simplified Loader'!O83=\"Applicable\",\"Family\",\"\"))))))))","v":""},{"$f":"IF('Simplified Loader'!P83=\"English\",\"English\",IF('Simplified Loader'!P83=\"French\",\"French\",IF('Simplified Loader'!P83=\"E\",\"English\",IF('Simplified Loader'!P83=\"F\",\"French\",\"\"))))","v":""},{"$f":"IF('Simplified Loader'!Q83=\"Yes\",\"Yes\",IF('Simplified Loader'!Q83=\"No\",\"No\",IF('Simplified Loader'!Q83=\"Y\",\"Yes\",IF('Simplified Loader'!Q83=\"N\",\"No\",\"\"))))","v":""},{"$f":"IF('Simplified Loader'!R83>0,'Simplified Loader'!R83,\"\")","v":""},{"$f":"IF('Simplified Loader'!S83>0,'Simplified Loader'!S83,\"\")","v":""},{"$f":"IF('Simplified Loader'!T83>0,'Simplified Loader'!T83,\"\")","v":""},{"$f":"IF('Simplified Loader'!U83>0,'Simplified Loader'!U83,\"\")","v":""},{"$f":"IF('Simplified Loader'!V83=\"Waive\",\"Yes\",\"\")","v":""},{"$f":"IF('Simplified Loader'!W83=\"Waive\",\"Yes\",\"\")","v":""},{"$f":"IF('Simplified Loader'!X83>0,'Simplified Loader'!X83,\"\")","v":""},{"$f":"IF('Simplified Loader'!Y83>0,'Simplified Loader'!Y83,\"\")","v":""},{"$f":"IF('Simplified Loader'!Z83>0,'Simplified Loader'!Z83,\"\")","v":""},{"$f":"IF('Simplified Loader'!AA83>0,'Simplified Loader'!AA83,\"\")","v":""},{"$f":"IF('Simplified Loader'!AB83>0,'Simplified Loader'!AB83,\"\")","v":""},{"$f":"IF('Simplified Loader'!AC83>0,'Simplified Loader'!AC83,\"\")","v":" "},{"$f":"IF('Simplified Loader'!AE83>0,'Simplified Loader'!AE83&\" \",\"\")&IF('Simplified Loader'!AD83>0,'Simplified Loader'!AD83,\"\")","v":""},null,{"$f":"IF('Simplified Loader'!AF83>0,'Simplified Loader'!AF83,\"\")","v":""},{"$f":"IF('Simplified Loader'!AG83>0,'Simplified Loader'!AG83,\"\")","v":""},{"$f":"IF('Simplified Loader'!AH83>0,'Simplified Loader'!AH83,\"\")","v":""},{"$f":"IF('Simplified Loader'!AI83>0,'Simplified Loader'!AI83,\"\")","v":""},{"$f":"IF('Simplified Loader'!AJ83>0,'Simplified Loader'!AJ83,\"\")","v":""},{"$f":"IF('Simplified Loader'!AK83>0,'Simplified Loader'!AK83,\"\")","v":""},{"$f":"IF('Simplified Loader'!AL83>0,'Simplified Loader'!AL83,\"\")","v":""},{"$f":"IF('Simplified Loader'!AM83>0,'Simplified Loader'!AM83,\"\")","v":""},{"$f":"IF('Simplified Loader'!AN83=\"Male\",\"Male\",IF('Simplified Loader'!AN83=\"Female\",\"Female\",IF('Simplified Loader'!AN83=\"M\",\"Male\",IF('Simplified Loader'!AN83=\"F\",\"Female\",\"\"))))","v":""},{"$f":"IF('Simplified Loader'!AO83=\"Single\",\"Single\",IF('Simplified Loader'!AO83=\"Family\",\"Family\",IF('Simplified Loader'!AO83=\"S\",\"Single\",IF('Simplified Loader'!AO83=\"F\",\"Family\",\"\"))))","v":""},{"$f":"IF('Simplified Loader'!AP83=\"Single\",\"Single\",IF('Simplified Loader'!AP83=\"Family\",\"Family\",IF('Simplified Loader'!AP83=\"S\",\"Single\",IF('Simplified Loader'!AP83=\"F\",\"Family\",\"\"))))","v":""},{"$f":"IF('Simplified Loader'!AQ83>0,'Simplified Loader'!AQ83,\"\")","v":""},{"$f":"IF('Simplified Loader'!AR83=\"Yes\",\"Yes\",IF('Simplified Loader'!AR83=\"No\",\"No\",IF('Simplified Loader'!AR83=\"Y\",\"Yes\",IF('Simplified Loader'!AR83=\"N\",\"No\",\"\"))))","v":""},{"$f":"IF('Simplified Loader'!AS83>0,'Simplified Loader'!AS83,\"\")","v":""},{"$f":"IF('Simplified Loader'!AT83>0,'Simplified Loader'!AT83,\"\")","v":""},{"$f":"IF('Simplified Loader'!AU83>0,'Simplified Loader'!AU83,\"\")","v":""},{"$f":"IF('Simplified Loader'!AV83=\"Male\",\"Male\",IF('Simplified Loader'!AV83=\"Female\",\"Female\",IF('Simplified Loader'!AV83=\"M\",\"Male\",IF('Simplified Loader'!AV83=\"F\",\"Female\",\"\"))))","v":""},{"$f":"IF('Simplified Loader'!AW83=\"Yes\",\"Yes\",IF('Simplified Loader'!AW83=\"No\",\"No\",IF('Simplified Loader'!AW83=\"Y\",\"Yes\",IF('Simplified Loader'!AW83=\"N\",\"No\",\"\"))))","v":""},{"$f":"IF('Simplified Loader'!AX83=\"Yes\",\"Yes\",IF('Simplified Loader'!AX83=\"No\",\"No\",IF('Simplified Loader'!AX83=\"Y\",\"Yes\",IF('Simplified Loader'!AX83=\"N\",\"No\",\"\"))))","v":""},{"$f":"IF('Simplified Loader'!AY83>0,'Simplified Loader'!AY83,\"\")","v":""},{"$f":"IF('Simplified Loader'!AZ83>0,'Simplified Loader'!AZ83,\"\")","v":""},{"$f":"IF('Simplified Loader'!BA83>0,'Simplified Loader'!BA83,\"\")","v":""},{"$f":"IF('Simplified Loader'!BB83=\"Male\",\"Male\",IF('Simplified Loader'!BB83=\"Female\",\"Female\",IF('Simplified Loader'!BB83=\"M\",\"Male\",IF('Simplified Loader'!BB83=\"F\",\"Female\",\"\"))))","v":""},{"$f":"IF('Simplified Loader'!BC83=\"Yes\",\"Yes\",IF('Simplified Loader'!BC83=\"No\",\"No\",IF('Simplified Loader'!BC83=\"Y\",\"Yes\",IF('Simplified Loader'!BC83=\"N\",\"No\",\"\"))))","v":""},{"$f":"IF('Simplified Loader'!BD83=\"Yes\",\"Yes\",IF('Simplified Loader'!BD83=\"No\",\"No\",IF('Simplified Loader'!BD83=\"Y\",\"Yes\",IF('Simplified Loader'!BD83=\"N\",\"No\",\"\"))))","v":""},{"$f":"IF('Simplified Loader'!BE83>0,'Simplified Loader'!BE83,\"\")","v":""},{"$f":"IF('Simplified Loader'!BF83>0,'Simplified Loader'!BF83,\"\")","v":""},{"$f":"IF('Simplified Loader'!BG83>0,'Simplified Loader'!BG83,\"\")","v":""},{"$f":"IF('Simplified Loader'!BH83=\"Male\",\"Male\",IF('Simplified Loader'!BH83=\"Female\",\"Female\",IF('Simplified Loader'!BH83=\"M\",\"Male\",IF('Simplified Loader'!BH83=\"F\",\"Female\",\"\"))))","v":""},{"$f":"IF('Simplified Loader'!BI83=\"Yes\",\"Yes\",IF('Simplified Loader'!BI83=\"No\",\"No\",IF('Simplified Loader'!BI83=\"Y\",\"Yes\",IF('Simplified Loader'!BI83=\"N\",\"No\",\"\"))))","v":""},{"$f":"IF('Simplified Loader'!BJ83=\"Yes\",\"Yes\",IF('Simplified Loader'!BJ83=\"No\",\"No\",IF('Simplified Loader'!BJ83=\"Y\",\"Yes\",IF('Simplified Loader'!BJ83=\"N\",\"No\",\"\"))))","v":""},{"$f":"IF('Simplified Loader'!BK83>0,'Simplified Loader'!BK83,\"\")","v":""},{"$f":"IF('Simplified Loader'!BL83>0,'Simplified Loader'!BL83,\"\")","v":""},{"$f":"IF('Simplified Loader'!BM83>0,'Simplified Loader'!BM83,\"\")","v":""},{"$f":"IF('Simplified Loader'!BN83=\"Male\",\"Male\",IF('Simplified Loader'!BN83=\"Female\",\"Female\",IF('Simplified Loader'!BN83=\"M\",\"Male\",IF('Simplified Loader'!BN83=\"F\",\"Female\",\"\"))))","v":""},{"$f":"IF('Simplified Loader'!BO83=\"Yes\",\"Yes\",IF('Simplified Loader'!BO83=\"No\",\"No\",IF('Simplified Loader'!BO83=\"Y\",\"Yes\",IF('Simplified Loader'!BO83=\"N\",\"No\",\"\"))))","v":""},{"$f":"IF('Simplified Loader'!BP83=\"Yes\",\"Yes\",IF('Simplified Loader'!BP83=\"No\",\"No\",IF('Simplified Loader'!BP83=\"Y\",\"Yes\",IF('Simplified Loader'!BP83=\"N\",\"No\",\"\"))))","v":""},{"$f":"IF('Simplified Loader'!BQ83>0,'Simplified Loader'!BQ83,\"\")","v":""},{"$f":"IF('Simplified Loader'!BR83>0,'Simplified Loader'!BR83,\"\")","v":""},{"$f":"IF('Simplified Loader'!BS83>0,'Simplified Loader'!BS83,\"\")","v":""},{"$f":"IF('Simplified Loader'!BT83=\"Male\",\"Male\",IF('Simplified Loader'!BT83=\"Female\",\"Female\",IF('Simplified Loader'!BT83=\"M\",\"Male\",IF('Simplified Loader'!BT83=\"F\",\"Female\",\"\"))))","v":""},{"$f":"IF('Simplified Loader'!BU83=\"Yes\",\"Yes\",IF('Simplified Loader'!BU83=\"No\",\"No\",IF('Simplified Loader'!BU83=\"Y\",\"Yes\",IF('Simplified Loader'!BU83=\"N\",\"No\",\"\"))))","v":""},{"$f":"IF('Simplified Loader'!BV83=\"Yes\",\"Yes\",IF('Simplified Loader'!BV83=\"No\",\"No\",IF('Simplified Loader'!BV83=\"Y\",\"Yes\",IF('Simplified Loader'!BV83=\"N\",\"No\",\"\"))))","v":""},{"$f":"IF('Simplified Loader'!BW83>0,'Simplified Loader'!BW83,\"\")","v":""},{"$f":"IF('Simplified Loader'!BX83>0,'Simplified Loader'!BX83,\"\")","v":""},{"$f":"IF('Simplified Loader'!BY83>0,'Simplified Loader'!BY83,\"\")","v":""},{"$f":"IF('Simplified Loader'!BZ83=\"Male\",\"Male\",IF('Simplified Loader'!BZ83=\"Female\",\"Female\",IF('Simplified Loader'!BZ83=\"M\",\"Male\",IF('Simplified Loader'!BZ83=\"F\",\"Female\",\"\"))))","v":""},{"$f":"IF('Simplified Loader'!CA83=\"Yes\",\"Yes\",IF('Simplified Loader'!CA83=\"No\",\"No\",IF('Simplified Loader'!CA83=\"Y\",\"Yes\",IF('Simplified Loader'!CA83=\"N\",\"No\",\"\"))))","v":""},{"$f":"IF('Simplified Loader'!CB83=\"Yes\",\"Yes\",IF('Simplified Loader'!CB83=\"No\",\"No\",IF('Simplified Loader'!CB83=\"Y\",\"Yes\",IF('Simplified Loader'!CB83=\"N\",\"No\",\"\"))))","v":""},{"$f":"IF('Simplified Loader'!CH83>0,'Simplified Loader'!CH83,\"\")","v":"    "}]
[{"$f":"IF('Simplified Loader'!A84>0,'Simplified Loader'!A84,\"\")","v":""},{"$f":"IF('Simplified Loader'!B84>0,'Simplified Loader'!B84,\"\")","v":""},{"$f":"IF('Simplified Loader'!C84>0,'Simplified Loader'!C84,\"\")","v":""},{"$f":"IF('Simplified Loader'!D84>0,'Simplified Loader'!D84,\"\")","v":""},{"$f":"IF('Simplified Loader'!E84>0,TEXT('Simplified Loader'!E84,\"000\"),\"\")","v":""},{"$f":"IF('Simplified Loader'!F84>0,'Simplified Loader'!F84,\"\")","v":""},{"$f":"IF('Simplified Loader'!G84>0,'Simplified Loader'!G84,\"\")","v":""},{"$f":"IF('Simplified Loader'!I84>0,'Simplified Loader'!I84,\"\")","v":""},{"$f":"IF('Simplified Loader'!J84>0,'Simplified Loader'!J84,\"\")","v":""},{"$f":"IF('Simplified Loader'!K84>0,'Simplified Loader'!K84,\"\")","v":""},{"$f":"IF('Simplified Loader'!L84>0,'Simplified Loader'!L84,\"\")","v":""},{"$f":"IF('Simplified Loader'!M84=\"Male\",\"Male\",IF('Simplified Loader'!M84=\"Female\",\"Female\",IF('Simplified Loader'!M84=\"M\",\"Male\",IF('Simplified Loader'!M84=\"F\",\"Female\",\"\"))))","v":""},{"$f":"IF('Simplified Loader'!N84=\"Yes\",\"Yes\",IF('Simplified Loader'!N84=\"No\",\"No\",IF('Simplified Loader'!N84=\"Y\",\"Yes\",IF('Simplified Loader'!N84=\"N\",\"No\",\"\"))))","v":""},{"$f":"IF('Simplified Loader'!O84=\"No\",\"Single\",IF('Simplified Loader'!O84=\"Yes\",\"Family\",IF('Simplified Loader'!O84=\"N\",\"Single\",IF('Simplified Loader'!O84=\"Y\",\"Family\",IF('Simplified Loader'!O84=\"In-force\",\"Family\",IF('Simplified Loader'!O84=\"In force\",\"Family\",IF('Simplified Loader'!O84=\"Applies\",\"Family\",IF('Simplified Loader'!O84=\"Applicable\",\"Family\",\"\"))))))))","v":""},{"$f":"IF('Simplified Loader'!P84=\"English\",\"English\",IF('Simplified Loader'!P84=\"French\",\"French\",IF('Simplified Loader'!P84=\"E\",\"English\",IF('Simplified Loader'!P84=\"F\",\"French\",\"\"))))","v":""},{"$f":"IF('Simplified Loader'!Q84=\"Yes\",\"Yes\",IF('Simplified Loader'!Q84=\"No\",\"No\",IF('Simplified Loader'!Q84=\"Y\",\"Yes\",IF('Simplified Loader'!Q84=\"N\",\"No\",\"\"))))","v":""},{"$f":"IF('Simplified Loader'!R84>0,'Simplified Loader'!R84,\"\")","v":""},{"$f":"IF('Simplified Loader'!S84>0,'Simplified Loader'!S84,\"\")","v":""},{"$f":"IF('Simplified Loader'!T84>0,'Simplified Loader'!T84,\"\")","v":""},{"$f":"IF('Simplified Loader'!U84>0,'Simplified Loader'!U84,\"\")","v":""},{"$f":"IF('Simplified Loader'!V84=\"Waive\",\"Yes\",\"\")","v":""},{"$f":"IF('Simplified Loader'!W84=\"Waive\",\"Yes\",\"\")","v":""},{"$f":"IF('Simplified Loader'!X84>0,'Simplified Loader'!X84,\"\")","v":""},{"$f":"IF('Simplified Loader'!Y84>0,'Simplified Loader'!Y84,\"\")","v":""},{"$f":"IF('Simplified Loader'!Z84>0,'Simplified Loader'!Z84,\"\")","v":""},{"$f":"IF('Simplified Loader'!AA84>0,'Simplified Loader'!AA84,\"\")","v":""},{"$f":"IF('Simplified Loader'!AB84>0,'Simplified Loader'!AB84,\"\")","v":""},{"$f":"IF('Simplified Loader'!AC84>0,'Simplified Loader'!AC84,\"\")","v":" "},{"$f":"IF('Simplified Loader'!AE84>0,'Simplified Loader'!AE84&\" \",\"\")&IF('Simplified Loader'!AD84>0,'Simplified Loader'!AD84,\"\")","v":""},null,{"$f":"IF('Simplified Loader'!AF84>0,'Simplified Loader'!AF84,\"\")","v":""},{"$f":"IF('Simplified Loader'!AG84>0,'Simplified Loader'!AG84,\"\")","v":""},{"$f":"IF('Simplified Loader'!AH84>0,'Simplified Loader'!AH84,\"\")","v":""},{"$f":"IF('Simplified Loader'!AI84>0,'Simplified Loader'!AI84,\"\")","v":""},{"$f":"IF('Simplified Loader'!AJ84>0,'Simplified Loader'!AJ84,\"\")","v":""},{"$f":"IF('Simplified Loader'!AK84>0,'Simplified Loader'!AK84,\"\")","v":""},{"$f":"IF('Simplified Loader'!AL84>0,'Simplified Loader'!AL84,\"\")","v":""},{"$f":"IF('Simplified Loader'!AM84>0,'Simplified Loader'!AM84,\"\")","v":""},{"$f":"IF('Simplified Loader'!AN84=\"Male\",\"Male\",IF('Simplified Loader'!AN84=\"Female\",\"Female\",IF('Simplified Loader'!AN84=\"M\",\"Male\",IF('Simplified Loader'!AN84=\"F\",\"Female\",\"\"))))","v":""},{"$f":"IF('Simplified Loader'!AO84=\"Single\",\"Single\",IF('Simplified Loader'!AO84=\"Family\",\"Family\",IF('Simplified Loader'!AO84=\"S\",\"Single\",IF('Simplified Loader'!AO84=\"F\",\"Family\",\"\"))))","v":""},{"$f":"IF('Simplified Loader'!AP84=\"Single\",\"Single\",IF('Simplified Loader'!AP84=\"Family\",\"Family\",IF('Simplified Loader'!AP84=\"S\",\"Single\",IF('Simplified Loader'!AP84=\"F\",\"Family\",\"\"))))","v":""},{"$f":"IF('Simplified Loader'!AQ84>0,'Simplified Loader'!AQ84,\"\")","v":""},{"$f":"IF('Simplified Loader'!AR84=\"Yes\",\"Yes\",IF('Simplified Loader'!AR84=\"No\",\"No\",IF('Simplified Loader'!AR84=\"Y\",\"Yes\",IF('Simplified Loader'!AR84=\"N\",\"No\",\"\"))))","v":""},{"$f":"IF('Simplified Loader'!AS84>0,'Simplified Loader'!AS84,\"\")","v":""},{"$f":"IF('Simplified Loader'!AT84>0,'Simplified Loader'!AT84,\"\")","v":""},{"$f":"IF('Simplified Loader'!AU84>0,'Simplified Loader'!AU84,\"\")","v":""},{"$f":"IF('Simplified Loader'!AV84=\"Male\",\"Male\",IF('Simplified Loader'!AV84=\"Female\",\"Female\",IF('Simplified Loader'!AV84=\"M\",\"Male\",IF('Simplified Loader'!AV84=\"F\",\"Female\",\"\"))))","v":""},{"$f":"IF('Simplified Loader'!AW84=\"Yes\",\"Yes\",IF('Simplified Loader'!AW84=\"No\",\"No\",IF('Simplified Loader'!AW84=\"Y\",\"Yes\",IF('Simplified Loader'!AW84=\"N\",\"No\",\"\"))))","v":""},{"$f":"IF('Simplified Loader'!AX84=\"Yes\",\"Yes\",IF('Simplified Loader'!AX84=\"No\",\"No\",IF('Simplified Loader'!AX84=\"Y\",\"Yes\",IF('Simplified Loader'!AX84=\"N\",\"No\",\"\"))))","v":""},{"$f":"IF('Simplified Loader'!AY84>0,'Simplified Loader'!AY84,\"\")","v":""},{"$f":"IF('Simplified Loader'!AZ84>0,'Simplified Loader'!AZ84,\"\")","v":""},{"$f":"IF('Simplified Loader'!BA84>0,'Simplified Loader'!BA84,\"\")","v":""},{"$f":"IF('Simplified Loader'!BB84=\"Male\",\"Male\",IF('Simplified Loader'!BB84=\"Female\",\"Female\",IF('Simplified Loader'!BB84=\"M\",\"Male\",IF('Simplified Loader'!BB84=\"F\",\"Female\",\"\"))))","v":""},{"$f":"IF('Simplified Loader'!BC84=\"Yes\",\"Yes\",IF('Simplified Loader'!BC84=\"No\",\"No\",IF('Simplified Loader'!BC84=\"Y\",\"Yes\",IF('Simplified Loader'!BC84=\"N\",\"No\",\"\"))))","v":""},{"$f":"IF('Simplified Loader'!BD84=\"Yes\",\"Yes\",IF('Simplified Loader'!BD84=\"No\",\"No\",IF('Simplified Loader'!BD84=\"Y\",\"Yes\",IF('Simplified Loader'!BD84=\"N\",\"No\",\"\"))))","v":""},{"$f":"IF('Simplified Loader'!BE84>0,'Simplified Loader'!BE84,\"\")","v":""},{"$f":"IF('Simplified Loader'!BF84>0,'Simplified Loader'!BF84,\"\")","v":""},{"$f":"IF('Simplified Loader'!BG84>0,'Simplified Loader'!BG84,\"\")","v":""},{"$f":"IF('Simplified Loader'!BH84=\"Male\",\"Male\",IF('Simplified Loader'!BH84=\"Female\",\"Female\",IF('Simplified Loader'!BH84=\"M\",\"Male\",IF('Simplified Loader'!BH84=\"F\",\"Female\",\"\"))))","v":""},{"$f":"IF('Simplified Loader'!BI84=\"Yes\",\"Yes\",IF('Simplified Loader'!BI84=\"No\",\"No\",IF('Simplified Loader'!BI84=\"Y\",\"Yes\",IF('Simplified Loader'!BI84=\"N\",\"No\",\"\"))))","v":""},{"$f":"IF('Simplified Loader'!BJ84=\"Yes\",\"Yes\",IF('Simplified Loader'!BJ84=\"No\",\"No\",IF('Simplified Loader'!BJ84=\"Y\",\"Yes\",IF('Simplified Loader'!BJ84=\"N\",\"No\",\"\"))))","v":""},{"$f":"IF('Simplified Loader'!BK84>0,'Simplified Loader'!BK84,\"\")","v":""},{"$f":"IF('Simplified Loader'!BL84>0,'Simplified Loader'!BL84,\"\")","v":""},{"$f":"IF('Simplified Loader'!BM84>0,'Simplified Loader'!BM84,\"\")","v":""},{"$f":"IF('Simplified Loader'!BN84=\"Male\",\"Male\",IF('Simplified Loader'!BN84=\"Female\",\"Female\",IF('Simplified Loader'!BN84=\"M\",\"Male\",IF('Simplified Loader'!BN84=\"F\",\"Female\",\"\"))))","v":""},{"$f":"IF('Simplified Loader'!BO84=\"Yes\",\"Yes\",IF('Simplified Loader'!BO84=\"No\",\"No\",IF('Simplified Loader'!BO84=\"Y\",\"Yes\",IF('Simplified Loader'!BO84=\"N\",\"No\",\"\"))))","v":""},{"$f":"IF('Simplified Loader'!BP84=\"Yes\",\"Yes\",IF('Simplified Loader'!BP84=\"No\",\"No\",IF('Simplified Loader'!BP84=\"Y\",\"Yes\",IF('Simplified Loader'!BP84=\"N\",\"No\",\"\"))))","v":""},{"$f":"IF('Simplified Loader'!BQ84>0,'Simplified Loader'!BQ84,\"\")","v":""},{"$f":"IF('Simplified Loader'!BR84>0,'Simplified Loader'!BR84,\"\")","v":""},{"$f":"IF('Simplified Loader'!BS84>0,'Simplified Loader'!BS84,\"\")","v":""},{"$f":"IF('Simplified Loader'!BT84=\"Male\",\"Male\",IF('Simplified Loader'!BT84=\"Female\",\"Female\",IF('Simplified Loader'!BT84=\"M\",\"Male\",IF('Simplified Loader'!BT84=\"F\",\"Female\",\"\"))))","v":""},{"$f":"IF('Simplified Loader'!BU84=\"Yes\",\"Yes\",IF('Simplified Loader'!BU84=\"No\",\"No\",IF('Simplified Loader'!BU84=\"Y\",\"Yes\",IF('Simplified Loader'!BU84=\"N\",\"No\",\"\"))))","v":""},{"$f":"IF('Simplified Loader'!BV84=\"Yes\",\"Yes\",IF('Simplified Loader'!BV84=\"No\",\"No\",IF('Simplified Loader'!BV84=\"Y\",\"Yes\",IF('Simplified Loader'!BV84=\"N\",\"No\",\"\"))))","v":""},{"$f":"IF('Simplified Loader'!BW84>0,'Simplified Loader'!BW84,\"\")","v":""},{"$f":"IF('Simplified Loader'!BX84>0,'Simplified Loader'!BX84,\"\")","v":""},{"$f":"IF('Simplified Loader'!BY84>0,'Simplified Loader'!BY84,\"\")","v":""},{"$f":"IF('Simplified Loader'!BZ84=\"Male\",\"Male\",IF('Simplified Loader'!BZ84=\"Female\",\"Female\",IF('Simplified Loader'!BZ84=\"M\",\"Male\",IF('Simplified Loader'!BZ84=\"F\",\"Female\",\"\"))))","v":""},{"$f":"IF('Simplified Loader'!CA84=\"Yes\",\"Yes\",IF('Simplified Loader'!CA84=\"No\",\"No\",IF('Simplified Loader'!CA84=\"Y\",\"Yes\",IF('Simplified Loader'!CA84=\"N\",\"No\",\"\"))))","v":""},{"$f":"IF('Simplified Loader'!CB84=\"Yes\",\"Yes\",IF('Simplified Loader'!CB84=\"No\",\"No\",IF('Simplified Loader'!CB84=\"Y\",\"Yes\",IF('Simplified Loader'!CB84=\"N\",\"No\",\"\"))))","v":""},{"$f":"IF('Simplified Loader'!CH84>0,'Simplified Loader'!CH84,\"\")","v":"    "}]
[{"$f":"IF('Simplified Loader'!A85>0,'Simplified Loader'!A85,\"\")","v":""},{"$f":"IF('Simplified Loader'!B85>0,'Simplified Loader'!B85,\"\")","v":""},{"$f":"IF('Simplified Loader'!C85>0,'Simplified Loader'!C85,\"\")","v":""},{"$f":"IF('Simplified Loader'!D85>0,'Simplified Loader'!D85,\"\")","v":""},{"$f":"IF('Simplified Loader'!E85>0,TEXT('Simplified Loader'!E85,\"000\"),\"\")","v":""},{"$f":"IF('Simplified Loader'!F85>0,'Simplified Loader'!F85,\"\")","v":""},{"$f":"IF('Simplified Loader'!G85>0,'Simplified Loader'!G85,\"\")","v":""},{"$f":"IF('Simplified Loader'!I85>0,'Simplified Loader'!I85,\"\")","v":""},{"$f":"IF('Simplified Loader'!J85>0,'Simplified Loader'!J85,\"\")","v":""},{"$f":"IF('Simplified Loader'!K85>0,'Simplified Loader'!K85,\"\")","v":""},{"$f":"IF('Simplified Loader'!L85>0,'Simplified Loader'!L85,\"\")","v":""},{"$f":"IF('Simplified Loader'!M85=\"Male\",\"Male\",IF('Simplified Loader'!M85=\"Female\",\"Female\",IF('Simplified Loader'!M85=\"M\",\"Male\",IF('Simplified Loader'!M85=\"F\",\"Female\",\"\"))))","v":""},{"$f":"IF('Simplified Loader'!N85=\"Yes\",\"Yes\",IF('Simplified Loader'!N85=\"No\",\"No\",IF('Simplified Loader'!N85=\"Y\",\"Yes\",IF('Simplified Loader'!N85=\"N\",\"No\",\"\"))))","v":""},{"$f":"IF('Simplified Loader'!O85=\"No\",\"Single\",IF('Simplified Loader'!O85=\"Yes\",\"Family\",IF('Simplified Loader'!O85=\"N\",\"Single\",IF('Simplified Loader'!O85=\"Y\",\"Family\",IF('Simplified Loader'!O85=\"In-force\",\"Family\",IF('Simplified Loader'!O85=\"In force\",\"Family\",IF('Simplified Loader'!O85=\"Applies\",\"Family\",IF('Simplified Loader'!O85=\"Applicable\",\"Family\",\"\"))))))))","v":""},{"$f":"IF('Simplified Loader'!P85=\"English\",\"English\",IF('Simplified Loader'!P85=\"French\",\"French\",IF('Simplified Loader'!P85=\"E\",\"English\",IF('Simplified Loader'!P85=\"F\",\"French\",\"\"))))","v":""},{"$f":"IF('Simplified Loader'!Q85=\"Yes\",\"Yes\",IF('Simplified Loader'!Q85=\"No\",\"No\",IF('Simplified Loader'!Q85=\"Y\",\"Yes\",IF('Simplified Loader'!Q85=\"N\",\"No\",\"\"))))","v":""},{"$f":"IF('Simplified Loader'!R85>0,'Simplified Loader'!R85,\"\")","v":""},{"$f":"IF('Simplified Loader'!S85>0,'Simplified Loader'!S85,\"\")","v":""},{"$f":"IF('Simplified Loader'!T85>0,'Simplified Loader'!T85,\"\")","v":""},{"$f":"IF('Simplified Loader'!U85>0,'Simplified Loader'!U85,\"\")","v":""},{"$f":"IF('Simplified Loader'!V85=\"Waive\",\"Yes\",\"\")","v":""},{"$f":"IF('Simplified Loader'!W85=\"Waive\",\"Yes\",\"\")","v":""},{"$f":"IF('Simplified Loader'!X85>0,'Simplified Loader'!X85,\"\")","v":""},{"$f":"IF('Simplified Loader'!Y85>0,'Simplified Loader'!Y85,\"\")","v":""},{"$f":"IF('Simplified Loader'!Z85>0,'Simplified Loader'!Z85,\"\")","v":""},{"$f":"IF('Simplified Loader'!AA85>0,'Simplified Loader'!AA85,\"\")","v":""},{"$f":"IF('Simplified Loader'!AB85>0,'Simplified Loader'!AB85,\"\")","v":""},{"$f":"IF('Simplified Loader'!AC85>0,'Simplified Loader'!AC85,\"\")","v":" "},{"$f":"IF('Simplified Loader'!AE85>0,'Simplified Loader'!AE85&\" \",\"\")&IF('Simplified Loader'!AD85>0,'Simplified Loader'!AD85,\"\")","v":""},null,{"$f":"IF('Simplified Loader'!AF85>0,'Simplified Loader'!AF85,\"\")","v":""},{"$f":"IF('Simplified Loader'!AG85>0,'Simplified Loader'!AG85,\"\")","v":""},{"$f":"IF('Simplified Loader'!AH85>0,'Simplified Loader'!AH85,\"\")","v":""},{"$f":"IF('Simplified Loader'!AI85>0,'Simplified Loader'!AI85,\"\")","v":""},{"$f":"IF('Simplified Loader'!AJ85>0,'Simplified Loader'!AJ85,\"\")","v":""},{"$f":"IF('Simplified Loader'!AK85>0,'Simplified Loader'!AK85,\"\")","v":""},{"$f":"IF('Simplified Loader'!AL85>0,'Simplified Loader'!AL85,\"\")","v":""},{"$f":"IF('Simplified Loader'!AM85>0,'Simplified Loader'!AM85,\"\")","v":""},{"$f":"IF('Simplified Loader'!AN85=\"Male\",\"Male\",IF('Simplified Loader'!AN85=\"Female\",\"Female\",IF('Simplified Loader'!AN85=\"M\",\"Male\",IF('Simplified Loader'!AN85=\"F\",\"Female\",\"\"))))","v":""},{"$f":"IF('Simplified Loader'!AO85=\"Single\",\"Single\",IF('Simplified Loader'!AO85=\"Family\",\"Family\",IF('Simplified Loader'!AO85=\"S\",\"Single\",IF('Simplified Loader'!AO85=\"F\",\"Family\",\"\"))))","v":""},{"$f":"IF('Simplified Loader'!AP85=\"Single\",\"Single\",IF('Simplified Loader'!AP85=\"Family\",\"Family\",IF('Simplified Loader'!AP85=\"S\",\"Single\",IF('Simplified Loader'!AP85=\"F\",\"Family\",\"\"))))","v":""},{"$f":"IF('Simplified Loader'!AQ85>0,'Simplified Loader'!AQ85,\"\")","v":""},{"$f":"IF('Simplified Loader'!AR85=\"Yes\",\"Yes\",IF('Simplified Loader'!AR85=\"No\",\"No\",IF('Simplified Loader'!AR85=\"Y\",\"Yes\",IF('Simplified Loader'!AR85=\"N\",\"No\",\"\"))))","v":""},{"$f":"IF('Simplified Loader'!AS85>0,'Simplified Loader'!AS85,\"\")","v":""},{"$f":"IF('Simplified Loader'!AT85>0,'Simplified Loader'!AT85,\"\")","v":""},{"$f":"IF('Simplified Loader'!AU85>0,'Simplified Loader'!AU85,\"\")","v":""},{"$f":"IF('Simplified Loader'!AV85=\"Male\",\"Male\",IF('Simplified Loader'!AV85=\"Female\",\"Female\",IF('Simplified Loader'!AV85=\"M\",\"Male\",IF('Simplified Loader'!AV85=\"F\",\"Female\",\"\"))))","v":""},{"$f":"IF('Simplified Loader'!AW85=\"Yes\",\"Yes\",IF('Simplified Loader'!AW85=\"No\",\"No\",IF('Simplified Loader'!AW85=\"Y\",\"Yes\",IF('Simplified Loader'!AW85=\"N\",\"No\",\"\"))))","v":""},{"$f":"IF('Simplified Loader'!AX85=\"Yes\",\"Yes\",IF('Simplified Loader'!AX85=\"No\",\"No\",IF('Simplified Loader'!AX85=\"Y\",\"Yes\",IF('Simplified Loader'!AX85=\"N\",\"No\",\"\"))))","v":""},{"$f":"IF('Simplified Loader'!AY85>0,'Simplified Loader'!AY85,\"\")","v":""},{"$f":"IF('Simplified Loader'!AZ85>0,'Simplified Loader'!AZ85,\"\")","v":""},{"$f":"IF('Simplified Loader'!BA85>0,'Simplified Loader'!BA85,\"\")","v":""},{"$f":"IF('Simplified Loader'!BB85=\"Male\",\"Male\",IF('Simplified Loader'!BB85=\"Female\",\"Female\",IF('Simplified Loader'!BB85=\"M\",\"Male\",IF('Simplified Loader'!BB85=\"F\",\"Female\",\"\"))))","v":""},{"$f":"IF('Simplified Loader'!BC85=\"Yes\",\"Yes\",IF('Simplified Loader'!BC85=\"No\",\"No\",IF('Simplified Loader'!BC85=\"Y\",\"Yes\",IF('Simplified Loader'!BC85=\"N\",\"No\",\"\"))))","v":""},{"$f":"IF('Simplified Loader'!BD85=\"Yes\",\"Yes\",IF('Simplified Loader'!BD85=\"No\",\"No\",IF('Simplified Loader'!BD85=\"Y\",\"Yes\",IF('Simplified Loader'!BD85=\"N\",\"No\",\"\"))))","v":""},{"$f":"IF('Simplified Loader'!BE85>0,'Simplified Loader'!BE85,\"\")","v":""},{"$f":"IF('Simplified Loader'!BF85>0,'Simplified Loader'!BF85,\"\")","v":""},{"$f":"IF('Simplified Loader'!BG85>0,'Simplified Loader'!BG85,\"\")","v":""},{"$f":"IF('Simplified Loader'!BH85=\"Male\",\"Male\",IF('Simplified Loader'!BH85=\"Female\",\"Female\",IF('Simplified Loader'!BH85=\"M\",\"Male\",IF('Simplified Loader'!BH85=\"F\",\"Female\",\"\"))))","v":""},{"$f":"IF('Simplified Loader'!BI85=\"Yes\",\"Yes\",IF('Simplified Loader'!BI85=\"No\",\"No\",IF('Simplified Loader'!BI85=\"Y\",\"Yes\",IF('Simplified Loader'!BI85=\"N\",\"No\",\"\"))))","v":""},{"$f":"IF('Simplified Loader'!BJ85=\"Yes\",\"Yes\",IF('Simplified Loader'!BJ85=\"No\",\"No\",IF('Simplified Loader'!BJ85=\"Y\",\"Yes\",IF('Simplified Loader'!BJ85=\"N\",\"No\",\"\"))))","v":""},{"$f":"IF('Simplified Loader'!BK85>0,'Simplified Loader'!BK85,\"\")","v":""},{"$f":"IF('Simplified Loader'!BL85>0,'Simplified Loader'!BL85,\"\")","v":""},{"$f":"IF('Simplified Loader'!BM85>0,'Simplified Loader'!BM85,\"\")","v":""},{"$f":"IF('Simplified Loader'!BN85=\"Male\",\"Male\",IF('Simplified Loader'!BN85=\"Female\",\"Female\",IF('Simplified Loader'!BN85=\"M\",\"Male\",IF('Simplified Loader'!BN85=\"F\",\"Female\",\"\"))))","v":""},{"$f":"IF('Simplified Loader'!BO85=\"Yes\",\"Yes\",IF('Simplified Loader'!BO85=\"No\",\"No\",IF('Simplified Loader'!BO85=\"Y\",\"Yes\",IF('Simplified Loader'!BO85=\"N\",\"No\",\"\"))))","v":""},{"$f":"IF('Simplified Loader'!BP85=\"Yes\",\"Yes\",IF('Simplified Loader'!BP85=\"No\",\"No\",IF('Simplified Loader'!BP85=\"Y\",\"Yes\",IF('Simplified Loader'!BP85=\"N\",\"No\",\"\"))))","v":""},{"$f":"IF('Simplified Loader'!BQ85>0,'Simplified Loader'!BQ85,\"\")","v":""},{"$f":"IF('Simplified Loader'!BR85>0,'Simplified Loader'!BR85,\"\")","v":""},{"$f":"IF('Simplified Loader'!BS85>0,'Simplified Loader'!BS85,\"\")","v":""},{"$f":"IF('Simplified Loader'!BT85=\"Male\",\"Male\",IF('Simplified Loader'!BT85=\"Female\",\"Female\",IF('Simplified Loader'!BT85=\"M\",\"Male\",IF('Simplified Loader'!BT85=\"F\",\"Female\",\"\"))))","v":""},{"$f":"IF('Simplified Loader'!BU85=\"Yes\",\"Yes\",IF('Simplified Loader'!BU85=\"No\",\"No\",IF('Simplified Loader'!BU85=\"Y\",\"Yes\",IF('Simplified Loader'!BU85=\"N\",\"No\",\"\"))))","v":""},{"$f":"IF('Simplified Loader'!BV85=\"Yes\",\"Yes\",IF('Simplified Loader'!BV85=\"No\",\"No\",IF('Simplified Loader'!BV85=\"Y\",\"Yes\",IF('Simplified Loader'!BV85=\"N\",\"No\",\"\"))))","v":""},{"$f":"IF('Simplified Loader'!BW85>0,'Simplified Loader'!BW85,\"\")","v":""},{"$f":"IF('Simplified Loader'!BX85>0,'Simplified Loader'!BX85,\"\")","v":""},{"$f":"IF('Simplified Loader'!BY85>0,'Simplified Loader'!BY85,\"\")","v":""},{"$f":"IF('Simplified Loader'!BZ85=\"Male\",\"Male\",IF('Simplified Loader'!BZ85=\"Female\",\"Female\",IF('Simplified Loader'!BZ85=\"M\",\"Male\",IF('Simplified Loader'!BZ85=\"F\",\"Female\",\"\"))))","v":""},{"$f":"IF('Simplified Loader'!CA85=\"Yes\",\"Yes\",IF('Simplified Loader'!CA85=\"No\",\"No\",IF('Simplified Loader'!CA85=\"Y\",\"Yes\",IF('Simplified Loader'!CA85=\"N\",\"No\",\"\"))))","v":""},{"$f":"IF('Simplified Loader'!CB85=\"Yes\",\"Yes\",IF('Simplified Loader'!CB85=\"No\",\"No\",IF('Simplified Loader'!CB85=\"Y\",\"Yes\",IF('Simplified Loader'!CB85=\"N\",\"No\",\"\"))))","v":""},{"$f":"IF('Simplified Loader'!CH85>0,'Simplified Loader'!CH85,\"\")","v":"    "}]
[{"$f":"IF('Simplified Loader'!A86>0,'Simplified Loader'!A86,\"\")","v":""},{"$f":"IF('Simplified Loader'!B86>0,'Simplified Loader'!B86,\"\")","v":""},{"$f":"IF('Simplified Loader'!C86>0,'Simplified Loader'!C86,\"\")","v":""},{"$f":"IF('Simplified Loader'!D86>0,'Simplified Loader'!D86,\"\")","v":""},{"$f":"IF('Simplified Loader'!E86>0,TEXT('Simplified Loader'!E86,\"000\"),\"\")","v":""},{"$f":"IF('Simplified Loader'!F86>0,'Simplified Loader'!F86,\"\")","v":""},{"$f":"IF('Simplified Loader'!G86>0,'Simplified Loader'!G86,\"\")","v":""},{"$f":"IF('Simplified Loader'!I86>0,'Simplified Loader'!I86,\"\")","v":""},{"$f":"IF('Simplified Loader'!J86>0,'Simplified Loader'!J86,\"\")","v":""},{"$f":"IF('Simplified Loader'!K86>0,'Simplified Loader'!K86,\"\")","v":""},{"$f":"IF('Simplified Loader'!L86>0,'Simplified Loader'!L86,\"\")","v":""},{"$f":"IF('Simplified Loader'!M86=\"Male\",\"Male\",IF('Simplified Loader'!M86=\"Female\",\"Female\",IF('Simplified Loader'!M86=\"M\",\"Male\",IF('Simplified Loader'!M86=\"F\",\"Female\",\"\"))))","v":""},{"$f":"IF('Simplified Loader'!N86=\"Yes\",\"Yes\",IF('Simplified Loader'!N86=\"No\",\"No\",IF('Simplified Loader'!N86=\"Y\",\"Yes\",IF('Simplified Loader'!N86=\"N\",\"No\",\"\"))))","v":""},{"$f":"IF('Simplified Loader'!O86=\"No\",\"Single\",IF('Simplified Loader'!O86=\"Yes\",\"Family\",IF('Simplified Loader'!O86=\"N\",\"Single\",IF('Simplified Loader'!O86=\"Y\",\"Family\",IF('Simplified Loader'!O86=\"In-force\",\"Family\",IF('Simplified Loader'!O86=\"In force\",\"Family\",IF('Simplified Loader'!O86=\"Applies\",\"Family\",IF('Simplified Loader'!O86=\"Applicable\",\"Family\",\"\"))))))))","v":""},{"$f":"IF('Simplified Loader'!P86=\"English\",\"English\",IF('Simplified Loader'!P86=\"French\",\"French\",IF('Simplified Loader'!P86=\"E\",\"English\",IF('Simplified Loader'!P86=\"F\",\"French\",\"\"))))","v":""},{"$f":"IF('Simplified Loader'!Q86=\"Yes\",\"Yes\",IF('Simplified Loader'!Q86=\"No\",\"No\",IF('Simplified Loader'!Q86=\"Y\",\"Yes\",IF('Simplified Loader'!Q86=\"N\",\"No\",\"\"))))","v":""},{"$f":"IF('Simplified Loader'!R86>0,'Simplified Loader'!R86,\"\")","v":""},{"$f":"IF('Simplified Loader'!S86>0,'Simplified Loader'!S86,\"\")","v":""},{"$f":"IF('Simplified Loader'!T86>0,'Simplified Loader'!T86,\"\")","v":""},{"$f":"IF('Simplified Loader'!U86>0,'Simplified Loader'!U86,\"\")","v":""},{"$f":"IF('Simplified Loader'!V86=\"Waive\",\"Yes\",\"\")","v":""},{"$f":"IF('Simplified Loader'!W86=\"Waive\",\"Yes\",\"\")","v":""},{"$f":"IF('Simplified Loader'!X86>0,'Simplified Loader'!X86,\"\")","v":""},{"$f":"IF('Simplified Loader'!Y86>0,'Simplified Loader'!Y86,\"\")","v":""},{"$f":"IF('Simplified Loader'!Z86>0,'Simplified Loader'!Z86,\"\")","v":""},{"$f":"IF('Simplified Loader'!AA86>0,'Simplified Loader'!AA86,\"\")","v":""},{"$f":"IF('Simplified Loader'!AB86>0,'Simplified Loader'!AB86,\"\")","v":""},{"$f":"IF('Simplified Loader'!AC86>0,'Simplified Loader'!AC86,\"\")","v":" "},{"$f":"IF('Simplified Loader'!AE86>0,'Simplified Loader'!AE86&\" \",\"\")&IF('Simplified Loader'!AD86>0,'Simplified Loader'!AD86,\"\")","v":""},null,{"$f":"IF('Simplified Loader'!AF86>0,'Simplified Loader'!AF86,\"\")","v":""},{"$f":"IF('Simplified Loader'!AG86>0,'Simplified Loader'!AG86,\"\")","v":""},{"$f":"IF('Simplified Loader'!AH86>0,'Simplified Loader'!AH86,\"\")","v":""},{"$f":"IF('Simplified Loader'!AI86>0,'Simplified Loader'!AI86,\"\")","v":""},{"$f":"IF('Simplified Loader'!AJ86>0,'Simplified Loader'!AJ86,\"\")","v":""},{"$f":"IF('Simplified Loader'!AK86>0,'Simplified Loader'!AK86,\"\")","v":""},{"$f":"IF('Simplified Loader'!AL86>0,'Simplified Loader'!AL86,\"\")","v":""},{"$f":"IF('Simplified Loader'!AM86>0,'Simplified Loader'!AM86,\"\")","v":""},{"$f":"IF('Simplified Loader'!AN86=\"Male\",\"Male\",IF('Simplified Loader'!AN86=\"Female\",\"Female\",IF('Simplified Loader'!AN86=\"M\",\"Male\",IF('Simplified Loader'!AN86=\"F\",\"Female\",\"\"))))","v":""},{"$f":"IF('Simplified Loader'!AO86=\"Single\",\"Single\",IF('Simplified Loader'!AO86=\"Family\",\"Family\",IF('Simplified Loader'!AO86=\"S\",\"Single\",IF('Simplified Loader'!AO86=\"F\",\"Family\",\"\"))))","v":""},{"$f":"IF('Simplified Loader'!AP86=\"Single\",\"Single\",IF('Simplified Loader'!AP86=\"Family\",\"Family\",IF('Simplified Loader'!AP86=\"S\",\"Single\",IF('Simplified Loader'!AP86=\"F\",\"Family\",\"\"))))","v":""},{"$f":"IF('Simplified Loader'!AQ86>0,'Simplified Loader'!AQ86,\"\")","v":""},{"$f":"IF('Simplified Loader'!AR86=\"Yes\",\"Yes\",IF('Simplified Loader'!AR86=\"No\",\"No\",IF('Simplified Loader'!AR86=\"Y\",\"Yes\",IF('Simplified Loader'!AR86=\"N\",\"No\",\"\"))))","v":""},{"$f":"IF('Simplified Loader'!AS86>0,'Simplified Loader'!AS86,\"\")","v":""},{"$f":"IF('Simplified Loader'!AT86>0,'Simplified Loader'!AT86,\"\")","v":""},{"$f":"IF('Simplified Loader'!AU86>0,'Simplified Loader'!AU86,\"\")","v":""},{"$f":"IF('Simplified Loader'!AV86=\"Male\",\"Male\",IF('Simplified Loader'!AV86=\"Female\",\"Female\",IF('Simplified Loader'!AV86=\"M\",\"Male\",IF('Simplified Loader'!AV86=\"F\",\"Female\",\"\"))))","v":""},{"$f":"IF('Simplified Loader'!AW86=\"Yes\",\"Yes\",IF('Simplified Loader'!AW86=\"No\",\"No\",IF('Simplified Loader'!AW86=\"Y\",\"Yes\",IF('Simplified Loader'!AW86=\"N\",\"No\",\"\"))))","v":""},{"$f":"IF('Simplified Loader'!AX86=\"Yes\",\"Yes\",IF('Simplified Loader'!AX86=\"No\",\"No\",IF('Simplified Loader'!AX86=\"Y\",\"Yes\",IF('Simplified Loader'!AX86=\"N\",\"No\",\"\"))))","v":""},{"$f":"IF('Simplified Loader'!AY86>0,'Simplified Loader'!AY86,\"\")","v":""},{"$f":"IF('Simplified Loader'!AZ86>0,'Simplified Loader'!AZ86,\"\")","v":""},{"$f":"IF('Simplified Loader'!BA86>0,'Simplified Loader'!BA86,\"\")","v":""},{"$f":"IF('Simplified Loader'!BB86=\"Male\",\"Male\",IF('Simplified Loader'!BB86=\"Female\",\"Female\",IF('Simplified Loader'!BB86=\"M\",\"Male\",IF('Simplified Loader'!BB86=\"F\",\"Female\",\"\"))))","v":""},{"$f":"IF('Simplified Loader'!BC86=\"Yes\",\"Yes\",IF('Simplified Loader'!BC86=\"No\",\"No\",IF('Simplified Loader'!BC86=\"Y\",\"Yes\",IF('Simplified Loader'!BC86=\"N\",\"No\",\"\"))))","v":""},{"$f":"IF('Simplified Loader'!BD86=\"Yes\",\"Yes\",IF('Simplified Loader'!BD86=\"No\",\"No\",IF('Simplified Loader'!BD86=\"Y\",\"Yes\",IF('Simplified Loader'!BD86=\"N\",\"No\",\"\"))))","v":""},{"$f":"IF('Simplified Loader'!BE86>0,'Simplified Loader'!BE86,\"\")","v":""},{"$f":"IF('Simplified Loader'!BF86>0,'Simplified Loader'!BF86,\"\")","v":""},{"$f":"IF('Simplified Loader'!BG86>0,'Simplified Loader'!BG86,\"\")","v":""},{"$f":"IF('Simplified Loader'!BH86=\"Male\",\"Male\",IF('Simplified Loader'!BH86=\"Female\",\"Female\",IF('Simplified Loader'!BH86=\"M\",\"Male\",IF('Simplified Loader'!BH86=\"F\",\"Female\",\"\"))))","v":""},{"$f":"IF('Simplified Loader'!BI86=\"Yes\",\"Yes\",IF('Simplified Loader'!BI86=\"No\",\"No\",IF('Simplified Loader'!BI86=\"Y\",\"Yes\",IF('Simplified Loader'!BI86=\"N\",\"No\",\"\"))))","v":""},{"$f":"IF('Simplified Loader'!BJ86=\"Yes\",\"Yes\",IF('Simplified Loader'!BJ86=\"No\",\"No\",IF('Simplified Loader'!BJ86=\"Y\",\"Yes\",IF('Simplified Loader'!BJ86=\"N\",\"No\",\"\"))))","v":""},{"$f":"IF('Simplified Loader'!BK86>0,'Simplified Loader'!BK86,\"\")","v":""},{"$f":"IF('Simplified Loader'!BL86>0,'Simplified Loader'!BL86,\"\")","v":""},{"$f":"IF('Simplified Loader'!BM86>0,'Simplified Loader'!BM86,\"\")","v":""},{"$f":"IF('Simplified Loader'!BN86=\"Male\",\"Male\",IF('Simplified Loader'!BN86=\"Female\",\"Female\",IF('Simplified Loader'!BN86=\"M\",\"Male\",IF('Simplified Loader'!BN86=\"F\",\"Female\",\"\"))))","v":""},{"$f":"IF('Simplified Loader'!BO86=\"Yes\",\"Yes\",IF('Simplified Loader'!BO86=\"No\",\"No\",IF('Simplified Loader'!BO86=\"Y\",\"Yes\",IF('Simplified Loader'!BO86=\"N\",\"No\",\"\"))))","v":""},{"$f":"IF('Simplified Loader'!BP86=\"Yes\",\"Yes\",IF('Simplified Loader'!BP86=\"No\",\"No\",IF('Simplified Loader'!BP86=\"Y\",\"Yes\",IF('Simplified Loader'!BP86=\"N\",\"No\",\"\"))))","v":""},{"$f":"IF('Simplified Loader'!BQ86>0,'Simplified Loader'!BQ86,\"\")","v":""},{"$f":"IF('Simplified Loader'!BR86>0,'Simplified Loader'!BR86,\"\")","v":""},{"$f":"IF('Simplified Loader'!BS86>0,'Simplified Loader'!BS86,\"\")","v":""},{"$f":"IF('Simplified Loader'!BT86=\"Male\",\"Male\",IF('Simplified Loader'!BT86=\"Female\",\"Female\",IF('Simplified Loader'!BT86=\"M\",\"Male\",IF('Simplified Loader'!BT86=\"F\",\"Female\",\"\"))))","v":""},{"$f":"IF('Simplified Loader'!BU86=\"Yes\",\"Yes\",IF('Simplified Loader'!BU86=\"No\",\"No\",IF('Simplified Loader'!BU86=\"Y\",\"Yes\",IF('Simplified Loader'!BU86=\"N\",\"No\",\"\"))))","v":""},{"$f":"IF('Simplified Loader'!BV86=\"Yes\",\"Yes\",IF('Simplified Loader'!BV86=\"No\",\"No\",IF('Simplified Loader'!BV86=\"Y\",\"Yes\",IF('Simplified Loader'!BV86=\"N\",\"No\",\"\"))))","v":""},{"$f":"IF('Simplified Loader'!BW86>0,'Simplified Loader'!BW86,\"\")","v":""},{"$f":"IF('Simplified Loader'!BX86>0,'Simplified Loader'!BX86,\"\")","v":""},{"$f":"IF('Simplified Loader'!BY86>0,'Simplified Loader'!BY86,\"\")","v":""},{"$f":"IF('Simplified Loader'!BZ86=\"Male\",\"Male\",IF('Simplified Loader'!BZ86=\"Female\",\"Female\",IF('Simplified Loader'!BZ86=\"M\",\"Male\",IF('Simplified Loader'!BZ86=\"F\",\"Female\",\"\"))))","v":""},{"$f":"IF('Simplified Loader'!CA86=\"Yes\",\"Yes\",IF('Simplified Loader'!CA86=\"No\",\"No\",IF('Simplified Loader'!CA86=\"Y\",\"Yes\",IF('Simplified Loader'!CA86=\"N\",\"No\",\"\"))))","v":""},{"$f":"IF('Simplified Loader'!CB86=\"Yes\",\"Yes\",IF('Simplified Loader'!CB86=\"No\",\"No\",IF('Simplified Loader'!CB86=\"Y\",\"Yes\",IF('Simplified Loader'!CB86=\"N\",\"No\",\"\"))))","v":""},{"$f":"IF('Simplified Loader'!CH86>0,'Simplified Loader'!CH86,\"\")","v":"    "}]
[{"$f":"IF('Simplified Loader'!A87>0,'Simplified Loader'!A87,\"\")","v":""},{"$f":"IF('Simplified Loader'!B87>0,'Simplified Loader'!B87,\"\")","v":""},{"$f":"IF('Simplified Loader'!C87>0,'Simplified Loader'!C87,\"\")","v":""},{"$f":"IF('Simplified Loader'!D87>0,'Simplified Loader'!D87,\"\")","v":""},{"$f":"IF('Simplified Loader'!E87>0,TEXT('Simplified Loader'!E87,\"000\"),\"\")","v":""},{"$f":"IF('Simplified Loader'!F87>0,'Simplified Loader'!F87,\"\")","v":""},{"$f":"IF('Simplified Loader'!G87>0,'Simplified Loader'!G87,\"\")","v":""},{"$f":"IF('Simplified Loader'!I87>0,'Simplified Loader'!I87,\"\")","v":""},{"$f":"IF('Simplified Loader'!J87>0,'Simplified Loader'!J87,\"\")","v":""},{"$f":"IF('Simplified Loader'!K87>0,'Simplified Loader'!K87,\"\")","v":""},{"$f":"IF('Simplified Loader'!L87>0,'Simplified Loader'!L87,\"\")","v":""},{"$f":"IF('Simplified Loader'!M87=\"Male\",\"Male\",IF('Simplified Loader'!M87=\"Female\",\"Female\",IF('Simplified Loader'!M87=\"M\",\"Male\",IF('Simplified Loader'!M87=\"F\",\"Female\",\"\"))))","v":""},{"$f":"IF('Simplified Loader'!N87=\"Yes\",\"Yes\",IF('Simplified Loader'!N87=\"No\",\"No\",IF('Simplified Loader'!N87=\"Y\",\"Yes\",IF('Simplified Loader'!N87=\"N\",\"No\",\"\"))))","v":""},{"$f":"IF('Simplified Loader'!O87=\"No\",\"Single\",IF('Simplified Loader'!O87=\"Yes\",\"Family\",IF('Simplified Loader'!O87=\"N\",\"Single\",IF('Simplified Loader'!O87=\"Y\",\"Family\",IF('Simplified Loader'!O87=\"In-force\",\"Family\",IF('Simplified Loader'!O87=\"In force\",\"Family\",IF('Simplified Loader'!O87=\"Applies\",\"Family\",IF('Simplified Loader'!O87=\"Applicable\",\"Family\",\"\"))))))))","v":""},{"$f":"IF('Simplified Loader'!P87=\"English\",\"English\",IF('Simplified Loader'!P87=\"French\",\"French\",IF('Simplified Loader'!P87=\"E\",\"English\",IF('Simplified Loader'!P87=\"F\",\"French\",\"\"))))","v":""},{"$f":"IF('Simplified Loader'!Q87=\"Yes\",\"Yes\",IF('Simplified Loader'!Q87=\"No\",\"No\",IF('Simplified Loader'!Q87=\"Y\",\"Yes\",IF('Simplified Loader'!Q87=\"N\",\"No\",\"\"))))","v":""},{"$f":"IF('Simplified Loader'!R87>0,'Simplified Loader'!R87,\"\")","v":""},{"$f":"IF('Simplified Loader'!S87>0,'Simplified Loader'!S87,\"\")","v":""},{"$f":"IF('Simplified Loader'!T87>0,'Simplified Loader'!T87,\"\")","v":""},{"$f":"IF('Simplified Loader'!U87>0,'Simplified Loader'!U87,\"\")","v":""},{"$f":"IF('Simplified Loader'!V87=\"Waive\",\"Yes\",\"\")","v":""},{"$f":"IF('Simplified Loader'!W87=\"Waive\",\"Yes\",\"\")","v":""},{"$f":"IF('Simplified Loader'!X87>0,'Simplified Loader'!X87,\"\")","v":""},{"$f":"IF('Simplified Loader'!Y87>0,'Simplified Loader'!Y87,\"\")","v":""},{"$f":"IF('Simplified Loader'!Z87>0,'Simplified Loader'!Z87,\"\")","v":""},{"$f":"IF('Simplified Loader'!AA87>0,'Simplified Loader'!AA87,\"\")","v":""},{"$f":"IF('Simplified Loader'!AB87>0,'Simplified Loader'!AB87,\"\")","v":""},{"$f":"IF('Simplified Loader'!AC87>0,'Simplified Loader'!AC87,\"\")","v":" "},{"$f":"IF('Simplified Loader'!AE87>0,'Simplified Loader'!AE87&\" \",\"\")&IF('Simplified Loader'!AD87>0,'Simplified Loader'!AD87,\"\")","v":""},null,{"$f":"IF('Simplified Loader'!AF87>0,'Simplified Loader'!AF87,\"\")","v":""},{"$f":"IF('Simplified Loader'!AG87>0,'Simplified Loader'!AG87,\"\")","v":""},{"$f":"IF('Simplified Loader'!AH87>0,'Simplified Loader'!AH87,\"\")","v":""},{"$f":"IF('Simplified Loader'!AI87>0,'Simplified Loader'!AI87,\"\")","v":""},{"$f":"IF('Simplified Loader'!AJ87>0,'Simplified Loader'!AJ87,\"\")","v":""},{"$f":"IF('Simplified Loader'!AK87>0,'Simplified Loader'!AK87,\"\")","v":""},{"$f":"IF('Simplified Loader'!AL87>0,'Simplified Loader'!AL87,\"\")","v":""},{"$f":"IF('Simplified Loader'!AM87>0,'Simplified Loader'!AM87,\"\")","v":""},{"$f":"IF('Simplified Loader'!AN87=\"Male\",\"Male\",IF('Simplified Loader'!AN87=\"Female\",\"Female\",IF('Simplified Loader'!AN87=\"M\",\"Male\",IF('Simplified Loader'!AN87=\"F\",\"Female\",\"\"))))","v":""},{"$f":"IF('Simplified Loader'!AO87=\"Single\",\"Single\",IF('Simplified Loader'!AO87=\"Family\",\"Family\",IF('Simplified Loader'!AO87=\"S\",\"Single\",IF('Simplified Loader'!AO87=\"F\",\"Family\",\"\"))))","v":""},{"$f":"IF('Simplified Loader'!AP87=\"Single\",\"Single\",IF('Simplified Loader'!AP87=\"Family\",\"Family\",IF('Simplified Loader'!AP87=\"S\",\"Single\",IF('Simplified Loader'!AP87=\"F\",\"Family\",\"\"))))","v":""},{"$f":"IF('Simplified Loader'!AQ87>0,'Simplified Loader'!AQ87,\"\")","v":""},{"$f":"IF('Simplified Loader'!AR87=\"Yes\",\"Yes\",IF('Simplified Loader'!AR87=\"No\",\"No\",IF('Simplified Loader'!AR87=\"Y\",\"Yes\",IF('Simplified Loader'!AR87=\"N\",\"No\",\"\"))))","v":""},{"$f":"IF('Simplified Loader'!AS87>0,'Simplified Loader'!AS87,\"\")","v":""},{"$f":"IF('Simplified Loader'!AT87>0,'Simplified Loader'!AT87,\"\")","v":""},{"$f":"IF('Simplified Loader'!AU87>0,'Simplified Loader'!AU87,\"\")","v":""},{"$f":"IF('Simplified Loader'!AV87=\"Male\",\"Male\",IF('Simplified Loader'!AV87=\"Female\",\"Female\",IF('Simplified Loader'!AV87=\"M\",\"Male\",IF('Simplified Loader'!AV87=\"F\",\"Female\",\"\"))))","v":""},{"$f":"IF('Simplified Loader'!AW87=\"Yes\",\"Yes\",IF('Simplified Loader'!AW87=\"No\",\"No\",IF('Simplified Loader'!AW87=\"Y\",\"Yes\",IF('Simplified Loader'!AW87=\"N\",\"No\",\"\"))))","v":""},{"$f":"IF('Simplified Loader'!AX87=\"Yes\",\"Yes\",IF('Simplified Loader'!AX87=\"No\",\"No\",IF('Simplified Loader'!AX87=\"Y\",\"Yes\",IF('Simplified Loader'!AX87=\"N\",\"No\",\"\"))))","v":""},{"$f":"IF('Simplified Loader'!AY87>0,'Simplified Loader'!AY87,\"\")","v":""},{"$f":"IF('Simplified Loader'!AZ87>0,'Simplified Loader'!AZ87,\"\")","v":""},{"$f":"IF('Simplified Loader'!BA87>0,'Simplified Loader'!BA87,\"\")","v":""},{"$f":"IF('Simplified Loader'!BB87=\"Male\",\"Male\",IF('Simplified Loader'!BB87=\"Female\",\"Female\",IF('Simplified Loader'!BB87=\"M\",\"Male\",IF('Simplified Loader'!BB87=\"F\",\"Female\",\"\"))))","v":""},{"$f":"IF('Simplified Loader'!BC87=\"Yes\",\"Yes\",IF('Simplified Loader'!BC87=\"No\",\"No\",IF('Simplified Loader'!BC87=\"Y\",\"Yes\",IF('Simplified Loader'!BC87=\"N\",\"No\",\"\"))))","v":""},{"$f":"IF('Simplified Loader'!BD87=\"Yes\",\"Yes\",IF('Simplified Loader'!BD87=\"No\",\"No\",IF('Simplified Loader'!BD87=\"Y\",\"Yes\",IF('Simplified Loader'!BD87=\"N\",\"No\",\"\"))))","v":""},{"$f":"IF('Simplified Loader'!BE87>0,'Simplified Loader'!BE87,\"\")","v":""},{"$f":"IF('Simplified Loader'!BF87>0,'Simplified Loader'!BF87,\"\")","v":""},{"$f":"IF('Simplified Loader'!BG87>0,'Simplified Loader'!BG87,\"\")","v":""},{"$f":"IF('Simplified Loader'!BH87=\"Male\",\"Male\",IF('Simplified Loader'!BH87=\"Female\",\"Female\",IF('Simplified Loader'!BH87=\"M\",\"Male\",IF('Simplified Loader'!BH87=\"F\",\"Female\",\"\"))))","v":""},{"$f":"IF('Simplified Loader'!BI87=\"Yes\",\"Yes\",IF('Simplified Loader'!BI87=\"No\",\"No\",IF('Simplified Loader'!BI87=\"Y\",\"Yes\",IF('Simplified Loader'!BI87=\"N\",\"No\",\"\"))))","v":""},{"$f":"IF('Simplified Loader'!BJ87=\"Yes\",\"Yes\",IF('Simplified Loader'!BJ87=\"No\",\"No\",IF('Simplified Loader'!BJ87=\"Y\",\"Yes\",IF('Simplified Loader'!BJ87=\"N\",\"No\",\"\"))))","v":""},{"$f":"IF('Simplified Loader'!BK87>0,'Simplified Loader'!BK87,\"\")","v":""},{"$f":"IF('Simplified Loader'!BL87>0,'Simplified Loader'!BL87,\"\")","v":""},{"$f":"IF('Simplified Loader'!BM87>0,'Simplified Loader'!BM87,\"\")","v":""},{"$f":"IF('Simplified Loader'!BN87=\"Male\",\"Male\",IF('Simplified Loader'!BN87=\"Female\",\"Female\",IF('Simplified Loader'!BN87=\"M\",\"Male\",IF('Simplified Loader'!BN87=\"F\",\"Female\",\"\"))))","v":""},{"$f":"IF('Simplified Loader'!BO87=\"Yes\",\"Yes\",IF('Simplified Loader'!BO87=\"No\",\"No\",IF('Simplified Loader'!BO87=\"Y\",\"Yes\",IF('Simplified Loader'!BO87=\"N\",\"No\",\"\"))))","v":""},{"$f":"IF('Simplified Loader'!BP87=\"Yes\",\"Yes\",IF('Simplified Loader'!BP87=\"No\",\"No\",IF('Simplified Loader'!BP87=\"Y\",\"Yes\",IF('Simplified Loader'!BP87=\"N\",\"No\",\"\"))))","v":""},{"$f":"IF('Simplified Loader'!BQ87>0,'Simplified Loader'!BQ87,\"\")","v":""},{"$f":"IF('Simplified Loader'!BR87>0,'Simplified Loader'!BR87,\"\")","v":""},{"$f":"IF('Simplified Loader'!BS87>0,'Simplified Loader'!BS87,\"\")","v":""},{"$f":"IF('Simplified Loader'!BT87=\"Male\",\"Male\",IF('Simplified Loader'!BT87=\"Female\",\"Female\",IF('Simplified Loader'!BT87=\"M\",\"Male\",IF('Simplified Loader'!BT87=\"F\",\"Female\",\"\"))))","v":""},{"$f":"IF('Simplified Loader'!BU87=\"Yes\",\"Yes\",IF('Simplified Loader'!BU87=\"No\",\"No\",IF('Simplified Loader'!BU87=\"Y\",\"Yes\",IF('Simplified Loader'!BU87=\"N\",\"No\",\"\"))))","v":""},{"$f":"IF('Simplified Loader'!BV87=\"Yes\",\"Yes\",IF('Simplified Loader'!BV87=\"No\",\"No\",IF('Simplified Loader'!BV87=\"Y\",\"Yes\",IF('Simplified Loader'!BV87=\"N\",\"No\",\"\"))))","v":""},{"$f":"IF('Simplified Loader'!BW87>0,'Simplified Loader'!BW87,\"\")","v":""},{"$f":"IF('Simplified Loader'!BX87>0,'Simplified Loader'!BX87,\"\")","v":""},{"$f":"IF('Simplified Loader'!BY87>0,'Simplified Loader'!BY87,\"\")","v":""},{"$f":"IF('Simplified Loader'!BZ87=\"Male\",\"Male\",IF('Simplified Loader'!BZ87=\"Female\",\"Female\",IF('Simplified Loader'!BZ87=\"M\",\"Male\",IF('Simplified Loader'!BZ87=\"F\",\"Female\",\"\"))))","v":""},{"$f":"IF('Simplified Loader'!CA87=\"Yes\",\"Yes\",IF('Simplified Loader'!CA87=\"No\",\"No\",IF('Simplified Loader'!CA87=\"Y\",\"Yes\",IF('Simplified Loader'!CA87=\"N\",\"No\",\"\"))))","v":""},{"$f":"IF('Simplified Loader'!CB87=\"Yes\",\"Yes\",IF('Simplified Loader'!CB87=\"No\",\"No\",IF('Simplified Loader'!CB87=\"Y\",\"Yes\",IF('Simplified Loader'!CB87=\"N\",\"No\",\"\"))))","v":""},{"$f":"IF('Simplified Loader'!CH87>0,'Simplified Loader'!CH87,\"\")","v":"    "}]
[{"$f":"IF('Simplified Loader'!A88>0,'Simplified Loader'!A88,\"\")","v":""},{"$f":"IF('Simplified Loader'!B88>0,'Simplified Loader'!B88,\"\")","v":""},{"$f":"IF('Simplified Loader'!C88>0,'Simplified Loader'!C88,\"\")","v":""},{"$f":"IF('Simplified Loader'!D88>0,'Simplified Loader'!D88,\"\")","v":""},{"$f":"IF('Simplified Loader'!E88>0,TEXT('Simplified Loader'!E88,\"000\"),\"\")","v":""},{"$f":"IF('Simplified Loader'!F88>0,'Simplified Loader'!F88,\"\")","v":""},{"$f":"IF('Simplified Loader'!G88>0,'Simplified Loader'!G88,\"\")","v":""},{"$f":"IF('Simplified Loader'!I88>0,'Simplified Loader'!I88,\"\")","v":""},{"$f":"IF('Simplified Loader'!J88>0,'Simplified Loader'!J88,\"\")","v":""},{"$f":"IF('Simplified Loader'!K88>0,'Simplified Loader'!K88,\"\")","v":""},{"$f":"IF('Simplified Loader'!L88>0,'Simplified Loader'!L88,\"\")","v":""},{"$f":"IF('Simplified Loader'!M88=\"Male\",\"Male\",IF('Simplified Loader'!M88=\"Female\",\"Female\",IF('Simplified Loader'!M88=\"M\",\"Male\",IF('Simplified Loader'!M88=\"F\",\"Female\",\"\"))))","v":""},{"$f":"IF('Simplified Loader'!N88=\"Yes\",\"Yes\",IF('Simplified Loader'!N88=\"No\",\"No\",IF('Simplified Loader'!N88=\"Y\",\"Yes\",IF('Simplified Loader'!N88=\"N\",\"No\",\"\"))))","v":""},{"$f":"IF('Simplified Loader'!O88=\"No\",\"Single\",IF('Simplified Loader'!O88=\"Yes\",\"Family\",IF('Simplified Loader'!O88=\"N\",\"Single\",IF('Simplified Loader'!O88=\"Y\",\"Family\",IF('Simplified Loader'!O88=\"In-force\",\"Family\",IF('Simplified Loader'!O88=\"In force\",\"Family\",IF('Simplified Loader'!O88=\"Applies\",\"Family\",IF('Simplified Loader'!O88=\"Applicable\",\"Family\",\"\"))))))))","v":""},{"$f":"IF('Simplified Loader'!P88=\"English\",\"English\",IF('Simplified Loader'!P88=\"French\",\"French\",IF('Simplified Loader'!P88=\"E\",\"English\",IF('Simplified Loader'!P88=\"F\",\"French\",\"\"))))","v":""},{"$f":"IF('Simplified Loader'!Q88=\"Yes\",\"Yes\",IF('Simplified Loader'!Q88=\"No\",\"No\",IF('Simplified Loader'!Q88=\"Y\",\"Yes\",IF('Simplified Loader'!Q88=\"N\",\"No\",\"\"))))","v":""},{"$f":"IF('Simplified Loader'!R88>0,'Simplified Loader'!R88,\"\")","v":""},{"$f":"IF('Simplified Loader'!S88>0,'Simplified Loader'!S88,\"\")","v":""},{"$f":"IF('Simplified Loader'!T88>0,'Simplified Loader'!T88,\"\")","v":""},{"$f":"IF('Simplified Loader'!U88>0,'Simplified Loader'!U88,\"\")","v":""},{"$f":"IF('Simplified Loader'!V88=\"Waive\",\"Yes\",\"\")","v":""},{"$f":"IF('Simplified Loader'!W88=\"Waive\",\"Yes\",\"\")","v":""},{"$f":"IF('Simplified Loader'!X88>0,'Simplified Loader'!X88,\"\")","v":""},{"$f":"IF('Simplified Loader'!Y88>0,'Simplified Loader'!Y88,\"\")","v":""},{"$f":"IF('Simplified Loader'!Z88>0,'Simplified Loader'!Z88,\"\")","v":""},{"$f":"IF('Simplified Loader'!AA88>0,'Simplified Loader'!AA88,\"\")","v":""},{"$f":"IF('Simplified Loader'!AB88>0,'Simplified Loader'!AB88,\"\")","v":""},{"$f":"IF('Simplified Loader'!AC88>0,'Simplified Loader'!AC88,\"\")","v":" "},{"$f":"IF('Simplified Loader'!AE88>0,'Simplified Loader'!AE88&\" \",\"\")&IF('Simplified Loader'!AD88>0,'Simplified Loader'!AD88,\"\")","v":""},null,{"$f":"IF('Simplified Loader'!AF88>0,'Simplified Loader'!AF88,\"\")","v":""},{"$f":"IF('Simplified Loader'!AG88>0,'Simplified Loader'!AG88,\"\")","v":""},{"$f":"IF('Simplified Loader'!AH88>0,'Simplified Loader'!AH88,\"\")","v":""},{"$f":"IF('Simplified Loader'!AI88>0,'Simplified Loader'!AI88,\"\")","v":""},{"$f":"IF('Simplified Loader'!AJ88>0,'Simplified Loader'!AJ88,\"\")","v":""},{"$f":"IF('Simplified Loader'!AK88>0,'Simplified Loader'!AK88,\"\")","v":""},{"$f":"IF('Simplified Loader'!AL88>0,'Simplified Loader'!AL88,\"\")","v":""},{"$f":"IF('Simplified Loader'!AM88>0,'Simplified Loader'!AM88,\"\")","v":""},{"$f":"IF('Simplified Loader'!AN88=\"Male\",\"Male\",IF('Simplified Loader'!AN88=\"Female\",\"Female\",IF('Simplified Loader'!AN88=\"M\",\"Male\",IF('Simplified Loader'!AN88=\"F\",\"Female\",\"\"))))","v":""},{"$f":"IF('Simplified Loader'!AO88=\"Single\",\"Single\",IF('Simplified Loader'!AO88=\"Family\",\"Family\",IF('Simplified Loader'!AO88=\"S\",\"Single\",IF('Simplified Loader'!AO88=\"F\",\"Family\",\"\"))))","v":""},{"$f":"IF('Simplified Loader'!AP88=\"Single\",\"Single\",IF('Simplified Loader'!AP88=\"Family\",\"Family\",IF('Simplified Loader'!AP88=\"S\",\"Single\",IF('Simplified Loader'!AP88=\"F\",\"Family\",\"\"))))","v":""},{"$f":"IF('Simplified Loader'!AQ88>0,'Simplified Loader'!AQ88,\"\")","v":""},{"$f":"IF('Simplified Loader'!AR88=\"Yes\",\"Yes\",IF('Simplified Loader'!AR88=\"No\",\"No\",IF('Simplified Loader'!AR88=\"Y\",\"Yes\",IF('Simplified Loader'!AR88=\"N\",\"No\",\"\"))))","v":""},{"$f":"IF('Simplified Loader'!AS88>0,'Simplified Loader'!AS88,\"\")","v":""},{"$f":"IF('Simplified Loader'!AT88>0,'Simplified Loader'!AT88,\"\")","v":""},{"$f":"IF('Simplified Loader'!AU88>0,'Simplified Loader'!AU88,\"\")","v":""},{"$f":"IF('Simplified Loader'!AV88=\"Male\",\"Male\",IF('Simplified Loader'!AV88=\"Female\",\"Female\",IF('Simplified Loader'!AV88=\"M\",\"Male\",IF('Simplified Loader'!AV88=\"F\",\"Female\",\"\"))))","v":""},{"$f":"IF('Simplified Loader'!AW88=\"Yes\",\"Yes\",IF('Simplified Loader'!AW88=\"No\",\"No\",IF('Simplified Loader'!AW88=\"Y\",\"Yes\",IF('Simplified Loader'!AW88=\"N\",\"No\",\"\"))))","v":""},{"$f":"IF('Simplified Loader'!AX88=\"Yes\",\"Yes\",IF('Simplified Loader'!AX88=\"No\",\"No\",IF('Simplified Loader'!AX88=\"Y\",\"Yes\",IF('Simplified Loader'!AX88=\"N\",\"No\",\"\"))))","v":""},{"$f":"IF('Simplified Loader'!AY88>0,'Simplified Loader'!AY88,\"\")","v":""},{"$f":"IF('Simplified Loader'!AZ88>0,'Simplified Loader'!AZ88,\"\")","v":""},{"$f":"IF('Simplified Loader'!BA88>0,'Simplified Loader'!BA88,\"\")","v":""},{"$f":"IF('Simplified Loader'!BB88=\"Male\",\"Male\",IF('Simplified Loader'!BB88=\"Female\",\"Female\",IF('Simplified Loader'!BB88=\"M\",\"Male\",IF('Simplified Loader'!BB88=\"F\",\"Female\",\"\"))))","v":""},{"$f":"IF('Simplified Loader'!BC88=\"Yes\",\"Yes\",IF('Simplified Loader'!BC88=\"No\",\"No\",IF('Simplified Loader'!BC88=\"Y\",\"Yes\",IF('Simplified Loader'!BC88=\"N\",\"No\",\"\"))))","v":""},{"$f":"IF('Simplified Loader'!BD88=\"Yes\",\"Yes\",IF('Simplified Loader'!BD88=\"No\",\"No\",IF('Simplified Loader'!BD88=\"Y\",\"Yes\",IF('Simplified Loader'!BD88=\"N\",\"No\",\"\"))))","v":""},{"$f":"IF('Simplified Loader'!BE88>0,'Simplified Loader'!BE88,\"\")","v":""},{"$f":"IF('Simplified Loader'!BF88>0,'Simplified Loader'!BF88,\"\")","v":""},{"$f":"IF('Simplified Loader'!BG88>0,'Simplified Loader'!BG88,\"\")","v":""},{"$f":"IF('Simplified Loader'!BH88=\"Male\",\"Male\",IF('Simplified Loader'!BH88=\"Female\",\"Female\",IF('Simplified Loader'!BH88=\"M\",\"Male\",IF('Simplified Loader'!BH88=\"F\",\"Female\",\"\"))))","v":""},{"$f":"IF('Simplified Loader'!BI88=\"Yes\",\"Yes\",IF('Simplified Loader'!BI88=\"No\",\"No\",IF('Simplified Loader'!BI88=\"Y\",\"Yes\",IF('Simplified Loader'!BI88=\"N\",\"No\",\"\"))))","v":""},{"$f":"IF('Simplified Loader'!BJ88=\"Yes\",\"Yes\",IF('Simplified Loader'!BJ88=\"No\",\"No\",IF('Simplified Loader'!BJ88=\"Y\",\"Yes\",IF('Simplified Loader'!BJ88=\"N\",\"No\",\"\"))))","v":""},{"$f":"IF('Simplified Loader'!BK88>0,'Simplified Loader'!BK88,\"\")","v":""},{"$f":"IF('Simplified Loader'!BL88>0,'Simplified Loader'!BL88,\"\")","v":""},{"$f":"IF('Simplified Loader'!BM88>0,'Simplified Loader'!BM88,\"\")","v":""},{"$f":"IF('Simplified Loader'!BN88=\"Male\",\"Male\",IF('Simplified Loader'!BN88=\"Female\",\"Female\",IF('Simplified Loader'!BN88=\"M\",\"Male\",IF('Simplified Loader'!BN88=\"F\",\"Female\",\"\"))))","v":""},{"$f":"IF('Simplified Loader'!BO88=\"Yes\",\"Yes\",IF('Simplified Loader'!BO88=\"No\",\"No\",IF('Simplified Loader'!BO88=\"Y\",\"Yes\",IF('Simplified Loader'!BO88=\"N\",\"No\",\"\"))))","v":""},{"$f":"IF('Simplified Loader'!BP88=\"Yes\",\"Yes\",IF('Simplified Loader'!BP88=\"No\",\"No\",IF('Simplified Loader'!BP88=\"Y\",\"Yes\",IF('Simplified Loader'!BP88=\"N\",\"No\",\"\"))))","v":""},{"$f":"IF('Simplified Loader'!BQ88>0,'Simplified Loader'!BQ88,\"\")","v":""},{"$f":"IF('Simplified Loader'!BR88>0,'Simplified Loader'!BR88,\"\")","v":""},{"$f":"IF('Simplified Loader'!BS88>0,'Simplified Loader'!BS88,\"\")","v":""},{"$f":"IF('Simplified Loader'!BT88=\"Male\",\"Male\",IF('Simplified Loader'!BT88=\"Female\",\"Female\",IF('Simplified Loader'!BT88=\"M\",\"Male\",IF('Simplified Loader'!BT88=\"F\",\"Female\",\"\"))))","v":""},{"$f":"IF('Simplified Loader'!BU88=\"Yes\",\"Yes\",IF('Simplified Loader'!BU88=\"No\",\"No\",IF('Simplified Loader'!BU88=\"Y\",\"Yes\",IF('Simplified Loader'!BU88=\"N\",\"No\",\"\"))))","v":""},{"$f":"IF('Simplified Loader'!BV88=\"Yes\",\"Yes\",IF('Simplified Loader'!BV88=\"No\",\"No\",IF('Simplified Loader'!BV88=\"Y\",\"Yes\",IF('Simplified Loader'!BV88=\"N\",\"No\",\"\"))))","v":""},{"$f":"IF('Simplified Loader'!BW88>0,'Simplified Loader'!BW88,\"\")","v":""},{"$f":"IF('Simplified Loader'!BX88>0,'Simplified Loader'!BX88,\"\")","v":""},{"$f":"IF('Simplified Loader'!BY88>0,'Simplified Loader'!BY88,\"\")","v":""},{"$f":"IF('Simplified Loader'!BZ88=\"Male\",\"Male\",IF('Simplified Loader'!BZ88=\"Female\",\"Female\",IF('Simplified Loader'!BZ88=\"M\",\"Male\",IF('Simplified Loader'!BZ88=\"F\",\"Female\",\"\"))))","v":""},{"$f":"IF('Simplified Loader'!CA88=\"Yes\",\"Yes\",IF('Simplified Loader'!CA88=\"No\",\"No\",IF('Simplified Loader'!CA88=\"Y\",\"Yes\",IF('Simplified Loader'!CA88=\"N\",\"No\",\"\"))))","v":""},{"$f":"IF('Simplified Loader'!CB88=\"Yes\",\"Yes\",IF('Simplified Loader'!CB88=\"No\",\"No\",IF('Simplified Loader'!CB88=\"Y\",\"Yes\",IF('Simplified Loader'!CB88=\"N\",\"No\",\"\"))))","v":""},{"$f":"IF('Simplified Loader'!CH88>0,'Simplified Loader'!CH88,\"\")","v":"    "}]
[{"$f":"IF('Simplified Loader'!A89>0,'Simplified Loader'!A89,\"\")","v":""},{"$f":"IF('Simplified Loader'!B89>0,'Simplified Loader'!B89,\"\")","v":""},{"$f":"IF('Simplified Loader'!C89>0,'Simplified Loader'!C89,\"\")","v":""},{"$f":"IF('Simplified Loader'!D89>0,'Simplified Loader'!D89,\"\")","v":""},{"$f":"IF('Simplified Loader'!E89>0,TEXT('Simplified Loader'!E89,\"000\"),\"\")","v":""},{"$f":"IF('Simplified Loader'!F89>0,'Simplified Loader'!F89,\"\")","v":""},{"$f":"IF('Simplified Loader'!G89>0,'Simplified Loader'!G89,\"\")","v":""},{"$f":"IF('Simplified Loader'!I89>0,'Simplified Loader'!I89,\"\")","v":""},{"$f":"IF('Simplified Loader'!J89>0,'Simplified Loader'!J89,\"\")","v":""},{"$f":"IF('Simplified Loader'!K89>0,'Simplified Loader'!K89,\"\")","v":""},{"$f":"IF('Simplified Loader'!L89>0,'Simplified Loader'!L89,\"\")","v":""},{"$f":"IF('Simplified Loader'!M89=\"Male\",\"Male\",IF('Simplified Loader'!M89=\"Female\",\"Female\",IF('Simplified Loader'!M89=\"M\",\"Male\",IF('Simplified Loader'!M89=\"F\",\"Female\",\"\"))))","v":""},{"$f":"IF('Simplified Loader'!N89=\"Yes\",\"Yes\",IF('Simplified Loader'!N89=\"No\",\"No\",IF('Simplified Loader'!N89=\"Y\",\"Yes\",IF('Simplified Loader'!N89=\"N\",\"No\",\"\"))))","v":""},{"$f":"IF('Simplified Loader'!O89=\"No\",\"Single\",IF('Simplified Loader'!O89=\"Yes\",\"Family\",IF('Simplified Loader'!O89=\"N\",\"Single\",IF('Simplified Loader'!O89=\"Y\",\"Family\",IF('Simplified Loader'!O89=\"In-force\",\"Family\",IF('Simplified Loader'!O89=\"In force\",\"Family\",IF('Simplified Loader'!O89=\"Applies\",\"Family\",IF('Simplified Loader'!O89=\"Applicable\",\"Family\",\"\"))))))))","v":""},{"$f":"IF('Simplified Loader'!P89=\"English\",\"English\",IF('Simplified Loader'!P89=\"French\",\"French\",IF('Simplified Loader'!P89=\"E\",\"English\",IF('Simplified Loader'!P89=\"F\",\"French\",\"\"))))","v":""},{"$f":"IF('Simplified Loader'!Q89=\"Yes\",\"Yes\",IF('Simplified Loader'!Q89=\"No\",\"No\",IF('Simplified Loader'!Q89=\"Y\",\"Yes\",IF('Simplified Loader'!Q89=\"N\",\"No\",\"\"))))","v":""},{"$f":"IF('Simplified Loader'!R89>0,'Simplified Loader'!R89,\"\")","v":""},{"$f":"IF('Simplified Loader'!S89>0,'Simplified Loader'!S89,\"\")","v":""},{"$f":"IF('Simplified Loader'!T89>0,'Simplified Loader'!T89,\"\")","v":""},{"$f":"IF('Simplified Loader'!U89>0,'Simplified Loader'!U89,\"\")","v":""},{"$f":"IF('Simplified Loader'!V89=\"Waive\",\"Yes\",\"\")","v":""},{"$f":"IF('Simplified Loader'!W89=\"Waive\",\"Yes\",\"\")","v":""},{"$f":"IF('Simplified Loader'!X89>0,'Simplified Loader'!X89,\"\")","v":""},{"$f":"IF('Simplified Loader'!Y89>0,'Simplified Loader'!Y89,\"\")","v":""},{"$f":"IF('Simplified Loader'!Z89>0,'Simplified Loader'!Z89,\"\")","v":""},{"$f":"IF('Simplified Loader'!AA89>0,'Simplified Loader'!AA89,\"\")","v":""},{"$f":"IF('Simplified Loader'!AB89>0,'Simplified Loader'!AB89,\"\")","v":""},{"$f":"IF('Simplified Loader'!AC89>0,'Simplified Loader'!AC89,\"\")","v":" "},{"$f":"IF('Simplified Loader'!AE89>0,'Simplified Loader'!AE89&\" \",\"\")&IF('Simplified Loader'!AD89>0,'Simplified Loader'!AD89,\"\")","v":""},null,{"$f":"IF('Simplified Loader'!AF89>0,'Simplified Loader'!AF89,\"\")","v":""},{"$f":"IF('Simplified Loader'!AG89>0,'Simplified Loader'!AG89,\"\")","v":""},{"$f":"IF('Simplified Loader'!AH89>0,'Simplified Loader'!AH89,\"\")","v":""},{"$f":"IF('Simplified Loader'!AI89>0,'Simplified Loader'!AI89,\"\")","v":""},{"$f":"IF('Simplified Loader'!AJ89>0,'Simplified Loader'!AJ89,\"\")","v":""},{"$f":"IF('Simplified Loader'!AK89>0,'Simplified Loader'!AK89,\"\")","v":""},{"$f":"IF('Simplified Loader'!AL89>0,'Simplified Loader'!AL89,\"\")","v":""},{"$f":"IF('Simplified Loader'!AM89>0,'Simplified Loader'!AM89,\"\")","v":""},{"$f":"IF('Simplified Loader'!AN89=\"Male\",\"Male\",IF('Simplified Loader'!AN89=\"Female\",\"Female\",IF('Simplified Loader'!AN89=\"M\",\"Male\",IF('Simplified Loader'!AN89=\"F\",\"Female\",\"\"))))","v":""},{"$f":"IF('Simplified Loader'!AO89=\"Single\",\"Single\",IF('Simplified Loader'!AO89=\"Family\",\"Family\",IF('Simplified Loader'!AO89=\"S\",\"Single\",IF('Simplified Loader'!AO89=\"F\",\"Family\",\"\"))))","v":""},{"$f":"IF('Simplified Loader'!AP89=\"Single\",\"Single\",IF('Simplified Loader'!AP89=\"Family\",\"Family\",IF('Simplified Loader'!AP89=\"S\",\"Single\",IF('Simplified Loader'!AP89=\"F\",\"Family\",\"\"))))","v":""},{"$f":"IF('Simplified Loader'!AQ89>0,'Simplified Loader'!AQ89,\"\")","v":""},{"$f":"IF('Simplified Loader'!AR89=\"Yes\",\"Yes\",IF('Simplified Loader'!AR89=\"No\",\"No\",IF('Simplified Loader'!AR89=\"Y\",\"Yes\",IF('Simplified Loader'!AR89=\"N\",\"No\",\"\"))))","v":""},{"$f":"IF('Simplified Loader'!AS89>0,'Simplified Loader'!AS89,\"\")","v":""},{"$f":"IF('Simplified Loader'!AT89>0,'Simplified Loader'!AT89,\"\")","v":""},{"$f":"IF('Simplified Loader'!AU89>0,'Simplified Loader'!AU89,\"\")","v":""},{"$f":"IF('Simplified Loader'!AV89=\"Male\",\"Male\",IF('Simplified Loader'!AV89=\"Female\",\"Female\",IF('Simplified Loader'!AV89=\"M\",\"Male\",IF('Simplified Loader'!AV89=\"F\",\"Female\",\"\"))))","v":""},{"$f":"IF('Simplified Loader'!AW89=\"Yes\",\"Yes\",IF('Simplified Loader'!AW89=\"No\",\"No\",IF('Simplified Loader'!AW89=\"Y\",\"Yes\",IF('Simplified Loader'!AW89=\"N\",\"No\",\"\"))))","v":""},{"$f":"IF('Simplified Loader'!AX89=\"Yes\",\"Yes\",IF('Simplified Loader'!AX89=\"No\",\"No\",IF('Simplified Loader'!AX89=\"Y\",\"Yes\",IF('Simplified Loader'!AX89=\"N\",\"No\",\"\"))))","v":""},{"$f":"IF('Simplified Loader'!AY89>0,'Simplified Loader'!AY89,\"\")","v":""},{"$f":"IF('Simplified Loader'!AZ89>0,'Simplified Loader'!AZ89,\"\")","v":""},{"$f":"IF('Simplified Loader'!BA89>0,'Simplified Loader'!BA89,\"\")","v":""},{"$f":"IF('Simplified Loader'!BB89=\"Male\",\"Male\",IF('Simplified Loader'!BB89=\"Female\",\"Female\",IF('Simplified Loader'!BB89=\"M\",\"Male\",IF('Simplified Loader'!BB89=\"F\",\"Female\",\"\"))))","v":""},{"$f":"IF('Simplified Loader'!BC89=\"Yes\",\"Yes\",IF('Simplified Loader'!BC89=\"No\",\"No\",IF('Simplified Loader'!BC89=\"Y\",\"Yes\",IF('Simplified Loader'!BC89=\"N\",\"No\",\"\"))))","v":""},{"$f":"IF('Simplified Loader'!BD89=\"Yes\",\"Yes\",IF('Simplified Loader'!BD89=\"No\",\"No\",IF('Simplified Loader'!BD89=\"Y\",\"Yes\",IF('Simplified Loader'!BD89=\"N\",\"No\",\"\"))))","v":""},{"$f":"IF('Simplified Loader'!BE89>0,'Simplified Loader'!BE89,\"\")","v":""},{"$f":"IF('Simplified Loader'!BF89>0,'Simplified Loader'!BF89,\"\")","v":""},{"$f":"IF('Simplified Loader'!BG89>0,'Simplified Loader'!BG89,\"\")","v":""},{"$f":"IF('Simplified Loader'!BH89=\"Male\",\"Male\",IF('Simplified Loader'!BH89=\"Female\",\"Female\",IF('Simplified Loader'!BH89=\"M\",\"Male\",IF('Simplified Loader'!BH89=\"F\",\"Female\",\"\"))))","v":""},{"$f":"IF('Simplified Loader'!BI89=\"Yes\",\"Yes\",IF('Simplified Loader'!BI89=\"No\",\"No\",IF('Simplified Loader'!BI89=\"Y\",\"Yes\",IF('Simplified Loader'!BI89=\"N\",\"No\",\"\"))))","v":""},{"$f":"IF('Simplified Loader'!BJ89=\"Yes\",\"Yes\",IF('Simplified Loader'!BJ89=\"No\",\"No\",IF('Simplified Loader'!BJ89=\"Y\",\"Yes\",IF('Simplified Loader'!BJ89=\"N\",\"No\",\"\"))))","v":""},{"$f":"IF('Simplified Loader'!BK89>0,'Simplified Loader'!BK89,\"\")","v":""},{"$f":"IF('Simplified Loader'!BL89>0,'Simplified Loader'!BL89,\"\")","v":""},{"$f":"IF('Simplified Loader'!BM89>0,'Simplified Loader'!BM89,\"\")","v":""},{"$f":"IF('Simplified Loader'!BN89=\"Male\",\"Male\",IF('Simplified Loader'!BN89=\"Female\",\"Female\",IF('Simplified Loader'!BN89=\"M\",\"Male\",IF('Simplified Loader'!BN89=\"F\",\"Female\",\"\"))))","v":""},{"$f":"IF('Simplified Loader'!BO89=\"Yes\",\"Yes\",IF('Simplified Loader'!BO89=\"No\",\"No\",IF('Simplified Loader'!BO89=\"Y\",\"Yes\",IF('Simplified Loader'!BO89=\"N\",\"No\",\"\"))))","v":""},{"$f":"IF('Simplified Loader'!BP89=\"Yes\",\"Yes\",IF('Simplified Loader'!BP89=\"No\",\"No\",IF('Simplified Loader'!BP89=\"Y\",\"Yes\",IF('Simplified Loader'!BP89=\"N\",\"No\",\"\"))))","v":""},{"$f":"IF('Simplified Loader'!BQ89>0,'Simplified Loader'!BQ89,\"\")","v":""},{"$f":"IF('Simplified Loader'!BR89>0,'Simplified Loader'!BR89,\"\")","v":""},{"$f":"IF('Simplified Loader'!BS89>0,'Simplified Loader'!BS89,\"\")","v":""},{"$f":"IF('Simplified Loader'!BT89=\"Male\",\"Male\",IF('Simplified Loader'!BT89=\"Female\",\"Female\",IF('Simplified Loader'!BT89=\"M\",\"Male\",IF('Simplified Loader'!BT89=\"F\",\"Female\",\"\"))))","v":""},{"$f":"IF('Simplified Loader'!BU89=\"Yes\",\"Yes\",IF('Simplified Loader'!BU89=\"No\",\"No\",IF('Simplified Loader'!BU89=\"Y\",\"Yes\",IF('Simplified Loader'!BU89=\"N\",\"No\",\"\"))))","v":""},{"$f":"IF('Simplified Loader'!BV89=\"Yes\",\"Yes\",IF('Simplified Loader'!BV89=\"No\",\"No\",IF('Simplified Loader'!BV89=\"Y\",\"Yes\",IF('Simplified Loader'!BV89=\"N\",\"No\",\"\"))))","v":""},{"$f":"IF('Simplified Loader'!BW89>0,'Simplified Loader'!BW89,\"\")","v":""},{"$f":"IF('Simplified Loader'!BX89>0,'Simplified Loader'!BX89,\"\")","v":""},{"$f":"IF('Simplified Loader'!BY89>0,'Simplified Loader'!BY89,\"\")","v":""},{"$f":"IF('Simplified Loader'!BZ89=\"Male\",\"Male\",IF('Simplified Loader'!BZ89=\"Female\",\"Female\",IF('Simplified Loader'!BZ89=\"M\",\"Male\",IF('Simplified Loader'!BZ89=\"F\",\"Female\",\"\"))))","v":""},{"$f":"IF('Simplified Loader'!CA89=\"Yes\",\"Yes\",IF('Simplified Loader'!CA89=\"No\",\"No\",IF('Simplified Loader'!CA89=\"Y\",\"Yes\",IF('Simplified Loader'!CA89=\"N\",\"No\",\"\"))))","v":""},{"$f":"IF('Simplified Loader'!CB89=\"Yes\",\"Yes\",IF('Simplified Loader'!CB89=\"No\",\"No\",IF('Simplified Loader'!CB89=\"Y\",\"Yes\",IF('Simplified Loader'!CB89=\"N\",\"No\",\"\"))))","v":""},{"$f":"IF('Simplified Loader'!CH89>0,'Simplified Loader'!CH89,\"\")","v":"    "}]
[{"$f":"IF('Simplified Loader'!A90>0,'Simplified Loader'!A90,\"\")","v":""},{"$f":"IF('Simplified Loader'!B90>0,'Simplified Loader'!B90,\"\")","v":""},{"$f":"IF('Simplified Loader'!C90>0,'Simplified Loader'!C90,\"\")","v":""},{"$f":"IF('Simplified Loader'!D90>0,'Simplified Loader'!D90,\"\")","v":""},{"$f":"IF('Simplified Loader'!E90>0,TEXT('Simplified Loader'!E90,\"000\"),\"\")","v":""},{"$f":"IF('Simplified Loader'!F90>0,'Simplified Loader'!F90,\"\")","v":""},{"$f":"IF('Simplified Loader'!G90>0,'Simplified Loader'!G90,\"\")","v":""},{"$f":"IF('Simplified Loader'!I90>0,'Simplified Loader'!I90,\"\")","v":""},{"$f":"IF('Simplified Loader'!J90>0,'Simplified Loader'!J90,\"\")","v":""},{"$f":"IF('Simplified Loader'!K90>0,'Simplified Loader'!K90,\"\")","v":""},{"$f":"IF('Simplified Loader'!L90>0,'Simplified Loader'!L90,\"\")","v":""},{"$f":"IF('Simplified Loader'!M90=\"Male\",\"Male\",IF('Simplified Loader'!M90=\"Female\",\"Female\",IF('Simplified Loader'!M90=\"M\",\"Male\",IF('Simplified Loader'!M90=\"F\",\"Female\",\"\"))))","v":""},{"$f":"IF('Simplified Loader'!N90=\"Yes\",\"Yes\",IF('Simplified Loader'!N90=\"No\",\"No\",IF('Simplified Loader'!N90=\"Y\",\"Yes\",IF('Simplified Loader'!N90=\"N\",\"No\",\"\"))))","v":""},{"$f":"IF('Simplified Loader'!O90=\"No\",\"Single\",IF('Simplified Loader'!O90=\"Yes\",\"Family\",IF('Simplified Loader'!O90=\"N\",\"Single\",IF('Simplified Loader'!O90=\"Y\",\"Family\",IF('Simplified Loader'!O90=\"In-force\",\"Family\",IF('Simplified Loader'!O90=\"In force\",\"Family\",IF('Simplified Loader'!O90=\"Applies\",\"Family\",IF('Simplified Loader'!O90=\"Applicable\",\"Family\",\"\"))))))))","v":""},{"$f":"IF('Simplified Loader'!P90=\"English\",\"English\",IF('Simplified Loader'!P90=\"French\",\"French\",IF('Simplified Loader'!P90=\"E\",\"English\",IF('Simplified Loader'!P90=\"F\",\"French\",\"\"))))","v":""},{"$f":"IF('Simplified Loader'!Q90=\"Yes\",\"Yes\",IF('Simplified Loader'!Q90=\"No\",\"No\",IF('Simplified Loader'!Q90=\"Y\",\"Yes\",IF('Simplified Loader'!Q90=\"N\",\"No\",\"\"))))","v":""},{"$f":"IF('Simplified Loader'!R90>0,'Simplified Loader'!R90,\"\")","v":""},{"$f":"IF('Simplified Loader'!S90>0,'Simplified Loader'!S90,\"\")","v":""},{"$f":"IF('Simplified Loader'!T90>0,'Simplified Loader'!T90,\"\")","v":""},{"$f":"IF('Simplified Loader'!U90>0,'Simplified Loader'!U90,\"\")","v":""},{"$f":"IF('Simplified Loader'!V90=\"Waive\",\"Yes\",\"\")","v":""},{"$f":"IF('Simplified Loader'!W90=\"Waive\",\"Yes\",\"\")","v":""},{"$f":"IF('Simplified Loader'!X90>0,'Simplified Loader'!X90,\"\")","v":""},{"$f":"IF('Simplified Loader'!Y90>0,'Simplified Loader'!Y90,\"\")","v":""},{"$f":"IF('Simplified Loader'!Z90>0,'Simplified Loader'!Z90,\"\")","v":""},{"$f":"IF('Simplified Loader'!AA90>0,'Simplified Loader'!AA90,\"\")","v":""},{"$f":"IF('Simplified Loader'!AB90>0,'Simplified Loader'!AB90,\"\")","v":""},{"$f":"IF('Simplified Loader'!AC90>0,'Simplified Loader'!AC90,\"\")","v":" "},{"$f":"IF('Simplified Loader'!AE90>0,'Simplified Loader'!AE90&\" \",\"\")&IF('Simplified Loader'!AD90>0,'Simplified Loader'!AD90,\"\")","v":""},null,{"$f":"IF('Simplified Loader'!AF90>0,'Simplified Loader'!AF90,\"\")","v":""},{"$f":"IF('Simplified Loader'!AG90>0,'Simplified Loader'!AG90,\"\")","v":""},{"$f":"IF('Simplified Loader'!AH90>0,'Simplified Loader'!AH90,\"\")","v":""},{"$f":"IF('Simplified Loader'!AI90>0,'Simplified Loader'!AI90,\"\")","v":""},{"$f":"IF('Simplified Loader'!AJ90>0,'Simplified Loader'!AJ90,\"\")","v":""},{"$f":"IF('Simplified Loader'!AK90>0,'Simplified Loader'!AK90,\"\")","v":""},{"$f":"IF('Simplified Loader'!AL90>0,'Simplified Loader'!AL90,\"\")","v":""},{"$f":"IF('Simplified Loader'!AM90>0,'Simplified Loader'!AM90,\"\")","v":""},{"$f":"IF('Simplified Loader'!AN90=\"Male\",\"Male\",IF('Simplified Loader'!AN90=\"Female\",\"Female\",IF('Simplified Loader'!AN90=\"M\",\"Male\",IF('Simplified Loader'!AN90=\"F\",\"Female\",\"\"))))","v":""},{"$f":"IF('Simplified Loader'!AO90=\"Single\",\"Single\",IF('Simplified Loader'!AO90=\"Family\",\"Family\",IF('Simplified Loader'!AO90=\"S\",\"Single\",IF('Simplified Loader'!AO90=\"F\",\"Family\",\"\"))))","v":""},{"$f":"IF('Simplified Loader'!AP90=\"Single\",\"Single\",IF('Simplified Loader'!AP90=\"Family\",\"Family\",IF('Simplified Loader'!AP90=\"S\",\"Single\",IF('Simplified Loader'!AP90=\"F\",\"Family\",\"\"))))","v":""},{"$f":"IF('Simplified Loader'!AQ90>0,'Simplified Loader'!AQ90,\"\")","v":""},{"$f":"IF('Simplified Loader'!AR90=\"Yes\",\"Yes\",IF('Simplified Loader'!AR90=\"No\",\"No\",IF('Simplified Loader'!AR90=\"Y\",\"Yes\",IF('Simplified Loader'!AR90=\"N\",\"No\",\"\"))))","v":""},{"$f":"IF('Simplified Loader'!AS90>0,'Simplified Loader'!AS90,\"\")","v":""},{"$f":"IF('Simplified Loader'!AT90>0,'Simplified Loader'!AT90,\"\")","v":""},{"$f":"IF('Simplified Loader'!AU90>0,'Simplified Loader'!AU90,\"\")","v":""},{"$f":"IF('Simplified Loader'!AV90=\"Male\",\"Male\",IF('Simplified Loader'!AV90=\"Female\",\"Female\",IF('Simplified Loader'!AV90=\"M\",\"Male\",IF('Simplified Loader'!AV90=\"F\",\"Female\",\"\"))))","v":""},{"$f":"IF('Simplified Loader'!AW90=\"Yes\",\"Yes\",IF('Simplified Loader'!AW90=\"No\",\"No\",IF('Simplified Loader'!AW90=\"Y\",\"Yes\",IF('Simplified Loader'!AW90=\"N\",\"No\",\"\"))))","v":""},{"$f":"IF('Simplified Loader'!AX90=\"Yes\",\"Yes\",IF('Simplified Loader'!AX90=\"No\",\"No\",IF('Simplified Loader'!AX90=\"Y\",\"Yes\",IF('Simplified Loader'!AX90=\"N\",\"No\",\"\"))))","v":""},{"$f":"IF('Simplified Loader'!AY90>0,'Simplified Loader'!AY90,\"\")","v":""},{"$f":"IF('Simplified Loader'!AZ90>0,'Simplified Loader'!AZ90,\"\")","v":""},{"$f":"IF('Simplified Loader'!BA90>0,'Simplified Loader'!BA90,\"\")","v":""},{"$f":"IF('Simplified Loader'!BB90=\"Male\",\"Male\",IF('Simplified Loader'!BB90=\"Female\",\"Female\",IF('Simplified Loader'!BB90=\"M\",\"Male\",IF('Simplified Loader'!BB90=\"F\",\"Female\",\"\"))))","v":""},{"$f":"IF('Simplified Loader'!BC90=\"Yes\",\"Yes\",IF('Simplified Loader'!BC90=\"No\",\"No\",IF('Simplified Loader'!BC90=\"Y\",\"Yes\",IF('Simplified Loader'!BC90=\"N\",\"No\",\"\"))))","v":""},{"$f":"IF('Simplified Loader'!BD90=\"Yes\",\"Yes\",IF('Simplified Loader'!BD90=\"No\",\"No\",IF('Simplified Loader'!BD90=\"Y\",\"Yes\",IF('Simplified Loader'!BD90=\"N\",\"No\",\"\"))))","v":""},{"$f":"IF('Simplified Loader'!BE90>0,'Simplified Loader'!BE90,\"\")","v":""},{"$f":"IF('Simplified Loader'!BF90>0,'Simplified Loader'!BF90,\"\")","v":""},{"$f":"IF('Simplified Loader'!BG90>0,'Simplified Loader'!BG90,\"\")","v":""},{"$f":"IF('Simplified Loader'!BH90=\"Male\",\"Male\",IF('Simplified Loader'!BH90=\"Female\",\"Female\",IF('Simplified Loader'!BH90=\"M\",\"Male\",IF('Simplified Loader'!BH90=\"F\",\"Female\",\"\"))))","v":""},{"$f":"IF('Simplified Loader'!BI90=\"Yes\",\"Yes\",IF('Simplified Loader'!BI90=\"No\",\"No\",IF('Simplified Loader'!BI90=\"Y\",\"Yes\",IF('Simplified Loader'!BI90=\"N\",\"No\",\"\"))))","v":""},{"$f":"IF('Simplified Loader'!BJ90=\"Yes\",\"Yes\",IF('Simplified Loader'!BJ90=\"No\",\"No\",IF('Simplified Loader'!BJ90=\"Y\",\"Yes\",IF('Simplified Loader'!BJ90=\"N\",\"No\",\"\"))))","v":""},{"$f":"IF('Simplified Loader'!BK90>0,'Simplified Loader'!BK90,\"\")","v":""},{"$f":"IF('Simplified Loader'!BL90>0,'Simplified Loader'!BL90,\"\")","v":""},{"$f":"IF('Simplified Loader'!BM90>0,'Simplified Loader'!BM90,\"\")","v":""},{"$f":"IF('Simplified Loader'!BN90=\"Male\",\"Male\",IF('Simplified Loader'!BN90=\"Female\",\"Female\",IF('Simplified Loader'!BN90=\"M\",\"Male\",IF('Simplified Loader'!BN90=\"F\",\"Female\",\"\"))))","v":""},{"$f":"IF('Simplified Loader'!BO90=\"Yes\",\"Yes\",IF('Simplified Loader'!BO90=\"No\",\"No\",IF('Simplified Loader'!BO90=\"Y\",\"Yes\",IF('Simplified Loader'!BO90=\"N\",\"No\",\"\"))))","v":""},{"$f":"IF('Simplified Loader'!BP90=\"Yes\",\"Yes\",IF('Simplified Loader'!BP90=\"No\",\"No\",IF('Simplified Loader'!BP90=\"Y\",\"Yes\",IF('Simplified Loader'!BP90=\"N\",\"No\",\"\"))))","v":""},{"$f":"IF('Simplified Loader'!BQ90>0,'Simplified Loader'!BQ90,\"\")","v":""},{"$f":"IF('Simplified Loader'!BR90>0,'Simplified Loader'!BR90,\"\")","v":""},{"$f":"IF('Simplified Loader'!BS90>0,'Simplified Loader'!BS90,\"\")","v":""},{"$f":"IF('Simplified Loader'!BT90=\"Male\",\"Male\",IF('Simplified Loader'!BT90=\"Female\",\"Female\",IF('Simplified Loader'!BT90=\"M\",\"Male\",IF('Simplified Loader'!BT90=\"F\",\"Female\",\"\"))))","v":""},{"$f":"IF('Simplified Loader'!BU90=\"Yes\",\"Yes\",IF('Simplified Loader'!BU90=\"No\",\"No\",IF('Simplified Loader'!BU90=\"Y\",\"Yes\",IF('Simplified Loader'!BU90=\"N\",\"No\",\"\"))))","v":""},{"$f":"IF('Simplified Loader'!BV90=\"Yes\",\"Yes\",IF('Simplified Loader'!BV90=\"No\",\"No\",IF('Simplified Loader'!BV90=\"Y\",\"Yes\",IF('Simplified Loader'!BV90=\"N\",\"No\",\"\"))))","v":""},{"$f":"IF('Simplified Loader'!BW90>0,'Simplified Loader'!BW90,\"\")","v":""},{"$f":"IF('Simplified Loader'!BX90>0,'Simplified Loader'!BX90,\"\")","v":""},{"$f":"IF('Simplified Loader'!BY90>0,'Simplified Loader'!BY90,\"\")","v":""},{"$f":"IF('Simplified Loader'!BZ90=\"Male\",\"Male\",IF('Simplified Loader'!BZ90=\"Female\",\"Female\",IF('Simplified Loader'!BZ90=\"M\",\"Male\",IF('Simplified Loader'!BZ90=\"F\",\"Female\",\"\"))))","v":""},{"$f":"IF('Simplified Loader'!CA90=\"Yes\",\"Yes\",IF('Simplified Loader'!CA90=\"No\",\"No\",IF('Simplified Loader'!CA90=\"Y\",\"Yes\",IF('Simplified Loader'!CA90=\"N\",\"No\",\"\"))))","v":""},{"$f":"IF('Simplified Loader'!CB90=\"Yes\",\"Yes\",IF('Simplified Loader'!CB90=\"No\",\"No\",IF('Simplified Loader'!CB90=\"Y\",\"Yes\",IF('Simplified Loader'!CB90=\"N\",\"No\",\"\"))))","v":""},{"$f":"IF('Simplified Loader'!CH90>0,'Simplified Loader'!CH90,\"\")","v":"    "}]
[{"$f":"IF('Simplified Loader'!A91>0,'Simplified Loader'!A91,\"\")","v":""},{"$f":"IF('Simplified Loader'!B91>0,'Simplified Loader'!B91,\"\")","v":""},{"$f":"IF('Simplified Loader'!C91>0,'Simplified Loader'!C91,\"\")","v":""},{"$f":"IF('Simplified Loader'!D91>0,'Simplified Loader'!D91,\"\")","v":""},{"$f":"IF('Simplified Loader'!E91>0,TEXT('Simplified Loader'!E91,\"000\"),\"\")","v":""},{"$f":"IF('Simplified Loader'!F91>0,'Simplified Loader'!F91,\"\")","v":""},{"$f":"IF('Simplified Loader'!G91>0,'Simplified Loader'!G91,\"\")","v":""},{"$f":"IF('Simplified Loader'!I91>0,'Simplified Loader'!I91,\"\")","v":""},{"$f":"IF('Simplified Loader'!J91>0,'Simplified Loader'!J91,\"\")","v":""},{"$f":"IF('Simplified Loader'!K91>0,'Simplified Loader'!K91,\"\")","v":""},{"$f":"IF('Simplified Loader'!L91>0,'Simplified Loader'!L91,\"\")","v":""},{"$f":"IF('Simplified Loader'!M91=\"Male\",\"Male\",IF('Simplified Loader'!M91=\"Female\",\"Female\",IF('Simplified Loader'!M91=\"M\",\"Male\",IF('Simplified Loader'!M91=\"F\",\"Female\",\"\"))))","v":""},{"$f":"IF('Simplified Loader'!N91=\"Yes\",\"Yes\",IF('Simplified Loader'!N91=\"No\",\"No\",IF('Simplified Loader'!N91=\"Y\",\"Yes\",IF('Simplified Loader'!N91=\"N\",\"No\",\"\"))))","v":""},{"$f":"IF('Simplified Loader'!O91=\"No\",\"Single\",IF('Simplified Loader'!O91=\"Yes\",\"Family\",IF('Simplified Loader'!O91=\"N\",\"Single\",IF('Simplified Loader'!O91=\"Y\",\"Family\",IF('Simplified Loader'!O91=\"In-force\",\"Family\",IF('Simplified Loader'!O91=\"In force\",\"Family\",IF('Simplified Loader'!O91=\"Applies\",\"Family\",IF('Simplified Loader'!O91=\"Applicable\",\"Family\",\"\"))))))))","v":""},{"$f":"IF('Simplified Loader'!P91=\"English\",\"English\",IF('Simplified Loader'!P91=\"French\",\"French\",IF('Simplified Loader'!P91=\"E\",\"English\",IF('Simplified Loader'!P91=\"F\",\"French\",\"\"))))","v":""},{"$f":"IF('Simplified Loader'!Q91=\"Yes\",\"Yes\",IF('Simplified Loader'!Q91=\"No\",\"No\",IF('Simplified Loader'!Q91=\"Y\",\"Yes\",IF('Simplified Loader'!Q91=\"N\",\"No\",\"\"))))","v":""},{"$f":"IF('Simplified Loader'!R91>0,'Simplified Loader'!R91,\"\")","v":""},{"$f":"IF('Simplified Loader'!S91>0,'Simplified Loader'!S91,\"\")","v":""},{"$f":"IF('Simplified Loader'!T91>0,'Simplified Loader'!T91,\"\")","v":""},{"$f":"IF('Simplified Loader'!U91>0,'Simplified Loader'!U91,\"\")","v":""},{"$f":"IF('Simplified Loader'!V91=\"Waive\",\"Yes\",\"\")","v":""},{"$f":"IF('Simplified Loader'!W91=\"Waive\",\"Yes\",\"\")","v":""},{"$f":"IF('Simplified Loader'!X91>0,'Simplified Loader'!X91,\"\")","v":""},{"$f":"IF('Simplified Loader'!Y91>0,'Simplified Loader'!Y91,\"\")","v":""},{"$f":"IF('Simplified Loader'!Z91>0,'Simplified Loader'!Z91,\"\")","v":""},{"$f":"IF('Simplified Loader'!AA91>0,'Simplified Loader'!AA91,\"\")","v":""},{"$f":"IF('Simplified Loader'!AB91>0,'Simplified Loader'!AB91,\"\")","v":""},{"$f":"IF('Simplified Loader'!AC91>0,'Simplified Loader'!AC91,\"\")","v":" "},{"$f":"IF('Simplified Loader'!AE91>0,'Simplified Loader'!AE91&\" \",\"\")&IF('Simplified Loader'!AD91>0,'Simplified Loader'!AD91,\"\")","v":""},null,{"$f":"IF('Simplified Loader'!AF91>0,'Simplified Loader'!AF91,\"\")","v":""},{"$f":"IF('Simplified Loader'!AG91>0,'Simplified Loader'!AG91,\"\")","v":""},{"$f":"IF('Simplified Loader'!AH91>0,'Simplified Loader'!AH91,\"\")","v":""},{"$f":"IF('Simplified Loader'!AI91>0,'Simplified Loader'!AI91,\"\")","v":""},{"$f":"IF('Simplified Loader'!AJ91>0,'Simplified Loader'!AJ91,\"\")","v":""},{"$f":"IF('Simplified Loader'!AK91>0,'Simplified Loader'!AK91,\"\")","v":""},{"$f":"IF('Simplified Loader'!AL91>0,'Simplified Loader'!AL91,\"\")","v":""},{"$f":"IF('Simplified Loader'!AM91>0,'Simplified Loader'!AM91,\"\")","v":""},{"$f":"IF('Simplified Loader'!AN91=\"Male\",\"Male\",IF('Simplified Loader'!AN91=\"Female\",\"Female\",IF('Simplified Loader'!AN91=\"M\",\"Male\",IF('Simplified Loader'!AN91=\"F\",\"Female\",\"\"))))","v":""},{"$f":"IF('Simplified Loader'!AO91=\"Single\",\"Single\",IF('Simplified Loader'!AO91=\"Family\",\"Family\",IF('Simplified Loader'!AO91=\"S\",\"Single\",IF('Simplified Loader'!AO91=\"F\",\"Family\",\"\"))))","v":""},{"$f":"IF('Simplified Loader'!AP91=\"Single\",\"Single\",IF('Simplified Loader'!AP91=\"Family\",\"Family\",IF('Simplified Loader'!AP91=\"S\",\"Single\",IF('Simplified Loader'!AP91=\"F\",\"Family\",\"\"))))","v":""},{"$f":"IF('Simplified Loader'!AQ91>0,'Simplified Loader'!AQ91,\"\")","v":""},{"$f":"IF('Simplified Loader'!AR91=\"Yes\",\"Yes\",IF('Simplified Loader'!AR91=\"No\",\"No\",IF('Simplified Loader'!AR91=\"Y\",\"Yes\",IF('Simplified Loader'!AR91=\"N\",\"No\",\"\"))))","v":""},{"$f":"IF('Simplified Loader'!AS91>0,'Simplified Loader'!AS91,\"\")","v":""},{"$f":"IF('Simplified Loader'!AT91>0,'Simplified Loader'!AT91,\"\")","v":""},{"$f":"IF('Simplified Loader'!AU91>0,'Simplified Loader'!AU91,\"\")","v":""},{"$f":"IF('Simplified Loader'!AV91=\"Male\",\"Male\",IF('Simplified Loader'!AV91=\"Female\",\"Female\",IF('Simplified Loader'!AV91=\"M\",\"Male\",IF('Simplified Loader'!AV91=\"F\",\"Female\",\"\"))))","v":""},{"$f":"IF('Simplified Loader'!AW91=\"Yes\",\"Yes\",IF('Simplified Loader'!AW91=\"No\",\"No\",IF('Simplified Loader'!AW91=\"Y\",\"Yes\",IF('Simplified Loader'!AW91=\"N\",\"No\",\"\"))))","v":""},{"$f":"IF('Simplified Loader'!AX91=\"Yes\",\"Yes\",IF('Simplified Loader'!AX91=\"No\",\"No\",IF('Simplified Loader'!AX91=\"Y\",\"Yes\",IF('Simplified Loader'!AX91=\"N\",\"No\",\"\"))))","v":""},{"$f":"IF('Simplified Loader'!AY91>0,'Simplified Loader'!AY91,\"\")","v":""},{"$f":"IF('Simplified Loader'!AZ91>0,'Simplified Loader'!AZ91,\"\")","v":""},{"$f":"IF('Simplified Loader'!BA91>0,'Simplified Loader'!BA91,\"\")","v":""},{"$f":"IF('Simplified Loader'!BB91=\"Male\",\"Male\",IF('Simplified Loader'!BB91=\"Female\",\"Female\",IF('Simplified Loader'!BB91=\"M\",\"Male\",IF('Simplified Loader'!BB91=\"F\",\"Female\",\"\"))))","v":""},{"$f":"IF('Simplified Loader'!BC91=\"Yes\",\"Yes\",IF('Simplified Loader'!BC91=\"No\",\"No\",IF('Simplified Loader'!BC91=\"Y\",\"Yes\",IF('Simplified Loader'!BC91=\"N\",\"No\",\"\"))))","v":""},{"$f":"IF('Simplified Loader'!BD91=\"Yes\",\"Yes\",IF('Simplified Loader'!BD91=\"No\",\"No\",IF('Simplified Loader'!BD91=\"Y\",\"Yes\",IF('Simplified Loader'!BD91=\"N\",\"No\",\"\"))))","v":""},{"$f":"IF('Simplified Loader'!BE91>0,'Simplified Loader'!BE91,\"\")","v":""},{"$f":"IF('Simplified Loader'!BF91>0,'Simplified Loader'!BF91,\"\")","v":""},{"$f":"IF('Simplified Loader'!BG91>0,'Simplified Loader'!BG91,\"\")","v":""},{"$f":"IF('Simplified Loader'!BH91=\"Male\",\"Male\",IF('Simplified Loader'!BH91=\"Female\",\"Female\",IF('Simplified Loader'!BH91=\"M\",\"Male\",IF('Simplified Loader'!BH91=\"F\",\"Female\",\"\"))))","v":""},{"$f":"IF('Simplified Loader'!BI91=\"Yes\",\"Yes\",IF('Simplified Loader'!BI91=\"No\",\"No\",IF('Simplified Loader'!BI91=\"Y\",\"Yes\",IF('Simplified Loader'!BI91=\"N\",\"No\",\"\"))))","v":""},{"$f":"IF('Simplified Loader'!BJ91=\"Yes\",\"Yes\",IF('Simplified Loader'!BJ91=\"No\",\"No\",IF('Simplified Loader'!BJ91=\"Y\",\"Yes\",IF('Simplified Loader'!BJ91=\"N\",\"No\",\"\"))))","v":""},{"$f":"IF('Simplified Loader'!BK91>0,'Simplified Loader'!BK91,\"\")","v":""},{"$f":"IF('Simplified Loader'!BL91>0,'Simplified Loader'!BL91,\"\")","v":""},{"$f":"IF('Simplified Loader'!BM91>0,'Simplified Loader'!BM91,\"\")","v":""},{"$f":"IF('Simplified Loader'!BN91=\"Male\",\"Male\",IF('Simplified Loader'!BN91=\"Female\",\"Female\",IF('Simplified Loader'!BN91=\"M\",\"Male\",IF('Simplified Loader'!BN91=\"F\",\"Female\",\"\"))))","v":""},{"$f":"IF('Simplified Loader'!BO91=\"Yes\",\"Yes\",IF('Simplified Loader'!BO91=\"No\",\"No\",IF('Simplified Loader'!BO91=\"Y\",\"Yes\",IF('Simplified Loader'!BO91=\"N\",\"No\",\"\"))))","v":""},{"$f":"IF('Simplified Loader'!BP91=\"Yes\",\"Yes\",IF('Simplified Loader'!BP91=\"No\",\"No\",IF('Simplified Loader'!BP91=\"Y\",\"Yes\",IF('Simplified Loader'!BP91=\"N\",\"No\",\"\"))))","v":""},{"$f":"IF('Simplified Loader'!BQ91>0,'Simplified Loader'!BQ91,\"\")","v":""},{"$f":"IF('Simplified Loader'!BR91>0,'Simplified Loader'!BR91,\"\")","v":""},{"$f":"IF('Simplified Loader'!BS91>0,'Simplified Loader'!BS91,\"\")","v":""},{"$f":"IF('Simplified Loader'!BT91=\"Male\",\"Male\",IF('Simplified Loader'!BT91=\"Female\",\"Female\",IF('Simplified Loader'!BT91=\"M\",\"Male\",IF('Simplified Loader'!BT91=\"F\",\"Female\",\"\"))))","v":""},{"$f":"IF('Simplified Loader'!BU91=\"Yes\",\"Yes\",IF('Simplified Loader'!BU91=\"No\",\"No\",IF('Simplified Loader'!BU91=\"Y\",\"Yes\",IF('Simplified Loader'!BU91=\"N\",\"No\",\"\"))))","v":""},{"$f":"IF('Simplified Loader'!BV91=\"Yes\",\"Yes\",IF('Simplified Loader'!BV91=\"No\",\"No\",IF('Simplified Loader'!BV91=\"Y\",\"Yes\",IF('Simplified Loader'!BV91=\"N\",\"No\",\"\"))))","v":""},{"$f":"IF('Simplified Loader'!BW91>0,'Simplified Loader'!BW91,\"\")","v":""},{"$f":"IF('Simplified Loader'!BX91>0,'Simplified Loader'!BX91,\"\")","v":""},{"$f":"IF('Simplified Loader'!BY91>0,'Simplified Loader'!BY91,\"\")","v":""},{"$f":"IF('Simplified Loader'!BZ91=\"Male\",\"Male\",IF('Simplified Loader'!BZ91=\"Female\",\"Female\",IF('Simplified Loader'!BZ91=\"M\",\"Male\",IF('Simplified Loader'!BZ91=\"F\",\"Female\",\"\"))))","v":""},{"$f":"IF('Simplified Loader'!CA91=\"Yes\",\"Yes\",IF('Simplified Loader'!CA91=\"No\",\"No\",IF('Simplified Loader'!CA91=\"Y\",\"Yes\",IF('Simplified Loader'!CA91=\"N\",\"No\",\"\"))))","v":""},{"$f":"IF('Simplified Loader'!CB91=\"Yes\",\"Yes\",IF('Simplified Loader'!CB91=\"No\",\"No\",IF('Simplified Loader'!CB91=\"Y\",\"Yes\",IF('Simplified Loader'!CB91=\"N\",\"No\",\"\"))))","v":""},{"$f":"IF('Simplified Loader'!CH91>0,'Simplified Loader'!CH91,\"\")","v":"    "}]
[{"$f":"IF('Simplified Loader'!A92>0,'Simplified Loader'!A92,\"\")","v":""},{"$f":"IF('Simplified Loader'!B92>0,'Simplified Loader'!B92,\"\")","v":""},{"$f":"IF('Simplified Loader'!C92>0,'Simplified Loader'!C92,\"\")","v":""},{"$f":"IF('Simplified Loader'!D92>0,'Simplified Loader'!D92,\"\")","v":""},{"$f":"IF('Simplified Loader'!E92>0,TEXT('Simplified Loader'!E92,\"000\"),\"\")","v":""},{"$f":"IF('Simplified Loader'!F92>0,'Simplified Loader'!F92,\"\")","v":""},{"$f":"IF('Simplified Loader'!G92>0,'Simplified Loader'!G92,\"\")","v":""},{"$f":"IF('Simplified Loader'!I92>0,'Simplified Loader'!I92,\"\")","v":""},{"$f":"IF('Simplified Loader'!J92>0,'Simplified Loader'!J92,\"\")","v":""},{"$f":"IF('Simplified Loader'!K92>0,'Simplified Loader'!K92,\"\")","v":""},{"$f":"IF('Simplified Loader'!L92>0,'Simplified Loader'!L92,\"\")","v":""},{"$f":"IF('Simplified Loader'!M92=\"Male\",\"Male\",IF('Simplified Loader'!M92=\"Female\",\"Female\",IF('Simplified Loader'!M92=\"M\",\"Male\",IF('Simplified Loader'!M92=\"F\",\"Female\",\"\"))))","v":""},{"$f":"IF('Simplified Loader'!N92=\"Yes\",\"Yes\",IF('Simplified Loader'!N92=\"No\",\"No\",IF('Simplified Loader'!N92=\"Y\",\"Yes\",IF('Simplified Loader'!N92=\"N\",\"No\",\"\"))))","v":""},{"$f":"IF('Simplified Loader'!O92=\"No\",\"Single\",IF('Simplified Loader'!O92=\"Yes\",\"Family\",IF('Simplified Loader'!O92=\"N\",\"Single\",IF('Simplified Loader'!O92=\"Y\",\"Family\",IF('Simplified Loader'!O92=\"In-force\",\"Family\",IF('Simplified Loader'!O92=\"In force\",\"Family\",IF('Simplified Loader'!O92=\"Applies\",\"Family\",IF('Simplified Loader'!O92=\"Applicable\",\"Family\",\"\"))))))))","v":""},{"$f":"IF('Simplified Loader'!P92=\"English\",\"English\",IF('Simplified Loader'!P92=\"French\",\"French\",IF('Simplified Loader'!P92=\"E\",\"English\",IF('Simplified Loader'!P92=\"F\",\"French\",\"\"))))","v":""},{"$f":"IF('Simplified Loader'!Q92=\"Yes\",\"Yes\",IF('Simplified Loader'!Q92=\"No\",\"No\",IF('Simplified Loader'!Q92=\"Y\",\"Yes\",IF('Simplified Loader'!Q92=\"N\",\"No\",\"\"))))","v":""},{"$f":"IF('Simplified Loader'!R92>0,'Simplified Loader'!R92,\"\")","v":""},{"$f":"IF('Simplified Loader'!S92>0,'Simplified Loader'!S92,\"\")","v":""},{"$f":"IF('Simplified Loader'!T92>0,'Simplified Loader'!T92,\"\")","v":""},{"$f":"IF('Simplified Loader'!U92>0,'Simplified Loader'!U92,\"\")","v":""},{"$f":"IF('Simplified Loader'!V92=\"Waive\",\"Yes\",\"\")","v":""},{"$f":"IF('Simplified Loader'!W92=\"Waive\",\"Yes\",\"\")","v":""},{"$f":"IF('Simplified Loader'!X92>0,'Simplified Loader'!X92,\"\")","v":""},{"$f":"IF('Simplified Loader'!Y92>0,'Simplified Loader'!Y92,\"\")","v":""},{"$f":"IF('Simplified Loader'!Z92>0,'Simplified Loader'!Z92,\"\")","v":""},{"$f":"IF('Simplified Loader'!AA92>0,'Simplified Loader'!AA92,\"\")","v":""},{"$f":"IF('Simplified Loader'!AB92>0,'Simplified Loader'!AB92,\"\")","v":""},{"$f":"IF('Simplified Loader'!AC92>0,'Simplified Loader'!AC92,\"\")","v":" "},{"$f":"IF('Simplified Loader'!AE92>0,'Simplified Loader'!AE92&\" \",\"\")&IF('Simplified Loader'!AD92>0,'Simplified Loader'!AD92,\"\")","v":""},null,{"$f":"IF('Simplified Loader'!AF92>0,'Simplified Loader'!AF92,\"\")","v":""},{"$f":"IF('Simplified Loader'!AG92>0,'Simplified Loader'!AG92,\"\")","v":""},{"$f":"IF('Simplified Loader'!AH92>0,'Simplified Loader'!AH92,\"\")","v":""},{"$f":"IF('Simplified Loader'!AI92>0,'Simplified Loader'!AI92,\"\")","v":""},{"$f":"IF('Simplified Loader'!AJ92>0,'Simplified Loader'!AJ92,\"\")","v":""},{"$f":"IF('Simplified Loader'!AK92>0,'Simplified Loader'!AK92,\"\")","v":""},{"$f":"IF('Simplified Loader'!AL92>0,'Simplified Loader'!AL92,\"\")","v":""},{"$f":"IF('Simplified Loader'!AM92>0,'Simplified Loader'!AM92,\"\")","v":""},{"$f":"IF('Simplified Loader'!AN92=\"Male\",\"Male\",IF('Simplified Loader'!AN92=\"Female\",\"Female\",IF('Simplified Loader'!AN92=\"M\",\"Male\",IF('Simplified Loader'!AN92=\"F\",\"Female\",\"\"))))","v":""},{"$f":"IF('Simplified Loader'!AO92=\"Single\",\"Single\",IF('Simplified Loader'!AO92=\"Family\",\"Family\",IF('Simplified Loader'!AO92=\"S\",\"Single\",IF('Simplified Loader'!AO92=\"F\",\"Family\",\"\"))))","v":""},{"$f":"IF('Simplified Loader'!AP92=\"Single\",\"Single\",IF('Simplified Loader'!AP92=\"Family\",\"Family\",IF('Simplified Loader'!AP92=\"S\",\"Single\",IF('Simplified Loader'!AP92=\"F\",\"Family\",\"\"))))","v":""},{"$f":"IF('Simplified Loader'!AQ92>0,'Simplified Loader'!AQ92,\"\")","v":""},{"$f":"IF('Simplified Loader'!AR92=\"Yes\",\"Yes\",IF('Simplified Loader'!AR92=\"No\",\"No\",IF('Simplified Loader'!AR92=\"Y\",\"Yes\",IF('Simplified Loader'!AR92=\"N\",\"No\",\"\"))))","v":""},{"$f":"IF('Simplified Loader'!AS92>0,'Simplified Loader'!AS92,\"\")","v":""},{"$f":"IF('Simplified Loader'!AT92>0,'Simplified Loader'!AT92,\"\")","v":""},{"$f":"IF('Simplified Loader'!AU92>0,'Simplified Loader'!AU92,\"\")","v":""},{"$f":"IF('Simplified Loader'!AV92=\"Male\",\"Male\",IF('Simplified Loader'!AV92=\"Female\",\"Female\",IF('Simplified Loader'!AV92=\"M\",\"Male\",IF('Simplified Loader'!AV92=\"F\",\"Female\",\"\"))))","v":""},{"$f":"IF('Simplified Loader'!AW92=\"Yes\",\"Yes\",IF('Simplified Loader'!AW92=\"No\",\"No\",IF('Simplified Loader'!AW92=\"Y\",\"Yes\",IF('Simplified Loader'!AW92=\"N\",\"No\",\"\"))))","v":""},{"$f":"IF('Simplified Loader'!AX92=\"Yes\",\"Yes\",IF('Simplified Loader'!AX92=\"No\",\"No\",IF('Simplified Loader'!AX92=\"Y\",\"Yes\",IF('Simplified Loader'!AX92=\"N\",\"No\",\"\"))))","v":""},{"$f":"IF('Simplified Loader'!AY92>0,'Simplified Loader'!AY92,\"\")","v":""},{"$f":"IF('Simplified Loader'!AZ92>0,'Simplified Loader'!AZ92,\"\")","v":""},{"$f":"IF('Simplified Loader'!BA92>0,'Simplified Loader'!BA92,\"\")","v":""},{"$f":"IF('Simplified Loader'!BB92=\"Male\",\"Male\",IF('Simplified Loader'!BB92=\"Female\",\"Female\",IF('Simplified Loader'!BB92=\"M\",\"Male\",IF('Simplified Loader'!BB92=\"F\",\"Female\",\"\"))))","v":""},{"$f":"IF('Simplified Loader'!BC92=\"Yes\",\"Yes\",IF('Simplified Loader'!BC92=\"No\",\"No\",IF('Simplified Loader'!BC92=\"Y\",\"Yes\",IF('Simplified Loader'!BC92=\"N\",\"No\",\"\"))))","v":""},{"$f":"IF('Simplified Loader'!BD92=\"Yes\",\"Yes\",IF('Simplified Loader'!BD92=\"No\",\"No\",IF('Simplified Loader'!BD92=\"Y\",\"Yes\",IF('Simplified Loader'!BD92=\"N\",\"No\",\"\"))))","v":""},{"$f":"IF('Simplified Loader'!BE92>0,'Simplified Loader'!BE92,\"\")","v":""},{"$f":"IF('Simplified Loader'!BF92>0,'Simplified Loader'!BF92,\"\")","v":""},{"$f":"IF('Simplified Loader'!BG92>0,'Simplified Loader'!BG92,\"\")","v":""},{"$f":"IF('Simplified Loader'!BH92=\"Male\",\"Male\",IF('Simplified Loader'!BH92=\"Female\",\"Female\",IF('Simplified Loader'!BH92=\"M\",\"Male\",IF('Simplified Loader'!BH92=\"F\",\"Female\",\"\"))))","v":""},{"$f":"IF('Simplified Loader'!BI92=\"Yes\",\"Yes\",IF('Simplified Loader'!BI92=\"No\",\"No\",IF('Simplified Loader'!BI92=\"Y\",\"Yes\",IF('Simplified Loader'!BI92=\"N\",\"No\",\"\"))))","v":""},{"$f":"IF('Simplified Loader'!BJ92=\"Yes\",\"Yes\",IF('Simplified Loader'!BJ92=\"No\",\"No\",IF('Simplified Loader'!BJ92=\"Y\",\"Yes\",IF('Simplified Loader'!BJ92=\"N\",\"No\",\"\"))))","v":""},{"$f":"IF('Simplified Loader'!BK92>0,'Simplified Loader'!BK92,\"\")","v":""},{"$f":"IF('Simplified Loader'!BL92>0,'Simplified Loader'!BL92,\"\")","v":""},{"$f":"IF('Simplified Loader'!BM92>0,'Simplified Loader'!BM92,\"\")","v":""},{"$f":"IF('Simplified Loader'!BN92=\"Male\",\"Male\",IF('Simplified Loader'!BN92=\"Female\",\"Female\",IF('Simplified Loader'!BN92=\"M\",\"Male\",IF('Simplified Loader'!BN92=\"F\",\"Female\",\"\"))))","v":""},{"$f":"IF('Simplified Loader'!BO92=\"Yes\",\"Yes\",IF('Simplified Loader'!BO92=\"No\",\"No\",IF('Simplified Loader'!BO92=\"Y\",\"Yes\",IF('Simplified Loader'!BO92=\"N\",\"No\",\"\"))))","v":""},{"$f":"IF('Simplified Loader'!BP92=\"Yes\",\"Yes\",IF('Simplified Loader'!BP92=\"No\",\"No\",IF('Simplified Loader'!BP92=\"Y\",\"Yes\",IF('Simplified Loader'!BP92=\"N\",\"No\",\"\"))))","v":""},{"$f":"IF('Simplified Loader'!BQ92>0,'Simplified Loader'!BQ92,\"\")","v":""},{"$f":"IF('Simplified Loader'!BR92>0,'Simplified Loader'!BR92,\"\")","v":""},{"$f":"IF('Simplified Loader'!BS92>0,'Simplified Loader'!BS92,\"\")","v":""},{"$f":"IF('Simplified Loader'!BT92=\"Male\",\"Male\",IF('Simplified Loader'!BT92=\"Female\",\"Female\",IF('Simplified Loader'!BT92=\"M\",\"Male\",IF('Simplified Loader'!BT92=\"F\",\"Female\",\"\"))))","v":""},{"$f":"IF('Simplified Loader'!BU92=\"Yes\",\"Yes\",IF('Simplified Loader'!BU92=\"No\",\"No\",IF('Simplified Loader'!BU92=\"Y\",\"Yes\",IF('Simplified Loader'!BU92=\"N\",\"No\",\"\"))))","v":""},{"$f":"IF('Simplified Loader'!BV92=\"Yes\",\"Yes\",IF('Simplified Loader'!BV92=\"No\",\"No\",IF('Simplified Loader'!BV92=\"Y\",\"Yes\",IF('Simplified Loader'!BV92=\"N\",\"No\",\"\"))))","v":""},{"$f":"IF('Simplified Loader'!BW92>0,'Simplified Loader'!BW92,\"\")","v":""},{"$f":"IF('Simplified Loader'!BX92>0,'Simplified Loader'!BX92,\"\")","v":""},{"$f":"IF('Simplified Loader'!BY92>0,'Simplified Loader'!BY92,\"\")","v":""},{"$f":"IF('Simplified Loader'!BZ92=\"Male\",\"Male\",IF('Simplified Loader'!BZ92=\"Female\",\"Female\",IF('Simplified Loader'!BZ92=\"M\",\"Male\",IF('Simplified Loader'!BZ92=\"F\",\"Female\",\"\"))))","v":""},{"$f":"IF('Simplified Loader'!CA92=\"Yes\",\"Yes\",IF('Simplified Loader'!CA92=\"No\",\"No\",IF('Simplified Loader'!CA92=\"Y\",\"Yes\",IF('Simplified Loader'!CA92=\"N\",\"No\",\"\"))))","v":""},{"$f":"IF('Simplified Loader'!CB92=\"Yes\",\"Yes\",IF('Simplified Loader'!CB92=\"No\",\"No\",IF('Simplified Loader'!CB92=\"Y\",\"Yes\",IF('Simplified Loader'!CB92=\"N\",\"No\",\"\"))))","v":""},{"$f":"IF('Simplified Loader'!CH92>0,'Simplified Loader'!CH92,\"\")","v":"    "}]
[{"$f":"IF('Simplified Loader'!A93>0,'Simplified Loader'!A93,\"\")","v":""},{"$f":"IF('Simplified Loader'!B93>0,'Simplified Loader'!B93,\"\")","v":""},{"$f":"IF('Simplified Loader'!C93>0,'Simplified Loader'!C93,\"\")","v":""},{"$f":"IF('Simplified Loader'!D93>0,'Simplified Loader'!D93,\"\")","v":""},{"$f":"IF('Simplified Loader'!E93>0,TEXT('Simplified Loader'!E93,\"000\"),\"\")","v":""},{"$f":"IF('Simplified Loader'!F93>0,'Simplified Loader'!F93,\"\")","v":""},{"$f":"IF('Simplified Loader'!G93>0,'Simplified Loader'!G93,\"\")","v":""},{"$f":"IF('Simplified Loader'!I93>0,'Simplified Loader'!I93,\"\")","v":""},{"$f":"IF('Simplified Loader'!J93>0,'Simplified Loader'!J93,\"\")","v":""},{"$f":"IF('Simplified Loader'!K93>0,'Simplified Loader'!K93,\"\")","v":""},{"$f":"IF('Simplified Loader'!L93>0,'Simplified Loader'!L93,\"\")","v":""},{"$f":"IF('Simplified Loader'!M93=\"Male\",\"Male\",IF('Simplified Loader'!M93=\"Female\",\"Female\",IF('Simplified Loader'!M93=\"M\",\"Male\",IF('Simplified Loader'!M93=\"F\",\"Female\",\"\"))))","v":""},{"$f":"IF('Simplified Loader'!N93=\"Yes\",\"Yes\",IF('Simplified Loader'!N93=\"No\",\"No\",IF('Simplified Loader'!N93=\"Y\",\"Yes\",IF('Simplified Loader'!N93=\"N\",\"No\",\"\"))))","v":""},{"$f":"IF('Simplified Loader'!O93=\"No\",\"Single\",IF('Simplified Loader'!O93=\"Yes\",\"Family\",IF('Simplified Loader'!O93=\"N\",\"Single\",IF('Simplified Loader'!O93=\"Y\",\"Family\",IF('Simplified Loader'!O93=\"In-force\",\"Family\",IF('Simplified Loader'!O93=\"In force\",\"Family\",IF('Simplified Loader'!O93=\"Applies\",\"Family\",IF('Simplified Loader'!O93=\"Applicable\",\"Family\",\"\"))))))))","v":""},{"$f":"IF('Simplified Loader'!P93=\"English\",\"English\",IF('Simplified Loader'!P93=\"French\",\"French\",IF('Simplified Loader'!P93=\"E\",\"English\",IF('Simplified Loader'!P93=\"F\",\"French\",\"\"))))","v":""},{"$f":"IF('Simplified Loader'!Q93=\"Yes\",\"Yes\",IF('Simplified Loader'!Q93=\"No\",\"No\",IF('Simplified Loader'!Q93=\"Y\",\"Yes\",IF('Simplified Loader'!Q93=\"N\",\"No\",\"\"))))","v":""},{"$f":"IF('Simplified Loader'!R93>0,'Simplified Loader'!R93,\"\")","v":""},{"$f":"IF('Simplified Loader'!S93>0,'Simplified Loader'!S93,\"\")","v":""},{"$f":"IF('Simplified Loader'!T93>0,'Simplified Loader'!T93,\"\")","v":""},{"$f":"IF('Simplified Loader'!U93>0,'Simplified Loader'!U93,\"\")","v":""},{"$f":"IF('Simplified Loader'!V93=\"Waive\",\"Yes\",\"\")","v":""},{"$f":"IF('Simplified Loader'!W93=\"Waive\",\"Yes\",\"\")","v":""},{"$f":"IF('Simplified Loader'!X93>0,'Simplified Loader'!X93,\"\")","v":""},{"$f":"IF('Simplified Loader'!Y93>0,'Simplified Loader'!Y93,\"\")","v":""},{"$f":"IF('Simplified Loader'!Z93>0,'Simplified Loader'!Z93,\"\")","v":""},{"$f":"IF('Simplified Loader'!AA93>0,'Simplified Loader'!AA93,\"\")","v":""},{"$f":"IF('Simplified Loader'!AB93>0,'Simplified Loader'!AB93,\"\")","v":""},{"$f":"IF('Simplified Loader'!AC93>0,'Simplified Loader'!AC93,\"\")","v":" "},{"$f":"IF('Simplified Loader'!AE93>0,'Simplified Loader'!AE93&\" \",\"\")&IF('Simplified Loader'!AD93>0,'Simplified Loader'!AD93,\"\")","v":""},null,{"$f":"IF('Simplified Loader'!AF93>0,'Simplified Loader'!AF93,\"\")","v":""},{"$f":"IF('Simplified Loader'!AG93>0,'Simplified Loader'!AG93,\"\")","v":""},{"$f":"IF('Simplified Loader'!AH93>0,'Simplified Loader'!AH93,\"\")","v":""},{"$f":"IF('Simplified Loader'!AI93>0,'Simplified Loader'!AI93,\"\")","v":""},{"$f":"IF('Simplified Loader'!AJ93>0,'Simplified Loader'!AJ93,\"\")","v":""},{"$f":"IF('Simplified Loader'!AK93>0,'Simplified Loader'!AK93,\"\")","v":""},{"$f":"IF('Simplified Loader'!AL93>0,'Simplified Loader'!AL93,\"\")","v":""},{"$f":"IF('Simplified Loader'!AM93>0,'Simplified Loader'!AM93,\"\")","v":""},{"$f":"IF('Simplified Loader'!AN93=\"Male\",\"Male\",IF('Simplified Loader'!AN93=\"Female\",\"Female\",IF('Simplified Loader'!AN93=\"M\",\"Male\",IF('Simplified Loader'!AN93=\"F\",\"Female\",\"\"))))","v":""},{"$f":"IF('Simplified Loader'!AO93=\"Single\",\"Single\",IF('Simplified Loader'!AO93=\"Family\",\"Family\",IF('Simplified Loader'!AO93=\"S\",\"Single\",IF('Simplified Loader'!AO93=\"F\",\"Family\",\"\"))))","v":""},{"$f":"IF('Simplified Loader'!AP93=\"Single\",\"Single\",IF('Simplified Loader'!AP93=\"Family\",\"Family\",IF('Simplified Loader'!AP93=\"S\",\"Single\",IF('Simplified Loader'!AP93=\"F\",\"Family\",\"\"))))","v":""},{"$f":"IF('Simplified Loader'!AQ93>0,'Simplified Loader'!AQ93,\"\")","v":""},{"$f":"IF('Simplified Loader'!AR93=\"Yes\",\"Yes\",IF('Simplified Loader'!AR93=\"No\",\"No\",IF('Simplified Loader'!AR93=\"Y\",\"Yes\",IF('Simplified Loader'!AR93=\"N\",\"No\",\"\"))))","v":""},{"$f":"IF('Simplified Loader'!AS93>0,'Simplified Loader'!AS93,\"\")","v":""},{"$f":"IF('Simplified Loader'!AT93>0,'Simplified Loader'!AT93,\"\")","v":""},{"$f":"IF('Simplified Loader'!AU93>0,'Simplified Loader'!AU93,\"\")","v":""},{"$f":"IF('Simplified Loader'!AV93=\"Male\",\"Male\",IF('Simplified Loader'!AV93=\"Female\",\"Female\",IF('Simplified Loader'!AV93=\"M\",\"Male\",IF('Simplified Loader'!AV93=\"F\",\"Female\",\"\"))))","v":""},{"$f":"IF('Simplified Loader'!AW93=\"Yes\",\"Yes\",IF('Simplified Loader'!AW93=\"No\",\"No\",IF('Simplified Loader'!AW93=\"Y\",\"Yes\",IF('Simplified Loader'!AW93=\"N\",\"No\",\"\"))))","v":""},{"$f":"IF('Simplified Loader'!AX93=\"Yes\",\"Yes\",IF('Simplified Loader'!AX93=\"No\",\"No\",IF('Simplified Loader'!AX93=\"Y\",\"Yes\",IF('Simplified Loader'!AX93=\"N\",\"No\",\"\"))))","v":""},{"$f":"IF('Simplified Loader'!AY93>0,'Simplified Loader'!AY93,\"\")","v":""},{"$f":"IF('Simplified Loader'!AZ93>0,'Simplified Loader'!AZ93,\"\")","v":""},{"$f":"IF('Simplified Loader'!BA93>0,'Simplified Loader'!BA93,\"\")","v":""},{"$f":"IF('Simplified Loader'!BB93=\"Male\",\"Male\",IF('Simplified Loader'!BB93=\"Female\",\"Female\",IF('Simplified Loader'!BB93=\"M\",\"Male\",IF('Simplified Loader'!BB93=\"F\",\"Female\",\"\"))))","v":""},{"$f":"IF('Simplified Loader'!BC93=\"Yes\",\"Yes\",IF('Simplified Loader'!BC93=\"No\",\"No\",IF('Simplified Loader'!BC93=\"Y\",\"Yes\",IF('Simplified Loader'!BC93=\"N\",\"No\",\"\"))))","v":""},{"$f":"IF('Simplified Loader'!BD93=\"Yes\",\"Yes\",IF('Simplified Loader'!BD93=\"No\",\"No\",IF('Simplified Loader'!BD93=\"Y\",\"Yes\",IF('Simplified Loader'!BD93=\"N\",\"No\",\"\"))))","v":""},{"$f":"IF('Simplified Loader'!BE93>0,'Simplified Loader'!BE93,\"\")","v":""},{"$f":"IF('Simplified Loader'!BF93>0,'Simplified Loader'!BF93,\"\")","v":""},{"$f":"IF('Simplified Loader'!BG93>0,'Simplified Loader'!BG93,\"\")","v":""},{"$f":"IF('Simplified Loader'!BH93=\"Male\",\"Male\",IF('Simplified Loader'!BH93=\"Female\",\"Female\",IF('Simplified Loader'!BH93=\"M\",\"Male\",IF('Simplified Loader'!BH93=\"F\",\"Female\",\"\"))))","v":""},{"$f":"IF('Simplified Loader'!BI93=\"Yes\",\"Yes\",IF('Simplified Loader'!BI93=\"No\",\"No\",IF('Simplified Loader'!BI93=\"Y\",\"Yes\",IF('Simplified Loader'!BI93=\"N\",\"No\",\"\"))))","v":""},{"$f":"IF('Simplified Loader'!BJ93=\"Yes\",\"Yes\",IF('Simplified Loader'!BJ93=\"No\",\"No\",IF('Simplified Loader'!BJ93=\"Y\",\"Yes\",IF('Simplified Loader'!BJ93=\"N\",\"No\",\"\"))))","v":""},{"$f":"IF('Simplified Loader'!BK93>0,'Simplified Loader'!BK93,\"\")","v":""},{"$f":"IF('Simplified Loader'!BL93>0,'Simplified Loader'!BL93,\"\")","v":""},{"$f":"IF('Simplified Loader'!BM93>0,'Simplified Loader'!BM93,\"\")","v":""},{"$f":"IF('Simplified Loader'!BN93=\"Male\",\"Male\",IF('Simplified Loader'!BN93=\"Female\",\"Female\",IF('Simplified Loader'!BN93=\"M\",\"Male\",IF('Simplified Loader'!BN93=\"F\",\"Female\",\"\"))))","v":""},{"$f":"IF('Simplified Loader'!BO93=\"Yes\",\"Yes\",IF('Simplified Loader'!BO93=\"No\",\"No\",IF('Simplified Loader'!BO93=\"Y\",\"Yes\",IF('Simplified Loader'!BO93=\"N\",\"No\",\"\"))))","v":""},{"$f":"IF('Simplified Loader'!BP93=\"Yes\",\"Yes\",IF('Simplified Loader'!BP93=\"No\",\"No\",IF('Simplified Loader'!BP93=\"Y\",\"Yes\",IF('Simplified Loader'!BP93=\"N\",\"No\",\"\"))))","v":""},{"$f":"IF('Simplified Loader'!BQ93>0,'Simplified Loader'!BQ93,\"\")","v":""},{"$f":"IF('Simplified Loader'!BR93>0,'Simplified Loader'!BR93,\"\")","v":""},{"$f":"IF('Simplified Loader'!BS93>0,'Simplified Loader'!BS93,\"\")","v":""},{"$f":"IF('Simplified Loader'!BT93=\"Male\",\"Male\",IF('Simplified Loader'!BT93=\"Female\",\"Female\",IF('Simplified Loader'!BT93=\"M\",\"Male\",IF('Simplified Loader'!BT93=\"F\",\"Female\",\"\"))))","v":""},{"$f":"IF('Simplified Loader'!BU93=\"Yes\",\"Yes\",IF('Simplified Loader'!BU93=\"No\",\"No\",IF('Simplified Loader'!BU93=\"Y\",\"Yes\",IF('Simplified Loader'!BU93=\"N\",\"No\",\"\"))))","v":""},{"$f":"IF('Simplified Loader'!BV93=\"Yes\",\"Yes\",IF('Simplified Loader'!BV93=\"No\",\"No\",IF('Simplified Loader'!BV93=\"Y\",\"Yes\",IF('Simplified Loader'!BV93=\"N\",\"No\",\"\"))))","v":""},{"$f":"IF('Simplified Loader'!BW93>0,'Simplified Loader'!BW93,\"\")","v":""},{"$f":"IF('Simplified Loader'!BX93>0,'Simplified Loader'!BX93,\"\")","v":""},{"$f":"IF('Simplified Loader'!BY93>0,'Simplified Loader'!BY93,\"\")","v":""},{"$f":"IF('Simplified Loader'!BZ93=\"Male\",\"Male\",IF('Simplified Loader'!BZ93=\"Female\",\"Female\",IF('Simplified Loader'!BZ93=\"M\",\"Male\",IF('Simplified Loader'!BZ93=\"F\",\"Female\",\"\"))))","v":""},{"$f":"IF('Simplified Loader'!CA93=\"Yes\",\"Yes\",IF('Simplified Loader'!CA93=\"No\",\"No\",IF('Simplified Loader'!CA93=\"Y\",\"Yes\",IF('Simplified Loader'!CA93=\"N\",\"No\",\"\"))))","v":""},{"$f":"IF('Simplified Loader'!CB93=\"Yes\",\"Yes\",IF('Simplified Loader'!CB93=\"No\",\"No\",IF('Simplified Loader'!CB93=\"Y\",\"Yes\",IF('Simplified Loader'!CB93=\"N\",\"No\",\"\"))))","v":""},{"$f":"IF('Simplified Loader'!CH93>0,'Simplified Loader'!CH93,\"\")","v":"    "}]
[{"$f":"IF('Simplified Loader'!A94>0,'Simplified Loader'!A94,\"\")","v":""},{"$f":"IF('Simplified Loader'!B94>0,'Simplified Loader'!B94,\"\")","v":""},{"$f":"IF('Simplified Loader'!C94>0,'Simplified Loader'!C94,\"\")","v":""},{"$f":"IF('Simplified Loader'!D94>0,'Simplified Loader'!D94,\"\")","v":""},{"$f":"IF('Simplified Loader'!E94>0,TEXT('Simplified Loader'!E94,\"000\"),\"\")","v":""},{"$f":"IF('Simplified Loader'!F94>0,'Simplified Loader'!F94,\"\")","v":""},{"$f":"IF('Simplified Loader'!G94>0,'Simplified Loader'!G94,\"\")","v":""},{"$f":"IF('Simplified Loader'!I94>0,'Simplified Loader'!I94,\"\")","v":""},{"$f":"IF('Simplified Loader'!J94>0,'Simplified Loader'!J94,\"\")","v":""},{"$f":"IF('Simplified Loader'!K94>0,'Simplified Loader'!K94,\"\")","v":""},{"$f":"IF('Simplified Loader'!L94>0,'Simplified Loader'!L94,\"\")","v":""},{"$f":"IF('Simplified Loader'!M94=\"Male\",\"Male\",IF('Simplified Loader'!M94=\"Female\",\"Female\",IF('Simplified Loader'!M94=\"M\",\"Male\",IF('Simplified Loader'!M94=\"F\",\"Female\",\"\"))))","v":""},{"$f":"IF('Simplified Loader'!N94=\"Yes\",\"Yes\",IF('Simplified Loader'!N94=\"No\",\"No\",IF('Simplified Loader'!N94=\"Y\",\"Yes\",IF('Simplified Loader'!N94=\"N\",\"No\",\"\"))))","v":""},{"$f":"IF('Simplified Loader'!O94=\"No\",\"Single\",IF('Simplified Loader'!O94=\"Yes\",\"Family\",IF('Simplified Loader'!O94=\"N\",\"Single\",IF('Simplified Loader'!O94=\"Y\",\"Family\",IF('Simplified Loader'!O94=\"In-force\",\"Family\",IF('Simplified Loader'!O94=\"In force\",\"Family\",IF('Simplified Loader'!O94=\"Applies\",\"Family\",IF('Simplified Loader'!O94=\"Applicable\",\"Family\",\"\"))))))))","v":""},{"$f":"IF('Simplified Loader'!P94=\"English\",\"English\",IF('Simplified Loader'!P94=\"French\",\"French\",IF('Simplified Loader'!P94=\"E\",\"English\",IF('Simplified Loader'!P94=\"F\",\"French\",\"\"))))","v":""},{"$f":"IF('Simplified Loader'!Q94=\"Yes\",\"Yes\",IF('Simplified Loader'!Q94=\"No\",\"No\",IF('Simplified Loader'!Q94=\"Y\",\"Yes\",IF('Simplified Loader'!Q94=\"N\",\"No\",\"\"))))","v":""},{"$f":"IF('Simplified Loader'!R94>0,'Simplified Loader'!R94,\"\")","v":""},{"$f":"IF('Simplified Loader'!S94>0,'Simplified Loader'!S94,\"\")","v":""},{"$f":"IF('Simplified Loader'!T94>0,'Simplified Loader'!T94,\"\")","v":""},{"$f":"IF('Simplified Loader'!U94>0,'Simplified Loader'!U94,\"\")","v":""},{"$f":"IF('Simplified Loader'!V94=\"Waive\",\"Yes\",\"\")","v":""},{"$f":"IF('Simplified Loader'!W94=\"Waive\",\"Yes\",\"\")","v":""},{"$f":"IF('Simplified Loader'!X94>0,'Simplified Loader'!X94,\"\")","v":""},{"$f":"IF('Simplified Loader'!Y94>0,'Simplified Loader'!Y94,\"\")","v":""},{"$f":"IF('Simplified Loader'!Z94>0,'Simplified Loader'!Z94,\"\")","v":""},{"$f":"IF('Simplified Loader'!AA94>0,'Simplified Loader'!AA94,\"\")","v":""},{"$f":"IF('Simplified Loader'!AB94>0,'Simplified Loader'!AB94,\"\")","v":""},{"$f":"IF('Simplified Loader'!AC94>0,'Simplified Loader'!AC94,\"\")","v":" "},{"$f":"IF('Simplified Loader'!AE94>0,'Simplified Loader'!AE94&\" \",\"\")&IF('Simplified Loader'!AD94>0,'Simplified Loader'!AD94,\"\")","v":""},null,{"$f":"IF('Simplified Loader'!AF94>0,'Simplified Loader'!AF94,\"\")","v":""},{"$f":"IF('Simplified Loader'!AG94>0,'Simplified Loader'!AG94,\"\")","v":""},{"$f":"IF('Simplified Loader'!AH94>0,'Simplified Loader'!AH94,\"\")","v":""},{"$f":"IF('Simplified Loader'!AI94>0,'Simplified Loader'!AI94,\"\")","v":""},{"$f":"IF('Simplified Loader'!AJ94>0,'Simplified Loader'!AJ94,\"\")","v":""},{"$f":"IF('Simplified Loader'!AK94>0,'Simplified Loader'!AK94,\"\")","v":""},{"$f":"IF('Simplified Loader'!AL94>0,'Simplified Loader'!AL94,\"\")","v":""},{"$f":"IF('Simplified Loader'!AM94>0,'Simplified Loader'!AM94,\"\")","v":""},{"$f":"IF('Simplified Loader'!AN94=\"Male\",\"Male\",IF('Simplified Loader'!AN94=\"Female\",\"Female\",IF('Simplified Loader'!AN94=\"M\",\"Male\",IF('Simplified Loader'!AN94=\"F\",\"Female\",\"\"))))","v":""},{"$f":"IF('Simplified Loader'!AO94=\"Single\",\"Single\",IF('Simplified Loader'!AO94=\"Family\",\"Family\",IF('Simplified Loader'!AO94=\"S\",\"Single\",IF('Simplified Loader'!AO94=\"F\",\"Family\",\"\"))))","v":""},{"$f":"IF('Simplified Loader'!AP94=\"Single\",\"Single\",IF('Simplified Loader'!AP94=\"Family\",\"Family\",IF('Simplified Loader'!AP94=\"S\",\"Single\",IF('Simplified Loader'!AP94=\"F\",\"Family\",\"\"))))","v":""},{"$f":"IF('Simplified Loader'!AQ94>0,'Simplified Loader'!AQ94,\"\")","v":""},{"$f":"IF('Simplified Loader'!AR94=\"Yes\",\"Yes\",IF('Simplified Loader'!AR94=\"No\",\"No\",IF('Simplified Loader'!AR94=\"Y\",\"Yes\",IF('Simplified Loader'!AR94=\"N\",\"No\",\"\"))))","v":""},{"$f":"IF('Simplified Loader'!AS94>0,'Simplified Loader'!AS94,\"\")","v":""},{"$f":"IF('Simplified Loader'!AT94>0,'Simplified Loader'!AT94,\"\")","v":""},{"$f":"IF('Simplified Loader'!AU94>0,'Simplified Loader'!AU94,\"\")","v":""},{"$f":"IF('Simplified Loader'!AV94=\"Male\",\"Male\",IF('Simplified Loader'!AV94=\"Female\",\"Female\",IF('Simplified Loader'!AV94=\"M\",\"Male\",IF('Simplified Loader'!AV94=\"F\",\"Female\",\"\"))))","v":""},{"$f":"IF('Simplified Loader'!AW94=\"Yes\",\"Yes\",IF('Simplified Loader'!AW94=\"No\",\"No\",IF('Simplified Loader'!AW94=\"Y\",\"Yes\",IF('Simplified Loader'!AW94=\"N\",\"No\",\"\"))))","v":""},{"$f":"IF('Simplified Loader'!AX94=\"Yes\",\"Yes\",IF('Simplified Loader'!AX94=\"No\",\"No\",IF('Simplified Loader'!AX94=\"Y\",\"Yes\",IF('Simplified Loader'!AX94=\"N\",\"No\",\"\"))))","v":""},{"$f":"IF('Simplified Loader'!AY94>0,'Simplified Loader'!AY94,\"\")","v":""},{"$f":"IF('Simplified Loader'!AZ94>0,'Simplified Loader'!AZ94,\"\")","v":""},{"$f":"IF('Simplified Loader'!BA94>0,'Simplified Loader'!BA94,\"\")","v":""},{"$f":"IF('Simplified Loader'!BB94=\"Male\",\"Male\",IF('Simplified Loader'!BB94=\"Female\",\"Female\",IF('Simplified Loader'!BB94=\"M\",\"Male\",IF('Simplified Loader'!BB94=\"F\",\"Female\",\"\"))))","v":""},{"$f":"IF('Simplified Loader'!BC94=\"Yes\",\"Yes\",IF('Simplified Loader'!BC94=\"No\",\"No\",IF('Simplified Loader'!BC94=\"Y\",\"Yes\",IF('Simplified Loader'!BC94=\"N\",\"No\",\"\"))))","v":""},{"$f":"IF('Simplified Loader'!BD94=\"Yes\",\"Yes\",IF('Simplified Loader'!BD94=\"No\",\"No\",IF('Simplified Loader'!BD94=\"Y\",\"Yes\",IF('Simplified Loader'!BD94=\"N\",\"No\",\"\"))))","v":""},{"$f":"IF('Simplified Loader'!BE94>0,'Simplified Loader'!BE94,\"\")","v":""},{"$f":"IF('Simplified Loader'!BF94>0,'Simplified Loader'!BF94,\"\")","v":""},{"$f":"IF('Simplified Loader'!BG94>0,'Simplified Loader'!BG94,\"\")","v":""},{"$f":"IF('Simplified Loader'!BH94=\"Male\",\"Male\",IF('Simplified Loader'!BH94=\"Female\",\"Female\",IF('Simplified Loader'!BH94=\"M\",\"Male\",IF('Simplified Loader'!BH94=\"F\",\"Female\",\"\"))))","v":""},{"$f":"IF('Simplified Loader'!BI94=\"Yes\",\"Yes\",IF('Simplified Loader'!BI94=\"No\",\"No\",IF('Simplified Loader'!BI94=\"Y\",\"Yes\",IF('Simplified Loader'!BI94=\"N\",\"No\",\"\"))))","v":""},{"$f":"IF('Simplified Loader'!BJ94=\"Yes\",\"Yes\",IF('Simplified Loader'!BJ94=\"No\",\"No\",IF('Simplified Loader'!BJ94=\"Y\",\"Yes\",IF('Simplified Loader'!BJ94=\"N\",\"No\",\"\"))))","v":""},{"$f":"IF('Simplified Loader'!BK94>0,'Simplified Loader'!BK94,\"\")","v":""},{"$f":"IF('Simplified Loader'!BL94>0,'Simplified Loader'!BL94,\"\")","v":""},{"$f":"IF('Simplified Loader'!BM94>0,'Simplified Loader'!BM94,\"\")","v":""},{"$f":"IF('Simplified Loader'!BN94=\"Male\",\"Male\",IF('Simplified Loader'!BN94=\"Female\",\"Female\",IF('Simplified Loader'!BN94=\"M\",\"Male\",IF('Simplified Loader'!BN94=\"F\",\"Female\",\"\"))))","v":""},{"$f":"IF('Simplified Loader'!BO94=\"Yes\",\"Yes\",IF('Simplified Loader'!BO94=\"No\",\"No\",IF('Simplified Loader'!BO94=\"Y\",\"Yes\",IF('Simplified Loader'!BO94=\"N\",\"No\",\"\"))))","v":""},{"$f":"IF('Simplified Loader'!BP94=\"Yes\",\"Yes\",IF('Simplified Loader'!BP94=\"No\",\"No\",IF('Simplified Loader'!BP94=\"Y\",\"Yes\",IF('Simplified Loader'!BP94=\"N\",\"No\",\"\"))))","v":""},{"$f":"IF('Simplified Loader'!BQ94>0,'Simplified Loader'!BQ94,\"\")","v":""},{"$f":"IF('Simplified Loader'!BR94>0,'Simplified Loader'!BR94,\"\")","v":""},{"$f":"IF('Simplified Loader'!BS94>0,'Simplified Loader'!BS94,\"\")","v":""},{"$f":"IF('Simplified Loader'!BT94=\"Male\",\"Male\",IF('Simplified Loader'!BT94=\"Female\",\"Female\",IF('Simplified Loader'!BT94=\"M\",\"Male\",IF('Simplified Loader'!BT94=\"F\",\"Female\",\"\"))))","v":""},{"$f":"IF('Simplified Loader'!BU94=\"Yes\",\"Yes\",IF('Simplified Loader'!BU94=\"No\",\"No\",IF('Simplified Loader'!BU94=\"Y\",\"Yes\",IF('Simplified Loader'!BU94=\"N\",\"No\",\"\"))))","v":""},{"$f":"IF('Simplified Loader'!BV94=\"Yes\",\"Yes\",IF('Simplified Loader'!BV94=\"No\",\"No\",IF('Simplified Loader'!BV94=\"Y\",\"Yes\",IF('Simplified Loader'!BV94=\"N\",\"No\",\"\"))))","v":""},{"$f":"IF('Simplified Loader'!BW94>0,'Simplified Loader'!BW94,\"\")","v":""},{"$f":"IF('Simplified Loader'!BX94>0,'Simplified Loader'!BX94,\"\")","v":""},{"$f":"IF('Simplified Loader'!BY94>0,'Simplified Loader'!BY94,\"\")","v":""},{"$f":"IF('Simplified Loader'!BZ94=\"Male\",\"Male\",IF('Simplified Loader'!BZ94=\"Female\",\"Female\",IF('Simplified Loader'!BZ94=\"M\",\"Male\",IF('Simplified Loader'!BZ94=\"F\",\"Female\",\"\"))))","v":""},{"$f":"IF('Simplified Loader'!CA94=\"Yes\",\"Yes\",IF('Simplified Loader'!CA94=\"No\",\"No\",IF('Simplified Loader'!CA94=\"Y\",\"Yes\",IF('Simplified Loader'!CA94=\"N\",\"No\",\"\"))))","v":""},{"$f":"IF('Simplified Loader'!CB94=\"Yes\",\"Yes\",IF('Simplified Loader'!CB94=\"No\",\"No\",IF('Simplified Loader'!CB94=\"Y\",\"Yes\",IF('Simplified Loader'!CB94=\"N\",\"No\",\"\"))))","v":""},{"$f":"IF('Simplified Loader'!CH94>0,'Simplified Loader'!CH94,\"\")","v":"    "}]
[{"$f":"IF('Simplified Loader'!A95>0,'Simplified Loader'!A95,\"\")","v":""},{"$f":"IF('Simplified Loader'!B95>0,'Simplified Loader'!B95,\"\")","v":""},{"$f":"IF('Simplified Loader'!C95>0,'Simplified Loader'!C95,\"\")","v":""},{"$f":"IF('Simplified Loader'!D95>0,'Simplified Loader'!D95,\"\")","v":""},{"$f":"IF('Simplified Loader'!E95>0,TEXT('Simplified Loader'!E95,\"000\"),\"\")","v":""},{"$f":"IF('Simplified Loader'!F95>0,'Simplified Loader'!F95,\"\")","v":""},{"$f":"IF('Simplified Loader'!G95>0,'Simplified Loader'!G95,\"\")","v":""},{"$f":"IF('Simplified Loader'!I95>0,'Simplified Loader'!I95,\"\")","v":""},{"$f":"IF('Simplified Loader'!J95>0,'Simplified Loader'!J95,\"\")","v":""},{"$f":"IF('Simplified Loader'!K95>0,'Simplified Loader'!K95,\"\")","v":""},{"$f":"IF('Simplified Loader'!L95>0,'Simplified Loader'!L95,\"\")","v":""},{"$f":"IF('Simplified Loader'!M95=\"Male\",\"Male\",IF('Simplified Loader'!M95=\"Female\",\"Female\",IF('Simplified Loader'!M95=\"M\",\"Male\",IF('Simplified Loader'!M95=\"F\",\"Female\",\"\"))))","v":""},{"$f":"IF('Simplified Loader'!N95=\"Yes\",\"Yes\",IF('Simplified Loader'!N95=\"No\",\"No\",IF('Simplified Loader'!N95=\"Y\",\"Yes\",IF('Simplified Loader'!N95=\"N\",\"No\",\"\"))))","v":""},{"$f":"IF('Simplified Loader'!O95=\"No\",\"Single\",IF('Simplified Loader'!O95=\"Yes\",\"Family\",IF('Simplified Loader'!O95=\"N\",\"Single\",IF('Simplified Loader'!O95=\"Y\",\"Family\",IF('Simplified Loader'!O95=\"In-force\",\"Family\",IF('Simplified Loader'!O95=\"In force\",\"Family\",IF('Simplified Loader'!O95=\"Applies\",\"Family\",IF('Simplified Loader'!O95=\"Applicable\",\"Family\",\"\"))))))))","v":""},{"$f":"IF('Simplified Loader'!P95=\"English\",\"English\",IF('Simplified Loader'!P95=\"French\",\"French\",IF('Simplified Loader'!P95=\"E\",\"English\",IF('Simplified Loader'!P95=\"F\",\"French\",\"\"))))","v":""},{"$f":"IF('Simplified Loader'!Q95=\"Yes\",\"Yes\",IF('Simplified Loader'!Q95=\"No\",\"No\",IF('Simplified Loader'!Q95=\"Y\",\"Yes\",IF('Simplified Loader'!Q95=\"N\",\"No\",\"\"))))","v":""},{"$f":"IF('Simplified Loader'!R95>0,'Simplified Loader'!R95,\"\")","v":""},{"$f":"IF('Simplified Loader'!S95>0,'Simplified Loader'!S95,\"\")","v":""},{"$f":"IF('Simplified Loader'!T95>0,'Simplified Loader'!T95,\"\")","v":""},{"$f":"IF('Simplified Loader'!U95>0,'Simplified Loader'!U95,\"\")","v":""},{"$f":"IF('Simplified Loader'!V95=\"Waive\",\"Yes\",\"\")","v":""},{"$f":"IF('Simplified Loader'!W95=\"Waive\",\"Yes\",\"\")","v":""},{"$f":"IF('Simplified Loader'!X95>0,'Simplified Loader'!X95,\"\")","v":""},{"$f":"IF('Simplified Loader'!Y95>0,'Simplified Loader'!Y95,\"\")","v":""},{"$f":"IF('Simplified Loader'!Z95>0,'Simplified Loader'!Z95,\"\")","v":""},{"$f":"IF('Simplified Loader'!AA95>0,'Simplified Loader'!AA95,\"\")","v":""},{"$f":"IF('Simplified Loader'!AB95>0,'Simplified Loader'!AB95,\"\")","v":""},{"$f":"IF('Simplified Loader'!AC95>0,'Simplified Loader'!AC95,\"\")","v":" "},{"$f":"IF('Simplified Loader'!AE95>0,'Simplified Loader'!AE95&\" \",\"\")&IF('Simplified Loader'!AD95>0,'Simplified Loader'!AD95,\"\")","v":""},null,{"$f":"IF('Simplified Loader'!AF95>0,'Simplified Loader'!AF95,\"\")","v":""},{"$f":"IF('Simplified Loader'!AG95>0,'Simplified Loader'!AG95,\"\")","v":""},{"$f":"IF('Simplified Loader'!AH95>0,'Simplified Loader'!AH95,\"\")","v":""},{"$f":"IF('Simplified Loader'!AI95>0,'Simplified Loader'!AI95,\"\")","v":""},{"$f":"IF('Simplified Loader'!AJ95>0,'Simplified Loader'!AJ95,\"\")","v":""},{"$f":"IF('Simplified Loader'!AK95>0,'Simplified Loader'!AK95,\"\")","v":""},{"$f":"IF('Simplified Loader'!AL95>0,'Simplified Loader'!AL95,\"\")","v":""},{"$f":"IF('Simplified Loader'!AM95>0,'Simplified Loader'!AM95,\"\")","v":""},{"$f":"IF('Simplified Loader'!AN95=\"Male\",\"Male\",IF('Simplified Loader'!AN95=\"Female\",\"Female\",IF('Simplified Loader'!AN95=\"M\",\"Male\",IF('Simplified Loader'!AN95=\"F\",\"Female\",\"\"))))","v":""},{"$f":"IF('Simplified Loader'!AO95=\"Single\",\"Single\",IF('Simplified Loader'!AO95=\"Family\",\"Family\",IF('Simplified Loader'!AO95=\"S\",\"Single\",IF('Simplified Loader'!AO95=\"F\",\"Family\",\"\"))))","v":""},{"$f":"IF('Simplified Loader'!AP95=\"Single\",\"Single\",IF('Simplified Loader'!AP95=\"Family\",\"Family\",IF('Simplified Loader'!AP95=\"S\",\"Single\",IF('Simplified Loader'!AP95=\"F\",\"Family\",\"\"))))","v":""},{"$f":"IF('Simplified Loader'!AQ95>0,'Simplified Loader'!AQ95,\"\")","v":""},{"$f":"IF('Simplified Loader'!AR95=\"Yes\",\"Yes\",IF('Simplified Loader'!AR95=\"No\",\"No\",IF('Simplified Loader'!AR95=\"Y\",\"Yes\",IF('Simplified Loader'!AR95=\"N\",\"No\",\"\"))))","v":""},{"$f":"IF('Simplified Loader'!AS95>0,'Simplified Loader'!AS95,\"\")","v":""},{"$f":"IF('Simplified Loader'!AT95>0,'Simplified Loader'!AT95,\"\")","v":""},{"$f":"IF('Simplified Loader'!AU95>0,'Simplified Loader'!AU95,\"\")","v":""},{"$f":"IF('Simplified Loader'!AV95=\"Male\",\"Male\",IF('Simplified Loader'!AV95=\"Female\",\"Female\",IF('Simplified Loader'!AV95=\"M\",\"Male\",IF('Simplified Loader'!AV95=\"F\",\"Female\",\"\"))))","v":""},{"$f":"IF('Simplified Loader'!AW95=\"Yes\",\"Yes\",IF('Simplified Loader'!AW95=\"No\",\"No\",IF('Simplified Loader'!AW95=\"Y\",\"Yes\",IF('Simplified Loader'!AW95=\"N\",\"No\",\"\"))))","v":""},{"$f":"IF('Simplified Loader'!AX95=\"Yes\",\"Yes\",IF('Simplified Loader'!AX95=\"No\",\"No\",IF('Simplified Loader'!AX95=\"Y\",\"Yes\",IF('Simplified Loader'!AX95=\"N\",\"No\",\"\"))))","v":""},{"$f":"IF('Simplified Loader'!AY95>0,'Simplified Loader'!AY95,\"\")","v":""},{"$f":"IF('Simplified Loader'!AZ95>0,'Simplified Loader'!AZ95,\"\")","v":""},{"$f":"IF('Simplified Loader'!BA95>0,'Simplified Loader'!BA95,\"\")","v":""},{"$f":"IF('Simplified Loader'!BB95=\"Male\",\"Male\",IF('Simplified Loader'!BB95=\"Female\",\"Female\",IF('Simplified Loader'!BB95=\"M\",\"Male\",IF('Simplified Loader'!BB95=\"F\",\"Female\",\"\"))))","v":""},{"$f":"IF('Simplified Loader'!BC95=\"Yes\",\"Yes\",IF('Simplified Loader'!BC95=\"No\",\"No\",IF('Simplified Loader'!BC95=\"Y\",\"Yes\",IF('Simplified Loader'!BC95=\"N\",\"No\",\"\"))))","v":""},{"$f":"IF('Simplified Loader'!BD95=\"Yes\",\"Yes\",IF('Simplified Loader'!BD95=\"No\",\"No\",IF('Simplified Loader'!BD95=\"Y\",\"Yes\",IF('Simplified Loader'!BD95=\"N\",\"No\",\"\"))))","v":""},{"$f":"IF('Simplified Loader'!BE95>0,'Simplified Loader'!BE95,\"\")","v":""},{"$f":"IF('Simplified Loader'!BF95>0,'Simplified Loader'!BF95,\"\")","v":""},{"$f":"IF('Simplified Loader'!BG95>0,'Simplified Loader'!BG95,\"\")","v":""},{"$f":"IF('Simplified Loader'!BH95=\"Male\",\"Male\",IF('Simplified Loader'!BH95=\"Female\",\"Female\",IF('Simplified Loader'!BH95=\"M\",\"Male\",IF('Simplified Loader'!BH95=\"F\",\"Female\",\"\"))))","v":""},{"$f":"IF('Simplified Loader'!BI95=\"Yes\",\"Yes\",IF('Simplified Loader'!BI95=\"No\",\"No\",IF('Simplified Loader'!BI95=\"Y\",\"Yes\",IF('Simplified Loader'!BI95=\"N\",\"No\",\"\"))))","v":""},{"$f":"IF('Simplified Loader'!BJ95=\"Yes\",\"Yes\",IF('Simplified Loader'!BJ95=\"No\",\"No\",IF('Simplified Loader'!BJ95=\"Y\",\"Yes\",IF('Simplified Loader'!BJ95=\"N\",\"No\",\"\"))))","v":""},{"$f":"IF('Simplified Loader'!BK95>0,'Simplified Loader'!BK95,\"\")","v":""},{"$f":"IF('Simplified Loader'!BL95>0,'Simplified Loader'!BL95,\"\")","v":""},{"$f":"IF('Simplified Loader'!BM95>0,'Simplified Loader'!BM95,\"\")","v":""},{"$f":"IF('Simplified Loader'!BN95=\"Male\",\"Male\",IF('Simplified Loader'!BN95=\"Female\",\"Female\",IF('Simplified Loader'!BN95=\"M\",\"Male\",IF('Simplified Loader'!BN95=\"F\",\"Female\",\"\"))))","v":""},{"$f":"IF('Simplified Loader'!BO95=\"Yes\",\"Yes\",IF('Simplified Loader'!BO95=\"No\",\"No\",IF('Simplified Loader'!BO95=\"Y\",\"Yes\",IF('Simplified Loader'!BO95=\"N\",\"No\",\"\"))))","v":""},{"$f":"IF('Simplified Loader'!BP95=\"Yes\",\"Yes\",IF('Simplified Loader'!BP95=\"No\",\"No\",IF('Simplified Loader'!BP95=\"Y\",\"Yes\",IF('Simplified Loader'!BP95=\"N\",\"No\",\"\"))))","v":""},{"$f":"IF('Simplified Loader'!BQ95>0,'Simplified Loader'!BQ95,\"\")","v":""},{"$f":"IF('Simplified Loader'!BR95>0,'Simplified Loader'!BR95,\"\")","v":""},{"$f":"IF('Simplified Loader'!BS95>0,'Simplified Loader'!BS95,\"\")","v":""},{"$f":"IF('Simplified Loader'!BT95=\"Male\",\"Male\",IF('Simplified Loader'!BT95=\"Female\",\"Female\",IF('Simplified Loader'!BT95=\"M\",\"Male\",IF('Simplified Loader'!BT95=\"F\",\"Female\",\"\"))))","v":""},{"$f":"IF('Simplified Loader'!BU95=\"Yes\",\"Yes\",IF('Simplified Loader'!BU95=\"No\",\"No\",IF('Simplified Loader'!BU95=\"Y\",\"Yes\",IF('Simplified Loader'!BU95=\"N\",\"No\",\"\"))))","v":""},{"$f":"IF('Simplified Loader'!BV95=\"Yes\",\"Yes\",IF('Simplified Loader'!BV95=\"No\",\"No\",IF('Simplified Loader'!BV95=\"Y\",\"Yes\",IF('Simplified Loader'!BV95=\"N\",\"No\",\"\"))))","v":""},{"$f":"IF('Simplified Loader'!BW95>0,'Simplified Loader'!BW95,\"\")","v":""},{"$f":"IF('Simplified Loader'!BX95>0,'Simplified Loader'!BX95,\"\")","v":""},{"$f":"IF('Simplified Loader'!BY95>0,'Simplified Loader'!BY95,\"\")","v":""},{"$f":"IF('Simplified Loader'!BZ95=\"Male\",\"Male\",IF('Simplified Loader'!BZ95=\"Female\",\"Female\",IF('Simplified Loader'!BZ95=\"M\",\"Male\",IF('Simplified Loader'!BZ95=\"F\",\"Female\",\"\"))))","v":""},{"$f":"IF('Simplified Loader'!CA95=\"Yes\",\"Yes\",IF('Simplified Loader'!CA95=\"No\",\"No\",IF('Simplified Loader'!CA95=\"Y\",\"Yes\",IF('Simplified Loader'!CA95=\"N\",\"No\",\"\"))))","v":""},{"$f":"IF('Simplified Loader'!CB95=\"Yes\",\"Yes\",IF('Simplified Loader'!CB95=\"No\",\"No\",IF('Simplified Loader'!CB95=\"Y\",\"Yes\",IF('Simplified Loader'!CB95=\"N\",\"No\",\"\"))))","v":""},{"$f":"IF('Simplified Loader'!CH95>0,'Simplified Loader'!CH95,\"\")","v":"    "}]
[{"$f":"IF('Simplified Loader'!A96>0,'Simplified Loader'!A96,\"\")","v":""},{"$f":"IF('Simplified Loader'!B96>0,'Simplified Loader'!B96,\"\")","v":""},{"$f":"IF('Simplified Loader'!C96>0,'Simplified Loader'!C96,\"\")","v":""},{"$f":"IF('Simplified Loader'!D96>0,'Simplified Loader'!D96,\"\")","v":""},{"$f":"IF('Simplified Loader'!E96>0,TEXT('Simplified Loader'!E96,\"000\"),\"\")","v":""},{"$f":"IF('Simplified Loader'!F96>0,'Simplified Loader'!F96,\"\")","v":""},{"$f":"IF('Simplified Loader'!G96>0,'Simplified Loader'!G96,\"\")","v":""},{"$f":"IF('Simplified Loader'!I96>0,'Simplified Loader'!I96,\"\")","v":""},{"$f":"IF('Simplified Loader'!J96>0,'Simplified Loader'!J96,\"\")","v":""},{"$f":"IF('Simplified Loader'!K96>0,'Simplified Loader'!K96,\"\")","v":""},{"$f":"IF('Simplified Loader'!L96>0,'Simplified Loader'!L96,\"\")","v":""},{"$f":"IF('Simplified Loader'!M96=\"Male\",\"Male\",IF('Simplified Loader'!M96=\"Female\",\"Female\",IF('Simplified Loader'!M96=\"M\",\"Male\",IF('Simplified Loader'!M96=\"F\",\"Female\",\"\"))))","v":""},{"$f":"IF('Simplified Loader'!N96=\"Yes\",\"Yes\",IF('Simplified Loader'!N96=\"No\",\"No\",IF('Simplified Loader'!N96=\"Y\",\"Yes\",IF('Simplified Loader'!N96=\"N\",\"No\",\"\"))))","v":""},{"$f":"IF('Simplified Loader'!O96=\"No\",\"Single\",IF('Simplified Loader'!O96=\"Yes\",\"Family\",IF('Simplified Loader'!O96=\"N\",\"Single\",IF('Simplified Loader'!O96=\"Y\",\"Family\",IF('Simplified Loader'!O96=\"In-force\",\"Family\",IF('Simplified Loader'!O96=\"In force\",\"Family\",IF('Simplified Loader'!O96=\"Applies\",\"Family\",IF('Simplified Loader'!O96=\"Applicable\",\"Family\",\"\"))))))))","v":""},{"$f":"IF('Simplified Loader'!P96=\"English\",\"English\",IF('Simplified Loader'!P96=\"French\",\"French\",IF('Simplified Loader'!P96=\"E\",\"English\",IF('Simplified Loader'!P96=\"F\",\"French\",\"\"))))","v":""},{"$f":"IF('Simplified Loader'!Q96=\"Yes\",\"Yes\",IF('Simplified Loader'!Q96=\"No\",\"No\",IF('Simplified Loader'!Q96=\"Y\",\"Yes\",IF('Simplified Loader'!Q96=\"N\",\"No\",\"\"))))","v":""},{"$f":"IF('Simplified Loader'!R96>0,'Simplified Loader'!R96,\"\")","v":""},{"$f":"IF('Simplified Loader'!S96>0,'Simplified Loader'!S96,\"\")","v":""},{"$f":"IF('Simplified Loader'!T96>0,'Simplified Loader'!T96,\"\")","v":""},{"$f":"IF('Simplified Loader'!U96>0,'Simplified Loader'!U96,\"\")","v":""},{"$f":"IF('Simplified Loader'!V96=\"Waive\",\"Yes\",\"\")","v":""},{"$f":"IF('Simplified Loader'!W96=\"Waive\",\"Yes\",\"\")","v":""},{"$f":"IF('Simplified Loader'!X96>0,'Simplified Loader'!X96,\"\")","v":""},{"$f":"IF('Simplified Loader'!Y96>0,'Simplified Loader'!Y96,\"\")","v":""},{"$f":"IF('Simplified Loader'!Z96>0,'Simplified Loader'!Z96,\"\")","v":""},{"$f":"IF('Simplified Loader'!AA96>0,'Simplified Loader'!AA96,\"\")","v":""},{"$f":"IF('Simplified Loader'!AB96>0,'Simplified Loader'!AB96,\"\")","v":""},{"$f":"IF('Simplified Loader'!AC96>0,'Simplified Loader'!AC96,\"\")","v":" "},{"$f":"IF('Simplified Loader'!AE96>0,'Simplified Loader'!AE96&\" \",\"\")&IF('Simplified Loader'!AD96>0,'Simplified Loader'!AD96,\"\")","v":""},null,{"$f":"IF('Simplified Loader'!AF96>0,'Simplified Loader'!AF96,\"\")","v":""},{"$f":"IF('Simplified Loader'!AG96>0,'Simplified Loader'!AG96,\"\")","v":""},{"$f":"IF('Simplified Loader'!AH96>0,'Simplified Loader'!AH96,\"\")","v":""},{"$f":"IF('Simplified Loader'!AI96>0,'Simplified Loader'!AI96,\"\")","v":""},{"$f":"IF('Simplified Loader'!AJ96>0,'Simplified Loader'!AJ96,\"\")","v":""},{"$f":"IF('Simplified Loader'!AK96>0,'Simplified Loader'!AK96,\"\")","v":""},{"$f":"IF('Simplified Loader'!AL96>0,'Simplified Loader'!AL96,\"\")","v":""},{"$f":"IF('Simplified Loader'!AM96>0,'Simplified Loader'!AM96,\"\")","v":""},{"$f":"IF('Simplified Loader'!AN96=\"Male\",\"Male\",IF('Simplified Loader'!AN96=\"Female\",\"Female\",IF('Simplified Loader'!AN96=\"M\",\"Male\",IF('Simplified Loader'!AN96=\"F\",\"Female\",\"\"))))","v":""},{"$f":"IF('Simplified Loader'!AO96=\"Single\",\"Single\",IF('Simplified Loader'!AO96=\"Family\",\"Family\",IF('Simplified Loader'!AO96=\"S\",\"Single\",IF('Simplified Loader'!AO96=\"F\",\"Family\",\"\"))))","v":""},{"$f":"IF('Simplified Loader'!AP96=\"Single\",\"Single\",IF('Simplified Loader'!AP96=\"Family\",\"Family\",IF('Simplified Loader'!AP96=\"S\",\"Single\",IF('Simplified Loader'!AP96=\"F\",\"Family\",\"\"))))","v":""},{"$f":"IF('Simplified Loader'!AQ96>0,'Simplified Loader'!AQ96,\"\")","v":""},{"$f":"IF('Simplified Loader'!AR96=\"Yes\",\"Yes\",IF('Simplified Loader'!AR96=\"No\",\"No\",IF('Simplified Loader'!AR96=\"Y\",\"Yes\",IF('Simplified Loader'!AR96=\"N\",\"No\",\"\"))))","v":""},{"$f":"IF('Simplified Loader'!AS96>0,'Simplified Loader'!AS96,\"\")","v":""},{"$f":"IF('Simplified Loader'!AT96>0,'Simplified Loader'!AT96,\"\")","v":""},{"$f":"IF('Simplified Loader'!AU96>0,'Simplified Loader'!AU96,\"\")","v":""},{"$f":"IF('Simplified Loader'!AV96=\"Male\",\"Male\",IF('Simplified Loader'!AV96=\"Female\",\"Female\",IF('Simplified Loader'!AV96=\"M\",\"Male\",IF('Simplified Loader'!AV96=\"F\",\"Female\",\"\"))))","v":""},{"$f":"IF('Simplified Loader'!AW96=\"Yes\",\"Yes\",IF('Simplified Loader'!AW96=\"No\",\"No\",IF('Simplified Loader'!AW96=\"Y\",\"Yes\",IF('Simplified Loader'!AW96=\"N\",\"No\",\"\"))))","v":""},{"$f":"IF('Simplified Loader'!AX96=\"Yes\",\"Yes\",IF('Simplified Loader'!AX96=\"No\",\"No\",IF('Simplified Loader'!AX96=\"Y\",\"Yes\",IF('Simplified Loader'!AX96=\"N\",\"No\",\"\"))))","v":""},{"$f":"IF('Simplified Loader'!AY96>0,'Simplified Loader'!AY96,\"\")","v":""},{"$f":"IF('Simplified Loader'!AZ96>0,'Simplified Loader'!AZ96,\"\")","v":""},{"$f":"IF('Simplified Loader'!BA96>0,'Simplified Loader'!BA96,\"\")","v":""},{"$f":"IF('Simplified Loader'!BB96=\"Male\",\"Male\",IF('Simplified Loader'!BB96=\"Female\",\"Female\",IF('Simplified Loader'!BB96=\"M\",\"Male\",IF('Simplified Loader'!BB96=\"F\",\"Female\",\"\"))))","v":""},{"$f":"IF('Simplified Loader'!BC96=\"Yes\",\"Yes\",IF('Simplified Loader'!BC96=\"No\",\"No\",IF('Simplified Loader'!BC96=\"Y\",\"Yes\",IF('Simplified Loader'!BC96=\"N\",\"No\",\"\"))))","v":""},{"$f":"IF('Simplified Loader'!BD96=\"Yes\",\"Yes\",IF('Simplified Loader'!BD96=\"No\",\"No\",IF('Simplified Loader'!BD96=\"Y\",\"Yes\",IF('Simplified Loader'!BD96=\"N\",\"No\",\"\"))))","v":""},{"$f":"IF('Simplified Loader'!BE96>0,'Simplified Loader'!BE96,\"\")","v":""},{"$f":"IF('Simplified Loader'!BF96>0,'Simplified Loader'!BF96,\"\")","v":""},{"$f":"IF('Simplified Loader'!BG96>0,'Simplified Loader'!BG96,\"\")","v":""},{"$f":"IF('Simplified Loader'!BH96=\"Male\",\"Male\",IF('Simplified Loader'!BH96=\"Female\",\"Female\",IF('Simplified Loader'!BH96=\"M\",\"Male\",IF('Simplified Loader'!BH96=\"F\",\"Female\",\"\"))))","v":""},{"$f":"IF('Simplified Loader'!BI96=\"Yes\",\"Yes\",IF('Simplified Loader'!BI96=\"No\",\"No\",IF('Simplified Loader'!BI96=\"Y\",\"Yes\",IF('Simplified Loader'!BI96=\"N\",\"No\",\"\"))))","v":""},{"$f":"IF('Simplified Loader'!BJ96=\"Yes\",\"Yes\",IF('Simplified Loader'!BJ96=\"No\",\"No\",IF('Simplified Loader'!BJ96=\"Y\",\"Yes\",IF('Simplified Loader'!BJ96=\"N\",\"No\",\"\"))))","v":""},{"$f":"IF('Simplified Loader'!BK96>0,'Simplified Loader'!BK96,\"\")","v":""},{"$f":"IF('Simplified Loader'!BL96>0,'Simplified Loader'!BL96,\"\")","v":""},{"$f":"IF('Simplified Loader'!BM96>0,'Simplified Loader'!BM96,\"\")","v":""},{"$f":"IF('Simplified Loader'!BN96=\"Male\",\"Male\",IF('Simplified Loader'!BN96=\"Female\",\"Female\",IF('Simplified Loader'!BN96=\"M\",\"Male\",IF('Simplified Loader'!BN96=\"F\",\"Female\",\"\"))))","v":""},{"$f":"IF('Simplified Loader'!BO96=\"Yes\",\"Yes\",IF('Simplified Loader'!BO96=\"No\",\"No\",IF('Simplified Loader'!BO96=\"Y\",\"Yes\",IF('Simplified Loader'!BO96=\"N\",\"No\",\"\"))))","v":""},{"$f":"IF('Simplified Loader'!BP96=\"Yes\",\"Yes\",IF('Simplified Loader'!BP96=\"No\",\"No\",IF('Simplified Loader'!BP96=\"Y\",\"Yes\",IF('Simplified Loader'!BP96=\"N\",\"No\",\"\"))))","v":""},{"$f":"IF('Simplified Loader'!BQ96>0,'Simplified Loader'!BQ96,\"\")","v":""},{"$f":"IF('Simplified Loader'!BR96>0,'Simplified Loader'!BR96,\"\")","v":""},{"$f":"IF('Simplified Loader'!BS96>0,'Simplified Loader'!BS96,\"\")","v":""},{"$f":"IF('Simplified Loader'!BT96=\"Male\",\"Male\",IF('Simplified Loader'!BT96=\"Female\",\"Female\",IF('Simplified Loader'!BT96=\"M\",\"Male\",IF('Simplified Loader'!BT96=\"F\",\"Female\",\"\"))))","v":""},{"$f":"IF('Simplified Loader'!BU96=\"Yes\",\"Yes\",IF('Simplified Loader'!BU96=\"No\",\"No\",IF('Simplified Loader'!BU96=\"Y\",\"Yes\",IF('Simplified Loader'!BU96=\"N\",\"No\",\"\"))))","v":""},{"$f":"IF('Simplified Loader'!BV96=\"Yes\",\"Yes\",IF('Simplified Loader'!BV96=\"No\",\"No\",IF('Simplified Loader'!BV96=\"Y\",\"Yes\",IF('Simplified Loader'!BV96=\"N\",\"No\",\"\"))))","v":""},{"$f":"IF('Simplified Loader'!BW96>0,'Simplified Loader'!BW96,\"\")","v":""},{"$f":"IF('Simplified Loader'!BX96>0,'Simplified Loader'!BX96,\"\")","v":""},{"$f":"IF('Simplified Loader'!BY96>0,'Simplified Loader'!BY96,\"\")","v":""},{"$f":"IF('Simplified Loader'!BZ96=\"Male\",\"Male\",IF('Simplified Loader'!BZ96=\"Female\",\"Female\",IF('Simplified Loader'!BZ96=\"M\",\"Male\",IF('Simplified Loader'!BZ96=\"F\",\"Female\",\"\"))))","v":""},{"$f":"IF('Simplified Loader'!CA96=\"Yes\",\"Yes\",IF('Simplified Loader'!CA96=\"No\",\"No\",IF('Simplified Loader'!CA96=\"Y\",\"Yes\",IF('Simplified Loader'!CA96=\"N\",\"No\",\"\"))))","v":""},{"$f":"IF('Simplified Loader'!CB96=\"Yes\",\"Yes\",IF('Simplified Loader'!CB96=\"No\",\"No\",IF('Simplified Loader'!CB96=\"Y\",\"Yes\",IF('Simplified Loader'!CB96=\"N\",\"No\",\"\"))))","v":""},{"$f":"IF('Simplified Loader'!CH96>0,'Simplified Loader'!CH96,\"\")","v":"    "}]
[{"$f":"IF('Simplified Loader'!A97>0,'Simplified Loader'!A97,\"\")","v":""},{"$f":"IF('Simplified Loader'!B97>0,'Simplified Loader'!B97,\"\")","v":""},{"$f":"IF('Simplified Loader'!C97>0,'Simplified Loader'!C97,\"\")","v":""},{"$f":"IF('Simplified Loader'!D97>0,'Simplified Loader'!D97,\"\")","v":""},{"$f":"IF('Simplified Loader'!E97>0,TEXT('Simplified Loader'!E97,\"000\"),\"\")","v":""},{"$f":"IF('Simplified Loader'!F97>0,'Simplified Loader'!F97,\"\")","v":""},{"$f":"IF('Simplified Loader'!G97>0,'Simplified Loader'!G97,\"\")","v":""},{"$f":"IF('Simplified Loader'!I97>0,'Simplified Loader'!I97,\"\")","v":""},{"$f":"IF('Simplified Loader'!J97>0,'Simplified Loader'!J97,\"\")","v":""},{"$f":"IF('Simplified Loader'!K97>0,'Simplified Loader'!K97,\"\")","v":""},{"$f":"IF('Simplified Loader'!L97>0,'Simplified Loader'!L97,\"\")","v":""},{"$f":"IF('Simplified Loader'!M97=\"Male\",\"Male\",IF('Simplified Loader'!M97=\"Female\",\"Female\",IF('Simplified Loader'!M97=\"M\",\"Male\",IF('Simplified Loader'!M97=\"F\",\"Female\",\"\"))))","v":""},{"$f":"IF('Simplified Loader'!N97=\"Yes\",\"Yes\",IF('Simplified Loader'!N97=\"No\",\"No\",IF('Simplified Loader'!N97=\"Y\",\"Yes\",IF('Simplified Loader'!N97=\"N\",\"No\",\"\"))))","v":""},{"$f":"IF('Simplified Loader'!O97=\"No\",\"Single\",IF('Simplified Loader'!O97=\"Yes\",\"Family\",IF('Simplified Loader'!O97=\"N\",\"Single\",IF('Simplified Loader'!O97=\"Y\",\"Family\",IF('Simplified Loader'!O97=\"In-force\",\"Family\",IF('Simplified Loader'!O97=\"In force\",\"Family\",IF('Simplified Loader'!O97=\"Applies\",\"Family\",IF('Simplified Loader'!O97=\"Applicable\",\"Family\",\"\"))))))))","v":""},{"$f":"IF('Simplified Loader'!P97=\"English\",\"English\",IF('Simplified Loader'!P97=\"French\",\"French\",IF('Simplified Loader'!P97=\"E\",\"English\",IF('Simplified Loader'!P97=\"F\",\"French\",\"\"))))","v":""},{"$f":"IF('Simplified Loader'!Q97=\"Yes\",\"Yes\",IF('Simplified Loader'!Q97=\"No\",\"No\",IF('Simplified Loader'!Q97=\"Y\",\"Yes\",IF('Simplified Loader'!Q97=\"N\",\"No\",\"\"))))","v":""},{"$f":"IF('Simplified Loader'!R97>0,'Simplified Loader'!R97,\"\")","v":""},{"$f":"IF('Simplified Loader'!S97>0,'Simplified Loader'!S97,\"\")","v":""},{"$f":"IF('Simplified Loader'!T97>0,'Simplified Loader'!T97,\"\")","v":""},{"$f":"IF('Simplified Loader'!U97>0,'Simplified Loader'!U97,\"\")","v":""},{"$f":"IF('Simplified Loader'!V97=\"Waive\",\"Yes\",\"\")","v":""},{"$f":"IF('Simplified Loader'!W97=\"Waive\",\"Yes\",\"\")","v":""},{"$f":"IF('Simplified Loader'!X97>0,'Simplified Loader'!X97,\"\")","v":""},{"$f":"IF('Simplified Loader'!Y97>0,'Simplified Loader'!Y97,\"\")","v":""},{"$f":"IF('Simplified Loader'!Z97>0,'Simplified Loader'!Z97,\"\")","v":""},{"$f":"IF('Simplified Loader'!AA97>0,'Simplified Loader'!AA97,\"\")","v":""},{"$f":"IF('Simplified Loader'!AB97>0,'Simplified Loader'!AB97,\"\")","v":""},{"$f":"IF('Simplified Loader'!AC97>0,'Simplified Loader'!AC97,\"\")","v":" "},{"$f":"IF('Simplified Loader'!AE97>0,'Simplified Loader'!AE97&\" \",\"\")&IF('Simplified Loader'!AD97>0,'Simplified Loader'!AD97,\"\")","v":""},null,{"$f":"IF('Simplified Loader'!AF97>0,'Simplified Loader'!AF97,\"\")","v":""},{"$f":"IF('Simplified Loader'!AG97>0,'Simplified Loader'!AG97,\"\")","v":""},{"$f":"IF('Simplified Loader'!AH97>0,'Simplified Loader'!AH97,\"\")","v":""},{"$f":"IF('Simplified Loader'!AI97>0,'Simplified Loader'!AI97,\"\")","v":""},{"$f":"IF('Simplified Loader'!AJ97>0,'Simplified Loader'!AJ97,\"\")","v":""},{"$f":"IF('Simplified Loader'!AK97>0,'Simplified Loader'!AK97,\"\")","v":""},{"$f":"IF('Simplified Loader'!AL97>0,'Simplified Loader'!AL97,\"\")","v":""},{"$f":"IF('Simplified Loader'!AM97>0,'Simplified Loader'!AM97,\"\")","v":""},{"$f":"IF('Simplified Loader'!AN97=\"Male\",\"Male\",IF('Simplified Loader'!AN97=\"Female\",\"Female\",IF('Simplified Loader'!AN97=\"M\",\"Male\",IF('Simplified Loader'!AN97=\"F\",\"Female\",\"\"))))","v":""},{"$f":"IF('Simplified Loader'!AO97=\"Single\",\"Single\",IF('Simplified Loader'!AO97=\"Family\",\"Family\",IF('Simplified Loader'!AO97=\"S\",\"Single\",IF('Simplified Loader'!AO97=\"F\",\"Family\",\"\"))))","v":""},{"$f":"IF('Simplified Loader'!AP97=\"Single\",\"Single\",IF('Simplified Loader'!AP97=\"Family\",\"Family\",IF('Simplified Loader'!AP97=\"S\",\"Single\",IF('Simplified Loader'!AP97=\"F\",\"Family\",\"\"))))","v":""},{"$f":"IF('Simplified Loader'!AQ97>0,'Simplified Loader'!AQ97,\"\")","v":""},{"$f":"IF('Simplified Loader'!AR97=\"Yes\",\"Yes\",IF('Simplified Loader'!AR97=\"No\",\"No\",IF('Simplified Loader'!AR97=\"Y\",\"Yes\",IF('Simplified Loader'!AR97=\"N\",\"No\",\"\"))))","v":""},{"$f":"IF('Simplified Loader'!AS97>0,'Simplified Loader'!AS97,\"\")","v":""},{"$f":"IF('Simplified Loader'!AT97>0,'Simplified Loader'!AT97,\"\")","v":""},{"$f":"IF('Simplified Loader'!AU97>0,'Simplified Loader'!AU97,\"\")","v":""},{"$f":"IF('Simplified Loader'!AV97=\"Male\",\"Male\",IF('Simplified Loader'!AV97=\"Female\",\"Female\",IF('Simplified Loader'!AV97=\"M\",\"Male\",IF('Simplified Loader'!AV97=\"F\",\"Female\",\"\"))))","v":""},{"$f":"IF('Simplified Loader'!AW97=\"Yes\",\"Yes\",IF('Simplified Loader'!AW97=\"No\",\"No\",IF('Simplified Loader'!AW97=\"Y\",\"Yes\",IF('Simplified Loader'!AW97=\"N\",\"No\",\"\"))))","v":""},{"$f":"IF('Simplified Loader'!AX97=\"Yes\",\"Yes\",IF('Simplified Loader'!AX97=\"No\",\"No\",IF('Simplified Loader'!AX97=\"Y\",\"Yes\",IF('Simplified Loader'!AX97=\"N\",\"No\",\"\"))))","v":""},{"$f":"IF('Simplified Loader'!AY97>0,'Simplified Loader'!AY97,\"\")","v":""},{"$f":"IF('Simplified Loader'!AZ97>0,'Simplified Loader'!AZ97,\"\")","v":""},{"$f":"IF('Simplified Loader'!BA97>0,'Simplified Loader'!BA97,\"\")","v":""},{"$f":"IF('Simplified Loader'!BB97=\"Male\",\"Male\",IF('Simplified Loader'!BB97=\"Female\",\"Female\",IF('Simplified Loader'!BB97=\"M\",\"Male\",IF('Simplified Loader'!BB97=\"F\",\"Female\",\"\"))))","v":""},{"$f":"IF('Simplified Loader'!BC97=\"Yes\",\"Yes\",IF('Simplified Loader'!BC97=\"No\",\"No\",IF('Simplified Loader'!BC97=\"Y\",\"Yes\",IF('Simplified Loader'!BC97=\"N\",\"No\",\"\"))))","v":""},{"$f":"IF('Simplified Loader'!BD97=\"Yes\",\"Yes\",IF('Simplified Loader'!BD97=\"No\",\"No\",IF('Simplified Loader'!BD97=\"Y\",\"Yes\",IF('Simplified Loader'!BD97=\"N\",\"No\",\"\"))))","v":""},{"$f":"IF('Simplified Loader'!BE97>0,'Simplified Loader'!BE97,\"\")","v":""},{"$f":"IF('Simplified Loader'!BF97>0,'Simplified Loader'!BF97,\"\")","v":""},{"$f":"IF('Simplified Loader'!BG97>0,'Simplified Loader'!BG97,\"\")","v":""},{"$f":"IF('Simplified Loader'!BH97=\"Male\",\"Male\",IF('Simplified Loader'!BH97=\"Female\",\"Female\",IF('Simplified Loader'!BH97=\"M\",\"Male\",IF('Simplified Loader'!BH97=\"F\",\"Female\",\"\"))))","v":""},{"$f":"IF('Simplified Loader'!BI97=\"Yes\",\"Yes\",IF('Simplified Loader'!BI97=\"No\",\"No\",IF('Simplified Loader'!BI97=\"Y\",\"Yes\",IF('Simplified Loader'!BI97=\"N\",\"No\",\"\"))))","v":""},{"$f":"IF('Simplified Loader'!BJ97=\"Yes\",\"Yes\",IF('Simplified Loader'!BJ97=\"No\",\"No\",IF('Simplified Loader'!BJ97=\"Y\",\"Yes\",IF('Simplified Loader'!BJ97=\"N\",\"No\",\"\"))))","v":""},{"$f":"IF('Simplified Loader'!BK97>0,'Simplified Loader'!BK97,\"\")","v":""},{"$f":"IF('Simplified Loader'!BL97>0,'Simplified Loader'!BL97,\"\")","v":""},{"$f":"IF('Simplified Loader'!BM97>0,'Simplified Loader'!BM97,\"\")","v":""},{"$f":"IF('Simplified Loader'!BN97=\"Male\",\"Male\",IF('Simplified Loader'!BN97=\"Female\",\"Female\",IF('Simplified Loader'!BN97=\"M\",\"Male\",IF('Simplified Loader'!BN97=\"F\",\"Female\",\"\"))))","v":""},{"$f":"IF('Simplified Loader'!BO97=\"Yes\",\"Yes\",IF('Simplified Loader'!BO97=\"No\",\"No\",IF('Simplified Loader'!BO97=\"Y\",\"Yes\",IF('Simplified Loader'!BO97=\"N\",\"No\",\"\"))))","v":""},{"$f":"IF('Simplified Loader'!BP97=\"Yes\",\"Yes\",IF('Simplified Loader'!BP97=\"No\",\"No\",IF('Simplified Loader'!BP97=\"Y\",\"Yes\",IF('Simplified Loader'!BP97=\"N\",\"No\",\"\"))))","v":""},{"$f":"IF('Simplified Loader'!BQ97>0,'Simplified Loader'!BQ97,\"\")","v":""},{"$f":"IF('Simplified Loader'!BR97>0,'Simplified Loader'!BR97,\"\")","v":""},{"$f":"IF('Simplified Loader'!BS97>0,'Simplified Loader'!BS97,\"\")","v":""},{"$f":"IF('Simplified Loader'!BT97=\"Male\",\"Male\",IF('Simplified Loader'!BT97=\"Female\",\"Female\",IF('Simplified Loader'!BT97=\"M\",\"Male\",IF('Simplified Loader'!BT97=\"F\",\"Female\",\"\"))))","v":""},{"$f":"IF('Simplified Loader'!BU97=\"Yes\",\"Yes\",IF('Simplified Loader'!BU97=\"No\",\"No\",IF('Simplified Loader'!BU97=\"Y\",\"Yes\",IF('Simplified Loader'!BU97=\"N\",\"No\",\"\"))))","v":""},{"$f":"IF('Simplified Loader'!BV97=\"Yes\",\"Yes\",IF('Simplified Loader'!BV97=\"No\",\"No\",IF('Simplified Loader'!BV97=\"Y\",\"Yes\",IF('Simplified Loader'!BV97=\"N\",\"No\",\"\"))))","v":""},{"$f":"IF('Simplified Loader'!BW97>0,'Simplified Loader'!BW97,\"\")","v":""},{"$f":"IF('Simplified Loader'!BX97>0,'Simplified Loader'!BX97,\"\")","v":""},{"$f":"IF('Simplified Loader'!BY97>0,'Simplified Loader'!BY97,\"\")","v":""},{"$f":"IF('Simplified Loader'!BZ97=\"Male\",\"Male\",IF('Simplified Loader'!BZ97=\"Female\",\"Female\",IF('Simplified Loader'!BZ97=\"M\",\"Male\",IF('Simplified Loader'!BZ97=\"F\",\"Female\",\"\"))))","v":""},{"$f":"IF('Simplified Loader'!CA97=\"Yes\",\"Yes\",IF('Simplified Loader'!CA97=\"No\",\"No\",IF('Simplified Loader'!CA97=\"Y\",\"Yes\",IF('Simplified Loader'!CA97=\"N\",\"No\",\"\"))))","v":""},{"$f":"IF('Simplified Loader'!CB97=\"Yes\",\"Yes\",IF('Simplified Loader'!CB97=\"No\",\"No\",IF('Simplified Loader'!CB97=\"Y\",\"Yes\",IF('Simplified Loader'!CB97=\"N\",\"No\",\"\"))))","v":""},{"$f":"IF('Simplified Loader'!CH97>0,'Simplified Loader'!CH97,\"\")","v":"    "}]
[{"$f":"IF('Simplified Loader'!A98>0,'Simplified Loader'!A98,\"\")","v":""},{"$f":"IF('Simplified Loader'!B98>0,'Simplified Loader'!B98,\"\")","v":""},{"$f":"IF('Simplified Loader'!C98>0,'Simplified Loader'!C98,\"\")","v":""},{"$f":"IF('Simplified Loader'!D98>0,'Simplified Loader'!D98,\"\")","v":""},{"$f":"IF('Simplified Loader'!E98>0,TEXT('Simplified Loader'!E98,\"000\"),\"\")","v":""},{"$f":"IF('Simplified Loader'!F98>0,'Simplified Loader'!F98,\"\")","v":""},{"$f":"IF('Simplified Loader'!G98>0,'Simplified Loader'!G98,\"\")","v":""},{"$f":"IF('Simplified Loader'!I98>0,'Simplified Loader'!I98,\"\")","v":""},{"$f":"IF('Simplified Loader'!J98>0,'Simplified Loader'!J98,\"\")","v":""},{"$f":"IF('Simplified Loader'!K98>0,'Simplified Loader'!K98,\"\")","v":""},{"$f":"IF('Simplified Loader'!L98>0,'Simplified Loader'!L98,\"\")","v":""},{"$f":"IF('Simplified Loader'!M98=\"Male\",\"Male\",IF('Simplified Loader'!M98=\"Female\",\"Female\",IF('Simplified Loader'!M98=\"M\",\"Male\",IF('Simplified Loader'!M98=\"F\",\"Female\",\"\"))))","v":""},{"$f":"IF('Simplified Loader'!N98=\"Yes\",\"Yes\",IF('Simplified Loader'!N98=\"No\",\"No\",IF('Simplified Loader'!N98=\"Y\",\"Yes\",IF('Simplified Loader'!N98=\"N\",\"No\",\"\"))))","v":""},{"$f":"IF('Simplified Loader'!O98=\"No\",\"Single\",IF('Simplified Loader'!O98=\"Yes\",\"Family\",IF('Simplified Loader'!O98=\"N\",\"Single\",IF('Simplified Loader'!O98=\"Y\",\"Family\",IF('Simplified Loader'!O98=\"In-force\",\"Family\",IF('Simplified Loader'!O98=\"In force\",\"Family\",IF('Simplified Loader'!O98=\"Applies\",\"Family\",IF('Simplified Loader'!O98=\"Applicable\",\"Family\",\"\"))))))))","v":""},{"$f":"IF('Simplified Loader'!P98=\"English\",\"English\",IF('Simplified Loader'!P98=\"French\",\"French\",IF('Simplified Loader'!P98=\"E\",\"English\",IF('Simplified Loader'!P98=\"F\",\"French\",\"\"))))","v":""},{"$f":"IF('Simplified Loader'!Q98=\"Yes\",\"Yes\",IF('Simplified Loader'!Q98=\"No\",\"No\",IF('Simplified Loader'!Q98=\"Y\",\"Yes\",IF('Simplified Loader'!Q98=\"N\",\"No\",\"\"))))","v":""},{"$f":"IF('Simplified Loader'!R98>0,'Simplified Loader'!R98,\"\")","v":""},{"$f":"IF('Simplified Loader'!S98>0,'Simplified Loader'!S98,\"\")","v":""},{"$f":"IF('Simplified Loader'!T98>0,'Simplified Loader'!T98,\"\")","v":""},{"$f":"IF('Simplified Loader'!U98>0,'Simplified Loader'!U98,\"\")","v":""},{"$f":"IF('Simplified Loader'!V98=\"Waive\",\"Yes\",\"\")","v":""},{"$f":"IF('Simplified Loader'!W98=\"Waive\",\"Yes\",\"\")","v":""},{"$f":"IF('Simplified Loader'!X98>0,'Simplified Loader'!X98,\"\")","v":""},{"$f":"IF('Simplified Loader'!Y98>0,'Simplified Loader'!Y98,\"\")","v":""},{"$f":"IF('Simplified Loader'!Z98>0,'Simplified Loader'!Z98,\"\")","v":""},{"$f":"IF('Simplified Loader'!AA98>0,'Simplified Loader'!AA98,\"\")","v":""},{"$f":"IF('Simplified Loader'!AB98>0,'Simplified Loader'!AB98,\"\")","v":""},{"$f":"IF('Simplified Loader'!AC98>0,'Simplified Loader'!AC98,\"\")","v":" "},{"$f":"IF('Simplified Loader'!AE98>0,'Simplified Loader'!AE98&\" \",\"\")&IF('Simplified Loader'!AD98>0,'Simplified Loader'!AD98,\"\")","v":""},null,{"$f":"IF('Simplified Loader'!AF98>0,'Simplified Loader'!AF98,\"\")","v":""},{"$f":"IF('Simplified Loader'!AG98>0,'Simplified Loader'!AG98,\"\")","v":""},{"$f":"IF('Simplified Loader'!AH98>0,'Simplified Loader'!AH98,\"\")","v":""},{"$f":"IF('Simplified Loader'!AI98>0,'Simplified Loader'!AI98,\"\")","v":""},{"$f":"IF('Simplified Loader'!AJ98>0,'Simplified Loader'!AJ98,\"\")","v":""},{"$f":"IF('Simplified Loader'!AK98>0,'Simplified Loader'!AK98,\"\")","v":""},{"$f":"IF('Simplified Loader'!AL98>0,'Simplified Loader'!AL98,\"\")","v":""},{"$f":"IF('Simplified Loader'!AM98>0,'Simplified Loader'!AM98,\"\")","v":""},{"$f":"IF('Simplified Loader'!AN98=\"Male\",\"Male\",IF('Simplified Loader'!AN98=\"Female\",\"Female\",IF('Simplified Loader'!AN98=\"M\",\"Male\",IF('Simplified Loader'!AN98=\"F\",\"Female\",\"\"))))","v":""},{"$f":"IF('Simplified Loader'!AO98=\"Single\",\"Single\",IF('Simplified Loader'!AO98=\"Family\",\"Family\",IF('Simplified Loader'!AO98=\"S\",\"Single\",IF('Simplified Loader'!AO98=\"F\",\"Family\",\"\"))))","v":""},{"$f":"IF('Simplified Loader'!AP98=\"Single\",\"Single\",IF('Simplified Loader'!AP98=\"Family\",\"Family\",IF('Simplified Loader'!AP98=\"S\",\"Single\",IF('Simplified Loader'!AP98=\"F\",\"Family\",\"\"))))","v":""},{"$f":"IF('Simplified Loader'!AQ98>0,'Simplified Loader'!AQ98,\"\")","v":""},{"$f":"IF('Simplified Loader'!AR98=\"Yes\",\"Yes\",IF('Simplified Loader'!AR98=\"No\",\"No\",IF('Simplified Loader'!AR98=\"Y\",\"Yes\",IF('Simplified Loader'!AR98=\"N\",\"No\",\"\"))))","v":""},{"$f":"IF('Simplified Loader'!AS98>0,'Simplified Loader'!AS98,\"\")","v":""},{"$f":"IF('Simplified Loader'!AT98>0,'Simplified Loader'!AT98,\"\")","v":""},{"$f":"IF('Simplified Loader'!AU98>0,'Simplified Loader'!AU98,\"\")","v":""},{"$f":"IF('Simplified Loader'!AV98=\"Male\",\"Male\",IF('Simplified Loader'!AV98=\"Female\",\"Female\",IF('Simplified Loader'!AV98=\"M\",\"Male\",IF('Simplified Loader'!AV98=\"F\",\"Female\",\"\"))))","v":""},{"$f":"IF('Simplified Loader'!AW98=\"Yes\",\"Yes\",IF('Simplified Loader'!AW98=\"No\",\"No\",IF('Simplified Loader'!AW98=\"Y\",\"Yes\",IF('Simplified Loader'!AW98=\"N\",\"No\",\"\"))))","v":""},{"$f":"IF('Simplified Loader'!AX98=\"Yes\",\"Yes\",IF('Simplified Loader'!AX98=\"No\",\"No\",IF('Simplified Loader'!AX98=\"Y\",\"Yes\",IF('Simplified Loader'!AX98=\"N\",\"No\",\"\"))))","v":""},{"$f":"IF('Simplified Loader'!AY98>0,'Simplified Loader'!AY98,\"\")","v":""},{"$f":"IF('Simplified Loader'!AZ98>0,'Simplified Loader'!AZ98,\"\")","v":""},{"$f":"IF('Simplified Loader'!BA98>0,'Simplified Loader'!BA98,\"\")","v":""},{"$f":"IF('Simplified Loader'!BB98=\"Male\",\"Male\",IF('Simplified Loader'!BB98=\"Female\",\"Female\",IF('Simplified Loader'!BB98=\"M\",\"Male\",IF('Simplified Loader'!BB98=\"F\",\"Female\",\"\"))))","v":""},{"$f":"IF('Simplified Loader'!BC98=\"Yes\",\"Yes\",IF('Simplified Loader'!BC98=\"No\",\"No\",IF('Simplified Loader'!BC98=\"Y\",\"Yes\",IF('Simplified Loader'!BC98=\"N\",\"No\",\"\"))))","v":""},{"$f":"IF('Simplified Loader'!BD98=\"Yes\",\"Yes\",IF('Simplified Loader'!BD98=\"No\",\"No\",IF('Simplified Loader'!BD98=\"Y\",\"Yes\",IF('Simplified Loader'!BD98=\"N\",\"No\",\"\"))))","v":""},{"$f":"IF('Simplified Loader'!BE98>0,'Simplified Loader'!BE98,\"\")","v":""},{"$f":"IF('Simplified Loader'!BF98>0,'Simplified Loader'!BF98,\"\")","v":""},{"$f":"IF('Simplified Loader'!BG98>0,'Simplified Loader'!BG98,\"\")","v":""},{"$f":"IF('Simplified Loader'!BH98=\"Male\",\"Male\",IF('Simplified Loader'!BH98=\"Female\",\"Female\",IF('Simplified Loader'!BH98=\"M\",\"Male\",IF('Simplified Loader'!BH98=\"F\",\"Female\",\"\"))))","v":""},{"$f":"IF('Simplified Loader'!BI98=\"Yes\",\"Yes\",IF('Simplified Loader'!BI98=\"No\",\"No\",IF('Simplified Loader'!BI98=\"Y\",\"Yes\",IF('Simplified Loader'!BI98=\"N\",\"No\",\"\"))))","v":""},{"$f":"IF('Simplified Loader'!BJ98=\"Yes\",\"Yes\",IF('Simplified Loader'!BJ98=\"No\",\"No\",IF('Simplified Loader'!BJ98=\"Y\",\"Yes\",IF('Simplified Loader'!BJ98=\"N\",\"No\",\"\"))))","v":""},{"$f":"IF('Simplified Loader'!BK98>0,'Simplified Loader'!BK98,\"\")","v":""},{"$f":"IF('Simplified Loader'!BL98>0,'Simplified Loader'!BL98,\"\")","v":""},{"$f":"IF('Simplified Loader'!BM98>0,'Simplified Loader'!BM98,\"\")","v":""},{"$f":"IF('Simplified Loader'!BN98=\"Male\",\"Male\",IF('Simplified Loader'!BN98=\"Female\",\"Female\",IF('Simplified Loader'!BN98=\"M\",\"Male\",IF('Simplified Loader'!BN98=\"F\",\"Female\",\"\"))))","v":""},{"$f":"IF('Simplified Loader'!BO98=\"Yes\",\"Yes\",IF('Simplified Loader'!BO98=\"No\",\"No\",IF('Simplified Loader'!BO98=\"Y\",\"Yes\",IF('Simplified Loader'!BO98=\"N\",\"No\",\"\"))))","v":""},{"$f":"IF('Simplified Loader'!BP98=\"Yes\",\"Yes\",IF('Simplified Loader'!BP98=\"No\",\"No\",IF('Simplified Loader'!BP98=\"Y\",\"Yes\",IF('Simplified Loader'!BP98=\"N\",\"No\",\"\"))))","v":""},{"$f":"IF('Simplified Loader'!BQ98>0,'Simplified Loader'!BQ98,\"\")","v":""},{"$f":"IF('Simplified Loader'!BR98>0,'Simplified Loader'!BR98,\"\")","v":""},{"$f":"IF('Simplified Loader'!BS98>0,'Simplified Loader'!BS98,\"\")","v":""},{"$f":"IF('Simplified Loader'!BT98=\"Male\",\"Male\",IF('Simplified Loader'!BT98=\"Female\",\"Female\",IF('Simplified Loader'!BT98=\"M\",\"Male\",IF('Simplified Loader'!BT98=\"F\",\"Female\",\"\"))))","v":""},{"$f":"IF('Simplified Loader'!BU98=\"Yes\",\"Yes\",IF('Simplified Loader'!BU98=\"No\",\"No\",IF('Simplified Loader'!BU98=\"Y\",\"Yes\",IF('Simplified Loader'!BU98=\"N\",\"No\",\"\"))))","v":""},{"$f":"IF('Simplified Loader'!BV98=\"Yes\",\"Yes\",IF('Simplified Loader'!BV98=\"No\",\"No\",IF('Simplified Loader'!BV98=\"Y\",\"Yes\",IF('Simplified Loader'!BV98=\"N\",\"No\",\"\"))))","v":""},{"$f":"IF('Simplified Loader'!BW98>0,'Simplified Loader'!BW98,\"\")","v":""},{"$f":"IF('Simplified Loader'!BX98>0,'Simplified Loader'!BX98,\"\")","v":""},{"$f":"IF('Simplified Loader'!BY98>0,'Simplified Loader'!BY98,\"\")","v":""},{"$f":"IF('Simplified Loader'!BZ98=\"Male\",\"Male\",IF('Simplified Loader'!BZ98=\"Female\",\"Female\",IF('Simplified Loader'!BZ98=\"M\",\"Male\",IF('Simplified Loader'!BZ98=\"F\",\"Female\",\"\"))))","v":""},{"$f":"IF('Simplified Loader'!CA98=\"Yes\",\"Yes\",IF('Simplified Loader'!CA98=\"No\",\"No\",IF('Simplified Loader'!CA98=\"Y\",\"Yes\",IF('Simplified Loader'!CA98=\"N\",\"No\",\"\"))))","v":""},{"$f":"IF('Simplified Loader'!CB98=\"Yes\",\"Yes\",IF('Simplified Loader'!CB98=\"No\",\"No\",IF('Simplified Loader'!CB98=\"Y\",\"Yes\",IF('Simplified Loader'!CB98=\"N\",\"No\",\"\"))))","v":""},{"$f":"IF('Simplified Loader'!CH98>0,'Simplified Loader'!CH98,\"\")","v":"    "}]
[{"$f":"IF('Simplified Loader'!A99>0,'Simplified Loader'!A99,\"\")","v":""},{"$f":"IF('Simplified Loader'!B99>0,'Simplified Loader'!B99,\"\")","v":""},{"$f":"IF('Simplified Loader'!C99>0,'Simplified Loader'!C99,\"\")","v":""},{"$f":"IF('Simplified Loader'!D99>0,'Simplified Loader'!D99,\"\")","v":""},{"$f":"IF('Simplified Loader'!E99>0,TEXT('Simplified Loader'!E99,\"000\"),\"\")","v":""},{"$f":"IF('Simplified Loader'!F99>0,'Simplified Loader'!F99,\"\")","v":""},{"$f":"IF('Simplified Loader'!G99>0,'Simplified Loader'!G99,\"\")","v":""},{"$f":"IF('Simplified Loader'!I99>0,'Simplified Loader'!I99,\"\")","v":""},{"$f":"IF('Simplified Loader'!J99>0,'Simplified Loader'!J99,\"\")","v":""},{"$f":"IF('Simplified Loader'!K99>0,'Simplified Loader'!K99,\"\")","v":""},{"$f":"IF('Simplified Loader'!L99>0,'Simplified Loader'!L99,\"\")","v":""},{"$f":"IF('Simplified Loader'!M99=\"Male\",\"Male\",IF('Simplified Loader'!M99=\"Female\",\"Female\",IF('Simplified Loader'!M99=\"M\",\"Male\",IF('Simplified Loader'!M99=\"F\",\"Female\",\"\"))))","v":""},{"$f":"IF('Simplified Loader'!N99=\"Yes\",\"Yes\",IF('Simplified Loader'!N99=\"No\",\"No\",IF('Simplified Loader'!N99=\"Y\",\"Yes\",IF('Simplified Loader'!N99=\"N\",\"No\",\"\"))))","v":""},{"$f":"IF('Simplified Loader'!O99=\"No\",\"Single\",IF('Simplified Loader'!O99=\"Yes\",\"Family\",IF('Simplified Loader'!O99=\"N\",\"Single\",IF('Simplified Loader'!O99=\"Y\",\"Family\",IF('Simplified Loader'!O99=\"In-force\",\"Family\",IF('Simplified Loader'!O99=\"In force\",\"Family\",IF('Simplified Loader'!O99=\"Applies\",\"Family\",IF('Simplified Loader'!O99=\"Applicable\",\"Family\",\"\"))))))))","v":""},{"$f":"IF('Simplified Loader'!P99=\"English\",\"English\",IF('Simplified Loader'!P99=\"French\",\"French\",IF('Simplified Loader'!P99=\"E\",\"English\",IF('Simplified Loader'!P99=\"F\",\"French\",\"\"))))","v":""},{"$f":"IF('Simplified Loader'!Q99=\"Yes\",\"Yes\",IF('Simplified Loader'!Q99=\"No\",\"No\",IF('Simplified Loader'!Q99=\"Y\",\"Yes\",IF('Simplified Loader'!Q99=\"N\",\"No\",\"\"))))","v":""},{"$f":"IF('Simplified Loader'!R99>0,'Simplified Loader'!R99,\"\")","v":""},{"$f":"IF('Simplified Loader'!S99>0,'Simplified Loader'!S99,\"\")","v":""},{"$f":"IF('Simplified Loader'!T99>0,'Simplified Loader'!T99,\"\")","v":""},{"$f":"IF('Simplified Loader'!U99>0,'Simplified Loader'!U99,\"\")","v":""},{"$f":"IF('Simplified Loader'!V99=\"Waive\",\"Yes\",\"\")","v":""},{"$f":"IF('Simplified Loader'!W99=\"Waive\",\"Yes\",\"\")","v":""},{"$f":"IF('Simplified Loader'!X99>0,'Simplified Loader'!X99,\"\")","v":""},{"$f":"IF('Simplified Loader'!Y99>0,'Simplified Loader'!Y99,\"\")","v":""},{"$f":"IF('Simplified Loader'!Z99>0,'Simplified Loader'!Z99,\"\")","v":""},{"$f":"IF('Simplified Loader'!AA99>0,'Simplified Loader'!AA99,\"\")","v":""},{"$f":"IF('Simplified Loader'!AB99>0,'Simplified Loader'!AB99,\"\")","v":""},{"$f":"IF('Simplified Loader'!AC99>0,'Simplified Loader'!AC99,\"\")","v":" "},{"$f":"IF('Simplified Loader'!AE99>0,'Simplified Loader'!AE99&\" \",\"\")&IF('Simplified Loader'!AD99>0,'Simplified Loader'!AD99,\"\")","v":""},null,{"$f":"IF('Simplified Loader'!AF99>0,'Simplified Loader'!AF99,\"\")","v":""},{"$f":"IF('Simplified Loader'!AG99>0,'Simplified Loader'!AG99,\"\")","v":""},{"$f":"IF('Simplified Loader'!AH99>0,'Simplified Loader'!AH99,\"\")","v":""},{"$f":"IF('Simplified Loader'!AI99>0,'Simplified Loader'!AI99,\"\")","v":""},{"$f":"IF('Simplified Loader'!AJ99>0,'Simplified Loader'!AJ99,\"\")","v":""},{"$f":"IF('Simplified Loader'!AK99>0,'Simplified Loader'!AK99,\"\")","v":""},{"$f":"IF('Simplified Loader'!AL99>0,'Simplified Loader'!AL99,\"\")","v":""},{"$f":"IF('Simplified Loader'!AM99>0,'Simplified Loader'!AM99,\"\")","v":""},{"$f":"IF('Simplified Loader'!AN99=\"Male\",\"Male\",IF('Simplified Loader'!AN99=\"Female\",\"Female\",IF('Simplified Loader'!AN99=\"M\",\"Male\",IF('Simplified Loader'!AN99=\"F\",\"Female\",\"\"))))","v":""},{"$f":"IF('Simplified Loader'!AO99=\"Single\",\"Single\",IF('Simplified Loader'!AO99=\"Family\",\"Family\",IF('Simplified Loader'!AO99=\"S\",\"Single\",IF('Simplified Loader'!AO99=\"F\",\"Family\",\"\"))))","v":""},{"$f":"IF('Simplified Loader'!AP99=\"Single\",\"Single\",IF('Simplified Loader'!AP99=\"Family\",\"Family\",IF('Simplified Loader'!AP99=\"S\",\"Single\",IF('Simplified Loader'!AP99=\"F\",\"Family\",\"\"))))","v":""},{"$f":"IF('Simplified Loader'!AQ99>0,'Simplified Loader'!AQ99,\"\")","v":""},{"$f":"IF('Simplified Loader'!AR99=\"Yes\",\"Yes\",IF('Simplified Loader'!AR99=\"No\",\"No\",IF('Simplified Loader'!AR99=\"Y\",\"Yes\",IF('Simplified Loader'!AR99=\"N\",\"No\",\"\"))))","v":""},{"$f":"IF('Simplified Loader'!AS99>0,'Simplified Loader'!AS99,\"\")","v":""},{"$f":"IF('Simplified Loader'!AT99>0,'Simplified Loader'!AT99,\"\")","v":""},{"$f":"IF('Simplified Loader'!AU99>0,'Simplified Loader'!AU99,\"\")","v":""},{"$f":"IF('Simplified Loader'!AV99=\"Male\",\"Male\",IF('Simplified Loader'!AV99=\"Female\",\"Female\",IF('Simplified Loader'!AV99=\"M\",\"Male\",IF('Simplified Loader'!AV99=\"F\",\"Female\",\"\"))))","v":""},{"$f":"IF('Simplified Loader'!AW99=\"Yes\",\"Yes\",IF('Simplified Loader'!AW99=\"No\",\"No\",IF('Simplified Loader'!AW99=\"Y\",\"Yes\",IF('Simplified Loader'!AW99=\"N\",\"No\",\"\"))))","v":""},{"$f":"IF('Simplified Loader'!AX99=\"Yes\",\"Yes\",IF('Simplified Loader'!AX99=\"No\",\"No\",IF('Simplified Loader'!AX99=\"Y\",\"Yes\",IF('Simplified Loader'!AX99=\"N\",\"No\",\"\"))))","v":""},{"$f":"IF('Simplified Loader'!AY99>0,'Simplified Loader'!AY99,\"\")","v":""},{"$f":"IF('Simplified Loader'!AZ99>0,'Simplified Loader'!AZ99,\"\")","v":""},{"$f":"IF('Simplified Loader'!BA99>0,'Simplified Loader'!BA99,\"\")","v":""},{"$f":"IF('Simplified Loader'!BB99=\"Male\",\"Male\",IF('Simplified Loader'!BB99=\"Female\",\"Female\",IF('Simplified Loader'!BB99=\"M\",\"Male\",IF('Simplified Loader'!BB99=\"F\",\"Female\",\"\"))))","v":""},{"$f":"IF('Simplified Loader'!BC99=\"Yes\",\"Yes\",IF('Simplified Loader'!BC99=\"No\",\"No\",IF('Simplified Loader'!BC99=\"Y\",\"Yes\",IF('Simplified Loader'!BC99=\"N\",\"No\",\"\"))))","v":""},{"$f":"IF('Simplified Loader'!BD99=\"Yes\",\"Yes\",IF('Simplified Loader'!BD99=\"No\",\"No\",IF('Simplified Loader'!BD99=\"Y\",\"Yes\",IF('Simplified Loader'!BD99=\"N\",\"No\",\"\"))))","v":""},{"$f":"IF('Simplified Loader'!BE99>0,'Simplified Loader'!BE99,\"\")","v":""},{"$f":"IF('Simplified Loader'!BF99>0,'Simplified Loader'!BF99,\"\")","v":""},{"$f":"IF('Simplified Loader'!BG99>0,'Simplified Loader'!BG99,\"\")","v":""},{"$f":"IF('Simplified Loader'!BH99=\"Male\",\"Male\",IF('Simplified Loader'!BH99=\"Female\",\"Female\",IF('Simplified Loader'!BH99=\"M\",\"Male\",IF('Simplified Loader'!BH99=\"F\",\"Female\",\"\"))))","v":""},{"$f":"IF('Simplified Loader'!BI99=\"Yes\",\"Yes\",IF('Simplified Loader'!BI99=\"No\",\"No\",IF('Simplified Loader'!BI99=\"Y\",\"Yes\",IF('Simplified Loader'!BI99=\"N\",\"No\",\"\"))))","v":""},{"$f":"IF('Simplified Loader'!BJ99=\"Yes\",\"Yes\",IF('Simplified Loader'!BJ99=\"No\",\"No\",IF('Simplified Loader'!BJ99=\"Y\",\"Yes\",IF('Simplified Loader'!BJ99=\"N\",\"No\",\"\"))))","v":""},{"$f":"IF('Simplified Loader'!BK99>0,'Simplified Loader'!BK99,\"\")","v":""},{"$f":"IF('Simplified Loader'!BL99>0,'Simplified Loader'!BL99,\"\")","v":""},{"$f":"IF('Simplified Loader'!BM99>0,'Simplified Loader'!BM99,\"\")","v":""},{"$f":"IF('Simplified Loader'!BN99=\"Male\",\"Male\",IF('Simplified Loader'!BN99=\"Female\",\"Female\",IF('Simplified Loader'!BN99=\"M\",\"Male\",IF('Simplified Loader'!BN99=\"F\",\"Female\",\"\"))))","v":""},{"$f":"IF('Simplified Loader'!BO99=\"Yes\",\"Yes\",IF('Simplified Loader'!BO99=\"No\",\"No\",IF('Simplified Loader'!BO99=\"Y\",\"Yes\",IF('Simplified Loader'!BO99=\"N\",\"No\",\"\"))))","v":""},{"$f":"IF('Simplified Loader'!BP99=\"Yes\",\"Yes\",IF('Simplified Loader'!BP99=\"No\",\"No\",IF('Simplified Loader'!BP99=\"Y\",\"Yes\",IF('Simplified Loader'!BP99=\"N\",\"No\",\"\"))))","v":""},{"$f":"IF('Simplified Loader'!BQ99>0,'Simplified Loader'!BQ99,\"\")","v":""},{"$f":"IF('Simplified Loader'!BR99>0,'Simplified Loader'!BR99,\"\")","v":""},{"$f":"IF('Simplified Loader'!BS99>0,'Simplified Loader'!BS99,\"\")","v":""},{"$f":"IF('Simplified Loader'!BT99=\"Male\",\"Male\",IF('Simplified Loader'!BT99=\"Female\",\"Female\",IF('Simplified Loader'!BT99=\"M\",\"Male\",IF('Simplified Loader'!BT99=\"F\",\"Female\",\"\"))))","v":""},{"$f":"IF('Simplified Loader'!BU99=\"Yes\",\"Yes\",IF('Simplified Loader'!BU99=\"No\",\"No\",IF('Simplified Loader'!BU99=\"Y\",\"Yes\",IF('Simplified Loader'!BU99=\"N\",\"No\",\"\"))))","v":""},{"$f":"IF('Simplified Loader'!BV99=\"Yes\",\"Yes\",IF('Simplified Loader'!BV99=\"No\",\"No\",IF('Simplified Loader'!BV99=\"Y\",\"Yes\",IF('Simplified Loader'!BV99=\"N\",\"No\",\"\"))))","v":""},{"$f":"IF('Simplified Loader'!BW99>0,'Simplified Loader'!BW99,\"\")","v":""},{"$f":"IF('Simplified Loader'!BX99>0,'Simplified Loader'!BX99,\"\")","v":""},{"$f":"IF('Simplified Loader'!BY99>0,'Simplified Loader'!BY99,\"\")","v":""},{"$f":"IF('Simplified Loader'!BZ99=\"Male\",\"Male\",IF('Simplified Loader'!BZ99=\"Female\",\"Female\",IF('Simplified Loader'!BZ99=\"M\",\"Male\",IF('Simplified Loader'!BZ99=\"F\",\"Female\",\"\"))))","v":""},{"$f":"IF('Simplified Loader'!CA99=\"Yes\",\"Yes\",IF('Simplified Loader'!CA99=\"No\",\"No\",IF('Simplified Loader'!CA99=\"Y\",\"Yes\",IF('Simplified Loader'!CA99=\"N\",\"No\",\"\"))))","v":""},{"$f":"IF('Simplified Loader'!CB99=\"Yes\",\"Yes\",IF('Simplified Loader'!CB99=\"No\",\"No\",IF('Simplified Loader'!CB99=\"Y\",\"Yes\",IF('Simplified Loader'!CB99=\"N\",\"No\",\"\"))))","v":""},{"$f":"IF('Simplified Loader'!CH99>0,'Simplified Loader'!CH99,\"\")","v":"    "}]
[{"$f":"IF('Simplified Loader'!A100>0,'Simplified Loader'!A100,\"\")","v":""},{"$f":"IF('Simplified Loader'!B100>0,'Simplified Loader'!B100,\"\")","v":""},{"$f":"IF('Simplified Loader'!C100>0,'Simplified Loader'!C100,\"\")","v":""},{"$f":"IF('Simplified Loader'!D100>0,'Simplified Loader'!D100,\"\")","v":""},{"$f":"IF('Simplified Loader'!E100>0,TEXT('Simplified Loader'!E100,\"000\"),\"\")","v":""},{"$f":"IF('Simplified Loader'!F100>0,'Simplified Loader'!F100,\"\")","v":""},{"$f":"IF('Simplified Loader'!G100>0,'Simplified Loader'!G100,\"\")","v":""},{"$f":"IF('Simplified Loader'!I100>0,'Simplified Loader'!I100,\"\")","v":""},{"$f":"IF('Simplified Loader'!J100>0,'Simplified Loader'!J100,\"\")","v":""},{"$f":"IF('Simplified Loader'!K100>0,'Simplified Loader'!K100,\"\")","v":""},{"$f":"IF('Simplified Loader'!L100>0,'Simplified Loader'!L100,\"\")","v":""},{"$f":"IF('Simplified Loader'!M100=\"Male\",\"Male\",IF('Simplified Loader'!M100=\"Female\",\"Female\",IF('Simplified Loader'!M100=\"M\",\"Male\",IF('Simplified Loader'!M100=\"F\",\"Female\",\"\"))))","v":""},{"$f":"IF('Simplified Loader'!N100=\"Yes\",\"Yes\",IF('Simplified Loader'!N100=\"No\",\"No\",IF('Simplified Loader'!N100=\"Y\",\"Yes\",IF('Simplified Loader'!N100=\"N\",\"No\",\"\"))))","v":""},{"$f":"IF('Simplified Loader'!O100=\"No\",\"Single\",IF('Simplified Loader'!O100=\"Yes\",\"Family\",IF('Simplified Loader'!O100=\"N\",\"Single\",IF('Simplified Loader'!O100=\"Y\",\"Family\",IF('Simplified Loader'!O100=\"In-force\",\"Family\",IF('Simplified Loader'!O100=\"In force\",\"Family\",IF('Simplified Loader'!O100=\"Applies\",\"Family\",IF('Simplified Loader'!O100=\"Applicable\",\"Family\",\"\"))))))))","v":""},{"$f":"IF('Simplified Loader'!P100=\"English\",\"English\",IF('Simplified Loader'!P100=\"French\",\"French\",IF('Simplified Loader'!P100=\"E\",\"English\",IF('Simplified Loader'!P100=\"F\",\"French\",\"\"))))","v":""},{"$f":"IF('Simplified Loader'!Q100=\"Yes\",\"Yes\",IF('Simplified Loader'!Q100=\"No\",\"No\",IF('Simplified Loader'!Q100=\"Y\",\"Yes\",IF('Simplified Loader'!Q100=\"N\",\"No\",\"\"))))","v":""},{"$f":"IF('Simplified Loader'!R100>0,'Simplified Loader'!R100,\"\")","v":""},{"$f":"IF('Simplified Loader'!S100>0,'Simplified Loader'!S100,\"\")","v":""},{"$f":"IF('Simplified Loader'!T100>0,'Simplified Loader'!T100,\"\")","v":""},{"$f":"IF('Simplified Loader'!U100>0,'Simplified Loader'!U100,\"\")","v":""},{"$f":"IF('Simplified Loader'!V100=\"Waive\",\"Yes\",\"\")","v":""},{"$f":"IF('Simplified Loader'!W100=\"Waive\",\"Yes\",\"\")","v":""},{"$f":"IF('Simplified Loader'!X100>0,'Simplified Loader'!X100,\"\")","v":""},{"$f":"IF('Simplified Loader'!Y100>0,'Simplified Loader'!Y100,\"\")","v":""},{"$f":"IF('Simplified Loader'!Z100>0,'Simplified Loader'!Z100,\"\")","v":""},{"$f":"IF('Simplified Loader'!AA100>0,'Simplified Loader'!AA100,\"\")","v":""},{"$f":"IF('Simplified Loader'!AB100>0,'Simplified Loader'!AB100,\"\")","v":""},{"$f":"IF('Simplified Loader'!AC100>0,'Simplified Loader'!AC100,\"\")","v":" "},{"$f":"IF('Simplified Loader'!AE100>0,'Simplified Loader'!AE100&\" \",\"\")&IF('Simplified Loader'!AD100>0,'Simplified Loader'!AD100,\"\")","v":""},null,{"$f":"IF('Simplified Loader'!AF100>0,'Simplified Loader'!AF100,\"\")","v":""},{"$f":"IF('Simplified Loader'!AG100>0,'Simplified Loader'!AG100,\"\")","v":""},{"$f":"IF('Simplified Loader'!AH100>0,'Simplified Loader'!AH100,\"\")","v":""},{"$f":"IF('Simplified Loader'!AI100>0,'Simplified Loader'!AI100,\"\")","v":""},{"$f":"IF('Simplified Loader'!AJ100>0,'Simplified Loader'!AJ100,\"\")","v":""},{"$f":"IF('Simplified Loader'!AK100>0,'Simplified Loader'!AK100,\"\")","v":""},{"$f":"IF('Simplified Loader'!AL100>0,'Simplified Loader'!AL100,\"\")","v":""},{"$f":"IF('Simplified Loader'!AM100>0,'Simplified Loader'!AM100,\"\")","v":""},{"$f":"IF('Simplified Loader'!AN100=\"Male\",\"Male\",IF('Simplified Loader'!AN100=\"Female\",\"Female\",IF('Simplified Loader'!AN100=\"M\",\"Male\",IF('Simplified Loader'!AN100=\"F\",\"Female\",\"\"))))","v":""},{"$f":"IF('Simplified Loader'!AO100=\"Single\",\"Single\",IF('Simplified Loader'!AO100=\"Family\",\"Family\",IF('Simplified Loader'!AO100=\"S\",\"Single\",IF('Simplified Loader'!AO100=\"F\",\"Family\",\"\"))))","v":""},{"$f":"IF('Simplified Loader'!AP100=\"Single\",\"Single\",IF('Simplified Loader'!AP100=\"Family\",\"Family\",IF('Simplified Loader'!AP100=\"S\",\"Single\",IF('Simplified Loader'!AP100=\"F\",\"Family\",\"\"))))","v":""},{"$f":"IF('Simplified Loader'!AQ100>0,'Simplified Loader'!AQ100,\"\")","v":""},{"$f":"IF('Simplified Loader'!AR100=\"Yes\",\"Yes\",IF('Simplified Loader'!AR100=\"No\",\"No\",IF('Simplified Loader'!AR100=\"Y\",\"Yes\",IF('Simplified Loader'!AR100=\"N\",\"No\",\"\"))))","v":""},{"$f":"IF('Simplified Loader'!AS100>0,'Simplified Loader'!AS100,\"\")","v":""},{"$f":"IF('Simplified Loader'!AT100>0,'Simplified Loader'!AT100,\"\")","v":""},{"$f":"IF('Simplified Loader'!AU100>0,'Simplified Loader'!AU100,\"\")","v":""},{"$f":"IF('Simplified Loader'!AV100=\"Male\",\"Male\",IF('Simplified Loader'!AV100=\"Female\",\"Female\",IF('Simplified Loader'!AV100=\"M\",\"Male\",IF('Simplified Loader'!AV100=\"F\",\"Female\",\"\"))))","v":""},{"$f":"IF('Simplified Loader'!AW100=\"Yes\",\"Yes\",IF('Simplified Loader'!AW100=\"No\",\"No\",IF('Simplified Loader'!AW100=\"Y\",\"Yes\",IF('Simplified Loader'!AW100=\"N\",\"No\",\"\"))))","v":""},{"$f":"IF('Simplified Loader'!AX100=\"Yes\",\"Yes\",IF('Simplified Loader'!AX100=\"No\",\"No\",IF('Simplified Loader'!AX100=\"Y\",\"Yes\",IF('Simplified Loader'!AX100=\"N\",\"No\",\"\"))))","v":""},{"$f":"IF('Simplified Loader'!AY100>0,'Simplified Loader'!AY100,\"\")","v":""},{"$f":"IF('Simplified Loader'!AZ100>0,'Simplified Loader'!AZ100,\"\")","v":""},{"$f":"IF('Simplified Loader'!BA100>0,'Simplified Loader'!BA100,\"\")","v":""},{"$f":"IF('Simplified Loader'!BB100=\"Male\",\"Male\",IF('Simplified Loader'!BB100=\"Female\",\"Female\",IF('Simplified Loader'!BB100=\"M\",\"Male\",IF('Simplified Loader'!BB100=\"F\",\"Female\",\"\"))))","v":""},{"$f":"IF('Simplified Loader'!BC100=\"Yes\",\"Yes\",IF('Simplified Loader'!BC100=\"No\",\"No\",IF('Simplified Loader'!BC100=\"Y\",\"Yes\",IF('Simplified Loader'!BC100=\"N\",\"No\",\"\"))))","v":""},{"$f":"IF('Simplified Loader'!BD100=\"Yes\",\"Yes\",IF('Simplified Loader'!BD100=\"No\",\"No\",IF('Simplified Loader'!BD100=\"Y\",\"Yes\",IF('Simplified Loader'!BD100=\"N\",\"No\",\"\"))))","v":""},{"$f":"IF('Simplified Loader'!BE100>0,'Simplified Loader'!BE100,\"\")","v":""},{"$f":"IF('Simplified Loader'!BF100>0,'Simplified Loader'!BF100,\"\")","v":""},{"$f":"IF('Simplified Loader'!BG100>0,'Simplified Loader'!BG100,\"\")","v":""},{"$f":"IF('Simplified Loader'!BH100=\"Male\",\"Male\",IF('Simplified Loader'!BH100=\"Female\",\"Female\",IF('Simplified Loader'!BH100=\"M\",\"Male\",IF('Simplified Loader'!BH100=\"F\",\"Female\",\"\"))))","v":""},{"$f":"IF('Simplified Loader'!BI100=\"Yes\",\"Yes\",IF('Simplified Loader'!BI100=\"No\",\"No\",IF('Simplified Loader'!BI100=\"Y\",\"Yes\",IF('Simplified Loader'!BI100=\"N\",\"No\",\"\"))))","v":""},{"$f":"IF('Simplified Loader'!BJ100=\"Yes\",\"Yes\",IF('Simplified Loader'!BJ100=\"No\",\"No\",IF('Simplified Loader'!BJ100=\"Y\",\"Yes\",IF('Simplified Loader'!BJ100=\"N\",\"No\",\"\"))))","v":""},{"$f":"IF('Simplified Loader'!BK100>0,'Simplified Loader'!BK100,\"\")","v":""},{"$f":"IF('Simplified Loader'!BL100>0,'Simplified Loader'!BL100,\"\")","v":""},{"$f":"IF('Simplified Loader'!BM100>0,'Simplified Loader'!BM100,\"\")","v":""},{"$f":"IF('Simplified Loader'!BN100=\"Male\",\"Male\",IF('Simplified Loader'!BN100=\"Female\",\"Female\",IF('Simplified Loader'!BN100=\"M\",\"Male\",IF('Simplified Loader'!BN100=\"F\",\"Female\",\"\"))))","v":""},{"$f":"IF('Simplified Loader'!BO100=\"Yes\",\"Yes\",IF('Simplified Loader'!BO100=\"No\",\"No\",IF('Simplified Loader'!BO100=\"Y\",\"Yes\",IF('Simplified Loader'!BO100=\"N\",\"No\",\"\"))))","v":""},{"$f":"IF('Simplified Loader'!BP100=\"Yes\",\"Yes\",IF('Simplified Loader'!BP100=\"No\",\"No\",IF('Simplified Loader'!BP100=\"Y\",\"Yes\",IF('Simplified Loader'!BP100=\"N\",\"No\",\"\"))))","v":""},{"$f":"IF('Simplified Loader'!BQ100>0,'Simplified Loader'!BQ100,\"\")","v":""},{"$f":"IF('Simplified Loader'!BR100>0,'Simplified Loader'!BR100,\"\")","v":""},{"$f":"IF('Simplified Loader'!BS100>0,'Simplified Loader'!BS100,\"\")","v":""},{"$f":"IF('Simplified Loader'!BT100=\"Male\",\"Male\",IF('Simplified Loader'!BT100=\"Female\",\"Female\",IF('Simplified Loader'!BT100=\"M\",\"Male\",IF('Simplified Loader'!BT100=\"F\",\"Female\",\"\"))))","v":""},{"$f":"IF('Simplified Loader'!BU100=\"Yes\",\"Yes\",IF('Simplified Loader'!BU100=\"No\",\"No\",IF('Simplified Loader'!BU100=\"Y\",\"Yes\",IF('Simplified Loader'!BU100=\"N\",\"No\",\"\"))))","v":""},{"$f":"IF('Simplified Loader'!BV100=\"Yes\",\"Yes\",IF('Simplified Loader'!BV100=\"No\",\"No\",IF('Simplified Loader'!BV100=\"Y\",\"Yes\",IF('Simplified Loader'!BV100=\"N\",\"No\",\"\"))))","v":""},{"$f":"IF('Simplified Loader'!BW100>0,'Simplified Loader'!BW100,\"\")","v":""},{"$f":"IF('Simplified Loader'!BX100>0,'Simplified Loader'!BX100,\"\")","v":""},{"$f":"IF('Simplified Loader'!BY100>0,'Simplified Loader'!BY100,\"\")","v":""},{"$f":"IF('Simplified Loader'!BZ100=\"Male\",\"Male\",IF('Simplified Loader'!BZ100=\"Female\",\"Female\",IF('Simplified Loader'!BZ100=\"M\",\"Male\",IF('Simplified Loader'!BZ100=\"F\",\"Female\",\"\"))))","v":""},{"$f":"IF('Simplified Loader'!CA100=\"Yes\",\"Yes\",IF('Simplified Loader'!CA100=\"No\",\"No\",IF('Simplified Loader'!CA100=\"Y\",\"Yes\",IF('Simplified Loader'!CA100=\"N\",\"No\",\"\"))))","v":""},{"$f":"IF('Simplified Loader'!CB100=\"Yes\",\"Yes\",IF('Simplified Loader'!CB100=\"No\",\"No\",IF('Simplified Loader'!CB100=\"Y\",\"Yes\",IF('Simplified Loader'!CB100=\"N\",\"No\",\"\"))))","v":""},{"$f":"IF('Simplified Loader'!CH100>0,'Simplified Loader'!CH100,\"\")","v":"    "}]

{"sheet":"OASIS Manual Adjustments","index":3,"n_rows":100,"n_cols":10,"rows_kept":100,"cut":false,"hidden":true,"merged":[[2,7,2,8]]}
[]
[]
[null,null,null,null,null,null,null,"OASIS Manual Adjustment(s) to make:"]
[null,"Member ID","First Name","Last Name","Dependent Status indicated on Simplified Loader","Mbr has deps? \n(blank if No)","Red Flags","EHC Coverage Selection","Dental Coverage Selection","Monthly HSA Allotment\n(if different between members)"]
[null,{"$f":"IF('Simplified Loader'!A5>0,'Simplified Loader'!A5,\"\")","v":""},{"$f":"IF('Simplified Loader'!B5>0,'Simplified Loader'!B5,\"\")","v":""},{"$f":"IF('Simplified Loader'!D5>0,'Simplified Loader'!D5,\"\")","v":""},{"$f":"IF('Simplified Loader (FOR COPY)'!N4>0,'Simplified Loader (FOR COPY)'!N4,\"\")","v":""},{"$f":"IF(OR('Simplified Loader'!AK5>0,'Simplified Loader'!AS5>0),\"Yes\",\"\")","v":""},{"$f":"IF(((E5=\"Single\")*AND(F5=\"Yes\")),\"Discrepancy\",\"\")","v":""},{"$f":"IF(AND('Simplified Loader (FOR COPY)'!N4=\"Family\",'Simplified Loader'!V5=\"Single\"),\"Single\",IF('Simplified Loader'!V5=\"Monoparental\",\"Monoparental\",IF('Simplified Loader'!V5=\"Couple\",\"Couple\",\"\")))","v":""},{"$f":"IF(AND('Simplified Loader (FOR COPY)'!N4=\"Family\",'Simplified Loader'!W5=\"Single\"),\"Single\",IF('Simplified Loader'!W5=\"Monoparental\",\"Monoparental\",IF('Simplified Loader'!W5=\"Couple\",\"Couple\",\"\")))","v":""},{"$f":"IF('Simplified Loader'!CI5>0,'Simplified Loader'!CI5,\"\")","v":""}]
[null,{"$f":"IF('Simplified Loader'!A6>0,'Simplified Loader'!A6,\"\")","v":""},{"$f":"IF('Simplified Loader'!B6>0,'Simplified Loader'!B6,\"\")","v":""},{"$f":"IF('Simplified Loader'!D6>0,'Simplified Loader'!D6,\"\")","v":""},{"$f":"IF('Simplified Loader (FOR COPY)'!N5>0,'Simplified Loader (FOR COPY)'!N5,\"\")","v":""},{"$f":"IF(OR('Simplified Loader'!AK6>0,'Simplified Loader'!AS6>0),\"Yes\",\"\")","v":""},{"$f":"IF(((E6=\"Single\")*AND(F6=\"Yes\")),\"Discrepancy\",\"\")","v":""},{"$f":"IF(AND('Simplified Loader (FOR COPY)'!N5=\"Family\",'Simplified Loader'!V6=\"Single\"),\"Single\",IF('Simplified Loader'!V6=\"Monoparental\",\"Monoparental\",IF('Simplified Loader'!V6=\"Couple\",\"Couple\",\"\")))","v":""},{"$f":"IF(AND('Simplified Loader (FOR COPY)'!N5=\"Family\",'Simplified Loader'!W6=\"Single\"),\"Single\",IF('Simplified Loader'!W6=\"Monoparental\",\"Monoparental\",IF('Simplified Loader'!W6=\"Couple\",\"Couple\",\"\")))","v":""},{"$f":"IF('Simplified Loader'!CI6>0,'Simplified Loader'!CI6,\"\")","v":""}]
[null,{"$f":"IF('Simplified Loader'!A7>0,'Simplified Loader'!A7,\"\")","v":""},{"$f":"IF('Simplified Loader'!B7>0,'Simplified Loader'!B7,\"\")","v":""},{"$f":"IF('Simplified Loader'!D7>0,'Simplified Loader'!D7,\"\")","v":""},{"$f":"IF('Simplified Loader (FOR COPY)'!N6>0,'Simplified Loader (FOR COPY)'!N6,\"\")","v":""},{"$f":"IF(OR('Simplified Loader'!AK7>0,'Simplified Loader'!AS7>0),\"Yes\",\"\")","v":""},"",{"$f":"IF(AND('Simplified Loader (FOR COPY)'!N6=\"Family\",'Simplified Loader'!V7=\"Single\"),\"Single\",IF('Simplified Loader'!V7=\"Monoparental\",\"Monoparental\",IF('Simplified Loader'!V7=\"Couple\",\"Couple\",\"\")))","v":""},{"$f":"IF(AND('Simplified Loader (FOR COPY)'!N6=\"Family\",'Simplified Loader'!W7=\"Single\"),\"Single\",IF('Simplified Loader'!W7=\"Monoparental\",\"Monoparental\",IF('Simplified Loader'!W7=\"Couple\",\"Couple\",\"\")))","v":""},{"$f":"IF('Simplified Loader'!CI7>0,'Simplified Loader'!CI7,\"\")","v":""}]
[null,{"$f":"IF('Simplified Loader'!A8>0,'Simplified Loader'!A8,\"\")","v":""},{"$f":"IF('Simplified Loader'!B8>0,'Simplified Loader'!B8,\"\")","v":""},{"$f":"IF('Simplified Loader'!D8>0,'Simplified Loader'!D8,\"\")","v":""},{"$f":"IF('Simplified Loader (FOR COPY)'!N7>0,'Simplified Loader (FOR COPY)'!N7,\"\")","v":""},{"$f":"IF(OR('Simplified Loader'!AK8>0,'Simplified Loader'!AS8>0),\"Yes\",\"\")","v":""},"",{"$f":"IF(AND('Simplified Loader (FOR COPY)'!N7=\"Family\",'Simplified Loader'!V8=\"Single\"),\"Single\",IF('Simplified Loader'!V8=\"Monoparental\",\"Monoparental\",IF('Simplified Loader'!V8=\"Couple\",\"Couple\",\"\")))","v":""},{"$f":"IF(AND('Simplified Loader (FOR COPY)'!N7=\"Family\",'Simplified Loader'!W8=\"Single\"),\"Single\",IF('Simplified Loader'!W8=\"Monoparental\",\"Monoparental\",IF('Simplified Loader'!W8=\"Couple\",\"Couple\",\"\")))","v":""},{"$f":"IF('Simplified Loader'!CI8>0,'Simplified Loader'!CI8,\"\")","v":""}]
[null,{"$f":"IF('Simplified Loader'!A9>0,'Simplified Loader'!A9,\"\")","v":""},{"$f":"IF('Simplified Loader'!B9>0,'Simplified Loader'!B9,\"\")","v":""},{"$f":"IF('Simplified Loader'!D9>0,'Simplified Loader'!D9,\"\")","v":""},{"$f":"IF('Simplified Loader (FOR COPY)'!N8>0,'Simplified Loader (FOR COPY)'!N8,\"\")","v":""},{"$f":"IF(OR('Simplified Loader'!AK9>0,'Simplified Loader'!AS9>0),\"Yes\",\"\")","v":""},"",{"$f":"IF(AND('Simplified Loader (FOR COPY)'!N8=\"Family\",'Simplified Loader'!V9=\"Single\"),\"Single\",IF('Simplified Loader'!V9=\"Monoparental\",\"Monoparental\",IF('Simplified Loader'!V9=\"Couple\",\"Couple\",\"\")))","v":""},{"$f":"IF(AND('Simplified Loader (FOR COPY)'!N8=\"Family\",'Simplified Loader'!W9=\"Single\"),\"Single\",IF('Simplified Loader'!W9=\"Monoparental\",\"Monoparental\",IF('Simplified Loader'!W9=\"Couple\",\"Couple\",\"\")))","v":""},{"$f":"IF('Simplified Loader'!CI9>0,'Simplified Loader'!CI9,\"\")","v":""}]
[null,{"$f":"IF('Simplified Loader'!A10>0,'Simplified Loader'!A10,\"\")","v":""},{"$f":"IF('Simplified Loader'!B10>0,'Simplified Loader'!B10,\"\")","v":""},{"$f":"IF('Simplified Loader'!D10>0,'Simplified Loader'!D10,\"\")","v":""},{"$f":"IF('Simplified Loader (FOR COPY)'!N9>0,'Simplified Loader (FOR COPY)'!N9,\"\")","v":""},{"$f":"IF(OR('Simplified Loader'!AK10>0,'Simplified Loader'!AS10>0),\"Yes\",\"\")","v":""},"",{"$f":"IF(AND('Simplified Loader (FOR COPY)'!N9=\"Family\",'Simplified Loader'!V10=\"Single\"),\"Single\",IF('Simplified Loader'!V10=\"Monoparental\",\"Monoparental\",IF('Simplified Loader'!V10=\"Couple\",\"Couple\",\"\")))","v":""},{"$f":"IF(AND('Simplified Loader (FOR COPY)'!N9=\"Family\",'Simplified Loader'!W10=\"Single\"),\"Single\",IF('Simplified Loader'!W10=\"Monoparental\",\"Monoparental\",IF('Simplified Loader'!W10=\"Couple\",\"Couple\",\"\")))","v":""},{"$f":"IF('Simplified Loader'!CI10>0,'Simplified Loader'!CI10,\"\")","v":""}]
[null,{"$f":"IF('Simplified Loader'!A11>0,'Simplified Loader'!A11,\"\")","v":""},{"$f":"IF('Simplified Loader'!B11>0,'Simplified Loader'!B11,\"\")","v":""},{"$f":"IF('Simplified Loader'!D11>0,'Simplified Loader'!D11,\"\")","v":""},{"$f":"IF('Simplified Loader (FOR COPY)'!N10>0,'Simplified Loader (FOR COPY)'!N10,\"\")","v":""},{"$f":"IF(OR('Simplified Loader'!AK11>0,'Simplified Loader'!AS11>0),\"Yes\",\"\")","v":""},"",{"$f":"IF(AND('Simplified Loader (FOR COPY)'!N10=\"Family\",'Simplified Loader'!V11=\"Single\"),\"Single\",IF('Simplified Loader'!V11=\"Monoparental\",\"Monoparental\",IF('Simplified Loader'!V11=\"Couple\",\"Couple\",\"\")))","v":""},{"$f":"IF(AND('Simplified Loader (FOR COPY)'!N10=\"Family\",'Simplified Loader'!W11=\"Single\"),\"Single\",IF('Simplified Loader'!W11=\"Monoparental\",\"Monoparental\",IF('Simplified Loader'!W11=\"Couple\",\"Couple\",\"\")))","v":""},{"$f":"IF('Simplified Loader'!CI11>0,'Simplified Loader'!CI11,\"\")","v":""}]
[null,{"$f":"IF('Simplified Loader'!A12>0,'Simplified Loader'!A12,\"\")","v":""},{"$f":"IF('Simplified Loader'!B12>0,'Simplified Loader'!B12,\"\")","v":""},{"$f":"IF('Simplified Loader'!D12>0,'Simplified Loader'!D12,\"\")","v":""},{"$f":"IF('Simplified Loader (FOR COPY)'!N11>0,'Simplified Loader (FOR COPY)'!N11,\"\")","v":""},{"$f":"IF(OR('Simplified Loader'!AK12>0,'Simplified Loader'!AS12>0),\"Yes\",\"\")","v":""},"",{"$f":"IF(AND('Simplified Loader (FOR COPY)'!N11=\"Family\",'Simplified Loader'!V12=\"Single\"),\"Single\",IF('Simplified Loader'!V12=\"Monoparental\",\"Monoparental\",IF('Simplified Loader'!V12=\"Couple\",\"Couple\",\"\")))","v":""},{"$f":"IF(AND('Simplified Loader (FOR COPY)'!N11=\"Family\",'Simplified Loader'!W12=\"Single\"),\"Single\",IF('Simplified Loader'!W12=\"Monoparental\",\"Monoparental\",IF('Simplified Loader'!W12=\"Couple\",\"Couple\",\"\")))","v":""},{"$f":"IF('Simplified Loader'!CI12>0,'Simplified Loader'!CI12,\"\")","v":""}]
[null,{"$f":"IF('Simplified Loader'!A13>0,'Simplified Loader'!A13,\"\")","v":""},{"$f":"IF('Simplified Loader'!B13>0,'Simplified Loader'!B13,\"\")","v":""},{"$f":"IF('Simplified Loader'!D13>0,'Simplified Loader'!D13,\"\")","v":""},{"$f":"IF('Simplified Loader (FOR COPY)'!N12>0,'Simplified Loader (FOR COPY)'!N12,\"\")","v":""},{"$f":"IF(OR('Simplified Loader'!AK13>0,'Simplified Loader'!AS13>0),\"Yes\",\"\")","v":""},"",{"$f":"IF(AND('Simplified Loader (FOR COPY)'!N12=\"Family\",'Simplified Loader'!V13=\"Single\"),\"Single\",IF('Simplified Loader'!V13=\"Monoparental\",\"Monoparental\",IF('Simplified Loader'!V13=\"Couple\",\"Couple\",\"\")))","v":""},{"$f":"IF(AND('Simplified Loader (FOR COPY)'!N12=\"Family\",'Simplified Loader'!W13=\"Single\"),\"Single\",IF('Simplified Loader'!W13=\"Monoparental\",\"Monoparental\",IF('Simplified Loader'!W13=\"Couple\",\"Couple\",\"\")))","v":""},{"$f":"IF('Simplified Loader'!CI13>0,'Simplified Loader'!CI13,\"\")","v":""}]
[null,{"$f":"IF('Simplified Loader'!A14>0,'Simplified Loader'!A14,\"\")","v":""},{"$f":"IF('Simplified Loader'!B14>0,'Simplified Loader'!B14,\"\")","v":""},{"$f":"IF('Simplified Loader'!D14>0,'Simplified Loader'!D14,\"\")","v":""},{"$f":"IF('Simplified Loader (FOR COPY)'!N13>0,'Simplified Loader (FOR COPY)'!N13,\"\")","v":""},{"$f":"IF(OR('Simplified Loader'!AK14>0,'Simplified Loader'!AS14>0),\"Yes\",\"\")","v":""},"",{"$f":"IF(AND('Simplified Loader (FOR COPY)'!N13=\"Family\",'Simplified Loader'!V14=\"Single\"),\"Single\",IF('Simplified Loader'!V14=\"Monoparental\",\"Monoparental\",IF('Simplified Loader'!V14=\"Couple\",\"Couple\",\"\")))","v":""},{"$f":"IF(AND('Simplified Loader (FOR COPY)'!N13=\"Family\",'Simplified Loader'!W14=\"Single\"),\"Single\",IF('Simplified Loader'!W14=\"Monoparental\",\"Monoparental\",IF('Simplified Loader'!W14=\"Couple\",\"Couple\",\"\")))","v":""},{"$f":"IF('Simplified Loader'!CI14>0,'Simplified Loader'!CI14,\"\")","v":""}]
[null,{"$f":"IF('Simplified Loader'!A15>0,'Simplified Loader'!A15,\"\")","v":""},{"$f":"IF('Simplified Loader'!B15>0,'Simplified Loader'!B15,\"\")","v":""},{"$f":"IF('Simplified Loader'!D15>0,'Simplified Loader'!D15,\"\")","v":""},{"$f":"IF('Simplified Loader (FOR COPY)'!N14>0,'Simplified Loader (FOR COPY)'!N14,\"\")","v":""},{"$f":"IF(OR('Simplified Loader'!AK15>0,'Simplified Loader'!AS15>0),\"Yes\",\"\")","v":""},"",{"$f":"IF(AND('Simplified Loader (FOR COPY)'!N14=\"Family\",'Simplified Loader'!V15=\"Single\"),\"Single\",IF('Simplified Loader'!V15=\"Monoparental\",\"Monoparental\",IF('Simplified Loader'!V15=\"Couple\",\"Couple\",\"\")))","v":""},{"$f":"IF(AND('Simplified Loader (FOR COPY)'!N14=\"Family\",'Simplified Loader'!W15=\"Single\"),\"Single\",IF('Simplified Loader'!W15=\"Monoparental\",\"Monoparental\",IF('Simplified Loader'!W15=\"Couple\",\"Couple\",\"\")))","v":""},{"$f":"IF('Simplified Loader'!CI15>0,'Simplified Loader'!CI15,\"\")","v":""}]
[null,{"$f":"IF('Simplified Loader'!A16>0,'Simplified Loader'!A16,\"\")","v":""},{"$f":"IF('Simplified Loader'!B16>0,'Simplified Loader'!B16,\"\")","v":""},{"$f":"IF('Simplified Loader'!D16>0,'Simplified Loader'!D16,\"\")","v":""},{"$f":"IF('Simplified Loader (FOR COPY)'!N15>0,'Simplified Loader (FOR COPY)'!N15,\"\")","v":""},{"$f":"IF(OR('Simplified Loader'!AK16>0,'Simplified Loader'!AS16>0),\"Yes\",\"\")","v":""},"",{"$f":"IF(AND('Simplified Loader (FOR COPY)'!N15=\"Family\",'Simplified Loader'!V16=\"Single\"),\"Single\",IF('Simplified Loader'!V16=\"Monoparental\",\"Monoparental\",IF('Simplified Loader'!V16=\"Couple\",\"Couple\",\"\")))","v":""},{"$f":"IF(AND('Simplified Loader (FOR COPY)'!N15=\"Family\",'Simplified Loader'!W16=\"Single\"),\"Single\",IF('Simplified Loader'!W16=\"Monoparental\",\"Monoparental\",IF('Simplified Loader'!W16=\"Couple\",\"Couple\",\"\")))","v":""},{"$f":"IF('Simplified Loader'!CI16>0,'Simplified Loader'!CI16,\"\")","v":""}]
[null,{"$f":"IF('Simplified Loader'!A17>0,'Simplified Loader'!A17,\"\")","v":""},{"$f":"IF('Simplified Loader'!B17>0,'Simplified Loader'!B17,\"\")","v":""},{"$f":"IF('Simplified Loader'!D17>0,'Simplified Loader'!D17,\"\")","v":""},{"$f":"IF('Simplified Loader (FOR COPY)'!N16>0,'Simplified Loader (FOR COPY)'!N16,\"\")","v":""},{"$f":"IF(OR('Simplified Loader'!AK17>0,'Simplified Loader'!AS17>0),\"Yes\",\"\")","v":""},"",{"$f":"IF(AND('Simplified Loader (FOR COPY)'!N16=\"Family\",'Simplified Loader'!V17=\"Single\"),\"Single\",IF('Simplified Loader'!V17=\"Monoparental\",\"Monoparental\",IF('Simplified Loader'!V17=\"Couple\",\"Couple\",\"\")))","v":""},{"$f":"IF(AND('Simplified Loader (FOR COPY)'!N16=\"Family\",'Simplified Loader'!W17=\"Single\"),\"Single\",IF('Simplified Loader'!W17=\"Monoparental\",\"Monoparental\",IF('Simplified Loader'!W17=\"Couple\",\"Couple\",\"\")))","v":""},{"$f":"IF('Simplified Loader'!CI17>0,'Simplified Loader'!CI17,\"\")","v":""}]
[null,{"$f":"IF('Simplified Loader'!A18>0,'Simplified Loader'!A18,\"\")","v":""},{"$f":"IF('Simplified Loader'!B18>0,'Simplified Loader'!B18,\"\")","v":""},{"$f":"IF('Simplified Loader'!D18>0,'Simplified Loader'!D18,\"\")","v":""},{"$f":"IF('Simplified Loader (FOR COPY)'!N17>0,'Simplified Loader (FOR COPY)'!N17,\"\")","v":""},{"$f":"IF(OR('Simplified Loader'!AK18>0,'Simplified Loader'!AS18>0),\"Yes\",\"\")","v":""},"",{"$f":"IF(AND('Simplified Loader (FOR COPY)'!N17=\"Family\",'Simplified Loader'!V18=\"Single\"),\"Single\",IF('Simplified Loader'!V18=\"Monoparental\",\"Monoparental\",IF('Simplified Loader'!V18=\"Couple\",\"Couple\",\"\")))","v":""},{"$f":"IF(AND('Simplified Loader (FOR COPY)'!N17=\"Family\",'Simplified Loader'!W18=\"Single\"),\"Single\",IF('Simplified Loader'!W18=\"Monoparental\",\"Monoparental\",IF('Simplified Loader'!W18=\"Couple\",\"Couple\",\"\")))","v":""},{"$f":"IF('Simplified Loader'!CI18>0,'Simplified Loader'!CI18,\"\")","v":""}]
[null,{"$f":"IF('Simplified Loader'!A19>0,'Simplified Loader'!A19,\"\")","v":""},{"$f":"IF('Simplified Loader'!B19>0,'Simplified Loader'!B19,\"\")","v":""},{"$f":"IF('Simplified Loader'!D19>0,'Simplified Loader'!D19,\"\")","v":""},{"$f":"IF('Simplified Loader (FOR COPY)'!N18>0,'Simplified Loader (FOR COPY)'!N18,\"\")","v":""},{"$f":"IF(OR('Simplified Loader'!AK19>0,'Simplified Loader'!AS19>0),\"Yes\",\"\")","v":""},"",{"$f":"IF(AND('Simplified Loader (FOR COPY)'!N18=\"Family\",'Simplified Loader'!V19=\"Single\"),\"Single\",IF('Simplified Loader'!V19=\"Monoparental\",\"Monoparental\",IF('Simplified Loader'!V19=\"Couple\",\"Couple\",\"\")))","v":""},{"$f":"IF(AND('Simplified Loader (FOR COPY)'!N18=\"Family\",'Simplified Loader'!W19=\"Single\"),\"Single\",IF('Simplified Loader'!W19=\"Monoparental\",\"Monoparental\",IF('Simplified Loader'!W19=\"Couple\",\"Couple\",\"\")))","v":""},{"$f":"IF('Simplified Loader'!CI19>0,'Simplified Loader'!CI19,\"\")","v":""}]
[null,{"$f":"IF('Simplified Loader'!A20>0,'Simplified Loader'!A20,\"\")","v":""},{"$f":"IF('Simplified Loader'!B20>0,'Simplified Loader'!B20,\"\")","v":""},{"$f":"IF('Simplified Loader'!D20>0,'Simplified Loader'!D20,\"\")","v":""},{"$f":"IF('Simplified Loader (FOR COPY)'!N19>0,'Simplified Loader (FOR COPY)'!N19,\"\")","v":""},{"$f":"IF(OR('Simplified Loader'!AK20>0,'Simplified Loader'!AS20>0),\"Yes\",\"\")","v":""},"",{"$f":"IF(AND('Simplified Loader (FOR COPY)'!N19=\"Family\",'Simplified Loader'!V20=\"Single\"),\"Single\",IF('Simplified Loader'!V20=\"Monoparental\",\"Monoparental\",IF('Simplified Loader'!V20=\"Couple\",\"Couple\",\"\")))","v":""},{"$f":"IF(AND('Simplified Loader (FOR COPY)'!N19=\"Family\",'Simplified Loader'!W20=\"Single\"),\"Single\",IF('Simplified Loader'!W20=\"Monoparental\",\"Monoparental\",IF('Simplified Loader'!W20=\"Couple\",\"Couple\",\"\")))","v":""},{"$f":"IF('Simplified Loader'!CI20>0,'Simplified Loader'!CI20,\"\")","v":""}]
[null,{"$f":"IF('Simplified Loader'!A21>0,'Simplified Loader'!A21,\"\")","v":""},{"$f":"IF('Simplified Loader'!B21>0,'Simplified Loader'!B21,\"\")","v":""},{"$f":"IF('Simplified Loader'!D21>0,'Simplified Loader'!D21,\"\")","v":""},{"$f":"IF('Simplified Loader (FOR COPY)'!N20>0,'Simplified Loader (FOR COPY)'!N20,\"\")","v":""},{"$f":"IF(OR('Simplified Loader'!AK21>0,'Simplified Loader'!AS21>0),\"Yes\",\"\")","v":""},"",{"$f":"IF(AND('Simplified Loader (FOR COPY)'!N20=\"Family\",'Simplified Loader'!V21=\"Single\"),\"Single\",IF('Simplified Loader'!V21=\"Monoparental\",\"Monoparental\",IF('Simplified Loader'!V21=\"Couple\",\"Couple\",\"\")))","v":""},{"$f":"IF(AND('Simplified Loader (FOR COPY)'!N20=\"Family\",'Simplified Loader'!W21=\"Single\"),\"Single\",IF('Simplified Loader'!W21=\"Monoparental\",\"Monoparental\",IF('Simplified Loader'!W21=\"Couple\",\"Couple\",\"\")))","v":""},{"$f":"IF('Simplified Loader'!CI21>0,'Simplified Loader'!CI21,\"\")","v":""}]
[null,{"$f":"IF('Simplified Loader'!A22>0,'Simplified Loader'!A22,\"\")","v":""},{"$f":"IF('Simplified Loader'!B22>0,'Simplified Loader'!B22,\"\")","v":""},{"$f":"IF('Simplified Loader'!D22>0,'Simplified Loader'!D22,\"\")","v":""},{"$f":"IF('Simplified Loader (FOR COPY)'!N21>0,'Simplified Loader (FOR COPY)'!N21,\"\")","v":""},{"$f":"IF(OR('Simplified Loader'!AK22>0,'Simplified Loader'!AS22>0),\"Yes\",\"\")","v":""},"",{"$f":"IF(AND('Simplified Loader (FOR COPY)'!N21=\"Family\",'Simplified Loader'!V22=\"Single\"),\"Single\",IF('Simplified Loader'!V22=\"Monoparental\",\"Monoparental\",IF('Simplified Loader'!V22=\"Couple\",\"Couple\",\"\")))","v":""},{"$f":"IF(AND('Simplified Loader (FOR COPY)'!N21=\"Family\",'Simplified Loader'!W22=\"Single\"),\"Single\",IF('Simplified Loader'!W22=\"Monoparental\",\"Monoparental\",IF('Simplified Loader'!W22=\"Couple\",\"Couple\",\"\")))","v":""},{"$f":"IF('Simplified Loader'!CI22>0,'Simplified Loader'!CI22,\"\")","v":""}]
[null,{"$f":"IF('Simplified Loader'!A23>0,'Simplified Loader'!A23,\"\")","v":""},{"$f":"IF('Simplified Loader'!B23>0,'Simplified Loader'!B23,\"\")","v":""},{"$f":"IF('Simplified Loader'!D23>0,'Simplified Loader'!D23,\"\")","v":""},{"$f":"IF('Simplified Loader (FOR COPY)'!N22>0,'Simplified Loader (FOR COPY)'!N22,\"\")","v":""},{"$f":"IF(OR('Simplified Loader'!AK23>0,'Simplified Loader'!AS23>0),\"Yes\",\"\")","v":""},"",{"$f":"IF(AND('Simplified Loader (FOR COPY)'!N22=\"Family\",'Simplified Loader'!V23=\"Single\"),\"Single\",IF('Simplified Loader'!V23=\"Monoparental\",\"Monoparental\",IF('Simplified Loader'!V23=\"Couple\",\"Couple\",\"\")))","v":""},{"$f":"IF(AND('Simplified Loader (FOR COPY)'!N22=\"Family\",'Simplified Loader'!W23=\"Single\"),\"Single\",IF('Simplified Loader'!W23=\"Monoparental\",\"Monoparental\",IF('Simplified Loader'!W23=\"Couple\",\"Couple\",\"\")))","v":""},{"$f":"IF('Simplified Loader'!CI23>0,'Simplified Loader'!CI23,\"\")","v":""}]
[null,{"$f":"IF('Simplified Loader'!A24>0,'Simplified Loader'!A24,\"\")","v":""},{"$f":"IF('Simplified Loader'!B24>0,'Simplified Loader'!B24,\"\")","v":""},{"$f":"IF('Simplified Loader'!D24>0,'Simplified Loader'!D24,\"\")","v":""},{"$f":"IF('Simplified Loader (FOR COPY)'!N23>0,'Simplified Loader (FOR COPY)'!N23,\"\")","v":""},{"$f":"IF(OR('Simplified Loader'!AK24>0,'Simplified Loader'!AS24>0),\"Yes\",\"\")","v":""},"",{"$f":"IF(AND('Simplified Loader (FOR COPY)'!N23=\"Family\",'Simplified Loader'!V24=\"Single\"),\"Single\",IF('Simplified Loader'!V24=\"Monoparental\",\"Monoparental\",IF('Simplified Loader'!V24=\"Couple\",\"Couple\",\"\")))","v":""},{"$f":"IF(AND('Simplified Loader (FOR COPY)'!N23=\"Family\",'Simplified Loader'!W24=\"Single\"),\"Single\",IF('Simplified Loader'!W24=\"Monoparental\",\"Monoparental\",IF('Simplified Loader'!W24=\"Couple\",\"Couple\",\"\")))","v":""},{"$f":"IF('Simplified Loader'!CI24>0,'Simplified Loader'!CI24,\"\")","v":""}]
[null,{"$f":"IF('Simplified Loader'!A25>0,'Simplified Loader'!A25,\"\")","v":""},{"$f":"IF('Simplified Loader'!B25>0,'Simplified Loader'!B25,\"\")","v":""},{"$f":"IF('Simplified Loader'!D25>0,'Simplified Loader'!D25,\"\")","v":""},{"$f":"IF('Simplified Loader (FOR COPY)'!N24>0,'Simplified Loader (FOR COPY)'!N24,\"\")","v":""},{"$f":"IF(OR('Simplified Loader'!AK25>0,'Simplified Loader'!AS25>0),\"Yes\",\"\")","v":""},"",{"$f":"IF(AND('Simplified Loader (FOR COPY)'!N24=\"Family\",'Simplified Loader'!V25=\"Single\"),\"Single\",IF('Simplified Loader'!V25=\"Monoparental\",\"Monoparental\",IF('Simplified Loader'!V25=\"Couple\",\"Couple\",\"\")))","v":""},{"$f":"IF(AND('Simplified Loader (FOR COPY)'!N24=\"Family\",'Simplified Loader'!W25=\"Single\"),\"Single\",IF('Simplified Loader'!W25=\"Monoparental\",\"Monoparental\",IF('Simplified Loader'!W25=\"Couple\",\"Couple\",\"\")))","v":""},{"$f":"IF('Simplified Loader'!CI25>0,'Simplified Loader'!CI25,\"\")","v":""}]
[null,{"$f":"IF('Simplified Loader'!A26>0,'Simplified Loader'!A26,\"\")","v":""},{"$f":"IF('Simplified Loader'!B26>0,'Simplified Loader'!B26,\"\")","v":""},{"$f":"IF('Simplified Loader'!D26>0,'Simplified Loader'!D26,\"\")","v":""},{"$f":"IF('Simplified Loader (FOR COPY)'!N25>0,'Simplified Loader (FOR COPY)'!N25,\"\")","v":""},{"$f":"IF(OR('Simplified Loader'!AK26>0,'Simplified Loader'!AS26>0),\"Yes\",\"\")","v":""},"",{"$f":"IF(AND('Simplified Loader (FOR COPY)'!N25=\"Family\",'Simplified Loader'!V26=\"Single\"),\"Single\",IF('Simplified Loader'!V26=\"Monoparental\",\"Monoparental\",IF('Simplified Loader'!V26=\"Couple\",\"Couple\",\"\")))","v":""},{"$f":"IF(AND('Simplified Loader (FOR COPY)'!N25=\"Family\",'Simplified Loader'!W26=\"Single\"),\"Single\",IF('Simplified Loader'!W26=\"Monoparental\",\"Monoparental\",IF('Simplified Loader'!W26=\"Couple\",\"Couple\",\"\")))","v":""},{"$f":"IF('Simplified Loader'!CI26>0,'Simplified Loader'!CI26,\"\")","v":""}]
[null,{"$f":"IF('Simplified Loader'!A27>0,'Simplified Loader'!A27,\"\")","v":""},{"$f":"IF('Simplified Loader'!B27>0,'Simplified Loader'!B27,\"\")","v":""},{"$f":"IF('Simplified Loader'!D27>0,'Simplified Loader'!D27,\"\")","v":""},{"$f":"IF('Simplified Loader (FOR COPY)'!N26>0,'Simplified Loader (FOR COPY)'!N26,\"\")","v":""},{"$f":"IF(OR('Simplified Loader'!AK27>0,'Simplified Loader'!AS27>0),\"Yes\",\"\")","v":""},"",{"$f":"IF(AND('Simplified Loader (FOR COPY)'!N26=\"Family\",'Simplified Loader'!V27=\"Single\"),\"Single\",IF('Simplified Loader'!V27=\"Monoparental\",\"Monoparental\",IF('Simplified Loader'!V27=\"Couple\",\"Couple\",\"\")))","v":""},{"$f":"IF(AND('Simplified Loader (FOR COPY)'!N26=\"Family\",'Simplified Loader'!W27=\"Single\"),\"Single\",IF('Simplified Loader'!W27=\"Monoparental\",\"Monoparental\",IF('Simplified Loader'!W27=\"Couple\",\"Couple\",\"\")))","v":""},{"$f":"IF('Simplified Loader'!CI27>0,'Simplified Loader'!CI27,\"\")","v":""}]
[null,{"$f":"IF('Simplified Loader'!A28>0,'Simplified Loader'!A28,\"\")","v":""},{"$f":"IF('Simplified Loader'!B28>0,'Simplified Loader'!B28,\"\")","v":""},{"$f":"IF('Simplified Loader'!D28>0,'Simplified Loader'!D28,\"\")","v":""},{"$f":"IF('Simplified Loader (FOR COPY)'!N27>0,'Simplified Loader (FOR COPY)'!N27,\"\")","v":""},{"$f":"IF(OR('Simplified Loader'!AK28>0,'Simplified Loader'!AS28>0),\"Yes\",\"\")","v":""},"",{"$f":"IF(AND('Simplified Loader (FOR COPY)'!N27=\"Family\",'Simplified Loader'!V28=\"Single\"),\"Single\",IF('Simplified Loader'!V28=\"Monoparental\",\"Monoparental\",IF('Simplified Loader'!V28=\"Couple\",\"Couple\",\"\")))","v":""},{"$f":"IF(AND('Simplified Loader (FOR COPY)'!N27=\"Family\",'Simplified Loader'!W28=\"Single\"),\"Single\",IF('Simplified Loader'!W28=\"Monoparental\",\"Monoparental\",IF('Simplified Loader'!W28=\"Couple\",\"Couple\",\"\")))","v":""},{"$f":"IF('Simplified Loader'!CI28>0,'Simplified Loader'!CI28,\"\")","v":""}]
[null,{"$f":"IF('Simplified Loader'!A29>0,'Simplified Loader'!A29,\"\")","v":""},{"$f":"IF('Simplified Loader'!B29>0,'Simplified Loader'!B29,\"\")","v":""},{"$f":"IF('Simplified Loader'!D29>0,'Simplified Loader'!D29,\"\")","v":""},{"$f":"IF('Simplified Loader (FOR COPY)'!N28>0,'Simplified Loader (FOR COPY)'!N28,\"\")","v":""},{"$f":"IF(OR('Simplified Loader'!AK29>0,'Simplified Loader'!AS29>0),\"Yes\",\"\")","v":""},"",{"$f":"IF(AND('Simplified Loader (FOR COPY)'!N28=\"Family\",'Simplified Loader'!V29=\"Single\"),\"Single\",IF('Simplified Loader'!V29=\"Monoparental\",\"Monoparental\",IF('Simplified Loader'!V29=\"Couple\",\"Couple\",\"\")))","v":""},{"$f":"IF(AND('Simplified Loader (FOR COPY)'!N28=\"Family\",'Simplified Loader'!W29=\"Single\"),\"Single\",IF('Simplified Loader'!W29=\"Monoparental\",\"Monoparental\",IF('Simplified Loader'!W29=\"Couple\",\"Couple\",\"\")))","v":""},{"$f":"IF('Simplified Loader'!CI29>0,'Simplified Loader'!CI29,\"\")","v":""}]
[null,{"$f":"IF('Simplified Loader'!A30>0,'Simplified Loader'!A30,\"\")","v":""},{"$f":"IF('Simplified Loader'!B30>0,'Simplified Loader'!B30,\"\")","v":""},{"$f":"IF('Simplified Loader'!D30>0,'Simplified Loader'!D30,\"\")","v":""},{"$f":"IF('Simplified Loader (FOR COPY)'!N29>0,'Simplified Loader (FOR COPY)'!N29,\"\")","v":""},{"$f":"IF(OR('Simplified Loader'!AK30>0,'Simplified Loader'!AS30>0),\"Yes\",\"\")","v":""},"",{"$f":"IF(AND('Simplified Loader (FOR COPY)'!N29=\"Family\",'Simplified Loader'!V30=\"Single\"),\"Single\",IF('Simplified Loader'!V30=\"Monoparental\",\"Monoparental\",IF('Simplified Loader'!V30=\"Couple\",\"Couple\",\"\")))","v":""},{"$f":"IF(AND('Simplified Loader (FOR COPY)'!N29=\"Family\",'Simplified Loader'!W30=\"Single\"),\"Single\",IF('Simplified Loader'!W30=\"Monoparental\",\"Monoparental\",IF('Simplified Loader'!W30=\"Couple\",\"Couple\",\"\")))","v":""},{"$f":"IF('Simplified Loader'!CI30>0,'Simplified Loader'!CI30,\"\")","v":""}]
[null,{"$f":"IF('Simplified Loader'!A31>0,'Simplified Loader'!A31,\"\")","v":""},{"$f":"IF('Simplified Loader'!B31>0,'Simplified Loader'!B31,\"\")","v":""},{"$f":"IF('Simplified Loader'!D31>0,'Simplified Loader'!D31,\"\")","v":""},{"$f":"IF('Simplified Loader (FOR COPY)'!N30>0,'Simplified Loader (FOR COPY)'!N30,\"\")","v":""},{"$f":"IF(OR('Simplified Loader'!AK31>0,'Simplified Loader'!AS31>0),\"Yes\",\"\")","v":""},"",{"$f":"IF(AND('Simplified Loader (FOR COPY)'!N30=\"Family\",'Simplified Loader'!V31=\"Single\"),\"Single\",IF('Simplified Loader'!V31=\"Monoparental\",\"Monoparental\",IF('Simplified Loader'!V31=\"Couple\",\"Couple\",\"\")))","v":""},{"$f":"IF(AND('Simplified Loader (FOR COPY)'!N30=\"Family\",'Simplified Loader'!W31=\"Single\"),\"Single\",IF('Simplified Loader'!W31=\"Monoparental\",\"Monoparental\",IF('Simplified Loader'!W31=\"Couple\",\"Couple\",\"\")))","v":""},{"$f":"IF('Simplified Loader'!CI31>0,'Simplified Loader'!CI31,\"\")","v":""}]
[null,{"$f":"IF('Simplified Loader'!A32>0,'Simplified Loader'!A32,\"\")","v":""},{"$f":"IF('Simplified Loader'!B32>0,'Simplified Loader'!B32,\"\")","v":""},{"$f":"IF('Simplified Loader'!D32>0,'Simplified Loader'!D32,\"\")","v":""},{"$f":"IF('Simplified Loader (FOR COPY)'!N31>0,'Simplified Loader (FOR COPY)'!N31,\"\")","v":""},{"$f":"IF(OR('Simplified Loader'!AK32>0,'Simplified Loader'!AS32>0),\"Yes\",\"\")","v":""},"",{"$f":"IF(AND('Simplified Loader (FOR COPY)'!N31=\"Family\",'Simplified Loader'!V32=\"Single\"),\"Single\",IF('Simplified Loader'!V32=\"Monoparental\",\"Monoparental\",IF('Simplified Loader'!V32=\"Couple\",\"Couple\",\"\")))","v":""},{"$f":"IF(AND('Simplified Loader (FOR COPY)'!N31=\"Family\",'Simplified Loader'!W32=\"Single\"),\"Single\",IF('Simplified Loader'!W32=\"Monoparental\",\"Monoparental\",IF('Simplified Loader'!W32=\"Couple\",\"Couple\",\"\")))","v":""},{"$f":"IF('Simplified Loader'!CI32>0,'Simplified Loader'!CI32,\"\")","v":""}]
[null,{"$f":"IF('Simplified Loader'!A33>0,'Simplified Loader'!A33,\"\")","v":""},{"$f":"IF('Simplified Loader'!B33>0,'Simplified Loader'!B33,\"\")","v":""},{"$f":"IF('Simplified Loader'!D33>0,'Simplified Loader'!D33,\"\")","v":""},{"$f":"IF('Simplified Loader (FOR COPY)'!N32>0,'Simplified Loader (FOR COPY)'!N32,\"\")","v":""},{"$f":"IF(OR('Simplified Loader'!AK33>0,'Simplified Loader'!AS33>0),\"Yes\",\"\")","v":""},"",{"$f":"IF(AND('Simplified Loader (FOR COPY)'!N32=\"Family\",'Simplified Loader'!V33=\"Single\"),\"Single\",IF('Simplified Loader'!V33=\"Monoparental\",\"Monoparental\",IF('Simplified Loader'!V33=\"Couple\",\"Couple\",\"\")))","v":""},{"$f":"IF(AND('Simplified Loader (FOR COPY)'!N32=\"Family\",'Simplified Loader'!W33=\"Single\"),\"Single\",IF('Simplified Loader'!W33=\"Monoparental\",\"Monoparental\",IF('Simplified Loader'!W33=\"Couple\",\"Couple\",\"\")))","v":""},{"$f":"IF('Simplified Loader'!CI33>0,'Simplified Loader'!CI33,\"\")","v":""}]
[null,{"$f":"IF('Simplified Loader'!A34>0,'Simplified Loader'!A34,\"\")","v":""},{"$f":"IF('Simplified Loader'!B34>0,'Simplified Loader'!B34,\"\")","v":""},{"$f":"IF('Simplified Loader'!D34>0,'Simplified Loader'!D34,\"\")","v":""},{"$f":"IF('Simplified Loader (FOR COPY)'!N33>0,'Simplified Loader (FOR COPY)'!N33,\"\")","v":""},{"$f":"IF(OR('Simplified Loader'!AK34>0,'Simplified Loader'!AS34>0),\"Yes\",\"\")","v":""},"",{"$f":"IF(AND('Simplified Loader (FOR COPY)'!N33=\"Family\",'Simplified Loader'!V34=\"Single\"),\"Single\",IF('Simplified Loader'!V34=\"Monoparental\",\"Monoparental\",IF('Simplified Loader'!V34=\"Couple\",\"Couple\",\"\")))","v":""},{"$f":"IF(AND('Simplified Loader (FOR COPY)'!N33=\"Family\",'Simplified Loader'!W34=\"Single\"),\"Single\",IF('Simplified Loader'!W34=\"Monoparental\",\"Monoparental\",IF('Simplified Loader'!W34=\"Couple\",\"Couple\",\"\")))","v":""},{"$f":"IF('Simplified Loader'!CI34>0,'Simplified Loader'!CI34,\"\")","v":""}]
[null,{"$f":"IF('Simplified Loader'!A35>0,'Simplified Loader'!A35,\"\")","v":""},{"$f":"IF('Simplified Loader'!B35>0,'Simplified Loader'!B35,\"\")","v":""},{"$f":"IF('Simplified Loader'!D35>0,'Simplified Loader'!D35,\"\")","v":""},{"$f":"IF('Simplified Loader (FOR COPY)'!N34>0,'Simplified Loader (FOR COPY)'!N34,\"\")","v":""},{"$f":"IF(OR('Simplified Loader'!AK35>0,'Simplified Loader'!AS35>0),\"Yes\",\"\")","v":""},"",{"$f":"IF(AND('Simplified Loader (FOR COPY)'!N34=\"Family\",'Simplified Loader'!V35=\"Single\"),\"Single\",IF('Simplified Loader'!V35=\"Monoparental\",\"Monoparental\",IF('Simplified Loader'!V35=\"Couple\",\"Couple\",\"\")))","v":""},{"$f":"IF(AND('Simplified Loader (FOR COPY)'!N34=\"Family\",'Simplified Loader'!W35=\"Single\"),\"Single\",IF('Simplified Loader'!W35=\"Monoparental\",\"Monoparental\",IF('Simplified Loader'!W35=\"Couple\",\"Couple\",\"\")))","v":""},{"$f":"IF('Simplified Loader'!CI35>0,'Simplified Loader'!CI35,\"\")","v":""}]
[null,{"$f":"IF('Simplified Loader'!A36>0,'Simplified Loader'!A36,\"\")","v":""},{"$f":"IF('Simplified Loader'!B36>0,'Simplified Loader'!B36,\"\")","v":""},{"$f":"IF('Simplified Loader'!D36>0,'Simplified Loader'!D36,\"\")","v":""},{"$f":"IF('Simplified Loader (FOR COPY)'!N35>0,'Simplified Loader (FOR COPY)'!N35,\"\")","v":""},{"$f":"IF(OR('Simplified Loader'!AK36>0,'Simplified Loader'!AS36>0),\"Yes\",\"\")","v":""},"",{"$f":"IF(AND('Simplified Loader (FOR COPY)'!N35=\"Family\",'Simplified Loader'!V36=\"Single\"),\"Single\",IF('Simplified Loader'!V36=\"Monoparental\",\"Monoparental\",IF('Simplified Loader'!V36=\"Couple\",\"Couple\",\"\")))","v":""},{"$f":"IF(AND('Simplified Loader (FOR COPY)'!N35=\"Family\",'Simplified Loader'!W36=\"Single\"),\"Single\",IF('Simplified Loader'!W36=\"Monoparental\",\"Monoparental\",IF('Simplified Loader'!W36=\"Couple\",\"Couple\",\"\")))","v":""},{"$f":"IF('Simplified Loader'!CI36>0,'Simplified Loader'!CI36,\"\")","v":""}]
[null,{"$f":"IF('Simplified Loader'!A37>0,'Simplified Loader'!A37,\"\")","v":""},{"$f":"IF('Simplified Loader'!B37>0,'Simplified Loader'!B37,\"\")","v":""},{"$f":"IF('Simplified Loader'!D37>0,'Simplified Loader'!D37,\"\")","v":""},{"$f":"IF('Simplified Loader (FOR COPY)'!N36>0,'Simplified Loader (FOR COPY)'!N36,\"\")","v":""},{"$f":"IF(OR('Simplified Loader'!AK37>0,'Simplified Loader'!AS37>0),\"Yes\",\"\")","v":""},"",{"$f":"IF(AND('Simplified Loader (FOR COPY)'!N36=\"Family\",'Simplified Loader'!V37=\"Single\"),\"Single\",IF('Simplified Loader'!V37=\"Monoparental\",\"Monoparental\",IF('Simplified Loader'!V37=\"Couple\",\"Couple\",\"\")))","v":""},{"$f":"IF(AND('Simplified Loader (FOR COPY)'!N36=\"Family\",'Simplified Loader'!W37=\"Single\"),\"Single\",IF('Simplified Loader'!W37=\"Monoparental\",\"Monoparental\",IF('Simplified Loader'!W37=\"Couple\",\"Couple\",\"\")))","v":""},{"$f":"IF('Simplified Loader'!CI37>0,'Simplified Loader'!CI37,\"\")","v":""}]
[null,{"$f":"IF('Simplified Loader'!A38>0,'Simplified Loader'!A38,\"\")","v":""},{"$f":"IF('Simplified Loader'!B38>0,'Simplified Loader'!B38,\"\")","v":""},{"$f":"IF('Simplified Loader'!D38>0,'Simplified Loader'!D38,\"\")","v":""},{"$f":"IF('Simplified Loader (FOR COPY)'!N37>0,'Simplified Loader (FOR COPY)'!N37,\"\")","v":""},{"$f":"IF(OR('Simplified Loader'!AK38>0,'Simplified Loader'!AS38>0),\"Yes\",\"\")","v":""},"",{"$f":"IF(AND('Simplified Loader (FOR COPY)'!N37=\"Family\",'Simplified Loader'!V38=\"Single\"),\"Single\",IF('Simplified Loader'!V38=\"Monoparental\",\"Monoparental\",IF('Simplified Loader'!V38=\"Couple\",\"Couple\",\"\")))","v":""},{"$f":"IF(AND('Simplified Loader (FOR COPY)'!N37=\"Family\",'Simplified Loader'!W38=\"Single\"),\"Single\",IF('Simplified Loader'!W38=\"Monoparental\",\"Monoparental\",IF('Simplified Loader'!W38=\"Couple\",\"Couple\",\"\")))","v":""},{"$f":"IF('Simplified Loader'!CI38>0,'Simplified Loader'!CI38,\"\")","v":""}]
[null,{"$f":"IF('Simplified Loader'!A39>0,'Simplified Loader'!A39,\"\")","v":""},{"$f":"IF('Simplified Loader'!B39>0,'Simplified Loader'!B39,\"\")","v":""},{"$f":"IF('Simplified Loader'!D39>0,'Simplified Loader'!D39,\"\")","v":""},{"$f":"IF('Simplified Loader (FOR COPY)'!N38>0,'Simplified Loader (FOR COPY)'!N38,\"\")","v":""},{"$f":"IF(OR('Simplified Loader'!AK39>0,'Simplified Loader'!AS39>0),\"Yes\",\"\")","v":""},"",{"$f":"IF(AND('Simplified Loader (FOR COPY)'!N38=\"Family\",'Simplified Loader'!V39=\"Single\"),\"Single\",IF('Simplified Loader'!V39=\"Monoparental\",\"Monoparental\",IF('Simplified Loader'!V39=\"Couple\",\"Couple\",\"\")))","v":""},{"$f":"IF(AND('Simplified Loader (FOR COPY)'!N38=\"Family\",'Simplified Loader'!W39=\"Single\"),\"Single\",IF('Simplified Loader'!W39=\"Monoparental\",\"Monoparental\",IF('Simplified Loader'!W39=\"Couple\",\"Couple\",\"\")))","v":""},{"$f":"IF('Simplified Loader'!CI39>0,'Simplified Loader'!CI39,\"\")","v":""}]
[null,{"$f":"IF('Simplified Loader'!A40>0,'Simplified Loader'!A40,\"\")","v":""},{"$f":"IF('Simplified Loader'!B40>0,'Simplified Loader'!B40,\"\")","v":""},{"$f":"IF('Simplified Loader'!D40>0,'Simplified Loader'!D40,\"\")","v":""},{"$f":"IF('Simplified Loader (FOR COPY)'!N39>0,'Simplified Loader (FOR COPY)'!N39,\"\")","v":""},{"$f":"IF(OR('Simplified Loader'!AK40>0,'Simplified Loader'!AS40>0),\"Yes\",\"\")","v":""},"",{"$f":"IF(AND('Simplified Loader (FOR COPY)'!N39=\"Family\",'Simplified Loader'!V40=\"Single\"),\"Single\",IF('Simplified Loader'!V40=\"Monoparental\",\"Monoparental\",IF('Simplified Loader'!V40=\"Couple\",\"Couple\",\"\")))","v":""},{"$f":"IF(AND('Simplified Loader (FOR COPY)'!N39=\"Family\",'Simplified Loader'!W40=\"Single\"),\"Single\",IF('Simplified Loader'!W40=\"Monoparental\",\"Monoparental\",IF('Simplified Loader'!W40=\"Couple\",\"Couple\",\"\")))","v":""},{"$f":"IF('Simplified Loader'!CI40>0,'Simplified Loader'!CI40,\"\")","v":""}]
[null,{"$f":"IF('Simplified Loader'!A41>0,'Simplified Loader'!A41,\"\")","v":""},{"$f":"IF('Simplified Loader'!B41>0,'Simplified Loader'!B41,\"\")","v":""},{"$f":"IF('Simplified Loader'!D41>0,'Simplified Loader'!D41,\"\")","v":""},{"$f":"IF('Simplified Loader (FOR COPY)'!N40>0,'Simplified Loader (FOR COPY)'!N40,\"\")","v":""},{"$f":"IF(OR('Simplified Loader'!AK41>0,'Simplified Loader'!AS41>0),\"Yes\",\"\")","v":""},"",{"$f":"IF(AND('Simplified Loader (FOR COPY)'!N40=\"Family\",'Simplified Loader'!V41=\"Single\"),\"Single\",IF('Simplified Loader'!V41=\"Monoparental\",\"Monoparental\",IF('Simplified Loader'!V41=\"Couple\",\"Couple\",\"\")))","v":""},{"$f":"IF(AND('Simplified Loader (FOR COPY)'!N40=\"Family\",'Simplified Loader'!W41=\"Single\"),\"Single\",IF('Simplified Loader'!W41=\"Monoparental\",\"Monoparental\",IF('Simplified Loader'!W41=\"Couple\",\"Couple\",\"\")))","v":""},{"$f":"IF('Simplified Loader'!CI41>0,'Simplified Loader'!CI41,\"\")","v":""}]
[null,{"$f":"IF('Simplified Loader'!A42>0,'Simplified Loader'!A42,\"\")","v":""},{"$f":"IF('Simplified Loader'!B42>0,'Simplified Loader'!B42,\"\")","v":""},{"$f":"IF('Simplified Loader'!D42>0,'Simplified Loader'!D42,\"\")","v":""},{"$f":"IF('Simplified Loader (FOR COPY)'!N41>0,'Simplified Loader (FOR COPY)'!N41,\"\")","v":""},{"$f":"IF(OR('Simplified Loader'!AK42>0,'Simplified Loader'!AS42>0),\"Yes\",\"\")","v":""},"",{"$f":"IF(AND('Simplified Loader (FOR COPY)'!N41=\"Family\",'Simplified Loader'!V42=\"Single\"),\"Single\",IF('Simplified Loader'!V42=\"Monoparental\",\"Monoparental\",IF('Simplified Loader'!V42=\"Couple\",\"Couple\",\"\")))","v":""},{"$f":"IF(AND('Simplified Loader (FOR COPY)'!N41=\"Family\",'Simplified Loader'!W42=\"Single\"),\"Single\",IF('Simplified Loader'!W42=\"Monoparental\",\"Monoparental\",IF('Simplified Loader'!W42=\"Couple\",\"Couple\",\"\")))","v":""},{"$f":"IF('Simplified Loader'!CI42>0,'Simplified Loader'!CI42,\"\")","v":""}]
[null,{"$f":"IF('Simplified Loader'!A43>0,'Simplified Loader'!A43,\"\")","v":""},{"$f":"IF('Simplified Loader'!B43>0,'Simplified Loader'!B43,\"\")","v":""},{"$f":"IF('Simplified Loader'!D43>0,'Simplified Loader'!D43,\"\")","v":""},{"$f":"IF('Simplified Loader (FOR COPY)'!N42>0,'Simplified Loader (FOR COPY)'!N42,\"\")","v":""},{"$f":"IF(OR('Simplified Loader'!AK43>0,'Simplified Loader'!AS43>0),\"Yes\",\"\")","v":""},"",{"$f":"IF(AND('Simplified Loader (FOR COPY)'!N42=\"Family\",'Simplified Loader'!V43=\"Single\"),\"Single\",IF('Simplified Loader'!V43=\"Monoparental\",\"Monoparental\",IF('Simplified Loader'!V43=\"Couple\",\"Couple\",\"\")))","v":""},{"$f":"IF(AND('Simplified Loader (FOR COPY)'!N42=\"Family\",'Simplified Loader'!W43=\"Single\"),\"Single\",IF('Simplified Loader'!W43=\"Monoparental\",\"Monoparental\",IF('Simplified Loader'!W43=\"Couple\",\"Couple\",\"\")))","v":""},{"$f":"IF('Simplified Loader'!CI43>0,'Simplified Loader'!CI43,\"\")","v":""}]
[null,{"$f":"IF('Simplified Loader'!A44>0,'Simplified Loader'!A44,\"\")","v":""},{"$f":"IF('Simplified Loader'!B44>0,'Simplified Loader'!B44,\"\")","v":""},{"$f":"IF('Simplified Loader'!D44>0,'Simplified Loader'!D44,\"\")","v":""},{"$f":"IF('Simplified Loader (FOR COPY)'!N43>0,'Simplified Loader (FOR COPY)'!N43,\"\")","v":""},{"$f":"IF(OR('Simplified Loader'!AK44>0,'Simplified Loader'!AS44>0),\"Yes\",\"\")","v":""},"",{"$f":"IF(AND('Simplified Loader (FOR COPY)'!N43=\"Family\",'Simplified Loader'!V44=\"Single\"),\"Single\",IF('Simplified Loader'!V44=\"Monoparental\",\"Monoparental\",IF('Simplified Loader'!V44=\"Couple\",\"Couple\",\"\")))","v":""},{"$f":"IF(AND('Simplified Loader (FOR COPY)'!N43=\"Family\",'Simplified Loader'!W44=\"Single\"),\"Single\",IF('Simplified Loader'!W44=\"Monoparental\",\"Monoparental\",IF('Simplified Loader'!W44=\"Couple\",\"Couple\",\"\")))","v":""},{"$f":"IF('Simplified Loader'!CI44>0,'Simplified Loader'!CI44,\"\")","v":""}]
[null,{"$f":"IF('Simplified Loader'!A45>0,'Simplified Loader'!A45,\"\")","v":""},{"$f":"IF('Simplified Loader'!B45>0,'Simplified Loader'!B45,\"\")","v":""},{"$f":"IF('Simplified Loader'!D45>0,'Simplified Loader'!D45,\"\")","v":""},{"$f":"IF('Simplified Loader (FOR COPY)'!N44>0,'Simplified Loader (FOR COPY)'!N44,\"\")","v":""},{"$f":"IF(OR('Simplified Loader'!AK45>0,'Simplified Loader'!AS45>0),\"Yes\",\"\")","v":""},"",{"$f":"IF(AND('Simplified Loader (FOR COPY)'!N44=\"Family\",'Simplified Loader'!V45=\"Single\"),\"Single\",IF('Simplified Loader'!V45=\"Monoparental\",\"Monoparental\",IF('Simplified Loader'!V45=\"Couple\",\"Couple\",\"\")))","v":""},{"$f":"IF(AND('Simplified Loader (FOR COPY)'!N44=\"Family\",'Simplified Loader'!W45=\"Single\"),\"Single\",IF('Simplified Loader'!W45=\"Monoparental\",\"Monoparental\",IF('Simplified Loader'!W45=\"Couple\",\"Couple\",\"\")))","v":""},{"$f":"IF('Simplified Loader'!CI45>0,'Simplified Loader'!CI45,\"\")","v":""}]
[null,{"$f":"IF('Simplified Loader'!A46>0,'Simplified Loader'!A46,\"\")","v":""},{"$f":"IF('Simplified Loader'!B46>0,'Simplified Loader'!B46,\"\")","v":""},{"$f":"IF('Simplified Loader'!D46>0,'Simplified Loader'!D46,\"\")","v":""},{"$f":"IF('Simplified Loader (FOR COPY)'!N45>0,'Simplified Loader (FOR COPY)'!N45,\"\")","v":""},{"$f":"IF(OR('Simplified Loader'!AK46>0,'Simplified Loader'!AS46>0),\"Yes\",\"\")","v":""},"",{"$f":"IF(AND('Simplified Loader (FOR COPY)'!N45=\"Family\",'Simplified Loader'!V46=\"Single\"),\"Single\",IF('Simplified Loader'!V46=\"Monoparental\",\"Monoparental\",IF('Simplified Loader'!V46=\"Couple\",\"Couple\",\"\")))","v":""},{"$f":"IF(AND('Simplified Loader (FOR COPY)'!N45=\"Family\",'Simplified Loader'!W46=\"Single\"),\"Single\",IF('Simplified Loader'!W46=\"Monoparental\",\"Monoparental\",IF('Simplified Loader'!W46=\"Couple\",\"Couple\",\"\")))","v":""},{"$f":"IF('Simplified Loader'!CI46>0,'Simplified Loader'!CI46,\"\")","v":""}]
[null,{"$f":"IF('Simplified Loader'!A47>0,'Simplified Loader'!A47,\"\")","v":""},{"$f":"IF('Simplified Loader'!B47>0,'Simplified Loader'!B47,\"\")","v":""},{"$f":"IF('Simplified Loader'!D47>0,'Simplified Loader'!D47,\"\")","v":""},{"$f":"IF('Simplified Loader (FOR COPY)'!N46>0,'Simplified Loader (FOR COPY)'!N46,\"\")","v":""},{"$f":"IF(OR('Simplified Loader'!AK47>0,'Simplified Loader'!AS47>0),\"Yes\",\"\")","v":""},"",{"$f":"IF(AND('Simplified Loader (FOR COPY)'!N46=\"Family\",'Simplified Loader'!V47=\"Single\"),\"Single\",IF('Simplified Loader'!V47=\"Monoparental\",\"Monoparental\",IF('Simplified Loader'!V47=\"Couple\",\"Couple\",\"\")))","v":""},{"$f":"IF(AND('Simplified Loader (FOR COPY)'!N46=\"Family\",'Simplified Loader'!W47=\"Single\"),\"Single\",IF('Simplified Loader'!W47=\"Monoparental\",\"Monoparental\",IF('Simplified Loader'!W47=\"Couple\",\"Couple\",\"\")))","v":""},{"$f":"IF('Simplified Loader'!CI47>0,'Simplified Loader'!CI47,\"\")","v":""}]
[null,{"$f":"IF('Simplified Loader'!A48>0,'Simplified Loader'!A48,\"\")","v":""},{"$f":"IF('Simplified Loader'!B48>0,'Simplified Loader'!B48,\"\")","v":""},{"$f":"IF('Simplified Loader'!D48>0,'Simplified Loader'!D48,\"\")","v":""},{"$f":"IF('Simplified Loader (FOR COPY)'!N47>0,'Simplified Loader (FOR COPY)'!N47,\"\")","v":""},{"$f":"IF(OR('Simplified Loader'!AK48>0,'Simplified Loader'!AS48>0),\"Yes\",\"\")","v":""},"",{"$f":"IF(AND('Simplified Loader (FOR COPY)'!N47=\"Family\",'Simplified Loader'!V48=\"Single\"),\"Single\",IF('Simplified Loader'!V48=\"Monoparental\",\"Monoparental\",IF('Simplified Loader'!V48=\"Couple\",\"Couple\",\"\")))","v":""},{"$f":"IF(AND('Simplified Loader (FOR COPY)'!N47=\"Family\",'Simplified Loader'!W48=\"Single\"),\"Single\",IF('Simplified Loader'!W48=\"Monoparental\",\"Monoparental\",IF('Simplified Loader'!W48=\"Couple\",\"Couple\",\"\")))","v":""},{"$f":"IF('Simplified Loader'!CI48>0,'Simplified Loader'!CI48,\"\")","v":""}]
[null,{"$f":"IF('Simplified Loader'!A49>0,'Simplified Loader'!A49,\"\")","v":""},{"$f":"IF('Simplified Loader'!B49>0,'Simplified Loader'!B49,\"\")","v":""},{"$f":"IF('Simplified Loader'!D49>0,'Simplified Loader'!D49,\"\")","v":""},{"$f":"IF('Simplified Loader (FOR COPY)'!N48>0,'Simplified Loader (FOR COPY)'!N48,\"\")","v":""},{"$f":"IF(OR('Simplified Loader'!AK49>0,'Simplified Loader'!AS49>0),\"Yes\",\"\")","v":""},"",{"$f":"IF(AND('Simplified Loader (FOR COPY)'!N48=\"Family\",'Simplified Loader'!V49=\"Single\"),\"Single\",IF('Simplified Loader'!V49=\"Monoparental\",\"Monoparental\",IF('Simplified Loader'!V49=\"Couple\",\"Couple\",\"\")))","v":""},{"$f":"IF(AND('Simplified Loader (FOR COPY)'!N48=\"Family\",'Simplified Loader'!W49=\"Single\"),\"Single\",IF('Simplified Loader'!W49=\"Monoparental\",\"Monoparental\",IF('Simplified Loader'!W49=\"Couple\",\"Couple\",\"\")))","v":""},{"$f":"IF('Simplified Loader'!CI49>0,'Simplified Loader'!CI49,\"\")","v":""}]
[null,{"$f":"IF('Simplified Loader'!A50>0,'Simplified Loader'!A50,\"\")","v":""},{"$f":"IF('Simplified Loader'!B50>0,'Simplified Loader'!B50,\"\")","v":""},{"$f":"IF('Simplified Loader'!D50>0,'Simplified Loader'!D50,\"\")","v":""},{"$f":"IF('Simplified Loader (FOR COPY)'!N49>0,'Simplified Loader (FOR COPY)'!N49,\"\")","v":""},{"$f":"IF(OR('Simplified Loader'!AK50>0,'Simplified Loader'!AS50>0),\"Yes\",\"\")","v":""},"",{"$f":"IF(AND('Simplified Loader (FOR COPY)'!N49=\"Family\",'Simplified Loader'!V50=\"Single\"),\"Single\",IF('Simplified Loader'!V50=\"Monoparental\",\"Monoparental\",IF('Simplified Loader'!V50=\"Couple\",\"Couple\",\"\")))","v":""},{"$f":"IF(AND('Simplified Loader (FOR COPY)'!N49=\"Family\",'Simplified Loader'!W50=\"Single\"),\"Single\",IF('Simplified Loader'!W50=\"Monoparental\",\"Monoparental\",IF('Simplified Loader'!W50=\"Couple\",\"Couple\",\"\")))","v":""},{"$f":"IF('Simplified Loader'!CI50>0,'Simplified Loader'!CI50,\"\")","v":""}]
[null,{"$f":"IF('Simplified Loader'!A51>0,'Simplified Loader'!A51,\"\")","v":""},{"$f":"IF('Simplified Loader'!B51>0,'Simplified Loader'!B51,\"\")","v":""},{"$f":"IF('Simplified Loader'!D51>0,'Simplified Loader'!D51,\"\")","v":""},{"$f":"IF('Simplified Loader (FOR COPY)'!N50>0,'Simplified Loader (FOR COPY)'!N50,\"\")","v":""},{"$f":"IF(OR('Simplified Loader'!AK51>0,'Simplified Loader'!AS51>0),\"Yes\",\"\")","v":""},"",{"$f":"IF(AND('Simplified Loader (FOR COPY)'!N50=\"Family\",'Simplified Loader'!V51=\"Single\"),\"Single\",IF('Simplified Loader'!V51=\"Monoparental\",\"Monoparental\",IF('Simplified Loader'!V51=\"Couple\",\"Couple\",\"\")))","v":""},{"$f":"IF(AND('Simplified Loader (FOR COPY)'!N50=\"Family\",'Simplified Loader'!W51=\"Single\"),\"Single\",IF('Simplified Loader'!W51=\"Monoparental\",\"Monoparental\",IF('Simplified Loader'!W51=\"Couple\",\"Couple\",\"\")))","v":""},{"$f":"IF('Simplified Loader'!CI51>0,'Simplified Loader'!CI51,\"\")","v":""}]
[null,{"$f":"IF('Simplified Loader'!A52>0,'Simplified Loader'!A52,\"\")","v":""},{"$f":"IF('Simplified Loader'!B52>0,'Simplified Loader'!B52,\"\")","v":""},{"$f":"IF('Simplified Loader'!D52>0,'Simplified Loader'!D52,\"\")","v":""},{"$f":"IF('Simplified Loader (FOR COPY)'!N51>0,'Simplified Loader (FOR COPY)'!N51,\"\")","v":""},{"$f":"IF(OR('Simplified Loader'!AK52>0,'Simplified Loader'!AS52>0),\"Yes\",\"\")","v":""},"",{"$f":"IF(AND('Simplified Loader (FOR COPY)'!N51=\"Family\",'Simplified Loader'!V52=\"Single\"),\"Single\",IF('Simplified Loader'!V52=\"Monoparental\",\"Monoparental\",IF('Simplified Loader'!V52=\"Couple\",\"Couple\",\"\")))","v":""},{"$f":"IF(AND('Simplified Loader (FOR COPY)'!N51=\"Family\",'Simplified Loader'!W52=\"Single\"),\"Single\",IF('Simplified Loader'!W52=\"Monoparental\",\"Monoparental\",IF('Simplified Loader'!W52=\"Couple\",\"Couple\",\"\")))","v":""},{"$f":"IF('Simplified Loader'!CI52>0,'Simplified Loader'!CI52,\"\")","v":""}]
[null,{"$f":"IF('Simplified Loader'!A53>0,'Simplified Loader'!A53,\"\")","v":""},{"$f":"IF('Simplified Loader'!B53>0,'Simplified Loader'!B53,\"\")","v":""},{"$f":"IF('Simplified Loader'!D53>0,'Simplified Loader'!D53,\"\")","v":""},{"$f":"IF('Simplified Loader (FOR COPY)'!N52>0,'Simplified Loader (FOR COPY)'!N52,\"\")","v":""},{"$f":"IF(OR('Simplified Loader'!AK53>0,'Simplified Loader'!AS53>0),\"Yes\",\"\")","v":""},"",{"$f":"IF(AND('Simplified Loader (FOR COPY)'!N52=\"Family\",'Simplified Loader'!V53=\"Single\"),\"Single\",IF('Simplified Loader'!V53=\"Monoparental\",\"Monoparental\",IF('Simplified Loader'!V53=\"Couple\",\"Couple\",\"\")))","v":""},{"$f":"IF(AND('Simplified Loader (FOR COPY)'!N52=\"Family\",'Simplified Loader'!W53=\"Single\"),\"Single\",IF('Simplified Loader'!W53=\"Monoparental\",\"Monoparental\",IF('Simplified Loader'!W53=\"Couple\",\"Couple\",\"\")))","v":""},{"$f":"IF('Simplified Loader'!CI53>0,'Simplified Loader'!CI53,\"\")","v":""}]
[null,{"$f":"IF('Simplified Loader'!A54>0,'Simplified Loader'!A54,\"\")","v":""},{"$f":"IF('Simplified Loader'!B54>0,'Simplified Loader'!B54,\"\")","v":""},{"$f":"IF('Simplified Loader'!D54>0,'Simplified Loader'!D54,\"\")","v":""},{"$f":"IF('Simplified Loader (FOR COPY)'!N53>0,'Simplified Loader (FOR COPY)'!N53,\"\")","v":""},{"$f":"IF(OR('Simplified Loader'!AK54>0,'Simplified Loader'!AS54>0),\"Yes\",\"\")","v":""},"",{"$f":"IF(AND('Simplified Loader (FOR COPY)'!N53=\"Family\",'Simplified Loader'!V54=\"Single\"),\"Single\",IF('Simplified Loader'!V54=\"Monoparental\",\"Monoparental\",IF('Simplified Loader'!V54=\"Couple\",\"Couple\",\"\")))","v":""},{"$f":"IF(AND('Simplified Loader (FOR COPY)'!N53=\"Family\",'Simplified Loader'!W54=\"Single\"),\"Single\",IF('Simplified Loader'!W54=\"Monoparental\",\"Monoparental\",IF('Simplified Loader'!W54=\"Couple\",\"Couple\",\"\")))","v":""},{"$f":"IF('Simplified Loader'!CI54>0,'Simplified Loader'!CI54,\"\")","v":""}]
[null,{"$f":"IF('Simplified Loader'!A55>0,'Simplified Loader'!A55,\"\")","v":""},{"$f":"IF('Simplified Loader'!B55>0,'Simplified Loader'!B55,\"\")","v":""},{"$f":"IF('Simplified Loader'!D55>0,'Simplified Loader'!D55,\"\")","v":""},{"$f":"IF('Simplified Loader (FOR COPY)'!N54>0,'Simplified Loader (FOR COPY)'!N54,\"\")","v":""},{"$f":"IF(OR('Simplified Loader'!AK55>0,'Simplified Loader'!AS55>0),\"Yes\",\"\")","v":""},"",{"$f":"IF(AND('Simplified Loader (FOR COPY)'!N54=\"Family\",'Simplified Loader'!V55=\"Single\"),\"Single\",IF('Simplified Loader'!V55=\"Monoparental\",\"Monoparental\",IF('Simplified Loader'!V55=\"Couple\",\"Couple\",\"\")))","v":""},{"$f":"IF(AND('Simplified Loader (FOR COPY)'!N54=\"Family\",'Simplified Loader'!W55=\"Single\"),\"Single\",IF('Simplified Loader'!W55=\"Monoparental\",\"Monoparental\",IF('Simplified Loader'!W55=\"Couple\",\"Couple\",\"\")))","v":""},{"$f":"IF('Simplified Loader'!CI55>0,'Simplified Loader'!CI55,\"\")","v":""}]
[null,{"$f":"IF('Simplified Loader'!A56>0,'Simplified Loader'!A56,\"\")","v":""},{"$f":"IF('Simplified Loader'!B56>0,'Simplified Loader'!B56,\"\")","v":""},{"$f":"IF('Simplified Loader'!D56>0,'Simplified Loader'!D56,\"\")","v":""},{"$f":"IF('Simplified Loader (FOR COPY)'!N55>0,'Simplified Loader (FOR COPY)'!N55,\"\")","v":""},{"$f":"IF(OR('Simplified Loader'!AK56>0,'Simplified Loader'!AS56>0),\"Yes\",\"\")","v":""},"",{"$f":"IF(AND('Simplified Loader (FOR COPY)'!N55=\"Family\",'Simplified Loader'!V56=\"Single\"),\"Single\",IF('Simplified Loader'!V56=\"Monoparental\",\"Monoparental\",IF('Simplified Loader'!V56=\"Couple\",\"Couple\",\"\")))","v":""},{"$f":"IF(AND('Simplified Loader (FOR COPY)'!N55=\"Family\",'Simplified Loader'!W56=\"Single\"),\"Single\",IF('Simplified Loader'!W56=\"Monoparental\",\"Monoparental\",IF('Simplified Loader'!W56=\"Couple\",\"Couple\",\"\")))","v":""},{"$f":"IF('Simplified Loader'!CI56>0,'Simplified Loader'!CI56,\"\")","v":""}]
[null,{"$f":"IF('Simplified Loader'!A57>0,'Simplified Loader'!A57,\"\")","v":""},{"$f":"IF('Simplified Loader'!B57>0,'Simplified Loader'!B57,\"\")","v":""},{"$f":"IF('Simplified Loader'!D57>0,'Simplified Loader'!D57,\"\")","v":""},{"$f":"IF('Simplified Loader (FOR COPY)'!N56>0,'Simplified Loader (FOR COPY)'!N56,\"\")","v":""},{"$f":"IF(OR('Simplified Loader'!AK57>0,'Simplified Loader'!AS57>0),\"Yes\",\"\")","v":""},"",{"$f":"IF(AND('Simplified Loader (FOR COPY)'!N56=\"Family\",'Simplified Loader'!V57=\"Single\"),\"Single\",IF('Simplified Loader'!V57=\"Monoparental\",\"Monoparental\",IF('Simplified Loader'!V57=\"Couple\",\"Couple\",\"\")))","v":""},{"$f":"IF(AND('Simplified Loader (FOR COPY)'!N56=\"Family\",'Simplified Loader'!W57=\"Single\"),\"Single\",IF('Simplified Loader'!W57=\"Monoparental\",\"Monoparental\",IF('Simplified Loader'!W57=\"Couple\",\"Couple\",\"\")))","v":""},{"$f":"IF('Simplified Loader'!CI57>0,'Simplified Loader'!CI57,\"\")","v":""}]
[null,{"$f":"IF('Simplified Loader'!A58>0,'Simplified Loader'!A58,\"\")","v":""},{"$f":"IF('Simplified Loader'!B58>0,'Simplified Loader'!B58,\"\")","v":""},{"$f":"IF('Simplified Loader'!D58>0,'Simplified Loader'!D58,\"\")","v":""},{"$f":"IF('Simplified Loader (FOR COPY)'!N57>0,'Simplified Loader (FOR COPY)'!N57,\"\")","v":""},{"$f":"IF(OR('Simplified Loader'!AK58>0,'Simplified Loader'!AS58>0),\"Yes\",\"\")","v":""},"",{"$f":"IF(AND('Simplified Loader (FOR COPY)'!N57=\"Family\",'Simplified Loader'!V58=\"Single\"),\"Single\",IF('Simplified Loader'!V58=\"Monoparental\",\"Monoparental\",IF('Simplified Loader'!V58=\"Couple\",\"Couple\",\"\")))","v":""},{"$f":"IF(AND('Simplified Loader (FOR COPY)'!N57=\"Family\",'Simplified Loader'!W58=\"Single\"),\"Single\",IF('Simplified Loader'!W58=\"Monoparental\",\"Monoparental\",IF('Simplified Loader'!W58=\"Couple\",\"Couple\",\"\")))","v":""},{"$f":"IF('Simplified Loader'!CI58>0,'Simplified Loader'!CI58,\"\")","v":""}]
[null,{"$f":"IF('Simplified Loader'!A59>0,'Simplified Loader'!A59,\"\")","v":""},{"$f":"IF('Simplified Loader'!B59>0,'Simplified Loader'!B59,\"\")","v":""},{"$f":"IF('Simplified Loader'!D59>0,'Simplified Loader'!D59,\"\")","v":""},{"$f":"IF('Simplified Loader (FOR COPY)'!N58>0,'Simplified Loader (FOR COPY)'!N58,\"\")","v":""},{"$f":"IF(OR('Simplified Loader'!AK59>0,'Simplified Loader'!AS59>0),\"Yes\",\"\")","v":""},"",{"$f":"IF(AND('Simplified Loader (FOR COPY)'!N58=\"Family\",'Simplified Loader'!V59=\"Single\"),\"Single\",IF('Simplified Loader'!V59=\"Monoparental\",\"Monoparental\",IF('Simplified Loader'!V59=\"Couple\",\"Couple\",\"\")))","v":""},{"$f":"IF(AND('Simplified Loader (FOR COPY)'!N58=\"Family\",'Simplified Loader'!W59=\"Single\"),\"Single\",IF('Simplified Loader'!W59=\"Monoparental\",\"Monoparental\",IF('Simplified Loader'!W59=\"Couple\",\"Couple\",\"\")))","v":""},{"$f":"IF('Simplified Loader'!CI59>0,'Simplified Loader'!CI59,\"\")","v":""}]
[null,{"$f":"IF('Simplified Loader'!A60>0,'Simplified Loader'!A60,\"\")","v":""},{"$f":"IF('Simplified Loader'!B60>0,'Simplified Loader'!B60,\"\")","v":""},{"$f":"IF('Simplified Loader'!D60>0,'Simplified Loader'!D60,\"\")","v":""},{"$f":"IF('Simplified Loader (FOR COPY)'!N59>0,'Simplified Loader (FOR COPY)'!N59,\"\")","v":""},{"$f":"IF(OR('Simplified Loader'!AK60>0,'Simplified Loader'!AS60>0),\"Yes\",\"\")","v":""},"",{"$f":"IF(AND('Simplified Loader (FOR COPY)'!N59=\"Family\",'Simplified Loader'!V60=\"Single\"),\"Single\",IF('Simplified Loader'!V60=\"Monoparental\",\"Monoparental\",IF('Simplified Loader'!V60=\"Couple\",\"Couple\",\"\")))","v":""},{"$f":"IF(AND('Simplified Loader (FOR COPY)'!N59=\"Family\",'Simplified Loader'!W60=\"Single\"),\"Single\",IF('Simplified Loader'!W60=\"Monoparental\",\"Monoparental\",IF('Simplified Loader'!W60=\"Couple\",\"Couple\",\"\")))","v":""},{"$f":"IF('Simplified Loader'!CI60>0,'Simplified Loader'!CI60,\"\")","v":""}]
[null,{"$f":"IF('Simplified Loader'!A61>0,'Simplified Loader'!A61,\"\")","v":""},{"$f":"IF('Simplified Loader'!B61>0,'Simplified Loader'!B61,\"\")","v":""},{"$f":"IF('Simplified Loader'!D61>0,'Simplified Loader'!D61,\"\")","v":""},{"$f":"IF('Simplified Loader (FOR COPY)'!N60>0,'Simplified Loader (FOR COPY)'!N60,\"\")","v":""},{"$f":"IF(OR('Simplified Loader'!AK61>0,'Simplified Loader'!AS61>0),\"Yes\",\"\")","v":""},"",{"$f":"IF(AND('Simplified Loader (FOR COPY)'!N60=\"Family\",'Simplified Loader'!V61=\"Single\"),\"Single\",IF('Simplified Loader'!V61=\"Monoparental\",\"Monoparental\",IF('Simplified Loader'!V61=\"Couple\",\"Couple\",\"\")))","v":""},{"$f":"IF(AND('Simplified Loader (FOR COPY)'!N60=\"Family\",'Simplified Loader'!W61=\"Single\"),\"Single\",IF('Simplified Loader'!W61=\"Monoparental\",\"Monoparental\",IF('Simplified Loader'!W61=\"Couple\",\"Couple\",\"\")))","v":""},{"$f":"IF('Simplified Loader'!CI61>0,'Simplified Loader'!CI61,\"\")","v":""}]
[null,{"$f":"IF('Simplified Loader'!A62>0,'Simplified Loader'!A62,\"\")","v":""},{"$f":"IF('Simplified Loader'!B62>0,'Simplified Loader'!B62,\"\")","v":""},{"$f":"IF('Simplified Loader'!D62>0,'Simplified Loader'!D62,\"\")","v":""},{"$f":"IF('Simplified Loader (FOR COPY)'!N61>0,'Simplified Loader (FOR COPY)'!N61,\"\")","v":""},{"$f":"IF(OR('Simplified Loader'!AK62>0,'Simplified Loader'!AS62>0),\"Yes\",\"\")","v":""},"",{"$f":"IF(AND('Simplified Loader (FOR COPY)'!N61=\"Family\",'Simplified Loader'!V62=\"Single\"),\"Single\",IF('Simplified Loader'!V62=\"Monoparental\",\"Monoparental\",IF('Simplified Loader'!V62=\"Couple\",\"Couple\",\"\")))","v":""},{"$f":"IF(AND('Simplified Loader (FOR COPY)'!N61=\"Family\",'Simplified Loader'!W62=\"Single\"),\"Single\",IF('Simplified Loader'!W62=\"Monoparental\",\"Monoparental\",IF('Simplified Loader'!W62=\"Couple\",\"Couple\",\"\")))","v":""},{"$f":"IF('Simplified Loader'!CI62>0,'Simplified Loader'!CI62,\"\")","v":""}]
[null,{"$f":"IF('Simplified Loader'!A63>0,'Simplified Loader'!A63,\"\")","v":""},{"$f":"IF('Simplified Loader'!B63>0,'Simplified Loader'!B63,\"\")","v":""},{"$f":"IF('Simplified Loader'!D63>0,'Simplified Loader'!D63,\"\")","v":""},{"$f":"IF('Simplified Loader (FOR COPY)'!N62>0,'Simplified Loader (FOR COPY)'!N62,\"\")","v":""},{"$f":"IF(OR('Simplified Loader'!AK63>0,'Simplified Loader'!AS63>0),\"Yes\",\"\")","v":""},"",{"$f":"IF(AND('Simplified Loader (FOR COPY)'!N62=\"Family\",'Simplified Loader'!V63=\"Single\"),\"Single\",IF('Simplified Loader'!V63=\"Monoparental\",\"Monoparental\",IF('Simplified Loader'!V63=\"Couple\",\"Couple\",\"\")))","v":""},{"$f":"IF(AND('Simplified Loader (FOR COPY)'!N62=\"Family\",'Simplified Loader'!W63=\"Single\"),\"Single\",IF('Simplified Loader'!W63=\"Monoparental\",\"Monoparental\",IF('Simplified Loader'!W63=\"Couple\",\"Couple\",\"\")))","v":""},{"$f":"IF('Simplified Loader'!CI63>0,'Simplified Loader'!CI63,\"\")","v":""}]
[null,{"$f":"IF('Simplified Loader'!A64>0,'Simplified Loader'!A64,\"\")","v":""},{"$f":"IF('Simplified Loader'!B64>0,'Simplified Loader'!B64,\"\")","v":""},{"$f":"IF('Simplified Loader'!D64>0,'Simplified Loader'!D64,\"\")","v":""},{"$f":"IF('Simplified Loader (FOR COPY)'!N63>0,'Simplified Loader (FOR COPY)'!N63,\"\")","v":""},{"$f":"IF(OR('Simplified Loader'!AK64>0,'Simplified Loader'!AS64>0),\"Yes\",\"\")","v":""},"",{"$f":"IF(AND('Simplified Loader (FOR COPY)'!N63=\"Family\",'Simplified Loader'!V64=\"Single\"),\"Single\",IF('Simplified Loader'!V64=\"Monoparental\",\"Monoparental\",IF('Simplified Loader'!V64=\"Couple\",\"Couple\",\"\")))","v":""},{"$f":"IF(AND('Simplified Loader (FOR COPY)'!N63=\"Family\",'Simplified Loader'!W64=\"Single\"),\"Single\",IF('Simplified Loader'!W64=\"Monoparental\",\"Monoparental\",IF('Simplified Loader'!W64=\"Couple\",\"Couple\",\"\")))","v":""},{"$f":"IF('Simplified Loader'!CI64>0,'Simplified Loader'!CI64,\"\")","v":""}]
[null,{"$f":"IF('Simplified Loader'!A65>0,'Simplified Loader'!A65,\"\")","v":""},{"$f":"IF('Simplified Loader'!B65>0,'Simplified Loader'!B65,\"\")","v":""},{"$f":"IF('Simplified Loader'!D65>0,'Simplified Loader'!D65,\"\")","v":""},{"$f":"IF('Simplified Loader (FOR COPY)'!N64>0,'Simplified Loader (FOR COPY)'!N64,\"\")","v":""},{"$f":"IF(OR('Simplified Loader'!AK65>0,'Simplified Loader'!AS65>0),\"Yes\",\"\")","v":""},"",{"$f":"IF(AND('Simplified Loader (FOR COPY)'!N64=\"Family\",'Simplified Loader'!V65=\"Single\"),\"Single\",IF('Simplified Loader'!V65=\"Monoparental\",\"Monoparental\",IF('Simplified Loader'!V65=\"Couple\",\"Couple\",\"\")))","v":""},{"$f":"IF(AND('Simplified Loader (FOR COPY)'!N64=\"Family\",'Simplified Loader'!W65=\"Single\"),\"Single\",IF('Simplified Loader'!W65=\"Monoparental\",\"Monoparental\",IF('Simplified Loader'!W65=\"Couple\",\"Couple\",\"\")))","v":""},{"$f":"IF('Simplified Loader'!CI65>0,'Simplified Loader'!CI65,\"\")","v":""}]
[null,{"$f":"IF('Simplified Loader'!A66>0,'Simplified Loader'!A66,\"\")","v":""},{"$f":"IF('Simplified Loader'!B66>0,'Simplified Loader'!B66,\"\")","v":""},{"$f":"IF('Simplified Loader'!D66>0,'Simplified Loader'!D66,\"\")","v":""},{"$f":"IF('Simplified Loader (FOR COPY)'!N65>0,'Simplified Loader (FOR COPY)'!N65,\"\")","v":""},{"$f":"IF(OR('Simplified Loader'!AK66>0,'Simplified Loader'!AS66>0),\"Yes\",\"\")","v":""},"",{"$f":"IF(AND('Simplified Loader (FOR COPY)'!N65=\"Family\",'Simplified Loader'!V66=\"Single\"),\"Single\",IF('Simplified Loader'!V66=\"Monoparental\",\"Monoparental\",IF('Simplified Loader'!V66=\"Couple\",\"Couple\",\"\")))","v":""},{"$f":"IF(AND('Simplified Loader (FOR COPY)'!N65=\"Family\",'Simplified Loader'!W66=\"Single\"),\"Single\",IF('Simplified Loader'!W66=\"Monoparental\",\"Monoparental\",IF('Simplified Loader'!W66=\"Couple\",\"Couple\",\"\")))","v":""},{"$f":"IF('Simplified Loader'!CI66>0,'Simplified Loader'!CI66,\"\")","v":""}]
[null,{"$f":"IF('Simplified Loader'!A67>0,'Simplified Loader'!A67,\"\")","v":""},{"$f":"IF('Simplified Loader'!B67>0,'Simplified Loader'!B67,\"\")","v":""},{"$f":"IF('Simplified Loader'!D67>0,'Simplified Loader'!D67,\"\")","v":""},{"$f":"IF('Simplified Loader (FOR COPY)'!N66>0,'Simplified Loader (FOR COPY)'!N66,\"\")","v":""},{"$f":"IF(OR('Simplified Loader'!AK67>0,'Simplified Loader'!AS67>0),\"Yes\",\"\")","v":""},"",{"$f":"IF(AND('Simplified Loader (FOR COPY)'!N66=\"Family\",'Simplified Loader'!V67=\"Single\"),\"Single\",IF('Simplified Loader'!V67=\"Monoparental\",\"Monoparental\",IF('Simplified Loader'!V67=\"Couple\",\"Couple\",\"\")))","v":""},{"$f":"IF(AND('Simplified Loader (FOR COPY)'!N66=\"Family\",'Simplified Loader'!W67=\"Single\"),\"Single\",IF('Simplified Loader'!W67=\"Monoparental\",\"Monoparental\",IF('Simplified Loader'!W67=\"Couple\",\"Couple\",\"\")))","v":""},{"$f":"IF('Simplified Loader'!CI67>0,'Simplified Loader'!CI67,\"\")","v":""}]
[null,{"$f":"IF('Simplified Loader'!A68>0,'Simplified Loader'!A68,\"\")","v":""},{"$f":"IF('Simplified Loader'!B68>0,'Simplified Loader'!B68,\"\")","v":""},{"$f":"IF('Simplified Loader'!D68>0,'Simplified Loader'!D68,\"\")","v":""},{"$f":"IF('Simplified Loader (FOR COPY)'!N67>0,'Simplified Loader (FOR COPY)'!N67,\"\")","v":""},{"$f":"IF(OR('Simplified Loader'!AK68>0,'Simplified Loader'!AS68>0),\"Yes\",\"\")","v":""},"",{"$f":"IF(AND('Simplified Loader (FOR COPY)'!N67=\"Family\",'Simplified Loader'!V68=\"Single\"),\"Single\",IF('Simplified Loader'!V68=\"Monoparental\",\"Monoparental\",IF('Simplified Loader'!V68=\"Couple\",\"Couple\",\"\")))","v":""},{"$f":"IF(AND('Simplified Loader (FOR COPY)'!N67=\"Family\",'Simplified Loader'!W68=\"Single\"),\"Single\",IF('Simplified Loader'!W68=\"Monoparental\",\"Monoparental\",IF('Simplified Loader'!W68=\"Couple\",\"Couple\",\"\")))","v":""},{"$f":"IF('Simplified Loader'!CI68>0,'Simplified Loader'!CI68,\"\")","v":""}]
[null,{"$f":"IF('Simplified Loader'!A69>0,'Simplified Loader'!A69,\"\")","v":""},{"$f":"IF('Simplified Loader'!B69>0,'Simplified Loader'!B69,\"\")","v":""},{"$f":"IF('Simplified Loader'!D69>0,'Simplified Loader'!D69,\"\")","v":""},{"$f":"IF('Simplified Loader (FOR COPY)'!N68>0,'Simplified Loader (FOR COPY)'!N68,\"\")","v":""},{"$f":"IF(OR('Simplified Loader'!AK69>0,'Simplified Loader'!AS69>0),\"Yes\",\"\")","v":""},"",{"$f":"IF(AND('Simplified Loader (FOR COPY)'!N68=\"Family\",'Simplified Loader'!V69=\"Single\"),\"Single\",IF('Simplified Loader'!V69=\"Monoparental\",\"Monoparental\",IF('Simplified Loader'!V69=\"Couple\",\"Couple\",\"\")))","v":""},{"$f":"IF(AND('Simplified Loader (FOR COPY)'!N68=\"Family\",'Simplified Loader'!W69=\"Single\"),\"Single\",IF('Simplified Loader'!W69=\"Monoparental\",\"Monoparental\",IF('Simplified Loader'!W69=\"Couple\",\"Couple\",\"\")))","v":""},{"$f":"IF('Simplified Loader'!CI69>0,'Simplified Loader'!CI69,\"\")","v":""}]
[null,{"$f":"IF('Simplified Loader'!A70>0,'Simplified Loader'!A70,\"\")","v":""},{"$f":"IF('Simplified Loader'!B70>0,'Simplified Loader'!B70,\"\")","v":""},{"$f":"IF('Simplified Loader'!D70>0,'Simplified Loader'!D70,\"\")","v":""},{"$f":"IF('Simplified Loader (FOR COPY)'!N69>0,'Simplified Loader (FOR COPY)'!N69,\"\")","v":""},{"$f":"IF(OR('Simplified Loader'!AK70>0,'Simplified Loader'!AS70>0),\"Yes\",\"\")","v":""},{"$f":"IF(((E70=\"Single\")*AND(F70=\"Yes\")),\"Discrepancy\",\"\")","v":""},{"$f":"IF(AND('Simplified Loader (FOR COPY)'!N69=\"Family\",'Simplified Loader'!V70=\"Single\"),\"Single\",IF('Simplified Loader'!V70=\"Monoparental\",\"Monoparental\",IF('Simplified Loader'!V70=\"Couple\",\"Couple\",\"\")))","v":""},{"$f":"IF(AND('Simplified Loader (FOR COPY)'!N69=\"Family\",'Simplified Loader'!W70=\"Single\"),\"Single\",IF('Simplified Loader'!W70=\"Monoparental\",\"Monoparental\",IF('Simplified Loader'!W70=\"Couple\",\"Couple\",\"\")))","v":""},{"$f":"IF('Simplified Loader'!CI70>0,'Simplified Loader'!CI70,\"\")","v":""}]
[null,{"$f":"IF('Simplified Loader'!A71>0,'Simplified Loader'!A71,\"\")","v":""},{"$f":"IF('Simplified Loader'!B71>0,'Simplified Loader'!B71,\"\")","v":""},{"$f":"IF('Simplified Loader'!D71>0,'Simplified Loader'!D71,\"\")","v":""},{"$f":"IF('Simplified Loader (FOR COPY)'!N70>0,'Simplified Loader (FOR COPY)'!N70,\"\")","v":""},{"$f":"IF(OR('Simplified Loader'!AK71>0,'Simplified Loader'!AS71>0),\"Yes\",\"\")","v":""},"",{"$f":"IF(AND('Simplified Loader (FOR COPY)'!N70=\"Family\",'Simplified Loader'!V71=\"Single\"),\"Single\",IF('Simplified Loader'!V71=\"Monoparental\",\"Monoparental\",IF('Simplified Loader'!V71=\"Couple\",\"Couple\",\"\")))","v":""},{"$f":"IF(AND('Simplified Loader (FOR COPY)'!N70=\"Family\",'Simplified Loader'!W71=\"Single\"),\"Single\",IF('Simplified Loader'!W71=\"Monoparental\",\"Monoparental\",IF('Simplified Loader'!W71=\"Couple\",\"Couple\",\"\")))","v":""},{"$f":"IF('Simplified Loader'!CI71>0,'Simplified Loader'!CI71,\"\")","v":""}]
[null,{"$f":"IF('Simplified Loader'!A72>0,'Simplified Loader'!A72,\"\")","v":""},{"$f":"IF('Simplified Loader'!B72>0,'Simplified Loader'!B72,\"\")","v":""},{"$f":"IF('Simplified Loader'!D72>0,'Simplified Loader'!D72,\"\")","v":""},{"$f":"IF('Simplified Loader (FOR COPY)'!N71>0,'Simplified Loader (FOR COPY)'!N71,\"\")","v":""},{"$f":"IF(OR('Simplified Loader'!AK72>0,'Simplified Loader'!AS72>0),\"Yes\",\"\")","v":""},"",{"$f":"IF(AND('Simplified Loader (FOR COPY)'!N71=\"Family\",'Simplified Loader'!V72=\"Single\"),\"Single\",IF('Simplified Loader'!V72=\"Monoparental\",\"Monoparental\",IF('Simplified Loader'!V72=\"Couple\",\"Couple\",\"\")))","v":""},{"$f":"IF(AND('Simplified Loader (FOR COPY)'!N71=\"Family\",'Simplified Loader'!W72=\"Single\"),\"Single\",IF('Simplified Loader'!W72=\"Monoparental\",\"Monoparental\",IF('Simplified Loader'!W72=\"Couple\",\"Couple\",\"\")))","v":""},{"$f":"IF('Simplified Loader'!CI72>0,'Simplified Loader'!CI72,\"\")","v":""}]
[null,{"$f":"IF('Simplified Loader'!A73>0,'Simplified Loader'!A73,\"\")","v":""},{"$f":"IF('Simplified Loader'!B73>0,'Simplified Loader'!B73,\"\")","v":""},{"$f":"IF('Simplified Loader'!D73>0,'Simplified Loader'!D73,\"\")","v":""},{"$f":"IF('Simplified Loader (FOR COPY)'!N72>0,'Simplified Loader (FOR COPY)'!N72,\"\")","v":""},{"$f":"IF(OR('Simplified Loader'!AK73>0,'Simplified Loader'!AS73>0),\"Yes\",\"\")","v":""},"",{"$f":"IF(AND('Simplified Loader (FOR COPY)'!N72=\"Family\",'Simplified Loader'!V73=\"Single\"),\"Single\",IF('Simplified Loader'!V73=\"Monoparental\",\"Monoparental\",IF('Simplified Loader'!V73=\"Couple\",\"Couple\",\"\")))","v":""},{"$f":"IF(AND('Simplified Loader (FOR COPY)'!N72=\"Family\",'Simplified Loader'!W73=\"Single\"),\"Single\",IF('Simplified Loader'!W73=\"Monoparental\",\"Monoparental\",IF('Simplified Loader'!W73=\"Couple\",\"Couple\",\"\")))","v":""},{"$f":"IF('Simplified Loader'!CI73>0,'Simplified Loader'!CI73,\"\")","v":""}]
[null,{"$f":"IF('Simplified Loader'!A74>0,'Simplified Loader'!A74,\"\")","v":""},{"$f":"IF('Simplified Loader'!B74>0,'Simplified Loader'!B74,\"\")","v":""},{"$f":"IF('Simplified Loader'!D74>0,'Simplified Loader'!D74,\"\")","v":""},{"$f":"IF('Simplified Loader (FOR COPY)'!N73>0,'Simplified Loader (FOR COPY)'!N73,\"\")","v":""},{"$f":"IF(OR('Simplified Loader'!AK74>0,'Simplified Loader'!AS74>0),\"Yes\",\"\")","v":""},"",{"$f":"IF(AND('Simplified Loader (FOR COPY)'!N73=\"Family\",'Simplified Loader'!V74=\"Single\"),\"Single\",IF('Simplified Loader'!V74=\"Monoparental\",\"Monoparental\",IF('Simplified Loader'!V74=\"Couple\",\"Couple\",\"\")))","v":""},{"$f":"IF(AND('Simplified Loader (FOR COPY)'!N73=\"Family\",'Simplified Loader'!W74=\"Single\"),\"Single\",IF('Simplified Loader'!W74=\"Monoparental\",\"Monoparental\",IF('Simplified Loader'!W74=\"Couple\",\"Couple\",\"\")))","v":""},{"$f":"IF('Simplified Loader'!CI74>0,'Simplified Loader'!CI74,\"\")","v":""}]
[null,{"$f":"IF('Simplified Loader'!A75>0,'Simplified Loader'!A75,\"\")","v":""},{"$f":"IF('Simplified Loader'!B75>0,'Simplified Loader'!B75,\"\")","v":""},{"$f":"IF('Simplified Loader'!D75>0,'Simplified Loader'!D75,\"\")","v":""},{"$f":"IF('Simplified Loader (FOR COPY)'!N74>0,'Simplified Loader (FOR COPY)'!N74,\"\")","v":""},{"$f":"IF(OR('Simplified Loader'!AK75>0,'Simplified Loader'!AS75>0),\"Yes\",\"\")","v":""},"",{"$f":"IF(AND('Simplified Loader (FOR COPY)'!N74=\"Family\",'Simplified Loader'!V75=\"Single\"),\"Single\",IF('Simplified Loader'!V75=\"Monoparental\",\"Monoparental\",IF('Simplified Loader'!V75=\"Couple\",\"Couple\",\"\")))","v":""},{"$f":"IF(AND('Simplified Loader (FOR COPY)'!N74=\"Family\",'Simplified Loader'!W75=\"Single\"),\"Single\",IF('Simplified Loader'!W75=\"Monoparental\",\"Monoparental\",IF('Simplified Loader'!W75=\"Couple\",\"Couple\",\"\")))","v":""},{"$f":"IF('Simplified Loader'!CI75>0,'Simplified Loader'!CI75,\"\")","v":""}]
[null,{"$f":"IF('Simplified Loader'!A76>0,'Simplified Loader'!A76,\"\")","v":""},{"$f":"IF('Simplified Loader'!B76>0,'Simplified Loader'!B76,\"\")","v":""},{"$f":"IF('Simplified Loader'!D76>0,'Simplified Loader'!D76,\"\")","v":""},{"$f":"IF('Simplified Loader (FOR COPY)'!N75>0,'Simplified Loader (FOR COPY)'!N75,\"\")","v":""},{"$f":"IF(OR('Simplified Loader'!AK76>0,'Simplified Loader'!AS76>0),\"Yes\",\"\")","v":""},"",{"$f":"IF(AND('Simplified Loader (FOR COPY)'!N75=\"Family\",'Simplified Loader'!V76=\"Single\"),\"Single\",IF('Simplified Loader'!V76=\"Monoparental\",\"Monoparental\",IF('Simplified Loader'!V76=\"Couple\",\"Couple\",\"\")))","v":""},{"$f":"IF(AND('Simplified Loader (FOR COPY)'!N75=\"Family\",'Simplified Loader'!W76=\"Single\"),\"Single\",IF('Simplified Loader'!W76=\"Monoparental\",\"Monoparental\",IF('Simplified Loader'!W76=\"Couple\",\"Couple\",\"\")))","v":""},{"$f":"IF('Simplified Loader'!CI76>0,'Simplified Loader'!CI76,\"\")","v":""}]
[null,{"$f":"IF('Simplified Loader'!A77>0,'Simplified Loader'!A77,\"\")","v":""},{"$f":"IF('Simplified Loader'!B77>0,'Simplified Loader'!B77,\"\")","v":""},{"$f":"IF('Simplified Loader'!D77>0,'Simplified Loader'!D77,\"\")","v":""},{"$f":"IF('Simplified Loader (FOR COPY)'!N76>0,'Simplified Loader (FOR COPY)'!N76,\"\")","v":""},{"$f":"IF(OR('Simplified Loader'!AK77>0,'Simplified Loader'!AS77>0),\"Yes\",\"\")","v":""},"",{"$f":"IF(AND('Simplified Loader (FOR COPY)'!N76=\"Family\",'Simplified Loader'!V77=\"Single\"),\"Single\",IF('Simplified Loader'!V77=\"Monoparental\",\"Monoparental\",IF('Simplified Loader'!V77=\"Couple\",\"Couple\",\"\")))","v":""},{"$f":"IF(AND('Simplified Loader (FOR COPY)'!N76=\"Family\",'Simplified Loader'!W77=\"Single\"),\"Single\",IF('Simplified Loader'!W77=\"Monoparental\",\"Monoparental\",IF('Simplified Loader'!W77=\"Couple\",\"Couple\",\"\")))","v":""},{"$f":"IF('Simplified Loader'!CI77>0,'Simplified Loader'!CI77,\"\")","v":""}]
[null,{"$f":"IF('Simplified Loader'!A78>0,'Simplified Loader'!A78,\"\")","v":""},{"$f":"IF('Simplified Loader'!B78>0,'Simplified Loader'!B78,\"\")","v":""},{"$f":"IF('Simplified Loader'!D78>0,'Simplified Loader'!D78,\"\")","v":""},{"$f":"IF('Simplified Loader (FOR COPY)'!N77>0,'Simplified Loader (FOR COPY)'!N77,\"\")","v":""},{"$f":"IF(OR('Simplified Loader'!AK78>0,'Simplified Loader'!AS78>0),\"Yes\",\"\")","v":""},"",{"$f":"IF(AND('Simplified Loader (FOR COPY)'!N77=\"Family\",'Simplified Loader'!V78=\"Single\"),\"Single\",IF('Simplified Loader'!V78=\"Monoparental\",\"Monoparental\",IF('Simplified Loader'!V78=\"Couple\",\"Couple\",\"\")))","v":""},{"$f":"IF(AND('Simplified Loader (FOR COPY)'!N77=\"Family\",'Simplified Loader'!W78=\"Single\"),\"Single\",IF('Simplified Loader'!W78=\"Monoparental\",\"Monoparental\",IF('Simplified Loader'!W78=\"Couple\",\"Couple\",\"\")))","v":""},{"$f":"IF('Simplified Loader'!CI78>0,'Simplified Loader'!CI78,\"\")","v":""}]
[null,{"$f":"IF('Simplified Loader'!A79>0,'Simplified Loader'!A79,\"\")","v":""},{"$f":"IF('Simplified Loader'!B79>0,'Simplified Loader'!B79,\"\")","v":""},{"$f":"IF('Simplified Loader'!D79>0,'Simplified Loader'!D79,\"\")","v":""},{"$f":"IF('Simplified Loader (FOR COPY)'!N78>0,'Simplified Loader (FOR COPY)'!N78,\"\")","v":""},{"$f":"IF(OR('Simplified Loader'!AK79>0,'Simplified Loader'!AS79>0),\"Yes\",\"\")","v":""},"",{"$f":"IF(AND('Simplified Loader (FOR COPY)'!N78=\"Family\",'Simplified Loader'!V79=\"Single\"),\"Single\",IF('Simplified Loader'!V79=\"Monoparental\",\"Monoparental\",IF('Simplified Loader'!V79=\"Couple\",\"Couple\",\"\")))","v":""},{"$f":"IF(AND('Simplified Loader (FOR COPY)'!N78=\"Family\",'Simplified Loader'!W79=\"Single\"),\"Single\",IF('Simplified Loader'!W79=\"Monoparental\",\"Monoparental\",IF('Simplified Loader'!W79=\"Couple\",\"Couple\",\"\")))","v":""},{"$f":"IF('Simplified Loader'!CI79>0,'Simplified Loader'!CI79,\"\")","v":""}]
[null,{"$f":"IF('Simplified Loader'!A80>0,'Simplified Loader'!A80,\"\")","v":""},{"$f":"IF('Simplified Loader'!B80>0,'Simplified Loader'!B80,\"\")","v":""},{"$f":"IF('Simplified Loader'!D80>0,'Simplified Loader'!D80,\"\")","v":""},{"$f":"IF('Simplified Loader (FOR COPY)'!N79>0,'Simplified Loader (FOR COPY)'!N79,\"\")","v":""},{"$f":"IF(OR('Simplified Loader'!AK80>0,'Simplified Loader'!AS80>0),\"Yes\",\"\")","v":""},"",{"$f":"IF(AND('Simplified Loader (FOR COPY)'!N79=\"Family\",'Simplified Loader'!V80=\"Single\"),\"Single\",IF('Simplified Loader'!V80=\"Monoparental\",\"Monoparental\",IF('Simplified Loader'!V80=\"Couple\",\"Couple\",\"\")))","v":""},{"$f":"IF(AND('Simplified Loader (FOR COPY)'!N79=\"Family\",'Simplified Loader'!W80=\"Single\"),\"Single\",IF('Simplified Loader'!W80=\"Monoparental\",\"Monoparental\",IF('Simplified Loader'!W80=\"Couple\",\"Couple\",\"\")))","v":""},{"$f":"IF('Simplified Loader'!CI80>0,'Simplified Loader'!CI80,\"\")","v":""}]
[null,{"$f":"IF('Simplified Loader'!A81>0,'Simplified Loader'!A81,\"\")","v":""},{"$f":"IF('Simplified Loader'!B81>0,'Simplified Loader'!B81,\"\")","v":""},{"$f":"IF('Simplified Loader'!D81>0,'Simplified Loader'!D81,\"\")","v":""},{"$f":"IF('Simplified Loader (FOR COPY)'!N80>0,'Simplified Loader (FOR COPY)'!N80,\"\")","v":""},{"$f":"IF(OR('Simplified Loader'!AK81>0,'Simplified Loader'!AS81>0),\"Yes\",\"\")","v":""},"",{"$f":"IF(AND('Simplified Loader (FOR COPY)'!N80=\"Family\",'Simplified Loader'!V81=\"Single\"),\"Single\",IF('Simplified Loader'!V81=\"Monoparental\",\"Monoparental\",IF('Simplified Loader'!V81=\"Couple\",\"Couple\",\"\")))","v":""},{"$f":"IF(AND('Simplified Loader (FOR COPY)'!N80=\"Family\",'Simplified Loader'!W81=\"Single\"),\"Single\",IF('Simplified Loader'!W81=\"Monoparental\",\"Monoparental\",IF('Simplified Loader'!W81=\"Couple\",\"Couple\",\"\")))","v":""},{"$f":"IF('Simplified Loader'!CI81>0,'Simplified Loader'!CI81,\"\")","v":""}]
[null,{"$f":"IF('Simplified Loader'!A82>0,'Simplified Loader'!A82,\"\")","v":""},{"$f":"IF('Simplified Loader'!B82>0,'Simplified Loader'!B82,\"\")","v":""},{"$f":"IF('Simplified Loader'!D82>0,'Simplified Loader'!D82,\"\")","v":""},{"$f":"IF('Simplified Loader (FOR COPY)'!N81>0,'Simplified Loader (FOR COPY)'!N81,\"\")","v":""},{"$f":"IF(OR('Simplified Loader'!AK82>0,'Simplified Loader'!AS82>0),\"Yes\",\"\")","v":""},"",{"$f":"IF(AND('Simplified Loader (FOR COPY)'!N81=\"Family\",'Simplified Loader'!V82=\"Single\"),\"Single\",IF('Simplified Loader'!V82=\"Monoparental\",\"Monoparental\",IF('Simplified Loader'!V82=\"Couple\",\"Couple\",\"\")))","v":""},{"$f":"IF(AND('Simplified Loader (FOR COPY)'!N81=\"Family\",'Simplified Loader'!W82=\"Single\"),\"Single\",IF('Simplified Loader'!W82=\"Monoparental\",\"Monoparental\",IF('Simplified Loader'!W82=\"Couple\",\"Couple\",\"\")))","v":""},{"$f":"IF('Simplified Loader'!CI82>0,'Simplified Loader'!CI82,\"\")","v":""}]
[null,{"$f":"IF('Simplified Loader'!A83>0,'Simplified Loader'!A83,\"\")","v":""},{"$f":"IF('Simplified Loader'!B83>0,'Simplified Loader'!B83,\"\")","v":""},{"$f":"IF('Simplified Loader'!D83>0,'Simplified Loader'!D83,\"\")","v":""},{"$f":"IF('Simplified Loader (FOR COPY)'!N82>0,'Simplified Loader (FOR COPY)'!N82,\"\")","v":""},{"$f":"IF(OR('Simplified Loader'!AK83>0,'Simplified Loader'!AS83>0),\"Yes\",\"\")","v":""},"",{"$f":"IF(AND('Simplified Loader (FOR COPY)'!N82=\"Family\",'Simplified Loader'!V83=\"Single\"),\"Single\",IF('Simplified Loader'!V83=\"Monoparental\",\"Monoparental\",IF('Simplified Loader'!V83=\"Couple\",\"Couple\",\"\")))","v":""},{"$f":"IF(AND('Simplified Loader (FOR COPY)'!N82=\"Family\",'Simplified Loader'!W83=\"Single\"),\"Single\",IF('Simplified Loader'!W83=\"Monoparental\",\"Monoparental\",IF('Simplified Loader'!W83=\"Couple\",\"Couple\",\"\")))","v":""},{"$f":"IF('Simplified Loader'!CI83>0,'Simplified Loader'!CI83,\"\")","v":""}]
[null,{"$f":"IF('Simplified Loader'!A84>0,'Simplified Loader'!A84,\"\")","v":""},{"$f":"IF('Simplified Loader'!B84>0,'Simplified Loader'!B84,\"\")","v":""},{"$f":"IF('Simplified Loader'!D84>0,'Simplified Loader'!D84,\"\")","v":""},{"$f":"IF('Simplified Loader (FOR COPY)'!N83>0,'Simplified Loader (FOR COPY)'!N83,\"\")","v":""},{"$f":"IF(OR('Simplified Loader'!AK84>0,'Simplified Loader'!AS84>0),\"Yes\",\"\")","v":""},"",{"$f":"IF(AND('Simplified Loader (FOR COPY)'!N83=\"Family\",'Simplified Loader'!V84=\"Single\"),\"Single\",IF('Simplified Loader'!V84=\"Monoparental\",\"Monoparental\",IF('Simplified Loader'!V84=\"Couple\",\"Couple\",\"\")))","v":""},{"$f":"IF(AND('Simplified Loader (FOR COPY)'!N83=\"Family\",'Simplified Loader'!W84=\"Single\"),\"Single\",IF('Simplified Loader'!W84=\"Monoparental\",\"Monoparental\",IF('Simplified Loader'!W84=\"Couple\",\"Couple\",\"\")))","v":""},{"$f":"IF('Simplified Loader'!CI84>0,'Simplified Loader'!CI84,\"\")","v":""}]
[null,{"$f":"IF('Simplified Loader'!A85>0,'Simplified Loader'!A85,\"\")","v":""},{"$f":"IF('Simplified Loader'!B85>0,'Simplified Loader'!B85,\"\")","v":""},{"$f":"IF('Simplified Loader'!D85>0,'Simplified Loader'!D85,\"\")","v":""},{"$f":"IF('Simplified Loader (FOR COPY)'!N84>0,'Simplified Loader (FOR COPY)'!N84,\"\")","v":""},{"$f":"IF(OR('Simplified Loader'!AK85>0,'Simplified Loader'!AS85>0),\"Yes\",\"\")","v":""},"",{"$f":"IF(AND('Simplified Loader (FOR COPY)'!N84=\"Family\",'Simplified Loader'!V85=\"Single\"),\"Single\",IF('Simplified Loader'!V85=\"Monoparental\",\"Monoparental\",IF('Simplified Loader'!V85=\"Couple\",\"Couple\",\"\")))","v":""},{"$f":"IF(AND('Simplified Loader (FOR COPY)'!N84=\"Family\",'Simplified Loader'!W85=\"Single\"),\"Single\",IF('Simplified Loader'!W85=\"Monoparental\",\"Monoparental\",IF('Simplified Loader'!W85=\"Couple\",\"Couple\",\"\")))","v":""},{"$f":"IF('Simplified Loader'!CI85>0,'Simplified Loader'!CI85,\"\")","v":""}]
[null,{"$f":"IF('Simplified Loader'!A86>0,'Simplified Loader'!A86,\"\")","v":""},{"$f":"IF('Simplified Loader'!B86>0,'Simplified Loader'!B86,\"\")","v":""},{"$f":"IF('Simplified Loader'!D86>0,'Simplified Loader'!D86,\"\")","v":""},{"$f":"IF('Simplified Loader (FOR COPY)'!N85>0,'Simplified Loader (FOR COPY)'!N85,\"\")","v":""},{"$f":"IF(OR('Simplified Loader'!AK86>0,'Simplified Loader'!AS86>0),\"Yes\",\"\")","v":""},"",{"$f":"IF(AND('Simplified Loader (FOR COPY)'!N85=\"Family\",'Simplified Loader'!V86=\"Single\"),\"Single\",IF('Simplified Loader'!V86=\"Monoparental\",\"Monoparental\",IF('Simplified Loader'!V86=\"Couple\",\"Couple\",\"\")))","v":""},{"$f":"IF(AND('Simplified Loader (FOR COPY)'!N85=\"Family\",'Simplified Loader'!W86=\"Single\"),\"Single\",IF('Simplified Loader'!W86=\"Monoparental\",\"Monoparental\",IF('Simplified Loader'!W86=\"Couple\",\"Couple\",\"\")))","v":""},{"$f":"IF('Simplified Loader'!CI86>0,'Simplified Loader'!CI86,\"\")","v":""}]
[null,{"$f":"IF('Simplified Loader'!A87>0,'Simplified Loader'!A87,\"\")","v":""},{"$f":"IF('Simplified Loader'!B87>0,'Simplified Loader'!B87,\"\")","v":""},{"$f":"IF('Simplified Loader'!D87>0,'Simplified Loader'!D87,\"\")","v":""},{"$f":"IF('Simplified Loader (FOR COPY)'!N86>0,'Simplified Loader (FOR COPY)'!N86,\"\")","v":""},{"$f":"IF(OR('Simplified Loader'!AK87>0,'Simplified Loader'!AS87>0),\"Yes\",\"\")","v":""},"",{"$f":"IF(AND('Simplified Loader (FOR COPY)'!N86=\"Family\",'Simplified Loader'!V87=\"Single\"),\"Single\",IF('Simplified Loader'!V87=\"Monoparental\",\"Monoparental\",IF('Simplified Loader'!V87=\"Couple\",\"Couple\",\"\")))","v":""},{"$f":"IF(AND('Simplified Loader (FOR COPY)'!N86=\"Family\",'Simplified Loader'!W87=\"Single\"),\"Single\",IF('Simplified Loader'!W87=\"Monoparental\",\"Monoparental\",IF('Simplified Loader'!W87=\"Couple\",\"Couple\",\"\")))","v":""},{"$f":"IF('Simplified Loader'!CI87>0,'Simplified Loader'!CI87,\"\")","v":""}]
[null,{"$f":"IF('Simplified Loader'!A88>0,'Simplified Loader'!A88,\"\")","v":""},{"$f":"IF('Simplified Loader'!B88>0,'Simplified Loader'!B88,\"\")","v":""},{"$f":"IF('Simplified Loader'!D88>0,'Simplified Loader'!D88,\"\")","v":""},{"$f":"IF('Simplified Loader (FOR COPY)'!N87>0,'Simplified Loader (FOR COPY)'!N87,\"\")","v":""},{"$f":"IF(OR('Simplified Loader'!AK88>0,'Simplified Loader'!AS88>0),\"Yes\",\"\")","v":""},"",{"$f":"IF(AND('Simplified Loader (FOR COPY)'!N87=\"Family\",'Simplified Loader'!V88=\"Single\"),\"Single\",IF('Simplified Loader'!V88=\"Monoparental\",\"Monoparental\",IF('Simplified Loader'!V88=\"Couple\",\"Couple\",\"\")))","v":""},{"$f":"IF(AND('Simplified Loader (FOR COPY)'!N87=\"Family\",'Simplified Loader'!W88=\"Single\"),\"Single\",IF('Simplified Loader'!W88=\"Monoparental\",\"Monoparental\",IF('Simplified Loader'!W88=\"Couple\",\"Couple\",\"\")))","v":""},{"$f":"IF('Simplified Loader'!CI88>0,'Simplified Loader'!CI88,\"\")","v":""}]
[null,{"$f":"IF('Simplified Loader'!A89>0,'Simplified Loader'!A89,\"\")","v":""},{"$f":"IF('Simplified Loader'!B89>0,'Simplified Loader'!B89,\"\")","v":""},{"$f":"IF('Simplified Loader'!D89>0,'Simplified Loader'!D89,\"\")","v":""},{"$f":"IF('Simplified Loader (FOR COPY)'!N88>0,'Simplified Loader (FOR COPY)'!N88,\"\")","v":""},{"$f":"IF(OR('Simplified Loader'!AK89>0,'Simplified Loader'!AS89>0),\"Yes\",\"\")","v":""},"",{"$f":"IF(AND('Simplified Loader (FOR COPY)'!N88=\"Family\",'Simplified Loader'!V89=\"Single\"),\"Single\",IF('Simplified Loader'!V89=\"Monoparental\",\"Monoparental\",IF('Simplified Loader'!V89=\"Couple\",\"Couple\",\"\")))","v":""},{"$f":"IF(AND('Simplified Loader (FOR COPY)'!N88=\"Family\",'Simplified Loader'!W89=\"Single\"),\"Single\",IF('Simplified Loader'!W89=\"Monoparental\",\"Monoparental\",IF('Simplified Loader'!W89=\"Couple\",\"Couple\",\"\")))","v":""},{"$f":"IF('Simplified Loader'!CI89>0,'Simplified Loader'!CI89,\"\")","v":""}]
[null,{"$f":"IF('Simplified Loader'!A90>0,'Simplified Loader'!A90,\"\")","v":""},{"$f":"IF('Simplified Loader'!B90>0,'Simplified Loader'!B90,\"\")","v":""},{"$f":"IF('Simplified Loader'!D90>0,'Simplified Loader'!D90,\"\")","v":""},{"$f":"IF('Simplified Loader (FOR COPY)'!N89>0,'Simplified Loader (FOR COPY)'!N89,\"\")","v":""},{"$f":"IF(OR('Simplified Loader'!AK90>0,'Simplified Loader'!AS90>0),\"Yes\",\"\")","v":""},"",{"$f":"IF(AND('Simplified Loader (FOR COPY)'!N89=\"Family\",'Simplified Loader'!V90=\"Single\"),\"Single\",IF('Simplified Loader'!V90=\"Monoparental\",\"Monoparental\",IF('Simplified Loader'!V90=\"Couple\",\"Couple\",\"\")))","v":""},{"$f":"IF(AND('Simplified Loader (FOR COPY)'!N89=\"Family\",'Simplified Loader'!W90=\"Single\"),\"Single\",IF('Simplified Loader'!W90=\"Monoparental\",\"Monoparental\",IF('Simplified Loader'!W90=\"Couple\",\"Couple\",\"\")))","v":""},{"$f":"IF('Simplified Loader'!CI90>0,'Simplified Loader'!CI90,\"\")","v":""}]
[null,{"$f":"IF('Simplified Loader'!A91>0,'Simplified Loader'!A91,\"\")","v":""},{"$f":"IF('Simplified Loader'!B91>0,'Simplified Loader'!B91,\"\")","v":""},{"$f":"IF('Simplified Loader'!D91>0,'Simplified Loader'!D91,\"\")","v":""},{"$f":"IF('Simplified Loader (FOR COPY)'!N90>0,'Simplified Loader (FOR COPY)'!N90,\"\")","v":""},{"$f":"IF(OR('Simplified Loader'!AK91>0,'Simplified Loader'!AS91>0),\"Yes\",\"\")","v":""},"",{"$f":"IF(AND('Simplified Loader (FOR COPY)'!N90=\"Family\",'Simplified Loader'!V91=\"Single\"),\"Single\",IF('Simplified Loader'!V91=\"Monoparental\",\"Monoparental\",IF('Simplified Loader'!V91=\"Couple\",\"Couple\",\"\")))","v":""},{"$f":"IF(AND('Simplified Loader (FOR COPY)'!N90=\"Family\",'Simplified Loader'!W91=\"Single\"),\"Single\",IF('Simplified Loader'!W91=\"Monoparental\",\"Monoparental\",IF('Simplified Loader'!W91=\"Couple\",\"Couple\",\"\")))","v":""},{"$f":"IF('Simplified Loader'!CI91>0,'Simplified Loader'!CI91,\"\")","v":""}]
[null,{"$f":"IF('Simplified Loader'!A92>0,'Simplified Loader'!A92,\"\")","v":""},{"$f":"IF('Simplified Loader'!B92>0,'Simplified Loader'!B92,\"\")","v":""},{"$f":"IF('Simplified Loader'!D92>0,'Simplified Loader'!D92,\"\")","v":""},{"$f":"IF('Simplified Loader (FOR COPY)'!N91>0,'Simplified Loader (FOR COPY)'!N91,\"\")","v":""},{"$f":"IF(OR('Simplified Loader'!AK92>0,'Simplified Loader'!AS92>0),\"Yes\",\"\")","v":""},"",{"$f":"IF(AND('Simplified Loader (FOR COPY)'!N91=\"Family\",'Simplified Loader'!V92=\"Single\"),\"Single\",IF('Simplified Loader'!V92=\"Monoparental\",\"Monoparental\",IF('Simplified Loader'!V92=\"Couple\",\"Couple\",\"\")))","v":""},{"$f":"IF(AND('Simplified Loader (FOR COPY)'!N91=\"Family\",'Simplified Loader'!W92=\"Single\"),\"Single\",IF('Simplified Loader'!W92=\"Monoparental\",\"Monoparental\",IF('Simplified Loader'!W92=\"Couple\",\"Couple\",\"\")))","v":""},{"$f":"IF('Simplified Loader'!CI92>0,'Simplified Loader'!CI92,\"\")","v":""}]
[null,{"$f":"IF('Simplified Loader'!A93>0,'Simplified Loader'!A93,\"\")","v":""},{"$f":"IF('Simplified Loader'!B93>0,'Simplified Loader'!B93,\"\")","v":""},{"$f":"IF('Simplified Loader'!D93>0,'Simplified Loader'!D93,\"\")","v":""},{"$f":"IF('Simplified Loader (FOR COPY)'!N92>0,'Simplified Loader (FOR COPY)'!N92,\"\")","v":""},{"$f":"IF(OR('Simplified Loader'!AK93>0,'Simplified Loader'!AS93>0),\"Yes\",\"\")","v":""},"",{"$f":"IF(AND('Simplified Loader (FOR COPY)'!N92=\"Family\",'Simplified Loader'!V93=\"Single\"),\"Single\",IF('Simplified Loader'!V93=\"Monoparental\",\"Monoparental\",IF('Simplified Loader'!V93=\"Couple\",\"Couple\",\"\")))","v":""},{"$f":"IF(AND('Simplified Loader (FOR COPY)'!N92=\"Family\",'Simplified Loader'!W93=\"Single\"),\"Single\",IF('Simplified Loader'!W93=\"Monoparental\",\"Monoparental\",IF('Simplified Loader'!W93=\"Couple\",\"Couple\",\"\")))","v":""},{"$f":"IF('Simplified Loader'!CI93>0,'Simplified Loader'!CI93,\"\")","v":""}]
[null,{"$f":"IF('Simplified Loader'!A94>0,'Simplified Loader'!A94,\"\")","v":""},{"$f":"IF('Simplified Loader'!B94>0,'Simplified Loader'!B94,\"\")","v":""},{"$f":"IF('Simplified Loader'!D94>0,'Simplified Loader'!D94,\"\")","v":""},{"$f":"IF('Simplified Loader (FOR COPY)'!N93>0,'Simplified Loader (FOR COPY)'!N93,\"\")","v":""},{"$f":"IF(OR('Simplified Loader'!AK94>0,'Simplified Loader'!AS94>0),\"Yes\",\"\")","v":""},"",{"$f":"IF(AND('Simplified Loader (FOR COPY)'!N93=\"Family\",'Simplified Loader'!V94=\"Single\"),\"Single\",IF('Simplified Loader'!V94=\"Monoparental\",\"Monoparental\",IF('Simplified Loader'!V94=\"Couple\",\"Couple\",\"\")))","v":""},{"$f":"IF(AND('Simplified Loader (FOR COPY)'!N93=\"Family\",'Simplified Loader'!W94=\"Single\"),\"Single\",IF('Simplified Loader'!W94=\"Monoparental\",\"Monoparental\",IF('Simplified Loader'!W94=\"Couple\",\"Couple\",\"\")))","v":""},{"$f":"IF('Simplified Loader'!CI94>0,'Simplified Loader'!CI94,\"\")","v":""}]
[null,{"$f":"IF('Simplified Loader'!A95>0,'Simplified Loader'!A95,\"\")","v":""},{"$f":"IF('Simplified Loader'!B95>0,'Simplified Loader'!B95,\"\")","v":""},{"$f":"IF('Simplified Loader'!D95>0,'Simplified Loader'!D95,\"\")","v":""},{"$f":"IF('Simplified Loader (FOR COPY)'!N94>0,'Simplified Loader (FOR COPY)'!N94,\"\")","v":""},{"$f":"IF(OR('Simplified Loader'!AK95>0,'Simplified Loader'!AS95>0),\"Yes\",\"\")","v":""},"",{"$f":"IF(AND('Simplified Loader (FOR COPY)'!N94=\"Family\",'Simplified Loader'!V95=\"Single\"),\"Single\",IF('Simplified Loader'!V95=\"Monoparental\",\"Monoparental\",IF('Simplified Loader'!V95=\"Couple\",\"Couple\",\"\")))","v":""},{"$f":"IF(AND('Simplified Loader (FOR COPY)'!N94=\"Family\",'Simplified Loader'!W95=\"Single\"),\"Single\",IF('Simplified Loader'!W95=\"Monoparental\",\"Monoparental\",IF('Simplified Loader'!W95=\"Couple\",\"Couple\",\"\")))","v":""},{"$f":"IF('Simplified Loader'!CI95>0,'Simplified Loader'!CI95,\"\")","v":""}]
[null,{"$f":"IF('Simplified Loader'!A96>0,'Simplified Loader'!A96,\"\")","v":""},{"$f":"IF('Simplified Loader'!B96>0,'Simplified Loader'!B96,\"\")","v":""},{"$f":"IF('Simplified Loader'!D96>0,'Simplified Loader'!D96,\"\")","v":""},{"$f":"IF('Simplified Loader (FOR COPY)'!N95>0,'Simplified Loader (FOR COPY)'!N95,\"\")","v":""},{"$f":"IF(OR('Simplified Loader'!AK96>0,'Simplified Loader'!AS96>0),\"Yes\",\"\")","v":""},"",{"$f":"IF(AND('Simplified Loader (FOR COPY)'!N95=\"Family\",'Simplified Loader'!V96=\"Single\"),\"Single\",IF('Simplified Loader'!V96=\"Monoparental\",\"Monoparental\",IF('Simplified Loader'!V96=\"Couple\",\"Couple\",\"\")))","v":""},{"$f":"IF(AND('Simplified Loader (FOR COPY)'!N95=\"Family\",'Simplified Loader'!W96=\"Single\"),\"Single\",IF('Simplified Loader'!W96=\"Monoparental\",\"Monoparental\",IF('Simplified Loader'!W96=\"Couple\",\"Couple\",\"\")))","v":""},{"$f":"IF('Simplified Loader'!CI96>0,'Simplified Loader'!CI96,\"\")","v":""}]
[null,{"$f":"IF('Simplified Loader'!A97>0,'Simplified Loader'!A97,\"\")","v":""},{"$f":"IF('Simplified Loader'!B97>0,'Simplified Loader'!B97,\"\")","v":""},{"$f":"IF('Simplified Loader'!D97>0,'Simplified Loader'!D97,\"\")","v":""},{"$f":"IF('Simplified Loader (FOR COPY)'!N96>0,'Simplified Loader (FOR COPY)'!N96,\"\")","v":""},{"$f":"IF(OR('Simplified Loader'!AK97>0,'Simplified Loader'!AS97>0),\"Yes\",\"\")","v":""},"",{"$f":"IF(AND('Simplified Loader (FOR COPY)'!N96=\"Family\",'Simplified Loader'!V97=\"Single\"),\"Single\",IF('Simplified Loader'!V97=\"Monoparental\",\"Monoparental\",IF('Simplified Loader'!V97=\"Couple\",\"Couple\",\"\")))","v":""},{"$f":"IF(AND('Simplified Loader (FOR COPY)'!N96=\"Family\",'Simplified Loader'!W97=\"Single\"),\"Single\",IF('Simplified Loader'!W97=\"Monoparental\",\"Monoparental\",IF('Simplified Loader'!W97=\"Couple\",\"Couple\",\"\")))","v":""},{"$f":"IF('Simplified Loader'!CI97>0,'Simplified Loader'!CI97,\"\")","v":""}]
[null,{"$f":"IF('Simplified Loader'!A98>0,'Simplified Loader'!A98,\"\")","v":""},{"$f":"IF('Simplified Loader'!B98>0,'Simplified Loader'!B98,\"\")","v":""},{"$f":"IF('Simplified Loader'!D98>0,'Simplified Loader'!D98,\"\")","v":""},{"$f":"IF('Simplified Loader (FOR COPY)'!N97>0,'Simplified Loader (FOR COPY)'!N97,\"\")","v":""},{"$f":"IF(OR('Simplified Loader'!AK98>0,'Simplified Loader'!AS98>0),\"Yes\",\"\")","v":""},"",{"$f":"IF(AND('Simplified Loader (FOR COPY)'!N97=\"Family\",'Simplified Loader'!V98=\"Single\"),\"Single\",IF('Simplified Loader'!V98=\"Monoparental\",\"Monoparental\",IF('Simplified Loader'!V98=\"Couple\",\"Couple\",\"\")))","v":""},{"$f":"IF(AND('Simplified Loader (FOR COPY)'!N97=\"Family\",'Simplified Loader'!W98=\"Single\"),\"Single\",IF('Simplified Loader'!W98=\"Monoparental\",\"Monoparental\",IF('Simplified Loader'!W98=\"Couple\",\"Couple\",\"\")))","v":""},{"$f":"IF('Simplified Loader'!CI98>0,'Simplified Loader'!CI98,\"\")","v":""}]
[null,{"$f":"IF('Simplified Loader'!A99>0,'Simplified Loader'!A99,\"\")","v":""},{"$f":"IF('Simplified Loader'!B99>0,'Simplified Loader'!B99,\"\")","v":""},{"$f":"IF('Simplified Loader'!D99>0,'Simplified Loader'!D99,\"\")","v":""},{"$f":"IF('Simplified Loader (FOR COPY)'!N98>0,'Simplified Loader (FOR COPY)'!N98,\"\")","v":""},{"$f":"IF(OR('Simplified Loader'!AK99>0,'Simplified Loader'!AS99>0),\"Yes\",\"\")","v":""},"",{"$f":"IF(AND('Simplified Loader (FOR COPY)'!N98=\"Family\",'Simplified Loader'!V99=\"Single\"),\"Single\",IF('Simplified Loader'!V99=\"Monoparental\",\"Monoparental\",IF('Simplified Loader'!V99=\"Couple\",\"Couple\",\"\")))","v":""},{"$f":"IF(AND('Simplified Loader (FOR COPY)'!N98=\"Family\",'Simplified Loader'!W99=\"Single\"),\"Single\",IF('Simplified Loader'!W99=\"Monoparental\",\"Monoparental\",IF('Simplified Loader'!W99=\"Couple\",\"Couple\",\"\")))","v":""},{"$f":"IF('Simplified Loader'!CI99>0,'Simplified Loader'!CI99,\"\")","v":""}]
[null,{"$f":"IF('Simplified Loader'!A100>0,'Simplified Loader'!A100,\"\")","v":""},{"$f":"IF('Simplified Loader'!B100>0,'Simplified Loader'!B100,\"\")","v":""},{"$f":"IF('Simplified Loader'!D100>0,'Simplified Loader'!D100,\"\")","v":""},{"$f":"IF('Simplified Loader (FOR COPY)'!N99>0,'Simplified Loader (FOR COPY)'!N99,\"\")","v":""},{"$f":"IF(OR('Simplified Loader'!AK100>0,'Simplified Loader'!AS100>0),\"Yes\",\"\")","v":""},"",{"$f":"IF(AND('Simplified Loader (FOR COPY)'!N99=\"Family\",'Simplified Loader'!V100=\"Single\"),\"Single\",IF('Simplified Loader'!V100=\"Monoparental\",\"Monoparental\",IF('Simplified Loader'!V100=\"Couple\",\"Couple\",\"\")))","v":""},{"$f":"IF(AND('Simplified Loader (FOR COPY)'!N99=\"Family\",'Simplified Loader'!W100=\"Single\"),\"Single\",IF('Simplified Loader'!W100=\"Monoparental\",\"Monoparental\",IF('Simplified Loader'!W100=\"Couple\",\"Couple\",\"\")))","v":""},{"$f":"IF('Simplified Loader'!CI100>0,'Simplified Loader'!CI100,\"\")","v":""}]