{"text_format":"1","workbook":"xlsx","n_sheets":4,"sheets":["Info","Simplified Loader","Simplified Loader (FOR COPY)","OASIS Manual Adjustments"],"not_rendered":{"charts":0,"images":9,"macros":1,"external_links":0,"defined_names":0,"comments":0,"pivot_tables":0},"unopened":[],"bounds":{"document_bytes":16777216,"sheet_cells":100000,"rows_first":2000,"rows_last":500,"rows_between":2000,"halvings":0,"cell_chars":16384,"cell_head_chars":4096},"cells_cut":0,"cells_raw":0,"read":"whole","date_system":"1900"}

{"sheet":"Info","index":0,"n_rows":17,"n_cols":4,"rows_kept":17,"cut":false,"hidden":false,"merged":[[2,1,2,3]]}
["VERSION 2.4 (ENG)"]
[]
[null,"TIPS & TRICKS!"]
[]
[null,"Entering member data",null,"Copy / Pasting member data"]
[null,"Member data relating to names, dates, provinces, genders, languages, salaries & coverage selections will all be supported only if they are in a format provided in the drop down selections.\n\nIf data is not in the correct format, the cell will turn red.\n\nFor the email column, the cell will turn yellow if the same information is entered more than once. Each member must provide their personal email address.",null,"\nAny data that is copied from another document should only be pasted using the Paste Values option"]
[]
[null,"Split \"Last name, First name\" formatted\nmember data into separate columns to then copy/paste"]
[null,"\n1. Select the cell or column that contains the text you want to split"]
[null,"2. Click Data > Text to Columns:"]
[null,"3. This starts the Convert Text to Columns Wizard. Click Delimited > Next."]
[null,"4. Check Comma and Space if that is how your text is split (ex: Smith, John with a comma and space between the names). You can see a preview of your data in the Data preview window:"]
[null,"5. Click Next."]
[null,"6. Click the         button to the right of the Destination box to collapse the dialog box."]
[null,"7. Select the cells in your workbook where you want to paste your split data:"]
[null,"8. Click the         button to expand the dialog box, and then click Finish:"]
[null,"Source:  support.office.com"]

{"sheet":"Simplified Loader","index":1,"n_rows":106,"n_cols":87,"rows_kept":106,"cut":false,"hidden":false,"merged":[[6,27,7,27],[6,28,7,28],[6,12,7,12],[6,11,7,11],[6,6,7,6],[6,10,7,10],[6,26,7,26],[6,21,7,21],[2,0,2,4],[1,0,1,1],[1,3,1,4],[6,0,7,0],[6,14,7,14],[7,1,7,5],[3,0,3,4],[0,0,0,1],[0,30,0,32],[0,80,0,84],[4,0,5,0],[4,1,5,1],[4,2,5,2],[4,3,5,3],[4,4,5,4],[4,5,5,5],[4,6,5,6],[4,7,5,7],[4,10,5,10],[4,30,5,30],[4,11,5,11],[4,39,5,39],[4,40,5,40],[4,41,5,41],[4,28,5,28],[4,27,5,27],[4,31,5,31],[4,32,5,32],[4,36,5,36],[4,37,5,37],[4,38,5,38],[4,19,5,19],[4,20,5,20],[4,21,4,26],[4,17,5,17],[6,8,7,8],[4,8,5,8],[4,12,4,14],[4,15,5,15],[4,16,5,16],[4,18,5,18],[6,15,7,15],[6,16,7,16],[6,18,7,18],[6,19,7,19]]}
["Company Name:",null,null,null,null,null,null,null,null,null,null,null,null,null,null,null,null,null,null,null,null,null,null,null,null,null,null,null,null,"Hidden","Banking Information\n(Optional)",null,null,"Hidden","Hidden","Hidden",null,null,null,null,null,null,null,null,null,null,null,null,null,null,null,null,null,null,null,null,null,null,null,null,null,null,null,null,null,null,null,null,null,null,null,null,null,null,null,null,null,null,null,null,"Beneficiary Information:\n\nPlease note that Sun Life will assist with the loading of this information for administration purposes only. It is important for you to understand that the beneficiary designation form is a legal document. The original form, signed in ink, must be produced in the event of a life claim and it will be your responsibility to review and determine that you have the signed designation in your files."]
["Company Name:"]
["Note:\n1) All employees in this file will receive an email inviting them to enrol online.  \n2) Please use drop down list where available. "]
["IMPORTANT: Please click on Enable Editing button before begining\n                     If pasting data, please ensure to use Paste Values only"]
["Member ID","First Name","Middle Initial","Last Name","E-mail address\n(different for each member)","Birth Date","Gender","Does member have any dependents?","Coverage Selection for Extended Health Care and Dental",null,"Occupation","Employment Date","Salary  ",null,null,"Billing Group / Location ","Benefit Class ","Plan","Province of Residence","Province of Employment","Smoker Status","Member's Residence",null,null,null,null,null,"Indigenous status - tax exempt?","Member Language","Salary Type 1","Institution Number","Transit Number","Account Number","Type","Address Type","Addressee","Spouse First Name","Spouse Last Name","Spouse Date Of Birth","Spouse Gender","Extended Health Care COB","Dental Care COB","Other Carrier Name","Spouse Smoker Status","Child 1 First Name","Child 1 Last Name","Child 1 Date Of Birth","Child 1 Gender","Student Flag 1","Disabled Status 1","Child 2 First Name","Child 2 Last Name","Child 2 Date Of Birth","Child 2 Gender","Student Flag 2","Disabled Status 2","Child 3 First Name","Child 3 Last Name","Child 3 Date Of Birth","Child 3 Gender","Student Flag 3","Disabled Status 3","Child 4 First Name","Child 4 Last Name","Child 4 Date Of Birth","Child 4 Gender","Student Flag 4","Disabled Status 4","Child 5 First Name","Child 5 Last Name","Child 5 Date Of Birth","Child 5 Gender","Student Flag 5","Disabled Status 5","Child 6 First Name","Child 6 Last Name","Child 6 Date Of Birth","Child 6 Gender","Student Flag 6","Disabled Status 6","Beneficiary Nomination","Revocable (if legal spouse - married or civil union)?\n(QC residents only)","Contingent Beneficiary","Revocable (if legal spouse - married or civil union)?\n(QC residents only)","Trustee for minor beneficiaries\n(Non-QC residents only)","Beneficiary Information","Health Spending Account Monthly allotment\n(if different between members)"]
[null,null,null,null,null,null,null,null,null,"Dental Care Coverage Selection",null,null,"Frequency","Amount","Hours Per Week",null,null,null,null,null,null,"Street Address","Suite","City","Province","Postal Code","Country"]
["Optional: Complete if you are assigning the ID.  Leave blank if Sun Life is assigning the ID.  Maximum of 10 characters. Do not use SIN. ","Legal First name.\n\n\nCan include hyphens.","This is an optional field.\n\nEnter member's middle initial","Legal Last name. \n\n\nCan include hyphens.","\nE-mail address is required to send member their invitation to enrol.\n\nEmail must be different for each member. \n","yyyy-mm-dd","Select from dropdown  ","Select member's dependent status from dropdown:\n- If member has dependents, select \"Yes\"\n- If member does not have dependents, select \"No\"","Single: coverage for member only \nFamily: coverage for member & dependents       \nWaive: member can waive Health & Dental, provided they have coverage through a spouse's group benefits plan\n\nIf Offered:\nCouple: coverage for member & spouse\nSingle Parent: coverage for member & children ",null,"Enter member's occupation","yyyy-mm-dd\n\nFuture date of hire is acceptable.   ","Select from dropdown",null,"\nOptional:  Only required  for hourly employee.\n\nEnter average hours per week.","\nOptional: Only required for separate billing groups.\n\nSelect from dropdown   ","\nOptional: Only required for separate classes. \n\nSelect from dropdown",null,"\n\n\n\n\n\nSelect from dropdown","\n\n\n\n\n\nSelect from dropdown",null,null,null,null,null,null,"\n\n\n\nPre-populated, nothing to enter","\n\n\n\nSelect from dropdown","\n\n\n\nSelect from dropdown","Format: \n'A1A 1A1'  (including the space)",null,"Enter member's tax exempt status \n\n\n\n\nSelect from dropdown","Select from dropdown"]
[null,"ATTENTION: \nPlease pay attention to accuracy and spelling.   \nInformation will be used by the member to authenticate themselves and enrol."]
["ex: 1234567890","ex: John","ex. H","ex: Smith","ex: john.smith@hotmail.com","(YYYY-MM-DD)","Male/Female","Yes/No","ex: Family","ex: Single","ex: Accountant","(YYYY-MM-DD)","ex: Annually","ex: 50000","ex: 40","ex: 001","ex: A","A","ex: ON","ex: ON","Yes/No","ex: 123 Any St.","ex: 7A","ex: Any Town","ex: ON","ex: A1B 2C3","Canada","Yes/No","English/French","Actual Earnings","ex: 123","ex: 12345","ex: 1234567890","Direct Claims Payments","Home","John Smith","ex: Jane","ex: Smith","(YYYY/MM/DD)","Male/Female","Single/Family","Single/Family","ex: Insure Inc.","Yes/No","ex: Jason","ex: Smith","(YYYY/MM/DD)","Male/Female","Yes/No","Yes/No","ex: Jennifer","ex: Smith","(YYYY/MM/DD)","Female/Male","Yes/No","Yes/No","ex: Jim","ex: Smith","(YYYY/MM/DD)","Male/Female","Yes/No","Yes/No","ex: Janet","ex: Smith","(YYYY/MM/DD)","Female/Male","Yes/No","Yes/No","ex: Jasmine","ex: Smith","(YYYY/MM/DD)","Female/Male","Yes/No","Yes/No","ex: Jack","ex: Smith","(YYYY/MM/DD)","Male/Female","Yes/No","Yes/No","ex: Jane Smith - Spouse 100%","ex: Revocable","ex: Jason Smith - Son 50%, Jennifer Smith - Daughter 50%","ex: Revocable","ex: Sarah Parker",null,"ex: $125"]
[null,null,null,null,null,null,null,null,null,null,null,null,null,null,null,null,null,null,null,null,null,null,null,null,null,null,{"$f":"IF(Y10>0,\"Canada\",\"\")","v":""},null,null,{"$f":"IF(N10>0,\"Actual Earnings\",\"\")","v":""},null,null,null,null,{"$f":"IF(V10>0, \"Home\",\" \")","v":" "},{"$f":"B10&\" \"&D10","v":" "}]
[null,null,null,null,null,null,null,null,null,null,null,null,null,null,null,null,null,null,null,null,null,null,null,null,null,null,{"$f":"IF(Y11>0,\"Canada\",\"\")","v":""},null,null,{"$f":"IF(N11>0,\"Actual Earnings\",\"\")","v":""},null,null,null,null,{"$f":"IF(V11>0, \"Home\",\" \")","v":" "},{"$f":"B11&\" \"&D11","v":" "}]
[null,null,null,null,null,null,null,null,null,null,null,null,null,null,null,null,null,null,null,null,null,null,null,null,null,null,"",null,null,"",null,null,null,null,{"$f":"IF(V12>0, \"Home\",\" \")","v":" "},{"$f":"B12&\" \"&D12","v":" "}]
[null,null,null,null,null,null,null,null,null,null,null,null,null,null,null,null,null,null,null,null,null,null,null,null,null,null,{"$f":"IF(Y13>0,\"Canada\",\"\")","v":""},null,null,{"$f":"IF(N13>0,\"Actual Earnings\",\"\")","v":""},null,null,null,null,{"$f":"IF(V13>0, \"Home\",\" \")","v":" "},{"$f":"B13&\" \"&D13","v":" "}]
[null,null,null,null,null,null,null,null,null,null,null,null,null,null,null,null,null,{"$f":"IF(Q14>0,Q14,\"\")","v":""},null,null,null,null,null,null,null,null,"",null,null,"",null,null,null,null," ",{"$f":"B14&\" \"&D14","v":" "}]
[null,null,null,null,null,null,null,null,null,null,null,null,null,null,null,null,null,"",null,null,null,null,null,null,null,null,{"$f":"IF(Y15>0,\"Canada\",\"\")","v":""},null,null,"",null,null,null,null," "," "]
[null,null,null,null,null,null,null,null,null,null,null,null,null,null,null,null,null,{"$f":"IF(Q16>0,Q16,\"\")","v":""},null,null,null,null,null,null,null,null,{"$f":"IF(Y16>0,\"Canada\",\"\")","v":""},null,null,{"$f":"IF(N16>0,\"Actual Earnings\",\"\")","v":""},null,null,null,null,{"$f":"IF(V16>0, \"Home\",\" \")","v":" "},{"$f":"B16&\" \"&D16","v":" "}]
[null,null,null,null,null,null,null,null,null,null,null,null,null,null,null,null,null,"",null,null,null,null,null,null,null,null,"",null,null,"",null,null,null,null," "," "]
[null,null,null,null,null,null,null,null,null,null,null,null,null,null,null,null,null,"",null,null,null,null,null,null,null,null,"",null,null,"",null,null,null,null," "," "]
[null,null,null,null,null,null,null,null,null,null,null,null,null,null,null,null,null,"",null,null,null,null,null,null,null,null,"",null,null,"",null,null,null,null," ",{"$f":"B19&\" \"&D19","v":" "}]
[null,null,null,null,null,null,null,null,null,null,null,null,null,null,null,null,null,"",null,null,null,null,null,null,null,null,"",null,null,"",null,null,null,null," "," "]
[null,null,null,null,null,null,null,null,null,null,null,null,null,null,null,null,null,"",null,null,null,null,null,null,null,null,"",null,null,"",null,null,null,null," "," "]
[null,null,null,null,null,null,null,null,null,null,null,null,null,null,null,null,null,"",null,null,null,null,null,null,null,null,"",null,null,"",null,null,null,null," "," "]
[null,null,null,null,null,null,null,null,null,null,null,null,null,null,null,null,null,"",null,null,null,null,null,null,null,null,"",null,null,"",null,null,null,null," "," "]
[null,null,null,null,null,null,null,null,null,null,null,null,null,null,null,null,null,"",null,null,null,null,null,null,null,null,"",null,null,"",null,null,null,null," "," "]
[null,null,null,null,null,null,null,null,null,null,null,null,null,null,null,null,null,"",null,null,null,null,null,null,null,null,"",null,null,"",null,null,null,null," "," "]
[null,null,null,null,null,null,null,null,null,null,null,null,null,null,null,null,null,"",null,null,null,null,null,null,null,null,"",null,null,"",null,null,null,null," "," "]
[null,null,null,null,null,null,null,null,null,null,null,null,null,null,null,null,null,"",null,null,null,null,null,null,null,null,"",null,null,"",null,null,null,null," "," "]
[null,null,null,null,null,null,null,null,null,null,null,null,null,null,null,null,null,"",null,null,null,null,null,null,null,null,"",null,null,"",null,null,null,null," "," "]
[null,null,null,null,null,null,null,null,null,null,null,null,null,null,null,null,null,"",null,null,null,null,null,null,null,null,"",null,null,"",null,null,null,null," "," "]
[null,null,null,null,null,null,null,null,null,null,null,null,null,null,null,null,null,"",null,null,null,null,null,null,null,null,"",null,null,"",null,null,null,null," "," "]
[null,null,null,null,null,null,null,null,null,null,null,null,null,null,null,null,null,"",null,null,null,null,null,null,null,null,"",null,null,"",null,null,null,null," "," "]
[null,null,null,null,null,null,null,null,null,null,null,null,null,null,null,null,null,"",null,null,null,null,null,null,null,null,"",null,null,"",null,null,null,{"$f":"IF(AG32>0,\"Direct Claims Payments\",\"\")","v":""}," "," ",null,null,null,null,null,null,null,null,null,null,null,null,null,null,null,null,null,null,null,null,null,null,null,null,null,null,null,null,null,null,null,null,null,null,null,null,null,null,null,null,null,null,null,null,null,null,null,null,null,{"$f":"CC32&\" \"&IF(S32=\"QC\",IF(CD32=\"Revocable\",\"(revocable)\",IF(CD32=\"Irrevocable\",\"(irrevocable)\",IF(CD32=\"\",\"\",\"\"))),\"\")&\" \"&IF(CE32>0,CHAR(10)&\"Contingent(s): \"&CE32,\"\")&\" \"&IF(S32=\"QC\",IF(CF32=\"Revocable\",\"(revocable)\",IF(CF32=\"Irrevocable\",\"(irrevocable)\",IF(CF32=\"\",\"\",\"\"))),\"\")&\" \"&IF(CG32>0,CHAR(10)&\"Trustee (minor): \"&CG32,\"\")","v":"    "}]
[null,null,null,null,null,null,null,null,null,null,null,null,null,null,null,null,null,"",null,null,null,null,null,null,null,null,"",null,null,"",null,null,null,""," "," ",null,null,null,null,null,null,null,null,null,null,null,null,null,null,null,null,null,null,null,null,null,null,null,null,null,null,null,null,null,null,null,null,null,null,null,null,null,null,null,null,null,null,null,null,null,null,null,null,null,"    "]
[null,null,null,null,null,null,null,null,null,null,null,null,null,null,null,null,null,"",null,null,null,null,null,null,null,null,"",null,null,"",null,null,null,""," "," ",null,null,null,null,null,null,null,null,null,null,null,null,null,null,null,null,null,null,null,null,null,null,null,null,null,null,null,null,null,null,null,null,null,null,null,null,null,null,null,null,null,null,null,null,null,null,null,null,null,"    "]
[null,null,null,null,null,null,null,null,null,null,null,null,null,null,null,null,null,"",null,null,null,null,null,null,null,null,"",null,null,"",null,null,null,""," "," ",null,null,null,null,null,null,null,null,null,null,null,null,null,null,null,null,null,null,null,null,null,null,null,null,null,null,null,null,null,null,null,null,null,null,null,null,null,null,null,null,null,null,null,null,null,null,null,null,null,"    "]
[null,null,null,null,null,null,null,null,null,null,null,null,null,null,null,null,null,"",null,null,null,null,null,null,null,null,"",null,null,"",null,null,null,""," "," ",null,null,null,null,null,null,null,null,null,null,null,null,null,null,null,null,null,null,null,null,null,null,null,null,null,null,null,null,null,null,null,null,null,null,null,null,null,null,null,null,null,null,null,null,null,null,null,null,null,"    "]
[null,null,null,null,null,null,null,null,null,null,null,null,null,null,null,null,null,"",null,null,null,null,null,null,null,null,"",null,null,"",null,null,null,""," "," ",null,null,null,null,null,null,null,null,null,null,null,null,null,null,null,null,null,null,null,null,null,null,null,null,null,null,null,null,null,null,null,null,null,null,null,null,null,null,null,null,null,null,null,null,null,null,null,null,null,"    "]
[null,null,null,null,null,null,null,null,null,null,null,null,null,null,null,null,null,"",null,null,null,null,null,null,null,null,"",null,null,"",null,null,null,""," "," ",null,null,null,null,null,null,null,null,null,null,null,null,null,null,null,null,null,null,null,null,null,null,null,null,null,null,null,null,null,null,null,null,null,null,null,null,null,null,null,null,null,null,null,null,null,null,null,null,null,"    "]
[null,null,null,null,null,null,null,null,null,null,null,null,null,null,null,null,null,"",null,null,null,null,null,null,null,null,"",null,null,"",null,null,null,""," "," ",null,null,null,null,null,null,null,null,null,null,null,null,null,null,null,null,null,null,null,null,null,null,null,null,null,null,null,null,null,null,null,null,null,null,null,null,null,null,null,null,null,null,null,null,null,null,null,null,null,"    "]
[null,null,null,null,null,null,null,null,null,null,null,null,null,null,null,null,null,"",null,null,null,null,null,null,null,null,"",null,null,"",null,null,null,""," "," ",null,null,null,null,null,null,null,null,null,null,null,null,null,null,null,null,null,null,null,null,null,null,null,null,null,null,null,null,null,null,null,null,null,null,null,null,null,null,null,null,null,null,null,null,null,null,null,null,null,"    "]
[null,null,null,null,null,null,null,null,null,null,null,null,null,null,null,null,null,"",null,null,null,null,null,null,null,null,"",null,null,"",null,null,null,""," "," ",null,null,null,null,null,null,null,null,null,null,null,null,null,null,null,null,null,null,null,null,null,null,null,null,null,null,null,null,null,null,null,null,null,null,null,null,null,null,null,null,null,null,null,null,null,null,null,null,null,"    "]
[null,null,null,null,null,null,null,null,null,null,null,null,null,null,null,null,null,"",null,null,null,null,null,null,null,null,"",null,null,{"$f":"IF(N42>0,\"Actual Earnings\",\"\")","v":""},null,null,null,""," ",{"$f":"B42&\" \"&D42","v":" "},null,null,null,null,null,null,null,null,null,null,null,null,null,null,null,null,null,null,null,null,null,null,null,null,null,null,null,null,null,null,null,null,null,null,null,null,null,null,null,null,null,null,null,null,null,null,null,null,null,{"$f":"CC42&\" \"&IF(S42=\"QC\",IF(CD42=\"Revocable\",\"(revocable)\",IF(CD42=\"Irrevocable\",\"(irrevocable)\",IF(CD42=\"\",\"\",\"\"))),\"\")&\" \"&IF(CE42>0,CHAR(10)&\"Contingent(s): \"&CE42,\"\")&\" \"&IF(S42=\"QC\",IF(CF42=\"Revocable\",\"(revocable)\",IF(CF42=\"Irrevocable\",\"(irrevocable)\",IF(CF42=\"\",\"\",\"\"))),\"\")&\" \"&IF(CG42>0,CHAR(10)&\"Trustee (minor): \"&CG42,\"\")","v":"    "}]
[null,null,null,null,null,null,null,null,null,null,null,null,null,null,null,null,null,"",null,null,null,null,null,null,null,null,"",null,null,"",null,null,null,""," "," ",null,null,null,null,null,null,null,null,null,null,null,null,null,null,null,null,null,null,null,null,null,null,null,null,null,null,null,null,null,null,null,null,null,null,null,null,null,null,null,null,null,null,null,null,null,null,null,null,null,"    "]
[null,null,null,null,null,null,null,null,null,null,null,null,null,null,null,null,null,"",null,null,null,null,null,null,null,null,"",null,null,"",null,null,null,""," "," ",null,null,null,null,null,null,null,null,null,null,null,null,null,null,null,null,null,null,null,null,null,null,null,null,null,null,null,null,null,null,null,null,null,null,null,null,null,null,null,null,null,null,null,null,null,null,null,null,null,"    "]
[null,null,null,null,null,null,null,null,null,null,null,null,null,null,null,null,null,"",null,null,null,null,null,null,null,null,"",null,null,"",null,null,null,""," "," ",null,null,null,null,null,null,null,null,null,null,null,null,null,null,null,null,null,null,null,null,null,null,null,null,null,null,null,null,null,null,null,null,null,null,null,null,null,null,null,null,null,null,null,null,null,null,null,null,null,"    "]
[null,null,null,null,null,null,null,null,null,null,null,null,null,null,null,null,null,"",null,null,null,null,null,null,null,null,"",null,null,"",null,null,null,""," "," ",null,null,null,null,null,null,null,null,null,null,null,null,null,null,null,null,null,null,null,null,null,null,null,null,null,null,null,null,null,null,null,null,null,null,null,null,null,null,null,null,null,null,null,null,null,null,null,null,null,"    "]
[null,null,null,null,null,null,null,null,null,null,null,null,null,null,null,null,null,"",null,null,null,null,null,null,null,null,"",null,null,"",null,null,null,""," "," ",null,null,null,null,null,null,null,null,null,null,null,null,null,null,null,null,null,null,null,null,null,null,null,null,null,null,null,null,null,null,null,null,null,null,null,null,null,null,null,null,null,null,null,null,null,null,null,null,null,"    "]
[null,null,null,null,null,null,null,null,null,null,null,null,null,null,null,null,null,"",null,null,null,null,null,null,null,null,"",null,null,"",null,null,null,""," "," ",null,null,null,null,null,null,null,null,null,null,null,null,null,null,null,null,null,null,null,null,null,null,null,null,null,null,null,null,null,null,null,null,null,null,null,null,null,null,null,null,null,null,null,null,null,null,null,null,null,"    "]
[null,null,null,null,null,null,null,null,null,null,null,null,null,null,null,null,null,"",null,null,null,null,null,null,null,null,"",null,null,"",null,null,null,""," "," ",null,null,null,null,null,null,null,null,null,null,null,null,null,null,null,null,null,null,null,null,null,null,null,null,null,null,null,null,null,null,null,null,null,null,null,null,null,null,null,null,null,null,null,null,null,null,null,null,null,"    "]
[null,null,null,null,null,null,null,null,null,null,null,null,null,null,null,null,null,"",null,null,null,null,null,null,null,null,"",null,null,"",null,null,null,""," "," ",null,null,null,null,null,null,null,null,null,null,null,null,null,null,null,null,null,null,null,null,null,null,null,null,null,null,null,null,null,null,null,null,null,null,null,null,null,null,null,null,null,null,null,null,null,null,null,null,null,"    "]
[null,null,null,null,null,null,null,null,null,null,null,null,null,null,null,null,null,"",null,null,null,null,null,null,null,null,"",null,null,"",null,null,null,""," "," ",null,null,null,null,null,null,null,null,null,null,null,null,null,null,null,null,null,null,null,null,null,null,null,null,null,null,null,null,null,null,null,null,null,null,null,null,null,null,null,null,null,null,null,null,null,null,null,null,null,"    "]
[null,null,null,null,null,null,null,null,null,null,null,null,null,null,null,null,null,"",null,null,null,null,null,null,null,null,"",null,null,"",null,null,null,""," "," ",null,null,null,null,null,null,null,null,null,null,null,null,null,null,null,null,null,null,null,null,null,null,null,null,null,null,null,null,null,null,null,null,null,null,null,null,null,null,null,null,null,null,null,null,null,null,null,null,null,"    "]
[null,null,null,null,null,null,null,null,null,null,null,null,null,null,null,null,null,"",null,null,null,null,null,null,null,null,"",null,null,"",null,null,null,""," "," ",null,null,null,null,null,null,null,null,null,null,null,null,null,null,null,null,null,null,null,null,null,null,null,null,null,null,null,null,null,null,null,null,null,null,null,null,null,null,null,null,null,null,null,null,null,null,null,null,null,"    "]
[null,null,null,null,null,null,null,null,null,null,null,null,null,null,null,null,null,"",null,null,null,null,null,null,null,null,"",null,null,"",null,null,null,""," "," ",null,null,null,null,null,null,null,null,null,null,null,null,null,null,null,null,null,null,null,null,null,null,null,null,null,null,null,null,null,null,null,null,null,null,null,null,null,null,null,null,null,null,null,null,null,null,null,null,null,"    "]
[null,null,null,null,null,null,null,null,null,null,null,null,null,null,null,null,null,"",null,null,null,null,null,null,null,null,"",null,null,"",null,null,null,""," "," ",null,null,null,null,null,null,null,null,null,null,null,null,null,null,null,null,null,null,null,null,null,null,null,null,null,null,null,null,null,null,null,null,null,null,null,null,null,null,null,null,null,null,null,null,null,null,null,null,null,"    "]
[null,null,null,null,null,null,null,null,null,null,null,null,null,null,null,null,null,"",null,null,null,null,null,null,null,null,"",null,null,"",null,null,null,""," "," ",null,null,null,null,null,null,null,null,null,null,null,null,null,null,null,null,null,null,null,null,null,null,null,null,null,null,null,null,null,null,null,null,null,null,null,null,null,null,null,null,null,null,null,null,null,null,null,null,null,"    "]
[null,null,null,null,null,null,null,null,null,null,null,null,null,null,null,null,null,"",null,null,null,null,null,null,null,null,"",null,null,"",null,null,null,""," "," ",null,null,null,null,null,null,null,null,null,null,null,null,null,null,null,null,null,null,null,null,null,null,null,null,null,null,null,null,null,null,null,null,null,null,null,null,null,null,null,null,null,null,null,null,null,null,null,null,null,"    "]
[null,null,null,null,null,null,null,null,null,null,null,null,null,null,null,null,null,"",null,null,null,null,null,null,null,null,"",null,null,"",null,null,null,""," "," ",null,null,null,null,null,null,null,null,null,null,null,null,null,null,null,null,null,null,null,null,null,null,null,null,null,null,null,null,null,null,null,null,null,null,null,null,null,null,null,null,null,null,null,null,null,null,null,null,null,"    "]
[null,null,null,null,null,null,null,null,null,null,null,null,null,null,null,null,null,"",null,null,null,null,null,null,null,null,"",null,null,"",null,null,null,""," "," ",null,null,null,null,null,null,null,null,null,null,null,null,null,null,null,null,null,null,null,null,null,null,null,null,null,null,null,null,null,null,null,null,null,null,null,null,null,null,null,null,null,null,null,null,null,null,null,null,null,"    "]
[null,null,null,null,null,null,null,null,null,null,null,null,null,null,null,null,null,"",null,null,null,null,null,null,null,null,"",null,null,"",null,null,null,""," "," ",null,null,null,null,null,null,null,null,null,null,null,null,null,null,null,null,null,null,null,null,null,null,null,null,null,null,null,null,null,null,null,null,null,null,null,null,null,null,null,null,null,null,null,null,null,null,null,null,null,"    "]
[null,null,null,null,null,null,null,null,null,null,null,null,null,null,null,null,null,"",null,null,null,null,null,null,null,null,"",null,null,"",null,null,null,""," "," ",null,null,null,null,null,null,null,null,null,null,null,null,null,null,null,null,null,null,null,null,null,null,null,null,null,null,null,null,null,null,null,null,null,null,null,null,null,null,null,null,null,null,null,null,null,null,null,null,null,"    "]
[null,null,null,null,null,null,null,null,null,null,null,null,null,null,null,null,null,"",null,null,null,null,null,null,null,null,"",null,null,"",null,null,null,""," "," ",null,null,null,null,null,null,null,null,null,null,null,null,null,null,null,null,null,null,null,null,null,null,null,null,null,null,null,null,null,null,null,null,null,null,null,null,null,null,null,null,null,null,null,null,null,null,null,null,null,"    "]
[null,null,null,null,null,null,null,null,null,null,null,null,null,null,null,null,null,"",null,null,null,null,null,null,null,null,"",null,null,"",null,null,null,""," "," ",null,null,null,null,null,null,null,null,null,null,null,null,null,null,null,null,null,null,null,null,null,null,null,null,null,null,null,null,null,null,null,null,null,null,null,null,null,null,null,null,null,null,null,null,null,null,null,null,null,"    "]
[null,null,null,null,null,null,null,null,null,null,null,null,null,null,null,null,null,"",null,null,null,null,null,null,null,null,"",null,null,"",null,null,null,""," "," ",null,null,null,null,null,null,null,null,null,null,null,null,null,null,null,null,null,null,null,null,null,null,null,null,null,null,null,null,null,null,null,null,null,null,null,null,null,null,null,null,null,null,null,null,null,null,null,null,null,"    "]
[null,null,null,null,null,null,null,null,null,null,null,null,null,null,null,null,null,"",null,null,null,null,null,null,null,null,"",null,null,"",null,null,null,""," "," ",null,null,null,null,null,null,null,null,null,null,null,null,null,null,null,null,null,null,null,null,null,null,null,null,null,null,null,null,null,null,null,null,null,null,null,null,null,null,null,null,null,null,null,null,null,null,null,null,null,"    "]
[null,null,null,null,null,null,null,null,null,null,null,null,null,null,null,null,null,"",null,null,null,null,null,null,null,null,"",null,null,"",null,null,null,""," "," ",null,null,null,null,null,null,null,null,null,null,null,null,null,null,null,null,null,null,null,null,null,null,null,null,null,null,null,null,null,null,null,null,null,null,null,null,null,null,null,null,null,null,null,null,null,null,null,null,null,"    "]
[null,null,null,null,null,null,null,null,null,null,null,null,null,null,null,null,null,"",null,null,null,null,null,null,null,null,"",null,null,"",null,null,null,""," "," ",null,null,null,null,null,null,null,null,null,null,null,null,null,null,null,null,null,null,null,null,null,null,null,null,null,null,null,null,null,null,null,null,null,null,null,null,null,null,null,null,null,null,null,null,null,null,null,null,null,"    "]
[null,null,null,null,null,null,null,null,null,null,null,null,null,null,null,null,null,"",null,null,null,null,null,null,null,null,"",null,null,"",null,null,null,""," "," ",null,null,null,null,null,null,null,null,null,null,null,null,null,null,null,null,null,null,null,null,null,null,null,null,null,null,null,null,null,null,null,null,null,null,null,null,null,null,null,null,null,null,null,null,null,null,null,null,null,"    "]
[null,null,null,null,null,null,null,null,null,null,null,null,null,null,null,null,null,"",null,null,null,null,null,null,null,null,"",null,null,"",null,null,null,""," "," ",null,null,null,null,null,null,null,null,null,null,null,null,null,null,null,null,null,null,null,null,null,null,null,null,null,null,null,null,null,null,null,null,null,null,null,null,null,null,null,null,null,null,null,null,null,null,null,null,null,"    "]
[null,null,null,null,null,null,null,null,null,null,null,null,null,null,null,null,null,"",null,null,null,null,null,null,null,null,"",null,null,"",null,null,null,""," "," ",null,null,null,null,null,null,null,null,null,null,null,null,null,null,null,null,null,null,null,null,null,null,null,null,null,null,null,null,null,null,null,null,null,null,null,null,null,null,null,null,null,null,null,null,null,null,null,null,null,"    "]
[null,null,null,null,null,null,null,null,null,null,null,null,null,null,null,null,null,"",null,null,null,null,null,null,null,null,"",null,null,"",null,null,null,""," "," ",null,null,null,null,null,null,null,null,null,null,null,null,null,null,null,null,null,null,null,null,null,null,null,null,null,null,null,null,null,null,null,null,null,null,null,null,null,null,null,null,null,null,null,null,null,null,null,null,null,"    "]
[null,null,null,null,null,null,null,null,null,null,null,null,null,null,null,null,null,"",null,null,null,null,null,null,null,null,"",null,null,"",null,null,null,""," "," ",null,null,null,null,null,null,null,null,null,null,null,null,null,null,null,null,null,null,null,null,null,null,null,null,null,null,null,null,null,null,null,null,null,null,null,null,null,null,null,null,null,null,null,null,null,null,null,null,null,"    "]
[null,null,null,null,null,null,null,null,null,null,null,null,null,null,null,null,null,"",null,null,null,null,null,null,null,null,"",null,null,"",null,null,null,""," "," ",null,null,null,null,null,null,null,null,null,null,null,null,null,null,null,null,null,null,null,null,null,null,null,null,null,null,null,null,null,null,null,null,null,null,null,null,null,null,null,null,null,null,null,null,null,null,null,null,null,"    "]
[null,null,null,null,null,null,null,null,null,null,null,null,null,null,null,null,null,"",null,null,null,null,null,null,null,null,"",null,null,{"$f":"IF(N74>0,\"Actual Earnings\",\"\")","v":""},null,null,null,""," ",{"$f":"B74&\" \"&D74","v":" "},null,null,null,null,null,null,null,null,null,null,null,null,null,null,null,null,null,null,null,null,null,null,null,null,null,null,null,null,null,null,null,null,null,null,null,null,null,null,null,null,null,null,null,null,null,null,null,null,null,{"$f":"CC74&\" \"&IF(S74=\"QC\",IF(CD74=\"Revocable\",\"(revocable)\",IF(CD74=\"Irrevocable\",\"(irrevocable)\",IF(CD74=\"\",\"\",\"\"))),\"\")&\" \"&IF(CE74>0,CHAR(10)&\"Contingent(s): \"&CE74,\"\")&\" \"&IF(S74=\"QC\",IF(CF74=\"Revocable\",\"(revocable)\",IF(CF74=\"Irrevocable\",\"(irrevocable)\",IF(CF74=\"\",\"\",\"\"))),\"\")&\" \"&IF(CG74>0,CHAR(10)&\"Trustee (minor): \"&CG74,\"\")","v":"    "}]
[null,null,null,null,null,null,null,null,null,null,null,null,null,null,null,null,null,{"$f":"IF(Q75>0,Q75,\"\")","v":""},null,null,null,null,null,null,null,null,{"$f":"IF(Y75>0,\"Canada\",\"\")","v":""},null,null,"",null,null,null,{"$f":"IF(AG75>0,\"Direct Claims Payments\",\"\")","v":""},{"$f":"IF(V75>0, \"Home\",\" \")","v":" "}," ",null,null,null,null,null,null,null,null,null,null,null,null,null,null,null,null,null,null,null,null,null,null,null,null,null,null,null,null,null,null,null,null,null,null,null,null,null,null,null,null,null,null,null,null,null,null,null,null,null,"    "]
[null,null,null,null,null,null,null,null,null,null,null,null,null,null,null,null,null,"",null,null,null,null,null,null,null,null,"",null,null,"",null,null,null,""," "," ",null,null,null,null,null,null,null,null,null,null,null,null,null,null,null,null,null,null,null,null,null,null,null,null,null,null,null,null,null,null,null,null,null,null,null,null,null,null,null,null,null,null,null,null,null,null,null,null,null,"    "]
[null,null,null,null,null,null,null,null,null,null,null,null,null,null,null,null,null,"",null,null,null,null,null,null,null,null,"",null,null,"",null,null,null,""," "," ",null,null,null,null,null,null,null,null,null,null,null,null,null,null,null,null,null,null,null,null,null,null,null,null,null,null,null,null,null,null,null,null,null,null,null,null,null,null,null,null,null,null,null,null,null,null,null,null,null,"    "]
[null,null,null,null,null,null,null,null,null,null,null,null,null,null,null,null,null,"",null,null,null,null,null,null,null,null,"",null,null,"",null,null,null,""," "," ",null,null,null,null,null,null,null,null,null,null,null,null,null,null,null,null,null,null,null,null,null,null,null,null,null,null,null,null,null,null,null,null,null,null,null,null,null,null,null,null,null,null,null,null,null,null,null,null,null,"    "]
[null,null,null,null,null,null,null,null,null,null,null,null,null,null,null,null,null,"",null,null,null,null,null,null,null,null,"",null,null,"",null,null,null,""," "," ",null,null,null,null,null,null,null,null,null,null,null,null,null,null,null,null,null,null,null,null,null,null,null,null,null,null,null,null,null,null,null,null,null,null,null,null,null,null,null,null,null,null,null,null,null,null,null,null,null,"    "]
[null,null,null,null,null,null,null,null,null,null,null,null,null,null,null,null,null,"",null,null,null,null,null,null,null,null,"",null,null,"",null,null,null,""," "," ",null,null,null,null,null,null,null,null,null,null,null,null,null,null,null,null,null,null,null,null,null,null,null,null,null,null,null,null,null,null,null,null,null,null,null,null,null,null,null,null,null,null,null,null,null,null,null,null,null,"    "]
[null,null,null,null,null,null,null,null,null,null,null,null,null,null,null,null,null,"",null,null,null,null,null,null,null,null,"",null,null,"",null,null,null,""," "," ",null,null,null,null,null,null,null,null,null,null,null,null,null,null,null,null,null,null,null,null,null,null,null,null,null,null,null,null,null,null,null,null,null,null,null,null,null,null,null,null,null,null,null,null,null,null,null,null,null,"    "]
[null,null,null,null,null,null,null,null,null,null,null,null,null,null,null,null,null,"",null,null,null,null,null,null,null,null,"",null,null,"",null,null,null,""," "," ",null,null,null,null,null,null,null,null,null,null,null,null,null,null,null,null,null,null,null,null,null,null,null,null,null,null,null,null,null,null,null,null,null,null,null,null,null,null,null,null,null,null,null,null,null,null,null,null,null,"    "]
[null,null,null,null,null,null,null,null,null,null,null,null,null,null,null,null,null,"",null,null,null,null,null,null,null,null,"",null,null,"",null,null,null,""," "," ",null,null,null,null,null,null,null,null,null,null,null,null,null,null,null,null,null,null,null,null,null,null,null,null,null,null,null,null,null,null,null,null,null,null,null,null,null,null,null,null,null,null,null,null,null,null,null,null,null,"    "]
[null,null,null,null,null,null,null,null,null,null,null,null,null,null,null,null,null,"",null,null,null,null,null,null,null,null,"",null,null,"",null,null,null,""," "," ",null,null,null,null,null,null,null,null,null,null,null,null,null,null,null,null,null,null,null,null,null,null,null,null,null,null,null,null,null,null,null,null,null,null,null,null,null,null,null,null,null,null,null,null,null,null,null,null,null,"    "]
[null,null,null,null,null,null,null,null,null,null,null,null,null,null,null,null,null,"",null,null,null,null,null,null,null,null,"",null,null,"",null,null,null,""," "," ",null,null,null,null,null,null,null,null,null,null,null,null,null,null,null,null,null,null,null,null,null,null,null,null,null,null,null,null,null,null,null,null,null,null,null,null,null,null,null,null,null,null,null,null,null,null,null,null,null,"    "]
[null,null,null,null,null,null,null,null,null,null,null,null,null,null,null,null,null,"",null,null,null,null,null,null,null,null,"",null,null,"",null,null,null,""," "," ",null,null,null,null,null,null,null,null,null,null,null,null,null,null,null,null,null,null,null,null,null,null,null,null,null,null,null,null,null,null,null,null,null,null,null,null,null,null,null,null,null,null,null,null,null,null,null,null,null,"    "]
[null,null,null,null,null,null,null,null,null,null,null,null,null,null,null,null,null,"",null,null,null,null,null,null,null,null,"",null,null,"",null,null,null,""," "," ",null,null,null,null,null,null,null,null,null,null,null,null,null,null,null,null,null,null,null,null,null,null,null,null,null,null,null,null,null,null,null,null,null,null,null,null,null,null,null,null,null,null,null,null,null,null,null,null,null,"    "]
[null,null,null,null,null,null,null,null,null,null,null,null,null,null,null,null,null,"",null,null,null,null,null,null,null,null,"",null,null,"",null,null,null,""," "," ",null,null,null,null,null,null,null,null,null,null,null,null,null,null,null,null,null,null,null,null,null,null,null,null,null,null,null,null,null,null,null,null,null,null,null,null,null,null,null,null,null,null,null,null,null,null,null,null,null,"    "]
[null,null,null,null,null,null,null,null,null,null,null,null,null,null,null,null,null,"",null,null,null,null,null,null,null,null,"",null,null,"",null,null,null,""," "," ",null,null,null,null,null,null,null,null,null,null,null,null,null,null,null,null,null,null,null,null,null,null,null,null,null,null,null,null,null,null,null,null,null,null,null,null,null,null,null,null,null,null,null,null,null,null,null,null,null,"    "]
[null,null,null,null,null,null,null,null,null,null,null,null,null,null,null,null,null,"",null,null,null,null,null,null,null,null,"",null,null,"",null,null,null,""," "," ",null,null,null,null,null,null,null,null,null,null,null,null,null,null,null,null,null,null,null,null,null,null,null,null,null,null,null,null,null,null,null,null,null,null,null,null,null,null,null,null,null,null,null,null,null,null,null,null,null,"    "]
[null,null,null,null,null,null,null,null,null,null,null,null,null,null,null,null,null,"",null,null,null,null,null,null,null,null,"",null,null,"",null,null,null,""," "," ",null,null,null,null,null,null,null,null,null,null,null,null,null,null,null,null,null,null,null,null,null,null,null,null,null,null,null,null,null,null,null,null,null,null,null,null,null,null,null,null,null,null,null,null,null,null,null,null,null,"    "]
[null,null,null,null,null,null,null,null,null,null,null,null,null,null,null,null,null,"",null,null,null,null,null,null,null,null,"",null,null,"",null,null,null,""," "," ",null,null,null,null,null,null,null,null,null,null,null,null,null,null,null,null,null,null,null,null,null,null,null,null,null,null,null,null,null,null,null,null,null,null,null,null,null,null,null,null,null,null,null,null,null,null,null,null,null,"    "]
[null,null,null,null,null,null,null,null,null,null,null,null,null,null,null,null,null,"",null,null,null,null,null,null,null,null,"",null,null,"",null,null,null,""," "," ",null,null,null,null,null,null,null,null,null,null,null,null,null,null,null,null,null,null,null,null,null,null,null,null,null,null,null,null,null,null,null,null,null,null,null,null,null,null,null,null,null,null,null,null,null,null,null,null,null,"    "]
[null,null,null,null,null,null,null,null,null,null,null,null,null,null,null,null,null,"",null,null,null,null,null,null,null,null,"",null,null,"",null,null,null,""," "," ",null,null,null,null,null,null,null,null,null,null,null,null,null,null,null,null,null,null,null,null,null,null,null,null,null,null,null,null,null,null,null,null,null,null,null,null,null,null,null,null,null,null,null,null,null,null,null,null,null,"    "]
[null,null,null,null,null,null,null,null,null,null,null,null,null,null,null,null,null,"",null,null,null,null,null,null,null,null,"",null,null,"",null,null,null,""," "," ",null,null,null,null,null,null,null,null,null,null,null,null,null,null,null,null,null,null,null,null,null,null,null,null,null,null,null,null,null,null,null,null,null,null,null,null,null,null,null,null,null,null,null,null,null,null,null,null,null,"    "]
[null,null,null,null,null,null,null,null,null,null,null,null,null,null,null,null,null,"",null,null,null,null,null,null,null,null,"",null,null,"",null,null,null,""," "," ",null,null,null,null,null,null,null,null,null,null,null,null,null,null,null,null,null,null,null,null,null,null,null,null,null,null,null,null,null,null,null,null,null,null,null,null,null,null,null,null,null,null,null,null,null,null,null,null,null,"    "]
[null,null,null,null,null,null,null,null,null,null,null,null,null,null,null,null,null,"",null,null,null,null,null,null,null,null,"",null,null,"",null,null,null,""," "," ",null,null,null,null,null,null,null,null,null,null,null,null,null,null,null,null,null,null,null,null,null,null,null,null,null,null,null,null,null,null,null,null,null,null,null,null,null,null,null,null,null,null,null,null,null,null,null,null,null,"    "]
[null,null,null,null,null,null,null,null,null,null,null,null,null,null,null,null,null,"",null,null,null,null,null,null,null,null,"",null,null,"",null,null,null,""," "," ",null,null,null,null,null,null,null,null,null,null,null,null,null,null,null,null,null,null,null,null,null,null,null,null,null,null,null,null,null,null,null,null,null,null,null,null,null,null,null,null,null,null,null,null,null,null,null,null,null,"    "]
[null,null,null,null,null,null,null,null,null,null,null,null,null,null,null,null,null,"",null,null,null,null,null,null,null,null,"",null,null,"",null,null,null,""," "," ",null,null,null,null,null,null,null,null,null,null,null,null,null,null,null,null,null,null,null,null,null,null,null,null,null,null,null,null,null,null,null,null,null,null,null,null,null,null,null,null,null,null,null,null,null,null,null,null,null,"    "]
[null,null,null,null,null,null,null,null,null,null,null,null,null,null,null,null,null,"",null,null,null,null,null,null,null,null,"",null,null,"",null,null,null,""," "," ",null,null,null,null,null,null,null,null,null,null,null,null,null,null,null,null,null,null,null,null,null,null,null,null,null,null,null,null,null,null,null,null,null,null,null,null,null,null,null,null,null,null,null,null,null,null,null,null,null,"    "]
[null,null,null,null,null,null,null,null,null,null,null,null,null,null,null,null,null,"",null,null,null,null,null,null,null,null,"",null,null,"",null,null,null,""," "," ",null,null,null,null,null,null,null,null,null,null,null,null,null,null,null,null,null,null,null,null,null,null,null,null,null,null,null,null,null,null,null,null,null,null,null,null,null,null,null,null,null,null,null,null,null,null,null,null,null,"    "]
[null,null,null,null,null,null,null,null,null,null,null,null,null,null,null,null,null,"",null,null,null,null,null,null,null,null,"",null,null,"",null,null,null,""," "," ",null,null,null,null,null,null,null,null,null,null,null,null,null,null,null,null,null,null,null,null,null,null,null,null,null,null,null,null,null,null,null,null,null,null,null,null,null,null,null,null,null,null,null,null,null,null,null,null,null,"    "]
[null,null,null,null,null,null,null,null,null,null,null,null,null,null,null,null,null,"",null,null,null,null,null,null,null,null,"",null,null,"",null,null,null,""," "," ",null,null,null,null,null,null,null,null,null,null,null,null,null,null,null,null,null,null,null,null,null,null,null,null,null,null,null,null,null,null,null,null,null,null,null,null,null,null,null,null,null,null,null,null,null,null,null,null,null,"    "]
[null,null,null,null,null,null,null,null,null,null,null,null,null,null,null,null,null,"",null,null,null,null,null,null,null,null,"",null,null,"",null,null,null,""," "," ",null,null,null,null,null,null,null,null,null,null,null,null,null,null,null,null,null,null,null,null,null,null,null,null,null,null,null,null,null,null,null,null,null,null,null,null,null,null,null,null,null,null,null,null,null,null,null,null,null,"    "]
[null,null,null,null,null,null,null,null,null,null,null,null,null,null,null,null,null,"",null,null,null,null,null,null,null,null,"",null,null,"",null,null,null,""," "," ",null,null,null,null,null,null,null,null,null,null,null,null,null,null,null,null,null,null,null,null,null,null,null,null,null,null,null,null,null,null,null,null,null,null,null,null,null,null,null,null,null,null,null,null,null,null,null,null,null,"    "]
[null,null,null,null,null,null,null,null,null,null,null,null,null,null,null,null,null,"",null,null,null,null,null,null,null,null,"",null,null,"",null,null,null,""," "," ",null,null,null,null,null,null,null,null,null,null,null,null,null,null,null,null,null,null,null,null,null,null,null,null,null,null,null,null,null,null,null,null,null,null,null,null,null,null,null,null,null,null,null,null,null,null,null,null,null,{"$f":"CC106&\" \"&IF(S106=\"QC\",IF(CD106=\"Revocable\",\"(revocable)\",IF(CD106=\"Irrevocable\",\"(irrevocable)\",IF(CD106=\"\",\"\",\"\"))),\"\")&\" \"&IF(CE106>0,CHAR(10)&\"Contingent(s): \"&CE106,\"\")&\" \"&IF(S106=\"QC\",IF(CF106=\"Revocable\",\"(revocable)\",IF(CF106=\"Irrevocable\",\"(irrevocable)\",IF(CF106=\"\",\"\",\"\"))),\"\")&\" \"&IF(CG106>0,CHAR(10)&\"Trustee (minor): \"&CG106,\"\")","v":"    "}]

{"sheet":"Simplified Loader (FOR COPY)","index":2,"n_rows":349,"n_cols":80,"rows_kept":349,"cut":false,"hidden":true,"merged":[[0,0,0,1],[0,22,0,24],[0,2,0,3],[0,4,0,5],[0,6,0,7]]}
["Company Name:",null,{"$f":"IF('Simplified Loader'!C1:R1>0,'Simplified Loader'!C1:R1,\"\")","v":""},null,null,null,null,null,null,null,null,null,null,null,null,null,"Hidden",null,null,null,null,null,"Banking Information",null,null,"Hidden","Hidden","Hidden"]
["ex: 1234567890","ex: John","H","ex: Smith","ex: 001","ex: A","A","(YYYY-MM-DD)","(YYYY-MM-DD)","ex: ON","ex: ON","Male/Female","Yes/No","Single/Family","English/French","Yes/No","Actual Earnings","ex: Annually","ex: 50000","ex: 40","Yes/No","Yes/No","ex: 123","ex: 12345","ex: 1234567890","Direct Claims Payments","Home","John Smith","ex: 123 Any St.","ex: 7A","ex: Any Town","ex: ON","ex: A1B 2C3","ex: Canada","ex: john.smith@hotmail.com","ex: Jane","ex: Smith","(YYYY/MM/DD)","Male/Female","Single/Family","Single/Family","ex: Insure Inc.","Yes/No","ex: Jason","ex: Smith","(YYYY/MM/DD)","Male/Female","Yes/No","Yes/No","ex: Jane","ex: Smith","(YYYY/MM/DD)","Female/Male","Yes/No","Yes/No","ex: Jim","ex: Smith","(YYYY/MM/DD)","Male/Female","Yes/No","Yes/No","ex: Janet","ex: Smith","(YYYY/MM/DD)","Female/Male","Yes/No","Yes/No","ex: Jasmine","ex: Smith","(YYYY/MM/DD)","Female/Male","Yes/No","Yes/No","ex: Jack","ex: Smith","(YYYY/MM/DD)","Male/Female","Yes/No","Yes/No","ex: Jane Smith - Spouse 100%"]
["Member ID","First Name","Middle Initial","Last Name","Location ","Class","Plan","Birth Date","Employment Date","Residence Code","Work Residence Code","Gender","Smoker Status","Dependent Status","Member Language","Tax exempted","Salary Type 1","Salary Basis 1","Salary Amount 1 ","Hours Per Week 1","EHC Refusal","Dental Refusal","Institution Number","Transit Number","Account Number","Type","Address Type","Addressee","Street Address","Suite","City","Province/State","Postal/Zip Code","Country","Email address","Spouse First Name","Spouse Last Name","Spouse Date Of Birth","Spouse Gender","EHC COB","Dental COB","Other Carrier Name","Spouse Smoker Status","Child 1 First Name","Child 1 Last Name","Child 1 Date Of Birth","Child 1 Gender","Student Flag 1","Disabled Status 1","Child 2 First Name","Child 2 Last Name","Child 2 Date Of Birth","Child 2 Gender","Student Flag 2","Disabled Status 2","Child 3 First Name","Child 3 Last Name","Child 3 Date Of Birth","Child 3 Gender","Student Flag 3","Disabled Status 3","Child 4 First Name","Child 4 Last Name","Child 4 Date Of Birth","Child 4 Gender","Student Flag 4","Disabled Status 4","Child 5 First Name","Child 5 Last Name","Child 5 Date Of Birth","Child 5 Gender","Student Flag 5","Disabled Status 5","Child 6 First Name","Child 6 Last Name","Child 6 Date Of Birth","Child 6 Gender","Student Flag 6","Disabled Status 6","Beneficiary Information"]
[{"$f":"IF('Simplified Loader'!A10>0,'Simplified Loader'!A10,\"\")","v":""},{"$f":"IF('Simplified Loader'!B10>0,'Simplified Loader'!B10,\"\")","v":""},{"$f":"IF('Simplified Loader'!C10>0,'Simplified Loader'!C10,\"\")","v":""},{"$f":"IF('Simplified Loader'!D10>0,'Simplified Loader'!D10,\"\")","v":""},{"$f":"IF('Simplified Loader'!P10>0,TEXT('Simplified Loader'!P10,\"000\"),\"\")","v":""},{"$f":"IF('Simplified Loader'!Q10>0,'Simplified Loader'!Q10,\"\")","v":""},{"$f":"IF('Simplified Loader'!R10>0,'Simplified Loader'!R10,\"\")","v":""},{"$f":"IF('Simplified Loader'!F10>0,DATEVALUE(TEXT('Simplified Loader'!F10,\"yyyy-mm-dd\")),\"\")","v":""},{"$f":"IF('Simplified Loader'!L10>0,DATEVALUE(TEXT('Simplified Loader'!L10,\"yyyy-mm-dd\")),\"\")","v":""},{"$f":"IF('Simplified Loader'!Y10>0,'Simplified Loader'!Y10,\"\")","v":""},{"$f":"IF('Simplified Loader'!T10>0,'Simplified Loader'!T10,\"\")","v":""},{"$f":"IF('Simplified Loader'!G10=\"Male\",\"Male\",IF('Simplified Loader'!G10=\"Female\",\"Female\",IF('Simplified Loader'!G10=\"M\",\"Male\",IF('Simplified Loader'!G10=\"F\",\"Female\",\"\"))))","v":""},{"$f":"IF('Simplified Loader'!U10=\"Yes\",\"Yes\",IF('Simplified Loader'!U10=\"No\",\"No\",IF('Simplified Loader'!U10=\"Y\",\"Yes\",IF('Simplified Loader'!U10=\"N\",\"No\",\"\"))))","v":""},{"$f":"IF('Simplified Loader'!I10=\"Single\",\"Single\",IF('Simplified Loader'!I10=\"Family\",\"Family\",IF('Simplified Loader'!I10=\"Waive\",\"Family\",IF('Simplified Loader'!I10=\"Single Parent\",\"Family\",IF('Simplified Loader'!I10=\"Couple\",\"Family\",IF('Simplified Loader'!I10=\"In force\",\"Family\",IF('Simplified Loader'!I10=\"Applies\",\"Family\",IF('Simplified Loader'!I10=\"Applicable\",\"Family\",\"\"))))))))","v":""},{"$f":"IF('Simplified Loader'!AC10=\"English\",\"English\",IF('Simplified Loader'!AC10=\"French\",\"French\",IF('Simplified Loader'!AC10=\"E\",\"English\",IF('Simplified Loader'!AC10=\"F\",\"French\",\"\"))))","v":""},{"$f":"IF('Simplified Loader'!AB10=\"Yes\",\"Yes\",IF('Simplified Loader'!AB10=\"No\",\"No\",IF('Simplified Loader'!AB10=\"Y\",\"Yes\",IF('Simplified Loader'!AB10=\"N\",\"No\",\"\"))))","v":""},{"$f":"IF('Simplified Loader'!AD10>0,'Simplified Loader'!AD10,\"\")","v":""},{"$f":"IF('Simplified Loader'!M10>0,'Simplified Loader'!M10,\"\")","v":""},{"$f":"IF('Simplified Loader'!N10>0,'Simplified Loader'!N10,\"\")","v":""},{"$f":"IF('Simplified Loader'!O10>0,'Simplified Loader'!O10,\"\")","v":""},{"$f":"IF('Simplified Loader'!I10=\"Waive\",\"Yes\",\"\")","v":""},{"$f":"IF('Simplified Loader'!I10=\"Waive\",\"Yes\",\"\")","v":""},{"$f":"IF('Simplified Loader'!AE10>0,'Simplified Loader'!AE10,\"\")","v":""},{"$f":"IF('Simplified Loader'!AF10>0,'Simplified Loader'!AF10,\"\")","v":""},{"$f":"IF('Simplified Loader'!AG10>0,'Simplified Loader'!AG10,\"\")","v":""},{"$f":"IF('Simplified Loader'!AH10>0,'Simplified Loader'!AH10,\"\")","v":""},{"$f":"IF('Simplified Loader'!AI10>0,'Simplified Loader'!AI10,\"\")","v":" "},{"$f":"IF('Simplified Loader'!AJ10>0,'Simplified Loader'!AJ10,\"\")","v":" "},{"$f":"IF('Simplified Loader'!W10>0,'Simplified Loader'!W10&\" \",\"\")&IF('Simplified Loader'!V10>0,'Simplified Loader'!V10,\"\")","v":""},null,{"$f":"IF('Simplified Loader'!X10>0,'Simplified Loader'!X10,\"\")","v":""},{"$f":"IF('Simplified Loader'!Y10>0,'Simplified Loader'!Y10,\"\")","v":""},{"$f":"IF('Simplified Loader'!Z10>0,'Simplified Loader'!Z10,\"\")","v":""},{"$f":"IF('Simplified Loader'!AA10>0,'Simplified Loader'!AA10,\"\")","v":""},{"$f":"IF('Simplified Loader'!E10>0,'Simplified Loader'!E10,\"\")","v":""},{"$f":"IF('Simplified Loader'!AK10>0,'Simplified Loader'!AK10,\"\")","v":""},{"$f":"IF('Simplified Loader'!AL10>0,'Simplified Loader'!AL10,\"\")","v":""},{"$f":"IF('Simplified Loader'!AM10>0,'Simplified Loader'!AM10,\"\")","v":""},{"$f":"IF('Simplified Loader'!AN10=\"Male\",\"Male\",IF('Simplified Loader'!AN10=\"Female\",\"Female\",IF('Simplified Loader'!AN10=\"M\",\"Male\",IF('Simplified Loader'!AN10=\"F\",\"Female\",\"\"))))","v":""},{"$f":"IF('Simplified Loader'!AO10=\"Single\",\"Single\",IF('Simplified Loader'!AO10=\"Family\",\"Family\",IF('Simplified Loader'!AO10=\"S\",\"Single\",IF('Simplified Loader'!AO10=\"F\",\"Family\",\"\"))))","v":""},{"$f":"IF('Simplified Loader'!AP10=\"Single\",\"Single\",IF('Simplified Loader'!AP10=\"Family\",\"Family\",IF('Simplified Loader'!AP10=\"S\",\"Single\",IF('Simplified Loader'!AP10=\"F\",\"Family\",\"\"))))","v":""},{"$f":"IF('Simplified Loader'!AQ10>0,'Simplified Loader'!AQ10,\"\")","v":""},{"$f":"IF('Simplified Loader'!AR10=\"Yes\",\"Yes\",IF('Simplified Loader'!AR10=\"No\",\"No\",IF('Simplified Loader'!AR10=\"Y\",\"Yes\",IF('Simplified Loader'!AR10=\"N\",\"No\",\"\"))))","v":""},{"$f":"IF('Simplified Loader'!AS10>0,'Simplified Loader'!AS10,\"\")","v":""},{"$f":"IF('Simplified Loader'!AT10>0,'Simplified Loader'!AT10,\"\")","v":""},{"$f":"IF('Simplified Loader'!AU10>0,'Simplified Loader'!AU10,\"\")","v":""},{"$f":"IF('Simplified Loader'!AV10=\"Male\",\"Male\",IF('Simplified Loader'!AV10=\"Female\",\"Female\",IF('Simplified Loader'!AV10=\"M\",\"Male\",IF('Simplified Loader'!AV10=\"F\",\"Female\",\"\"))))","v":""},{"$f":"IF('Simplified Loader'!AW10=\"Yes\",\"Yes\",IF('Simplified Loader'!AW10=\"No\",\"No\",IF('Simplified Loader'!AW10=\"Y\",\"Yes\",IF('Simplified Loader'!AW10=\"N\",\"No\",\"\"))))","v":""},{"$f":"IF('Simplified Loader'!AX10=\"Yes\",\"Yes\",IF('Simplified Loader'!AX10=\"No\",\"No\",IF('Simplified Loader'!AX10=\"Y\",\"Yes\",IF('Simplified Loader'!AX10=\"N\",\"No\",\"\"))))","v":""},{"$f":"IF('Simplified Loader'!AY10>0,'Simplified Loader'!AY10,\"\")","v":""},{"$f":"IF('Simplified Loader'!AZ10>0,'Simplified Loader'!AZ10,\"\")","v":""},{"$f":"IF('Simplified Loader'!BA10>0,'Simplified Loader'!BA10,\"\")","v":""},{"$f":"IF('Simplified Loader'!BB10=\"Male\",\"Male\",IF('Simplified Loader'!BB10=\"Female\",\"Female\",IF('Simplified Loader'!BB10=\"M\",\"Male\",IF('Simplified Loader'!BB10=\"F\",\"Female\",\"\"))))","v":""},{"$f":"IF('Simplified Loader'!BC10=\"Yes\",\"Yes\",IF('Simplified Loader'!BC10=\"No\",\"No\",IF('Simplified Loader'!BC10=\"Y\",\"Yes\",IF('Simplified Loader'!BC10=\"N\",\"No\",\"\"))))","v":""},{"$f":"IF('Simplified Loader'!BD10=\"Yes\",\"Yes\",IF('Simplified Loader'!BD10=\"No\",\"No\",IF('Simplified Loader'!BD10=\"Y\",\"Yes\",IF('Simplified Loader'!BD10=\"N\",\"No\",\"\"))))","v":""},{"$f":"IF('Simplified Loader'!BE10>0,'Simplified Loader'!BE10,\"\")","v":""},{"$f":"IF('Simplified Loader'!BF10>0,'Simplified Loader'!BF10,\"\")","v":""},{"$f":"IF('Simplified Loader'!BG10>0,'Simplified Loader'!BG10,\"\")","v":""},{"$f":"IF('Simplified Loader'!BH10=\"Male\",\"Male\",IF('Simplified Loader'!BH10=\"Female\",\"Female\",IF('Simplified Loader'!BH10=\"M\",\"Male\",IF('Simplified Loader'!BH10=\"F\",\"Female\",\"\"))))","v":""},{"$f":"IF('Simplified Loader'!BI10=\"Yes\",\"Yes\",IF('Simplified Loader'!BI10=\"No\",\"No\",IF('Simplified Loader'!BI10=\"Y\",\"Yes\",IF('Simplified Loader'!BI10=\"N\",\"No\",\"\"))))","v":""},{"$f":"IF('Simplified Loader'!BJ10=\"Yes\",\"Yes\",IF('Simplified Loader'!BJ10=\"No\",\"No\",IF('Simplified Loader'!BJ10=\"Y\",\"Yes\",IF('Simplified Loader'!BJ10=\"N\",\"No\",\"\"))))","v":""},{"$f":"IF('Simplified Loader'!BK10>0,'Simplified Loader'!BK10,\"\")","v":""},{"$f":"IF('Simplified Loader'!BL10>0,'Simplified Loader'!BL10,\"\")","v":""},{"$f":"IF('Simplified Loader'!BM10>0,'Simplified Loader'!BM10,\"\")","v":""},{"$f":"IF('Simplified Loader'!BN10=\"Male\",\"Male\",IF('Simplified Loader'!BN10=\"Female\",\"Female\",IF('Simplified Loader'!BN10=\"M\",\"Male\",IF('Simplified Loader'!BN10=\"F\",\"Female\",\"\"))))","v":""},{"$f":"IF('Simplified Loader'!BO10=\"Yes\",\"Yes\",IF('Simplified Loader'!BO10=\"No\",\"No\",IF('Simplified Loader'!BO10=\"Y\",\"Yes\",IF('Simplified Loader'!BO10=\"N\",\"No\",\"\"))))","v":""},{"$f":"IF('Simplified Loader'!BP10=\"Yes\",\"Yes\",IF('Simplified Loader'!BP10=\"No\",\"No\",IF('Simplified Loader'!BP10=\"Y\",\"Yes\",IF('Simplified Loader'!BP10=\"N\",\"No\",\"\"))))","v":""},{"$f":"IF('Simplified Loader'!BQ10>0,'Simplified Loader'!BQ10,\"\")","v":""},{"$f":"IF('Simplified Loader'!BR10>0,'Simplified Loader'!BR10,\"\")","v":""},{"$f":"IF('Simplified Loader'!BS10>0,'Simplified Loader'!BS10,\"\")","v":""},{"$f":"IF('Simplified Loader'!BT10=\"Male\",\"Male\",IF('Simplified Loader'!BT10=\"Female\",\"Female\",IF('Simplified Loader'!BT10=\"M\",\"Male\",IF('Simplified Loader'!BT10=\"F\",\"Female\",\"\"))))","v":""},{"$f":"IF('Simplified Loader'!BU10=\"Yes\",\"Yes\",IF('Simplified Loader'!BU10=\"No\",\"No\",IF('Simplified Loader'!BU10=\"Y\",\"Yes\",IF('Simplified Loader'!BU10=\"N\",\"No\",\"\"))))","v":""},{"$f":"IF('Simplified Loader'!BV10=\"Yes\",\"Yes\",IF('Simplified Loader'!BV10=\"No\",\"No\",IF('Simplified Loader'!BV10=\"Y\",\"Yes\",IF('Simplified Loader'!BV10=\"N\",\"No\",\"\"))))","v":""},{"$f":"IF('Simplified Loader'!BW10>0,'Simplified Loader'!BW10,\"\")","v":""},{"$f":"IF('Simplified Loader'!BX10>0,'Simplified Loader'!BX10,\"\")","v":""},{"$f":"IF('Simplified Loader'!BY10>0,'Simplified Loader'!BY10,\"\")","v":""},{"$f":"IF('Simplified Loader'!BZ10=\"Male\",\"Male\",IF('Simplified Loader'!BZ10=\"Female\",\"Female\",IF('Simplified Loader'!BZ10=\"M\",\"Male\",IF('Simplified Loader'!BZ10=\"F\",\"Female\",\"\"))))","v":""},{"$f":"IF('Simplified Loader'!CA10=\"Yes\",\"Yes\",IF('Simplified Loader'!CA10=\"No\",\"No\",IF('Simplified Loader'!CA10=\"Y\",\"Yes\",IF('Simplified Loader'!CA10=\"N\",\"No\",\"\"))))","v":""},{"$f":"IF('Simplified Loader'!CB10=\"Yes\",\"Yes\",IF('Simplified Loader'!CB10=\"No\",\"No\",IF('Simplified Loader'!CB10=\"Y\",\"Yes\",IF('Simplified Loader'!CB10=\"N\",\"No\",\"\"))))","v":""},{"$f":"IF('Simplified Loader'!CH10>0,'Simplified Loader'!CH10,\"\")","v":""}]
[{"$f":"IF('Simplified Loader'!A11>0,'Simplified Loader'!A11,\"\")","v":""},{"$f":"IF('Simplified Loader'!B11>0,'Simplified Loader'!B11,\"\")","v":""},{"$f":"IF('Simplified Loader'!C11>0,'Simplified Loader'!C11,\"\")","v":""},{"$f":"IF('Simplified Loader'!D11>0,'Simplified Loader'!D11,\"\")","v":""},{"$f":"IF('Simplified Loader'!P11>0,TEXT('Simplified Loader'!P11,\"000\"),\"\")","v":""},{"$f":"IF('Simplified Loader'!Q11>0,'Simplified Loader'!Q11,\"\")","v":""},{"$f":"IF('Simplified Loader'!R11>0,'Simplified Loader'!R11,\"\")","v":""},{"$f":"IF('Simplified Loader'!F11>0,DATEVALUE(TEXT('Simplified Loader'!F11,\"yyyy-mm-dd\")),\"\")","v":""},{"$f":"IF('Simplified Loader'!L11>0,DATEVALUE(TEXT('Simplified Loader'!L11,\"yyyy-mm-dd\")),\"\")","v":""},{"$f":"IF('Simplified Loader'!Y11>0,'Simplified Loader'!Y11,\"\")","v":""},{"$f":"IF('Simplified Loader'!T11>0,'Simplified Loader'!T11,\"\")","v":""},{"$f":"IF('Simplified Loader'!G11=\"Male\",\"Male\",IF('Simplified Loader'!G11=\"Female\",\"Female\",IF('Simplified Loader'!G11=\"M\",\"Male\",IF('Simplified Loader'!G11=\"F\",\"Female\",\"\"))))","v":""},{"$f":"IF('Simplified Loader'!U11=\"Yes\",\"Yes\",IF('Simplified Loader'!U11=\"No\",\"No\",IF('Simplified Loader'!U11=\"Y\",\"Yes\",IF('Simplified Loader'!U11=\"N\",\"No\",\"\"))))","v":""},{"$f":"IF('Simplified Loader'!I11=\"Single\",\"Single\",IF('Simplified Loader'!I11=\"Family\",\"Family\",IF('Simplified Loader'!I11=\"Waive\",\"Family\",IF('Simplified Loader'!I11=\"Single Parent\",\"Family\",IF('Simplified Loader'!I11=\"Couple\",\"Family\",IF('Simplified Loader'!I11=\"In force\",\"Family\",IF('Simplified Loader'!I11=\"Applies\",\"Family\",IF('Simplified Loader'!I11=\"Applicable\",\"Family\",\"\"))))))))","v":""},{"$f":"IF('Simplified Loader'!AC11=\"English\",\"English\",IF('Simplified Loader'!AC11=\"French\",\"French\",IF('Simplified Loader'!AC11=\"E\",\"English\",IF('Simplified Loader'!AC11=\"F\",\"French\",\"\"))))","v":""},{"$f":"IF('Simplified Loader'!AB11=\"Yes\",\"Yes\",IF('Simplified Loader'!AB11=\"No\",\"No\",IF('Simplified Loader'!AB11=\"Y\",\"Yes\",IF('Simplified Loader'!AB11=\"N\",\"No\",\"\"))))","v":""},{"$f":"IF('Simplified Loader'!AD11>0,'Simplified Loader'!AD11,\"\")","v":""},{"$f":"IF('Simplified Loader'!M11>0,'Simplified Loader'!M11,\"\")","v":""},{"$f":"IF('Simplified Loader'!N11>0,'Simplified Loader'!N11,\"\")","v":""},{"$f":"IF('Simplified Loader'!O11>0,'Simplified Loader'!O11,\"\")","v":""},{"$f":"IF('Simplified Loader'!I11=\"Waive\",\"Yes\",\"\")","v":""},{"$f":"IF('Simplified Loader'!I11=\"Waive\",\"Yes\",\"\")","v":""},{"$f":"IF('Simplified Loader'!AE11>0,'Simplified Loader'!AE11,\"\")","v":""},{"$f":"IF('Simplified Loader'!AF11>0,'Simplified Loader'!AF11,\"\")","v":""},{"$f":"IF('Simplified Loader'!AG11>0,'Simplified Loader'!AG11,\"\")","v":""},{"$f":"IF('Simplified Loader'!AH11>0,'Simplified Loader'!AH11,\"\")","v":""},{"$f":"IF('Simplified Loader'!AI11>0,'Simplified Loader'!AI11,\"\")","v":" "},{"$f":"IF('Simplified Loader'!AJ11>0,'Simplified Loader'!AJ11,\"\")","v":" "},{"$f":"IF('Simplified Loader'!W11>0,'Simplified Loader'!W11&\" \",\"\")&IF('Simplified Loader'!V11>0,'Simplified Loader'!V11,\"\")","v":""},null,{"$f":"IF('Simplified Loader'!X11>0,'Simplified Loader'!X11,\"\")","v":""},{"$f":"IF('Simplified Loader'!Y11>0,'Simplified Loader'!Y11,\"\")","v":""},{"$f":"IF('Simplified Loader'!Z11>0,'Simplified Loader'!Z11,\"\")","v":""},{"$f":"IF('Simplified Loader'!AA11>0,'Simplified Loader'!AA11,\"\")","v":""},{"$f":"IF('Simplified Loader'!E11>0,'Simplified Loader'!E11,\"\")","v":""},{"$f":"IF('Simplified Loader'!AK11>0,'Simplified Loader'!AK11,\"\")","v":""},{"$f":"IF('Simplified Loader'!AL11>0,'Simplified Loader'!AL11,\"\")","v":""},{"$f":"IF('Simplified Loader'!AM11>0,'Simplified Loader'!AM11,\"\")","v":""},{"$f":"IF('Simplified Loader'!AN11=\"Male\",\"Male\",IF('Simplified Loader'!AN11=\"Female\",\"Female\",IF('Simplified Loader'!AN11=\"M\",\"Male\",IF('Simplified Loader'!AN11=\"F\",\"Female\",\"\"))))","v":""},{"$f":"IF('Simplified Loader'!AO11=\"Single\",\"Single\",IF('Simplified Loader'!AO11=\"Family\",\"Family\",IF('Simplified Loader'!AO11=\"S\",\"Single\",IF('Simplified Loader'!AO11=\"F\",\"Family\",\"\"))))","v":""},{"$f":"IF('Simplified Loader'!AP11=\"Single\",\"Single\",IF('Simplified Loader'!AP11=\"Family\",\"Family\",IF('Simplified Loader'!AP11=\"S\",\"Single\",IF('Simplified Loader'!AP11=\"F\",\"Family\",\"\"))))","v":""},{"$f":"IF('Simplified Loader'!AQ11>0,'Simplified Loader'!AQ11,\"\")","v":""},{"$f":"IF('Simplified Loader'!AR11=\"Yes\",\"Yes\",IF('Simplified Loader'!AR11=\"No\",\"No\",IF('Simplified Loader'!AR11=\"Y\",\"Yes\",IF('Simplified Loader'!AR11=\"N\",\"No\",\"\"))))","v":""},{"$f":"IF('Simplified Loader'!AS11>0,'Simplified Loader'!AS11,\"\")","v":""},{"$f":"IF('Simplified Loader'!AT11>0,'Simplified Loader'!AT11,\"\")","v":""},{"$f":"IF('Simplified Loader'!AU11>0,'Simplified Loader'!AU11,\"\")","v":""},{"$f":"IF('Simplified Loader'!AV11=\"Male\",\"Male\",IF('Simplified Loader'!AV11=\"Female\",\"Female\",IF('Simplified Loader'!AV11=\"M\",\"Male\",IF('Simplified Loader'!AV11=\"F\",\"Female\",\"\"))))","v":""},{"$f":"IF('Simplified Loader'!AW11=\"Yes\",\"Yes\",IF('Simplified Loader'!AW11=\"No\",\"No\",IF('Simplified Loader'!AW11=\"Y\",\"Yes\",IF('Simplified Loader'!AW11=\"N\",\"No\",\"\"))))","v":""},{"$f":"IF('Simplified Loader'!AX11=\"Yes\",\"Yes\",IF('Simplified Loader'!AX11=\"No\",\"No\",IF('Simplified Loader'!AX11=\"Y\",\"Yes\",IF('Simplified Loader'!AX11=\"N\",\"No\",\"\"))))","v":""},{"$f":"IF('Simplified Loader'!AY11>0,'Simplified Loader'!AY11,\"\")","v":""},{"$f":"IF('Simplified Loader'!AZ11>0,'Simplified Loader'!AZ11,\"\")","v":""},{"$f":"IF('Simplified Loader'!BA11>0,'Simplified Loader'!BA11,\"\")","v":""},{"$f":"IF('Simplified Loader'!BB11=\"Male\",\"Male\",IF('Simplified Loader'!BB11=\"Female\",\"Female\",IF('Simplified Loader'!BB11=\"M\",\"Male\",IF('Simplified Loader'!BB11=\"F\",\"Female\",\"\"))))","v":""},{"$f":"IF('Simplified Loader'!BC11=\"Yes\",\"Yes\",IF('Simplified Loader'!BC11=\"No\",\"No\",IF('Simplified Loader'!BC11=\"Y\",\"Yes\",IF('Simplified Loader'!BC11=\"N\",\"No\",\"\"))))","v":""},{"$f":"IF('Simplified Loader'!BD11=\"Yes\",\"Yes\",IF('Simplified Loader'!BD11=\"No\",\"No\",IF('Simplified Loader'!BD11=\"Y\",\"Yes\",IF('Simplified Loader'!BD11=\"N\",\"No\",\"\"))))","v":""},{"$f":"IF('Simplified Loader'!BE11>0,'Simplified Loader'!BE11,\"\")","v":""},{"$f":"IF('Simplified Loader'!BF11>0,'Simplified Loader'!BF11,\"\")","v":""},{"$f":"IF('Simplified Loader'!BG11>0,'Simplified Loader'!BG11,\"\")","v":""},{"$f":"IF('Simplified Loader'!BH11=\"Male\",\"Male\",IF('Simplified Loader'!BH11=\"Female\",\"Female\",IF('Simplified Loader'!BH11=\"M\",\"Male\",IF('Simplified Loader'!BH11=\"F\",\"Female\",\"\"))))","v":""},{"$f":"IF('Simplified Loader'!BI11=\"Yes\",\"Yes\",IF('Simplified Loader'!BI11=\"No\",\"No\",IF('Simplified Loader'!BI11=\"Y\",\"Yes\",IF('Simplified Loader'!BI11=\"N\",\"No\",\"\"))))","v":""},{"$f":"IF('Simplified Loader'!BJ11=\"Yes\",\"Yes\",IF('Simplified Loader'!BJ11=\"No\",\"No\",IF('Simplified Loader'!BJ11=\"Y\",\"Yes\",IF('Simplified Loader'!BJ11=\"N\",\"No\",\"\"))))","v":""},{"$f":"IF('Simplified Loader'!BK11>0,'Simplified Loader'!BK11,\"\")","v":""},{"$f":"IF('Simplified Loader'!BL11>0,'Simplified Loader'!BL11,\"\")","v":""},{"$f":"IF('Simplified Loader'!BM11>0,'Simplified Loader'!BM11,\"\")","v":""},{"$f":"IF('Simplified Loader'!BN11=\"Male\",\"Male\",IF('Simplified Loader'!BN11=\"Female\",\"Female\",IF('Simplified Loader'!BN11=\"M\",\"Male\",IF('Simplified Loader'!BN11=\"F\",\"Female\",\"\"))))","v":""},{"$f":"IF('Simplified Loader'!BO11=\"Yes\",\"Yes\",IF('Simplified Loader'!BO11=\"No\",\"No\",IF('Simplified Loader'!BO11=\"Y\",\"Yes\",IF('Simplified Loader'!BO11=\"N\",\"No\",\"\"))))","v":""},{"$f":"IF('Simplified Loader'!BP11=\"Yes\",\"Yes\",IF('Simplified Loader'!BP11=\"No\",\"No\",IF('Simplified Loader'!BP11=\"Y\",\"Yes\",IF('Simplified Loader'!BP11=\"N\",\"No\",\"\"))))","v":""},{"$f":"IF('Simplified Loader'!BQ11>0,'Simplified Loader'!BQ11,\"\")","v":""},{"$f":"IF('Simplified Loader'!BR11>0,'Simplified Loader'!BR11,\"\")","v":""},{"$f":"IF('Simplified Loader'!BS11>0,'Simplified Loader'!BS11,\"\")","v":""},{"$f":"IF('Simplified Loader'!BT11=\"Male\",\"Male\",IF('Simplified Loader'!BT11=\"Female\",\"Female\",IF('Simplified Loader'!BT11=\"M\",\"Male\",IF('Simplified Loader'!BT11=\"F\",\"Female\",\"\"))))","v":""},{"$f":"IF('Simplified Loader'!BU11=\"Yes\",\"Yes\",IF('Simplified Loader'!BU11=\"No\",\"No\",IF('Simplified Loader'!BU11=\"Y\",\"Yes\",IF('Simplified Loader'!BU11=\"N\",\"No\",\"\"))))","v":""},{"$f":"IF('Simplified Loader'!BV11=\"Yes\",\"Yes\",IF('Simplified Loader'!BV11=\"No\",\"No\",IF('Simplified Loader'!BV11=\"Y\",\"Yes\",IF('Simplified Loader'!BV11=\"N\",\"No\",\"\"))))","v":""},{"$f":"IF('Simplified Loader'!BW11>0,'Simplified Loader'!BW11,\"\")","v":""},{"$f":"IF('Simplified Loader'!BX11>0,'Simplified Loader'!BX11,\"\")","v":""},{"$f":"IF('Simplified Loader'!BY11>0,'Simplified Loader'!BY11,\"\")","v":""},{"$f":"IF('Simplified Loader'!BZ11=\"Male\",\"Male\",IF('Simplified Loader'!BZ11=\"Female\",\"Female\",IF('Simplified Loader'!BZ11=\"M\",\"Male\",IF('Simplified Loader'!BZ11=\"F\",\"Female\",\"\"))))","v":""},{"$f":"IF('Simplified Loader'!CA11=\"Yes\",\"Yes\",IF('Simplified Loader'!CA11=\"No\",\"No\",IF('Simplified Loader'!CA11=\"Y\",\"Yes\",IF('Simplified Loader'!CA11=\"N\",\"No\",\"\"))))","v":""},{"$f":"IF('Simplified Loader'!CB11=\"Yes\",\"Yes\",IF('Simplified Loader'!CB11=\"No\",\"No\",IF('Simplified Loader'!CB11=\"Y\",\"Yes\",IF('Simplified Loader'!CB11=\"N\",\"No\",\"\"))))","v":""},{"$f":"IF('Simplified Loader'!CH11>0,'Simplified Loader'!CH11,\"\")","v":""}]
[{"$f":"IF('Simplified Loader'!A12>0,'Simplified Loader'!A12,\"\")","v":""},{"$f":"IF('Simplified Loader'!B12>0,'Simplified Loader'!B12,\"\")","v":""},{"$f":"IF('Simplified Loader'!C12>0,'Simplified Loader'!C12,\"\")","v":""},{"$f":"IF('Simplified Loader'!D12>0,'Simplified Loader'!D12,\"\")","v":""},{"$f":"IF('Simplified Loader'!P12>0,TEXT('Simplified Loader'!P12,\"000\"),\"\")","v":""},{"$f":"IF('Simplified Loader'!Q12>0,'Simplified Loader'!Q12,\"\")","v":""},{"$f":"IF('Simplified Loader'!R12>0,'Simplified Loader'!R12,\"\")","v":""},{"$f":"IF('Simplified Loader'!F12>0,DATEVALUE(TEXT('Simplified Loader'!F12,\"yyyy-mm-dd\")),\"\")","v":""},{"$f":"IF('Simplified Loader'!L12>0,DATEVALUE(TEXT('Simplified Loader'!L12,\"yyyy-mm-dd\")),\"\")","v":""},{"$f":"IF('Simplified Loader'!Y12>0,'Simplified Loader'!Y12,\"\")","v":""},{"$f":"IF('Simplified Loader'!T12>0,'Simplified Loader'!T12,\"\")","v":""},{"$f":"IF('Simplified Loader'!G12=\"Male\",\"Male\",IF('Simplified Loader'!G12=\"Female\",\"Female\",IF('Simplified Loader'!G12=\"M\",\"Male\",IF('Simplified Loader'!G12=\"F\",\"Female\",\"\"))))","v":""},{"$f":"IF('Simplified Loader'!U12=\"Yes\",\"Yes\",IF('Simplified Loader'!U12=\"No\",\"No\",IF('Simplified Loader'!U12=\"Y\",\"Yes\",IF('Simplified Loader'!U12=\"N\",\"No\",\"\"))))","v":""},{"$f":"IF('Simplified Loader'!I12=\"Single\",\"Single\",IF('Simplified Loader'!I12=\"Family\",\"Family\",IF('Simplified Loader'!I12=\"Waive\",\"Family\",IF('Simplified Loader'!I12=\"Single Parent\",\"Family\",IF('Simplified Loader'!I12=\"Couple\",\"Family\",IF('Simplified Loader'!I12=\"In force\",\"Family\",IF('Simplified Loader'!I12=\"Applies\",\"Family\",IF('Simplified Loader'!I12=\"Applicable\",\"Family\",\"\"))))))))","v":""},{"$f":"IF('Simplified Loader'!AC12=\"English\",\"English\",IF('Simplified Loader'!AC12=\"French\",\"French\",IF('Simplified Loader'!AC12=\"E\",\"English\",IF('Simplified Loader'!AC12=\"F\",\"French\",\"\"))))","v":""},{"$f":"IF('Simplified Loader'!AB12=\"Yes\",\"Yes\",IF('Simplified Loader'!AB12=\"No\",\"No\",IF('Simplified Loader'!AB12=\"Y\",\"Yes\",IF('Simplified Loader'!AB12=\"N\",\"No\",\"\"))))","v":""},{"$f":"IF('Simplified Loader'!AD12>0,'Simplified Loader'!AD12,\"\")","v":""},{"$f":"IF('Simplified Loader'!M12>0,'Simplified Loader'!M12,\"\")","v":""},{"$f":"IF('Simplified Loader'!N12>0,'Simplified Loader'!N12,\"\")","v":""},{"$f":"IF('Simplified Loader'!O12>0,'Simplified Loader'!O12,\"\")","v":""},{"$f":"IF('Simplified Loader'!I12=\"Waive\",\"Yes\",\"\")","v":""},{"$f":"IF('Simplified Loader'!I12=\"Waive\",\"Yes\",\"\")","v":""},{"$f":"IF('Simplified Loader'!AE12>0,'Simplified Loader'!AE12,\"\")","v":""},{"$f":"IF('Simplified Loader'!AF12>0,'Simplified Loader'!AF12,\"\")","v":""},{"$f":"IF('Simplified Loader'!AG12>0,'Simplified Loader'!AG12,\"\")","v":""},{"$f":"IF('Simplified Loader'!AH12>0,'Simplified Loader'!AH12,\"\")","v":""},{"$f":"IF('Simplified Loader'!AI12>0,'Simplified Loader'!AI12,\"\")","v":" "},{"$f":"IF('Simplified Loader'!AJ12>0,'Simplified Loader'!AJ12,\"\")","v":" "},{"$f":"IF('Simplified Loader'!W12>0,'Simplified Loader'!W12&\" \",\"\")&IF('Simplified Loader'!V12>0,'Simplified Loader'!V12,\"\")","v":""},null,{"$f":"IF('Simplified Loader'!X12>0,'Simplified Loader'!X12,\"\")","v":""},{"$f":"IF('Simplified Loader'!Y12>0,'Simplified Loader'!Y12,\"\")","v":""},{"$f":"IF('Simplified Loader'!Z12>0,'Simplified Loader'!Z12,\"\")","v":""},{"$f":"IF('Simplified Loader'!AA12>0,'Simplified Loader'!AA12,\"\")","v":""},{"$f":"IF('Simplified Loader'!E12>0,'Simplified Loader'!E12,\"\")","v":""},{"$f":"IF('Simplified Loader'!AK12>0,'Simplified Loader'!AK12,\"\")","v":""},{"$f":"IF('Simplified Loader'!AL12>0,'Simplified Loader'!AL12,\"\")","v":""},{"$f":"IF('Simplified Loader'!AM12>0,'Simplified Loader'!AM12,\"\")","v":""},{"$f":"IF('Simplified Loader'!AN12=\"Male\",\"Male\",IF('Simplified Loader'!AN12=\"Female\",\"Female\",IF('Simplified Loader'!AN12=\"M\",\"Male\",IF('Simplified Loader'!AN12=\"F\",\"Female\",\"\"))))","v":""},{"$f":"IF('Simplified Loader'!AO12=\"Single\",\"Single\",IF('Simplified Loader'!AO12=\"Family\",\"Family\",IF('Simplified Loader'!AO12=\"S\",\"Single\",IF('Simplified Loader'!AO12=\"F\",\"Family\",\"\"))))","v":""},{"$f":"IF('Simplified Loader'!AP12=\"Single\",\"Single\",IF('Simplified Loader'!AP12=\"Family\",\"Family\",IF('Simplified Loader'!AP12=\"S\",\"Single\",IF('Simplified Loader'!AP12=\"F\",\"Family\",\"\"))))","v":""},{"$f":"IF('Simplified Loader'!AQ12>0,'Simplified Loader'!AQ12,\"\")","v":""},{"$f":"IF('Simplified Loader'!AR12=\"Yes\",\"Yes\",IF('Simplified Loader'!AR12=\"No\",\"No\",IF('Simplified Loader'!AR12=\"Y\",\"Yes\",IF('Simplified Loader'!AR12=\"N\",\"No\",\"\"))))","v":""},{"$f":"IF('Simplified Loader'!AS12>0,'Simplified Loader'!AS12,\"\")","v":""},{"$f":"IF('Simplified Loader'!AT12>0,'Simplified Loader'!AT12,\"\")","v":""},{"$f":"IF('Simplified Loader'!AU12>0,'Simplified Loader'!AU12,\"\")","v":""},{"$f":"IF('Simplified Loader'!AV12=\"Male\",\"Male\",IF('Simplified Loader'!AV12=\"Female\",\"Female\",IF('Simplified Loader'!AV12=\"M\",\"Male\",IF('Simplified Loader'!AV12=\"F\",\"Female\",\"\"))))","v":""},{"$f":"IF('Simplified Loader'!AW12=\"Yes\",\"Yes\",IF('Simplified Loader'!AW12=\"No\",\"No\",IF('Simplified Loader'!AW12=\"Y\",\"Yes\",IF('Simplified Loader'!AW12=\"N\",\"No\",\"\"))))","v":""},{"$f":"IF('Simplified Loader'!AX12=\"Yes\",\"Yes\",IF('Simplified Loader'!AX12=\"No\",\"No\",IF('Simplified Loader'!AX12=\"Y\",\"Yes\",IF('Simplified Loader'!AX12=\"N\",\"No\",\"\"))))","v":""},{"$f":"IF('Simplified Loader'!AY12>0,'Simplified Loader'!AY12,\"\")","v":""},{"$f":"IF('Simplified Loader'!AZ12>0,'Simplified Loader'!AZ12,\"\")","v":""},{"$f":"IF('Simplified Loader'!BA12>0,'Simplified Loader'!BA12,\"\")","v":""},{"$f":"IF('Simplified Loader'!BB12=\"Male\",\"Male\",IF('Simplified Loader'!BB12=\"Female\",\"Female\",IF('Simplified Loader'!BB12=\"M\",\"Male\",IF('Simplified Loader'!BB12=\"F\",\"Female\",\"\"))))","v":""},{"$f":"IF('Simplified Loader'!BC12=\"Yes\",\"Yes\",IF('Simplified Loader'!BC12=\"No\",\"No\",IF('Simplified Loader'!BC12=\"Y\",\"Yes\",IF('Simplified Loader'!BC12=\"N\",\"No\",\"\"))))","v":""},{"$f":"IF('Simplified Loader'!BD12=\"Yes\",\"Yes\",IF('Simplified Loader'!BD12=\"No\",\"No\",IF('Simplified Loader'!BD12=\"Y\",\"Yes\",IF('Simplified Loader'!BD12=\"N\",\"No\",\"\"))))","v":""},{"$f":"IF('Simplified Loader'!BE12>0,'Simplified Loader'!BE12,\"\")","v":""},{"$f":"IF('Simplified Loader'!BF12>0,'Simplified Loader'!BF12,\"\")","v":""},{"$f":"IF('Simplified Loader'!BG12>0,'Simplified Loader'!BG12,\"\")","v":""},{"$f":"IF('Simplified Loader'!BH12=\"Male\",\"Male\",IF('Simplified Loader'!BH12=\"Female\",\"Female\",IF('Simplified Loader'!BH12=\"M\",\"Male\",IF('Simplified Loader'!BH12=\"F\",\"Female\",\"\"))))","v":""},{"$f":"IF('Simplified Loader'!BI12=\"Yes\",\"Yes\",IF('Simplified Loader'!BI12=\"No\",\"No\",IF('Simplified Loader'!BI12=\"Y\",\"Yes\",IF('Simplified Loader'!BI12=\"N\",\"No\",\"\"))))","v":""},{"$f":"IF('Simplified Loader'!BJ12=\"Yes\",\"Yes\",IF('Simplified Loader'!BJ12=\"No\",\"No\",IF('Simplified Loader'!BJ12=\"Y\",\"Yes\",IF('Simplified Loader'!BJ12=\"N\",\"No\",\"\"))))","v":""},{"$f":"IF('Simplified Loader'!BK12>0,'Simplified Loader'!BK12,\"\")","v":""},{"$f":"IF('Simplified Loader'!BL12>0,'Simplified Loader'!BL12,\"\")","v":""},{"$f":"IF('Simplified Loader'!BM12>0,'Simplified Loader'!BM12,\"\")","v":""},{"$f":"IF('Simplified Loader'!BN12=\"Male\",\"Male\",IF('Simplified Loader'!BN12=\"Female\",\"Female\",IF('Simplified Loader'!BN12=\"M\",\"Male\",IF('Simplified Loader'!BN12=\"F\",\"Female\",\"\"))))","v":""},{"$f":"IF('Simplified Loader'!BO12=\"Yes\",\"Yes\",IF('Simplified Loader'!BO12=\"No\",\"No\",IF('Simplified Loader'!BO12=\"Y\",\"Yes\",IF('Simplified Loader'!BO12=\"N\",\"No\",\"\"))))","v":""},{"$f":"IF('Simplified Loader'!BP12=\"Yes\",\"Yes\",IF('Simplified Loader'!BP12=\"No\",\"No\",IF('Simplified Loader'!BP12=\"Y\",\"Yes\",IF('Simplified Loader'!BP12=\"N\",\"No\",\"\"))))","v":""},{"$f":"IF('Simplified Loader'!BQ12>0,'Simplified Loader'!BQ12,\"\")","v":""},{"$f":"IF('Simplified Loader'!BR12>0,'Simplified Loader'!BR12,\"\")","v":""},{"$f":"IF('Simplified Loader'!BS12>0,'Simplified Loader'!BS12,\"\")","v":""},{"$f":"IF('Simplified Loader'!BT12=\"Male\",\"Male\",IF('Simplified Loader'!BT12=\"Female\",\"Female\",IF('Simplified Loader'!BT12=\"M\",\"Male\",IF('Simplified Loader'!BT12=\"F\",\"Female\",\"\"))))","v":""},{"$f":"IF('Simplified Loader'!BU12=\"Yes\",\"Yes\",IF('Simplified Loader'!BU12=\"No\",\"No\",IF('Simplified Loader'!BU12=\"Y\",\"Yes\",IF('Simplified Loader'!BU12=\"N\",\"No\",\"\"))))","v":""},{"$f":"IF('Simplified Loader'!BV12=\"Yes\",\"Yes\",IF('Simplified Loader'!BV12=\"No\",\"No\",IF('Simplified Loader'!BV12=\"Y\",\"Yes\",IF('Simplified Loader'!BV12=\"N\",\"No\",\"\"))))","v":""},{"$f":"IF('Simplified Loader'!BW12>0,'Simplified Loader'!BW12,\"\")","v":""},{"$f":"IF('Simplified Loader'!BX12>0,'Simplified Loader'!BX12,\"\")","v":""},{"$f":"IF('Simplified Loader'!BY12>0,'Simplified Loader'!BY12,\"\")","v":""},{"$f":"IF('Simplified Loader'!BZ12=\"Male\",\"Male\",IF('Simplified Loader'!BZ12=\"Female\",\"Female\",IF('Simplified Loader'!BZ12=\"M\",\"Male\",IF('Simplified Loader'!BZ12=\"F\",\"Female\",\"\"))))","v":""},{"$f":"IF('Simplified Loader'!CA12=\"Yes\",\"Yes\",IF('Simplified Loader'!CA12=\"No\",\"No\",IF('Simplified Loader'!CA12=\"Y\",\"Yes\",IF('Simplified Loader'!CA12=\"N\",\"No\",\"\"))))","v":""},{"$f":"IF('Simplified Loader'!CB12=\"Yes\",\"Yes\",IF('Simplified Loader'!CB12=\"No\",\"No\",IF('Simplified Loader'!CB12=\"Y\",\"Yes\",IF('Simplified Loader'!CB12=\"N\",\"No\",\"\"))))","v":""},{"$f":"IF('Simplified Loader'!CH12>0,'Simplified Loader'!CH12,\"\")","v":""}]
[{"$f":"IF('Simplified Loader'!A13>0,'Simplified Loader'!A13,\"\")","v":""},{"$f":"IF('Simplified Loader'!B13>0,'Simplified Loader'!B13,\"\")","v":""},{"$f":"IF('Simplified Loader'!C13>0,'Simplified Loader'!C13,\"\")","v":""},{"$f":"IF('Simplified Loader'!D13>0,'Simplified Loader'!D13,\"\")","v":""},{"$f":"IF('Simplified Loader'!P13>0,TEXT('Simplified Loader'!P13,\"000\"),\"\")","v":""},{"$f":"IF('Simplified Loader'!Q13>0,'Simplified Loader'!Q13,\"\")","v":""},{"$f":"IF('Simplified Loader'!R13>0,'Simplified Loader'!R13,\"\")","v":""},{"$f":"IF('Simplified Loader'!F13>0,DATEVALUE(TEXT('Simplified Loader'!F13,\"yyyy-mm-dd\")),\"\")","v":""},{"$f":"IF('Simplified Loader'!L13>0,DATEVALUE(TEXT('Simplified Loader'!L13,\"yyyy-mm-dd\")),\"\")","v":""},{"$f":"IF('Simplified Loader'!Y13>0,'Simplified Loader'!Y13,\"\")","v":""},{"$f":"IF('Simplified Loader'!T13>0,'Simplified Loader'!T13,\"\")","v":""},{"$f":"IF('Simplified Loader'!G13=\"Male\",\"Male\",IF('Simplified Loader'!G13=\"Female\",\"Female\",IF('Simplified Loader'!G13=\"M\",\"Male\",IF('Simplified Loader'!G13=\"F\",\"Female\",\"\"))))","v":""},{"$f":"IF('Simplified Loader'!U13=\"Yes\",\"Yes\",IF('Simplified Loader'!U13=\"No\",\"No\",IF('Simplified Loader'!U13=\"Y\",\"Yes\",IF('Simplified Loader'!U13=\"N\",\"No\",\"\"))))","v":""},{"$f":"IF('Simplified Loader'!I13=\"Single\",\"Single\",IF('Simplified Loader'!I13=\"Family\",\"Family\",IF('Simplified Loader'!I13=\"Waive\",\"Family\",IF('Simplified Loader'!I13=\"Single Parent\",\"Family\",IF('Simplified Loader'!I13=\"Couple\",\"Family\",IF('Simplified Loader'!I13=\"In force\",\"Family\",IF('Simplified Loader'!I13=\"Applies\",\"Family\",IF('Simplified Loader'!I13=\"Applicable\",\"Family\",\"\"))))))))","v":""},{"$f":"IF('Simplified Loader'!AC13=\"English\",\"English\",IF('Simplified Loader'!AC13=\"French\",\"French\",IF('Simplified Loader'!AC13=\"E\",\"English\",IF('Simplified Loader'!AC13=\"F\",\"French\",\"\"))))","v":""},{"$f":"IF('Simplified Loader'!AB13=\"Yes\",\"Yes\",IF('Simplified Loader'!AB13=\"No\",\"No\",IF('Simplified Loader'!AB13=\"Y\",\"Yes\",IF('Simplified Loader'!AB13=\"N\",\"No\",\"\"))))","v":""},{"$f":"IF('Simplified Loader'!AD13>0,'Simplified Loader'!AD13,\"\")","v":""},{"$f":"IF('Simplified Loader'!M13>0,'Simplified Loader'!M13,\"\")","v":""},{"$f":"IF('Simplified Loader'!N13>0,'Simplified Loader'!N13,\"\")","v":""},{"$f":"IF('Simplified Loader'!O13>0,'Simplified Loader'!O13,\"\")","v":""},{"$f":"IF('Simplified Loader'!I13=\"Waive\",\"Yes\",\"\")","v":""},{"$f":"IF('Simplified Loader'!I13=\"Waive\",\"Yes\",\"\")","v":""},{"$f":"IF('Simplified Loader'!AE13>0,'Simplified Loader'!AE13,\"\")","v":""},{"$f":"IF('Simplified Loader'!AF13>0,'Simplified Loader'!AF13,\"\")","v":""},{"$f":"IF('Simplified Loader'!AG13>0,'Simplified Loader'!AG13,\"\")","v":""},{"$f":"IF('Simplified Loader'!AH13>0,'Simplified Loader'!AH13,\"\")","v":""},{"$f":"IF('Simplified Loader'!AI13>0,'Simplified Loader'!AI13,\"\")","v":" "},{"$f":"IF('Simplified Loader'!AJ13>0,'Simplified Loader'!AJ13,\"\")","v":" "},{"$f":"IF('Simplified Loader'!W13>0,'Simplified Loader'!W13&\" \",\"\")&IF('Simplified Loader'!V13>0,'Simplified Loader'!V13,\"\")","v":""},null,{"$f":"IF('Simplified Loader'!X13>0,'Simplified Loader'!X13,\"\")","v":""},{"$f":"IF('Simplified Loader'!Y13>0,'Simplified Loader'!Y13,\"\")","v":""},{"$f":"IF('Simplified Loader'!Z13>0,'Simplified Loader'!Z13,\"\")","v":""},{"$f":"IF('Simplified Loader'!AA13>0,'Simplified Loader'!AA13,\"\")","v":""},{"$f":"IF('Simplified Loader'!E13>0,'Simplified Loader'!E13,\"\")","v":""},{"$f":"IF('Simplified Loader'!AK13>0,'Simplified Loader'!AK13,\"\")","v":""},{"$f":"IF('Simplified Loader'!AL13>0,'Simplified Loader'!AL13,\"\")","v":""},{"$f":"IF('Simplified Loader'!AM13>0,'Simplified Loader'!AM13,\"\")","v":""},{"$f":"IF('Simplified Loader'!AN13=\"Male\",\"Male\",IF('Simplified Loader'!AN13=\"Female\",\"Female\",IF('Simplified Loader'!AN13=\"M\",\"Male\",IF('Simplified Loader'!AN13=\"F\",\"Female\",\"\"))))","v":""},{"$f":"IF('Simplified Loader'!AO13=\"Single\",\"Single\",IF('Simplified Loader'!AO13=\"Family\",\"Family\",IF('Simplified Loader'!AO13=\"S\",\"Single\",IF('Simplified Loader'!AO13=\"F\",\"Family\",\"\"))))","v":""},{"$f":"IF('Simplified Loader'!AP13=\"Single\",\"Single\",IF('Simplified Loader'!AP13=\"Family\",\"Family\",IF('Simplified Loader'!AP13=\"S\",\"Single\",IF('Simplified Loader'!AP13=\"F\",\"Family\",\"\"))))","v":""},{"$f":"IF('Simplified Loader'!AQ13>0,'Simplified Loader'!AQ13,\"\")","v":""},{"$f":"IF('Simplified Loader'!AR13=\"Yes\",\"Yes\",IF('Simplified Loader'!AR13=\"No\",\"No\",IF('Simplified Loader'!AR13=\"Y\",\"Yes\",IF('Simplified Loader'!AR13=\"N\",\"No\",\"\"))))","v":""},{"$f":"IF('Simplified Loader'!AS13>0,'Simplified Loader'!AS13,\"\")","v":""},{"$f":"IF('Simplified Loader'!AT13>0,'Simplified Loader'!AT13,\"\")","v":""},{"$f":"IF('Simplified Loader'!AU13>0,'Simplified Loader'!AU13,\"\")","v":""},{"$f":"IF('Simplified Loader'!AV13=\"Male\",\"Male\",IF('Simplified Loader'!AV13=\"Female\",\"Female\",IF('Simplified Loader'!AV13=\"M\",\"Male\",IF('Simplified Loader'!AV13=\"F\",\"Female\",\"\"))))","v":""},{"$f":"IF('Simplified Loader'!AW13=\"Yes\",\"Yes\",IF('Simplified Loader'!AW13=\"No\",\"No\",IF('Simplified Loader'!AW13=\"Y\",\"Yes\",IF('Simplified Loader'!AW13=\"N\",\"No\",\"\"))))","v":""},{"$f":"IF('Simplified Loader'!AX13=\"Yes\",\"Yes\",IF('Simplified Loader'!AX13=\"No\",\"No\",IF('Simplified Loader'!AX13=\"Y\",\"Yes\",IF('Simplified Loader'!AX13=\"N\",\"No\",\"\"))))","v":""},{"$f":"IF('Simplified Loader'!AY13>0,'Simplified Loader'!AY13,\"\")","v":""},{"$f":"IF('Simplified Loader'!AZ13>0,'Simplified Loader'!AZ13,\"\")","v":""},{"$f":"IF('Simplified Loader'!BA13>0,'Simplified Loader'!BA13,\"\")","v":""},{"$f":"IF('Simplified Loader'!BB13=\"Male\",\"Male\",IF('Simplified Loader'!BB13=\"Female\",\"Female\",IF('Simplified Loader'!BB13=\"M\",\"Male\",IF('Simplified Loader'!BB13=\"F\",\"Female\",\"\"))))","v":""},{"$f":"IF('Simplified Loader'!BC13=\"Yes\",\"Yes\",IF('Simplified Loader'!BC13=\"No\",\"No\",IF('Simplified Loader'!BC13=\"Y\",\"Yes\",IF('Simplified Loader'!BC13=\"N\",\"No\",\"\"))))","v":""},{"$f":"IF('Simplified Loader'!BD13=\"Yes\",\"Yes\",IF('Simplified Loader'!BD13=\"No\",\"No\",IF('Simplified Loader'!BD13=\"Y\",\"Yes\",IF('Simplified Loader'!BD13=\"N\",\"No\",\"\"))))","v":""},{"$f":"IF('Simplified Loader'!BE13>0,'Simplified Loader'!BE13,\"\")","v":""},{"$f":"IF('Simplified Loader'!BF13>0,'Simplified Loader'!BF13,\"\")","v":""},{"$f":"IF('Simplified Loader'!BG13>0,'Simplified Loader'!BG13,\"\")","v":""},{"$f":"IF('Simplified Loader'!BH13=\"Male\",\"Male\",IF('Simplified Loader'!BH13=\"Female\",\"Female\",IF('Simplified Loader'!BH13=\"M\",\"Male\",IF('Simplified Loader'!BH13=\"F\",\"Female\",\"\"))))","v":""},{"$f":"IF('Simplified Loader'!BI13=\"Yes\",\"Yes\",IF('Simplified Loader'!BI13=\"No\",\"No\",IF('Simplified Loader'!BI13=\"Y\",\"Yes\",IF('Simplified Loader'!BI13=\"N\",\"No\",\"\"))))","v":""},{"$f":"IF('Simplified Loader'!BJ13=\"Yes\",\"Yes\",IF('Simplified Loader'!BJ13=\"No\",\"No\",IF('Simplified Loader'!BJ13=\"Y\",\"Yes\",IF('Simplified Loader'!BJ13=\"N\",\"No\",\"\"))))","v":""},{"$f":"IF('Simplified Loader'!BK13>0,'Simplified Loader'!BK13,\"\")","v":""},{"$f":"IF('Simplified Loader'!BL13>0,'Simplified Loader'!BL13,\"\")","v":""},{"$f":"IF('Simplified Loader'!BM13>0,'Simplified Loader'!BM13,\"\")","v":""},{"$f":"IF('Simplified Loader'!BN13=\"Male\",\"Male\",IF('Simplified Loader'!BN13=\"Female\",\"Female\",IF('Simplified Loader'!BN13=\"M\",\"Male\",IF('Simplified Loader'!BN13=\"F\",\"Female\",\"\"))))","v":""},{"$f":"IF('Simplified Loader'!BO13=\"Yes\",\"Yes\",IF('Simplified Loader'!BO13=\"No\",\"No\",IF('Simplified Loader'!BO13=\"Y\",\"Yes\",IF('Simplified Loader'!BO13=\"N\",\"No\",\"\"))))","v":""},{"$f":"IF('Simplified Loader'!BP13=\"Yes\",\"Yes\",IF('Simplified Loader'!BP13=\"No\",\"No\",IF('Simplified Loader'!BP13=\"Y\",\"Yes\",IF('Simplified Loader'!BP13=\"N\",\"No\",\"\"))))","v":""},{"$f":"IF('Simplified Loader'!BQ13>0,'Simplified Loader'!BQ13,\"\")","v":""},{"$f":"IF('Simplified Loader'!BR13>0,'Simplified Loader'!BR13,\"\")","v":""},{"$f":"IF('Simplified Loader'!BS13>0,'Simplified Loader'!BS13,\"\")","v":""},{"$f":"IF('Simplified Loader'!BT13=\"Male\",\"Male\",IF('Simplified Loader'!BT13=\"Female\",\"Female\",IF('Simplified Loader'!BT13=\"M\",\"Male\",IF('Simplified Loader'!BT13=\"F\",\"Female\",\"\"))))","v":""},{"$f":"IF('Simplified Loader'!BU13=\"Yes\",\"Yes\",IF('Simplified Loader'!BU13=\"No\",\"No\",IF('Simplified Loader'!BU13=\"Y\",\"Yes\",IF('Simplified Loader'!BU13=\"N\",\"No\",\"\"))))","v":""},{"$f":"IF('Simplified Loader'!BV13=\"Yes\",\"Yes\",IF('Simplified Loader'!BV13=\"No\",\"No\",IF('Simplified Loader'!BV13=\"Y\",\"Yes\",IF('Simplified Loader'!BV13=\"N\",\"No\",\"\"))))","v":""},{"$f":"IF('Simplified Loader'!BW13>0,'Simplified Loader'!BW13,\"\")","v":""},{"$f":"IF('Simplified Loader'!BX13>0,'Simplified Loader'!BX13,\"\")","v":""},{"$f":"IF('Simplified Loader'!BY13>0,'Simplified Loader'!BY13,\"\")","v":""},{"$f":"IF('Simplified Loader'!BZ13=\"Male\",\"Male\",IF('Simplified Loader'!BZ13=\"Female\",\"Female\",IF('Simplified Loader'!BZ13=\"M\",\"Male\",IF('Simplified Loader'!BZ13=\"F\",\"Female\",\"\"))))","v":""},{"$f":"IF('Simplified Loader'!CA13=\"Yes\",\"Yes\",IF('Simplified Loader'!CA13=\"No\",\"No\",IF('Simplified Loader'!CA13=\"Y\",\"Yes\",IF('Simplified Loader'!CA13=\"N\",\"No\",\"\"))))","v":""},{"$f":"IF('Simplified Loader'!CB13=\"Yes\",\"Yes\",IF('Simplified Loader'!CB13=\"No\",\"No\",IF('Simplified Loader'!CB13=\"Y\",\"Yes\",IF('Simplified Loader'!CB13=\"N\",\"No\",\"\"))))","v":""},{"$f":"IF('Simplified Loader'!CH13>0,'Simplified Loader'!CH13,\"\")","v":""}]
[{"$f":"IF('Simplified Loader'!A14>0,'Simplified Loader'!A14,\"\")","v":""},{"$f":"IF('Simplified Loader'!B14>0,'Simplified Loader'!B14,\"\")","v":""},{"$f":"IF('Simplified Loader'!C14>0,'Simplified Loader'!C14,\"\")","v":""},{"$f":"IF('Simplified Loader'!D14>0,'Simplified Loader'!D14,\"\")","v":""},{"$f":"IF('Simplified Loader'!P14>0,TEXT('Simplified Loader'!P14,\"000\"),\"\")","v":""},{"$f":"IF('Simplified Loader'!Q14>0,'Simplified Loader'!Q14,\"\")","v":""},{"$f":"IF('Simplified Loader'!R14>0,'Simplified Loader'!R14,\"\")","v":""},{"$f":"IF('Simplified Loader'!F14>0,DATEVALUE(TEXT('Simplified Loader'!F14,\"yyyy-mm-dd\")),\"\")","v":""},{"$f":"IF('Simplified Loader'!L14>0,DATEVALUE(TEXT('Simplified Loader'!L14,\"yyyy-mm-dd\")),\"\")","v":""},{"$f":"IF('Simplified Loader'!Y14>0,'Simplified Loader'!Y14,\"\")","v":""},{"$f":"IF('Simplified Loader'!T14>0,'Simplified Loader'!T14,\"\")","v":""},{"$f":"IF('Simplified Loader'!G14=\"Male\",\"Male\",IF('Simplified Loader'!G14=\"Female\",\"Female\",IF('Simplified Loader'!G14=\"M\",\"Male\",IF('Simplified Loader'!G14=\"F\",\"Female\",\"\"))))","v":""},{"$f":"IF('Simplified Loader'!U14=\"Yes\",\"Yes\",IF('Simplified Loader'!U14=\"No\",\"No\",IF('Simplified Loader'!U14=\"Y\",\"Yes\",IF('Simplified Loader'!U14=\"N\",\"No\",\"\"))))","v":""},{"$f":"IF('Simplified Loader'!I14=\"Single\",\"Single\",IF('Simplified Loader'!I14=\"Family\",\"Family\",IF('Simplified Loader'!I14=\"Waive\",\"Family\",IF('Simplified Loader'!I14=\"Single Parent\",\"Family\",IF('Simplified Loader'!I14=\"Couple\",\"Family\",IF('Simplified Loader'!I14=\"In force\",\"Family\",IF('Simplified Loader'!I14=\"Applies\",\"Family\",IF('Simplified Loader'!I14=\"Applicable\",\"Family\",\"\"))))))))","v":""},{"$f":"IF('Simplified Loader'!AC14=\"English\",\"English\",IF('Simplified Loader'!AC14=\"French\",\"French\",IF('Simplified Loader'!AC14=\"E\",\"English\",IF('Simplified Loader'!AC14=\"F\",\"French\",\"\"))))","v":""},{"$f":"IF('Simplified Loader'!AB14=\"Yes\",\"Yes\",IF('Simplified Loader'!AB14=\"No\",\"No\",IF('Simplified Loader'!AB14=\"Y\",\"Yes\",IF('Simplified Loader'!AB14=\"N\",\"No\",\"\"))))","v":""},{"$f":"IF('Simplified Loader'!AD14>0,'Simplified Loader'!AD14,\"\")","v":""},{"$f":"IF('Simplified Loader'!M14>0,'Simplified Loader'!M14,\"\")","v":""},{"$f":"IF('Simplified Loader'!N14>0,'Simplified Loader'!N14,\"\")","v":""},{"$f":"IF('Simplified Loader'!O14>0,'Simplified Loader'!O14,\"\")","v":""},{"$f":"IF('Simplified Loader'!I14=\"Waive\",\"Yes\",\"\")","v":""},{"$f":"IF('Simplified Loader'!I14=\"Waive\",\"Yes\",\"\")","v":""},{"$f":"IF('Simplified Loader'!AE14>0,'Simplified Loader'!AE14,\"\")","v":""},{"$f":"IF('Simplified Loader'!AF14>0,'Simplified Loader'!AF14,\"\")","v":""},{"$f":"IF('Simplified Loader'!AG14>0,'Simplified Loader'!AG14,\"\")","v":""},{"$f":"IF('Simplified Loader'!AH14>0,'Simplified Loader'!AH14,\"\")","v":""},{"$f":"IF('Simplified Loader'!AI14>0,'Simplified Loader'!AI14,\"\")","v":" "},{"$f":"IF('Simplified Loader'!AJ14>0,'Simplified Loader'!AJ14,\"\")","v":" "},{"$f":"IF('Simplified Loader'!W14>0,'Simplified Loader'!W14&\" \",\"\")&IF('Simplified Loader'!V14>0,'Simplified Loader'!V14,\"\")","v":""},null,{"$f":"IF('Simplified Loader'!X14>0,'Simplified Loader'!X14,\"\")","v":""},{"$f":"IF('Simplified Loader'!Y14>0,'Simplified Loader'!Y14,\"\")","v":""},{"$f":"IF('Simplified Loader'!Z14>0,'Simplified Loader'!Z14,\"\")","v":""},{"$f":"IF('Simplified Loader'!AA14>0,'Simplified Loader'!AA14,\"\")","v":""},{"$f":"IF('Simplified Loader'!E14>0,'Simplified Loader'!E14,\"\")","v":""},{"$f":"IF('Simplified Loader'!AK14>0,'Simplified Loader'!AK14,\"\")","v":""},{"$f":"IF('Simplified Loader'!AL14>0,'Simplified Loader'!AL14,\"\")","v":""},{"$f":"IF('Simplified Loader'!AM14>0,'Simplified Loader'!AM14,\"\")","v":""},{"$f":"IF('Simplified Loader'!AN14=\"Male\",\"Male\",IF('Simplified Loader'!AN14=\"Female\",\"Female\",IF('Simplified Loader'!AN14=\"M\",\"Male\",IF('Simplified Loader'!AN14=\"F\",\"Female\",\"\"))))","v":""},{"$f":"IF('Simplified Loader'!AO14=\"Single\",\"Single\",IF('Simplified Loader'!AO14=\"Family\",\"Family\",IF('Simplified Loader'!AO14=\"S\",\"Single\",IF('Simplified Loader'!AO14=\"F\",\"Family\",\"\"))))","v":""},{"$f":"IF('Simplified Loader'!AP14=\"Single\",\"Single\",IF('Simplified Loader'!AP14=\"Family\",\"Family\",IF('Simplified Loader'!AP14=\"S\",\"Single\",IF('Simplified Loader'!AP14=\"F\",\"Family\",\"\"))))","v":""},{"$f":"IF('Simplified Loader'!AQ14>0,'Simplified Loader'!AQ14,\"\")","v":""},{"$f":"IF('Simplified Loader'!AR14=\"Yes\",\"Yes\",IF('Simplified Loader'!AR14=\"No\",\"No\",IF('Simplified Loader'!AR14=\"Y\",\"Yes\",IF('Simplified Loader'!AR14=\"N\",\"No\",\"\"))))","v":""},{"$f":"IF('Simplified Loader'!AS14>0,'Simplified Loader'!AS14,\"\")","v":""},{"$f":"IF('Simplified Loader'!AT14>0,'Simplified Loader'!AT14,\"\")","v":""},{"$f":"IF('Simplified Loader'!AU14>0,'Simplified Loader'!AU14,\"\")","v":""},{"$f":"IF('Simplified Loader'!AV14=\"Male\",\"Male\",IF('Simplified Loader'!AV14=\"Female\",\"Female\",IF('Simplified Loader'!AV14=\"M\",\"Male\",IF('Simplified Loader'!AV14=\"F\",\"Female\",\"\"))))","v":""},{"$f":"IF('Simplified Loader'!AW14=\"Yes\",\"Yes\",IF('Simplified Loader'!AW14=\"No\",\"No\",IF('Simplified Loader'!AW14=\"Y\",\"Yes\",IF('Simplified Loader'!AW14=\"N\",\"No\",\"\"))))","v":""},{"$f":"IF('Simplified Loader'!AX14=\"Yes\",\"Yes\",IF('Simplified Loader'!AX14=\"No\",\"No\",IF('Simplified Loader'!AX14=\"Y\",\"Yes\",IF('Simplified Loader'!AX14=\"N\",\"No\",\"\"))))","v":""},{"$f":"IF('Simplified Loader'!AY14>0,'Simplified Loader'!AY14,\"\")","v":""},{"$f":"IF('Simplified Loader'!AZ14>0,'Simplified Loader'!AZ14,\"\")","v":""},{"$f":"IF('Simplified Loader'!BA14>0,'Simplified Loader'!BA14,\"\")","v":""},{"$f":"IF('Simplified Loader'!BB14=\"Male\",\"Male\",IF('Simplified Loader'!BB14=\"Female\",\"Female\",IF('Simplified Loader'!BB14=\"M\",\"Male\",IF('Simplified Loader'!BB14=\"F\",\"Female\",\"\"))))","v":""},{"$f":"IF('Simplified Loader'!BC14=\"Yes\",\"Yes\",IF('Simplified Loader'!BC14=\"No\",\"No\",IF('Simplified Loader'!BC14=\"Y\",\"Yes\",IF('Simplified Loader'!BC14=\"N\",\"No\",\"\"))))","v":""},{"$f":"IF('Simplified Loader'!BD14=\"Yes\",\"Yes\",IF('Simplified Loader'!BD14=\"No\",\"No\",IF('Simplified Loader'!BD14=\"Y\",\"Yes\",IF('Simplified Loader'!BD14=\"N\",\"No\",\"\"))))","v":""},{"$f":"IF('Simplified Loader'!BE14>0,'Simplified Loader'!BE14,\"\")","v":""},{"$f":"IF('Simplified Loader'!BF14>0,'Simplified Loader'!BF14,\"\")","v":""},{"$f":"IF('Simplified Loader'!BG14>0,'Simplified Loader'!BG14,\"\")","v":""},{"$f":"IF('Simplified Loader'!BH14=\"Male\",\"Male\",IF('Simplified Loader'!BH14=\"Female\",\"Female\",IF('Simplified Loader'!BH14=\"M\",\"Male\",IF('Simplified Loader'!BH14=\"F\",\"Female\",\"\"))))","v":""},{"$f":"IF('Simplified Loader'!BI14=\"Yes\",\"Yes\",IF('Simplified Loader'!BI14=\"No\",\"No\",IF('Simplified Loader'!BI14=\"Y\",\"Yes\",IF('Simplified Loader'!BI14=\"N\",\"No\",\"\"))))","v":""},{"$f":"IF('Simplified Loader'!BJ14=\"Yes\",\"Yes\",IF('Simplified Loader'!BJ14=\"No\",\"No\",IF('Simplified Loader'!BJ14=\"Y\",\"Yes\",IF('Simplified Loader'!BJ14=\"N\",\"No\",\"\"))))","v":""},{"$f":"IF('Simplified Loader'!BK14>0,'Simplified Loader'!BK14,\"\")","v":""},{"$f":"IF('Simplified Loader'!BL14>0,'Simplified Loader'!BL14,\"\")","v":""},{"$f":"IF('Simplified Loader'!BM14>0,'Simplified Loader'!BM14,\"\")","v":""},{"$f":"IF('Simplified Loader'!BN14=\"Male\",\"Male\",IF('Simplified Loader'!BN14=\"Female\",\"Female\",IF('Simplified Loader'!BN14=\"M\",\"Male\",IF('Simplified Loader'!BN14=\"F\",\"Female\",\"\"))))","v":""},{"$f":"IF('Simplified Loader'!BO14=\"Yes\",\"Yes\",IF('Simplified Loader'!BO14=\"No\",\"No\",IF('Simplified Loader'!BO14=\"Y\",\"Yes\",IF('Simplified Loader'!BO14=\"N\",\"No\",\"\"))))","v":""},{"$f":"IF('Simplified Loader'!BP14=\"Yes\",\"Yes\",IF('Simplified Loader'!BP14=\"No\",\"No\",IF('Simplified Loader'!BP14=\"Y\",\"Yes\",IF('Simplified Loader'!BP14=\"N\",\"No\",\"\"))))","v":""},{"$f":"IF('Simplified Loader'!BQ14>0,'Simplified Loader'!BQ14,\"\")","v":""},{"$f":"IF('Simplified Loader'!BR14>0,'Simplified Loader'!BR14,\"\")","v":""},{"$f":"IF('Simplified Loader'!BS14>0,'Simplified Loader'!BS14,\"\")","v":""},{"$f":"IF('Simplified Loader'!BT14=\"Male\",\"Male\",IF('Simplified Loader'!BT14=\"Female\",\"Female\",IF('Simplified Loader'!BT14=\"M\",\"Male\",IF('Simplified Loader'!BT14=\"F\",\"Female\",\"\"))))","v":""},{"$f":"IF('Simplified Loader'!BU14=\"Yes\",\"Yes\",IF('Simplified Loader'!BU14=\"No\",\"No\",IF('Simplified Loader'!BU14=\"Y\",\"Yes\",IF('Simplified Loader'!BU14=\"N\",\"No\",\"\"))))","v":""},{"$f":"IF('Simplified Loader'!BV14=\"Yes\",\"Yes\",IF('Simplified Loader'!BV14=\"No\",\"No\",IF('Simplified Loader'!BV14=\"Y\",\"Yes\",IF('Simplified Loader'!BV14=\"N\",\"No\",\"\"))))","v":""},{"$f":"IF('Simplified Loader'!BW14>0,'Simplified Loader'!BW14,\"\")","v":""},{"$f":"IF('Simplified Loader'!BX14>0,'Simplified Loader'!BX14,\"\")","v":""},{"$f":"IF('Simplified Loader'!BY14>0,'Simplified Loader'!BY14,\"\")","v":""},{"$f":"IF('Simplified Loader'!BZ14=\"Male\",\"Male\",IF('Simplified Loader'!BZ14=\"Female\",\"Female\",IF('Simplified Loader'!BZ14=\"M\",\"Male\",IF('Simplified Loader'!BZ14=\"F\",\"Female\",\"\"))))","v":""},{"$f":"IF('Simplified Loader'!CA14=\"Yes\",\"Yes\",IF('Simplified Loader'!CA14=\"No\",\"No\",IF('Simplified Loader'!CA14=\"Y\",\"Yes\",IF('Simplified Loader'!CA14=\"N\",\"No\",\"\"))))","v":""},{"$f":"IF('Simplified Loader'!CB14=\"Yes\",\"Yes\",IF('Simplified Loader'!CB14=\"No\",\"No\",IF('Simplified Loader'!CB14=\"Y\",\"Yes\",IF('Simplified Loader'!CB14=\"N\",\"No\",\"\"))))","v":""},{"$f":"IF('Simplified Loader'!CH14>0,'Simplified Loader'!CH14,\"\")","v":""}]
[{"$f":"IF('Simplified Loader'!A15>0,'Simplified Loader'!A15,\"\")","v":""},{"$f":"IF('Simplified Loader'!B15>0,'Simplified Loader'!B15,\"\")","v":""},{"$f":"IF('Simplified Loader'!C15>0,'Simplified Loader'!C15,\"\")","v":""},{"$f":"IF('Simplified Loader'!D15>0,'Simplified Loader'!D15,\"\")","v":""},{"$f":"IF('Simplified Loader'!P15>0,TEXT('Simplified Loader'!P15,\"000\"),\"\")","v":""},{"$f":"IF('Simplified Loader'!Q15>0,'Simplified Loader'!Q15,\"\")","v":""},{"$f":"IF('Simplified Loader'!R15>0,'Simplified Loader'!R15,\"\")","v":""},{"$f":"IF('Simplified Loader'!F15>0,DATEVALUE(TEXT('Simplified Loader'!F15,\"yyyy-mm-dd\")),\"\")","v":""},{"$f":"IF('Simplified Loader'!L15>0,DATEVALUE(TEXT('Simplified Loader'!L15,\"yyyy-mm-dd\")),\"\")","v":""},{"$f":"IF('Simplified Loader'!Y15>0,'Simplified Loader'!Y15,\"\")","v":""},{"$f":"IF('Simplified Loader'!T15>0,'Simplified Loader'!T15,\"\")","v":""},{"$f":"IF('Simplified Loader'!G15=\"Male\",\"Male\",IF('Simplified Loader'!G15=\"Female\",\"Female\",IF('Simplified Loader'!G15=\"M\",\"Male\",IF('Simplified Loader'!G15=\"F\",\"Female\",\"\"))))","v":""},{"$f":"IF('Simplified Loader'!U15=\"Yes\",\"Yes\",IF('Simplified Loader'!U15=\"No\",\"No\",IF('Simplified Loader'!U15=\"Y\",\"Yes\",IF('Simplified Loader'!U15=\"N\",\"No\",\"\"))))","v":""},{"$f":"IF('Simplified Loader'!I15=\"Single\",\"Single\",IF('Simplified Loader'!I15=\"Family\",\"Family\",IF('Simplified Loader'!I15=\"Waive\",\"Family\",IF('Simplified Loader'!I15=\"Single Parent\",\"Family\",IF('Simplified Loader'!I15=\"Couple\",\"Family\",IF('Simplified Loader'!I15=\"In force\",\"Family\",IF('Simplified Loader'!I15=\"Applies\",\"Family\",IF('Simplified Loader'!I15=\"Applicable\",\"Family\",\"\"))))))))","v":""},{"$f":"IF('Simplified Loader'!AC15=\"English\",\"English\",IF('Simplified Loader'!AC15=\"French\",\"French\",IF('Simplified Loader'!AC15=\"E\",\"English\",IF('Simplified Loader'!AC15=\"F\",\"French\",\"\"))))","v":""},{"$f":"IF('Simplified Loader'!AB15=\"Yes\",\"Yes\",IF('Simplified Loader'!AB15=\"No\",\"No\",IF('Simplified Loader'!AB15=\"Y\",\"Yes\",IF('Simplified Loader'!AB15=\"N\",\"No\",\"\"))))","v":""},{"$f":"IF('Simplified Loader'!AD15>0,'Simplified Loader'!AD15,\"\")","v":""},{"$f":"IF('Simplified Loader'!M15>0,'Simplified Loader'!M15,\"\")","v":""},{"$f":"IF('Simplified Loader'!N15>0,'Simplified Loader'!N15,\"\")","v":""},{"$f":"IF('Simplified Loader'!O15>0,'Simplified Loader'!O15,\"\")","v":""},{"$f":"IF('Simplified Loader'!I15=\"Waive\",\"Yes\",\"\")","v":""},{"$f":"IF('Simplified Loader'!I15=\"Waive\",\"Yes\",\"\")","v":""},{"$f":"IF('Simplified Loader'!AE15>0,'Simplified Loader'!AE15,\"\")","v":""},{"$f":"IF('Simplified Loader'!AF15>0,'Simplified Loader'!AF15,\"\")","v":""},{"$f":"IF('Simplified Loader'!AG15>0,'Simplified Loader'!AG15,\"\")","v":""},{"$f":"IF('Simplified Loader'!AH15>0,'Simplified Loader'!AH15,\"\")","v":""},{"$f":"IF('Simplified Loader'!AI15>0,'Simplified Loader'!AI15,\"\")","v":" "},{"$f":"IF('Simplified Loader'!AJ15>0,'Simplified Loader'!AJ15,\"\")","v":" "},{"$f":"IF('Simplified Loader'!W15>0,'Simplified Loader'!W15&\" \",\"\")&IF('Simplified Loader'!V15>0,'Simplified Loader'!V15,\"\")","v":""},null,{"$f":"IF('Simplified Loader'!X15>0,'Simplified Loader'!X15,\"\")","v":""},{"$f":"IF('Simplified Loader'!Y15>0,'Simplified Loader'!Y15,\"\")","v":""},{"$f":"IF('Simplified Loader'!Z15>0,'Simplified Loader'!Z15,\"\")","v":""},{"$f":"IF('Simplified Loader'!AA15>0,'Simplified Loader'!AA15,\"\")","v":""},{"$f":"IF('Simplified Loader'!E15>0,'Simplified Loader'!E15,\"\")","v":""},{"$f":"IF('Simplified Loader'!AK15>0,'Simplified Loader'!AK15,\"\")","v":""},{"$f":"IF('Simplified Loader'!AL15>0,'Simplified Loader'!AL15,\"\")","v":""},{"$f":"IF('Simplified Loader'!AM15>0,'Simplified Loader'!AM15,\"\")","v":""},{"$f":"IF('Simplified Loader'!AN15=\"Male\",\"Male\",IF('Simplified Loader'!AN15=\"Female\",\"Female\",IF('Simplified Loader'!AN15=\"M\",\"Male\",IF('Simplified Loader'!AN15=\"F\",\"Female\",\"\"))))","v":""},{"$f":"IF('Simplified Loader'!AO15=\"Single\",\"Single\",IF('Simplified Loader'!AO15=\"Family\",\"Family\",IF('Simplified Loader'!AO15=\"S\",\"Single\",IF('Simplified Loader'!AO15=\"F\",\"Family\",\"\"))))","v":""},{"$f":"IF('Simplified Loader'!AP15=\"Single\",\"Single\",IF('Simplified Loader'!AP15=\"Family\",\"Family\",IF('Simplified Loader'!AP15=\"S\",\"Single\",IF('Simplified Loader'!AP15=\"F\",\"Family\",\"\"))))","v":""},{"$f":"IF('Simplified Loader'!AQ15>0,'Simplified Loader'!AQ15,\"\")","v":""},{"$f":"IF('Simplified Loader'!AR15=\"Yes\",\"Yes\",IF('Simplified Loader'!AR15=\"No\",\"No\",IF('Simplified Loader'!AR15=\"Y\",\"Yes\",IF('Simplified Loader'!AR15=\"N\",\"No\",\"\"))))","v":""},{"$f":"IF('Simplified Loader'!AS15>0,'Simplified Loader'!AS15,\"\")","v":""},{"$f":"IF('Simplified Loader'!AT15>0,'Simplified Loader'!AT15,\"\")","v":""},{"$f":"IF('Simplified Loader'!AU15>0,'Simplified Loader'!AU15,\"\")","v":""},{"$f":"IF('Simplified Loader'!AV15=\"Male\",\"Male\",IF('Simplified Loader'!AV15=\"Female\",\"Female\",IF('Simplified Loader'!AV15=\"M\",\"Male\",IF('Simplified Loader'!AV15=\"F\",\"Female\",\"\"))))","v":""},{"$f":"IF('Simplified Loader'!AW15=\"Yes\",\"Yes\",IF('Simplified Loader'!AW15=\"No\",\"No\",IF('Simplified Loader'!AW15=\"Y\",\"Yes\",IF('Simplified Loader'!AW15=\"N\",\"No\",\"\"))))","v":""},{"$f":"IF('Simplified Loader'!AX15=\"Yes\",\"Yes\",IF('Simplified Loader'!AX15=\"No\",\"No\",IF('Simplified Loader'!AX15=\"Y\",\"Yes\",IF('Simplified Loader'!AX15=\"N\",\"No\",\"\"))))","v":""},{"$f":"IF('Simplified Loader'!AY15>0,'Simplified Loader'!AY15,\"\")","v":""},{"$f":"IF('Simplified Loader'!AZ15>0,'Simplified Loader'!AZ15,\"\")","v":""},{"$f":"IF('Simplified Loader'!BA15>0,'Simplified Loader'!BA15,\"\")","v":""},{"$f":"IF('Simplified Loader'!BB15=\"Male\",\"Male\",IF('Simplified Loader'!BB15=\"Female\",\"Female\",IF('Simplified Loader'!BB15=\"M\",\"Male\",IF('Simplified Loader'!BB15=\"F\",\"Female\",\"\"))))","v":""},{"$f":"IF('Simplified Loader'!BC15=\"Yes\",\"Yes\",IF('Simplified Loader'!BC15=\"No\",\"No\",IF('Simplified Loader'!BC15=\"Y\",\"Yes\",IF('Simplified Loader'!BC15=\"N\",\"No\",\"\"))))","v":""},{"$f":"IF('Simplified Loader'!BD15=\"Yes\",\"Yes\",IF('Simplified Loader'!BD15=\"No\",\"No\",IF('Simplified Loader'!BD15=\"Y\",\"Yes\",IF('Simplified Loader'!BD15=\"N\",\"No\",\"\"))))","v":""},{"$f":"IF('Simplified Loader'!BE15>0,'Simplified Loader'!BE15,\"\")","v":""},{"$f":"IF('Simplified Loader'!BF15>0,'Simplified Loader'!BF15,\"\")","v":""},{"$f":"IF('Simplified Loader'!BG15>0,'Simplified Loader'!BG15,\"\")","v":""},{"$f":"IF('Simplified Loader'!BH15=\"Male\",\"Male\",IF('Simplified Loader'!BH15=\"Female\",\"Female\",IF('Simplified Loader'!BH15=\"M\",\"Male\",IF('Simplified Loader'!BH15=\"F\",\"Female\",\"\"))))","v":""},{"$f":"IF('Simplified Loader'!BI15=\"Yes\",\"Yes\",IF('Simplified Loader'!BI15=\"No\",\"No\",IF('Simplified Loader'!BI15=\"Y\",\"Yes\",IF('Simplified Loader'!BI15=\"N\",\"No\",\"\"))))","v":""},{"$f":"IF('Simplified Loader'!BJ15=\"Yes\",\"Yes\",IF('Simplified Loader'!BJ15=\"No\",\"No\",IF('Simplified Loader'!BJ15=\"Y\",\"Yes\",IF('Simplified Loader'!BJ15=\"N\",\"No\",\"\"))))","v":""},{"$f":"IF('Simplified Loader'!BK15>0,'Simplified Loader'!BK15,\"\")","v":""},{"$f":"IF('Simplified Loader'!BL15>0,'Simplified Loader'!BL15,\"\")","v":""},{"$f":"IF('Simplified Loader'!BM15>0,'Simplified Loader'!BM15,\"\")","v":""},{"$f":"IF('Simplified Loader'!BN15=\"Male\",\"Male\",IF('Simplified Loader'!BN15=\"Female\",\"Female\",IF('Simplified Loader'!BN15=\"M\",\"Male\",IF('Simplified Loader'!BN15=\"F\",\"Female\",\"\"))))","v":""},{"$f":"IF('Simplified Loader'!BO15=\"Yes\",\"Yes\",IF('Simplified Loader'!BO15=\"No\",\"No\",IF('Simplified Loader'!BO15=\"Y\",\"Yes\",IF('Simplified Loader'!BO15=\"N\",\"No\",\"\"))))","v":""},{"$f":"IF('Simplified Loader'!BP15=\"Yes\",\"Yes\",IF('Simplified Loader'!BP15=\"No\",\"No\",IF('Simplified Loader'!BP15=\"Y\",\"Yes\",IF('Simplified Loader'!BP15=\"N\",\"No\",\"\"))))","v":""},{"$f":"IF('Simplified Loader'!BQ15>0,'Simplified Loader'!BQ15,\"\")","v":""},{"$f":"IF('Simplified Loader'!BR15>0,'Simplified Loader'!BR15,\"\")","v":""},{"$f":"IF('Simplified Loader'!BS15>0,'Simplified Loader'!BS15,\"\")","v":""},{"$f":"IF('Simplified Loader'!BT15=\"Male\",\"Male\",IF('Simplified Loader'!BT15=\"Female\",\"Female\",IF('Simplified Loader'!BT15=\"M\",\"Male\",IF('Simplified Loader'!BT15=\"F\",\"Female\",\"\"))))","v":""},{"$f":"IF('Simplified Loader'!BU15=\"Yes\",\"Yes\",IF('Simplified Loader'!BU15=\"No\",\"No\",IF('Simplified Loader'!BU15=\"Y\",\"Yes\",IF('Simplified Loader'!BU15=\"N\",\"No\",\"\"))))","v":""},{"$f":"IF('Simplified Loader'!BV15=\"Yes\",\"Yes\",IF('Simplified Loader'!BV15=\"No\",\"No\",IF('Simplified Loader'!BV15=\"Y\",\"Yes\",IF('Simplified Loader'!BV15=\"N\",\"No\",\"\"))))","v":""},{"$f":"IF('Simplified Loader'!BW15>0,'Simplified Loader'!BW15,\"\")","v":""},{"$f":"IF('Simplified Loader'!BX15>0,'Simplified Loader'!BX15,\"\")","v":""},{"$f":"IF('Simplified Loader'!BY15>0,'Simplified Loader'!BY15,\"\")","v":""},{"$f":"IF('Simplified Loader'!BZ15=\"Male\",\"Male\",IF('Simplified Loader'!BZ15=\"Female\",\"Female\",IF('Simplified Loader'!BZ15=\"M\",\"Male\",IF('Simplified Loader'!BZ15=\"F\",\"Female\",\"\"))))","v":""},{"$f":"IF('Simplified Loader'!CA15=\"Yes\",\"Yes\",IF('Simplified Loader'!CA15=\"No\",\"No\",IF('Simplified Loader'!CA15=\"Y\",\"Yes\",IF('Simplified Loader'!CA15=\"N\",\"No\",\"\"))))","v":""},{"$f":"IF('Simplified Loader'!CB15=\"Yes\",\"Yes\",IF('Simplified Loader'!CB15=\"No\",\"No\",IF('Simplified Loader'!CB15=\"Y\",\"Yes\",IF('Simplified Loader'!CB15=\"N\",\"No\",\"\"))))","v":""},{"$f":"IF('Simplified Loader'!CH15>0,'Simplified Loader'!CH15,\"\")","v":""}]
[{"$f":"IF('Simplified Loader'!A16>0,'Simplified Loader'!A16,\"\")","v":""},{"$f":"IF('Simplified Loader'!B16>0,'Simplified Loader'!B16,\"\")","v":""},{"$f":"IF('Simplified Loader'!C16>0,'Simplified Loader'!C16,\"\")","v":""},{"$f":"IF('Simplified Loader'!D16>0,'Simplified Loader'!D16,\"\")","v":""},{"$f":"IF('Simplified Loader'!P16>0,TEXT('Simplified Loader'!P16,\"000\"),\"\")","v":""},{"$f":"IF('Simplified Loader'!Q16>0,'Simplified Loader'!Q16,\"\")","v":""},{"$f":"IF('Simplified Loader'!R16>0,'Simplified Loader'!R16,\"\")","v":""},{"$f":"IF('Simplified Loader'!F16>0,DATEVALUE(TEXT('Simplified Loader'!F16,\"yyyy-mm-dd\")),\"\")","v":""},{"$f":"IF('Simplified Loader'!L16>0,DATEVALUE(TEXT('Simplified Loader'!L16,\"yyyy-mm-dd\")),\"\")","v":""},{"$f":"IF('Simplified Loader'!Y16>0,'Simplified Loader'!Y16,\"\")","v":""},{"$f":"IF('Simplified Loader'!T16>0,'Simplified Loader'!T16,\"\")","v":""},{"$f":"IF('Simplified Loader'!G16=\"Male\",\"Male\",IF('Simplified Loader'!G16=\"Female\",\"Female\",IF('Simplified Loader'!G16=\"M\",\"Male\",IF('Simplified Loader'!G16=\"F\",\"Female\",\"\"))))","v":""},{"$f":"IF('Simplified Loader'!U16=\"Yes\",\"Yes\",IF('Simplified Loader'!U16=\"No\",\"No\",IF('Simplified Loader'!U16=\"Y\",\"Yes\",IF('Simplified Loader'!U16=\"N\",\"No\",\"\"))))","v":""},{"$f":"IF('Simplified Loader'!I16=\"Single\",\"Single\",IF('Simplified Loader'!I16=\"Family\",\"Family\",IF('Simplified Loader'!I16=\"Waive\",\"Family\",IF('Simplified Loader'!I16=\"Single Parent\",\"Family\",IF('Simplified Loader'!I16=\"Couple\",\"Family\",IF('Simplified Loader'!I16=\"In force\",\"Family\",IF('Simplified Loader'!I16=\"Applies\",\"Family\",IF('Simplified Loader'!I16=\"Applicable\",\"Family\",\"\"))))))))","v":""},{"$f":"IF('Simplified Loader'!AC16=\"English\",\"English\",IF('Simplified Loader'!AC16=\"French\",\"French\",IF('Simplified Loader'!AC16=\"E\",\"English\",IF('Simplified Loader'!AC16=\"F\",\"French\",\"\"))))","v":""},{"$f":"IF('Simplified Loader'!AB16=\"Yes\",\"Yes\",IF('Simplified Loader'!AB16=\"No\",\"No\",IF('Simplified Loader'!AB16=\"Y\",\"Yes\",IF('Simplified Loader'!AB16=\"N\",\"No\",\"\"))))","v":""},{"$f":"IF('Simplified Loader'!AD16>0,'Simplified Loader'!AD16,\"\")","v":""},{"$f":"IF('Simplified Loader'!M16>0,'Simplified Loader'!M16,\"\")","v":""},{"$f":"IF('Simplified Loader'!N16>0,'Simplified Loader'!N16,\"\")","v":""},{"$f":"IF('Simplified Loader'!O16>0,'Simplified Loader'!O16,\"\")","v":""},{"$f":"IF('Simplified Loader'!I16=\"Waive\",\"Yes\",\"\")","v":""},{"$f":"IF('Simplified Loader'!I16=\"Waive\",\"Yes\",\"\")","v":""},{"$f":"IF('Simplified Loader'!AE16>0,'Simplified Loader'!AE16,\"\")","v":""},{"$f":"IF('Simplified Loader'!AF16>0,'Simplified Loader'!AF16,\"\")","v":""},{"$f":"IF('Simplified Loader'!AG16>0,'Simplified Loader'!AG16,\"\")","v":""},{"$f":"IF('Simplified Loader'!AH16>0,'Simplified Loader'!AH16,\"\")","v":""},{"$f":"IF('Simplified Loader'!AI16>0,'Simplified Loader'!AI16,\"\")","v":" "},{"$f":"IF('Simplified Loader'!AJ16>0,'Simplified Loader'!AJ16,\"\")","v":" "},{"$f":"IF('Simplified Loader'!W16>0,'Simplified Loader'!W16&\" \",\"\")&IF('Simplified Loader'!V16>0,'Simplified Loader'!V16,\"\")","v":""},null,{"$f":"IF('Simplified Loader'!X16>0,'Simplified Loader'!X16,\"\")","v":""},{"$f":"IF('Simplified Loader'!Y16>0,'Simplified Loader'!Y16,\"\")","v":""},{"$f":"IF('Simplified Loader'!Z16>0,'Simplified Loader'!Z16,\"\")","v":""},{"$f":"IF('Simplified Loader'!AA16>0,'Simplified Loader'!AA16,\"\")","v":""},{"$f":"IF('Simplified Loader'!E16>0,'Simplified Loader'!E16,\"\")","v":""},{"$f":"IF('Simplified Loader'!AK16>0,'Simplified Loader'!AK16,\"\")","v":""},{"$f":"IF('Simplified Loader'!AL16>0,'Simplified Loader'!AL16,\"\")","v":""},{"$f":"IF('Simplified Loader'!AM16>0,'Simplified Loader'!AM16,\"\")","v":""},{"$f":"IF('Simplified Loader'!AN16=\"Male\",\"Male\",IF('Simplified Loader'!AN16=\"Female\",\"Female\",IF('Simplified Loader'!AN16=\"M\",\"Male\",IF('Simplified Loader'!AN16=\"F\",\"Female\",\"\"))))","v":""},{"$f":"IF('Simplified Loader'!AO16=\"Single\",\"Single\",IF('Simplified Loader'!AO16=\"Family\",\"Family\",IF('Simplified Loader'!AO16=\"S\",\"Single\",IF('Simplified Loader'!AO16=\"F\",\"Family\",\"\"))))","v":""},{"$f":"IF('Simplified Loader'!AP16=\"Single\",\"Single\",IF('Simplified Loader'!AP16=\"Family\",\"Family\",IF('Simplified Loader'!AP16=\"S\",\"Single\",IF('Simplified Loader'!AP16=\"F\",\"Family\",\"\"))))","v":""},{"$f":"IF('Simplified Loader'!AQ16>0,'Simplified Loader'!AQ16,\"\")","v":""},{"$f":"IF('Simplified Loader'!AR16=\"Yes\",\"Yes\",IF('Simplified Loader'!AR16=\"No\",\"No\",IF('Simplified Loader'!AR16=\"Y\",\"Yes\",IF('Simplified Loader'!AR16=\"N\",\"No\",\"\"))))","v":""},{"$f":"IF('Simplified Loader'!AS16>0,'Simplified Loader'!AS16,\"\")","v":""},{"$f":"IF('Simplified Loader'!AT16>0,'Simplified Loader'!AT16,\"\")","v":""},{"$f":"IF('Simplified Loader'!AU16>0,'Simplified Loader'!AU16,\"\")","v":""},{"$f":"IF('Simplified Loader'!AV16=\"Male\",\"Male\",IF('Simplified Loader'!AV16=\"Female\",\"Female\",IF('Simplified Loader'!AV16=\"M\",\"Male\",IF('Simplified Loader'!AV16=\"F\",\"Female\",\"\"))))","v":""},{"$f":"IF('Simplified Loader'!AW16=\"Yes\",\"Yes\",IF('Simplified Loader'!AW16=\"No\",\"No\",IF('Simplified Loader'!AW16=\"Y\",\"Yes\",IF('Simplified Loader'!AW16=\"N\",\"No\",\"\"))))","v":""},{"$f":"IF('Simplified Loader'!AX16=\"Yes\",\"Yes\",IF('Simplified Loader'!AX16=\"No\",\"No\",IF('Simplified Loader'!AX16=\"Y\",\"Yes\",IF('Simplified Loader'!AX16=\"N\",\"No\",\"\"))))","v":""},{"$f":"IF('Simplified Loader'!AY16>0,'Simplified Loader'!AY16,\"\")","v":""},{"$f":"IF('Simplified Loader'!AZ16>0,'Simplified Loader'!AZ16,\"\")","v":""},{"$f":"IF('Simplified Loader'!BA16>0,'Simplified Loader'!BA16,\"\")","v":""},{"$f":"IF('Simplified Loader'!BB16=\"Male\",\"Male\",IF('Simplified Loader'!BB16=\"Female\",\"Female\",IF('Simplified Loader'!BB16=\"M\",\"Male\",IF('Simplified Loader'!BB16=\"F\",\"Female\",\"\"))))","v":""},{"$f":"IF('Simplified Loader'!BC16=\"Yes\",\"Yes\",IF('Simplified Loader'!BC16=\"No\",\"No\",IF('Simplified Loader'!BC16=\"Y\",\"Yes\",IF('Simplified Loader'!BC16=\"N\",\"No\",\"\"))))","v":""},{"$f":"IF('Simplified Loader'!BD16=\"Yes\",\"Yes\",IF('Simplified Loader'!BD16=\"No\",\"No\",IF('Simplified Loader'!BD16=\"Y\",\"Yes\",IF('Simplified Loader'!BD16=\"N\",\"No\",\"\"))))","v":""},{"$f":"IF('Simplified Loader'!BE16>0,'Simplified Loader'!BE16,\"\")","v":""},{"$f":"IF('Simplified Loader'!BF16>0,'Simplified Loader'!BF16,\"\")","v":""},{"$f":"IF('Simplified Loader'!BG16>0,'Simplified Loader'!BG16,\"\")","v":""},{"$f":"IF('Simplified Loader'!BH16=\"Male\",\"Male\",IF('Simplified Loader'!BH16=\"Female\",\"Female\",IF('Simplified Loader'!BH16=\"M\",\"Male\",IF('Simplified Loader'!BH16=\"F\",\"Female\",\"\"))))","v":""},{"$f":"IF('Simplified Loader'!BI16=\"Yes\",\"Yes\",IF('Simplified Loader'!BI16=\"No\",\"No\",IF('Simplified Loader'!BI16=\"Y\",\"Yes\",IF('Simplified Loader'!BI16=\"N\",\"No\",\"\"))))","v":""},{"$f":"IF('Simplified Loader'!BJ16=\"Yes\",\"Yes\",IF('Simplified Loader'!BJ16=\"No\",\"No\",IF('Simplified Loader'!BJ16=\"Y\",\"Yes\",IF('Simplified Loader'!BJ16=\"N\",\"No\",\"\"))))","v":""},{"$f":"IF('Simplified Loader'!BK16>0,'Simplified Loader'!BK16,\"\")","v":""},{"$f":"IF('Simplified Loader'!BL16>0,'Simplified Loader'!BL16,\"\")","v":""},{"$f":"IF('Simplified Loader'!BM16>0,'Simplified Loader'!BM16,\"\")","v":""},{"$f":"IF('Simplified Loader'!BN16=\"Male\",\"Male\",IF('Simplified Loader'!BN16=\"Female\",\"Female\",IF('Simplified Loader'!BN16=\"M\",\"Male\",IF('Simplified Loader'!BN16=\"F\",\"Female\",\"\"))))","v":""},{"$f":"IF('Simplified Loader'!BO16=\"Yes\",\"Yes\",IF('Simplified Loader'!BO16=\"No\",\"No\",IF('Simplified Loader'!BO16=\"Y\",\"Yes\",IF('Simplified Loader'!BO16=\"N\",\"No\",\"\"))))","v":""},{"$f":"IF('Simplified Loader'!BP16=\"Yes\",\"Yes\",IF('Simplified Loader'!BP16=\"No\",\"No\",IF('Simplified Loader'!BP16=\"Y\",\"Yes\",IF('Simplified Loader'!BP16=\"N\",\"No\",\"\"))))","v":""},{"$f":"IF('Simplified Loader'!BQ16>0,'Simplified Loader'!BQ16,\"\")","v":""},{"$f":"IF('Simplified Loader'!BR16>0,'Simplified Loader'!BR16,\"\")","v":""},{"$f":"IF('Simplified Loader'!BS16>0,'Simplified Loader'!BS16,\"\")","v":""},{"$f":"IF('Simplified Loader'!BT16=\"Male\",\"Male\",IF('Simplified Loader'!BT16=\"Female\",\"Female\",IF('Simplified Loader'!BT16=\"M\",\"Male\",IF('Simplified Loader'!BT16=\"F\",\"Female\",\"\"))))","v":""},{"$f":"IF('Simplified Loader'!BU16=\"Yes\",\"Yes\",IF('Simplified Loader'!BU16=\"No\",\"No\",IF('Simplified Loader'!BU16=\"Y\",\"Yes\",IF('Simplified Loader'!BU16=\"N\",\"No\",\"\"))))","v":""},{"$f":"IF('Simplified Loader'!BV16=\"Yes\",\"Yes\",IF('Simplified Loader'!BV16=\"No\",\"No\",IF('Simplified Loader'!BV16=\"Y\",\"Yes\",IF('Simplified Loader'!BV16=\"N\",\"No\",\"\"))))","v":""},{"$f":"IF('Simplified Loader'!BW16>0,'Simplified Loader'!BW16,\"\")","v":""},{"$f":"IF('Simplified Loader'!BX16>0,'Simplified Loader'!BX16,\"\")","v":""},{"$f":"IF('Simplified Loader'!BY16>0,'Simplified Loader'!BY16,\"\")","v":""},{"$f":"IF('Simplified Loader'!BZ16=\"Male\",\"Male\",IF('Simplified Loader'!BZ16=\"Female\",\"Female\",IF('Simplified Loader'!BZ16=\"M\",\"Male\",IF('Simplified Loader'!BZ16=\"F\",\"Female\",\"\"))))","v":""},{"$f":"IF('Simplified Loader'!CA16=\"Yes\",\"Yes\",IF('Simplified Loader'!CA16=\"No\",\"No\",IF('Simplified Loader'!CA16=\"Y\",\"Yes\",IF('Simplified Loader'!CA16=\"N\",\"No\",\"\"))))","v":""},{"$f":"IF('Simplified Loader'!CB16=\"Yes\",\"Yes\",IF('Simplified Loader'!CB16=\"No\",\"No\",IF('Simplified Loader'!CB16=\"Y\",\"Yes\",IF('Simplified Loader'!CB16=\"N\",\"No\",\"\"))))","v":""},{"$f":"IF('Simplified Loader'!CH16>0,'Simplified Loader'!CH16,\"\")","v":""}]
[{"$f":"IF('Simplified Loader'!A17>0,'Simplified Loader'!A17,\"\")","v":""},{"$f":"IF('Simplified Loader'!B17>0,'Simplified Loader'!B17,\"\")","v":""},{"$f":"IF('Simplified Loader'!C17>0,'Simplified Loader'!C17,\"\")","v":""},{"$f":"IF('Simplified Loader'!D17>0,'Simplified Loader'!D17,\"\")","v":""},{"$f":"IF('Simplified Loader'!P17>0,TEXT('Simplified Loader'!P17,\"000\"),\"\")","v":""},{"$f":"IF('Simplified Loader'!Q17>0,'Simplified Loader'!Q17,\"\")","v":""},{"$f":"IF('Simplified Loader'!R17>0,'Simplified Loader'!R17,\"\")","v":""},{"$f":"IF('Simplified Loader'!F17>0,DATEVALUE(TEXT('Simplified Loader'!F17,\"yyyy-mm-dd\")),\"\")","v":""},{"$f":"IF('Simplified Loader'!L17>0,DATEVALUE(TEXT('Simplified Loader'!L17,\"yyyy-mm-dd\")),\"\")","v":""},{"$f":"IF('Simplified Loader'!Y17>0,'Simplified Loader'!Y17,\"\")","v":""},{"$f":"IF('Simplified Loader'!T17>0,'Simplified Loader'!T17,\"\")","v":""},{"$f":"IF('Simplified Loader'!G17=\"Male\",\"Male\",IF('Simplified Loader'!G17=\"Female\",\"Female\",IF('Simplified Loader'!G17=\"M\",\"Male\",IF('Simplified Loader'!G17=\"F\",\"Female\",\"\"))))","v":""},{"$f":"IF('Simplified Loader'!U17=\"Yes\",\"Yes\",IF('Simplified Loader'!U17=\"No\",\"No\",IF('Simplified Loader'!U17=\"Y\",\"Yes\",IF('Simplified Loader'!U17=\"N\",\"No\",\"\"))))","v":""},{"$f":"IF('Simplified Loader'!I17=\"Single\",\"Single\",IF('Simplified Loader'!I17=\"Family\",\"Family\",IF('Simplified Loader'!I17=\"Waive\",\"Family\",IF('Simplified Loader'!I17=\"Single Parent\",\"Family\",IF('Simplified Loader'!I17=\"Couple\",\"Family\",IF('Simplified Loader'!I17=\"In force\",\"Family\",IF('Simplified Loader'!I17=\"Applies\",\"Family\",IF('Simplified Loader'!I17=\"Applicable\",\"Family\",\"\"))))))))","v":""},{"$f":"IF('Simplified Loader'!AC17=\"English\",\"English\",IF('Simplified Loader'!AC17=\"French\",\"French\",IF('Simplified Loader'!AC17=\"E\",\"English\",IF('Simplified Loader'!AC17=\"F\",\"French\",\"\"))))","v":""},{"$f":"IF('Simplified Loader'!AB17=\"Yes\",\"Yes\",IF('Simplified Loader'!AB17=\"No\",\"No\",IF('Simplified Loader'!AB17=\"Y\",\"Yes\",IF('Simplified Loader'!AB17=\"N\",\"No\",\"\"))))","v":""},{"$f":"IF('Simplified Loader'!AD17>0,'Simplified Loader'!AD17,\"\")","v":""},{"$f":"IF('Simplified Loader'!M17>0,'Simplified Loader'!M17,\"\")","v":""},{"$f":"IF('Simplified Loader'!N17>0,'Simplified Loader'!N17,\"\")","v":""},{"$f":"IF('Simplified Loader'!O17>0,'Simplified Loader'!O17,\"\")","v":""},{"$f":"IF('Simplified Loader'!I17=\"Waive\",\"Yes\",\"\")","v":""},{"$f":"IF('Simplified Loader'!I17=\"Waive\",\"Yes\",\"\")","v":""},{"$f":"IF('Simplified Loader'!AE17>0,'Simplified Loader'!AE17,\"\")","v":""},{"$f":"IF('Simplified Loader'!AF17>0,'Simplified Loader'!AF17,\"\")","v":""},{"$f":"IF('Simplified Loader'!AG17>0,'Simplified Loader'!AG17,\"\")","v":""},{"$f":"IF('Simplified Loader'!AH17>0,'Simplified Loader'!AH17,\"\")","v":""},{"$f":"IF('Simplified Loader'!AI17>0,'Simplified Loader'!AI17,\"\")","v":" "},{"$f":"IF('Simplified Loader'!AJ17>0,'Simplified Loader'!AJ17,\"\")","v":" "},{"$f":"IF('Simplified Loader'!W17>0,'Simplified Loader'!W17&\" \",\"\")&IF('Simplified Loader'!V17>0,'Simplified Loader'!V17,\"\")","v":""},null,{"$f":"IF('Simplified Loader'!X17>0,'Simplified Loader'!X17,\"\")","v":""},{"$f":"IF('Simplified Loader'!Y17>0,'Simplified Loader'!Y17,\"\")","v":""},{"$f":"IF('Simplified Loader'!Z17>0,'Simplified Loader'!Z17,\"\")","v":""},{"$f":"IF('Simplified Loader'!AA17>0,'Simplified Loader'!AA17,\"\")","v":""},{"$f":"IF('Simplified Loader'!E17>0,'Simplified Loader'!E17,\"\")","v":""},{"$f":"IF('Simplified Loader'!AK17>0,'Simplified Loader'!AK17,\"\")","v":""},{"$f":"IF('Simplified Loader'!AL17>0,'Simplified Loader'!AL17,\"\")","v":""},{"$f":"IF('Simplified Loader'!AM17>0,'Simplified Loader'!AM17,\"\")","v":""},{"$f":"IF('Simplified Loader'!AN17=\"Male\",\"Male\",IF('Simplified Loader'!AN17=\"Female\",\"Female\",IF('Simplified Loader'!AN17=\"M\",\"Male\",IF('Simplified Loader'!AN17=\"F\",\"Female\",\"\"))))","v":""},{"$f":"IF('Simplified Loader'!AO17=\"Single\",\"Single\",IF('Simplified Loader'!AO17=\"Family\",\"Family\",IF('Simplified Loader'!AO17=\"S\",\"Single\",IF('Simplified Loader'!AO17=\"F\",\"Family\",\"\"))))","v":""},{"$f":"IF('Simplified Loader'!AP17=\"Single\",\"Single\",IF('Simplified Loader'!AP17=\"Family\",\"Family\",IF('Simplified Loader'!AP17=\"S\",\"Single\",IF('Simplified Loader'!AP17=\"F\",\"Family\",\"\"))))","v":""},{"$f":"IF('Simplified Loader'!AQ17>0,'Simplified Loader'!AQ17,\"\")","v":""},{"$f":"IF('Simplified Loader'!AR17=\"Yes\",\"Yes\",IF('Simplified Loader'!AR17=\"No\",\"No\",IF('Simplified Loader'!AR17=\"Y\",\"Yes\",IF('Simplified Loader'!AR17=\"N\",\"No\",\"\"))))","v":""},{"$f":"IF('Simplified Loader'!AS17>0,'Simplified Loader'!AS17,\"\")","v":""},{"$f":"IF('Simplified Loader'!AT17>0,'Simplified Loader'!AT17,\"\")","v":""},{"$f":"IF('Simplified Loader'!AU17>0,'Simplified Loader'!AU17,\"\")","v":""},{"$f":"IF('Simplified Loader'!AV17=\"Male\",\"Male\",IF('Simplified Loader'!AV17=\"Female\",\"Female\",IF('Simplified Loader'!AV17=\"M\",\"Male\",IF('Simplified Loader'!AV17=\"F\",\"Female\",\"\"))))","v":""},{"$f":"IF('Simplified Loader'!AW17=\"Yes\",\"Yes\",IF('Simplified Loader'!AW17=\"No\",\"No\",IF('Simplified Loader'!AW17=\"Y\",\"Yes\",IF('Simplified Loader'!AW17=\"N\",\"No\",\"\"))))","v":""},{"$f":"IF('Simplified Loader'!AX17=\"Yes\",\"Yes\",IF('Simplified Loader'!AX17=\"No\",\"No\",IF('Simplified Loader'!AX17=\"Y\",\"Yes\",IF('Simplified Loader'!AX17=\"N\",\"No\",\"\"))))","v":""},{"$f":"IF('Simplified Loader'!AY17>0,'Simplified Loader'!AY17,\"\")","v":""},{"$f":"IF('Simplified Loader'!AZ17>0,'Simplified Loader'!AZ17,\"\")","v":""},{"$f":"IF('Simplified Loader'!BA17>0,'Simplified Loader'!BA17,\"\")","v":""},{"$f":"IF('Simplified Loader'!BB17=\"Male\",\"Male\",IF('Simplified Loader'!BB17=\"Female\",\"Female\",IF('Simplified Loader'!BB17=\"M\",\"Male\",IF('Simplified Loader'!BB17=\"F\",\"Female\",\"\"))))","v":""},{"$f":"IF('Simplified Loader'!BC17=\"Yes\",\"Yes\",IF('Simplified Loader'!BC17=\"No\",\"No\",IF('Simplified Loader'!BC17=\"Y\",\"Yes\",IF('Simplified Loader'!BC17=\"N\",\"No\",\"\"))))","v":""},{"$f":"IF('Simplified Loader'!BD17=\"Yes\",\"Yes\",IF('Simplified Loader'!BD17=\"No\",\"No\",IF('Simplified Loader'!BD17=\"Y\",\"Yes\",IF('Simplified Loader'!BD17=\"N\",\"No\",\"\"))))","v":""},{"$f":"IF('Simplified Loader'!BE17>0,'Simplified Loader'!BE17,\"\")","v":""},{"$f":"IF('Simplified Loader'!BF17>0,'Simplified Loader'!BF17,\"\")","v":""},{"$f":"IF('Simplified Loader'!BG17>0,'Simplified Loader'!BG17,\"\")","v":""},{"$f":"IF('Simplified Loader'!BH17=\"Male\",\"Male\",IF('Simplified Loader'!BH17=\"Female\",\"Female\",IF('Simplified Loader'!BH17=\"M\",\"Male\",IF('Simplified Loader'!BH17=\"F\",\"Female\",\"\"))))","v":""},{"$f":"IF('Simplified Loader'!BI17=\"Yes\",\"Yes\",IF('Simplified Loader'!BI17=\"No\",\"No\",IF('Simplified Loader'!BI17=\"Y\",\"Yes\",IF('Simplified Loader'!BI17=\"N\",\"No\",\"\"))))","v":""},{"$f":"IF('Simplified Loader'!BJ17=\"Yes\",\"Yes\",IF('Simplified Loader'!BJ17=\"No\",\"No\",IF('Simplified Loader'!BJ17=\"Y\",\"Yes\",IF('Simplified Loader'!BJ17=\"N\",\"No\",\"\"))))","v":""},{"$f":"IF('Simplified Loader'!BK17>0,'Simplified Loader'!BK17,\"\")","v":""},{"$f":"IF('Simplified Loader'!BL17>0,'Simplified Loader'!BL17,\"\")","v":""},{"$f":"IF('Simplified Loader'!BM17>0,'Simplified Loader'!BM17,\"\")","v":""},{"$f":"IF('Simplified Loader'!BN17=\"Male\",\"Male\",IF('Simplified Loader'!BN17=\"Female\",\"Female\",IF('Simplified Loader'!BN17=\"M\",\"Male\",IF('Simplified Loader'!BN17=\"F\",\"Female\",\"\"))))","v":""},{"$f":"IF('Simplified Loader'!BO17=\"Yes\",\"Yes\",IF('Simplified Loader'!BO17=\"No\",\"No\",IF('Simplified Loader'!BO17=\"Y\",\"Yes\",IF('Simplified Loader'!BO17=\"N\",\"No\",\"\"))))","v":""},{"$f":"IF('Simplified Loader'!BP17=\"Yes\",\"Yes\",IF('Simplified Loader'!BP17=\"No\",\"No\",IF('Simplified Loader'!BP17=\"Y\",\"Yes\",IF('Simplified Loader'!BP17=\"N\",\"No\",\"\"))))","v":""},{"$f":"IF('Simplified Loader'!BQ17>0,'Simplified Loader'!BQ17,\"\")","v":""},{"$f":"IF('Simplified Loader'!BR17>0,'Simplified Loader'!BR17,\"\")","v":""},{"$f":"IF('Simplified Loader'!BS17>0,'Simplified Loader'!BS17,\"\")","v":""},{"$f":"IF('Simplified Loader'!BT17=\"Male\",\"Male\",IF('Simplified Loader'!BT17=\"Female\",\"Female\",IF('Simplified Loader'!BT17=\"M\",\"Male\",IF('Simplified Loader'!BT17=\"F\",\"Female\",\"\"))))","v":""},{"$f":"IF('Simplified Loader'!BU17=\"Yes\",\"Yes\",IF('Simplified Loader'!BU17=\"No\",\"No\",IF('Simplified Loader'!BU17=\"Y\",\"Yes\",IF('Simplified Loader'!BU17=\"N\",\"No\",\"\"))))","v":""},{"$f":"IF('Simplified Loader'!BV17=\"Yes\",\"Yes\",IF('Simplified Loader'!BV17=\"No\",\"No\",IF('Simplified Loader'!BV17=\"Y\",\"Yes\",IF('Simplified Loader'!BV17=\"N\",\"No\",\"\"))))","v":""},{"$f":"IF('Simplified Loader'!BW17>0,'Simplified Loader'!BW17,\"\")","v":""},{"$f":"IF('Simplified Loader'!BX17>0,'Simplified Loader'!BX17,\"\")","v":""},{"$f":"IF('Simplified Loader'!BY17>0,'Simplified Loader'!BY17,\"\")","v":""},{"$f":"IF('Simplified Loader'!BZ17=\"Male\",\"Male\",IF('Simplified Loader'!BZ17=\"Female\",\"Female\",IF('Simplified Loader'!BZ17=\"M\",\"Male\",IF('Simplified Loader'!BZ17=\"F\",\"Female\",\"\"))))","v":""},{"$f":"IF('Simplified Loader'!CA17=\"Yes\",\"Yes\",IF('Simplified Loader'!CA17=\"No\",\"No\",IF('Simplified Loader'!CA17=\"Y\",\"Yes\",IF('Simplified Loader'!CA17=\"N\",\"No\",\"\"))))","v":""},{"$f":"IF('Simplified Loader'!CB17=\"Yes\",\"Yes\",IF('Simplified Loader'!CB17=\"No\",\"No\",IF('Simplified Loader'!CB17=\"Y\",\"Yes\",IF('Simplified Loader'!CB17=\"N\",\"No\",\"\"))))","v":""},{"$f":"IF('Simplified Loader'!CH17>0,'Simplified Loader'!CH17,\"\")","v":""}]
[{"$f":"IF('Simplified Loader'!A18>0,'Simplified Loader'!A18,\"\")","v":""},{"$f":"IF('Simplified Loader'!B18>0,'Simplified Loader'!B18,\"\")","v":""},{"$f":"IF('Simplified Loader'!C18>0,'Simplified Loader'!C18,\"\")","v":""},{"$f":"IF('Simplified Loader'!D18>0,'Simplified Loader'!D18,\"\")","v":""},{"$f":"IF('Simplified Loader'!P18>0,TEXT('Simplified Loader'!P18,\"000\"),\"\")","v":""},{"$f":"IF('Simplified Loader'!Q18>0,'Simplified Loader'!Q18,\"\")","v":""},{"$f":"IF('Simplified Loader'!R18>0,'Simplified Loader'!R18,\"\")","v":""},{"$f":"IF('Simplified Loader'!F18>0,DATEVALUE(TEXT('Simplified Loader'!F18,\"yyyy-mm-dd\")),\"\")","v":""},{"$f":"IF('Simplified Loader'!L18>0,DATEVALUE(TEXT('Simplified Loader'!L18,\"yyyy-mm-dd\")),\"\")","v":""},{"$f":"IF('Simplified Loader'!Y18>0,'Simplified Loader'!Y18,\"\")","v":""},{"$f":"IF('Simplified Loader'!T18>0,'Simplified Loader'!T18,\"\")","v":""},{"$f":"IF('Simplified Loader'!G18=\"Male\",\"Male\",IF('Simplified Loader'!G18=\"Female\",\"Female\",IF('Simplified Loader'!G18=\"M\",\"Male\",IF('Simplified Loader'!G18=\"F\",\"Female\",\"\"))))","v":""},{"$f":"IF('Simplified Loader'!U18=\"Yes\",\"Yes\",IF('Simplified Loader'!U18=\"No\",\"No\",IF('Simplified Loader'!U18=\"Y\",\"Yes\",IF('Simplified Loader'!U18=\"N\",\"No\",\"\"))))","v":""},{"$f":"IF('Simplified Loader'!I18=\"Single\",\"Single\",IF('Simplified Loader'!I18=\"Family\",\"Family\",IF('Simplified Loader'!I18=\"Waive\",\"Family\",IF('Simplified Loader'!I18=\"Single Parent\",\"Family\",IF('Simplified Loader'!I18=\"Couple\",\"Family\",IF('Simplified Loader'!I18=\"In force\",\"Family\",IF('Simplified Loader'!I18=\"Applies\",\"Family\",IF('Simplified Loader'!I18=\"Applicable\",\"Family\",\"\"))))))))","v":""},{"$f":"IF('Simplified Loader'!AC18=\"English\",\"English\",IF('Simplified Loader'!AC18=\"French\",\"French\",IF('Simplified Loader'!AC18=\"E\",\"English\",IF('Simplified Loader'!AC18=\"F\",\"French\",\"\"))))","v":""},{"$f":"IF('Simplified Loader'!AB18=\"Yes\",\"Yes\",IF('Simplified Loader'!AB18=\"No\",\"No\",IF('Simplified Loader'!AB18=\"Y\",\"Yes\",IF('Simplified Loader'!AB18=\"N\",\"No\",\"\"))))","v":""},{"$f":"IF('Simplified Loader'!AD18>0,'Simplified Loader'!AD18,\"\")","v":""},{"$f":"IF('Simplified Loader'!M18>0,'Simplified Loader'!M18,\"\")","v":""},{"$f":"IF('Simplified Loader'!N18>0,'Simplified Loader'!N18,\"\")","v":""},{"$f":"IF('Simplified Loader'!O18>0,'Simplified Loader'!O18,\"\")","v":""},{"$f":"IF('Simplified Loader'!I18=\"Waive\",\"Yes\",\"\")","v":""},{"$f":"IF('Simplified Loader'!I18=\"Waive\",\"Yes\",\"\")","v":""},{"$f":"IF('Simplified Loader'!AE18>0,'Simplified Loader'!AE18,\"\")","v":""},{"$f":"IF('Simplified Loader'!AF18>0,'Simplified Loader'!AF18,\"\")","v":""},{"$f":"IF('Simplified Loader'!AG18>0,'Simplified Loader'!AG18,\"\")","v":""},{"$f":"IF('Simplified Loader'!AH18>0,'Simplified Loader'!AH18,\"\")","v":""},{"$f":"IF('Simplified Loader'!AI18>0,'Simplified Loader'!AI18,\"\")","v":" "},{"$f":"IF('Simplified Loader'!AJ18>0,'Simplified Loader'!AJ18,\"\")","v":" "},{"$f":"IF('Simplified Loader'!W18>0,'Simplified Loader'!W18&\" \",\"\")&IF('Simplified Loader'!V18>0,'Simplified Loader'!V18,\"\")","v":""},null,{"$f":"IF('Simplified Loader'!X18>0,'Simplified Loader'!X18,\"\")","v":""},{"$f":"IF('Simplified Loader'!Y18>0,'Simplified Loader'!Y18,\"\")","v":""},{"$f":"IF('Simplified Loader'!Z18>0,'Simplified Loader'!Z18,\"\")","v":""},{"$f":"IF('Simplified Loader'!AA18>0,'Simplified Loader'!AA18,\"\")","v":""},{"$f":"IF('Simplified Loader'!E18>0,'Simplified Loader'!E18,\"\")","v":""},{"$f":"IF('Simplified Loader'!AK18>0,'Simplified Loader'!AK18,\"\")","v":""},{"$f":"IF('Simplified Loader'!AL18>0,'Simplified Loader'!AL18,\"\")","v":""},{"$f":"IF('Simplified Loader'!AM18>0,'Simplified Loader'!AM18,\"\")","v":""},{"$f":"IF('Simplified Loader'!AN18=\"Male\",\"Male\",IF('Simplified Loader'!AN18=\"Female\",\"Female\",IF('Simplified Loader'!AN18=\"M\",\"Male\",IF('Simplified Loader'!AN18=\"F\",\"Female\",\"\"))))","v":""},{"$f":"IF('Simplified Loader'!AO18=\"Single\",\"Single\",IF('Simplified Loader'!AO18=\"Family\",\"Family\",IF('Simplified Loader'!AO18=\"S\",\"Single\",IF('Simplified Loader'!AO18=\"F\",\"Family\",\"\"))))","v":""},{"$f":"IF('Simplified Loader'!AP18=\"Single\",\"Single\",IF('Simplified Loader'!AP18=\"Family\",\"Family\",IF('Simplified Loader'!AP18=\"S\",\"Single\",IF('Simplified Loader'!AP18=\"F\",\"Family\",\"\"))))","v":""},{"$f":"IF('Simplified Loader'!AQ18>0,'Simplified Loader'!AQ18,\"\")","v":""},{"$f":"IF('Simplified Loader'!AR18=\"Yes\",\"Yes\",IF('Simplified Loader'!AR18=\"No\",\"No\",IF('Simplified Loader'!AR18=\"Y\",\"Yes\",IF('Simplified Loader'!AR18=\"N\",\"No\",\"\"))))","v":""},{"$f":"IF('Simplified Loader'!AS18>0,'Simplified Loader'!AS18,\"\")","v":""},{"$f":"IF('Simplified Loader'!AT18>0,'Simplified Loader'!AT18,\"\")","v":""},{"$f":"IF('Simplified Loader'!AU18>0,'Simplified Loader'!AU18,\"\")","v":""},{"$f":"IF('Simplified Loader'!AV18=\"Male\",\"Male\",IF('Simplified Loader'!AV18=\"Female\",\"Female\",IF('Simplified Loader'!AV18=\"M\",\"Male\",IF('Simplified Loader'!AV18=\"F\",\"Female\",\"\"))))","v":""},{"$f":"IF('Simplified Loader'!AW18=\"Yes\",\"Yes\",IF('Simplified Loader'!AW18=\"No\",\"No\",IF('Simplified Loader'!AW18=\"Y\",\"Yes\",IF('Simplified Loader'!AW18=\"N\",\"No\",\"\"))))","v":""},{"$f":"IF('Simplified Loader'!AX18=\"Yes\",\"Yes\",IF('Simplified Loader'!AX18=\"No\",\"No\",IF('Simplified Loader'!AX18=\"Y\",\"Yes\",IF('Simplified Loader'!AX18=\"N\",\"No\",\"\"))))","v":""},{"$f":"IF('Simplified Loader'!AY18>0,'Simplified Loader'!AY18,\"\")","v":""},{"$f":"IF('Simplified Loader'!AZ18>0,'Simplified Loader'!AZ18,\"\")","v":""},{"$f":"IF('Simplified Loader'!BA18>0,'Simplified Loader'!BA18,\"\")","v":""},{"$f":"IF('Simplified Loader'!BB18=\"Male\",\"Male\",IF('Simplified Loader'!BB18=\"Female\",\"Female\",IF('Simplified Loader'!BB18=\"M\",\"Male\",IF('Simplified Loader'!BB18=\"F\",\"Female\",\"\"))))","v":""},{"$f":"IF('Simplified Loader'!BC18=\"Yes\",\"Yes\",IF('Simplified Loader'!BC18=\"No\",\"No\",IF('Simplified Loader'!BC18=\"Y\",\"Yes\",IF('Simplified Loader'!BC18=\"N\",\"No\",\"\"))))","v":""},{"$f":"IF('Simplified Loader'!BD18=\"Yes\",\"Yes\",IF('Simplified Loader'!BD18=\"No\",\"No\",IF('Simplified Loader'!BD18=\"Y\",\"Yes\",IF('Simplified Loader'!BD18=\"N\",\"No\",\"\"))))","v":""},{"$f":"IF('Simplified Loader'!BE18>0,'Simplified Loader'!BE18,\"\")","v":""},{"$f":"IF('Simplified Loader'!BF18>0,'Simplified Loader'!BF18,\"\")","v":""},{"$f":"IF('Simplified Loader'!BG18>0,'Simplified Loader'!BG18,\"\")","v":""},{"$f":"IF('Simplified Loader'!BH18=\"Male\",\"Male\",IF('Simplified Loader'!BH18=\"Female\",\"Female\",IF('Simplified Loader'!BH18=\"M\",\"Male\",IF('Simplified Loader'!BH18=\"F\",\"Female\",\"\"))))","v":""},{"$f":"IF('Simplified Loader'!BI18=\"Yes\",\"Yes\",IF('Simplified Loader'!BI18=\"No\",\"No\",IF('Simplified Loader'!BI18=\"Y\",\"Yes\",IF('Simplified Loader'!BI18=\"N\",\"No\",\"\"))))","v":""},{"$f":"IF('Simplified Loader'!BJ18=\"Yes\",\"Yes\",IF('Simplified Loader'!BJ18=\"No\",\"No\",IF('Simplified Loader'!BJ18=\"Y\",\"Yes\",IF('Simplified Loader'!BJ18=\"N\",\"No\",\"\"))))","v":""},{"$f":"IF('Simplified Loader'!BK18>0,'Simplified Loader'!BK18,\"\")","v":""},{"$f":"IF('Simplified Loader'!BL18>0,'Simplified Loader'!BL18,\"\")","v":""},{"$f":"IF('Simplified Loader'!BM18>0,'Simplified Loader'!BM18,\"\")","v":""},{"$f":"IF('Simplified Loader'!BN18=\"Male\",\"Male\",IF('Simplified Loader'!BN18=\"Female\",\"Female\",IF('Simplified Loader'!BN18=\"M\",\"Male\",IF('Simplified Loader'!BN18=\"F\",\"Female\",\"\"))))","v":""},{"$f":"IF('Simplified Loader'!BO18=\"Yes\",\"Yes\",IF('Simplified Loader'!BO18=\"No\",\"No\",IF('Simplified Loader'!BO18=\"Y\",\"Yes\",IF('Simplified Loader'!BO18=\"N\",\"No\",\"\"))))","v":""},{"$f":"IF('Simplified Loader'!BP18=\"Yes\",\"Yes\",IF('Simplified Loader'!BP18=\"No\",\"No\",IF('Simplified Loader'!BP18=\"Y\",\"Yes\",IF('Simplified Loader'!BP18=\"N\",\"No\",\"\"))))","v":""},{"$f":"IF('Simplified Loader'!BQ18>0,'Simplified Loader'!BQ18,\"\")","v":""},{"$f":"IF('Simplified Loader'!BR18>0,'Simplified Loader'!BR18,\"\")","v":""},{"$f":"IF('Simplified Loader'!BS18>0,'Simplified Loader'!BS18,\"\")","v":""},{"$f":"IF('Simplified Loader'!BT18=\"Male\",\"Male\",IF('Simplified Loader'!BT18=\"Female\",\"Female\",IF('Simplified Loader'!BT18=\"M\",\"Male\",IF('Simplified Loader'!BT18=\"F\",\"Female\",\"\"))))","v":""},{"$f":"IF('Simplified Loader'!BU18=\"Yes\",\"Yes\",IF('Simplified Loader'!BU18=\"No\",\"No\",IF('Simplified Loader'!BU18=\"Y\",\"Yes\",IF('Simplified Loader'!BU18=\"N\",\"No\",\"\"))))","v":""},{"$f":"IF('Simplified Loader'!BV18=\"Yes\",\"Yes\",IF('Simplified Loader'!BV18=\"No\",\"No\",IF('Simplified Loader'!BV18=\"Y\",\"Yes\",IF('Simplified Loader'!BV18=\"N\",\"No\",\"\"))))","v":""},{"$f":"IF('Simplified Loader'!BW18>0,'Simplified Loader'!BW18,\"\")","v":""},{"$f":"IF('Simplified Loader'!BX18>0,'Simplified Loader'!BX18,\"\")","v":""},{"$f":"IF('Simplified Loader'!BY18>0,'Simplified Loader'!BY18,\"\")","v":""},{"$f":"IF('Simplified Loader'!BZ18=\"Male\",\"Male\",IF('Simplified Loader'!BZ18=\"Female\",\"Female\",IF('Simplified Loader'!BZ18=\"M\",\"Male\",IF('Simplified Loader'!BZ18=\"F\",\"Female\",\"\"))))","v":""},{"$f":"IF('Simplified Loader'!CA18=\"Yes\",\"Yes\",IF('Simplified Loader'!CA18=\"No\",\"No\",IF('Simplified Loader'!CA18=\"Y\",\"Yes\",IF('Simplified Loader'!CA18=\"N\",\"No\",\"\"))))","v":""},{"$f":"IF('Simplified Loader'!CB18=\"Yes\",\"Yes\",IF('Simplified Loader'!CB18=\"No\",\"No\",IF('Simplified Loader'!CB18=\"Y\",\"Yes\",IF('Simplified Loader'!CB18=\"N\",\"No\",\"\"))))","v":""},{"$f":"IF('Simplified Loader'!CH18>0,'Simplified Loader'!CH18,\"\")","v":""}]
[{"$f":"IF('Simplified Loader'!A19>0,'Simplified Loader'!A19,\"\")","v":""},{"$f":"IF('Simplified Loader'!B19>0,'Simplified Loader'!B19,\"\")","v":""},{"$f":"IF('Simplified Loader'!C19>0,'Simplified Loader'!C19,\"\")","v":""},{"$f":"IF('Simplified Loader'!D19>0,'Simplified Loader'!D19,\"\")","v":""},{"$f":"IF('Simplified Loader'!P19>0,TEXT('Simplified Loader'!P19,\"000\"),\"\")","v":""},{"$f":"IF('Simplified Loader'!Q19>0,'Simplified Loader'!Q19,\"\")","v":""},{"$f":"IF('Simplified Loader'!R19>0,'Simplified Loader'!R19,\"\")","v":""},{"$f":"IF('Simplified Loader'!F19>0,DATEVALUE(TEXT('Simplified Loader'!F19,\"yyyy-mm-dd\")),\"\")","v":""},{"$f":"IF('Simplified Loader'!L19>0,DATEVALUE(TEXT('Simplified Loader'!L19,\"yyyy-mm-dd\")),\"\")","v":""},{"$f":"IF('Simplified Loader'!Y19>0,'Simplified Loader'!Y19,\"\")","v":""},{"$f":"IF('Simplified Loader'!T19>0,'Simplified Loader'!T19,\"\")","v":""},{"$f":"IF('Simplified Loader'!G19=\"Male\",\"Male\",IF('Simplified Loader'!G19=\"Female\",\"Female\",IF('Simplified Loader'!G19=\"M\",\"Male\",IF('Simplified Loader'!G19=\"F\",\"Female\",\"\"))))","v":""},{"$f":"IF('Simplified Loader'!U19=\"Yes\",\"Yes\",IF('Simplified Loader'!U19=\"No\",\"No\",IF('Simplified Loader'!U19=\"Y\",\"Yes\",IF('Simplified Loader'!U19=\"N\",\"No\",\"\"))))","v":""},{"$f":"IF('Simplified Loader'!I19=\"Single\",\"Single\",IF('Simplified Loader'!I19=\"Family\",\"Family\",IF('Simplified Loader'!I19=\"Waive\",\"Family\",IF('Simplified Loader'!I19=\"Single Parent\",\"Family\",IF('Simplified Loader'!I19=\"Couple\",\"Family\",IF('Simplified Loader'!I19=\"In force\",\"Family\",IF('Simplified Loader'!I19=\"Applies\",\"Family\",IF('Simplified Loader'!I19=\"Applicable\",\"Family\",\"\"))))))))","v":""},{"$f":"IF('Simplified Loader'!AC19=\"English\",\"English\",IF('Simplified Loader'!AC19=\"French\",\"French\",IF('Simplified Loader'!AC19=\"E\",\"English\",IF('Simplified Loader'!AC19=\"F\",\"French\",\"\"))))","v":""},{"$f":"IF('Simplified Loader'!AB19=\"Yes\",\"Yes\",IF('Simplified Loader'!AB19=\"No\",\"No\",IF('Simplified Loader'!AB19=\"Y\",\"Yes\",IF('Simplified Loader'!AB19=\"N\",\"No\",\"\"))))","v":""},{"$f":"IF('Simplified Loader'!AD19>0,'Simplified Loader'!AD19,\"\")","v":""},{"$f":"IF('Simplified Loader'!M19>0,'Simplified Loader'!M19,\"\")","v":""},{"$f":"IF('Simplified Loader'!N19>0,'Simplified Loader'!N19,\"\")","v":""},{"$f":"IF('Simplified Loader'!O19>0,'Simplified Loader'!O19,\"\")","v":""},{"$f":"IF('Simplified Loader'!I19=\"Waive\",\"Yes\",\"\")","v":""},{"$f":"IF('Simplified Loader'!I19=\"Waive\",\"Yes\",\"\")","v":""},{"$f":"IF('Simplified Loader'!AE19>0,'Simplified Loader'!AE19,\"\")","v":""},{"$f":"IF('Simplified Loader'!AF19>0,'Simplified Loader'!AF19,\"\")","v":""},{"$f":"IF('Simplified Loader'!AG19>0,'Simplified Loader'!AG19,\"\")","v":""},{"$f":"IF('Simplified Loader'!AH19>0,'Simplified Loader'!AH19,\"\")","v":""},{"$f":"IF('Simplified Loader'!AI19>0,'Simplified Loader'!AI19,\"\")","v":" "},{"$f":"IF('Simplified Loader'!AJ19>0,'Simplified Loader'!AJ19,\"\")","v":" "},{"$f":"IF('Simplified Loader'!W19>0,'Simplified Loader'!W19&\" \",\"\")&IF('Simplified Loader'!V19>0,'Simplified Loader'!V19,\"\")","v":""},null,{"$f":"IF('Simplified Loader'!X19>0,'Simplified Loader'!X19,\"\")","v":""},{"$f":"IF('Simplified Loader'!Y19>0,'Simplified Loader'!Y19,\"\")","v":""},{"$f":"IF('Simplified Loader'!Z19>0,'Simplified Loader'!Z19,\"\")","v":""},{"$f":"IF('Simplified Loader'!AA19>0,'Simplified Loader'!AA19,\"\")","v":""},{"$f":"IF('Simplified Loader'!E19>0,'Simplified Loader'!E19,\"\")","v":""},{"$f":"IF('Simplified Loader'!AK19>0,'Simplified Loader'!AK19,\"\")","v":""},{"$f":"IF('Simplified Loader'!AL19>0,'Simplified Loader'!AL19,\"\")","v":""},{"$f":"IF('Simplified Loader'!AM19>0,'Simplified Loader'!AM19,\"\")","v":""},{"$f":"IF('Simplified Loader'!AN19=\"Male\",\"Male\",IF('Simplified Loader'!AN19=\"Female\",\"Female\",IF('Simplified Loader'!AN19=\"M\",\"Male\",IF('Simplified Loader'!AN19=\"F\",\"Female\",\"\"))))","v":""},{"$f":"IF('Simplified Loader'!AO19=\"Single\",\"Single\",IF('Simplified Loader'!AO19=\"Family\",\"Family\",IF('Simplified Loader'!AO19=\"S\",\"Single\",IF('Simplified Loader'!AO19=\"F\",\"Family\",\"\"))))","v":""},{"$f":"IF('Simplified Loader'!AP19=\"Single\",\"Single\",IF('Simplified Loader'!AP19=\"Family\",\"Family\",IF('Simplified Loader'!AP19=\"S\",\"Single\",IF('Simplified Loader'!AP19=\"F\",\"Family\",\"\"))))","v":""},{"$f":"IF('Simplified Loader'!AQ19>0,'Simplified Loader'!AQ19,\"\")","v":""},{"$f":"IF('Simplified Loader'!AR19=\"Yes\",\"Yes\",IF('Simplified Loader'!AR19=\"No\",\"No\",IF('Simplified Loader'!AR19=\"Y\",\"Yes\",IF('Simplified Loader'!AR19=\"N\",\"No\",\"\"))))","v":""},{"$f":"IF('Simplified Loader'!AS19>0,'Simplified Loader'!AS19,\"\")","v":""},{"$f":"IF('Simplified Loader'!AT19>0,'Simplified Loader'!AT19,\"\")","v":""},{"$f":"IF('Simplified Loader'!AU19>0,'Simplified Loader'!AU19,\"\")","v":""},{"$f":"IF('Simplified Loader'!AV19=\"Male\",\"Male\",IF('Simplified Loader'!AV19=\"Female\",\"Female\",IF('Simplified Loader'!AV19=\"M\",\"Male\",IF('Simplified Loader'!AV19=\"F\",\"Female\",\"\"))))","v":""},{"$f":"IF('Simplified Loader'!AW19=\"Yes\",\"Yes\",IF('Simplified Loader'!AW19=\"No\",\"No\",IF('Simplified Loader'!AW19=\"Y\",\"Yes\",IF('Simplified Loader'!AW19=\"N\",\"No\",\"\"))))","v":""},{"$f":"IF('Simplified Loader'!AX19=\"Yes\",\"Yes\",IF('Simplified Loader'!AX19=\"No\",\"No\",IF('Simplified Loader'!AX19=\"Y\",\"Yes\",IF('Simplified Loader'!AX19=\"N\",\"No\",\"\"))))","v":""},{"$f":"IF('Simplified Loader'!AY19>0,'Simplified Loader'!AY19,\"\")","v":""},{"$f":"IF('Simplified Loader'!AZ19>0,'Simplified Loader'!AZ19,\"\")","v":""},{"$f":"IF('Simplified Loader'!BA19>0,'Simplified Loader'!BA19,\"\")","v":""},{"$f":"IF('Simplified Loader'!BB19=\"Male\",\"Male\",IF('Simplified Loader'!BB19=\"Female\",\"Female\",IF('Simplified Loader'!BB19=\"M\",\"Male\",IF('Simplified Loader'!BB19=\"F\",\"Female\",\"\"))))","v":""},{"$f":"IF('Simplified Loader'!BC19=\"Yes\",\"Yes\",IF('Simplified Loader'!BC19=\"No\",\"No\",IF('Simplified Loader'!BC19=\"Y\",\"Yes\",IF('Simplified Loader'!BC19=\"N\",\"No\",\"\"))))","v":""},{"$f":"IF('Simplified Loader'!BD19=\"Yes\",\"Yes\",IF('Simplified Loader'!BD19=\"No\",\"No\",IF('Simplified Loader'!BD19=\"Y\",\"Yes\",IF('Simplified Loader'!BD19=\"N\",\"No\",\"\"))))","v":""},{"$f":"IF('Simplified Loader'!BE19>0,'Simplified Loader'!BE19,\"\")","v":""},{"$f":"IF('Simplified Loader'!BF19>0,'Simplified Loader'!BF19,\"\")","v":""},{"$f":"IF('Simplified Loader'!BG19>0,'Simplified Loader'!BG19,\"\")","v":""},{"$f":"IF('Simplified Loader'!BH19=\"Male\",\"Male\",IF('Simplified Loader'!BH19=\"Female\",\"Female\",IF('Simplified Loader'!BH19=\"M\",\"Male\",IF('Simplified Loader'!BH19=\"F\",\"Female\",\"\"))))","v":""},{"$f":"IF('Simplified Loader'!BI19=\"Yes\",\"Yes\",IF('Simplified Loader'!BI19=\"No\",\"No\",IF('Simplified Loader'!BI19=\"Y\",\"Yes\",IF('Simplified Loader'!BI19=\"N\",\"No\",\"\"))))","v":""},{"$f":"IF('Simplified Loader'!BJ19=\"Yes\",\"Yes\",IF('Simplified Loader'!BJ19=\"No\",\"No\",IF('Simplified Loader'!BJ19=\"Y\",\"Yes\",IF('Simplified Loader'!BJ19=\"N\",\"No\",\"\"))))","v":""},{"$f":"IF('Simplified Loader'!BK19>0,'Simplified Loader'!BK19,\"\")","v":""},{"$f":"IF('Simplified Loader'!BL19>0,'Simplified Loader'!BL19,\"\")","v":""},{"$f":"IF('Simplified Loader'!BM19>0,'Simplified Loader'!BM19,\"\")","v":""},{"$f":"IF('Simplified Loader'!BN19=\"Male\",\"Male\",IF('Simplified Loader'!BN19=\"Female\",\"Female\",IF('Simplified Loader'!BN19=\"M\",\"Male\",IF('Simplified Loader'!BN19=\"F\",\"Female\",\"\"))))","v":""},{"$f":"IF('Simplified Loader'!BO19=\"Yes\",\"Yes\",IF('Simplified Loader'!BO19=\"No\",\"No\",IF('Simplified Loader'!BO19=\"Y\",\"Yes\",IF('Simplified Loader'!BO19=\"N\",\"No\",\"\"))))","v":""},{"$f":"IF('Simplified Loader'!BP19=\"Yes\",\"Yes\",IF('Simplified Loader'!BP19=\"No\",\"No\",IF('Simplified Loader'!BP19=\"Y\",\"Yes\",IF('Simplified Loader'!BP19=\"N\",\"No\",\"\"))))","v":""},{"$f":"IF('Simplified Loader'!BQ19>0,'Simplified Loader'!BQ19,\"\")","v":""},{"$f":"IF('Simplified Loader'!BR19>0,'Simplified Loader'!BR19,\"\")","v":""},{"$f":"IF('Simplified Loader'!BS19>0,'Simplified Loader'!BS19,\"\")","v":""},{"$f":"IF('Simplified Loader'!BT19=\"Male\",\"Male\",IF('Simplified Loader'!BT19=\"Female\",\"Female\",IF('Simplified Loader'!BT19=\"M\",\"Male\",IF('Simplified Loader'!BT19=\"F\",\"Female\",\"\"))))","v":""},{"$f":"IF('Simplified Loader'!BU19=\"Yes\",\"Yes\",IF('Simplified Loader'!BU19=\"No\",\"No\",IF('Simplified Loader'!BU19=\"Y\",\"Yes\",IF('Simplified Loader'!BU19=\"N\",\"No\",\"\"))))","v":""},{"$f":"IF('Simplified Loader'!BV19=\"Yes\",\"Yes\",IF('Simplified Loader'!BV19=\"No\",\"No\",IF('Simplified Loader'!BV19=\"Y\",\"Yes\",IF('Simplified Loader'!BV19=\"N\",\"No\",\"\"))))","v":""},{"$f":"IF('Simplified Loader'!BW19>0,'Simplified Loader'!BW19,\"\")","v":""},{"$f":"IF('Simplified Loader'!BX19>0,'Simplified Loader'!BX19,\"\")","v":""},{"$f":"IF('Simplified Loader'!BY19>0,'Simplified Loader'!BY19,\"\")","v":""},{"$f":"IF('Simplified Loader'!BZ19=\"Male\",\"Male\",IF('Simplified Loader'!BZ19=\"Female\",\"Female\",IF('Simplified Loader'!BZ19=\"M\",\"Male\",IF('Simplified Loader'!BZ19=\"F\",\"Female\",\"\"))))","v":""},{"$f":"IF('Simplified Loader'!CA19=\"Yes\",\"Yes\",IF('Simplified Loader'!CA19=\"No\",\"No\",IF('Simplified Loader'!CA19=\"Y\",\"Yes\",IF('Simplified Loader'!CA19=\"N\",\"No\",\"\"))))","v":""},{"$f":"IF('Simplified Loader'!CB19=\"Yes\",\"Yes\",IF('Simplified Loader'!CB19=\"No\",\"No\",IF('Simplified Loader'!CB19=\"Y\",\"Yes\",IF('Simplified Loader'!CB19=\"N\",\"No\",\"\"))))","v":""},{"$f":"IF('Simplified Loader'!CH19>0,'Simplified Loader'!CH19,\"\")","v":""}]
[{"$f":"IF('Simplified Loader'!A20>0,'Simplified Loader'!A20,\"\")","v":""},{"$f":"IF('Simplified Loader'!B20>0,'Simplified Loader'!B20,\"\")","v":""},{"$f":"IF('Simplified Loader'!C20>0,'Simplified Loader'!C20,\"\")","v":""},{"$f":"IF('Simplified Loader'!D20>0,'Simplified Loader'!D20,\"\")","v":""},{"$f":"IF('Simplified Loader'!P20>0,TEXT('Simplified Loader'!P20,\"000\"),\"\")","v":""},{"$f":"IF('Simplified Loader'!Q20>0,'Simplified Loader'!Q20,\"\")","v":""},{"$f":"IF('Simplified Loader'!R20>0,'Simplified Loader'!R20,\"\")","v":""},{"$f":"IF('Simplified Loader'!F20>0,DATEVALUE(TEXT('Simplified Loader'!F20,\"yyyy-mm-dd\")),\"\")","v":""},{"$f":"IF('Simplified Loader'!L20>0,DATEVALUE(TEXT('Simplified Loader'!L20,\"yyyy-mm-dd\")),\"\")","v":""},{"$f":"IF('Simplified Loader'!Y20>0,'Simplified Loader'!Y20,\"\")","v":""},{"$f":"IF('Simplified Loader'!T20>0,'Simplified Loader'!T20,\"\")","v":""},{"$f":"IF('Simplified Loader'!G20=\"Male\",\"Male\",IF('Simplified Loader'!G20=\"Female\",\"Female\",IF('Simplified Loader'!G20=\"M\",\"Male\",IF('Simplified Loader'!G20=\"F\",\"Female\",\"\"))))","v":""},{"$f":"IF('Simplified Loader'!U20=\"Yes\",\"Yes\",IF('Simplified Loader'!U20=\"No\",\"No\",IF('Simplified Loader'!U20=\"Y\",\"Yes\",IF('Simplified Loader'!U20=\"N\",\"No\",\"\"))))","v":""},{"$f":"IF('Simplified Loader'!I20=\"Single\",\"Single\",IF('Simplified Loader'!I20=\"Family\",\"Family\",IF('Simplified Loader'!I20=\"Waive\",\"Family\",IF('Simplified Loader'!I20=\"Single Parent\",\"Family\",IF('Simplified Loader'!I20=\"Couple\",\"Family\",IF('Simplified Loader'!I20=\"In force\",\"Family\",IF('Simplified Loader'!I20=\"Applies\",\"Family\",IF('Simplified Loader'!I20=\"Applicable\",\"Family\",\"\"))))))))","v":""},{"$f":"IF('Simplified Loader'!AC20=\"English\",\"English\",IF('Simplified Loader'!AC20=\"French\",\"French\",IF('Simplified Loader'!AC20=\"E\",\"English\",IF('Simplified Loader'!AC20=\"F\",\"French\",\"\"))))","v":""},{"$f":"IF('Simplified Loader'!AB20=\"Yes\",\"Yes\",IF('Simplified Loader'!AB20=\"No\",\"No\",IF('Simplified Loader'!AB20=\"Y\",\"Yes\",IF('Simplified Loader'!AB20=\"N\",\"No\",\"\"))))","v":""},{"$f":"IF('Simplified Loader'!AD20>0,'Simplified Loader'!AD20,\"\")","v":""},{"$f":"IF('Simplified Loader'!M20>0,'Simplified Loader'!M20,\"\")","v":""},{"$f":"IF('Simplified Loader'!N20>0,'Simplified Loader'!N20,\"\")","v":""},{"$f":"IF('Simplified Loader'!O20>0,'Simplified Loader'!O20,\"\")","v":""},{"$f":"IF('Simplified Loader'!I20=\"Waive\",\"Yes\",\"\")","v":""},{"$f":"IF('Simplified Loader'!I20=\"Waive\",\"Yes\",\"\")","v":""},{"$f":"IF('Simplified Loader'!AE20>0,'Simplified Loader'!AE20,\"\")","v":""},{"$f":"IF('Simplified Loader'!AF20>0,'Simplified Loader'!AF20,\"\")","v":""},{"$f":"IF('Simplified Loader'!AG20>0,'Simplified Loader'!AG20,\"\")","v":""},{"$f":"IF('Simplified Loader'!AH20>0,'Simplified Loader'!AH20,\"\")","v":""},{"$f":"IF('Simplified Loader'!AI20>0,'Simplified Loader'!AI20,\"\")","v":" "},{"$f":"IF('Simplified Loader'!AJ20>0,'Simplified Loader'!AJ20,\"\")","v":" "},{"$f":"IF('Simplified Loader'!W20>0,'Simplified Loader'!W20&\" \",\"\")&IF('Simplified Loader'!V20>0,'Simplified Loader'!V20,\"\")","v":""},null,{"$f":"IF('Simplified Loader'!X20>0,'Simplified Loader'!X20,\"\")","v":""},{"$f":"IF('Simplified Loader'!Y20>0,'Simplified Loader'!Y20,\"\")","v":""},{"$f":"IF('Simplified Loader'!Z20>0,'Simplified Loader'!Z20,\"\")","v":""},{"$f":"IF('Simplified Loader'!AA20>0,'Simplified Loader'!AA20,\"\")","v":""},{"$f":"IF('Simplified Loader'!E20>0,'Simplified Loader'!E20,\"\")","v":""},{"$f":"IF('Simplified Loader'!AK20>0,'Simplified Loader'!AK20,\"\")","v":""},{"$f":"IF('Simplified Loader'!AL20>0,'Simplified Loader'!AL20,\"\")","v":""},{"$f":"IF('Simplified Loader'!AM20>0,'Simplified Loader'!AM20,\"\")","v":""},{"$f":"IF('Simplified Loader'!AN20=\"Male\",\"Male\",IF('Simplified Loader'!AN20=\"Female\",\"Female\",IF('Simplified Loader'!AN20=\"M\",\"Male\",IF('Simplified Loader'!AN20=\"F\",\"Female\",\"\"))))","v":""},{"$f":"IF('Simplified Loader'!AO20=\"Single\",\"Single\",IF('Simplified Loader'!AO20=\"Family\",\"Family\",IF('Simplified Loader'!AO20=\"S\",\"Single\",IF('Simplified Loader'!AO20=\"F\",\"Family\",\"\"))))","v":""},{"$f":"IF('Simplified Loader'!AP20=\"Single\",\"Single\",IF('Simplified Loader'!AP20=\"Family\",\"Family\",IF('Simplified Loader'!AP20=\"S\",\"Single\",IF('Simplified Loader'!AP20=\"F\",\"Family\",\"\"))))","v":""},{"$f":"IF('Simplified Loader'!AQ20>0,'Simplified Loader'!AQ20,\"\")","v":""},{"$f":"IF('Simplified Loader'!AR20=\"Yes\",\"Yes\",IF('Simplified Loader'!AR20=\"No\",\"No\",IF('Simplified Loader'!AR20=\"Y\",\"Yes\",IF('Simplified Loader'!AR20=\"N\",\"No\",\"\"))))","v":""},{"$f":"IF('Simplified Loader'!AS20>0,'Simplified Loader'!AS20,\"\")","v":""},{"$f":"IF('Simplified Loader'!AT20>0,'Simplified Loader'!AT20,\"\")","v":""},{"$f":"IF('Simplified Loader'!AU20>0,'Simplified Loader'!AU20,\"\")","v":""},{"$f":"IF('Simplified Loader'!AV20=\"Male\",\"Male\",IF('Simplified Loader'!AV20=\"Female\",\"Female\",IF('Simplified Loader'!AV20=\"M\",\"Male\",IF('Simplified Loader'!AV20=\"F\",\"Female\",\"\"))))","v":""},{"$f":"IF('Simplified Loader'!AW20=\"Yes\",\"Yes\",IF('Simplified Loader'!AW20=\"No\",\"No\",IF('Simplified Loader'!AW20=\"Y\",\"Yes\",IF('Simplified Loader'!AW20=\"N\",\"No\",\"\"))))","v":""},{"$f":"IF('Simplified Loader'!AX20=\"Yes\",\"Yes\",IF('Simplified Loader'!AX20=\"No\",\"No\",IF('Simplified Loader'!AX20=\"Y\",\"Yes\",IF('Simplified Loader'!AX20=\"N\",\"No\",\"\"))))","v":""},{"$f":"IF('Simplified Loader'!AY20>0,'Simplified Loader'!AY20,\"\")","v":""},{"$f":"IF('Simplified Loader'!AZ20>0,'Simplified Loader'!AZ20,\"\")","v":""},{"$f":"IF('Simplified Loader'!BA20>0,'Simplified Loader'!BA20,\"\")","v":""},{"$f":"IF('Simplified Loader'!BB20=\"Male\",\"Male\",IF('Simplified Loader'!BB20=\"Female\",\"Female\",IF('Simplified Loader'!BB20=\"M\",\"Male\",IF('Simplified Loader'!BB20=\"F\",\"Female\",\"\"))))","v":""},{"$f":"IF('Simplified Loader'!BC20=\"Yes\",\"Yes\",IF('Simplified Loader'!BC20=\"No\",\"No\",IF('Simplified Loader'!BC20=\"Y\",\"Yes\",IF('Simplified Loader'!BC20=\"N\",\"No\",\"\"))))","v":""},{"$f":"IF('Simplified Loader'!BD20=\"Yes\",\"Yes\",IF('Simplified Loader'!BD20=\"No\",\"No\",IF('Simplified Loader'!BD20=\"Y\",\"Yes\",IF('Simplified Loader'!BD20=\"N\",\"No\",\"\"))))","v":""},{"$f":"IF('Simplified Loader'!BE20>0,'Simplified Loader'!BE20,\"\")","v":""},{"$f":"IF('Simplified Loader'!BF20>0,'Simplified Loader'!BF20,\"\")","v":""},{"$f":"IF('Simplified Loader'!BG20>0,'Simplified Loader'!BG20,\"\")","v":""},{"$f":"IF('Simplified Loader'!BH20=\"Male\",\"Male\",IF('Simplified Loader'!BH20=\"Female\",\"Female\",IF('Simplified Loader'!BH20=\"M\",\"Male\",IF('Simplified Loader'!BH20=\"F\",\"Female\",\"\"))))","v":""},{"$f":"IF('Simplified Loader'!BI20=\"Yes\",\"Yes\",IF('Simplified Loader'!BI20=\"No\",\"No\",IF('Simplified Loader'!BI20=\"Y\",\"Yes\",IF('Simplified Loader'!BI20=\"N\",\"No\",\"\"))))","v":""},{"$f":"IF('Simplified Loader'!BJ20=\"Yes\",\"Yes\",IF('Simplified Loader'!BJ20=\"No\",\"No\",IF('Simplified Loader'!BJ20=\"Y\",\"Yes\",IF('Simplified Loader'!BJ20=\"N\",\"No\",\"\"))))","v":""},{"$f":"IF('Simplified Loader'!BK20>0,'Simplified Loader'!BK20,\"\")","v":""},{"$f":"IF('Simplified Loader'!BL20>0,'Simplified Loader'!BL20,\"\")","v":""},{"$f":"IF('Simplified Loader'!BM20>0,'Simplified Loader'!BM20,\"\")","v":""},{"$f":"IF('Simplified Loader'!BN20=\"Male\",\"Male\",IF('Simplified Loader'!BN20=\"Female\",\"Female\",IF('Simplified Loader'!BN20=\"M\",\"Male\",IF('Simplified Loader'!BN20=\"F\",\"Female\",\"\"))))","v":""},{"$f":"IF('Simplified Loader'!BO20=\"Yes\",\"Yes\",IF('Simplified Loader'!BO20=\"No\",\"No\",IF('Simplified Loader'!BO20=\"Y\",\"Yes\",IF('Simplified Loader'!BO20=\"N\",\"No\",\"\"))))","v":""},{"$f":"IF('Simplified Loader'!BP20=\"Yes\",\"Yes\",IF('Simplified Loader'!BP20=\"No\",\"No\",IF('Simplified Loader'!BP20=\"Y\",\"Yes\",IF('Simplified Loader'!BP20=\"N\",\"No\",\"\"))))","v":""},{"$f":"IF('Simplified Loader'!BQ20>0,'Simplified Loader'!BQ20,\"\")","v":""},{"$f":"IF('Simplified Loader'!BR20>0,'Simplified Loader'!BR20,\"\")","v":""},{"$f":"IF('Simplified Loader'!BS20>0,'Simplified Loader'!BS20,\"\")","v":""},{"$f":"IF('Simplified Loader'!BT20=\"Male\",\"Male\",IF('Simplified Loader'!BT20=\"Female\",\"Female\",IF('Simplified Loader'!BT20=\"M\",\"Male\",IF('Simplified Loader'!BT20=\"F\",\"Female\",\"\"))))","v":""},{"$f":"IF('Simplified Loader'!BU20=\"Yes\",\"Yes\",IF('Simplified Loader'!BU20=\"No\",\"No\",IF('Simplified Loader'!BU20=\"Y\",\"Yes\",IF('Simplified Loader'!BU20=\"N\",\"No\",\"\"))))","v":""},{"$f":"IF('Simplified Loader'!BV20=\"Yes\",\"Yes\",IF('Simplified Loader'!BV20=\"No\",\"No\",IF('Simplified Loader'!BV20=\"Y\",\"Yes\",IF('Simplified Loader'!BV20=\"N\",\"No\",\"\"))))","v":""},{"$f":"IF('Simplified Loader'!BW20>0,'Simplified Loader'!BW20,\"\")","v":""},{"$f":"IF('Simplified Loader'!BX20>0,'Simplified Loader'!BX20,\"\")","v":""},{"$f":"IF('Simplified Loader'!BY20>0,'Simplified Loader'!BY20,\"\")","v":""},{"$f":"IF('Simplified Loader'!BZ20=\"Male\",\"Male\",IF('Simplified Loader'!BZ20=\"Female\",\"Female\",IF('Simplified Loader'!BZ20=\"M\",\"Male\",IF('Simplified Loader'!BZ20=\"F\",\"Female\",\"\"))))","v":""},{"$f":"IF('Simplified Loader'!CA20=\"Yes\",\"Yes\",IF('Simplified Loader'!CA20=\"No\",\"No\",IF('Simplified Loader'!CA20=\"Y\",\"Yes\",IF('Simplified Loader'!CA20=\"N\",\"No\",\"\"))))","v":""},{"$f":"IF('Simplified Loader'!CB20=\"Yes\",\"Yes\",IF('Simplified Loader'!CB20=\"No\",\"No\",IF('Simplified Loader'!CB20=\"Y\",\"Yes\",IF('Simplified Loader'!CB20=\"N\",\"No\",\"\"))))","v":""},{"$f":"IF('Simplified Loader'!CH20>0,'Simplified Loader'!CH20,\"\")","v":""}]
[{"$f":"IF('Simplified Loader'!A21>0,'Simplified Loader'!A21,\"\")","v":""},{"$f":"IF('Simplified Loader'!B21>0,'Simplified Loader'!B21,\"\")","v":""},{"$f":"IF('Simplified Loader'!C21>0,'Simplified Loader'!C21,\"\")","v":""},{"$f":"IF('Simplified Loader'!D21>0,'Simplified Loader'!D21,\"\")","v":""},{"$f":"IF('Simplified Loader'!P21>0,TEXT('Simplified Loader'!P21,\"000\"),\"\")","v":""},{"$f":"IF('Simplified Loader'!Q21>0,'Simplified Loader'!Q21,\"\")","v":""},{"$f":"IF('Simplified Loader'!R21>0,'Simplified Loader'!R21,\"\")","v":""},{"$f":"IF('Simplified Loader'!F21>0,DATEVALUE(TEXT('Simplified Loader'!F21,\"yyyy-mm-dd\")),\"\")","v":""},{"$f":"IF('Simplified Loader'!L21>0,DATEVALUE(TEXT('Simplified Loader'!L21,\"yyyy-mm-dd\")),\"\")","v":""},{"$f":"IF('Simplified Loader'!Y21>0,'Simplified Loader'!Y21,\"\")","v":""},{"$f":"IF('Simplified Loader'!T21>0,'Simplified Loader'!T21,\"\")","v":""},{"$f":"IF('Simplified Loader'!G21=\"Male\",\"Male\",IF('Simplified Loader'!G21=\"Female\",\"Female\",IF('Simplified Loader'!G21=\"M\",\"Male\",IF('Simplified Loader'!G21=\"F\",\"Female\",\"\"))))","v":""},{"$f":"IF('Simplified Loader'!U21=\"Yes\",\"Yes\",IF('Simplified Loader'!U21=\"No\",\"No\",IF('Simplified Loader'!U21=\"Y\",\"Yes\",IF('Simplified Loader'!U21=\"N\",\"No\",\"\"))))","v":""},{"$f":"IF('Simplified Loader'!I21=\"Single\",\"Single\",IF('Simplified Loader'!I21=\"Family\",\"Family\",IF('Simplified Loader'!I21=\"Waive\",\"Family\",IF('Simplified Loader'!I21=\"Single Parent\",\"Family\",IF('Simplified Loader'!I21=\"Couple\",\"Family\",IF('Simplified Loader'!I21=\"In force\",\"Family\",IF('Simplified Loader'!I21=\"Applies\",\"Family\",IF('Simplified Loader'!I21=\"Applicable\",\"Family\",\"\"))))))))","v":""},{"$f":"IF('Simplified Loader'!AC21=\"English\",\"English\",IF('Simplified Loader'!AC21=\"French\",\"French\",IF('Simplified Loader'!AC21=\"E\",\"English\",IF('Simplified Loader'!AC21=\"F\",\"French\",\"\"))))","v":""},{"$f":"IF('Simplified Loader'!AB21=\"Yes\",\"Yes\",IF('Simplified Loader'!AB21=\"No\",\"No\",IF('Simplified Loader'!AB21=\"Y\",\"Yes\",IF('Simplified Loader'!AB21=\"N\",\"No\",\"\"))))","v":""},{"$f":"IF('Simplified Loader'!AD21>0,'Simplified Loader'!AD21,\"\")","v":""},{"$f":"IF('Simplified Loader'!M21>0,'Simplified Loader'!M21,\"\")","v":""},{"$f":"IF('Simplified Loader'!N21>0,'Simplified Loader'!N21,\"\")","v":""},{"$f":"IF('Simplified Loader'!O21>0,'Simplified Loader'!O21,\"\")","v":""},{"$f":"IF('Simplified Loader'!I21=\"Waive\",\"Yes\",\"\")","v":""},{"$f":"IF('Simplified Loader'!I21=\"Waive\",\"Yes\",\"\")","v":""},{"$f":"IF('Simplified Loader'!AE21>0,'Simplified Loader'!AE21,\"\")","v":""},{"$f":"IF('Simplified Loader'!AF21>0,'Simplified Loader'!AF21,\"\")","v":""},{"$f":"IF('Simplified Loader'!AG21>0,'Simplified Loader'!AG21,\"\")","v":""},{"$f":"IF('Simplified Loader'!AH21>0,'Simplified Loader'!AH21,\"\")","v":""},{"$f":"IF('Simplified Loader'!AI21>0,'Simplified Loader'!AI21,\"\")","v":" "},{"$f":"IF('Simplified Loader'!AJ21>0,'Simplified Loader'!AJ21,\"\")","v":" "},{"$f":"IF('Simplified Loader'!W21>0,'Simplified Loader'!W21&\" \",\"\")&IF('Simplified Loader'!V21>0,'Simplified Loader'!V21,\"\")","v":""},null,{"$f":"IF('Simplified Loader'!X21>0,'Simplified Loader'!X21,\"\")","v":""},{"$f":"IF('Simplified Loader'!Y21>0,'Simplified Loader'!Y21,\"\")","v":""},{"$f":"IF('Simplified Loader'!Z21>0,'Simplified Loader'!Z21,\"\")","v":""},{"$f":"IF('Simplified Loader'!AA21>0,'Simplified Loader'!AA21,\"\")","v":""},{"$f":"IF('Simplified Loader'!E21>0,'Simplified Loader'!E21,\"\")","v":""},{"$f":"IF('Simplified Loader'!AK21>0,'Simplified Loader'!AK21,\"\")","v":""},{"$f":"IF('Simplified Loader'!AL21>0,'Simplified Loader'!AL21,\"\")","v":""},{"$f":"IF('Simplified Loader'!AM21>0,'Simplified Loader'!AM21,\"\")","v":""},{"$f":"IF('Simplified Loader'!AN21=\"Male\",\"Male\",IF('Simplified Loader'!AN21=\"Female\",\"Female\",IF('Simplified Loader'!AN21=\"M\",\"Male\",IF('Simplified Loader'!AN21=\"F\",\"Female\",\"\"))))","v":""},{"$f":"IF('Simplified Loader'!AO21=\"Single\",\"Single\",IF('Simplified Loader'!AO21=\"Family\",\"Family\",IF('Simplified Loader'!AO21=\"S\",\"Single\",IF('Simplified Loader'!AO21=\"F\",\"Family\",\"\"))))","v":""},{"$f":"IF('Simplified Loader'!AP21=\"Single\",\"Single\",IF('Simplified Loader'!AP21=\"Family\",\"Family\",IF('Simplified Loader'!AP21=\"S\",\"Single\",IF('Simplified Loader'!AP21=\"F\",\"Family\",\"\"))))","v":""},{"$f":"IF('Simplified Loader'!AQ21>0,'Simplified Loader'!AQ21,\"\")","v":""},{"$f":"IF('Simplified Loader'!AR21=\"Yes\",\"Yes\",IF('Simplified Loader'!AR21=\"No\",\"No\",IF('Simplified Loader'!AR21=\"Y\",\"Yes\",IF('Simplified Loader'!AR21=\"N\",\"No\",\"\"))))","v":""},{"$f":"IF('Simplified Loader'!AS21>0,'Simplified Loader'!AS21,\"\")","v":""},{"$f":"IF('Simplified Loader'!AT21>0,'Simplified Loader'!AT21,\"\")","v":""},{"$f":"IF('Simplified Loader'!AU21>0,'Simplified Loader'!AU21,\"\")","v":""},{"$f":"IF('Simplified Loader'!AV21=\"Male\",\"Male\",IF('Simplified Loader'!AV21=\"Female\",\"Female\",IF('Simplified Loader'!AV21=\"M\",\"Male\",IF('Simplified Loader'!AV21=\"F\",\"Female\",\"\"))))","v":""},{"$f":"IF('Simplified Loader'!AW21=\"Yes\",\"Yes\",IF('Simplified Loader'!AW21=\"No\",\"No\",IF('Simplified Loader'!AW21=\"Y\",\"Yes\",IF('Simplified Loader'!AW21=\"N\",\"No\",\"\"))))","v":""},{"$f":"IF('Simplified Loader'!AX21=\"Yes\",\"Yes\",IF('Simplified Loader'!AX21=\"No\",\"No\",IF('Simplified Loader'!AX21=\"Y\",\"Yes\",IF('Simplified Loader'!AX21=\"N\",\"No\",\"\"))))","v":""},{"$f":"IF('Simplified Loader'!AY21>0,'Simplified Loader'!AY21,\"\")","v":""},{"$f":"IF('Simplified Loader'!AZ21>0,'Simplified Loader'!AZ21,\"\")","v":""},{"$f":"IF('Simplified Loader'!BA21>0,'Simplified Loader'!BA21,\"\")","v":""},{"$f":"IF('Simplified Loader'!BB21=\"Male\",\"Male\",IF('Simplified Loader'!BB21=\"Female\",\"Female\",IF('Simplified Loader'!BB21=\"M\",\"Male\",IF('Simplified Loader'!BB21=\"F\",\"Female\",\"\"))))","v":""},{"$f":"IF('Simplified Loader'!BC21=\"Yes\",\"Yes\",IF('Simplified Loader'!BC21=\"No\",\"No\",IF('Simplified Loader'!BC21=\"Y\",\"Yes\",IF('Simplified Loader'!BC21=\"N\",\"No\",\"\"))))","v":""},{"$f":"IF('Simplified Loader'!BD21=\"Yes\",\"Yes\",IF('Simplified Loader'!BD21=\"No\",\"No\",IF('Simplified Loader'!BD21=\"Y\",\"Yes\",IF('Simplified Loader'!BD21=\"N\",\"No\",\"\"))))","v":""},{"$f":"IF('Simplified Loader'!BE21>0,'Simplified Loader'!BE21,\"\")","v":""},{"$f":"IF('Simplified Loader'!BF21>0,'Simplified Loader'!BF21,\"\")","v":""},{"$f":"IF('Simplified Loader'!BG21>0,'Simplified Loader'!BG21,\"\")","v":""},{"$f":"IF('Simplified Loader'!BH21=\"Male\",\"Male\",IF('Simplified Loader'!BH21=\"Female\",\"Female\",IF('Simplified Loader'!BH21=\"M\",\"Male\",IF('Simplified Loader'!BH21=\"F\",\"Female\",\"\"))))","v":""},{"$f":"IF('Simplified Loader'!BI21=\"Yes\",\"Yes\",IF('Simplified Loader'!BI21=\"No\",\"No\",IF('Simplified Loader'!BI21=\"Y\",\"Yes\",IF('Simplified Loader'!BI21=\"N\",\"No\",\"\"))))","v":""},{"$f":"IF('Simplified Loader'!BJ21=\"Yes\",\"Yes\",IF('Simplified Loader'!BJ21=\"No\",\"No\",IF('Simplified Loader'!BJ21=\"Y\",\"Yes\",IF('Simplified Loader'!BJ21=\"N\",\"No\",\"\"))))","v":""},{"$f":"IF('Simplified Loader'!BK21>0,'Simplified Loader'!BK21,\"\")","v":""},{"$f":"IF('Simplified Loader'!BL21>0,'Simplified Loader'!BL21,\"\")","v":""},{"$f":"IF('Simplified Loader'!BM21>0,'Simplified Loader'!BM21,\"\")","v":""},{"$f":"IF('Simplified Loader'!BN21=\"Male\",\"Male\",IF('Simplified Loader'!BN21=\"Female\",\"Female\",IF('Simplified Loader'!BN21=\"M\",\"Male\",IF('Simplified Loader'!BN21=\"F\",\"Female\",\"\"))))","v":""},{"$f":"IF('Simplified Loader'!BO21=\"Yes\",\"Yes\",IF('Simplified Loader'!BO21=\"No\",\"No\",IF('Simplified Loader'!BO21=\"Y\",\"Yes\",IF('Simplified Loader'!BO21=\"N\",\"No\",\"\"))))","v":""},{"$f":"IF('Simplified Loader'!BP21=\"Yes\",\"Yes\",IF('Simplified Loader'!BP21=\"No\",\"No\",IF('Simplified Loader'!BP21=\"Y\",\"Yes\",IF('Simplified Loader'!BP21=\"N\",\"No\",\"\"))))","v":""},{"$f":"IF('Simplified Loader'!BQ21>0,'Simplified Loader'!BQ21,\"\")","v":""},{"$f":"IF('Simplified Loader'!BR21>0,'Simplified Loader'!BR21,\"\")","v":""},{"$f":"IF('Simplified Loader'!BS21>0,'Simplified Loader'!BS21,\"\")","v":""},{"$f":"IF('Simplified Loader'!BT21=\"Male\",\"Male\",IF('Simplified Loader'!BT21=\"Female\",\"Female\",IF('Simplified Loader'!BT21=\"M\",\"Male\",IF('Simplified Loader'!BT21=\"F\",\"Female\",\"\"))))","v":""},{"$f":"IF('Simplified Loader'!BU21=\"Yes\",\"Yes\",IF('Simplified Loader'!BU21=\"No\",\"No\",IF('Simplified Loader'!BU21=\"Y\",\"Yes\",IF('Simplified Loader'!BU21=\"N\",\"No\",\"\"))))","v":""},{"$f":"IF('Simplified Loader'!BV21=\"Yes\",\"Yes\",IF('Simplified Loader'!BV21=\"No\",\"No\",IF('Simplified Loader'!BV21=\"Y\",\"Yes\",IF('Simplified Loader'!BV21=\"N\",\"No\",\"\"))))","v":""},{"$f":"IF('Simplified Loader'!BW21>0,'Simplified Loader'!BW21,\"\")","v":""},{"$f":"IF('Simplified Loader'!BX21>0,'Simplified Loader'!BX21,\"\")","v":""},{"$f":"IF('Simplified Loader'!BY21>0,'Simplified Loader'!BY21,\"\")","v":""},{"$f":"IF('Simplified Loader'!BZ21=\"Male\",\"Male\",IF('Simplified Loader'!BZ21=\"Female\",\"Female\",IF('Simplified Loader'!BZ21=\"M\",\"Male\",IF('Simplified Loader'!BZ21=\"F\",\"Female\",\"\"))))","v":""},{"$f":"IF('Simplified Loader'!CA21=\"Yes\",\"Yes\",IF('Simplified Loader'!CA21=\"No\",\"No\",IF('Simplified Loader'!CA21=\"Y\",\"Yes\",IF('Simplified Loader'!CA21=\"N\",\"No\",\"\"))))","v":""},{"$f":"IF('Simplified Loader'!CB21=\"Yes\",\"Yes\",IF('Simplified Loader'!CB21=\"No\",\"No\",IF('Simplified Loader'!CB21=\"Y\",\"Yes\",IF('Simplified Loader'!CB21=\"N\",\"No\",\"\"))))","v":""},{"$f":"IF('Simplified Loader'!CH21>0,'Simplified Loader'!CH21,\"\")","v":""}]
[{"$f":"IF('Simplified Loader'!A22>0,'Simplified Loader'!A22,\"\")","v":""},{"$f":"IF('Simplified Loader'!B22>0,'Simplified Loader'!B22,\"\")","v":""},{"$f":"IF('Simplified Loader'!C22>0,'Simplified Loader'!C22,\"\")","v":""},{"$f":"IF('Simplified Loader'!D22>0,'Simplified Loader'!D22,\"\")","v":""},{"$f":"IF('Simplified Loader'!P22>0,TEXT('Simplified Loader'!P22,\"000\"),\"\")","v":""},{"$f":"IF('Simplified Loader'!Q22>0,'Simplified Loader'!Q22,\"\")","v":""},{"$f":"IF('Simplified Loader'!R22>0,'Simplified Loader'!R22,\"\")","v":""},{"$f":"IF('Simplified Loader'!F22>0,DATEVALUE(TEXT('Simplified Loader'!F22,\"yyyy-mm-dd\")),\"\")","v":""},{"$f":"IF('Simplified Loader'!L22>0,DATEVALUE(TEXT('Simplified Loader'!L22,\"yyyy-mm-dd\")),\"\")","v":""},{"$f":"IF('Simplified Loader'!Y22>0,'Simplified Loader'!Y22,\"\")","v":""},{"$f":"IF('Simplified Loader'!T22>0,'Simplified Loader'!T22,\"\")","v":""},{"$f":"IF('Simplified Loader'!G22=\"Male\",\"Male\",IF('Simplified Loader'!G22=\"Female\",\"Female\",IF('Simplified Loader'!G22=\"M\",\"Male\",IF('Simplified Loader'!G22=\"F\",\"Female\",\"\"))))","v":""},{"$f":"IF('Simplified Loader'!U22=\"Yes\",\"Yes\",IF('Simplified Loader'!U22=\"No\",\"No\",IF('Simplified Loader'!U22=\"Y\",\"Yes\",IF('Simplified Loader'!U22=\"N\",\"No\",\"\"))))","v":""},{"$f":"IF('Simplified Loader'!I22=\"Single\",\"Single\",IF('Simplified Loader'!I22=\"Family\",\"Family\",IF('Simplified Loader'!I22=\"Waive\",\"Family\",IF('Simplified Loader'!I22=\"Single Parent\",\"Family\",IF('Simplified Loader'!I22=\"Couple\",\"Family\",IF('Simplified Loader'!I22=\"In force\",\"Family\",IF('Simplified Loader'!I22=\"Applies\",\"Family\",IF('Simplified Loader'!I22=\"Applicable\",\"Family\",\"\"))))))))","v":""},{"$f":"IF('Simplified Loader'!AC22=\"English\",\"English\",IF('Simplified Loader'!AC22=\"French\",\"French\",IF('Simplified Loader'!AC22=\"E\",\"English\",IF('Simplified Loader'!AC22=\"F\",\"French\",\"\"))))","v":""},{"$f":"IF('Simplified Loader'!AB22=\"Yes\",\"Yes\",IF('Simplified Loader'!AB22=\"No\",\"No\",IF('Simplified Loader'!AB22=\"Y\",\"Yes\",IF('Simplified Loader'!AB22=\"N\",\"No\",\"\"))))","v":""},{"$f":"IF('Simplified Loader'!AD22>0,'Simplified Loader'!AD22,\"\")","v":""},{"$f":"IF('Simplified Loader'!M22>0,'Simplified Loader'!M22,\"\")","v":""},{"$f":"IF('Simplified Loader'!N22>0,'Simplified Loader'!N22,\"\")","v":""},{"$f":"IF('Simplified Loader'!O22>0,'Simplified Loader'!O22,\"\")","v":""},{"$f":"IF('Simplified Loader'!I22=\"Waive\",\"Yes\",\"\")","v":""},{"$f":"IF('Simplified Loader'!I22=\"Waive\",\"Yes\",\"\")","v":""},{"$f":"IF('Simplified Loader'!AE22>0,'Simplified Loader'!AE22,\"\")","v":""},{"$f":"IF('Simplified Loader'!AF22>0,'Simplified Loader'!AF22,\"\")","v":""},{"$f":"IF('Simplified Loader'!AG22>0,'Simplified Loader'!AG22,\"\")","v":""},{"$f":"IF('Simplified Loader'!AH22>0,'Simplified Loader'!AH22,\"\")","v":""},{"$f":"IF('Simplified Loader'!AI22>0,'Simplified Loader'!AI22,\"\")","v":" "},{"$f":"IF('Simplified Loader'!AJ22>0,'Simplified Loader'!AJ22,\"\")","v":" "},{"$f":"IF('Simplified Loader'!W22>0,'Simplified Loader'!W22&\" \",\"\")&IF('Simplified Loader'!V22>0,'Simplified Loader'!V22,\"\")","v":""},null,{"$f":"IF('Simplified Loader'!X22>0,'Simplified Loader'!X22,\"\")","v":""},{"$f":"IF('Simplified Loader'!Y22>0,'Simplified Loader'!Y22,\"\")","v":""},{"$f":"IF('Simplified Loader'!Z22>0,'Simplified Loader'!Z22,\"\")","v":""},{"$f":"IF('Simplified Loader'!AA22>0,'Simplified Loader'!AA22,\"\")","v":""},{"$f":"IF('Simplified Loader'!E22>0,'Simplified Loader'!E22,\"\")","v":""},{"$f":"IF('Simplified Loader'!AK22>0,'Simplified Loader'!AK22,\"\")","v":""},{"$f":"IF('Simplified Loader'!AL22>0,'Simplified Loader'!AL22,\"\")","v":""},{"$f":"IF('Simplified Loader'!AM22>0,'Simplified Loader'!AM22,\"\")","v":""},{"$f":"IF('Simplified Loader'!AN22=\"Male\",\"Male\",IF('Simplified Loader'!AN22=\"Female\",\"Female\",IF('Simplified Loader'!AN22=\"M\",\"Male\",IF('Simplified Loader'!AN22=\"F\",\"Female\",\"\"))))","v":""},{"$f":"IF('Simplified Loader'!AO22=\"Single\",\"Single\",IF('Simplified Loader'!AO22=\"Family\",\"Family\",IF('Simplified Loader'!AO22=\"S\",\"Single\",IF('Simplified Loader'!AO22=\"F\",\"Family\",\"\"))))","v":""},{"$f":"IF('Simplified Loader'!AP22=\"Single\",\"Single\",IF('Simplified Loader'!AP22=\"Family\",\"Family\",IF('Simplified Loader'!AP22=\"S\",\"Single\",IF('Simplified Loader'!AP22=\"F\",\"Family\",\"\"))))","v":""},{"$f":"IF('Simplified Loader'!AQ22>0,'Simplified Loader'!AQ22,\"\")","v":""},{"$f":"IF('Simplified Loader'!AR22=\"Yes\",\"Yes\",IF('Simplified Loader'!AR22=\"No\",\"No\",IF('Simplified Loader'!AR22=\"Y\",\"Yes\",IF('Simplified Loader'!AR22=\"N\",\"No\",\"\"))))","v":""},{"$f":"IF('Simplified Loader'!AS22>0,'Simplified Loader'!AS22,\"\")","v":""},{"$f":"IF('Simplified Loader'!AT22>0,'Simplified Loader'!AT22,\"\")","v":""},{"$f":"IF('Simplified Loader'!AU22>0,'Simplified Loader'!AU22,\"\")","v":""},{"$f":"IF('Simplified Loader'!AV22=\"Male\",\"Male\",IF('Simplified Loader'!AV22=\"Female\",\"Female\",IF('Simplified Loader'!AV22=\"M\",\"Male\",IF('Simplified Loader'!AV22=\"F\",\"Female\",\"\"))))","v":""},{"$f":"IF('Simplified Loader'!AW22=\"Yes\",\"Yes\",IF('Simplified Loader'!AW22=\"No\",\"No\",IF('Simplified Loader'!AW22=\"Y\",\"Yes\",IF('Simplified Loader'!AW22=\"N\",\"No\",\"\"))))","v":""},{"$f":"IF('Simplified Loader'!AX22=\"Yes\",\"Yes\",IF('Simplified Loader'!AX22=\"No\",\"No\",IF('Simplified Loader'!AX22=\"Y\",\"Yes\",IF('Simplified Loader'!AX22=\"N\",\"No\",\"\"))))","v":""},{"$f":"IF('Simplified Loader'!AY22>0,'Simplified Loader'!AY22,\"\")","v":""},{"$f":"IF('Simplified Loader'!AZ22>0,'Simplified Loader'!AZ22,\"\")","v":""},{"$f":"IF('Simplified Loader'!BA22>0,'Simplified Loader'!BA22,\"\")","v":""},{"$f":"IF('Simplified Loader'!BB22=\"Male\",\"Male\",IF('Simplified Loader'!BB22=\"Female\",\"Female\",IF('Simplified Loader'!BB22=\"M\",\"Male\",IF('Simplified Loader'!BB22=\"F\",\"Female\",\"\"))))","v":""},{"$f":"IF('Simplified Loader'!BC22=\"Yes\",\"Yes\",IF('Simplified Loader'!BC22=\"No\",\"No\",IF('Simplified Loader'!BC22=\"Y\",\"Yes\",IF('Simplified Loader'!BC22=\"N\",\"No\",\"\"))))","v":""},{"$f":"IF('Simplified Loader'!BD22=\"Yes\",\"Yes\",IF('Simplified Loader'!BD22=\"No\",\"No\",IF('Simplified Loader'!BD22=\"Y\",\"Yes\",IF('Simplified Loader'!BD22=\"N\",\"No\",\"\"))))","v":""},{"$f":"IF('Simplified Loader'!BE22>0,'Simplified Loader'!BE22,\"\")","v":""},{"$f":"IF('Simplified Loader'!BF22>0,'Simplified Loader'!BF22,\"\")","v":""},{"$f":"IF('Simplified Loader'!BG22>0,'Simplified Loader'!BG22,\"\")","v":""},{"$f":"IF('Simplified Loader'!BH22=\"Male\",\"Male\",IF('Simplified Loader'!BH22=\"Female\",\"Female\",IF('Simplified Loader'!BH22=\"M\",\"Male\",IF('Simplified Loader'!BH22=\"F\",\"Female\",\"\"))))","v":""},{"$f":"IF('Simplified Loader'!BI22=\"Yes\",\"Yes\",IF('Simplified Loader'!BI22=\"No\",\"No\",IF('Simplified Loader'!BI22=\"Y\",\"Yes\",IF('Simplified Loader'!BI22=\"N\",\"No\",\"\"))))","v":""},{"$f":"IF('Simplified Loader'!BJ22=\"Yes\",\"Yes\",IF('Simplified Loader'!BJ22=\"No\",\"No\",IF('Simplified Loader'!BJ22=\"Y\",\"Yes\",IF('Simplified Loader'!BJ22=\"N\",\"No\",\"\"))))","v":""},{"$f":"IF('Simplified Loader'!BK22>0,'Simplified Loader'!BK22,\"\")","v":""},{"$f":"IF('Simplified Loader'!BL22>0,'Simplified Loader'!BL22,\"\")","v":""},{"$f":"IF('Simplified Loader'!BM22>0,'Simplified Loader'!BM22,\"\")","v":""},{"$f":"IF('Simplified Loader'!BN22=\"Male\",\"Male\",IF('Simplified Loader'!BN22=\"Female\",\"Female\",IF('Simplified Loader'!BN22=\"M\",\"Male\",IF('Simplified Loader'!BN22=\"F\",\"Female\",\"\"))))","v":""},{"$f":"IF('Simplified Loader'!BO22=\"Yes\",\"Yes\",IF('Simplified Loader'!BO22=\"No\",\"No\",IF('Simplified Loader'!BO22=\"Y\",\"Yes\",IF('Simplified Loader'!BO22=\"N\",\"No\",\"\"))))","v":""},{"$f":"IF('Simplified Loader'!BP22=\"Yes\",\"Yes\",IF('Simplified Loader'!BP22=\"No\",\"No\",IF('Simplified Loader'!BP22=\"Y\",\"Yes\",IF('Simplified Loader'!BP22=\"N\",\"No\",\"\"))))","v":""},{"$f":"IF('Simplified Loader'!BQ22>0,'Simplified Loader'!BQ22,\"\")","v":""},{"$f":"IF('Simplified Loader'!BR22>0,'Simplified Loader'!BR22,\"\")","v":""},{"$f":"IF('Simplified Loader'!BS22>0,'Simplified Loader'!BS22,\"\")","v":""},{"$f":"IF('Simplified Loader'!BT22=\"Male\",\"Male\",IF('Simplified Loader'!BT22=\"Female\",\"Female\",IF('Simplified Loader'!BT22=\"M\",\"Male\",IF('Simplified Loader'!BT22=\"F\",\"Female\",\"\"))))","v":""},{"$f":"IF('Simplified Loader'!BU22=\"Yes\",\"Yes\",IF('Simplified Loader'!BU22=\"No\",\"No\",IF('Simplified Loader'!BU22=\"Y\",\"Yes\",IF('Simplified Loader'!BU22=\"N\",\"No\",\"\"))))","v":""},{"$f":"IF('Simplified Loader'!BV22=\"Yes\",\"Yes\",IF('Simplified Loader'!BV22=\"No\",\"No\",IF('Simplified Loader'!BV22=\"Y\",\"Yes\",IF('Simplified Loader'!BV22=\"N\",\"No\",\"\"))))","v":""},{"$f":"IF('Simplified Loader'!BW22>0,'Simplified Loader'!BW22,\"\")","v":""},{"$f":"IF('Simplified Loader'!BX22>0,'Simplified Loader'!BX22,\"\")","v":""},{"$f":"IF('Simplified Loader'!BY22>0,'Simplified Loader'!BY22,\"\")","v":""},{"$f":"IF('Simplified Loader'!BZ22=\"Male\",\"Male\",IF('Simplified Loader'!BZ22=\"Female\",\"Female\",IF('Simplified Loader'!BZ22=\"M\",\"Male\",IF('Simplified Loader'!BZ22=\"F\",\"Female\",\"\"))))","v":""},{"$f":"IF('Simplified Loader'!CA22=\"Yes\",\"Yes\",IF('Simplified Loader'!CA22=\"No\",\"No\",IF('Simplified Loader'!CA22=\"Y\",\"Yes\",IF('Simplified Loader'!CA22=\"N\",\"No\",\"\"))))","v":""},{"$f":"IF('Simplified Loader'!CB22=\"Yes\",\"Yes\",IF('Simplified Loader'!CB22=\"No\",\"No\",IF('Simplified Loader'!CB22=\"Y\",\"Yes\",IF('Simplified Loader'!CB22=\"N\",\"No\",\"\"))))","v":""},{"$f":"IF('Simplified Loader'!CH22>0,'Simplified Loader'!CH22,\"\")","v":""}]
[{"$f":"IF('Simplified Loader'!A23>0,'Simplified Loader'!A23,\"\")","v":""},{"$f":"IF('Simplified Loader'!B23>0,'Simplified Loader'!B23,\"\")","v":""},{"$f":"IF('Simplified Loader'!C23>0,'Simplified Loader'!C23,\"\")","v":""},{"$f":"IF('Simplified Loader'!D23>0,'Simplified Loader'!D23,\"\")","v":""},{"$f":"IF('Simplified Loader'!P23>0,TEXT('Simplified Loader'!P23,\"000\"),\"\")","v":""},{"$f":"IF('Simplified Loader'!Q23>0,'Simplified Loader'!Q23,\"\")","v":""},{"$f":"IF('Simplified Loader'!R23>0,'Simplified Loader'!R23,\"\")","v":""},{"$f":"IF('Simplified Loader'!F23>0,DATEVALUE(TEXT('Simplified Loader'!F23,\"yyyy-mm-dd\")),\"\")","v":""},{"$f":"IF('Simplified Loader'!L23>0,DATEVALUE(TEXT('Simplified Loader'!L23,\"yyyy-mm-dd\")),\"\")","v":""},{"$f":"IF('Simplified Loader'!Y23>0,'Simplified Loader'!Y23,\"\")","v":""},{"$f":"IF('Simplified Loader'!T23>0,'Simplified Loader'!T23,\"\")","v":""},{"$f":"IF('Simplified Loader'!G23=\"Male\",\"Male\",IF('Simplified Loader'!G23=\"Female\",\"Female\",IF('Simplified Loader'!G23=\"M\",\"Male\",IF('Simplified Loader'!G23=\"F\",\"Female\",\"\"))))","v":""},{"$f":"IF('Simplified Loader'!U23=\"Yes\",\"Yes\",IF('Simplified Loader'!U23=\"No\",\"No\",IF('Simplified Loader'!U23=\"Y\",\"Yes\",IF('Simplified Loader'!U23=\"N\",\"No\",\"\"))))","v":""},{"$f":"IF('Simplified Loader'!I23=\"Single\",\"Single\",IF('Simplified Loader'!I23=\"Family\",\"Family\",IF('Simplified Loader'!I23=\"Waive\",\"Family\",IF('Simplified Loader'!I23=\"Single Parent\",\"Family\",IF('Simplified Loader'!I23=\"Couple\",\"Family\",IF('Simplified Loader'!I23=\"In force\",\"Family\",IF('Simplified Loader'!I23=\"Applies\",\"Family\",IF('Simplified Loader'!I23=\"Applicable\",\"Family\",\"\"))))))))","v":""},{"$f":"IF('Simplified Loader'!AC23=\"English\",\"English\",IF('Simplified Loader'!AC23=\"French\",\"French\",IF('Simplified Loader'!AC23=\"E\",\"English\",IF('Simplified Loader'!AC23=\"F\",\"French\",\"\"))))","v":""},{"$f":"IF('Simplified Loader'!AB23=\"Yes\",\"Yes\",IF('Simplified Loader'!AB23=\"No\",\"No\",IF('Simplified Loader'!AB23=\"Y\",\"Yes\",IF('Simplified Loader'!AB23=\"N\",\"No\",\"\"))))","v":""},{"$f":"IF('Simplified Loader'!AD23>0,'Simplified Loader'!AD23,\"\")","v":""},{"$f":"IF('Simplified Loader'!M23>0,'Simplified Loader'!M23,\"\")","v":""},{"$f":"IF('Simplified Loader'!N23>0,'Simplified Loader'!N23,\"\")","v":""},{"$f":"IF('Simplified Loader'!O23>0,'Simplified Loader'!O23,\"\")","v":""},{"$f":"IF('Simplified Loader'!I23=\"Waive\",\"Yes\",\"\")","v":""},{"$f":"IF('Simplified Loader'!I23=\"Waive\",\"Yes\",\"\")","v":""},{"$f":"IF('Simplified Loader'!AE23>0,'Simplified Loader'!AE23,\"\")","v":""},{"$f":"IF('Simplified Loader'!AF23>0,'Simplified Loader'!AF23,\"\")","v":""},{"$f":"IF('Simplified Loader'!AG23>0,'Simplified Loader'!AG23,\"\")","v":""},{"$f":"IF('Simplified Loader'!AH23>0,'Simplified Loader'!AH23,\"\")","v":""},{"$f":"IF('Simplified Loader'!AI23>0,'Simplified Loader'!AI23,\"\")","v":" "},{"$f":"IF('Simplified Loader'!AJ23>0,'Simplified Loader'!AJ23,\"\")","v":" "},{"$f":"IF('Simplified Loader'!W23>0,'Simplified Loader'!W23&\" \",\"\")&IF('Simplified Loader'!V23>0,'Simplified Loader'!V23,\"\")","v":""},null,{"$f":"IF('Simplified Loader'!X23>0,'Simplified Loader'!X23,\"\")","v":""},{"$f":"IF('Simplified Loader'!Y23>0,'Simplified Loader'!Y23,\"\")","v":""},{"$f":"IF('Simplified Loader'!Z23>0,'Simplified Loader'!Z23,\"\")","v":""},{"$f":"IF('Simplified Loader'!AA23>0,'Simplified Loader'!AA23,\"\")","v":""},{"$f":"IF('Simplified Loader'!E23>0,'Simplified Loader'!E23,\"\")","v":""},{"$f":"IF('Simplified Loader'!AK23>0,'Simplified Loader'!AK23,\"\")","v":""},{"$f":"IF('Simplified Loader'!AL23>0,'Simplified Loader'!AL23,\"\")","v":""},{"$f":"IF('Simplified Loader'!AM23>0,'Simplified Loader'!AM23,\"\")","v":""},{"$f":"IF('Simplified Loader'!AN23=\"Male\",\"Male\",IF('Simplified Loader'!AN23=\"Female\",\"Female\",IF('Simplified Loader'!AN23=\"M\",\"Male\",IF('Simplified Loader'!AN23=\"F\",\"Female\",\"\"))))","v":""},{"$f":"IF('Simplified Loader'!AO23=\"Single\",\"Single\",IF('Simplified Loader'!AO23=\"Family\",\"Family\",IF('Simplified Loader'!AO23=\"S\",\"Single\",IF('Simplified Loader'!AO23=\"F\",\"Family\",\"\"))))","v":""},{"$f":"IF('Simplified Loader'!AP23=\"Single\",\"Single\",IF('Simplified Loader'!AP23=\"Family\",\"Family\",IF('Simplified Loader'!AP23=\"S\",\"Single\",IF('Simplified Loader'!AP23=\"F\",\"Family\",\"\"))))","v":""},{"$f":"IF('Simplified Loader'!AQ23>0,'Simplified Loader'!AQ23,\"\")","v":""},{"$f":"IF('Simplified Loader'!AR23=\"Yes\",\"Yes\",IF('Simplified Loader'!AR23=\"No\",\"No\",IF('Simplified Loader'!AR23=\"Y\",\"Yes\",IF('Simplified Loader'!AR23=\"N\",\"No\",\"\"))))","v":""},{"$f":"IF('Simplified Loader'!AS23>0,'Simplified Loader'!AS23,\"\")","v":""},{"$f":"IF('Simplified Loader'!AT23>0,'Simplified Loader'!AT23,\"\")","v":""},{"$f":"IF('Simplified Loader'!AU23>0,'Simplified Loader'!AU23,\"\")","v":""},{"$f":"IF('Simplified Loader'!AV23=\"Male\",\"Male\",IF('Simplified Loader'!AV23=\"Female\",\"Female\",IF('Simplified Loader'!AV23=\"M\",\"Male\",IF('Simplified Loader'!AV23=\"F\",\"Female\",\"\"))))","v":""},{"$f":"IF('Simplified Loader'!AW23=\"Yes\",\"Yes\",IF('Simplified Loader'!AW23=\"No\",\"No\",IF('Simplified Loader'!AW23=\"Y\",\"Yes\",IF('Simplified Loader'!AW23=\"N\",\"No\",\"\"))))","v":""},{"$f":"IF('Simplified Loader'!AX23=\"Yes\",\"Yes\",IF('Simplified Loader'!AX23=\"No\",\"No\",IF('Simplified Loader'!AX23=\"Y\",\"Yes\",IF('Simplified Loader'!AX23=\"N\",\"No\",\"\"))))","v":""},{"$f":"IF('Simplified Loader'!AY23>0,'Simplified Loader'!AY23,\"\")","v":""},{"$f":"IF('Simplified Loader'!AZ23>0,'Simplified Loader'!AZ23,\"\")","v":""},{"$f":"IF('Simplified Loader'!BA23>0,'Simplified Loader'!BA23,\"\")","v":""},{"$f":"IF('Simplified Loader'!BB23=\"Male\",\"Male\",IF('Simplified Loader'!BB23=\"Female\",\"Female\",IF('Simplified Loader'!BB23=\"M\",\"Male\",IF('Simplified Loader'!BB23=\"F\",\"Female\",\"\"))))","v":""},{"$f":"IF('Simplified Loader'!BC23=\"Yes\",\"Yes\",IF('Simplified Loader'!BC23=\"No\",\"No\",IF('Simplified Loader'!BC23=\"Y\",\"Yes\",IF('Simplified Loader'!BC23=\"N\",\"No\",\"\"))))","v":""},{"$f":"IF('Simplified Loader'!BD23=\"Yes\",\"Yes\",IF('Simplified Loader'!BD23=\"No\",\"No\",IF('Simplified Loader'!BD23=\"Y\",\"Yes\",IF('Simplified Loader'!BD23=\"N\",\"No\",\"\"))))","v":""},{"$f":"IF('Simplified Loader'!BE23>0,'Simplified Loader'!BE23,\"\")","v":""},{"$f":"IF('Simplified Loader'!BF23>0,'Simplified Loader'!BF23,\"\")","v":""},{"$f":"IF('Simplified Loader'!BG23>0,'Simplified Loader'!BG23,\"\")","v":""},{"$f":"IF('Simplified Loader'!BH23=\"Male\",\"Male\",IF('Simplified Loader'!BH23=\"Female\",\"Female\",IF('Simplified Loader'!BH23=\"M\",\"Male\",IF('Simplified Loader'!BH23=\"F\",\"Female\",\"\"))))","v":""},{"$f":"IF('Simplified Loader'!BI23=\"Yes\",\"Yes\",IF('Simplified Loader'!BI23=\"No\",\"No\",IF('Simplified Loader'!BI23=\"Y\",\"Yes\",IF('Simplified Loader'!BI23=\"N\",\"No\",\"\"))))","v":""},{"$f":"IF('Simplified Loader'!BJ23=\"Yes\",\"Yes\",IF('Simplified Loader'!BJ23=\"No\",\"No\",IF('Simplified Loader'!BJ23=\"Y\",\"Yes\",IF('Simplified Loader'!BJ23=\"N\",\"No\",\"\"))))","v":""},{"$f":"IF('Simplified Loader'!BK23>0,'Simplified Loader'!BK23,\"\")","v":""},{"$f":"IF('Simplified Loader'!BL23>0,'Simplified Loader'!BL23,\"\")","v":""},{"$f":"IF('Simplified Loader'!BM23>0,'Simplified Loader'!BM23,\"\")","v":""},{"$f":"IF('Simplified Loader'!BN23=\"Male\",\"Male\",IF('Simplified Loader'!BN23=\"Female\",\"Female\",IF('Simplified Loader'!BN23=\"M\",\"Male\",IF('Simplified Loader'!BN23=\"F\",\"Female\",\"\"))))","v":""},{"$f":"IF('Simplified Loader'!BO23=\"Yes\",\"Yes\",IF('Simplified Loader'!BO23=\"No\",\"No\",IF('Simplified Loader'!BO23=\"Y\",\"Yes\",IF('Simplified Loader'!BO23=\"N\",\"No\",\"\"))))","v":""},{"$f":"IF('Simplified Loader'!BP23=\"Yes\",\"Yes\",IF('Simplified Loader'!BP23=\"No\",\"No\",IF('Simplified Loader'!BP23=\"Y\",\"Yes\",IF('Simplified Loader'!BP23=\"N\",\"No\",\"\"))))","v":""},{"$f":"IF('Simplified Loader'!BQ23>0,'Simplified Loader'!BQ23,\"\")","v":""},{"$f":"IF('Simplified Loader'!BR23>0,'Simplified Loader'!BR23,\"\")","v":""},{"$f":"IF('Simplified Loader'!BS23>0,'Simplified Loader'!BS23,\"\")","v":""},{"$f":"IF('Simplified Loader'!BT23=\"Male\",\"Male\",IF('Simplified Loader'!BT23=\"Female\",\"Female\",IF('Simplified Loader'!BT23=\"M\",\"Male\",IF('Simplified Loader'!BT23=\"F\",\"Female\",\"\"))))","v":""},{"$f":"IF('Simplified Loader'!BU23=\"Yes\",\"Yes\",IF('Simplified Loader'!BU23=\"No\",\"No\",IF('Simplified Loader'!BU23=\"Y\",\"Yes\",IF('Simplified Loader'!BU23=\"N\",\"No\",\"\"))))","v":""},{"$f":"IF('Simplified Loader'!BV23=\"Yes\",\"Yes\",IF('Simplified Loader'!BV23=\"No\",\"No\",IF('Simplified Loader'!BV23=\"Y\",\"Yes\",IF('Simplified Loader'!BV23=\"N\",\"No\",\"\"))))","v":""},{"$f":"IF('Simplified Loader'!BW23>0,'Simplified Loader'!BW23,\"\")","v":""},{"$f":"IF('Simplified Loader'!BX23>0,'Simplified Loader'!BX23,\"\")","v":""},{"$f":"IF('Simplified Loader'!BY23>0,'Simplified Loader'!BY23,\"\")","v":""},{"$f":"IF('Simplified Loader'!BZ23=\"Male\",\"Male\",IF('Simplified Loader'!BZ23=\"Female\",\"Female\",IF('Simplified Loader'!BZ23=\"M\",\"Male\",IF('Simplified Loader'!BZ23=\"F\",\"Female\",\"\"))))","v":""},{"$f":"IF('Simplified Loader'!CA23=\"Yes\",\"Yes\",IF('Simplified Loader'!CA23=\"No\",\"No\",IF('Simplified Loader'!CA23=\"Y\",\"Yes\",IF('Simplified Loader'!CA23=\"N\",\"No\",\"\"))))","v":""},{"$f":"IF('Simplified Loader'!CB23=\"Yes\",\"Yes\",IF('Simplified Loader'!CB23=\"No\",\"No\",IF('Simplified Loader'!CB23=\"Y\",\"Yes\",IF('Simplified Loader'!CB23=\"N\",\"No\",\"\"))))","v":""},{"$f":"IF('Simplified Loader'!CH23>0,'Simplified Loader'!CH23,\"\")","v":""}]
[{"$f":"IF('Simplified Loader'!A24>0,'Simplified Loader'!A24,\"\")","v":""},{"$f":"IF('Simplified Loader'!B24>0,'Simplified Loader'!B24,\"\")","v":""},{"$f":"IF('Simplified Loader'!C24>0,'Simplified Loader'!C24,\"\")","v":""},{"$f":"IF('Simplified Loader'!D24>0,'Simplified Loader'!D24,\"\")","v":""},{"$f":"IF('Simplified Loader'!P24>0,TEXT('Simplified Loader'!P24,\"000\"),\"\")","v":""},{"$f":"IF('Simplified Loader'!Q24>0,'Simplified Loader'!Q24,\"\")","v":""},{"$f":"IF('Simplified Loader'!R24>0,'Simplified Loader'!R24,\"\")","v":""},{"$f":"IF('Simplified Loader'!F24>0,DATEVALUE(TEXT('Simplified Loader'!F24,\"yyyy-mm-dd\")),\"\")","v":""},{"$f":"IF('Simplified Loader'!L24>0,DATEVALUE(TEXT('Simplified Loader'!L24,\"yyyy-mm-dd\")),\"\")","v":""},{"$f":"IF('Simplified Loader'!Y24>0,'Simplified Loader'!Y24,\"\")","v":""},{"$f":"IF('Simplified Loader'!T24>0,'Simplified Loader'!T24,\"\")","v":""},{"$f":"IF('Simplified Loader'!G24=\"Male\",\"Male\",IF('Simplified Loader'!G24=\"Female\",\"Female\",IF('Simplified Loader'!G24=\"M\",\"Male\",IF('Simplified Loader'!G24=\"F\",\"Female\",\"\"))))","v":""},{"$f":"IF('Simplified Loader'!U24=\"Yes\",\"Yes\",IF('Simplified Loader'!U24=\"No\",\"No\",IF('Simplified Loader'!U24=\"Y\",\"Yes\",IF('Simplified Loader'!U24=\"N\",\"No\",\"\"))))","v":""},{"$f":"IF('Simplified Loader'!I24=\"Single\",\"Single\",IF('Simplified Loader'!I24=\"Family\",\"Family\",IF('Simplified Loader'!I24=\"Waive\",\"Family\",IF('Simplified Loader'!I24=\"Single Parent\",\"Family\",IF('Simplified Loader'!I24=\"Couple\",\"Family\",IF('Simplified Loader'!I24=\"In force\",\"Family\",IF('Simplified Loader'!I24=\"Applies\",\"Family\",IF('Simplified Loader'!I24=\"Applicable\",\"Family\",\"\"))))))))","v":""},{"$f":"IF('Simplified Loader'!AC24=\"English\",\"English\",IF('Simplified Loader'!AC24=\"French\",\"French\",IF('Simplified Loader'!AC24=\"E\",\"English\",IF('Simplified Loader'!AC24=\"F\",\"French\",\"\"))))","v":""},{"$f":"IF('Simplified Loader'!AB24=\"Yes\",\"Yes\",IF('Simplified Loader'!AB24=\"No\",\"No\",IF('Simplified Loader'!AB24=\"Y\",\"Yes\",IF('Simplified Loader'!AB24=\"N\",\"No\",\"\"))))","v":""},{"$f":"IF('Simplified Loader'!AD24>0,'Simplified Loader'!AD24,\"\")","v":""},{"$f":"IF('Simplified Loader'!M24>0,'Simplified Loader'!M24,\"\")","v":""},{"$f":"IF('Simplified Loader'!N24>0,'Simplified Loader'!N24,\"\")","v":""},{"$f":"IF('Simplified Loader'!O24>0,'Simplified Loader'!O24,\"\")","v":""},{"$f":"IF('Simplified Loader'!I24=\"Waive\",\"Yes\",\"\")","v":""},{"$f":"IF('Simplified Loader'!I24=\"Waive\",\"Yes\",\"\")","v":""},{"$f":"IF('Simplified Loader'!AE24>0,'Simplified Loader'!AE24,\"\")","v":""},{"$f":"IF('Simplified Loader'!AF24>0,'Simplified Loader'!AF24,\"\")","v":""},{"$f":"IF('Simplified Loader'!AG24>0,'Simplified Loader'!AG24,\"\")","v":""},{"$f":"IF('Simplified Loader'!AH24>0,'Simplified Loader'!AH24,\"\")","v":""},{"$f":"IF('Simplified Loader'!AI24>0,'Simplified Loader'!AI24,\"\")","v":" "},{"$f":"IF('Simplified Loader'!AJ24>0,'Simplified Loader'!AJ24,\"\")","v":" "},{"$f":"IF('Simplified Loader'!W24>0,'Simplified Loader'!W24&\" \",\"\")&IF('Simplified Loader'!V24>0,'Simplified Loader'!V24,\"\")","v":""},null,{"$f":"IF('Simplified Loader'!X24>0,'Simplified Loader'!X24,\"\")","v":""},{"$f":"IF('Simplified Loader'!Y24>0,'Simplified Loader'!Y24,\"\")","v":""},{"$f":"IF('Simplified Loader'!Z24>0,'Simplified Loader'!Z24,\"\")","v":""},{"$f":"IF('Simplified Loader'!AA24>0,'Simplified Loader'!AA24,\"\")","v":""},{"$f":"IF('Simplified Loader'!E24>0,'Simplified Loader'!E24,\"\")","v":""},{"$f":"IF('Simplified Loader'!AK24>0,'Simplified Loader'!AK24,\"\")","v":""},{"$f":"IF('Simplified Loader'!AL24>0,'Simplified Loader'!AL24,\"\")","v":""},{"$f":"IF('Simplified Loader'!AM24>0,'Simplified Loader'!AM24,\"\")","v":""},{"$f":"IF('Simplified Loader'!AN24=\"Male\",\"Male\",IF('Simplified Loader'!AN24=\"Female\",\"Female\",IF('Simplified Loader'!AN24=\"M\",\"Male\",IF('Simplified Loader'!AN24=\"F\",\"Female\",\"\"))))","v":""},{"$f":"IF('Simplified Loader'!AO24=\"Single\",\"Single\",IF('Simplified Loader'!AO24=\"Family\",\"Family\",IF('Simplified Loader'!AO24=\"S\",\"Single\",IF('Simplified Loader'!AO24=\"F\",\"Family\",\"\"))))","v":""},{"$f":"IF('Simplified Loader'!AP24=\"Single\",\"Single\",IF('Simplified Loader'!AP24=\"Family\",\"Family\",IF('Simplified Loader'!AP24=\"S\",\"Single\",IF('Simplified Loader'!AP24=\"F\",\"Family\",\"\"))))","v":""},{"$f":"IF('Simplified Loader'!AQ24>0,'Simplified Loader'!AQ24,\"\")","v":""},{"$f":"IF('Simplified Loader'!AR24=\"Yes\",\"Yes\",IF('Simplified Loader'!AR24=\"No\",\"No\",IF('Simplified Loader'!AR24=\"Y\",\"Yes\",IF('Simplified Loader'!AR24=\"N\",\"No\",\"\"))))","v":""},{"$f":"IF('Simplified Loader'!AS24>0,'Simplified Loader'!AS24,\"\")","v":""},{"$f":"IF('Simplified Loader'!AT24>0,'Simplified Loader'!AT24,\"\")","v":""},{"$f":"IF('Simplified Loader'!AU24>0,'Simplified Loader'!AU24,\"\")","v":""},{"$f":"IF('Simplified Loader'!AV24=\"Male\",\"Male\",IF('Simplified Loader'!AV24=\"Female\",\"Female\",IF('Simplified Loader'!AV24=\"M\",\"Male\",IF('Simplified Loader'!AV24=\"F\",\"Female\",\"\"))))","v":""},{"$f":"IF('Simplified Loader'!AW24=\"Yes\",\"Yes\",IF('Simplified Loader'!AW24=\"No\",\"No\",IF('Simplified Loader'!AW24=\"Y\",\"Yes\",IF('Simplified Loader'!AW24=\"N\",\"No\",\"\"))))","v":""},{"$f":"IF('Simplified Loader'!AX24=\"Yes\",\"Yes\",IF('Simplified Loader'!AX24=\"No\",\"No\",IF('Simplified Loader'!AX24=\"Y\",\"Yes\",IF('Simplified Loader'!AX24=\"N\",\"No\",\"\"))))","v":""},{"$f":"IF('Simplified Loader'!AY24>0,'Simplified Loader'!AY24,\"\")","v":""},{"$f":"IF('Simplified Loader'!AZ24>0,'Simplified Loader'!AZ24,\"\")","v":""},{"$f":"IF('Simplified Loader'!BA24>0,'Simplified Loader'!BA24,\"\")","v":""},{"$f":"IF('Simplified Loader'!BB24=\"Male\",\"Male\",IF('Simplified Loader'!BB24=\"Female\",\"Female\",IF('Simplified Loader'!BB24=\"M\",\"Male\",IF('Simplified Loader'!BB24=\"F\",\"Female\",\"\"))))","v":""},{"$f":"IF('Simplified Loader'!BC24=\"Yes\",\"Yes\",IF('Simplified Loader'!BC24=\"No\",\"No\",IF('Simplified Loader'!BC24=\"Y\",\"Yes\",IF('Simplified Loader'!BC24=\"N\",\"No\",\"\"))))","v":""},{"$f":"IF('Simplified Loader'!BD24=\"Yes\",\"Yes\",IF('Simplified Loader'!BD24=\"No\",\"No\",IF('Simplified Loader'!BD24=\"Y\",\"Yes\",IF('Simplified Loader'!BD24=\"N\",\"No\",\"\"))))","v":""},{"$f":"IF('Simplified Loader'!BE24>0,'Simplified Loader'!BE24,\"\")","v":""},{"$f":"IF('Simplified Loader'!BF24>0,'Simplified Loader'!BF24,\"\")","v":""},{"$f":"IF('Simplified Loader'!BG24>0,'Simplified Loader'!BG24,\"\")","v":""},{"$f":"IF('Simplified Loader'!BH24=\"Male\",\"Male\",IF('Simplified Loader'!BH24=\"Female\",\"Female\",IF('Simplified Loader'!BH24=\"M\",\"Male\",IF('Simplified Loader'!BH24=\"F\",\"Female\",\"\"))))","v":""},{"$f":"IF('Simplified Loader'!BI24=\"Yes\",\"Yes\",IF('Simplified Loader'!BI24=\"No\",\"No\",IF('Simplified Loader'!BI24=\"Y\",\"Yes\",IF('Simplified Loader'!BI24=\"N\",\"No\",\"\"))))","v":""},{"$f":"IF('Simplified Loader'!BJ24=\"Yes\",\"Yes\",IF('Simplified Loader'!BJ24=\"No\",\"No\",IF('Simplified Loader'!BJ24=\"Y\",\"Yes\",IF('Simplified Loader'!BJ24=\"N\",\"No\",\"\"))))","v":""},{"$f":"IF('Simplified Loader'!BK24>0,'Simplified Loader'!BK24,\"\")","v":""},{"$f":"IF('Simplified Loader'!BL24>0,'Simplified Loader'!BL24,\"\")","v":""},{"$f":"IF('Simplified Loader'!BM24>0,'Simplified Loader'!BM24,\"\")","v":""},{"$f":"IF('Simplified Loader'!BN24=\"Male\",\"Male\",IF('Simplified Loader'!BN24=\"Female\",\"Female\",IF('Simplified Loader'!BN24=\"M\",\"Male\",IF('Simplified Loader'!BN24=\"F\",\"Female\",\"\"))))","v":""},{"$f":"IF('Simplified Loader'!BO24=\"Yes\",\"Yes\",IF('Simplified Loader'!BO24=\"No\",\"No\",IF('Simplified Loader'!BO24=\"Y\",\"Yes\",IF('Simplified Loader'!BO24=\"N\",\"No\",\"\"))))","v":""},{"$f":"IF('Simplified Loader'!BP24=\"Yes\",\"Yes\",IF('Simplified Loader'!BP24=\"No\",\"No\",IF('Simplified Loader'!BP24=\"Y\",\"Yes\",IF('Simplified Loader'!BP24=\"N\",\"No\",\"\"))))","v":""},{"$f":"IF('Simplified Loader'!BQ24>0,'Simplified Loader'!BQ24,\"\")","v":""},{"$f":"IF('Simplified Loader'!BR24>0,'Simplified Loader'!BR24,\"\")","v":""},{"$f":"IF('Simplified Loader'!BS24>0,'Simplified Loader'!BS24,\"\")","v":""},{"$f":"IF('Simplified Loader'!BT24=\"Male\",\"Male\",IF('Simplified Loader'!BT24=\"Female\",\"Female\",IF('Simplified Loader'!BT24=\"M\",\"Male\",IF('Simplified Loader'!BT24=\"F\",\"Female\",\"\"))))","v":""},{"$f":"IF('Simplified Loader'!BU24=\"Yes\",\"Yes\",IF('Simplified Loader'!BU24=\"No\",\"No\",IF('Simplified Loader'!BU24=\"Y\",\"Yes\",IF('Simplified Loader'!BU24=\"N\",\"No\",\"\"))))","v":""},{"$f":"IF('Simplified Loader'!BV24=\"Yes\",\"Yes\",IF('Simplified Loader'!BV24=\"No\",\"No\",IF('Simplified Loader'!BV24=\"Y\",\"Yes\",IF('Simplified Loader'!BV24=\"N\",\"No\",\"\"))))","v":""},{"$f":"IF('Simplified Loader'!BW24>0,'Simplified Loader'!BW24,\"\")","v":""},{"$f":"IF('Simplified Loader'!BX24>0,'Simplified Loader'!BX24,\"\")","v":""},{"$f":"IF('Simplified Loader'!BY24>0,'Simplified Loader'!BY24,\"\")","v":""},{"$f":"IF('Simplified Loader'!BZ24=\"Male\",\"Male\",IF('Simplified Loader'!BZ24=\"Female\",\"Female\",IF('Simplified Loader'!BZ24=\"M\",\"Male\",IF('Simplified Loader'!BZ24=\"F\",\"Female\",\"\"))))","v":""},{"$f":"IF('Simplified Loader'!CA24=\"Yes\",\"Yes\",IF('Simplified Loader'!CA24=\"No\",\"No\",IF('Simplified Loader'!CA24=\"Y\",\"Yes\",IF('Simplified Loader'!CA24=\"N\",\"No\",\"\"))))","v":""},{"$f":"IF('Simplified Loader'!CB24=\"Yes\",\"Yes\",IF('Simplified Loader'!CB24=\"No\",\"No\",IF('Simplified Loader'!CB24=\"Y\",\"Yes\",IF('Simplified Loader'!CB24=\"N\",\"No\",\"\"))))","v":""},{"$f":"IF('Simplified Loader'!CH24>0,'Simplified Loader'!CH24,\"\")","v":""}]
[{"$f":"IF('Simplified Loader'!A25>0,'Simplified Loader'!A25,\"\")","v":""},{"$f":"IF('Simplified Loader'!B25>0,'Simplified Loader'!B25,\"\")","v":""},{"$f":"IF('Simplified Loader'!C25>0,'Simplified Loader'!C25,\"\")","v":""},{"$f":"IF('Simplified Loader'!D25>0,'Simplified Loader'!D25,\"\")","v":""},{"$f":"IF('Simplified Loader'!P25>0,TEXT('Simplified Loader'!P25,\"000\"),\"\")","v":""},{"$f":"IF('Simplified Loader'!Q25>0,'Simplified Loader'!Q25,\"\")","v":""},{"$f":"IF('Simplified Loader'!R25>0,'Simplified Loader'!R25,\"\")","v":""},{"$f":"IF('Simplified Loader'!F25>0,DATEVALUE(TEXT('Simplified Loader'!F25,\"yyyy-mm-dd\")),\"\")","v":""},{"$f":"IF('Simplified Loader'!L25>0,DATEVALUE(TEXT('Simplified Loader'!L25,\"yyyy-mm-dd\")),\"\")","v":""},{"$f":"IF('Simplified Loader'!Y25>0,'Simplified Loader'!Y25,\"\")","v":""},{"$f":"IF('Simplified Loader'!T25>0,'Simplified Loader'!T25,\"\")","v":""},{"$f":"IF('Simplified Loader'!G25=\"Male\",\"Male\",IF('Simplified Loader'!G25=\"Female\",\"Female\",IF('Simplified Loader'!G25=\"M\",\"Male\",IF('Simplified Loader'!G25=\"F\",\"Female\",\"\"))))","v":""},{"$f":"IF('Simplified Loader'!U25=\"Yes\",\"Yes\",IF('Simplified Loader'!U25=\"No\",\"No\",IF('Simplified Loader'!U25=\"Y\",\"Yes\",IF('Simplified Loader'!U25=\"N\",\"No\",\"\"))))","v":""},{"$f":"IF('Simplified Loader'!I25=\"Single\",\"Single\",IF('Simplified Loader'!I25=\"Family\",\"Family\",IF('Simplified Loader'!I25=\"Waive\",\"Family\",IF('Simplified Loader'!I25=\"Single Parent\",\"Family\",IF('Simplified Loader'!I25=\"Couple\",\"Family\",IF('Simplified Loader'!I25=\"In force\",\"Family\",IF('Simplified Loader'!I25=\"Applies\",\"Family\",IF('Simplified Loader'!I25=\"Applicable\",\"Family\",\"\"))))))))","v":""},{"$f":"IF('Simplified Loader'!AC25=\"English\",\"English\",IF('Simplified Loader'!AC25=\"French\",\"French\",IF('Simplified Loader'!AC25=\"E\",\"English\",IF('Simplified Loader'!AC25=\"F\",\"French\",\"\"))))","v":""},{"$f":"IF('Simplified Loader'!AB25=\"Yes\",\"Yes\",IF('Simplified Loader'!AB25=\"No\",\"No\",IF('Simplified Loader'!AB25=\"Y\",\"Yes\",IF('Simplified Loader'!AB25=\"N\",\"No\",\"\"))))","v":""},{"$f":"IF('Simplified Loader'!AD25>0,'Simplified Loader'!AD25,\"\")","v":""},{"$f":"IF('Simplified Loader'!M25>0,'Simplified Loader'!M25,\"\")","v":""},{"$f":"IF('Simplified Loader'!N25>0,'Simplified Loader'!N25,\"\")","v":""},{"$f":"IF('Simplified Loader'!O25>0,'Simplified Loader'!O25,\"\")","v":""},{"$f":"IF('Simplified Loader'!I25=\"Waive\",\"Yes\",\"\")","v":""},{"$f":"IF('Simplified Loader'!I25=\"Waive\",\"Yes\",\"\")","v":""},{"$f":"IF('Simplified Loader'!AE25>0,'Simplified Loader'!AE25,\"\")","v":""},{"$f":"IF('Simplified Loader'!AF25>0,'Simplified Loader'!AF25,\"\")","v":""},{"$f":"IF('Simplified Loader'!AG25>0,'Simplified Loader'!AG25,\"\")","v":""},{"$f":"IF('Simplified Loader'!AH25>0,'Simplified Loader'!AH25,\"\")","v":""},{"$f":"IF('Simplified Loader'!AI25>0,'Simplified Loader'!AI25,\"\")","v":" "},{"$f":"IF('Simplified Loader'!AJ25>0,'Simplified Loader'!AJ25,\"\")","v":" "},{"$f":"IF('Simplified Loader'!W25>0,'Simplified Loader'!W25&\" \",\"\")&IF('Simplified Loader'!V25>0,'Simplified Loader'!V25,\"\")","v":""},null,{"$f":"IF('Simplified Loader'!X25>0,'Simplified Loader'!X25,\"\")","v":""},{"$f":"IF('Simplified Loader'!Y25>0,'Simplified Loader'!Y25,\"\")","v":""},{"$f":"IF('Simplified Loader'!Z25>0,'Simplified Loader'!Z25,\"\")","v":""},{"$f":"IF('Simplified Loader'!AA25>0,'Simplified Loader'!AA25,\"\")","v":""},{"$f":"IF('Simplified Loader'!E25>0,'Simplified Loader'!E25,\"\")","v":""},{"$f":"IF('Simplified Loader'!AK25>0,'Simplified Loader'!AK25,\"\")","v":""},{"$f":"IF('Simplified Loader'!AL25>0,'Simplified Loader'!AL25,\"\")","v":""},{"$f":"IF('Simplified Loader'!AM25>0,'Simplified Loader'!AM25,\"\")","v":""},{"$f":"IF('Simplified Loader'!AN25=\"Male\",\"Male\",IF('Simplified Loader'!AN25=\"Female\",\"Female\",IF('Simplified Loader'!AN25=\"M\",\"Male\",IF('Simplified Loader'!AN25=\"F\",\"Female\",\"\"))))","v":""},{"$f":"IF('Simplified Loader'!AO25=\"Single\",\"Single\",IF('Simplified Loader'!AO25=\"Family\",\"Family\",IF('Simplified Loader'!AO25=\"S\",\"Single\",IF('Simplified Loader'!AO25=\"F\",\"Family\",\"\"))))","v":""},{"$f":"IF('Simplified Loader'!AP25=\"Single\",\"Single\",IF('Simplified Loader'!AP25=\"Family\",\"Family\",IF('Simplified Loader'!AP25=\"S\",\"Single\",IF('Simplified Loader'!AP25=\"F\",\"Family\",\"\"))))","v":""},{"$f":"IF('Simplified Loader'!AQ25>0,'Simplified Loader'!AQ25,\"\")","v":""},{"$f":"IF('Simplified Loader'!AR25=\"Yes\",\"Yes\",IF('Simplified Loader'!AR25=\"No\",\"No\",IF('Simplified Loader'!AR25=\"Y\",\"Yes\",IF('Simplified Loader'!AR25=\"N\",\"No\",\"\"))))","v":""},{"$f":"IF('Simplified Loader'!AS25>0,'Simplified Loader'!AS25,\"\")","v":""},{"$f":"IF('Simplified Loader'!AT25>0,'Simplified Loader'!AT25,\"\")","v":""},{"$f":"IF('Simplified Loader'!AU25>0,'Simplified Loader'!AU25,\"\")","v":""},{"$f":"IF('Simplified Loader'!AV25=\"Male\",\"Male\",IF('Simplified Loader'!AV25=\"Female\",\"Female\",IF('Simplified Loader'!AV25=\"M\",\"Male\",IF('Simplified Loader'!AV25=\"F\",\"Female\",\"\"))))","v":""},{"$f":"IF('Simplified Loader'!AW25=\"Yes\",\"Yes\",IF('Simplified Loader'!AW25=\"No\",\"No\",IF('Simplified Loader'!AW25=\"Y\",\"Yes\",IF('Simplified Loader'!AW25=\"N\",\"No\",\"\"))))","v":""},{"$f":"IF('Simplified Loader'!AX25=\"Yes\",\"Yes\",IF('Simplified Loader'!AX25=\"No\",\"No\",IF('Simplified Loader'!AX25=\"Y\",\"Yes\",IF('Simplified Loader'!AX25=\"N\",\"No\",\"\"))))","v":""},{"$f":"IF('Simplified Loader'!AY25>0,'Simplified Loader'!AY25,\"\")","v":""},{"$f":"IF('Simplified Loader'!AZ25>0,'Simplified Loader'!AZ25,\"\")","v":""},{"$f":"IF('Simplified Loader'!BA25>0,'Simplified Loader'!BA25,\"\")","v":""},{"$f":"IF('Simplified Loader'!BB25=\"Male\",\"Male\",IF('Simplified Loader'!BB25=\"Female\",\"Female\",IF('Simplified Loader'!BB25=\"M\",\"Male\",IF('Simplified Loader'!BB25=\"F\",\"Female\",\"\"))))","v":""},{"$f":"IF('Simplified Loader'!BC25=\"Yes\",\"Yes\",IF('Simplified Loader'!BC25=\"No\",\"No\",IF('Simplified Loader'!BC25=\"Y\",\"Yes\",IF('Simplified Loader'!BC25=\"N\",\"No\",\"\"))))","v":""},{"$f":"IF('Simplified Loader'!BD25=\"Yes\",\"Yes\",IF('Simplified Loader'!BD25=\"No\",\"No\",IF('Simplified Loader'!BD25=\"Y\",\"Yes\",IF('Simplified Loader'!BD25=\"N\",\"No\",\"\"))))","v":""},{"$f":"IF('Simplified Loader'!BE25>0,'Simplified Loader'!BE25,\"\")","v":""},{"$f":"IF('Simplified Loader'!BF25>0,'Simplified Loader'!BF25,\"\")","v":""},{"$f":"IF('Simplified Loader'!BG25>0,'Simplified Loader'!BG25,\"\")","v":""},{"$f":"IF('Simplified Loader'!BH25=\"Male\",\"Male\",IF('Simplified Loader'!BH25=\"Female\",\"Female\",IF('Simplified Loader'!BH25=\"M\",\"Male\",IF('Simplified Loader'!BH25=\"F\",\"Female\",\"\"))))","v":""},{"$f":"IF('Simplified Loader'!BI25=\"Yes\",\"Yes\",IF('Simplified Loader'!BI25=\"No\",\"No\",IF('Simplified Loader'!BI25=\"Y\",\"Yes\",IF('Simplified Loader'!BI25=\"N\",\"No\",\"\"))))","v":""},{"$f":"IF('Simplified Loader'!BJ25=\"Yes\",\"Yes\",IF('Simplified Loader'!BJ25=\"No\",\"No\",IF('Simplified Loader'!BJ25=\"Y\",\"Yes\",IF('Simplified Loader'!BJ25=\"N\",\"No\",\"\"))))","v":""},{"$f":"IF('Simplified Loader'!BK25>0,'Simplified Loader'!BK25,\"\")","v":""},{"$f":"IF('Simplified Loader'!BL25>0,'Simplified Loader'!BL25,\"\")","v":""},{"$f":"IF('Simplified Loader'!BM25>0,'Simplified Loader'!BM25,\"\")","v":""},{"$f":"IF('Simplified Loader'!BN25=\"Male\",\"Male\",IF('Simplified Loader'!BN25=\"Female\",\"Female\",IF('Simplified Loader'!BN25=\"M\",\"Male\",IF('Simplified Loader'!BN25=\"F\",\"Female\",\"\"))))","v":""},{"$f":"IF('Simplified Loader'!BO25=\"Yes\",\"Yes\",IF('Simplified Loader'!BO25=\"No\",\"No\",IF('Simplified Loader'!BO25=\"Y\",\"Yes\",IF('Simplified Loader'!BO25=\"N\",\"No\",\"\"))))","v":""},{"$f":"IF('Simplified Loader'!BP25=\"Yes\",\"Yes\",IF('Simplified Loader'!BP25=\"No\",\"No\",IF('Simplified Loader'!BP25=\"Y\",\"Yes\",IF('Simplified Loader'!BP25=\"N\",\"No\",\"\"))))","v":""},{"$f":"IF('Simplified Loader'!BQ25>0,'Simplified Loader'!BQ25,\"\")","v":""},{"$f":"IF('Simplified Loader'!BR25>0,'Simplified Loader'!BR25,\"\")","v":""},{"$f":"IF('Simplified Loader'!BS25>0,'Simplified Loader'!BS25,\"\")","v":""},{"$f":"IF('Simplified Loader'!BT25=\"Male\",\"Male\",IF('Simplified Loader'!BT25=\"Female\",\"Female\",IF('Simplified Loader'!BT25=\"M\",\"Male\",IF('Simplified Loader'!BT25=\"F\",\"Female\",\"\"))))","v":""},{"$f":"IF('Simplified Loader'!BU25=\"Yes\",\"Yes\",IF('Simplified Loader'!BU25=\"No\",\"No\",IF('Simplified Loader'!BU25=\"Y\",\"Yes\",IF('Simplified Loader'!BU25=\"N\",\"No\",\"\"))))","v":""},{"$f":"IF('Simplified Loader'!BV25=\"Yes\",\"Yes\",IF('Simplified Loader'!BV25=\"No\",\"No\",IF('Simplified Loader'!BV25=\"Y\",\"Yes\",IF('Simplified Loader'!BV25=\"N\",\"No\",\"\"))))","v":""},{"$f":"IF('Simplified Loader'!BW25>0,'Simplified Loader'!BW25,\"\")","v":""},{"$f":"IF('Simplified Loader'!BX25>0,'Simplified Loader'!BX25,\"\")","v":""},{"$f":"IF('Simplified Loader'!BY25>0,'Simplified Loader'!BY25,\"\")","v":""},{"$f":"IF('Simplified Loader'!BZ25=\"Male\",\"Male\",IF('Simplified Loader'!BZ25=\"Female\",\"Female\",IF('Simplified Loader'!BZ25=\"M\",\"Male\",IF('Simplified Loader'!BZ25=\"F\",\"Female\",\"\"))))","v":""},{"$f":"IF('Simplified Loader'!CA25=\"Yes\",\"Yes\",IF('Simplified Loader'!CA25=\"No\",\"No\",IF('Simplified Loader'!CA25=\"Y\",\"Yes\",IF('Simplified Loader'!CA25=\"N\",\"No\",\"\"))))","v":""},{"$f":"IF('Simplified Loader'!CB25=\"Yes\",\"Yes\",IF('Simplified Loader'!CB25=\"No\",\"No\",IF('Simplified Loader'!CB25=\"Y\",\"Yes\",IF('Simplified Loader'!CB25=\"N\",\"No\",\"\"))))","v":""},{"$f":"IF('Simplified Loader'!CH25>0,'Simplified Loader'!CH25,\"\")","v":""}]
[{"$f":"IF('Simplified Loader'!A26>0,'Simplified Loader'!A26,\"\")","v":""},{"$f":"IF('Simplified Loader'!B26>0,'Simplified Loader'!B26,\"\")","v":""},{"$f":"IF('Simplified Loader'!C26>0,'Simplified Loader'!C26,\"\")","v":""},{"$f":"IF('Simplified Loader'!D26>0,'Simplified Loader'!D26,\"\")","v":""},{"$f":"IF('Simplified Loader'!P26>0,TEXT('Simplified Loader'!P26,\"000\"),\"\")","v":""},{"$f":"IF('Simplified Loader'!Q26>0,'Simplified Loader'!Q26,\"\")","v":""},{"$f":"IF('Simplified Loader'!R26>0,'Simplified Loader'!R26,\"\")","v":""},{"$f":"IF('Simplified Loader'!F26>0,DATEVALUE(TEXT('Simplified Loader'!F26,\"yyyy-mm-dd\")),\"\")","v":""},{"$f":"IF('Simplified Loader'!L26>0,DATEVALUE(TEXT('Simplified Loader'!L26,\"yyyy-mm-dd\")),\"\")","v":""},{"$f":"IF('Simplified Loader'!Y26>0,'Simplified Loader'!Y26,\"\")","v":""},{"$f":"IF('Simplified Loader'!T26>0,'Simplified Loader'!T26,\"\")","v":""},{"$f":"IF('Simplified Loader'!G26=\"Male\",\"Male\",IF('Simplified Loader'!G26=\"Female\",\"Female\",IF('Simplified Loader'!G26=\"M\",\"Male\",IF('Simplified Loader'!G26=\"F\",\"Female\",\"\"))))","v":""},{"$f":"IF('Simplified Loader'!U26=\"Yes\",\"Yes\",IF('Simplified Loader'!U26=\"No\",\"No\",IF('Simplified Loader'!U26=\"Y\",\"Yes\",IF('Simplified Loader'!U26=\"N\",\"No\",\"\"))))","v":""},{"$f":"IF('Simplified Loader'!I26=\"Single\",\"Single\",IF('Simplified Loader'!I26=\"Family\",\"Family\",IF('Simplified Loader'!I26=\"Waive\",\"Family\",IF('Simplified Loader'!I26=\"Single Parent\",\"Family\",IF('Simplified Loader'!I26=\"Couple\",\"Family\",IF('Simplified Loader'!I26=\"In force\",\"Family\",IF('Simplified Loader'!I26=\"Applies\",\"Family\",IF('Simplified Loader'!I26=\"Applicable\",\"Family\",\"\"))))))))","v":""},{"$f":"IF('Simplified Loader'!AC26=\"English\",\"English\",IF('Simplified Loader'!AC26=\"French\",\"French\",IF('Simplified Loader'!AC26=\"E\",\"English\",IF('Simplified Loader'!AC26=\"F\",\"French\",\"\"))))","v":""},{"$f":"IF('Simplified Loader'!AB26=\"Yes\",\"Yes\",IF('Simplified Loader'!AB26=\"No\",\"No\",IF('Simplified Loader'!AB26=\"Y\",\"Yes\",IF('Simplified Loader'!AB26=\"N\",\"No\",\"\"))))","v":""},{"$f":"IF('Simplified Loader'!AD26>0,'Simplified Loader'!AD26,\"\")","v":""},{"$f":"IF('Simplified Loader'!M26>0,'Simplified Loader'!M26,\"\")","v":""},{"$f":"IF('Simplified Loader'!N26>0,'Simplified Loader'!N26,\"\")","v":""},{"$f":"IF('Simplified Loader'!O26>0,'Simplified Loader'!O26,\"\")","v":""},{"$f":"IF('Simplified Loader'!I26=\"Waive\",\"Yes\",\"\")","v":""},{"$f":"IF('Simplified Loader'!I26=\"Waive\",\"Yes\",\"\")","v":""},{"$f":"IF('Simplified Loader'!AE26>0,'Simplified Loader'!AE26,\"\")","v":""},{"$f":"IF('Simplified Loader'!AF26>0,'Simplified Loader'!AF26,\"\")","v":""},{"$f":"IF('Simplified Loader'!AG26>0,'Simplified Loader'!AG26,\"\")","v":""},{"$f":"IF('Simplified Loader'!AH26>0,'Simplified Loader'!AH26,\"\")","v":""},{"$f":"IF('Simplified Loader'!AI26>0,'Simplified Loader'!AI26,\"\")","v":" "},{"$f":"IF('Simplified Loader'!AJ26>0,'Simplified Loader'!AJ26,\"\")","v":" "},{"$f":"IF('Simplified Loader'!W26>0,'Simplified Loader'!W26&\" \",\"\")&IF('Simplified Loader'!V26>0,'Simplified Loader'!V26,\"\")","v":""},null,{"$f":"IF('Simplified Loader'!X26>0,'Simplified Loader'!X26,\"\")","v":""},{"$f":"IF('Simplified Loader'!Y26>0,'Simplified Loader'!Y26,\"\")","v":""},{"$f":"IF('Simplified Loader'!Z26>0,'Simplified Loader'!Z26,\"\")","v":""},{"$f":"IF('Simplified Loader'!AA26>0,'Simplified Loader'!AA26,\"\")","v":""},{"$f":"IF('Simplified Loader'!E26>0,'Simplified Loader'!E26,\"\")","v":""},{"$f":"IF('Simplified Loader'!AK26>0,'Simplified Loader'!AK26,\"\")","v":""},{"$f":"IF('Simplified Loader'!AL26>0,'Simplified Loader'!AL26,\"\")","v":""},{"$f":"IF('Simplified Loader'!AM26>0,'Simplified Loader'!AM26,\"\")","v":""},{"$f":"IF('Simplified Loader'!AN26=\"Male\",\"Male\",IF('Simplified Loader'!AN26=\"Female\",\"Female\",IF('Simplified Loader'!AN26=\"M\",\"Male\",IF('Simplified Loader'!AN26=\"F\",\"Female\",\"\"))))","v":""},{"$f":"IF('Simplified Loader'!AO26=\"Single\",\"Single\",IF('Simplified Loader'!AO26=\"Family\",\"Family\",IF('Simplified Loader'!AO26=\"S\",\"Single\",IF('Simplified Loader'!AO26=\"F\",\"Family\",\"\"))))","v":""},{"$f":"IF('Simplified Loader'!AP26=\"Single\",\"Single\",IF('Simplified Loader'!AP26=\"Family\",\"Family\",IF('Simplified Loader'!AP26=\"S\",\"Single\",IF('Simplified Loader'!AP26=\"F\",\"Family\",\"\"))))","v":""},{"$f":"IF('Simplified Loader'!AQ26>0,'Simplified Loader'!AQ26,\"\")","v":""},{"$f":"IF('Simplified Loader'!AR26=\"Yes\",\"Yes\",IF('Simplified Loader'!AR26=\"No\",\"No\",IF('Simplified Loader'!AR26=\"Y\",\"Yes\",IF('Simplified Loader'!AR26=\"N\",\"No\",\"\"))))","v":""},{"$f":"IF('Simplified Loader'!AS26>0,'Simplified Loader'!AS26,\"\")","v":""},{"$f":"IF('Simplified Loader'!AT26>0,'Simplified Loader'!AT26,\"\")","v":""},{"$f":"IF('Simplified Loader'!AU26>0,'Simplified Loader'!AU26,\"\")","v":""},{"$f":"IF('Simplified Loader'!AV26=\"Male\",\"Male\",IF('Simplified Loader'!AV26=\"Female\",\"Female\",IF('Simplified Loader'!AV26=\"M\",\"Male\",IF('Simplified Loader'!AV26=\"F\",\"Female\",\"\"))))","v":""},{"$f":"IF('Simplified Loader'!AW26=\"Yes\",\"Yes\",IF('Simplified Loader'!AW26=\"No\",\"No\",IF('Simplified Loader'!AW26=\"Y\",\"Yes\",IF('Simplified Loader'!AW26=\"N\",\"No\",\"\"))))","v":""},{"$f":"IF('Simplified Loader'!AX26=\"Yes\",\"Yes\",IF('Simplified Loader'!AX26=\"No\",\"No\",IF('Simplified Loader'!AX26=\"Y\",\"Yes\",IF('Simplified Loader'!AX26=\"N\",\"No\",\"\"))))","v":""},{"$f":"IF('Simplified Loader'!AY26>0,'Simplified Loader'!AY26,\"\")","v":""},{"$f":"IF('Simplified Loader'!AZ26>0,'Simplified Loader'!AZ26,\"\")","v":""},{"$f":"IF('Simplified Loader'!BA26>0,'Simplified Loader'!BA26,\"\")","v":""},{"$f":"IF('Simplified Loader'!BB26=\"Male\",\"Male\",IF('Simplified Loader'!BB26=\"Female\",\"Female\",IF('Simplified Loader'!BB26=\"M\",\"Male\",IF('Simplified Loader'!BB26=\"F\",\"Female\",\"\"))))","v":""},{"$f":"IF('Simplified Loader'!BC26=\"Yes\",\"Yes\",IF('Simplified Loader'!BC26=\"No\",\"No\",IF('Simplified Loader'!BC26=\"Y\",\"Yes\",IF('Simplified Loader'!BC26=\"N\",\"No\",\"\"))))","v":""},{"$f":"IF('Simplified Loader'!BD26=\"Yes\",\"Yes\",IF('Simplified Loader'!BD26=\"No\",\"No\",IF('Simplified Loader'!BD26=\"Y\",\"Yes\",IF('Simplified Loader'!BD26=\"N\",\"No\",\"\"))))","v":""},{"$f":"IF('Simplified Loader'!BE26>0,'Simplified Loader'!BE26,\"\")","v":""},{"$f":"IF('Simplified Loader'!BF26>0,'Simplified Loader'!BF26,\"\")","v":""},{"$f":"IF('Simplified Loader'!BG26>0,'Simplified Loader'!BG26,\"\")","v":""},{"$f":"IF('Simplified Loader'!BH26=\"Male\",\"Male\",IF('Simplified Loader'!BH26=\"Female\",\"Female\",IF('Simplified Loader'!BH26=\"M\",\"Male\",IF('Simplified Loader'!BH26=\"F\",\"Female\",\"\"))))","v":""},{"$f":"IF('Simplified Loader'!BI26=\"Yes\",\"Yes\",IF('Simplified Loader'!BI26=\"No\",\"No\",IF('Simplified Loader'!BI26=\"Y\",\"Yes\",IF('Simplified Loader'!BI26=\"N\",\"No\",\"\"))))","v":""},{"$f":"IF('Simplified Loader'!BJ26=\"Yes\",\"Yes\",IF('Simplified Loader'!BJ26=\"No\",\"No\",IF('Simplified Loader'!BJ26=\"Y\",\"Yes\",IF('Simplified Loader'!BJ26=\"N\",\"No\",\"\"))))","v":""},{"$f":"IF('Simplified Loader'!BK26>0,'Simplified Loader'!BK26,\"\")","v":""},{"$f":"IF('Simplified Loader'!BL26>0,'Simplified Loader'!BL26,\"\")","v":""},{"$f":"IF('Simplified Loader'!BM26>0,'Simplified Loader'!BM26,\"\")","v":""},{"$f":"IF('Simplified Loader'!BN26=\"Male\",\"Male\",IF('Simplified Loader'!BN26=\"Female\",\"Female\",IF('Simplified Loader'!BN26=\"M\",\"Male\",IF('Simplified Loader'!BN26=\"F\",\"Female\",\"\"))))","v":""},{"$f":"IF('Simplified Loader'!BO26=\"Yes\",\"Yes\",IF('Simplified Loader'!BO26=\"No\",\"No\",IF('Simplified Loader'!BO26=\"Y\",\"Yes\",IF('Simplified Loader'!BO26=\"N\",\"No\",\"\"))))","v":""},{"$f":"IF('Simplified Loader'!BP26=\"Yes\",\"Yes\",IF('Simplified Loader'!BP26=\"No\",\"No\",IF('Simplified Loader'!BP26=\"Y\",\"Yes\",IF('Simplified Loader'!BP26=\"N\",\"No\",\"\"))))","v":""},{"$f":"IF('Simplified Loader'!BQ26>0,'Simplified Loader'!BQ26,\"\")","v":""},{"$f":"IF('Simplified Loader'!BR26>0,'Simplified Loader'!BR26,\"\")","v":""},{"$f":"IF('Simplified Loader'!BS26>0,'Simplified Loader'!BS26,\"\")","v":""},{"$f":"IF('Simplified Loader'!BT26=\"Male\",\"Male\",IF('Simplified Loader'!BT26=\"Female\",\"Female\",IF('Simplified Loader'!BT26=\"M\",\"Male\",IF('Simplified Loader'!BT26=\"F\",\"Female\",\"\"))))","v":""},{"$f":"IF('Simplified Loader'!BU26=\"Yes\",\"Yes\",IF('Simplified Loader'!BU26=\"No\",\"No\",IF('Simplified Loader'!BU26=\"Y\",\"Yes\",IF('Simplified Loader'!BU26=\"N\",\"No\",\"\"))))","v":""},{"$f":"IF('Simplified Loader'!BV26=\"Yes\",\"Yes\",IF('Simplified Loader'!BV26=\"No\",\"No\",IF('Simplified Loader'!BV26=\"Y\",\"Yes\",IF('Simplified Loader'!BV26=\"N\",\"No\",\"\"))))","v":""},{"$f":"IF('Simplified Loader'!BW26>0,'Simplified Loader'!BW26,\"\")","v":""},{"$f":"IF('Simplified Loader'!BX26>0,'Simplified Loader'!BX26,\"\")","v":""},{"$f":"IF('Simplified Loader'!BY26>0,'Simplified Loader'!BY26,\"\")","v":""},{"$f":"IF('Simplified Loader'!BZ26=\"Male\",\"Male\",IF('Simplified Loader'!BZ26=\"Female\",\"Female\",IF('Simplified Loader'!BZ26=\"M\",\"Male\",IF('Simplified Loader'!BZ26=\"F\",\"Female\",\"\"))))","v":""},{"$f":"IF('Simplified Loader'!CA26=\"Yes\",\"Yes\",IF('Simplified Loader'!CA26=\"No\",\"No\",IF('Simplified Loader'!CA26=\"Y\",\"Yes\",IF('Simplified Loader'!CA26=\"N\",\"No\",\"\"))))","v":""},{"$f":"IF('Simplified Loader'!CB26=\"Yes\",\"Yes\",IF('Simplified Loader'!CB26=\"No\",\"No\",IF('Simplified Loader'!CB26=\"Y\",\"Yes\",IF('Simplified Loader'!CB26=\"N\",\"No\",\"\"))))","v":""},{"$f":"IF('Simplified Loader'!CH26>0,'Simplified Loader'!CH26,\"\")","v":""}]
[{"$f":"IF('Simplified Loader'!A27>0,'Simplified Loader'!A27,\"\")","v":""},{"$f":"IF('Simplified Loader'!B27>0,'Simplified Loader'!B27,\"\")","v":""},{"$f":"IF('Simplified Loader'!C27>0,'Simplified Loader'!C27,\"\")","v":""},{"$f":"IF('Simplified Loader'!D27>0,'Simplified Loader'!D27,\"\")","v":""},{"$f":"IF('Simplified Loader'!P27>0,TEXT('Simplified Loader'!P27,\"000\"),\"\")","v":""},{"$f":"IF('Simplified Loader'!Q27>0,'Simplified Loader'!Q27,\"\")","v":""},{"$f":"IF('Simplified Loader'!R27>0,'Simplified Loader'!R27,\"\")","v":""},{"$f":"IF('Simplified Loader'!F27>0,DATEVALUE(TEXT('Simplified Loader'!F27,\"yyyy-mm-dd\")),\"\")","v":""},{"$f":"IF('Simplified Loader'!L27>0,DATEVALUE(TEXT('Simplified Loader'!L27,\"yyyy-mm-dd\")),\"\")","v":""},{"$f":"IF('Simplified Loader'!Y27>0,'Simplified Loader'!Y27,\"\")","v":""},{"$f":"IF('Simplified Loader'!T27>0,'Simplified Loader'!T27,\"\")","v":""},{"$f":"IF('Simplified Loader'!G27=\"Male\",\"Male\",IF('Simplified Loader'!G27=\"Female\",\"Female\",IF('Simplified Loader'!G27=\"M\",\"Male\",IF('Simplified Loader'!G27=\"F\",\"Female\",\"\"))))","v":""},{"$f":"IF('Simplified Loader'!U27=\"Yes\",\"Yes\",IF('Simplified Loader'!U27=\"No\",\"No\",IF('Simplified Loader'!U27=\"Y\",\"Yes\",IF('Simplified Loader'!U27=\"N\",\"No\",\"\"))))","v":""},{"$f":"IF('Simplified Loader'!I27=\"Single\",\"Single\",IF('Simplified Loader'!I27=\"Family\",\"Family\",IF('Simplified Loader'!I27=\"Waive\",\"Family\",IF('Simplified Loader'!I27=\"Single Parent\",\"Family\",IF('Simplified Loader'!I27=\"Couple\",\"Family\",IF('Simplified Loader'!I27=\"In force\",\"Family\",IF('Simplified Loader'!I27=\"Applies\",\"Family\",IF('Simplified Loader'!I27=\"Applicable\",\"Family\",\"\"))))))))","v":""},{"$f":"IF('Simplified Loader'!AC27=\"English\",\"English\",IF('Simplified Loader'!AC27=\"French\",\"French\",IF('Simplified Loader'!AC27=\"E\",\"English\",IF('Simplified Loader'!AC27=\"F\",\"French\",\"\"))))","v":""},{"$f":"IF('Simplified Loader'!AB27=\"Yes\",\"Yes\",IF('Simplified Loader'!AB27=\"No\",\"No\",IF('Simplified Loader'!AB27=\"Y\",\"Yes\",IF('Simplified Loader'!AB27=\"N\",\"No\",\"\"))))","v":""},{"$f":"IF('Simplified Loader'!AD27>0,'Simplified Loader'!AD27,\"\")","v":""},{"$f":"IF('Simplified Loader'!M27>0,'Simplified Loader'!M27,\"\")","v":""},{"$f":"IF('Simplified Loader'!N27>0,'Simplified Loader'!N27,\"\")","v":""},{"$f":"IF('Simplified Loader'!O27>0,'Simplified Loader'!O27,\"\")","v":""},{"$f":"IF('Simplified Loader'!I27=\"Waive\",\"Yes\",\"\")","v":""},{"$f":"IF('Simplified Loader'!I27=\"Waive\",\"Yes\",\"\")","v":""},{"$f":"IF('Simplified Loader'!AE27>0,'Simplified Loader'!AE27,\"\")","v":""},{"$f":"IF('Simplified Loader'!AF27>0,'Simplified Loader'!AF27,\"\")","v":""},{"$f":"IF('Simplified Loader'!AG27>0,'Simplified Loader'!AG27,\"\")","v":""},{"$f":"IF('Simplified Loader'!AH27>0,'Simplified Loader'!AH27,\"\")","v":""},{"$f":"IF('Simplified Loader'!AI27>0,'Simplified Loader'!AI27,\"\")","v":" "},{"$f":"IF('Simplified Loader'!AJ27>0,'Simplified Loader'!AJ27,\"\")","v":" "},{"$f":"IF('Simplified Loader'!W27>0,'Simplified Loader'!W27&\" \",\"\")&IF('Simplified Loader'!V27>0,'Simplified Loader'!V27,\"\")","v":""},null,{"$f":"IF('Simplified Loader'!X27>0,'Simplified Loader'!X27,\"\")","v":""},{"$f":"IF('Simplified Loader'!Y27>0,'Simplified Loader'!Y27,\"\")","v":""},{"$f":"IF('Simplified Loader'!Z27>0,'Simplified Loader'!Z27,\"\")","v":""},{"$f":"IF('Simplified Loader'!AA27>0,'Simplified Loader'!AA27,\"\")","v":""},{"$f":"IF('Simplified Loader'!E27>0,'Simplified Loader'!E27,\"\")","v":""},{"$f":"IF('Simplified Loader'!AK27>0,'Simplified Loader'!AK27,\"\")","v":""},{"$f":"IF('Simplified Loader'!AL27>0,'Simplified Loader'!AL27,\"\")","v":""},{"$f":"IF('Simplified Loader'!AM27>0,'Simplified Loader'!AM27,\"\")","v":""},{"$f":"IF('Simplified Loader'!AN27=\"Male\",\"Male\",IF('Simplified Loader'!AN27=\"Female\",\"Female\",IF('Simplified Loader'!AN27=\"M\",\"Male\",IF('Simplified Loader'!AN27=\"F\",\"Female\",\"\"))))","v":""},{"$f":"IF('Simplified Loader'!AO27=\"Single\",\"Single\",IF('Simplified Loader'!AO27=\"Family\",\"Family\",IF('Simplified Loader'!AO27=\"S\",\"Single\",IF('Simplified Loader'!AO27=\"F\",\"Family\",\"\"))))","v":""},{"$f":"IF('Simplified Loader'!AP27=\"Single\",\"Single\",IF('Simplified Loader'!AP27=\"Family\",\"Family\",IF('Simplified Loader'!AP27=\"S\",\"Single\",IF('Simplified Loader'!AP27=\"F\",\"Family\",\"\"))))","v":""},{"$f":"IF('Simplified Loader'!AQ27>0,'Simplified Loader'!AQ27,\"\")","v":""},{"$f":"IF('Simplified Loader'!AR27=\"Yes\",\"Yes\",IF('Simplified Loader'!AR27=\"No\",\"No\",IF('Simplified Loader'!AR27=\"Y\",\"Yes\",IF('Simplified Loader'!AR27=\"N\",\"No\",\"\"))))","v":""},{"$f":"IF('Simplified Loader'!AS27>0,'Simplified Loader'!AS27,\"\")","v":""},{"$f":"IF('Simplified Loader'!AT27>0,'Simplified Loader'!AT27,\"\")","v":""},{"$f":"IF('Simplified Loader'!AU27>0,'Simplified Loader'!AU27,\"\")","v":""},{"$f":"IF('Simplified Loader'!AV27=\"Male\",\"Male\",IF('Simplified Loader'!AV27=\"Female\",\"Female\",IF('Simplified Loader'!AV27=\"M\",\"Male\",IF('Simplified Loader'!AV27=\"F\",\"Female\",\"\"))))","v":""},{"$f":"IF('Simplified Loader'!AW27=\"Yes\",\"Yes\",IF('Simplified Loader'!AW27=\"No\",\"No\",IF('Simplified Loader'!AW27=\"Y\",\"Yes\",IF('Simplified Loader'!AW27=\"N\",\"No\",\"\"))))","v":""},{"$f":"IF('Simplified Loader'!AX27=\"Yes\",\"Yes\",IF('Simplified Loader'!AX27=\"No\",\"No\",IF('Simplified Loader'!AX27=\"Y\",\"Yes\",IF('Simplified Loader'!AX27=\"N\",\"No\",\"\"))))","v":""},{"$f":"IF('Simplified Loader'!AY27>0,'Simplified Loader'!AY27,\"\")","v":""},{"$f":"IF('Simplified Loader'!AZ27>0,'Simplified Loader'!AZ27,\"\")","v":""},{"$f":"IF('Simplified Loader'!BA27>0,'Simplified Loader'!BA27,\"\")","v":""},{"$f":"IF('Simplified Loader'!BB27=\"Male\",\"Male\",IF('Simplified Loader'!BB27=\"Female\",\"Female\",IF('Simplified Loader'!BB27=\"M\",\"Male\",IF('Simplified Loader'!BB27=\"F\",\"Female\",\"\"))))","v":""},{"$f":"IF('Simplified Loader'!BC27=\"Yes\",\"Yes\",IF('Simplified Loader'!BC27=\"No\",\"No\",IF('Simplified Loader'!BC27=\"Y\",\"Yes\",IF('Simplified Loader'!BC27=\"N\",\"No\",\"\"))))","v":""},{"$f":"IF('Simplified Loader'!BD27=\"Yes\",\"Yes\",IF('Simplified Loader'!BD27=\"No\",\"No\",IF('Simplified Loader'!BD27=\"Y\",\"Yes\",IF('Simplified Loader'!BD27=\"N\",\"No\",\"\"))))","v":""},{"$f":"IF('Simplified Loader'!BE27>0,'Simplified Loader'!BE27,\"\")","v":""},{"$f":"IF('Simplified Loader'!BF27>0,'Simplified Loader'!BF27,\"\")","v":""},{"$f":"IF('Simplified Loader'!BG27>0,'Simplified Loader'!BG27,\"\")","v":""},{"$f":"IF('Simplified Loader'!BH27=\"Male\",\"Male\",IF('Simplified Loader'!BH27=\"Female\",\"Female\",IF('Simplified Loader'!BH27=\"M\",\"Male\",IF('Simplified Loader'!BH27=\"F\",\"Female\",\"\"))))","v":""},{"$f":"IF('Simplified Loader'!BI27=\"Yes\",\"Yes\",IF('Simplified Loader'!BI27=\"No\",\"No\",IF('Simplified Loader'!BI27=\"Y\",\"Yes\",IF('Simplified Loader'!BI27=\"N\",\"No\",\"\"))))","v":""},{"$f":"IF('Simplified Loader'!BJ27=\"Yes\",\"Yes\",IF('Simplified Loader'!BJ27=\"No\",\"No\",IF('Simplified Loader'!BJ27=\"Y\",\"Yes\",IF('Simplified Loader'!BJ27=\"N\",\"No\",\"\"))))","v":""},{"$f":"IF('Simplified Loader'!BK27>0,'Simplified Loader'!BK27,\"\")","v":""},{"$f":"IF('Simplified Loader'!BL27>0,'Simplified Loader'!BL27,\"\")","v":""},{"$f":"IF('Simplified Loader'!BM27>0,'Simplified Loader'!BM27,\"\")","v":""},{"$f":"IF('Simplified Loader'!BN27=\"Male\",\"Male\",IF('Simplified Loader'!BN27=\"Female\",\"Female\",IF('Simplified Loader'!BN27=\"M\",\"Male\",IF('Simplified Loader'!BN27=\"F\",\"Female\",\"\"))))","v":""},{"$f":"IF('Simplified Loader'!BO27=\"Yes\",\"Yes\",IF('Simplified Loader'!BO27=\"No\",\"No\",IF('Simplified Loader'!BO27=\"Y\",\"Yes\",IF('Simplified Loader'!BO27=\"N\",\"No\",\"\"))))","v":""},{"$f":"IF('Simplified Loader'!BP27=\"Yes\",\"Yes\",IF('Simplified Loader'!BP27=\"No\",\"No\",IF('Simplified Loader'!BP27=\"Y\",\"Yes\",IF('Simplified Loader'!BP27=\"N\",\"No\",\"\"))))","v":""},{"$f":"IF('Simplified Loader'!BQ27>0,'Simplified Loader'!BQ27,\"\")","v":""},{"$f":"IF('Simplified Loader'!BR27>0,'Simplified Loader'!BR27,\"\")","v":""},{"$f":"IF('Simplified Loader'!BS27>0,'Simplified Loader'!BS27,\"\")","v":""},{"$f":"IF('Simplified Loader'!BT27=\"Male\",\"Male\",IF('Simplified Loader'!BT27=\"Female\",\"Female\",IF('Simplified Loader'!BT27=\"M\",\"Male\",IF('Simplified Loader'!BT27=\"F\",\"Female\",\"\"))))","v":""},{"$f":"IF('Simplified Loader'!BU27=\"Yes\",\"Yes\",IF('Simplified Loader'!BU27=\"No\",\"No\",IF('Simplified Loader'!BU27=\"Y\",\"Yes\",IF('Simplified Loader'!BU27=\"N\",\"No\",\"\"))))","v":""},{"$f":"IF('Simplified Loader'!BV27=\"Yes\",\"Yes\",IF('Simplified Loader'!BV27=\"No\",\"No\",IF('Simplified Loader'!BV27=\"Y\",\"Yes\",IF('Simplified Loader'!BV27=\"N\",\"No\",\"\"))))","v":""},{"$f":"IF('Simplified Loader'!BW27>0,'Simplified Loader'!BW27,\"\")","v":""},{"$f":"IF('Simplified Loader'!BX27>0,'Simplified Loader'!BX27,\"\")","v":""},{"$f":"IF('Simplified Loader'!BY27>0,'Simplified Loader'!BY27,\"\")","v":""},{"$f":"IF('Simplified Loader'!BZ27=\"Male\",\"Male\",IF('Simplified Loader'!BZ27=\"Female\",\"Female\",IF('Simplified Loader'!BZ27=\"M\",\"Male\",IF('Simplified Loader'!BZ27=\"F\",\"Female\",\"\"))))","v":""},{"$f":"IF('Simplified Loader'!CA27=\"Yes\",\"Yes\",IF('Simplified Loader'!CA27=\"No\",\"No\",IF('Simplified Loader'!CA27=\"Y\",\"Yes\",IF('Simplified Loader'!CA27=\"N\",\"No\",\"\"))))","v":""},{"$f":"IF('Simplified Loader'!CB27=\"Yes\",\"Yes\",IF('Simplified Loader'!CB27=\"No\",\"No\",IF('Simplified Loader'!CB27=\"Y\",\"Yes\",IF('Simplified Loader'!CB27=\"N\",\"No\",\"\"))))","v":""},{"$f":"IF('Simplified Loader'!CH27>0,'Simplified Loader'!CH27,\"\")","v":""}]
[{"$f":"IF('Simplified Loader'!A28>0,'Simplified Loader'!A28,\"\")","v":""},{"$f":"IF('Simplified Loader'!B28>0,'Simplified Loader'!B28,\"\")","v":""},{"$f":"IF('Simplified Loader'!C28>0,'Simplified Loader'!C28,\"\")","v":""},{"$f":"IF('Simplified Loader'!D28>0,'Simplified Loader'!D28,\"\")","v":""},{"$f":"IF('Simplified Loader'!P28>0,TEXT('Simplified Loader'!P28,\"000\"),\"\")","v":""},{"$f":"IF('Simplified Loader'!Q28>0,'Simplified Loader'!Q28,\"\")","v":""},{"$f":"IF('Simplified Loader'!R28>0,'Simplified Loader'!R28,\"\")","v":""},{"$f":"IF('Simplified Loader'!F28>0,DATEVALUE(TEXT('Simplified Loader'!F28,\"yyyy-mm-dd\")),\"\")","v":""},{"$f":"IF('Simplified Loader'!L28>0,DATEVALUE(TEXT('Simplified Loader'!L28,\"yyyy-mm-dd\")),\"\")","v":""},{"$f":"IF('Simplified Loader'!Y28>0,'Simplified Loader'!Y28,\"\")","v":""},{"$f":"IF('Simplified Loader'!T28>0,'Simplified Loader'!T28,\"\")","v":""},{"$f":"IF('Simplified Loader'!G28=\"Male\",\"Male\",IF('Simplified Loader'!G28=\"Female\",\"Female\",IF('Simplified Loader'!G28=\"M\",\"Male\",IF('Simplified Loader'!G28=\"F\",\"Female\",\"\"))))","v":""},{"$f":"IF('Simplified Loader'!U28=\"Yes\",\"Yes\",IF('Simplified Loader'!U28=\"No\",\"No\",IF('Simplified Loader'!U28=\"Y\",\"Yes\",IF('Simplified Loader'!U28=\"N\",\"No\",\"\"))))","v":""},{"$f":"IF('Simplified Loader'!I28=\"Single\",\"Single\",IF('Simplified Loader'!I28=\"Family\",\"Family\",IF('Simplified Loader'!I28=\"Waive\",\"Family\",IF('Simplified Loader'!I28=\"Single Parent\",\"Family\",IF('Simplified Loader'!I28=\"Couple\",\"Family\",IF('Simplified Loader'!I28=\"In force\",\"Family\",IF('Simplified Loader'!I28=\"Applies\",\"Family\",IF('Simplified Loader'!I28=\"Applicable\",\"Family\",\"\"))))))))","v":""},{"$f":"IF('Simplified Loader'!AC28=\"English\",\"English\",IF('Simplified Loader'!AC28=\"French\",\"French\",IF('Simplified Loader'!AC28=\"E\",\"English\",IF('Simplified Loader'!AC28=\"F\",\"French\",\"\"))))","v":""},{"$f":"IF('Simplified Loader'!AB28=\"Yes\",\"Yes\",IF('Simplified Loader'!AB28=\"No\",\"No\",IF('Simplified Loader'!AB28=\"Y\",\"Yes\",IF('Simplified Loader'!AB28=\"N\",\"No\",\"\"))))","v":""},{"$f":"IF('Simplified Loader'!AD28>0,'Simplified Loader'!AD28,\"\")","v":""},{"$f":"IF('Simplified Loader'!M28>0,'Simplified Loader'!M28,\"\")","v":""},{"$f":"IF('Simplified Loader'!N28>0,'Simplified Loader'!N28,\"\")","v":""},{"$f":"IF('Simplified Loader'!O28>0,'Simplified Loader'!O28,\"\")","v":""},{"$f":"IF('Simplified Loader'!I28=\"Waive\",\"Yes\",\"\")","v":""},{"$f":"IF('Simplified Loader'!I28=\"Waive\",\"Yes\",\"\")","v":""},{"$f":"IF('Simplified Loader'!AE28>0,'Simplified Loader'!AE28,\"\")","v":""},{"$f":"IF('Simplified Loader'!AF28>0,'Simplified Loader'!AF28,\"\")","v":""},{"$f":"IF('Simplified Loader'!AG28>0,'Simplified Loader'!AG28,\"\")","v":""},{"$f":"IF('Simplified Loader'!AH28>0,'Simplified Loader'!AH28,\"\")","v":""},{"$f":"IF('Simplified Loader'!AI28>0,'Simplified Loader'!AI28,\"\")","v":" "},{"$f":"IF('Simplified Loader'!AJ28>0,'Simplified Loader'!AJ28,\"\")","v":" "},{"$f":"IF('Simplified Loader'!W28>0,'Simplified Loader'!W28&\" \",\"\")&IF('Simplified Loader'!V28>0,'Simplified Loader'!V28,\"\")","v":""},null,{"$f":"IF('Simplified Loader'!X28>0,'Simplified Loader'!X28,\"\")","v":""},{"$f":"IF('Simplified Loader'!Y28>0,'Simplified Loader'!Y28,\"\")","v":""},{"$f":"IF('Simplified Loader'!Z28>0,'Simplified Loader'!Z28,\"\")","v":""},{"$f":"IF('Simplified Loader'!AA28>0,'Simplified Loader'!AA28,\"\")","v":""},{"$f":"IF('Simplified Loader'!E28>0,'Simplified Loader'!E28,\"\")","v":""},{"$f":"IF('Simplified Loader'!AK28>0,'Simplified Loader'!AK28,\"\")","v":""},{"$f":"IF('Simplified Loader'!AL28>0,'Simplified Loader'!AL28,\"\")","v":""},{"$f":"IF('Simplified Loader'!AM28>0,'Simplified Loader'!AM28,\"\")","v":""},{"$f":"IF('Simplified Loader'!AN28=\"Male\",\"Male\",IF('Simplified Loader'!AN28=\"Female\",\"Female\",IF('Simplified Loader'!AN28=\"M\",\"Male\",IF('Simplified Loader'!AN28=\"F\",\"Female\",\"\"))))","v":""},{"$f":"IF('Simplified Loader'!AO28=\"Single\",\"Single\",IF('Simplified Loader'!AO28=\"Family\",\"Family\",IF('Simplified Loader'!AO28=\"S\",\"Single\",IF('Simplified Loader'!AO28=\"F\",\"Family\",\"\"))))","v":""},{"$f":"IF('Simplified Loader'!AP28=\"Single\",\"Single\",IF('Simplified Loader'!AP28=\"Family\",\"Family\",IF('Simplified Loader'!AP28=\"S\",\"Single\",IF('Simplified Loader'!AP28=\"F\",\"Family\",\"\"))))","v":""},{"$f":"IF('Simplified Loader'!AQ28>0,'Simplified Loader'!AQ28,\"\")","v":""},{"$f":"IF('Simplified Loader'!AR28=\"Yes\",\"Yes\",IF('Simplified Loader'!AR28=\"No\",\"No\",IF('Simplified Loader'!AR28=\"Y\",\"Yes\",IF('Simplified Loader'!AR28=\"N\",\"No\",\"\"))))","v":""},{"$f":"IF('Simplified Loader'!AS28>0,'Simplified Loader'!AS28,\"\")","v":""},{"$f":"IF('Simplified Loader'!AT28>0,'Simplified Loader'!AT28,\"\")","v":""},{"$f":"IF('Simplified Loader'!AU28>0,'Simplified Loader'!AU28,\"\")","v":""},{"$f":"IF('Simplified Loader'!AV28=\"Male\",\"Male\",IF('Simplified Loader'!AV28=\"Female\",\"Female\",IF('Simplified Loader'!AV28=\"M\",\"Male\",IF('Simplified Loader'!AV28=\"F\",\"Female\",\"\"))))","v":""},{"$f":"IF('Simplified Loader'!AW28=\"Yes\",\"Yes\",IF('Simplified Loader'!AW28=\"No\",\"No\",IF('Simplified Loader'!AW28=\"Y\",\"Yes\",IF('Simplified Loader'!AW28=\"N\",\"No\",\"\"))))","v":""},{"$f":"IF('Simplified Loader'!AX28=\"Yes\",\"Yes\",IF('Simplified Loader'!AX28=\"No\",\"No\",IF('Simplified Loader'!AX28=\"Y\",\"Yes\",IF('Simplified Loader'!AX28=\"N\",\"No\",\"\"))))","v":""},{"$f":"IF('Simplified Loader'!AY28>0,'Simplified Loader'!AY28,\"\")","v":""},{"$f":"IF('Simplified Loader'!AZ28>0,'Simplified Loader'!AZ28,\"\")","v":""},{"$f":"IF('Simplified Loader'!BA28>0,'Simplified Loader'!BA28,\"\")","v":""},{"$f":"IF('Simplified Loader'!BB28=\"Male\",\"Male\",IF('Simplified Loader'!BB28=\"Female\",\"Female\",IF('Simplified Loader'!BB28=\"M\",\"Male\",IF('Simplified Loader'!BB28=\"F\",\"Female\",\"\"))))","v":""},{"$f":"IF('Simplified Loader'!BC28=\"Yes\",\"Yes\",IF('Simplified Loader'!BC28=\"No\",\"No\",IF('Simplified Loader'!BC28=\"Y\",\"Yes\",IF('Simplified Loader'!BC28=\"N\",\"No\",\"\"))))","v":""},{"$f":"IF('Simplified Loader'!BD28=\"Yes\",\"Yes\",IF('Simplified Loader'!BD28=\"No\",\"No\",IF('Simplified Loader'!BD28=\"Y\",\"Yes\",IF('Simplified Loader'!BD28=\"N\",\"No\",\"\"))))","v":""},{"$f":"IF('Simplified Loader'!BE28>0,'Simplified Loader'!BE28,\"\")","v":""},{"$f":"IF('Simplified Loader'!BF28>0,'Simplified Loader'!BF28,\"\")","v":""},{"$f":"IF('Simplified Loader'!BG28>0,'Simplified Loader'!BG28,\"\")","v":""},{"$f":"IF('Simplified Loader'!BH28=\"Male\",\"Male\",IF('Simplified Loader'!BH28=\"Female\",\"Female\",IF('Simplified Loader'!BH28=\"M\",\"Male\",IF('Simplified Loader'!BH28=\"F\",\"Female\",\"\"))))","v":""},{"$f":"IF('Simplified Loader'!BI28=\"Yes\",\"Yes\",IF('Simplified Loader'!BI28=\"No\",\"No\",IF('Simplified Loader'!BI28=\"Y\",\"Yes\",IF('Simplified Loader'!BI28=\"N\",\"No\",\"\"))))","v":""},{"$f":"IF('Simplified Loader'!BJ28=\"Yes\",\"Yes\",IF('Simplified Loader'!BJ28=\"No\",\"No\",IF('Simplified Loader'!BJ28=\"Y\",\"Yes\",IF('Simplified Loader'!BJ28=\"N\",\"No\",\"\"))))","v":""},{"$f":"IF('Simplified Loader'!BK28>0,'Simplified Loader'!BK28,\"\")","v":""},{"$f":"IF('Simplified Loader'!BL28>0,'Simplified Loader'!BL28,\"\")","v":""},{"$f":"IF('Simplified Loader'!BM28>0,'Simplified Loader'!BM28,\"\")","v":""},{"$f":"IF('Simplified Loader'!BN28=\"Male\",\"Male\",IF('Simplified Loader'!BN28=\"Female\",\"Female\",IF('Simplified Loader'!BN28=\"M\",\"Male\",IF('Simplified Loader'!BN28=\"F\",\"Female\",\"\"))))","v":""},{"$f":"IF('Simplified Loader'!BO28=\"Yes\",\"Yes\",IF('Simplified Loader'!BO28=\"No\",\"No\",IF('Simplified Loader'!BO28=\"Y\",\"Yes\",IF('Simplified Loader'!BO28=\"N\",\"No\",\"\"))))","v":""},{"$f":"IF('Simplified Loader'!BP28=\"Yes\",\"Yes\",IF('Simplified Loader'!BP28=\"No\",\"No\",IF('Simplified Loader'!BP28=\"Y\",\"Yes\",IF('Simplified Loader'!BP28=\"N\",\"No\",\"\"))))","v":""},{"$f":"IF('Simplified Loader'!BQ28>0,'Simplified Loader'!BQ28,\"\")","v":""},{"$f":"IF('Simplified Loader'!BR28>0,'Simplified Loader'!BR28,\"\")","v":""},{"$f":"IF('Simplified Loader'!BS28>0,'Simplified Loader'!BS28,\"\")","v":""},{"$f":"IF('Simplified Loader'!BT28=\"Male\",\"Male\",IF('Simplified Loader'!BT28=\"Female\",\"Female\",IF('Simplified Loader'!BT28=\"M\",\"Male\",IF('Simplified Loader'!BT28=\"F\",\"Female\",\"\"))))","v":""},{"$f":"IF('Simplified Loader'!BU28=\"Yes\",\"Yes\",IF('Simplified Loader'!BU28=\"No\",\"No\",IF('Simplified Loader'!BU28=\"Y\",\"Yes\",IF('Simplified Loader'!BU28=\"N\",\"No\",\"\"))))","v":""},{"$f":"IF('Simplified Loader'!BV28=\"Yes\",\"Yes\",IF('Simplified Loader'!BV28=\"No\",\"No\",IF('Simplified Loader'!BV28=\"Y\",\"Yes\",IF('Simplified Loader'!BV28=\"N\",\"No\",\"\"))))","v":""},{"$f":"IF('Simplified Loader'!BW28>0,'Simplified Loader'!BW28,\"\")","v":""},{"$f":"IF('Simplified Loader'!BX28>0,'Simplified Loader'!BX28,\"\")","v":""},{"$f":"IF('Simplified Loader'!BY28>0,'Simplified Loader'!BY28,\"\")","v":""},{"$f":"IF('Simplified Loader'!BZ28=\"Male\",\"Male\",IF('Simplified Loader'!BZ28=\"Female\",\"Female\",IF('Simplified Loader'!BZ28=\"M\",\"Male\",IF('Simplified Loader'!BZ28=\"F\",\"Female\",\"\"))))","v":""},{"$f":"IF('Simplified Loader'!CA28=\"Yes\",\"Yes\",IF('Simplified Loader'!CA28=\"No\",\"No\",IF('Simplified Loader'!CA28=\"Y\",\"Yes\",IF('Simplified Loader'!CA28=\"N\",\"No\",\"\"))))","v":""},{"$f":"IF('Simplified Loader'!CB28=\"Yes\",\"Yes\",IF('Simplified Loader'!CB28=\"No\",\"No\",IF('Simplified Loader'!CB28=\"Y\",\"Yes\",IF('Simplified Loader'!CB28=\"N\",\"No\",\"\"))))","v":""},{"$f":"IF('Simplified Loader'!CH28>0,'Simplified Loader'!CH28,\"\")","v":""}]
[{"$f":"IF('Simplified Loader'!A29>0,'Simplified Loader'!A29,\"\")","v":""},{"$f":"IF('Simplified Loader'!B29>0,'Simplified Loader'!B29,\"\")","v":""},{"$f":"IF('Simplified Loader'!C29>0,'Simplified Loader'!C29,\"\")","v":""},{"$f":"IF('Simplified Loader'!D29>0,'Simplified Loader'!D29,\"\")","v":""},{"$f":"IF('Simplified Loader'!P29>0,TEXT('Simplified Loader'!P29,\"000\"),\"\")","v":""},{"$f":"IF('Simplified Loader'!Q29>0,'Simplified Loader'!Q29,\"\")","v":""},{"$f":"IF('Simplified Loader'!R29>0,'Simplified Loader'!R29,\"\")","v":""},{"$f":"IF('Simplified Loader'!F29>0,DATEVALUE(TEXT('Simplified Loader'!F29,\"yyyy-mm-dd\")),\"\")","v":""},{"$f":"IF('Simplified Loader'!L29>0,DATEVALUE(TEXT('Simplified Loader'!L29,\"yyyy-mm-dd\")),\"\")","v":""},{"$f":"IF('Simplified Loader'!Y29>0,'Simplified Loader'!Y29,\"\")","v":""},{"$f":"IF('Simplified Loader'!T29>0,'Simplified Loader'!T29,\"\")","v":""},{"$f":"IF('Simplified Loader'!G29=\"Male\",\"Male\",IF('Simplified Loader'!G29=\"Female\",\"Female\",IF('Simplified Loader'!G29=\"M\",\"Male\",IF('Simplified Loader'!G29=\"F\",\"Female\",\"\"))))","v":""},{"$f":"IF('Simplified Loader'!U29=\"Yes\",\"Yes\",IF('Simplified Loader'!U29=\"No\",\"No\",IF('Simplified Loader'!U29=\"Y\",\"Yes\",IF('Simplified Loader'!U29=\"N\",\"No\",\"\"))))","v":""},{"$f":"IF('Simplified Loader'!I29=\"Single\",\"Single\",IF('Simplified Loader'!I29=\"Family\",\"Family\",IF('Simplified Loader'!I29=\"Waive\",\"Family\",IF('Simplified Loader'!I29=\"Single Parent\",\"Family\",IF('Simplified Loader'!I29=\"Couple\",\"Family\",IF('Simplified Loader'!I29=\"In force\",\"Family\",IF('Simplified Loader'!I29=\"Applies\",\"Family\",IF('Simplified Loader'!I29=\"Applicable\",\"Family\",\"\"))))))))","v":""},{"$f":"IF('Simplified Loader'!AC29=\"English\",\"English\",IF('Simplified Loader'!AC29=\"French\",\"French\",IF('Simplified Loader'!AC29=\"E\",\"English\",IF('Simplified Loader'!AC29=\"F\",\"French\",\"\"))))","v":""},{"$f":"IF('Simplified Loader'!AB29=\"Yes\",\"Yes\",IF('Simplified Loader'!AB29=\"No\",\"No\",IF('Simplified Loader'!AB29=\"Y\",\"Yes\",IF('Simplified Loader'!AB29=\"N\",\"No\",\"\"))))","v":""},{"$f":"IF('Simplified Loader'!AD29>0,'Simplified Loader'!AD29,\"\")","v":""},{"$f":"IF('Simplified Loader'!M29>0,'Simplified Loader'!M29,\"\")","v":""},{"$f":"IF('Simplified Loader'!N29>0,'Simplified Loader'!N29,\"\")","v":""},{"$f":"IF('Simplified Loader'!O29>0,'Simplified Loader'!O29,\"\")","v":""},{"$f":"IF('Simplified Loader'!I29=\"Waive\",\"Yes\",\"\")","v":""},{"$f":"IF('Simplified Loader'!I29=\"Waive\",\"Yes\",\"\")","v":""},{"$f":"IF('Simplified Loader'!AE29>0,'Simplified Loader'!AE29,\"\")","v":""},{"$f":"IF('Simplified Loader'!AF29>0,'Simplified Loader'!AF29,\"\")","v":""},{"$f":"IF('Simplified Loader'!AG29>0,'Simplified Loader'!AG29,\"\")","v":""},{"$f":"IF('Simplified Loader'!AH29>0,'Simplified Loader'!AH29,\"\")","v":""},{"$f":"IF('Simplified Loader'!AI29>0,'Simplified Loader'!AI29,\"\")","v":" "},{"$f":"IF('Simplified Loader'!AJ29>0,'Simplified Loader'!AJ29,\"\")","v":" "},{"$f":"IF('Simplified Loader'!W29>0,'Simplified Loader'!W29&\" \",\"\")&IF('Simplified Loader'!V29>0,'Simplified Loader'!V29,\"\")","v":""},null,{"$f":"IF('Simplified Loader'!X29>0,'Simplified Loader'!X29,\"\")","v":""},{"$f":"IF('Simplified Loader'!Y29>0,'Simplified Loader'!Y29,\"\")","v":""},{"$f":"IF('Simplified Loader'!Z29>0,'Simplified Loader'!Z29,\"\")","v":""},{"$f":"IF('Simplified Loader'!AA29>0,'Simplified Loader'!AA29,\"\")","v":""},{"$f":"IF('Simplified Loader'!E29>0,'Simplified Loader'!E29,\"\")","v":""},{"$f":"IF('Simplified Loader'!AK29>0,'Simplified Loader'!AK29,\"\")","v":""},{"$f":"IF('Simplified Loader'!AL29>0,'Simplified Loader'!AL29,\"\")","v":""},{"$f":"IF('Simplified Loader'!AM29>0,'Simplified Loader'!AM29,\"\")","v":""},{"$f":"IF('Simplified Loader'!AN29=\"Male\",\"Male\",IF('Simplified Loader'!AN29=\"Female\",\"Female\",IF('Simplified Loader'!AN29=\"M\",\"Male\",IF('Simplified Loader'!AN29=\"F\",\"Female\",\"\"))))","v":""},{"$f":"IF('Simplified Loader'!AO29=\"Single\",\"Single\",IF('Simplified Loader'!AO29=\"Family\",\"Family\",IF('Simplified Loader'!AO29=\"S\",\"Single\",IF('Simplified Loader'!AO29=\"F\",\"Family\",\"\"))))","v":""},{"$f":"IF('Simplified Loader'!AP29=\"Single\",\"Single\",IF('Simplified Loader'!AP29=\"Family\",\"Family\",IF('Simplified Loader'!AP29=\"S\",\"Single\",IF('Simplified Loader'!AP29=\"F\",\"Family\",\"\"))))","v":""},{"$f":"IF('Simplified Loader'!AQ29>0,'Simplified Loader'!AQ29,\"\")","v":""},{"$f":"IF('Simplified Loader'!AR29=\"Yes\",\"Yes\",IF('Simplified Loader'!AR29=\"No\",\"No\",IF('Simplified Loader'!AR29=\"Y\",\"Yes\",IF('Simplified Loader'!AR29=\"N\",\"No\",\"\"))))","v":""},{"$f":"IF('Simplified Loader'!AS29>0,'Simplified Loader'!AS29,\"\")","v":""},{"$f":"IF('Simplified Loader'!AT29>0,'Simplified Loader'!AT29,\"\")","v":""},{"$f":"IF('Simplified Loader'!AU29>0,'Simplified Loader'!AU29,\"\")","v":""},{"$f":"IF('Simplified Loader'!AV29=\"Male\",\"Male\",IF('Simplified Loader'!AV29=\"Female\",\"Female\",IF('Simplified Loader'!AV29=\"M\",\"Male\",IF('Simplified Loader'!AV29=\"F\",\"Female\",\"\"))))","v":""},{"$f":"IF('Simplified Loader'!AW29=\"Yes\",\"Yes\",IF('Simplified Loader'!AW29=\"No\",\"No\",IF('Simplified Loader'!AW29=\"Y\",\"Yes\",IF('Simplified Loader'!AW29=\"N\",\"No\",\"\"))))","v":""},{"$f":"IF('Simplified Loader'!AX29=\"Yes\",\"Yes\",IF('Simplified Loader'!AX29=\"No\",\"No\",IF('Simplified Loader'!AX29=\"Y\",\"Yes\",IF('Simplified Loader'!AX29=\"N\",\"No\",\"\"))))","v":""},{"$f":"IF('Simplified Loader'!AY29>0,'Simplified Loader'!AY29,\"\")","v":""},{"$f":"IF('Simplified Loader'!AZ29>0,'Simplified Loader'!AZ29,\"\")","v":""},{"$f":"IF('Simplified Loader'!BA29>0,'Simplified Loader'!BA29,\"\")","v":""},{"$f":"IF('Simplified Loader'!BB29=\"Male\",\"Male\",IF('Simplified Loader'!BB29=\"Female\",\"Female\",IF('Simplified Loader'!BB29=\"M\",\"Male\",IF('Simplified Loader'!BB29=\"F\",\"Female\",\"\"))))","v":""},{"$f":"IF('Simplified Loader'!BC29=\"Yes\",\"Yes\",IF('Simplified Loader'!BC29=\"No\",\"No\",IF('Simplified Loader'!BC29=\"Y\",\"Yes\",IF('Simplified Loader'!BC29=\"N\",\"No\",\"\"))))","v":""},{"$f":"IF('Simplified Loader'!BD29=\"Yes\",\"Yes\",IF('Simplified Loader'!BD29=\"No\",\"No\",IF('Simplified Loader'!BD29=\"Y\",\"Yes\",IF('Simplified Loader'!BD29=\"N\",\"No\",\"\"))))","v":""},{"$f":"IF('Simplified Loader'!BE29>0,'Simplified Loader'!BE29,\"\")","v":""},{"$f":"IF('Simplified Loader'!BF29>0,'Simplified Loader'!BF29,\"\")","v":""},{"$f":"IF('Simplified Loader'!BG29>0,'Simplified Loader'!BG29,\"\")","v":""},{"$f":"IF('Simplified Loader'!BH29=\"Male\",\"Male\",IF('Simplified Loader'!BH29=\"Female\",\"Female\",IF('Simplified Loader'!BH29=\"M\",\"Male\",IF('Simplified Loader'!BH29=\"F\",\"Female\",\"\"))))","v":""},{"$f":"IF('Simplified Loader'!BI29=\"Yes\",\"Yes\",IF('Simplified Loader'!BI29=\"No\",\"No\",IF('Simplified Loader'!BI29=\"Y\",\"Yes\",IF('Simplified Loader'!BI29=\"N\",\"No\",\"\"))))","v":""},{"$f":"IF('Simplified Loader'!BJ29=\"Yes\",\"Yes\",IF('Simplified Loader'!BJ29=\"No\",\"No\",IF('Simplified Loader'!BJ29=\"Y\",\"Yes\",IF('Simplified Loader'!BJ29=\"N\",\"No\",\"\"))))","v":""},{"$f":"IF('Simplified Loader'!BK29>0,'Simplified Loader'!BK29,\"\")","v":""},{"$f":"IF('Simplified Loader'!BL29>0,'Simplified Loader'!BL29,\"\")","v":""},{"$f":"IF('Simplified Loader'!BM29>0,'Simplified Loader'!BM29,\"\")","v":""},{"$f":"IF('Simplified Loader'!BN29=\"Male\",\"Male\",IF('Simplified Loader'!BN29=\"Female\",\"Female\",IF('Simplified Loader'!BN29=\"M\",\"Male\",IF('Simplified Loader'!BN29=\"F\",\"Female\",\"\"))))","v":""},{"$f":"IF('Simplified Loader'!BO29=\"Yes\",\"Yes\",IF('Simplified Loader'!BO29=\"No\",\"No\",IF('Simplified Loader'!BO29=\"Y\",\"Yes\",IF('Simplified Loader'!BO29=\"N\",\"No\",\"\"))))","v":""},{"$f":"IF('Simplified Loader'!BP29=\"Yes\",\"Yes\",IF('Simplified Loader'!BP29=\"No\",\"No\",IF('Simplified Loader'!BP29=\"Y\",\"Yes\",IF('Simplified Loader'!BP29=\"N\",\"No\",\"\"))))","v":""},{"$f":"IF('Simplified Loader'!BQ29>0,'Simplified Loader'!BQ29,\"\")","v":""},{"$f":"IF('Simplified Loader'!BR29>0,'Simplified Loader'!BR29,\"\")","v":""},{"$f":"IF('Simplified Loader'!BS29>0,'Simplified Loader'!BS29,\"\")","v":""},{"$f":"IF('Simplified Loader'!BT29=\"Male\",\"Male\",IF('Simplified Loader'!BT29=\"Female\",\"Female\",IF('Simplified Loader'!BT29=\"M\",\"Male\",IF('Simplified Loader'!BT29=\"F\",\"Female\",\"\"))))","v":""},{"$f":"IF('Simplified Loader'!BU29=\"Yes\",\"Yes\",IF('Simplified Loader'!BU29=\"No\",\"No\",IF('Simplified Loader'!BU29=\"Y\",\"Yes\",IF('Simplified Loader'!BU29=\"N\",\"No\",\"\"))))","v":""},{"$f":"IF('Simplified Loader'!BV29=\"Yes\",\"Yes\",IF('Simplified Loader'!BV29=\"No\",\"No\",IF('Simplified Loader'!BV29=\"Y\",\"Yes\",IF('Simplified Loader'!BV29=\"N\",\"No\",\"\"))))","v":""},{"$f":"IF('Simplified Loader'!BW29>0,'Simplified Loader'!BW29,\"\")","v":""},{"$f":"IF('Simplified Loader'!BX29>0,'Simplified Loader'!BX29,\"\")","v":""},{"$f":"IF('Simplified Loader'!BY29>0,'Simplified Loader'!BY29,\"\")","v":""},{"$f":"IF('Simplified Loader'!BZ29=\"Male\",\"Male\",IF('Simplified Loader'!BZ29=\"Female\",\"Female\",IF('Simplified Loader'!BZ29=\"M\",\"Male\",IF('Simplified Loader'!BZ29=\"F\",\"Female\",\"\"))))","v":""},{"$f":"IF('Simplified Loader'!CA29=\"Yes\",\"Yes\",IF('Simplified Loader'!CA29=\"No\",\"No\",IF('Simplified Loader'!CA29=\"Y\",\"Yes\",IF('Simplified Loader'!CA29=\"N\",\"No\",\"\"))))","v":""},{"$f":"IF('Simplified Loader'!CB29=\"Yes\",\"Yes\",IF('Simplified Loader'!CB29=\"No\",\"No\",IF('Simplified Loader'!CB29=\"Y\",\"Yes\",IF('Simplified Loader'!CB29=\"N\",\"No\",\"\"))))","v":""},{"$f":"IF('Simplified Loader'!CH29>0,'Simplified Loader'!CH29,\"\")","v":""}]
[{"$f":"IF('Simplified Loader'!A30>0,'Simplified Loader'!A30,\"\")","v":""},{"$f":"IF('Simplified Loader'!B30>0,'Simplified Loader'!B30,\"\")","v":""},{"$f":"IF('Simplified Loader'!C30>0,'Simplified Loader'!C30,\"\")","v":""},{"$f":"IF('Simplified Loader'!D30>0,'Simplified Loader'!D30,\"\")","v":""},{"$f":"IF('Simplified Loader'!P30>0,TEXT('Simplified Loader'!P30,\"000\"),\"\")","v":""},{"$f":"IF('Simplified Loader'!Q30>0,'Simplified Loader'!Q30,\"\")","v":""},{"$f":"IF('Simplified Loader'!R30>0,'Simplified Loader'!R30,\"\")","v":""},{"$f":"IF('Simplified Loader'!F30>0,DATEVALUE(TEXT('Simplified Loader'!F30,\"yyyy-mm-dd\")),\"\")","v":""},{"$f":"IF('Simplified Loader'!L30>0,DATEVALUE(TEXT('Simplified Loader'!L30,\"yyyy-mm-dd\")),\"\")","v":""},{"$f":"IF('Simplified Loader'!Y30>0,'Simplified Loader'!Y30,\"\")","v":""},{"$f":"IF('Simplified Loader'!T30>0,'Simplified Loader'!T30,\"\")","v":""},{"$f":"IF('Simplified Loader'!G30=\"Male\",\"Male\",IF('Simplified Loader'!G30=\"Female\",\"Female\",IF('Simplified Loader'!G30=\"M\",\"Male\",IF('Simplified Loader'!G30=\"F\",\"Female\",\"\"))))","v":""},{"$f":"IF('Simplified Loader'!U30=\"Yes\",\"Yes\",IF('Simplified Loader'!U30=\"No\",\"No\",IF('Simplified Loader'!U30=\"Y\",\"Yes\",IF('Simplified Loader'!U30=\"N\",\"No\",\"\"))))","v":""},{"$f":"IF('Simplified Loader'!I30=\"Single\",\"Single\",IF('Simplified Loader'!I30=\"Family\",\"Family\",IF('Simplified Loader'!I30=\"Waive\",\"Family\",IF('Simplified Loader'!I30=\"Single Parent\",\"Family\",IF('Simplified Loader'!I30=\"Couple\",\"Family\",IF('Simplified Loader'!I30=\"In force\",\"Family\",IF('Simplified Loader'!I30=\"Applies\",\"Family\",IF('Simplified Loader'!I30=\"Applicable\",\"Family\",\"\"))))))))","v":""},{"$f":"IF('Simplified Loader'!AC30=\"English\",\"English\",IF('Simplified Loader'!AC30=\"French\",\"French\",IF('Simplified Loader'!AC30=\"E\",\"English\",IF('Simplified Loader'!AC30=\"F\",\"French\",\"\"))))","v":""},{"$f":"IF('Simplified Loader'!AB30=\"Yes\",\"Yes\",IF('Simplified Loader'!AB30=\"No\",\"No\",IF('Simplified Loader'!AB30=\"Y\",\"Yes\",IF('Simplified Loader'!AB30=\"N\",\"No\",\"\"))))","v":""},{"$f":"IF('Simplified Loader'!AD30>0,'Simplified Loader'!AD30,\"\")","v":""},{"$f":"IF('Simplified Loader'!M30>0,'Simplified Loader'!M30,\"\")","v":""},{"$f":"IF('Simplified Loader'!N30>0,'Simplified Loader'!N30,\"\")","v":""},{"$f":"IF('Simplified Loader'!O30>0,'Simplified Loader'!O30,\"\")","v":""},{"$f":"IF('Simplified Loader'!I30=\"Waive\",\"Yes\",\"\")","v":""},{"$f":"IF('Simplified Loader'!I30=\"Waive\",\"Yes\",\"\")","v":""},{"$f":"IF('Simplified Loader'!AE30>0,'Simplified Loader'!AE30,\"\")","v":""},{"$f":"IF('Simplified Loader'!AF30>0,'Simplified Loader'!AF30,\"\")","v":""},{"$f":"IF('Simplified Loader'!AG30>0,'Simplified Loader'!AG30,\"\")","v":""},{"$f":"IF('Simplified Loader'!AH30>0,'Simplified Loader'!AH30,\"\")","v":""},{"$f":"IF('Simplified Loader'!AI30>0,'Simplified Loader'!AI30,\"\")","v":" "},{"$f":"IF('Simplified Loader'!AJ30>0,'Simplified Loader'!AJ30,\"\")","v":" "},{"$f":"IF('Simplified Loader'!W30>0,'Simplified Loader'!W30&\" \",\"\")&IF('Simplified Loader'!V30>0,'Simplified Loader'!V30,\"\")","v":""},null,{"$f":"IF('Simplified Loader'!X30>0,'Simplified Loader'!X30,\"\")","v":""},{"$f":"IF('Simplified Loader'!Y30>0,'Simplified Loader'!Y30,\"\")","v":""},{"$f":"IF('Simplified Loader'!Z30>0,'Simplified Loader'!Z30,\"\")","v":""},{"$f":"IF('Simplified Loader'!AA30>0,'Simplified Loader'!AA30,\"\")","v":""},{"$f":"IF('Simplified Loader'!E30>0,'Simplified Loader'!E30,\"\")","v":""},{"$f":"IF('Simplified Loader'!AK30>0,'Simplified Loader'!AK30,\"\")","v":""},{"$f":"IF('Simplified Loader'!AL30>0,'Simplified Loader'!AL30,\"\")","v":""},{"$f":"IF('Simplified Loader'!AM30>0,'Simplified Loader'!AM30,\"\")","v":""},{"$f":"IF('Simplified Loader'!AN30=\"Male\",\"Male\",IF('Simplified Loader'!AN30=\"Female\",\"Female\",IF('Simplified Loader'!AN30=\"M\",\"Male\",IF('Simplified Loader'!AN30=\"F\",\"Female\",\"\"))))","v":""},{"$f":"IF('Simplified Loader'!AO30=\"Single\",\"Single\",IF('Simplified Loader'!AO30=\"Family\",\"Family\",IF('Simplified Loader'!AO30=\"S\",\"Single\",IF('Simplified Loader'!AO30=\"F\",\"Family\",\"\"))))","v":""},{"$f":"IF('Simplified Loader'!AP30=\"Single\",\"Single\",IF('Simplified Loader'!AP30=\"Family\",\"Family\",IF('Simplified Loader'!AP30=\"S\",\"Single\",IF('Simplified Loader'!AP30=\"F\",\"Family\",\"\"))))","v":""},{"$f":"IF('Simplified Loader'!AQ30>0,'Simplified Loader'!AQ30,\"\")","v":""},{"$f":"IF('Simplified Loader'!AR30=\"Yes\",\"Yes\",IF('Simplified Loader'!AR30=\"No\",\"No\",IF('Simplified Loader'!AR30=\"Y\",\"Yes\",IF('Simplified Loader'!AR30=\"N\",\"No\",\"\"))))","v":""},{"$f":"IF('Simplified Loader'!AS30>0,'Simplified Loader'!AS30,\"\")","v":""},{"$f":"IF('Simplified Loader'!AT30>0,'Simplified Loader'!AT30,\"\")","v":""},{"$f":"IF('Simplified Loader'!AU30>0,'Simplified Loader'!AU30,\"\")","v":""},{"$f":"IF('Simplified Loader'!AV30=\"Male\",\"Male\",IF('Simplified Loader'!AV30=\"Female\",\"Female\",IF('Simplified Loader'!AV30=\"M\",\"Male\",IF('Simplified Loader'!AV30=\"F\",\"Female\",\"\"))))","v":""},{"$f":"IF('Simplified Loader'!AW30=\"Yes\",\"Yes\",IF('Simplified Loader'!AW30=\"No\",\"No\",IF('Simplified Loader'!AW30=\"Y\",\"Yes\",IF('Simplified Loader'!AW30=\"N\",\"No\",\"\"))))","v":""},{"$f":"IF('Simplified Loader'!AX30=\"Yes\",\"Yes\",IF('Simplified Loader'!AX30=\"No\",\"No\",IF('Simplified Loader'!AX30=\"Y\",\"Yes\",IF('Simplified Loader'!AX30=\"N\",\"No\",\"\"))))","v":""},{"$f":"IF('Simplified Loader'!AY30>0,'Simplified Loader'!AY30,\"\")","v":""},{"$f":"IF('Simplified Loader'!AZ30>0,'Simplified Loader'!AZ30,\"\")","v":""},{"$f":"IF('Simplified Loader'!BA30>0,'Simplified Loader'!BA30,\"\")","v":""},{"$f":"IF('Simplified Loader'!BB30=\"Male\",\"Male\",IF('Simplified Loader'!BB30=\"Female\",\"Female\",IF('Simplified Loader'!BB30=\"M\",\"Male\",IF('Simplified Loader'!BB30=\"F\",\"Female\",\"\"))))","v":""},{"$f":"IF('Simplified Loader'!BC30=\"Yes\",\"Yes\",IF('Simplified Loader'!BC30=\"No\",\"No\",IF('Simplified Loader'!BC30=\"Y\",\"Yes\",IF('Simplified Loader'!BC30=\"N\",\"No\",\"\"))))","v":""},{"$f":"IF('Simplified Loader'!BD30=\"Yes\",\"Yes\",IF('Simplified Loader'!BD30=\"No\",\"No\",IF('Simplified Loader'!BD30=\"Y\",\"Yes\",IF('Simplified Loader'!BD30=\"N\",\"No\",\"\"))))","v":""},{"$f":"IF('Simplified Loader'!BE30>0,'Simplified Loader'!BE30,\"\")","v":""},{"$f":"IF('Simplified Loader'!BF30>0,'Simplified Loader'!BF30,\"\")","v":""},{"$f":"IF('Simplified Loader'!BG30>0,'Simplified Loader'!BG30,\"\")","v":""},{"$f":"IF('Simplified Loader'!BH30=\"Male\",\"Male\",IF('Simplified Loader'!BH30=\"Female\",\"Female\",IF('Simplified Loader'!BH30=\"M\",\"Male\",IF('Simplified Loader'!BH30=\"F\",\"Female\",\"\"))))","v":""},{"$f":"IF('Simplified Loader'!BI30=\"Yes\",\"Yes\",IF('Simplified Loader'!BI30=\"No\",\"No\",IF('Simplified Loader'!BI30=\"Y\",\"Yes\",IF('Simplified Loader'!BI30=\"N\",\"No\",\"\"))))","v":""},{"$f":"IF('Simplified Loader'!BJ30=\"Yes\",\"Yes\",IF('Simplified Loader'!BJ30=\"No\",\"No\",IF('Simplified Loader'!BJ30=\"Y\",\"Yes\",IF('Simplified Loader'!BJ30=\"N\",\"No\",\"\"))))","v":""},{"$f":"IF('Simplified Loader'!BK30>0,'Simplified Loader'!BK30,\"\")","v":""},{"$f":"IF('Simplified Loader'!BL30>0,'Simplified Loader'!BL30,\"\")","v":""},{"$f":"IF('Simplified Loader'!BM30>0,'Simplified Loader'!BM30,\"\")","v":""},{"$f":"IF('Simplified Loader'!BN30=\"Male\",\"Male\",IF('Simplified Loader'!BN30=\"Female\",\"Female\",IF('Simplified Loader'!BN30=\"M\",\"Male\",IF('Simplified Loader'!BN30=\"F\",\"Female\",\"\"))))","v":""},{"$f":"IF('Simplified Loader'!BO30=\"Yes\",\"Yes\",IF('Simplified Loader'!BO30=\"No\",\"No\",IF('Simplified Loader'!BO30=\"Y\",\"Yes\",IF('Simplified Loader'!BO30=\"N\",\"No\",\"\"))))","v":""},{"$f":"IF('Simplified Loader'!BP30=\"Yes\",\"Yes\",IF('Simplified Loader'!BP30=\"No\",\"No\",IF('Simplified Loader'!BP30=\"Y\",\"Yes\",IF('Simplified Loader'!BP30=\"N\",\"No\",\"\"))))","v":""},{"$f":"IF('Simplified Loader'!BQ30>0,'Simplified Loader'!BQ30,\"\")","v":""},{"$f":"IF('Simplified Loader'!BR30>0,'Simplified Loader'!BR30,\"\")","v":""},{"$f":"IF('Simplified Loader'!BS30>0,'Simplified Loader'!BS30,\"\")","v":""},{"$f":"IF('Simplified Loader'!BT30=\"Male\",\"Male\",IF('Simplified Loader'!BT30=\"Female\",\"Female\",IF('Simplified Loader'!BT30=\"M\",\"Male\",IF('Simplified Loader'!BT30=\"F\",\"Female\",\"\"))))","v":""},{"$f":"IF('Simplified Loader'!BU30=\"Yes\",\"Yes\",IF('Simplified Loader'!BU30=\"No\",\"No\",IF('Simplified Loader'!BU30=\"Y\",\"Yes\",IF('Simplified Loader'!BU30=\"N\",\"No\",\"\"))))","v":""},{"$f":"IF('Simplified Loader'!BV30=\"Yes\",\"Yes\",IF('Simplified Loader'!BV30=\"No\",\"No\",IF('Simplified Loader'!BV30=\"Y\",\"Yes\",IF('Simplified Loader'!BV30=\"N\",\"No\",\"\"))))","v":""},{"$f":"IF('Simplified Loader'!BW30>0,'Simplified Loader'!BW30,\"\")","v":""},{"$f":"IF('Simplified Loader'!BX30>0,'Simplified Loader'!BX30,\"\")","v":""},{"$f":"IF('Simplified Loader'!BY30>0,'Simplified Loader'!BY30,\"\")","v":""},{"$f":"IF('Simplified Loader'!BZ30=\"Male\",\"Male\",IF('Simplified Loader'!BZ30=\"Female\",\"Female\",IF('Simplified Loader'!BZ30=\"M\",\"Male\",IF('Simplified Loader'!BZ30=\"F\",\"Female\",\"\"))))","v":""},{"$f":"IF('Simplified Loader'!CA30=\"Yes\",\"Yes\",IF('Simplified Loader'!CA30=\"No\",\"No\",IF('Simplified Loader'!CA30=\"Y\",\"Yes\",IF('Simplified Loader'!CA30=\"N\",\"No\",\"\"))))","v":""},{"$f":"IF('Simplified Loader'!CB30=\"Yes\",\"Yes\",IF('Simplified Loader'!CB30=\"No\",\"No\",IF('Simplified Loader'!CB30=\"Y\",\"Yes\",IF('Simplified Loader'!CB30=\"N\",\"No\",\"\"))))","v":""},{"$f":"IF('Simplified Loader'!CH30>0,'Simplified Loader'!CH30,\"\")","v":""}]
[{"$f":"IF('Simplified Loader'!A31>0,'Simplified Loader'!A31,\"\")","v":""},{"$f":"IF('Simplified Loader'!B31>0,'Simplified Loader'!B31,\"\")","v":""},{"$f":"IF('Simplified Loader'!C31>0,'Simplified Loader'!C31,\"\")","v":""},{"$f":"IF('Simplified Loader'!D31>0,'Simplified Loader'!D31,\"\")","v":""},{"$f":"IF('Simplified Loader'!P31>0,TEXT('Simplified Loader'!P31,\"000\"),\"\")","v":""},{"$f":"IF('Simplified Loader'!Q31>0,'Simplified Loader'!Q31,\"\")","v":""},{"$f":"IF('Simplified Loader'!R31>0,'Simplified Loader'!R31,\"\")","v":""},{"$f":"IF('Simplified Loader'!F31>0,DATEVALUE(TEXT('Simplified Loader'!F31,\"yyyy-mm-dd\")),\"\")","v":""},{"$f":"IF('Simplified Loader'!L31>0,DATEVALUE(TEXT('Simplified Loader'!L31,\"yyyy-mm-dd\")),\"\")","v":""},{"$f":"IF('Simplified Loader'!Y31>0,'Simplified Loader'!Y31,\"\")","v":""},{"$f":"IF('Simplified Loader'!T31>0,'Simplified Loader'!T31,\"\")","v":""},{"$f":"IF('Simplified Loader'!G31=\"Male\",\"Male\",IF('Simplified Loader'!G31=\"Female\",\"Female\",IF('Simplified Loader'!G31=\"M\",\"Male\",IF('Simplified Loader'!G31=\"F\",\"Female\",\"\"))))","v":""},{"$f":"IF('Simplified Loader'!U31=\"Yes\",\"Yes\",IF('Simplified Loader'!U31=\"No\",\"No\",IF('Simplified Loader'!U31=\"Y\",\"Yes\",IF('Simplified Loader'!U31=\"N\",\"No\",\"\"))))","v":""},{"$f":"IF('Simplified Loader'!I31=\"Single\",\"Single\",IF('Simplified Loader'!I31=\"Family\",\"Family\",IF('Simplified Loader'!I31=\"Waive\",\"Family\",IF('Simplified Loader'!I31=\"Single Parent\",\"Family\",IF('Simplified Loader'!I31=\"Couple\",\"Family\",IF('Simplified Loader'!I31=\"In force\",\"Family\",IF('Simplified Loader'!I31=\"Applies\",\"Family\",IF('Simplified Loader'!I31=\"Applicable\",\"Family\",\"\"))))))))","v":""},{"$f":"IF('Simplified Loader'!AC31=\"English\",\"English\",IF('Simplified Loader'!AC31=\"French\",\"French\",IF('Simplified Loader'!AC31=\"E\",\"English\",IF('Simplified Loader'!AC31=\"F\",\"French\",\"\"))))","v":""},{"$f":"IF('Simplified Loader'!AB31=\"Yes\",\"Yes\",IF('Simplified Loader'!AB31=\"No\",\"No\",IF('Simplified Loader'!AB31=\"Y\",\"Yes\",IF('Simplified Loader'!AB31=\"N\",\"No\",\"\"))))","v":""},{"$f":"IF('Simplified Loader'!AD31>0,'Simplified Loader'!AD31,\"\")","v":""},{"$f":"IF('Simplified Loader'!M31>0,'Simplified Loader'!M31,\"\")","v":""},{"$f":"IF('Simplified Loader'!N31>0,'Simplified Loader'!N31,\"\")","v":""},{"$f":"IF('Simplified Loader'!O31>0,'Simplified Loader'!O31,\"\")","v":""},{"$f":"IF('Simplified Loader'!I31=\"Waive\",\"Yes\",\"\")","v":""},{"$f":"IF('Simplified Loader'!I31=\"Waive\",\"Yes\",\"\")","v":""},{"$f":"IF('Simplified Loader'!AE31>0,'Simplified Loader'!AE31,\"\")","v":""},{"$f":"IF('Simplified Loader'!AF31>0,'Simplified Loader'!AF31,\"\")","v":""},{"$f":"IF('Simplified Loader'!AG31>0,'Simplified Loader'!AG31,\"\")","v":""},{"$f":"IF('Simplified Loader'!AH31>0,'Simplified Loader'!AH31,\"\")","v":""},{"$f":"IF('Simplified Loader'!AI31>0,'Simplified Loader'!AI31,\"\")","v":" "},{"$f":"IF('Simplified Loader'!AJ31>0,'Simplified Loader'!AJ31,\"\")","v":" "},{"$f":"IF('Simplified Loader'!W31>0,'Simplified Loader'!W31&\" \",\"\")&IF('Simplified Loader'!V31>0,'Simplified Loader'!V31,\"\")","v":""},null,{"$f":"IF('Simplified Loader'!X31>0,'Simplified Loader'!X31,\"\")","v":""},{"$f":"IF('Simplified Loader'!Y31>0,'Simplified Loader'!Y31,\"\")","v":""},{"$f":"IF('Simplified Loader'!Z31>0,'Simplified Loader'!Z31,\"\")","v":""},{"$f":"IF('Simplified Loader'!AA31>0,'Simplified Loader'!AA31,\"\")","v":""},{"$f":"IF('Simplified Loader'!E31>0,'Simplified Loader'!E31,\"\")","v":""},{"$f":"IF('Simplified Loader'!AK31>0,'Simplified Loader'!AK31,\"\")","v":""},{"$f":"IF('Simplified Loader'!AL31>0,'Simplified Loader'!AL31,\"\")","v":""},{"$f":"IF('Simplified Loader'!AM31>0,'Simplified Loader'!AM31,\"\")","v":""},{"$f":"IF('Simplified Loader'!AN31=\"Male\",\"Male\",IF('Simplified Loader'!AN31=\"Female\",\"Female\",IF('Simplified Loader'!AN31=\"M\",\"Male\",IF('Simplified Loader'!AN31=\"F\",\"Female\",\"\"))))","v":""},{"$f":"IF('Simplified Loader'!AO31=\"Single\",\"Single\",IF('Simplified Loader'!AO31=\"Family\",\"Family\",IF('Simplified Loader'!AO31=\"S\",\"Single\",IF('Simplified Loader'!AO31=\"F\",\"Family\",\"\"))))","v":""},{"$f":"IF('Simplified Loader'!AP31=\"Single\",\"Single\",IF('Simplified Loader'!AP31=\"Family\",\"Family\",IF('Simplified Loader'!AP31=\"S\",\"Single\",IF('Simplified Loader'!AP31=\"F\",\"Family\",\"\"))))","v":""},{"$f":"IF('Simplified Loader'!AQ31>0,'Simplified Loader'!AQ31,\"\")","v":""},{"$f":"IF('Simplified Loader'!AR31=\"Yes\",\"Yes\",IF('Simplified Loader'!AR31=\"No\",\"No\",IF('Simplified Loader'!AR31=\"Y\",\"Yes\",IF('Simplified Loader'!AR31=\"N\",\"No\",\"\"))))","v":""},{"$f":"IF('Simplified Loader'!AS31>0,'Simplified Loader'!AS31,\"\")","v":""},{"$f":"IF('Simplified Loader'!AT31>0,'Simplified Loader'!AT31,\"\")","v":""},{"$f":"IF('Simplified Loader'!AU31>0,'Simplified Loader'!AU31,\"\")","v":""},{"$f":"IF('Simplified Loader'!AV31=\"Male\",\"Male\",IF('Simplified Loader'!AV31=\"Female\",\"Female\",IF('Simplified Loader'!AV31=\"M\",\"Male\",IF('Simplified Loader'!AV31=\"F\",\"Female\",\"\"))))","v":""},{"$f":"IF('Simplified Loader'!AW31=\"Yes\",\"Yes\",IF('Simplified Loader'!AW31=\"No\",\"No\",IF('Simplified Loader'!AW31=\"Y\",\"Yes\",IF('Simplified Loader'!AW31=\"N\",\"No\",\"\"))))","v":""},{"$f":"IF('Simplified Loader'!AX31=\"Yes\",\"Yes\",IF('Simplified Loader'!AX31=\"No\",\"No\",IF('Simplified Loader'!AX31=\"Y\",\"Yes\",IF('Simplified Loader'!AX31=\"N\",\"No\",\"\"))))","v":""},{"$f":"IF('Simplified Loader'!AY31>0,'Simplified Loader'!AY31,\"\")","v":""},{"$f":"IF('Simplified Loader'!AZ31>0,'Simplified Loader'!AZ31,\"\")","v":""},{"$f":"IF('Simplified Loader'!BA31>0,'Simplified Loader'!BA31,\"\")","v":""},{"$f":"IF('Simplified Loader'!BB31=\"Male\",\"Male\",IF('Simplified Loader'!BB31=\"Female\",\"Female\",IF('Simplified Loader'!BB31=\"M\",\"Male\",IF('Simplified Loader'!BB31=\"F\",\"Female\",\"\"))))","v":""},{"$f":"IF('Simplified Loader'!BC31=\"Yes\",\"Yes\",IF('Simplified Loader'!BC31=\"No\",\"No\",IF('Simplified Loader'!BC31=\"Y\",\"Yes\",IF('Simplified Loader'!BC31=\"N\",\"No\",\"\"))))","v":""},{"$f":"IF('Simplified Loader'!BD31=\"Yes\",\"Yes\",IF('Simplified Loader'!BD31=\"No\",\"No\",IF('Simplified Loader'!BD31=\"Y\",\"Yes\",IF('Simplified Loader'!BD31=\"N\",\"No\",\"\"))))","v":""},{"$f":"IF('Simplified Loader'!BE31>0,'Simplified Loader'!BE31,\"\")","v":""},{"$f":"IF('Simplified Loader'!BF31>0,'Simplified Loader'!BF31,\"\")","v":""},{"$f":"IF('Simplified Loader'!BG31>0,'Simplified Loader'!BG31,\"\")","v":""},{"$f":"IF('Simplified Loader'!BH31=\"Male\",\"Male\",IF('Simplified Loader'!BH31=\"Female\",\"Female\",IF('Simplified Loader'!BH31=\"M\",\"Male\",IF('Simplified Loader'!BH31=\"F\",\"Female\",\"\"))))","v":""},{"$f":"IF('Simplified Loader'!BI31=\"Yes\",\"Yes\",IF('Simplified Loader'!BI31=\"No\",\"No\",IF('Simplified Loader'!BI31=\"Y\",\"Yes\",IF('Simplified Loader'!BI31=\"N\",\"No\",\"\"))))","v":""},{"$f":"IF('Simplified Loader'!BJ31=\"Yes\",\"Yes\",IF('Simplified Loader'!BJ31=\"No\",\"No\",IF('Simplified Loader'!BJ31=\"Y\",\"Yes\",IF('Simplified Loader'!BJ31=\"N\",\"No\",\"\"))))","v":""},{"$f":"IF('Simplified Loader'!BK31>0,'Simplified Loader'!BK31,\"\")","v":""},{"$f":"IF('Simplified Loader'!BL31>0,'Simplified Loader'!BL31,\"\")","v":""},{"$f":"IF('Simplified Loader'!BM31>0,'Simplified Loader'!BM31,\"\")","v":""},{"$f":"IF('Simplified Loader'!BN31=\"Male\",\"Male\",IF('Simplified Loader'!BN31=\"Female\",\"Female\",IF('Simplified Loader'!BN31=\"M\",\"Male\",IF('Simplified Loader'!BN31=\"F\",\"Female\",\"\"))))","v":""},{"$f":"IF('Simplified Loader'!BO31=\"Yes\",\"Yes\",IF('Simplified Loader'!BO31=\"No\",\"No\",IF('Simplified Loader'!BO31=\"Y\",\"Yes\",IF('Simplified Loader'!BO31=\"N\",\"No\",\"\"))))","v":""},{"$f":"IF('Simplified Loader'!BP31=\"Yes\",\"Yes\",IF('Simplified Loader'!BP31=\"No\",\"No\",IF('Simplified Loader'!BP31=\"Y\",\"Yes\",IF('Simplified Loader'!BP31=\"N\",\"No\",\"\"))))","v":""},{"$f":"IF('Simplified Loader'!BQ31>0,'Simplified Loader'!BQ31,\"\")","v":""},{"$f":"IF('Simplified Loader'!BR31>0,'Simplified Loader'!BR31,\"\")","v":""},{"$f":"IF('Simplified Loader'!BS31>0,'Simplified Loader'!BS31,\"\")","v":""},{"$f":"IF('Simplified Loader'!BT31=\"Male\",\"Male\",IF('Simplified Loader'!BT31=\"Female\",\"Female\",IF('Simplified Loader'!BT31=\"M\",\"Male\",IF('Simplified Loader'!BT31=\"F\",\"Female\",\"\"))))","v":""},{"$f":"IF('Simplified Loader'!BU31=\"Yes\",\"Yes\",IF('Simplified Loader'!BU31=\"No\",\"No\",IF('Simplified Loader'!BU31=\"Y\",\"Yes\",IF('Simplified Loader'!BU31=\"N\",\"No\",\"\"))))","v":""},{"$f":"IF('Simplified Loader'!BV31=\"Yes\",\"Yes\",IF('Simplified Loader'!BV31=\"No\",\"No\",IF('Simplified Loader'!BV31=\"Y\",\"Yes\",IF('Simplified Loader'!BV31=\"N\",\"No\",\"\"))))","v":""},{"$f":"IF('Simplified Loader'!BW31>0,'Simplified Loader'!BW31,\"\")","v":""},{"$f":"IF('Simplified Loader'!BX31>0,'Simplified Loader'!BX31,\"\")","v":""},{"$f":"IF('Simplified Loader'!BY31>0,'Simplified Loader'!BY31,\"\")","v":""},{"$f":"IF('Simplified Loader'!BZ31=\"Male\",\"Male\",IF('Simplified Loader'!BZ31=\"Female\",\"Female\",IF('Simplified Loader'!BZ31=\"M\",\"Male\",IF('Simplified Loader'!BZ31=\"F\",\"Female\",\"\"))))","v":""},{"$f":"IF('Simplified Loader'!CA31=\"Yes\",\"Yes\",IF('Simplified Loader'!CA31=\"No\",\"No\",IF('Simplified Loader'!CA31=\"Y\",\"Yes\",IF('Simplified Loader'!CA31=\"N\",\"No\",\"\"))))","v":""},{"$f":"IF('Simplified Loader'!CB31=\"Yes\",\"Yes\",IF('Simplified Loader'!CB31=\"No\",\"No\",IF('Simplified Loader'!CB31=\"Y\",\"Yes\",IF('Simplified Loader'!CB31=\"N\",\"No\",\"\"))))","v":""},{"$f":"IF('Simplified Loader'!CH31>0,'Simplified Loader'!CH31,\"\")","v":""}]
[{"$f":"IF('Simplified Loader'!A32>0,'Simplified Loader'!A32,\"\")","v":""},{"$f":"IF('Simplified Loader'!B32>0,'Simplified Loader'!B32,\"\")","v":""},{"$f":"IF('Simplified Loader'!C32>0,'Simplified Loader'!C32,\"\")","v":""},{"$f":"IF('Simplified Loader'!D32>0,'Simplified Loader'!D32,\"\")","v":""},{"$f":"IF('Simplified Loader'!P32>0,TEXT('Simplified Loader'!P32,\"000\"),\"\")","v":""},{"$f":"IF('Simplified Loader'!Q32>0,'Simplified Loader'!Q32,\"\")","v":""},{"$f":"IF('Simplified Loader'!R32>0,'Simplified Loader'!R32,\"\")","v":""},{"$f":"IF('Simplified Loader'!F32>0,DATEVALUE(TEXT('Simplified Loader'!F32,\"yyyy-mm-dd\")),\"\")","v":""},{"$f":"IF('Simplified Loader'!L32>0,DATEVALUE(TEXT('Simplified Loader'!L32,\"yyyy-mm-dd\")),\"\")","v":""},{"$f":"IF('Simplified Loader'!Y32>0,'Simplified Loader'!Y32,\"\")","v":""},{"$f":"IF('Simplified Loader'!T32>0,'Simplified Loader'!T32,\"\")","v":""},{"$f":"IF('Simplified Loader'!G32=\"Male\",\"Male\",IF('Simplified Loader'!G32=\"Female\",\"Female\",IF('Simplified Loader'!G32=\"M\",\"Male\",IF('Simplified Loader'!G32=\"F\",\"Female\",\"\"))))","v":""},{"$f":"IF('Simplified Loader'!U32=\"Yes\",\"Yes\",IF('Simplified Loader'!U32=\"No\",\"No\",IF('Simplified Loader'!U32=\"Y\",\"Yes\",IF('Simplified Loader'!U32=\"N\",\"No\",\"\"))))","v":""},{"$f":"IF('Simplified Loader'!I32=\"Single\",\"Single\",IF('Simplified Loader'!I32=\"Family\",\"Family\",IF('Simplified Loader'!I32=\"Waive\",\"Family\",IF('Simplified Loader'!I32=\"Single Parent\",\"Family\",IF('Simplified Loader'!I32=\"Couple\",\"Family\",IF('Simplified Loader'!I32=\"In force\",\"Family\",IF('Simplified Loader'!I32=\"Applies\",\"Family\",IF('Simplified Loader'!I32=\"Applicable\",\"Family\",\"\"))))))))","v":""},{"$f":"IF('Simplified Loader'!AC32=\"English\",\"English\",IF('Simplified Loader'!AC32=\"French\",\"French\",IF('Simplified Loader'!AC32=\"E\",\"English\",IF('Simplified Loader'!AC32=\"F\",\"French\",\"\"))))","v":""},{"$f":"IF('Simplified Loader'!AB32=\"Yes\",\"Yes\",IF('Simplified Loader'!AB32=\"No\",\"No\",IF('Simplified Loader'!AB32=\"Y\",\"Yes\",IF('Simplified Loader'!AB32=\"N\",\"No\",\"\"))))","v":""},{"$f":"IF('Simplified Loader'!AD32>0,'Simplified Loader'!AD32,\"\")","v":""},{"$f":"IF('Simplified Loader'!M32>0,'Simplified Loader'!M32,\"\")","v":""},{"$f":"IF('Simplified Loader'!N32>0,'Simplified Loader'!N32,\"\")","v":""},{"$f":"IF('Simplified Loader'!O32>0,'Simplified Loader'!O32,\"\")","v":""},{"$f":"IF('Simplified Loader'!I32=\"Waive\",\"Yes\",\"\")","v":""},{"$f":"IF('Simplified Loader'!I32=\"Waive\",\"Yes\",\"\")","v":""},{"$f":"IF('Simplified Loader'!AE32>0,'Simplified Loader'!AE32,\"\")","v":""},{"$f":"IF('Simplified Loader'!AF32>0,'Simplified Loader'!AF32,\"\")","v":""},{"$f":"IF('Simplified Loader'!AG32>0,'Simplified Loader'!AG32,\"\")","v":""},{"$f":"IF('Simplified Loader'!AH32>0,'Simplified Loader'!AH32,\"\")","v":""},{"$f":"IF('Simplified Loader'!AI32>0,'Simplified Loader'!AI32,\"\")","v":" "},{"$f":"IF('Simplified Loader'!AJ32>0,'Simplified Loader'!AJ32,\"\")","v":" "},{"$f":"IF('Simplified Loader'!W32>0,'Simplified Loader'!W32&\" \",\"\")&IF('Simplified Loader'!V32>0,'Simplified Loader'!V32,\"\")","v":""},null,{"$f":"IF('Simplified Loader'!X32>0,'Simplified Loader'!X32,\"\")","v":""},{"$f":"IF('Simplified Loader'!Y32>0,'Simplified Loader'!Y32,\"\")","v":""},{"$f":"IF('Simplified Loader'!Z32>0,'Simplified Loader'!Z32,\"\")","v":""},{"$f":"IF('Simplified Loader'!AA32>0,'Simplified Loader'!AA32,\"\")","v":""},{"$f":"IF('Simplified Loader'!E32>0,'Simplified Loader'!E32,\"\")","v":""},{"$f":"IF('Simplified Loader'!AK32>0,'Simplified Loader'!AK32,\"\")","v":""},{"$f":"IF('Simplified Loader'!AL32>0,'Simplified Loader'!AL32,\"\")","v":""},{"$f":"IF('Simplified Loader'!AM32>0,'Simplified Loader'!AM32,\"\")","v":""},{"$f":"IF('Simplified Loader'!AN32=\"Male\",\"Male\",IF('Simplified Loader'!AN32=\"Female\",\"Female\",IF('Simplified Loader'!AN32=\"M\",\"Male\",IF('Simplified Loader'!AN32=\"F\",\"Female\",\"\"))))","v":""},{"$f":"IF('Simplified Loader'!AO32=\"Single\",\"Single\",IF('Simplified Loader'!AO32=\"Family\",\"Family\",IF('Simplified Loader'!AO32=\"S\",\"Single\",IF('Simplified Loader'!AO32=\"F\",\"Family\",\"\"))))","v":""},{"$f":"IF('Simplified Loader'!AP32=\"Single\",\"Single\",IF('Simplified Loader'!AP32=\"Family\",\"Family\",IF('Simplified Loader'!AP32=\"S\",\"Single\",IF('Simplified Loader'!AP32=\"F\",\"Family\",\"\"))))","v":""},{"$f":"IF('Simplified Loader'!AQ32>0,'Simplified Loader'!AQ32,\"\")","v":""},{"$f":"IF('Simplified Loader'!AR32=\"Yes\",\"Yes\",IF('Simplified Loader'!AR32=\"No\",\"No\",IF('Simplified Loader'!AR32=\"Y\",\"Yes\",IF('Simplified Loader'!AR32=\"N\",\"No\",\"\"))))","v":""},{"$f":"IF('Simplified Loader'!AS32>0,'Simplified Loader'!AS32,\"\")","v":""},{"$f":"IF('Simplified Loader'!AT32>0,'Simplified Loader'!AT32,\"\")","v":""},{"$f":"IF('Simplified Loader'!AU32>0,'Simplified Loader'!AU32,\"\")","v":""},{"$f":"IF('Simplified Loader'!AV32=\"Male\",\"Male\",IF('Simplified Loader'!AV32=\"Female\",\"Female\",IF('Simplified Loader'!AV32=\"M\",\"Male\",IF('Simplified Loader'!AV32=\"F\",\"Female\",\"\"))))","v":""},{"$f":"IF('Simplified Loader'!AW32=\"Yes\",\"Yes\",IF('Simplified Loader'!AW32=\"No\",\"No\",IF('Simplified Loader'!AW32=\"Y\",\"Yes\",IF('Simplified Loader'!AW32=\"N\",\"No\",\"\"))))","v":""},{"$f":"IF('Simplified Loader'!AX32=\"Yes\",\"Yes\",IF('Simplified Loader'!AX32=\"No\",\"No\",IF('Simplified Loader'!AX32=\"Y\",\"Yes\",IF('Simplified Loader'!AX32=\"N\",\"No\",\"\"))))","v":""},{"$f":"IF('Simplified Loader'!AY32>0,'Simplified Loader'!AY32,\"\")","v":""},{"$f":"IF('Simplified Loader'!AZ32>0,'Simplified Loader'!AZ32,\"\")","v":""},{"$f":"IF('Simplified Loader'!BA32>0,'Simplified Loader'!BA32,\"\")","v":""},{"$f":"IF('Simplified Loader'!BB32=\"Male\",\"Male\",IF('Simplified Loader'!BB32=\"Female\",\"Female\",IF('Simplified Loader'!BB32=\"M\",\"Male\",IF('Simplified Loader'!BB32=\"F\",\"Female\",\"\"))))","v":""},{"$f":"IF('Simplified Loader'!BC32=\"Yes\",\"Yes\",IF('Simplified Loader'!BC32=\"No\",\"No\",IF('Simplified Loader'!BC32=\"Y\",\"Yes\",IF('Simplified Loader'!BC32=\"N\",\"No\",\"\"))))","v":""},{"$f":"IF('Simplified Loader'!BD32=\"Yes\",\"Yes\",IF('Simplified Loader'!BD32=\"No\",\"No\",IF('Simplified Loader'!BD32=\"Y\",\"Yes\",IF('Simplified Loader'!BD32=\"N\",\"No\",\"\"))))","v":""},{"$f":"IF('Simplified Loader'!BE32>0,'Simplified Loader'!BE32,\"\")","v":""},{"$f":"IF('Simplified Loader'!BF32>0,'Simplified Loader'!BF32,\"\")","v":""},{"$f":"IF('Simplified Loader'!BG32>0,'Simplified Loader'!BG32,\"\")","v":""},{"$f":"IF('Simplified Loader'!BH32=\"Male\",\"Male\",IF('Simplified Loader'!BH32=\"Female\",\"Female\",IF('Simplified Loader'!BH32=\"M\",\"Male\",IF('Simplified Loader'!BH32=\"F\",\"Female\",\"\"))))","v":""},{"$f":"IF('Simplified Loader'!BI32=\"Yes\",\"Yes\",IF('Simplified Loader'!BI32=\"No\",\"No\",IF('Simplified Loader'!BI32=\"Y\",\"Yes\",IF('Simplified Loader'!BI32=\"N\",\"No\",\"\"))))","v":""},{"$f":"IF('Simplified Loader'!BJ32=\"Yes\",\"Yes\",IF('Simplified Loader'!BJ32=\"No\",\"No\",IF('Simplified Loader'!BJ32=\"Y\",\"Yes\",IF('Simplified Loader'!BJ32=\"N\",\"No\",\"\"))))","v":""},{"$f":"IF('Simplified Loader'!BK32>0,'Simplified Loader'!BK32,\"\")","v":""},{"$f":"IF('Simplified Loader'!BL32>0,'Simplified Loader'!BL32,\"\")","v":""},{"$f":"IF('Simplified Loader'!BM32>0,'Simplified Loader'!BM32,\"\")","v":""},{"$f":"IF('Simplified Loader'!BN32=\"Male\",\"Male\",IF('Simplified Loader'!BN32=\"Female\",\"Female\",IF('Simplified Loader'!BN32=\"M\",\"Male\",IF('Simplified Loader'!BN32=\"F\",\"Female\",\"\"))))","v":""},{"$f":"IF('Simplified Loader'!BO32=\"Yes\",\"Yes\",IF('Simplified Loader'!BO32=\"No\",\"No\",IF('Simplified Loader'!BO32=\"Y\",\"Yes\",IF('Simplified Loader'!BO32=\"N\",\"No\",\"\"))))","v":""},{"$f":"IF('Simplified Loader'!BP32=\"Yes\",\"Yes\",IF('Simplified Loader'!BP32=\"No\",\"No\",IF('Simplified Loader'!BP32=\"Y\",\"Yes\",IF('Simplified Loader'!BP32=\"N\",\"No\",\"\"))))","v":""},{"$f":"IF('Simplified Loader'!BQ32>0,'Simplified Loader'!BQ32,\"\")","v":""},{"$f":"IF('Simplified Loader'!BR32>0,'Simplified Loader'!BR32,\"\")","v":""},{"$f":"IF('Simplified Loader'!BS32>0,'Simplified Loader'!BS32,\"\")","v":""},{"$f":"IF('Simplified Loader'!BT32=\"Male\",\"Male\",IF('Simplified Loader'!BT32=\"Female\",\"Female\",IF('Simplified Loader'!BT32=\"M\",\"Male\",IF('Simplified Loader'!BT32=\"F\",\"Female\",\"\"))))","v":""},{"$f":"IF('Simplified Loader'!BU32=\"Yes\",\"Yes\",IF('Simplified Loader'!BU32=\"No\",\"No\",IF('Simplified Loader'!BU32=\"Y\",\"Yes\",IF('Simplified Loader'!BU32=\"N\",\"No\",\"\"))))","v":""},{"$f":"IF('Simplified Loader'!BV32=\"Yes\",\"Yes\",IF('Simplified Loader'!BV32=\"No\",\"No\",IF('Simplified Loader'!BV32=\"Y\",\"Yes\",IF('Simplified Loader'!BV32=\"N\",\"No\",\"\"))))","v":""},{"$f":"IF('Simplified Loader'!BW32>0,'Simplified Loader'!BW32,\"\")","v":""},{"$f":"IF('Simplified Loader'!BX32>0,'Simplified Loader'!BX32,\"\")","v":""},{"$f":"IF('Simplified Loader'!BY32>0,'Simplified Loader'!BY32,\"\")","v":""},{"$f":"IF('Simplified Loader'!BZ32=\"Male\",\"Male\",IF('Simplified Loader'!BZ32=\"Female\",\"Female\",IF('Simplified Loader'!BZ32=\"M\",\"Male\",IF('Simplified Loader'!BZ32=\"F\",\"Female\",\"\"))))","v":""},{"$f":"IF('Simplified Loader'!CA32=\"Yes\",\"Yes\",IF('Simplified Loader'!CA32=\"No\",\"No\",IF('Simplified Loader'!CA32=\"Y\",\"Yes\",IF('Simplified Loader'!CA32=\"N\",\"No\",\"\"))))","v":""},{"$f":"IF('Simplified Loader'!CB32=\"Yes\",\"Yes\",IF('Simplified Loader'!CB32=\"No\",\"No\",IF('Simplified Loader'!CB32=\"Y\",\"Yes\",IF('Simplified Loader'!CB32=\"N\",\"No\",\"\"))))","v":""},{"$f":"IF('Simplified Loader'!CH32>0,'Simplified Loader'!CH32,\"\")","v":"    "}]
[{"$f":"IF('Simplified Loader'!A33>0,'Simplified Loader'!A33,\"\")","v":""},{"$f":"IF('Simplified Loader'!B33>0,'Simplified Loader'!B33,\"\")","v":""},{"$f":"IF('Simplified Loader'!C33>0,'Simplified Loader'!C33,\"\")","v":""},{"$f":"IF('Simplified Loader'!D33>0,'Simplified Loader'!D33,\"\")","v":""},{"$f":"IF('Simplified Loader'!P33>0,TEXT('Simplified Loader'!P33,\"000\"),\"\")","v":""},{"$f":"IF('Simplified Loader'!Q33>0,'Simplified Loader'!Q33,\"\")","v":""},{"$f":"IF('Simplified Loader'!R33>0,'Simplified Loader'!R33,\"\")","v":""},{"$f":"IF('Simplified Loader'!F33>0,DATEVALUE(TEXT('Simplified Loader'!F33,\"yyyy-mm-dd\")),\"\")","v":""},{"$f":"IF('Simplified Loader'!L33>0,DATEVALUE(TEXT('Simplified Loader'!L33,\"yyyy-mm-dd\")),\"\")","v":""},{"$f":"IF('Simplified Loader'!Y33>0,'Simplified Loader'!Y33,\"\")","v":""},{"$f":"IF('Simplified Loader'!T33>0,'Simplified Loader'!T33,\"\")","v":""},{"$f":"IF('Simplified Loader'!G33=\"Male\",\"Male\",IF('Simplified Loader'!G33=\"Female\",\"Female\",IF('Simplified Loader'!G33=\"M\",\"Male\",IF('Simplified Loader'!G33=\"F\",\"Female\",\"\"))))","v":""},{"$f":"IF('Simplified Loader'!U33=\"Yes\",\"Yes\",IF('Simplified Loader'!U33=\"No\",\"No\",IF('Simplified Loader'!U33=\"Y\",\"Yes\",IF('Simplified Loader'!U33=\"N\",\"No\",\"\"))))","v":""},{"$f":"IF('Simplified Loader'!I33=\"Single\",\"Single\",IF('Simplified Loader'!I33=\"Family\",\"Family\",IF('Simplified Loader'!I33=\"Waive\",\"Family\",IF('Simplified Loader'!I33=\"Single Parent\",\"Family\",IF('Simplified Loader'!I33=\"Couple\",\"Family\",IF('Simplified Loader'!I33=\"In force\",\"Family\",IF('Simplified Loader'!I33=\"Applies\",\"Family\",IF('Simplified Loader'!I33=\"Applicable\",\"Family\",\"\"))))))))","v":""},{"$f":"IF('Simplified Loader'!AC33=\"English\",\"English\",IF('Simplified Loader'!AC33=\"French\",\"French\",IF('Simplified Loader'!AC33=\"E\",\"English\",IF('Simplified Loader'!AC33=\"F\",\"French\",\"\"))))","v":""},{"$f":"IF('Simplified Loader'!AB33=\"Yes\",\"Yes\",IF('Simplified Loader'!AB33=\"No\",\"No\",IF('Simplified Loader'!AB33=\"Y\",\"Yes\",IF('Simplified Loader'!AB33=\"N\",\"No\",\"\"))))","v":""},{"$f":"IF('Simplified Loader'!AD33>0,'Simplified Loader'!AD33,\"\")","v":""},{"$f":"IF('Simplified Loader'!M33>0,'Simplified Loader'!M33,\"\")","v":""},{"$f":"IF('Simplified Loader'!N33>0,'Simplified Loader'!N33,\"\")","v":""},{"$f":"IF('Simplified Loader'!O33>0,'Simplified Loader'!O33,\"\")","v":""},{"$f":"IF('Simplified Loader'!I33=\"Waive\",\"Yes\",\"\")","v":""},{"$f":"IF('Simplified Loader'!I33=\"Waive\",\"Yes\",\"\")","v":""},{"$f":"IF('Simplified Loader'!AE33>0,'Simplified Loader'!AE33,\"\")","v":""},{"$f":"IF('Simplified Loader'!AF33>0,'Simplified Loader'!AF33,\"\")","v":""},{"$f":"IF('Simplified Loader'!AG33>0,'Simplified Loader'!AG33,\"\")","v":""},{"$f":"IF('Simplified Loader'!AH33>0,'Simplified Loader'!AH33,\"\")","v":""},{"$f":"IF('Simplified Loader'!AI33>0,'Simplified Loader'!AI33,\"\")","v":" "},{"$f":"IF('Simplified Loader'!AJ33>0,'Simplified Loader'!AJ33,\"\")","v":" "},{"$f":"IF('Simplified Loader'!W33>0,'Simplified Loader'!W33&\" \",\"\")&IF('Simplified Loader'!V33>0,'Simplified Loader'!V33,\"\")","v":""},null,{"$f":"IF('Simplified Loader'!X33>0,'Simplified Loader'!X33,\"\")","v":""},{"$f":"IF('Simplified Loader'!Y33>0,'Simplified Loader'!Y33,\"\")","v":""},{"$f":"IF('Simplified Loader'!Z33>0,'Simplified Loader'!Z33,\"\")","v":""},{"$f":"IF('Simplified Loader'!AA33>0,'Simplified Loader'!AA33,\"\")","v":""},{"$f":"IF('Simplified Loader'!E33>0,'Simplified Loader'!E33,\"\")","v":""},{"$f":"IF('Simplified Loader'!AK33>0,'Simplified Loader'!AK33,\"\")","v":""},{"$f":"IF('Simplified Loader'!AL33>0,'Simplified Loader'!AL33,\"\")","v":""},{"$f":"IF('Simplified Loader'!AM33>0,'Simplified Loader'!AM33,\"\")","v":""},{"$f":"IF('Simplified Loader'!AN33=\"Male\",\"Male\",IF('Simplified Loader'!AN33=\"Female\",\"Female\",IF('Simplified Loader'!AN33=\"M\",\"Male\",IF('Simplified Loader'!AN33=\"F\",\"Female\",\"\"))))","v":""},{"$f":"IF('Simplified Loader'!AO33=\"Single\",\"Single\",IF('Simplified Loader'!AO33=\"Family\",\"Family\",IF('Simplified Loader'!AO33=\"S\",\"Single\",IF('Simplified Loader'!AO33=\"F\",\"Family\",\"\"))))","v":""},{"$f":"IF('Simplified Loader'!AP33=\"Single\",\"Single\",IF('Simplified Loader'!AP33=\"Family\",\"Family\",IF('Simplified Loader'!AP33=\"S\",\"Single\",IF('Simplified Loader'!AP33=\"F\",\"Family\",\"\"))))","v":""},{"$f":"IF('Simplified Loader'!AQ33>0,'Simplified Loader'!AQ33,\"\")","v":""},{"$f":"IF('Simplified Loader'!AR33=\"Yes\",\"Yes\",IF('Simplified Loader'!AR33=\"No\",\"No\",IF('Simplified Loader'!AR33=\"Y\",\"Yes\",IF('Simplified Loader'!AR33=\"N\",\"No\",\"\"))))","v":""},{"$f":"IF('Simplified Loader'!AS33>0,'Simplified Loader'!AS33,\"\")","v":""},{"$f":"IF('Simplified Loader'!AT33>0,'Simplified Loader'!AT33,\"\")","v":""},{"$f":"IF('Simplified Loader'!AU33>0,'Simplified Loader'!AU33,\"\")","v":""},{"$f":"IF('Simplified Loader'!AV33=\"Male\",\"Male\",IF('Simplified Loader'!AV33=\"Female\",\"Female\",IF('Simplified Loader'!AV33=\"M\",\"Male\",IF('Simplified Loader'!AV33=\"F\",\"Female\",\"\"))))","v":""},{"$f":"IF('Simplified Loader'!AW33=\"Yes\",\"Yes\",IF('Simplified Loader'!AW33=\"No\",\"No\",IF('Simplified Loader'!AW33=\"Y\",\"Yes\",IF('Simplified Loader'!AW33=\"N\",\"No\",\"\"))))","v":""},{"$f":"IF('Simplified Loader'!AX33=\"Yes\",\"Yes\",IF('Simplified Loader'!AX33=\"No\",\"No\",IF('Simplified Loader'!AX33=\"Y\",\"Yes\",IF('Simplified Loader'!AX33=\"N\",\"No\",\"\"))))","v":""},{"$f":"IF('Simplified Loader'!AY33>0,'Simplified Loader'!AY33,\"\")","v":""},{"$f":"IF('Simplified Loader'!AZ33>0,'Simplified Loader'!AZ33,\"\")","v":""},{"$f":"IF('Simplified Loader'!BA33>0,'Simplified Loader'!BA33,\"\")","v":""},{"$f":"IF('Simplified Loader'!BB33=\"Male\",\"Male\",IF('Simplified Loader'!BB33=\"Female\",\"Female\",IF('Simplified Loader'!BB33=\"M\",\"Male\",IF('Simplified Loader'!BB33=\"F\",\"Female\",\"\"))))","v":""},{"$f":"IF('Simplified Loader'!BC33=\"Yes\",\"Yes\",IF('Simplified Loader'!BC33=\"No\",\"No\",IF('Simplified Loader'!BC33=\"Y\",\"Yes\",IF('Simplified Loader'!BC33=\"N\",\"No\",\"\"))))","v":""},{"$f":"IF('Simplified Loader'!BD33=\"Yes\",\"Yes\",IF('Simplified Loader'!BD33=\"No\",\"No\",IF('Simplified Loader'!BD33=\"Y\",\"Yes\",IF('Simplified Loader'!BD33=\"N\",\"No\",\"\"))))","v":""},{"$f":"IF('Simplified Loader'!BE33>0,'Simplified Loader'!BE33,\"\")","v":""},{"$f":"IF('Simplified Loader'!BF33>0,'Simplified Loader'!BF33,\"\")","v":""},{"$f":"IF('Simplified Loader'!BG33>0,'Simplified Loader'!BG33,\"\")","v":""},{"$f":"IF('Simplified Loader'!BH33=\"Male\",\"Male\",IF('Simplified Loader'!BH33=\"Female\",\"Female\",IF('Simplified Loader'!BH33=\"M\",\"Male\",IF('Simplified Loader'!BH33=\"F\",\"Female\",\"\"))))","v":""},{"$f":"IF('Simplified Loader'!BI33=\"Yes\",\"Yes\",IF('Simplified Loader'!BI33=\"No\",\"No\",IF('Simplified Loader'!BI33=\"Y\",\"Yes\",IF('Simplified Loader'!BI33=\"N\",\"No\",\"\"))))","v":""},{"$f":"IF('Simplified Loader'!BJ33=\"Yes\",\"Yes\",IF('Simplified Loader'!BJ33=\"No\",\"No\",IF('Simplified Loader'!BJ33=\"Y\",\"Yes\",IF('Simplified Loader'!BJ33=\"N\",\"No\",\"\"))))","v":""},{"$f":"IF('Simplified Loader'!BK33>0,'Simplified Loader'!BK33,\"\")","v":""},{"$f":"IF('Simplified Loader'!BL33>0,'Simplified Loader'!BL33,\"\")","v":""},{"$f":"IF('Simplified Loader'!BM33>0,'Simplified Loader'!BM33,\"\")","v":""},{"$f":"IF('Simplified Loader'!BN33=\"Male\",\"Male\",IF('Simplified Loader'!BN33=\"Female\",\"Female\",IF('Simplified Loader'!BN33=\"M\",\"Male\",IF('Simplified Loader'!BN33=\"F\",\"Female\",\"\"))))","v":""},{"$f":"IF('Simplified Loader'!BO33=\"Yes\",\"Yes\",IF('Simplified Loader'!BO33=\"No\",\"No\",IF('Simplified Loader'!BO33=\"Y\",\"Yes\",IF('Simplified Loader'!BO33=\"N\",\"No\",\"\"))))","v":""},{"$f":"IF('Simplified Loader'!BP33=\"Yes\",\"Yes\",IF('Simplified Loader'!BP33=\"No\",\"No\",IF('Simplified Loader'!BP33=\"Y\",\"Yes\",IF('Simplified Loader'!BP33=\"N\",\"No\",\"\"))))","v":""},{"$f":"IF('Simplified Loader'!BQ33>0,'Simplified Loader'!BQ33,\"\")","v":""},{"$f":"IF('Simplified Loader'!BR33>0,'Simplified Loader'!BR33,\"\")","v":""},{"$f":"IF('Simplified Loader'!BS33>0,'Simplified Loader'!BS33,\"\")","v":""},{"$f":"IF('Simplified Loader'!BT33=\"Male\",\"Male\",IF('Simplified Loader'!BT33=\"Female\",\"Female\",IF('Simplified Loader'!BT33=\"M\",\"Male\",IF('Simplified Loader'!BT33=\"F\",\"Female\",\"\"))))","v":""},{"$f":"IF('Simplified Loader'!BU33=\"Yes\",\"Yes\",IF('Simplified Loader'!BU33=\"No\",\"No\",IF('Simplified Loader'!BU33=\"Y\",\"Yes\",IF('Simplified Loader'!BU33=\"N\",\"No\",\"\"))))","v":""},{"$f":"IF('Simplified Loader'!BV33=\"Yes\",\"Yes\",IF('Simplified Loader'!BV33=\"No\",\"No\",IF('Simplified Loader'!BV33=\"Y\",\"Yes\",IF('Simplified Loader'!BV33=\"N\",\"No\",\"\"))))","v":""},{"$f":"IF('Simplified Loader'!BW33>0,'Simplified Loader'!BW33,\"\")","v":""},{"$f":"IF('Simplified Loader'!BX33>0,'Simplified Loader'!BX33,\"\")","v":""},{"$f":"IF('Simplified Loader'!BY33>0,'Simplified Loader'!BY33,\"\")","v":""},{"$f":"IF('Simplified Loader'!BZ33=\"Male\",\"Male\",IF('Simplified Loader'!BZ33=\"Female\",\"Female\",IF('Simplified Loader'!BZ33=\"M\",\"Male\",IF('Simplified Loader'!BZ33=\"F\",\"Female\",\"\"))))","v":""},{"$f":"IF('Simplified Loader'!CA33=\"Yes\",\"Yes\",IF('Simplified Loader'!CA33=\"No\",\"No\",IF('Simplified Loader'!CA33=\"Y\",\"Yes\",IF('Simplified Loader'!CA33=\"N\",\"No\",\"\"))))","v":""},{"$f":"IF('Simplified Loader'!CB33=\"Yes\",\"Yes\",IF('Simplified Loader'!CB33=\"No\",\"No\",IF('Simplified Loader'!CB33=\"Y\",\"Yes\",IF('Simplified Loader'!CB33=\"N\",\"No\",\"\"))))","v":""},{"$f":"IF('Simplified Loader'!CH33>0,'Simplified Loader'!CH33,\"\")","v":"    "}]
[{"$f":"IF('Simplified Loader'!A34>0,'Simplified Loader'!A34,\"\")","v":""},{"$f":"IF('Simplified Loader'!B34>0,'Simplified Loader'!B34,\"\")","v":""},{"$f":"IF('Simplified Loader'!C34>0,'Simplified Loader'!C34,\"\")","v":""},{"$f":"IF('Simplified Loader'!D34>0,'Simplified Loader'!D34,\"\")","v":""},{"$f":"IF('Simplified Loader'!P34>0,TEXT('Simplified Loader'!P34,\"000\"),\"\")","v":""},{"$f":"IF('Simplified Loader'!Q34>0,'Simplified Loader'!Q34,\"\")","v":""},{"$f":"IF('Simplified Loader'!R34>0,'Simplified Loader'!R34,\"\")","v":""},{"$f":"IF('Simplified Loader'!F34>0,DATEVALUE(TEXT('Simplified Loader'!F34,\"yyyy-mm-dd\")),\"\")","v":""},{"$f":"IF('Simplified Loader'!L34>0,DATEVALUE(TEXT('Simplified Loader'!L34,\"yyyy-mm-dd\")),\"\")","v":""},{"$f":"IF('Simplified Loader'!Y34>0,'Simplified Loader'!Y34,\"\")","v":""},{"$f":"IF('Simplified Loader'!T34>0,'Simplified Loader'!T34,\"\")","v":""},{"$f":"IF('Simplified Loader'!G34=\"Male\",\"Male\",IF('Simplified Loader'!G34=\"Female\",\"Female\",IF('Simplified Loader'!G34=\"M\",\"Male\",IF('Simplified Loader'!G34=\"F\",\"Female\",\"\"))))","v":""},{"$f":"IF('Simplified Loader'!U34=\"Yes\",\"Yes\",IF('Simplified Loader'!U34=\"No\",\"No\",IF('Simplified Loader'!U34=\"Y\",\"Yes\",IF('Simplified Loader'!U34=\"N\",\"No\",\"\"))))","v":""},{"$f":"IF('Simplified Loader'!I34=\"Single\",\"Single\",IF('Simplified Loader'!I34=\"Family\",\"Family\",IF('Simplified Loader'!I34=\"Waive\",\"Family\",IF('Simplified Loader'!I34=\"Single Parent\",\"Family\",IF('Simplified Loader'!I34=\"Couple\",\"Family\",IF('Simplified Loader'!I34=\"In force\",\"Family\",IF('Simplified Loader'!I34=\"Applies\",\"Family\",IF('Simplified Loader'!I34=\"Applicable\",\"Family\",\"\"))))))))","v":""},{"$f":"IF('Simplified Loader'!AC34=\"English\",\"English\",IF('Simplified Loader'!AC34=\"French\",\"French\",IF('Simplified Loader'!AC34=\"E\",\"English\",IF('Simplified Loader'!AC34=\"F\",\"French\",\"\"))))","v":""},{"$f":"IF('Simplified Loader'!AB34=\"Yes\",\"Yes\",IF('Simplified Loader'!AB34=\"No\",\"No\",IF('Simplified Loader'!AB34=\"Y\",\"Yes\",IF('Simplified Loader'!AB34=\"N\",\"No\",\"\"))))","v":""},{"$f":"IF('Simplified Loader'!AD34>0,'Simplified Loader'!AD34,\"\")","v":""},{"$f":"IF('Simplified Loader'!M34>0,'Simplified Loader'!M34,\"\")","v":""},{"$f":"IF('Simplified Loader'!N34>0,'Simplified Loader'!N34,\"\")","v":""},{"$f":"IF('Simplified Loader'!O34>0,'Simplified Loader'!O34,\"\")","v":""},{"$f":"IF('Simplified Loader'!I34=\"Waive\",\"Yes\",\"\")","v":""},{"$f":"IF('Simplified Loader'!I34=\"Waive\",\"Yes\",\"\")","v":""},{"$f":"IF('Simplified Loader'!AE34>0,'Simplified Loader'!AE34,\"\")","v":""},{"$f":"IF('Simplified Loader'!AF34>0,'Simplified Loader'!AF34,\"\")","v":""},{"$f":"IF('Simplified Loader'!AG34>0,'Simplified Loader'!AG34,\"\")","v":""},{"$f":"IF('Simplified Loader'!AH34>0,'Simplified Loader'!AH34,\"\")","v":""},{"$f":"IF('Simplified Loader'!AI34>0,'Simplified Loader'!AI34,\"\")","v":" "},{"$f":"IF('Simplified Loader'!AJ34>0,'Simplified Loader'!AJ34,\"\")","v":" "},{"$f":"IF('Simplified Loader'!W34>0,'Simplified Loader'!W34&\" \",\"\")&IF('Simplified Loader'!V34>0,'Simplified Loader'!V34,\"\")","v":""},null,{"$f":"IF('Simplified Loader'!X34>0,'Simplified Loader'!X34,\"\")","v":""},{"$f":"IF('Simplified Loader'!Y34>0,'Simplified Loader'!Y34,\"\")","v":""},{"$f":"IF('Simplified Loader'!Z34>0,'Simplified Loader'!Z34,\"\")","v":""},{"$f":"IF('Simplified Loader'!AA34>0,'Simplified Loader'!AA34,\"\")","v":""},{"$f":"IF('Simplified Loader'!E34>0,'Simplified Loader'!E34,\"\")","v":""},{"$f":"IF('Simplified Loader'!AK34>0,'Simplified Loader'!AK34,\"\")","v":""},{"$f":"IF('Simplified Loader'!AL34>0,'Simplified Loader'!AL34,\"\")","v":""},{"$f":"IF('Simplified Loader'!AM34>0,'Simplified Loader'!AM34,\"\")","v":""},{"$f":"IF('Simplified Loader'!AN34=\"Male\",\"Male\",IF('Simplified Loader'!AN34=\"Female\",\"Female\",IF('Simplified Loader'!AN34=\"M\",\"Male\",IF('Simplified Loader'!AN34=\"F\",\"Female\",\"\"))))","v":""},{"$f":"IF('Simplified Loader'!AO34=\"Single\",\"Single\",IF('Simplified Loader'!AO34=\"Family\",\"Family\",IF('Simplified Loader'!AO34=\"S\",\"Single\",IF('Simplified Loader'!AO34=\"F\",\"Family\",\"\"))))","v":""},{"$f":"IF('Simplified Loader'!AP34=\"Single\",\"Single\",IF('Simplified Loader'!AP34=\"Family\",\"Family\",IF('Simplified Loader'!AP34=\"S\",\"Single\",IF('Simplified Loader'!AP34=\"F\",\"Family\",\"\"))))","v":""},{"$f":"IF('Simplified Loader'!AQ34>0,'Simplified Loader'!AQ34,\"\")","v":""},{"$f":"IF('Simplified Loader'!AR34=\"Yes\",\"Yes\",IF('Simplified Loader'!AR34=\"No\",\"No\",IF('Simplified Loader'!AR34=\"Y\",\"Yes\",IF('Simplified Loader'!AR34=\"N\",\"No\",\"\"))))","v":""},{"$f":"IF('Simplified Loader'!AS34>0,'Simplified Loader'!AS34,\"\")","v":""},{"$f":"IF('Simplified Loader'!AT34>0,'Simplified Loader'!AT34,\"\")","v":""},{"$f":"IF('Simplified Loader'!AU34>0,'Simplified Loader'!AU34,\"\")","v":""},{"$f":"IF('Simplified Loader'!AV34=\"Male\",\"Male\",IF('Simplified Loader'!AV34=\"Female\",\"Female\",IF('Simplified Loader'!AV34=\"M\",\"Male\",IF('Simplified Loader'!AV34=\"F\",\"Female\",\"\"))))","v":""},{"$f":"IF('Simplified Loader'!AW34=\"Yes\",\"Yes\",IF('Simplified Loader'!AW34=\"No\",\"No\",IF('Simplified Loader'!AW34=\"Y\",\"Yes\",IF('Simplified Loader'!AW34=\"N\",\"No\",\"\"))))","v":""},{"$f":"IF('Simplified Loader'!AX34=\"Yes\",\"Yes\",IF('Simplified Loader'!AX34=\"No\",\"No\",IF('Simplified Loader'!AX34=\"Y\",\"Yes\",IF('Simplified Loader'!AX34=\"N\",\"No\",\"\"))))","v":""},{"$f":"IF('Simplified Loader'!AY34>0,'Simplified Loader'!AY34,\"\")","v":""},{"$f":"IF('Simplified Loader'!AZ34>0,'Simplified Loader'!AZ34,\"\")","v":""},{"$f":"IF('Simplified Loader'!BA34>0,'Simplified Loader'!BA34,\"\")","v":""},{"$f":"IF('Simplified Loader'!BB34=\"Male\",\"Male\",IF('Simplified Loader'!BB34=\"Female\",\"Female\",IF('Simplified Loader'!BB34=\"M\",\"Male\",IF('Simplified Loader'!BB34=\"F\",\"Female\",\"\"))))","v":""},{"$f":"IF('Simplified Loader'!BC34=\"Yes\",\"Yes\",IF('Simplified Loader'!BC34=\"No\",\"No\",IF('Simplified Loader'!BC34=\"Y\",\"Yes\",IF('Simplified Loader'!BC34=\"N\",\"No\",\"\"))))","v":""},{"$f":"IF('Simplified Loader'!BD34=\"Yes\",\"Yes\",IF('Simplified Loader'!BD34=\"No\",\"No\",IF('Simplified Loader'!BD34=\"Y\",\"Yes\",IF('Simplified Loader'!BD34=\"N\",\"No\",\"\"))))","v":""},{"$f":"IF('Simplified Loader'!BE34>0,'Simplified Loader'!BE34,\"\")","v":""},{"$f":"IF('Simplified Loader'!BF34>0,'Simplified Loader'!BF34,\"\")","v":""},{"$f":"IF('Simplified Loader'!BG34>0,'Simplified Loader'!BG34,\"\")","v":""},{"$f":"IF('Simplified Loader'!BH34=\"Male\",\"Male\",IF('Simplified Loader'!BH34=\"Female\",\"Female\",IF('Simplified Loader'!BH34=\"M\",\"Male\",IF('Simplified Loader'!BH34=\"F\",\"Female\",\"\"))))","v":""},{"$f":"IF('Simplified Loader'!BI34=\"Yes\",\"Yes\",IF('Simplified Loader'!BI34=\"No\",\"No\",IF('Simplified Loader'!BI34=\"Y\",\"Yes\",IF('Simplified Loader'!BI34=\"N\",\"No\",\"\"))))","v":""},{"$f":"IF('Simplified Loader'!BJ34=\"Yes\",\"Yes\",IF('Simplified Loader'!BJ34=\"No\",\"No\",IF('Simplified Loader'!BJ34=\"Y\",\"Yes\",IF('Simplified Loader'!BJ34=\"N\",\"No\",\"\"))))","v":""},{"$f":"IF('Simplified Loader'!BK34>0,'Simplified Loader'!BK34,\"\")","v":""},{"$f":"IF('Simplified Loader'!BL34>0,'Simplified Loader'!BL34,\"\")","v":""},{"$f":"IF('Simplified Loader'!BM34>0,'Simplified Loader'!BM34,\"\")","v":""},{"$f":"IF('Simplified Loader'!BN34=\"Male\",\"Male\",IF('Simplified Loader'!BN34=\"Female\",\"Female\",IF('Simplified Loader'!BN34=\"M\",\"Male\",IF('Simplified Loader'!BN34=\"F\",\"Female\",\"\"))))","v":""},{"$f":"IF('Simplified Loader'!BO34=\"Yes\",\"Yes\",IF('Simplified Loader'!BO34=\"No\",\"No\",IF('Simplified Loader'!BO34=\"Y\",\"Yes\",IF('Simplified Loader'!BO34=\"N\",\"No\",\"\"))))","v":""},{"$f":"IF('Simplified Loader'!BP34=\"Yes\",\"Yes\",IF('Simplified Loader'!BP34=\"No\",\"No\",IF('Simplified Loader'!BP34=\"Y\",\"Yes\",IF('Simplified Loader'!BP34=\"N\",\"No\",\"\"))))","v":""},{"$f":"IF('Simplified Loader'!BQ34>0,'Simplified Loader'!BQ34,\"\")","v":""},{"$f":"IF('Simplified Loader'!BR34>0,'Simplified Loader'!BR34,\"\")","v":""},{"$f":"IF('Simplified Loader'!BS34>0,'Simplified Loader'!BS34,\"\")","v":""},{"$f":"IF('Simplified Loader'!BT34=\"Male\",\"Male\",IF('Simplified Loader'!BT34=\"Female\",\"Female\",IF('Simplified Loader'!BT34=\"M\",\"Male\",IF('Simplified Loader'!BT34=\"F\",\"Female\",\"\"))))","v":""},{"$f":"IF('Simplified Loader'!BU34=\"Yes\",\"Yes\",IF('Simplified Loader'!BU34=\"No\",\"No\",IF('Simplified Loader'!BU34=\"Y\",\"Yes\",IF('Simplified Loader'!BU34=\"N\",\"No\",\"\"))))","v":""},{"$f":"IF('Simplified Loader'!BV34=\"Yes\",\"Yes\",IF('Simplified Loader'!BV34=\"No\",\"No\",IF('Simplified Loader'!BV34=\"Y\",\"Yes\",IF('Simplified Loader'!BV34=\"N\",\"No\",\"\"))))","v":""},{"$f":"IF('Simplified Loader'!BW34>0,'Simplified Loader'!BW34,\"\")","v":""},{"$f":"IF('Simplified Loader'!BX34>0,'Simplified Loader'!BX34,\"\")","v":""},{"$f":"IF('Simplified Loader'!BY34>0,'Simplified Loader'!BY34,\"\")","v":""},{"$f":"IF('Simplified Loader'!BZ34=\"Male\",\"Male\",IF('Simplified Loader'!BZ34=\"Female\",\"Female\",IF('Simplified Loader'!BZ34=\"M\",\"Male\",IF('Simplified Loader'!BZ34=\"F\",\"Female\",\"\"))))","v":""},{"$f":"IF('Simplified Loader'!CA34=\"Yes\",\"Yes\",IF('Simplified Loader'!CA34=\"No\",\"No\",IF('Simplified Loader'!CA34=\"Y\",\"Yes\",IF('Simplified Loader'!CA34=\"N\",\"No\",\"\"))))","v":""},{"$f":"IF('Simplified Loader'!CB34=\"Yes\",\"Yes\",IF('Simplified Loader'!CB34=\"No\",\"No\",IF('Simplified Loader'!CB34=\"Y\",\"Yes\",IF('Simplified Loader'!CB34=\"N\",\"No\",\"\"))))","v":""},{"$f":"IF('Simplified Loader'!CH34>0,'Simplified Loader'!CH34,\"\")","v":"    "}]
[{"$f":"IF('Simplified Loader'!A35>0,'Simplified Loader'!A35,\"\")","v":""},{"$f":"IF('Simplified Loader'!B35>0,'Simplified Loader'!B35,\"\")","v":""},{"$f":"IF('Simplified Loader'!C35>0,'Simplified Loader'!C35,\"\")","v":""},{"$f":"IF('Simplified Loader'!D35>0,'Simplified Loader'!D35,\"\")","v":""},{"$f":"IF('Simplified Loader'!P35>0,TEXT('Simplified Loader'!P35,\"000\"),\"\")","v":""},{"$f":"IF('Simplified Loader'!Q35>0,'Simplified Loader'!Q35,\"\")","v":""},{"$f":"IF('Simplified Loader'!R35>0,'Simplified Loader'!R35,\"\")","v":""},{"$f":"IF('Simplified Loader'!F35>0,DATEVALUE(TEXT('Simplified Loader'!F35,\"yyyy-mm-dd\")),\"\")","v":""},{"$f":"IF('Simplified Loader'!L35>0,DATEVALUE(TEXT('Simplified Loader'!L35,\"yyyy-mm-dd\")),\"\")","v":""},{"$f":"IF('Simplified Loader'!Y35>0,'Simplified Loader'!Y35,\"\")","v":""},{"$f":"IF('Simplified Loader'!T35>0,'Simplified Loader'!T35,\"\")","v":""},{"$f":"IF('Simplified Loader'!G35=\"Male\",\"Male\",IF('Simplified Loader'!G35=\"Female\",\"Female\",IF('Simplified Loader'!G35=\"M\",\"Male\",IF('Simplified Loader'!G35=\"F\",\"Female\",\"\"))))","v":""},{"$f":"IF('Simplified Loader'!U35=\"Yes\",\"Yes\",IF('Simplified Loader'!U35=\"No\",\"No\",IF('Simplified Loader'!U35=\"Y\",\"Yes\",IF('Simplified Loader'!U35=\"N\",\"No\",\"\"))))","v":""},{"$f":"IF('Simplified Loader'!I35=\"Single\",\"Single\",IF('Simplified Loader'!I35=\"Family\",\"Family\",IF('Simplified Loader'!I35=\"Waive\",\"Family\",IF('Simplified Loader'!I35=\"Single Parent\",\"Family\",IF('Simplified Loader'!I35=\"Couple\",\"Family\",IF('Simplified Loader'!I35=\"In force\",\"Family\",IF('Simplified Loader'!I35=\"Applies\",\"Family\",IF('Simplified Loader'!I35=\"Applicable\",\"Family\",\"\"))))))))","v":""},{"$f":"IF('Simplified Loader'!AC35=\"English\",\"English\",IF('Simplified Loader'!AC35=\"French\",\"French\",IF('Simplified Loader'!AC35=\"E\",\"English\",IF('Simplified Loader'!AC35=\"F\",\"French\",\"\"))))","v":""},{"$f":"IF('Simplified Loader'!AB35=\"Yes\",\"Yes\",IF('Simplified Loader'!AB35=\"No\",\"No\",IF('Simplified Loader'!AB35=\"Y\",\"Yes\",IF('Simplified Loader'!AB35=\"N\",\"No\",\"\"))))","v":""},{"$f":"IF('Simplified Loader'!AD35>0,'Simplified Loader'!AD35,\"\")","v":""},{"$f":"IF('Simplified Loader'!M35>0,'Simplified Loader'!M35,\"\")","v":""},{"$f":"IF('Simplified Loader'!N35>0,'Simplified Loader'!N35,\"\")","v":""},{"$f":"IF('Simplified Loader'!O35>0,'Simplified Loader'!O35,\"\")","v":""},{"$f":"IF('Simplified Loader'!I35=\"Waive\",\"Yes\",\"\")","v":""},{"$f":"IF('Simplified Loader'!I35=\"Waive\",\"Yes\",\"\")","v":""},{"$f":"IF('Simplified Loader'!AE35>0,'Simplified Loader'!AE35,\"\")","v":""},{"$f":"IF('Simplified Loader'!AF35>0,'Simplified Loader'!AF35,\"\")","v":""},{"$f":"IF('Simplified Loader'!AG35>0,'Simplified Loader'!AG35,\"\")","v":""},{"$f":"IF('Simplified Loader'!AH35>0,'Simplified Loader'!AH35,\"\")","v":""},{"$f":"IF('Simplified Loader'!AI35>0,'Simplified Loader'!AI35,\"\")","v":" "},{"$f":"IF('Simplified Loader'!AJ35>0,'Simplified Loader'!AJ35,\"\")","v":" "},{"$f":"IF('Simplified Loader'!W35>0,'Simplified Loader'!W35&\" \",\"\")&IF('Simplified Loader'!V35>0,'Simplified Loader'!V35,\"\")","v":""},null,{"$f":"IF('Simplified Loader'!X35>0,'Simplified Loader'!X35,\"\")","v":""},{"$f":"IF('Simplified Loader'!Y35>0,'Simplified Loader'!Y35,\"\")","v":""},{"$f":"IF('Simplified Loader'!Z35>0,'Simplified Loader'!Z35,\"\")","v":""},{"$f":"IF('Simplified Loader'!AA35>0,'Simplified Loader'!AA35,\"\")","v":""},{"$f":"IF('Simplified Loader'!E35>0,'Simplified Loader'!E35,\"\")","v":""},{"$f":"IF('Simplified Loader'!AK35>0,'Simplified Loader'!AK35,\"\")","v":""},{"$f":"IF('Simplified Loader'!AL35>0,'Simplified Loader'!AL35,\"\")","v":""},{"$f":"IF('Simplified Loader'!AM35>0,'Simplified Loader'!AM35,\"\")","v":""},{"$f":"IF('Simplified Loader'!AN35=\"Male\",\"Male\",IF('Simplified Loader'!AN35=\"Female\",\"Female\",IF('Simplified Loader'!AN35=\"M\",\"Male\",IF('Simplified Loader'!AN35=\"F\",\"Female\",\"\"))))","v":""},{"$f":"IF('Simplified Loader'!AO35=\"Single\",\"Single\",IF('Simplified Loader'!AO35=\"Family\",\"Family\",IF('Simplified Loader'!AO35=\"S\",\"Single\",IF('Simplified Loader'!AO35=\"F\",\"Family\",\"\"))))","v":""},{"$f":"IF('Simplified Loader'!AP35=\"Single\",\"Single\",IF('Simplified Loader'!AP35=\"Family\",\"Family\",IF('Simplified Loader'!AP35=\"S\",\"Single\",IF('Simplified Loader'!AP35=\"F\",\"Family\",\"\"))))","v":""},{"$f":"IF('Simplified Loader'!AQ35>0,'Simplified Loader'!AQ35,\"\")","v":""},{"$f":"IF('Simplified Loader'!AR35=\"Yes\",\"Yes\",IF('Simplified Loader'!AR35=\"No\",\"No\",IF('Simplified Loader'!AR35=\"Y\",\"Yes\",IF('Simplified Loader'!AR35=\"N\",\"No\",\"\"))))","v":""},{"$f":"IF('Simplified Loader'!AS35>0,'Simplified Loader'!AS35,\"\")","v":""},{"$f":"IF('Simplified Loader'!AT35>0,'Simplified Loader'!AT35,\"\")","v":""},{"$f":"IF('Simplified Loader'!AU35>0,'Simplified Loader'!AU35,\"\")","v":""},{"$f":"IF('Simplified Loader'!AV35=\"Male\",\"Male\",IF('Simplified Loader'!AV35=\"Female\",\"Female\",IF('Simplified Loader'!AV35=\"M\",\"Male\",IF('Simplified Loader'!AV35=\"F\",\"Female\",\"\"))))","v":""},{"$f":"IF('Simplified Loader'!AW35=\"Yes\",\"Yes\",IF('Simplified Loader'!AW35=\"No\",\"No\",IF('Simplified Loader'!AW35=\"Y\",\"Yes\",IF('Simplified Loader'!AW35=\"N\",\"No\",\"\"))))","v":""},{"$f":"IF('Simplified Loader'!AX35=\"Yes\",\"Yes\",IF('Simplified Loader'!AX35=\"No\",\"No\",IF('Simplified Loader'!AX35=\"Y\",\"Yes\",IF('Simplified Loader'!AX35=\"N\",\"No\",\"\"))))","v":""},{"$f":"IF('Simplified Loader'!AY35>0,'Simplified Loader'!AY35,\"\")","v":""},{"$f":"IF('Simplified Loader'!AZ35>0,'Simplified Loader'!AZ35,\"\")","v":""},{"$f":"IF('Simplified Loader'!BA35>0,'Simplified Loader'!BA35,\"\")","v":""},{"$f":"IF('Simplified Loader'!BB35=\"Male\",\"Male\",IF('Simplified Loader'!BB35=\"Female\",\"Female\",IF('Simplified Loader'!BB35=\"M\",\"Male\",IF('Simplified Loader'!BB35=\"F\",\"Female\",\"\"))))","v":""},{"$f":"IF('Simplified Loader'!BC35=\"Yes\",\"Yes\",IF('Simplified Loader'!BC35=\"No\",\"No\",IF('Simplified Loader'!BC35=\"Y\",\"Yes\",IF('Simplified Loader'!BC35=\"N\",\"No\",\"\"))))","v":""},{"$f":"IF('Simplified Loader'!BD35=\"Yes\",\"Yes\",IF('Simplified Loader'!BD35=\"No\",\"No\",IF('Simplified Loader'!BD35=\"Y\",\"Yes\",IF('Simplified Loader'!BD35=\"N\",\"No\",\"\"))))","v":""},{"$f":"IF('Simplified Loader'!BE35>0,'Simplified Loader'!BE35,\"\")","v":""},{"$f":"IF('Simplified Loader'!BF35>0,'Simplified Loader'!BF35,\"\")","v":""},{"$f":"IF('Simplified Loader'!BG35>0,'Simplified Loader'!BG35,\"\")","v":""},{"$f":"IF('Simplified Loader'!BH35=\"Male\",\"Male\",IF('Simplified Loader'!BH35=\"Female\",\"Female\",IF('Simplified Loader'!BH35=\"M\",\"Male\",IF('Simplified Loader'!BH35=\"F\",\"Female\",\"\"))))","v":""},{"$f":"IF('Simplified Loader'!BI35=\"Yes\",\"Yes\",IF('Simplified Loader'!BI35=\"No\",\"No\",IF('Simplified Loader'!BI35=\"Y\",\"Yes\",IF('Simplified Loader'!BI35=\"N\",\"No\",\"\"))))","v":""},{"$f":"IF('Simplified Loader'!BJ35=\"Yes\",\"Yes\",IF('Simplified Loader'!BJ35=\"No\",\"No\",IF('Simplified Loader'!BJ35=\"Y\",\"Yes\",IF('Simplified Loader'!BJ35=\"N\",\"No\",\"\"))))","v":""},{"$f":"IF('Simplified Loader'!BK35>0,'Simplified Loader'!BK35,\"\")","v":""},{"$f":"IF('Simplified Loader'!BL35>0,'Simplified Loader'!BL35,\"\")","v":""},{"$f":"IF('Simplified Loader'!BM35>0,'Simplified Loader'!BM35,\"\")","v":""},{"$f":"IF('Simplified Loader'!BN35=\"Male\",\"Male\",IF('Simplified Loader'!BN35=\"Female\",\"Female\",IF('Simplified Loader'!BN35=\"M\",\"Male\",IF('Simplified Loader'!BN35=\"F\",\"Female\",\"\"))))","v":""},{"$f":"IF('Simplified Loader'!BO35=\"Yes\",\"Yes\",IF('Simplified Loader'!BO35=\"No\",\"No\",IF('Simplified Loader'!BO35=\"Y\",\"Yes\",IF('Simplified Loader'!BO35=\"N\",\"No\",\"\"))))","v":""},{"$f":"IF('Simplified Loader'!BP35=\"Yes\",\"Yes\",IF('Simplified Loader'!BP35=\"No\",\"No\",IF('Simplified Loader'!BP35=\"Y\",\"Yes\",IF('Simplified Loader'!BP35=\"N\",\"No\",\"\"))))","v":""},{"$f":"IF('Simplified Loader'!BQ35>0,'Simplified Loader'!BQ35,\"\")","v":""},{"$f":"IF('Simplified Loader'!BR35>0,'Simplified Loader'!BR35,\"\")","v":""},{"$f":"IF('Simplified Loader'!BS35>0,'Simplified Loader'!BS35,\"\")","v":""},{"$f":"IF('Simplified Loader'!BT35=\"Male\",\"Male\",IF('Simplified Loader'!BT35=\"Female\",\"Female\",IF('Simplified Loader'!BT35=\"M\",\"Male\",IF('Simplified Loader'!BT35=\"F\",\"Female\",\"\"))))","v":""},{"$f":"IF('Simplified Loader'!BU35=\"Yes\",\"Yes\",IF('Simplified Loader'!BU35=\"No\",\"No\",IF('Simplified Loader'!BU35=\"Y\",\"Yes\",IF('Simplified Loader'!BU35=\"N\",\"No\",\"\"))))","v":""},{"$f":"IF('Simplified Loader'!BV35=\"Yes\",\"Yes\",IF('Simplified Loader'!BV35=\"No\",\"No\",IF('Simplified Loader'!BV35=\"Y\",\"Yes\",IF('Simplified Loader'!BV35=\"N\",\"No\",\"\"))))","v":""},{"$f":"IF('Simplified Loader'!BW35>0,'Simplified Loader'!BW35,\"\")","v":""},{"$f":"IF('Simplified Loader'!BX35>0,'Simplified Loader'!BX35,\"\")","v":""},{"$f":"IF('Simplified Loader'!BY35>0,'Simplified Loader'!BY35,\"\")","v":""},{"$f":"IF('Simplified Loader'!BZ35=\"Male\",\"Male\",IF('Simplified Loader'!BZ35=\"Female\",\"Female\",IF('Simplified Loader'!BZ35=\"M\",\"Male\",IF('Simplified Loader'!BZ35=\"F\",\"Female\",\"\"))))","v":""},{"$f":"IF('Simplified Loader'!CA35=\"Yes\",\"Yes\",IF('Simplified Loader'!CA35=\"No\",\"No\",IF('Simplified Loader'!CA35=\"Y\",\"Yes\",IF('Simplified Loader'!CA35=\"N\",\"No\",\"\"))))","v":""},{"$f":"IF('Simplified Loader'!CB35=\"Yes\",\"Yes\",IF('Simplified Loader'!CB35=\"No\",\"No\",IF('Simplified Loader'!CB35=\"Y\",\"Yes\",IF('Simplified Loader'!CB35=\"N\",\"No\",\"\"))))","v":""},{"$f":"IF('Simplified Loader'!CH35>0,'Simplified Loader'!CH35,\"\")","v":"    "}]
[{"$f":"IF('Simplified Loader'!A36>0,'Simplified Loader'!A36,\"\")","v":""},{"$f":"IF('Simplified Loader'!B36>0,'Simplified Loader'!B36,\"\")","v":""},{"$f":"IF('Simplified Loader'!C36>0,'Simplified Loader'!C36,\"\")","v":""},{"$f":"IF('Simplified Loader'!D36>0,'Simplified Loader'!D36,\"\")","v":""},{"$f":"IF('Simplified Loader'!P36>0,TEXT('Simplified Loader'!P36,\"000\"),\"\")","v":""},{"$f":"IF('Simplified Loader'!Q36>0,'Simplified Loader'!Q36,\"\")","v":""},{"$f":"IF('Simplified Loader'!R36>0,'Simplified Loader'!R36,\"\")","v":""},{"$f":"IF('Simplified Loader'!F36>0,DATEVALUE(TEXT('Simplified Loader'!F36,\"yyyy-mm-dd\")),\"\")","v":""},{"$f":"IF('Simplified Loader'!L36>0,DATEVALUE(TEXT('Simplified Loader'!L36,\"yyyy-mm-dd\")),\"\")","v":""},{"$f":"IF('Simplified Loader'!Y36>0,'Simplified Loader'!Y36,\"\")","v":""},{"$f":"IF('Simplified Loader'!T36>0,'Simplified Loader'!T36,\"\")","v":""},{"$f":"IF('Simplified Loader'!G36=\"Male\",\"Male\",IF('Simplified Loader'!G36=\"Female\",\"Female\",IF('Simplified Loader'!G36=\"M\",\"Male\",IF('Simplified Loader'!G36=\"F\",\"Female\",\"\"))))","v":""},{"$f":"IF('Simplified Loader'!U36=\"Yes\",\"Yes\",IF('Simplified Loader'!U36=\"No\",\"No\",IF('Simplified Loader'!U36=\"Y\",\"Yes\",IF('Simplified Loader'!U36=\"N\",\"No\",\"\"))))","v":""},{"$f":"IF('Simplified Loader'!I36=\"Single\",\"Single\",IF('Simplified Loader'!I36=\"Family\",\"Family\",IF('Simplified Loader'!I36=\"Waive\",\"Family\",IF('Simplified Loader'!I36=\"Single Parent\",\"Family\",IF('Simplified Loader'!I36=\"Couple\",\"Family\",IF('Simplified Loader'!I36=\"In force\",\"Family\",IF('Simplified Loader'!I36=\"Applies\",\"Family\",IF('Simplified Loader'!I36=\"Applicable\",\"Family\",\"\"))))))))","v":""},{"$f":"IF('Simplified Loader'!AC36=\"English\",\"English\",IF('Simplified Loader'!AC36=\"French\",\"French\",IF('Simplified Loader'!AC36=\"E\",\"English\",IF('Simplified Loader'!AC36=\"F\",\"French\",\"\"))))","v":""},{"$f":"IF('Simplified Loader'!AB36=\"Yes\",\"Yes\",IF('Simplified Loader'!AB36=\"No\",\"No\",IF('Simplified Loader'!AB36=\"Y\",\"Yes\",IF('Simplified Loader'!AB36=\"N\",\"No\",\"\"))))","v":""},{"$f":"IF('Simplified Loader'!AD36>0,'Simplified Loader'!AD36,\"\")","v":""},{"$f":"IF('Simplified Loader'!M36>0,'Simplified Loader'!M36,\"\")","v":""},{"$f":"IF('Simplified Loader'!N36>0,'Simplified Loader'!N36,\"\")","v":""},{"$f":"IF('Simplified Loader'!O36>0,'Simplified Loader'!O36,\"\")","v":""},{"$f":"IF('Simplified Loader'!I36=\"Waive\",\"Yes\",\"\")","v":""},{"$f":"IF('Simplified Loader'!I36=\"Waive\",\"Yes\",\"\")","v":""},{"$f":"IF('Simplified Loader'!AE36>0,'Simplified Loader'!AE36,\"\")","v":""},{"$f":"IF('Simplified Loader'!AF36>0,'Simplified Loader'!AF36,\"\")","v":""},{"$f":"IF('Simplified Loader'!AG36>0,'Simplified Loader'!AG36,\"\")","v":""},{"$f":"IF('Simplified Loader'!AH36>0,'Simplified Loader'!AH36,\"\")","v":""},{"$f":"IF('Simplified Loader'!AI36>0,'Simplified Loader'!AI36,\"\")","v":" "},{"$f":"IF('Simplified Loader'!AJ36>0,'Simplified Loader'!AJ36,\"\")","v":" "},{"$f":"IF('Simplified Loader'!W36>0,'Simplified Loader'!W36&\" \",\"\")&IF('Simplified Loader'!V36>0,'Simplified Loader'!V36,\"\")","v":""},null,{"$f":"IF('Simplified Loader'!X36>0,'Simplified Loader'!X36,\"\")","v":""},{"$f":"IF('Simplified Loader'!Y36>0,'Simplified Loader'!Y36,\"\")","v":""},{"$f":"IF('Simplified Loader'!Z36>0,'Simplified Loader'!Z36,\"\")","v":""},{"$f":"IF('Simplified Loader'!AA36>0,'Simplified Loader'!AA36,\"\")","v":""},{"$f":"IF('Simplified Loader'!E36>0,'Simplified Loader'!E36,\"\")","v":""},{"$f":"IF('Simplified Loader'!AK36>0,'Simplified Loader'!AK36,\"\")","v":""},{"$f":"IF('Simplified Loader'!AL36>0,'Simplified Loader'!AL36,\"\")","v":""},{"$f":"IF('Simplified Loader'!AM36>0,'Simplified Loader'!AM36,\"\")","v":""},{"$f":"IF('Simplified Loader'!AN36=\"Male\",\"Male\",IF('Simplified Loader'!AN36=\"Female\",\"Female\",IF('Simplified Loader'!AN36=\"M\",\"Male\",IF('Simplified Loader'!AN36=\"F\",\"Female\",\"\"))))","v":""},{"$f":"IF('Simplified Loader'!AO36=\"Single\",\"Single\",IF('Simplified Loader'!AO36=\"Family\",\"Family\",IF('Simplified Loader'!AO36=\"S\",\"Single\",IF('Simplified Loader'!AO36=\"F\",\"Family\",\"\"))))","v":""},{"$f":"IF('Simplified Loader'!AP36=\"Single\",\"Single\",IF('Simplified Loader'!AP36=\"Family\",\"Family\",IF('Simplified Loader'!AP36=\"S\",\"Single\",IF('Simplified Loader'!AP36=\"F\",\"Family\",\"\"))))","v":""},{"$f":"IF('Simplified Loader'!AQ36>0,'Simplified Loader'!AQ36,\"\")","v":""},{"$f":"IF('Simplified Loader'!AR36=\"Yes\",\"Yes\",IF('Simplified Loader'!AR36=\"No\",\"No\",IF('Simplified Loader'!AR36=\"Y\",\"Yes\",IF('Simplified Loader'!AR36=\"N\",\"No\",\"\"))))","v":""},{"$f":"IF('Simplified Loader'!AS36>0,'Simplified Loader'!AS36,\"\")","v":""},{"$f":"IF('Simplified Loader'!AT36>0,'Simplified Loader'!AT36,\"\")","v":""},{"$f":"IF('Simplified Loader'!AU36>0,'Simplified Loader'!AU36,\"\")","v":""},{"$f":"IF('Simplified Loader'!AV36=\"Male\",\"Male\",IF('Simplified Loader'!AV36=\"Female\",\"Female\",IF('Simplified Loader'!AV36=\"M\",\"Male\",IF('Simplified Loader'!AV36=\"F\",\"Female\",\"\"))))","v":""},{"$f":"IF('Simplified Loader'!AW36=\"Yes\",\"Yes\",IF('Simplified Loader'!AW36=\"No\",\"No\",IF('Simplified Loader'!AW36=\"Y\",\"Yes\",IF('Simplified Loader'!AW36=\"N\",\"No\",\"\"))))","v":""},{"$f":"IF('Simplified Loader'!AX36=\"Yes\",\"Yes\",IF('Simplified Loader'!AX36=\"No\",\"No\",IF('Simplified Loader'!AX36=\"Y\",\"Yes\",IF('Simplified Loader'!AX36=\"N\",\"No\",\"\"))))","v":""},{"$f":"IF('Simplified Loader'!AY36>0,'Simplified Loader'!AY36,\"\")","v":""},{"$f":"IF('Simplified Loader'!AZ36>0,'Simplified Loader'!AZ36,\"\")","v":""},{"$f":"IF('Simplified Loader'!BA36>0,'Simplified Loader'!BA36,\"\")","v":""},{"$f":"IF('Simplified Loader'!BB36=\"Male\",\"Male\",IF('Simplified Loader'!BB36=\"Female\",\"Female\",IF('Simplified Loader'!BB36=\"M\",\"Male\",IF('Simplified Loader'!BB36=\"F\",\"Female\",\"\"))))","v":""},{"$f":"IF('Simplified Loader'!BC36=\"Yes\",\"Yes\",IF('Simplified Loader'!BC36=\"No\",\"No\",IF('Simplified Loader'!BC36=\"Y\",\"Yes\",IF('Simplified Loader'!BC36=\"N\",\"No\",\"\"))))","v":""},{"$f":"IF('Simplified Loader'!BD36=\"Yes\",\"Yes\",IF('Simplified Loader'!BD36=\"No\",\"No\",IF('Simplified Loader'!BD36=\"Y\",\"Yes\",IF('Simplified Loader'!BD36=\"N\",\"No\",\"\"))))","v":""},{"$f":"IF('Simplified Loader'!BE36>0,'Simplified Loader'!BE36,\"\")","v":""},{"$f":"IF('Simplified Loader'!BF36>0,'Simplified Loader'!BF36,\"\")","v":""},{"$f":"IF('Simplified Loader'!BG36>0,'Simplified Loader'!BG36,\"\")","v":""},{"$f":"IF('Simplified Loader'!BH36=\"Male\",\"Male\",IF('Simplified Loader'!BH36=\"Female\",\"Female\",IF('Simplified Loader'!BH36=\"M\",\"Male\",IF('Simplified Loader'!BH36=\"F\",\"Female\",\"\"))))","v":""},{"$f":"IF('Simplified Loader'!BI36=\"Yes\",\"Yes\",IF('Simplified Loader'!BI36=\"No\",\"No\",IF('Simplified Loader'!BI36=\"Y\",\"Yes\",IF('Simplified Loader'!BI36=\"N\",\"No\",\"\"))))","v":""},{"$f":"IF('Simplified Loader'!BJ36=\"Yes\",\"Yes\",IF('Simplified Loader'!BJ36=\"No\",\"No\",IF('Simplified Loader'!BJ36=\"Y\",\"Yes\",IF('Simplified Loader'!BJ36=\"N\",\"No\",\"\"))))","v":""},{"$f":"IF('Simplified Loader'!BK36>0,'Simplified Loader'!BK36,\"\")","v":""},{"$f":"IF('Simplified Loader'!BL36>0,'Simplified Loader'!BL36,\"\")","v":""},{"$f":"IF('Simplified Loader'!BM36>0,'Simplified Loader'!BM36,\"\")","v":""},{"$f":"IF('Simplified Loader'!BN36=\"Male\",\"Male\",IF('Simplified Loader'!BN36=\"Female\",\"Female\",IF('Simplified Loader'!BN36=\"M\",\"Male\",IF('Simplified Loader'!BN36=\"F\",\"Female\",\"\"))))","v":""},{"$f":"IF('Simplified Loader'!BO36=\"Yes\",\"Yes\",IF('Simplified Loader'!BO36=\"No\",\"No\",IF('Simplified Loader'!BO36=\"Y\",\"Yes\",IF('Simplified Loader'!BO36=\"N\",\"No\",\"\"))))","v":""},{"$f":"IF('Simplified Loader'!BP36=\"Yes\",\"Yes\",IF('Simplified Loader'!BP36=\"No\",\"No\",IF('Simplified Loader'!BP36=\"Y\",\"Yes\",IF('Simplified Loader'!BP36=\"N\",\"No\",\"\"))))","v":""},{"$f":"IF('Simplified Loader'!BQ36>0,'Simplified Loader'!BQ36,\"\")","v":""},{"$f":"IF('Simplified Loader'!BR36>0,'Simplified Loader'!BR36,\"\")","v":""},{"$f":"IF('Simplified Loader'!BS36>0,'Simplified Loader'!BS36,\"\")","v":""},{"$f":"IF('Simplified Loader'!BT36=\"Male\",\"Male\",IF('Simplified Loader'!BT36=\"Female\",\"Female\",IF('Simplified Loader'!BT36=\"M\",\"Male\",IF('Simplified Loader'!BT36=\"F\",\"Female\",\"\"))))","v":""},{"$f":"IF('Simplified Loader'!BU36=\"Yes\",\"Yes\",IF('Simplified Loader'!BU36=\"No\",\"No\",IF('Simplified Loader'!BU36=\"Y\",\"Yes\",IF('Simplified Loader'!BU36=\"N\",\"No\",\"\"))))","v":""},{"$f":"IF('Simplified Loader'!BV36=\"Yes\",\"Yes\",IF('Simplified Loader'!BV36=\"No\",\"No\",IF('Simplified Loader'!BV36=\"Y\",\"Yes\",IF('Simplified Loader'!BV36=\"N\",\"No\",\"\"))))","v":""},{"$f":"IF('Simplified Loader'!BW36>0,'Simplified Loader'!BW36,\"\")","v":""},{"$f":"IF('Simplified Loader'!BX36>0,'Simplified Loader'!BX36,\"\")","v":""},{"$f":"IF('Simplified Loader'!BY36>0,'Simplified Loader'!BY36,\"\")","v":""},{"$f":"IF('Simplified Loader'!BZ36=\"Male\",\"Male\",IF('Simplified Loader'!BZ36=\"Female\",\"Female\",IF('Simplified Loader'!BZ36=\"M\",\"Male\",IF('Simplified Loader'!BZ36=\"F\",\"Female\",\"\"))))","v":""},{"$f":"IF('Simplified Loader'!CA36=\"Yes\",\"Yes\",IF('Simplified Loader'!CA36=\"No\",\"No\",IF('Simplified Loader'!CA36=\"Y\",\"Yes\",IF('Simplified Loader'!CA36=\"N\",\"No\",\"\"))))","v":""},{"$f":"IF('Simplified Loader'!CB36=\"Yes\",\"Yes\",IF('Simplified Loader'!CB36=\"No\",\"No\",IF('Simplified Loader'!CB36=\"Y\",\"Yes\",IF('Simplified Loader'!CB36=\"N\",\"No\",\"\"))))","v":""},{"$f":"IF('Simplified Loader'!CH36>0,'Simplified Loader'!CH36,\"\")","v":"    "}]
[{"$f":"IF('Simplified Loader'!A37>0,'Simplified Loader'!A37,\"\")","v":""},{"$f":"IF('Simplified Loader'!B37>0,'Simplified Loader'!B37,\"\")","v":""},{"$f":"IF('Simplified Loader'!C37>0,'Simplified Loader'!C37,\"\")","v":""},{"$f":"IF('Simplified Loader'!D37>0,'Simplified Loader'!D37,\"\")","v":""},{"$f":"IF('Simplified Loader'!P37>0,TEXT('Simplified Loader'!P37,\"000\"),\"\")","v":""},{"$f":"IF('Simplified Loader'!Q37>0,'Simplified Loader'!Q37,\"\")","v":""},{"$f":"IF('Simplified Loader'!R37>0,'Simplified Loader'!R37,\"\")","v":""},{"$f":"IF('Simplified Loader'!F37>0,DATEVALUE(TEXT('Simplified Loader'!F37,\"yyyy-mm-dd\")),\"\")","v":""},{"$f":"IF('Simplified Loader'!L37>0,DATEVALUE(TEXT('Simplified Loader'!L37,\"yyyy-mm-dd\")),\"\")","v":""},{"$f":"IF('Simplified Loader'!Y37>0,'Simplified Loader'!Y37,\"\")","v":""},{"$f":"IF('Simplified Loader'!T37>0,'Simplified Loader'!T37,\"\")","v":""},{"$f":"IF('Simplified Loader'!G37=\"Male\",\"Male\",IF('Simplified Loader'!G37=\"Female\",\"Female\",IF('Simplified Loader'!G37=\"M\",\"Male\",IF('Simplified Loader'!G37=\"F\",\"Female\",\"\"))))","v":""},{"$f":"IF('Simplified Loader'!U37=\"Yes\",\"Yes\",IF('Simplified Loader'!U37=\"No\",\"No\",IF('Simplified Loader'!U37=\"Y\",\"Yes\",IF('Simplified Loader'!U37=\"N\",\"No\",\"\"))))","v":""},{"$f":"IF('Simplified Loader'!I37=\"Single\",\"Single\",IF('Simplified Loader'!I37=\"Family\",\"Family\",IF('Simplified Loader'!I37=\"Waive\",\"Family\",IF('Simplified Loader'!I37=\"Single Parent\",\"Family\",IF('Simplified Loader'!I37=\"Couple\",\"Family\",IF('Simplified Loader'!I37=\"In force\",\"Family\",IF('Simplified Loader'!I37=\"Applies\",\"Family\",IF('Simplified Loader'!I37=\"Applicable\",\"Family\",\"\"))))))))","v":""},{"$f":"IF('Simplified Loader'!AC37=\"English\",\"English\",IF('Simplified Loader'!AC37=\"French\",\"French\",IF('Simplified Loader'!AC37=\"E\",\"English\",IF('Simplified Loader'!AC37=\"F\",\"French\",\"\"))))","v":""},{"$f":"IF('Simplified Loader'!AB37=\"Yes\",\"Yes\",IF('Simplified Loader'!AB37=\"No\",\"No\",IF('Simplified Loader'!AB37=\"Y\",\"Yes\",IF('Simplified Loader'!AB37=\"N\",\"No\",\"\"))))","v":""},{"$f":"IF('Simplified Loader'!AD37>0,'Simplified Loader'!AD37,\"\")","v":""},{"$f":"IF('Simplified Loader'!M37>0,'Simplified Loader'!M37,\"\")","v":""},{"$f":"IF('Simplified Loader'!N37>0,'Simplified Loader'!N37,\"\")","v":""},{"$f":"IF('Simplified Loader'!O37>0,'Simplified Loader'!O37,\"\")","v":""},{"$f":"IF('Simplified Loader'!I37=\"Waive\",\"Yes\",\"\")","v":""},{"$f":"IF('Simplified Loader'!I37=\"Waive\",\"Yes\",\"\")","v":""},{"$f":"IF('Simplified Loader'!AE37>0,'Simplified Loader'!AE37,\"\")","v":""},{"$f":"IF('Simplified Loader'!AF37>0,'Simplified Loader'!AF37,\"\")","v":""},{"$f":"IF('Simplified Loader'!AG37>0,'Simplified Loader'!AG37,\"\")","v":""},{"$f":"IF('Simplified Loader'!AH37>0,'Simplified Loader'!AH37,\"\")","v":""},{"$f":"IF('Simplified Loader'!AI37>0,'Simplified Loader'!AI37,\"\")","v":" "},{"$f":"IF('Simplified Loader'!AJ37>0,'Simplified Loader'!AJ37,\"\")","v":" "},{"$f":"IF('Simplified Loader'!W37>0,'Simplified Loader'!W37&\" \",\"\")&IF('Simplified Loader'!V37>0,'Simplified Loader'!V37,\"\")","v":""},null,{"$f":"IF('Simplified Loader'!X37>0,'Simplified Loader'!X37,\"\")","v":""},{"$f":"IF('Simplified Loader'!Y37>0,'Simplified Loader'!Y37,\"\")","v":""},{"$f":"IF('Simplified Loader'!Z37>0,'Simplified Loader'!Z37,\"\")","v":""},{"$f":"IF('Simplified Loader'!AA37>0,'Simplified Loader'!AA37,\"\")","v":""},{"$f":"IF('Simplified Loader'!E37>0,'Simplified Loader'!E37,\"\")","v":""},{"$f":"IF('Simplified Loader'!AK37>0,'Simplified Loader'!AK37,\"\")","v":""},{"$f":"IF('Simplified Loader'!AL37>0,'Simplified Loader'!AL37,\"\")","v":""},{"$f":"IF('Simplified Loader'!AM37>0,'Simplified Loader'!AM37,\"\")","v":""},{"$f":"IF('Simplified Loader'!AN37=\"Male\",\"Male\",IF('Simplified Loader'!AN37=\"Female\",\"Female\",IF('Simplified Loader'!AN37=\"M\",\"Male\",IF('Simplified Loader'!AN37=\"F\",\"Female\",\"\"))))","v":""},{"$f":"IF('Simplified Loader'!AO37=\"Single\",\"Single\",IF('Simplified Loader'!AO37=\"Family\",\"Family\",IF('Simplified Loader'!AO37=\"S\",\"Single\",IF('Simplified Loader'!AO37=\"F\",\"Family\",\"\"))))","v":""},{"$f":"IF('Simplified Loader'!AP37=\"Single\",\"Single\",IF('Simplified Loader'!AP37=\"Family\",\"Family\",IF('Simplified Loader'!AP37=\"S\",\"Single\",IF('Simplified Loader'!AP37=\"F\",\"Family\",\"\"))))","v":""},{"$f":"IF('Simplified Loader'!AQ37>0,'Simplified Loader'!AQ37,\"\")","v":""},{"$f":"IF('Simplified Loader'!AR37=\"Yes\",\"Yes\",IF('Simplified Loader'!AR37=\"No\",\"No\",IF('Simplified Loader'!AR37=\"Y\",\"Yes\",IF('Simplified Loader'!AR37=\"N\",\"No\",\"\"))))","v":""},{"$f":"IF('Simplified Loader'!AS37>0,'Simplified Loader'!AS37,\"\")","v":""},{"$f":"IF('Simplified Loader'!AT37>0,'Simplified Loader'!AT37,\"\")","v":""},{"$f":"IF('Simplified Loader'!AU37>0,'Simplified Loader'!AU37,\"\")","v":""},{"$f":"IF('Simplified Loader'!AV37=\"Male\",\"Male\",IF('Simplified Loader'!AV37=\"Female\",\"Female\",IF('Simplified Loader'!AV37=\"M\",\"Male\",IF('Simplified Loader'!AV37=\"F\",\"Female\",\"\"))))","v":""},{"$f":"IF('Simplified Loader'!AW37=\"Yes\",\"Yes\",IF('Simplified Loader'!AW37=\"No\",\"No\",IF('Simplified Loader'!AW37=\"Y\",\"Yes\",IF('Simplified Loader'!AW37=\"N\",\"No\",\"\"))))","v":""},{"$f":"IF('Simplified Loader'!AX37=\"Yes\",\"Yes\",IF('Simplified Loader'!AX37=\"No\",\"No\",IF('Simplified Loader'!AX37=\"Y\",\"Yes\",IF('Simplified Loader'!AX37=\"N\",\"No\",\"\"))))","v":""},{"$f":"IF('Simplified Loader'!AY37>0,'Simplified Loader'!AY37,\"\")","v":""},{"$f":"IF('Simplified Loader'!AZ37>0,'Simplified Loader'!AZ37,\"\")","v":""},{"$f":"IF('Simplified Loader'!BA37>0,'Simplified Loader'!BA37,\"\")","v":""},{"$f":"IF('Simplified Loader'!BB37=\"Male\",\"Male\",IF('Simplified Loader'!BB37=\"Female\",\"Female\",IF('Simplified Loader'!BB37=\"M\",\"Male\",IF('Simplified Loader'!BB37=\"F\",\"Female\",\"\"))))","v":""},{"$f":"IF('Simplified Loader'!BC37=\"Yes\",\"Yes\",IF('Simplified Loader'!BC37=\"No\",\"No\",IF('Simplified Loader'!BC37=\"Y\",\"Yes\",IF('Simplified Loader'!BC37=\"N\",\"No\",\"\"))))","v":""},{"$f":"IF('Simplified Loader'!BD37=\"Yes\",\"Yes\",IF('Simplified Loader'!BD37=\"No\",\"No\",IF('Simplified Loader'!BD37=\"Y\",\"Yes\",IF('Simplified Loader'!BD37=\"N\",\"No\",\"\"))))","v":""},{"$f":"IF('Simplified Loader'!BE37>0,'Simplified Loader'!BE37,\"\")","v":""},{"$f":"IF('Simplified Loader'!BF37>0,'Simplified Loader'!BF37,\"\")","v":""},{"$f":"IF('Simplified Loader'!BG37>0,'Simplified Loader'!BG37,\"\")","v":""},{"$f":"IF('Simplified Loader'!BH37=\"Male\",\"Male\",IF('Simplified Loader'!BH37=\"Female\",\"Female\",IF('Simplified Loader'!BH37=\"M\",\"Male\",IF('Simplified Loader'!BH37=\"F\",\"Female\",\"\"))))","v":""},{"$f":"IF('Simplified Loader'!BI37=\"Yes\",\"Yes\",IF('Simplified Loader'!BI37=\"No\",\"No\",IF('Simplified Loader'!BI37=\"Y\",\"Yes\",IF('Simplified Loader'!BI37=\"N\",\"No\",\"\"))))","v":""},{"$f":"IF('Simplified Loader'!BJ37=\"Yes\",\"Yes\",IF('Simplified Loader'!BJ37=\"No\",\"No\",IF('Simplified Loader'!BJ37=\"Y\",\"Yes\",IF('Simplified Loader'!BJ37=\"N\",\"No\",\"\"))))","v":""},{"$f":"IF('Simplified Loader'!BK37>0,'Simplified Loader'!BK37,\"\")","v":""},{"$f":"IF('Simplified Loader'!BL37>0,'Simplified Loader'!BL37,\"\")","v":""},{"$f":"IF('Simplified Loader'!BM37>0,'Simplified Loader'!BM37,\"\")","v":""},{"$f":"IF('Simplified Loader'!BN37=\"Male\",\"Male\",IF('Simplified Loader'!BN37=\"Female\",\"Female\",IF('Simplified Loader'!BN37=\"M\",\"Male\",IF('Simplified Loader'!BN37=\"F\",\"Female\",\"\"))))","v":""},{"$f":"IF('Simplified Loader'!BO37=\"Yes\",\"Yes\",IF('Simplified Loader'!BO37=\"No\",\"No\",IF('Simplified Loader'!BO37=\"Y\",\"Yes\",IF('Simplified Loader'!BO37=\"N\",\"No\",\"\"))))","v":""},{"$f":"IF('Simplified Loader'!BP37=\"Yes\",\"Yes\",IF('Simplified Loader'!BP37=\"No\",\"No\",IF('Simplified Loader'!BP37=\"Y\",\"Yes\",IF('Simplified Loader'!BP37=\"N\",\"No\",\"\"))))","v":""},{"$f":"IF('Simplified Loader'!BQ37>0,'Simplified Loader'!BQ37,\"\")","v":""},{"$f":"IF('Simplified Loader'!BR37>0,'Simplified Loader'!BR37,\"\")","v":""},{"$f":"IF('Simplified Loader'!BS37>0,'Simplified Loader'!BS37,\"\")","v":""},{"$f":"IF('Simplified Loader'!BT37=\"Male\",\"Male\",IF('Simplified Loader'!BT37=\"Female\",\"Female\",IF('Simplified Loader'!BT37=\"M\",\"Male\",IF('Simplified Loader'!BT37=\"F\",\"Female\",\"\"))))","v":""},{"$f":"IF('Simplified Loader'!BU37=\"Yes\",\"Yes\",IF('Simplified Loader'!BU37=\"No\",\"No\",IF('Simplified Loader'!BU37=\"Y\",\"Yes\",IF('Simplified Loader'!BU37=\"N\",\"No\",\"\"))))","v":""},{"$f":"IF('Simplified Loader'!BV37=\"Yes\",\"Yes\",IF('Simplified Loader'!BV37=\"No\",\"No\",IF('Simplified Loader'!BV37=\"Y\",\"Yes\",IF('Simplified Loader'!BV37=\"N\",\"No\",\"\"))))","v":""},{"$f":"IF('Simplified Loader'!BW37>0,'Simplified Loader'!BW37,\"\")","v":""},{"$f":"IF('Simplified Loader'!BX37>0,'Simplified Loader'!BX37,\"\")","v":""},{"$f":"IF('Simplified Loader'!BY37>0,'Simplified Loader'!BY37,\"\")","v":""},{"$f":"IF('Simplified Loader'!BZ37=\"Male\",\"Male\",IF('Simplified Loader'!BZ37=\"Female\",\"Female\",IF('Simplified Loader'!BZ37=\"M\",\"Male\",IF('Simplified Loader'!BZ37=\"F\",\"Female\",\"\"))))","v":""},{"$f":"IF('Simplified Loader'!CA37=\"Yes\",\"Yes\",IF('Simplified Loader'!CA37=\"No\",\"No\",IF('Simplified Loader'!CA37=\"Y\",\"Yes\",IF('Simplified Loader'!CA37=\"N\",\"No\",\"\"))))","v":""},{"$f":"IF('Simplified Loader'!CB37=\"Yes\",\"Yes\",IF('Simplified Loader'!CB37=\"No\",\"No\",IF('Simplified Loader'!CB37=\"Y\",\"Yes\",IF('Simplified Loader'!CB37=\"N\",\"No\",\"\"))))","v":""},{"$f":"IF('Simplified Loader'!CH37>0,'Simplified Loader'!CH37,\"\")","v":"    "}]
[{"$f":"IF('Simplified Loader'!A38>0,'Simplified Loader'!A38,\"\")","v":""},{"$f":"IF('Simplified Loader'!B38>0,'Simplified Loader'!B38,\"\")","v":""},{"$f":"IF('Simplified Loader'!C38>0,'Simplified Loader'!C38,\"\")","v":""},{"$f":"IF('Simplified Loader'!D38>0,'Simplified Loader'!D38,\"\")","v":""},{"$f":"IF('Simplified Loader'!P38>0,TEXT('Simplified Loader'!P38,\"000\"),\"\")","v":""},{"$f":"IF('Simplified Loader'!Q38>0,'Simplified Loader'!Q38,\"\")","v":""},{"$f":"IF('Simplified Loader'!R38>0,'Simplified Loader'!R38,\"\")","v":""},{"$f":"IF('Simplified Loader'!F38>0,DATEVALUE(TEXT('Simplified Loader'!F38,\"yyyy-mm-dd\")),\"\")","v":""},{"$f":"IF('Simplified Loader'!L38>0,DATEVALUE(TEXT('Simplified Loader'!L38,\"yyyy-mm-dd\")),\"\")","v":""},{"$f":"IF('Simplified Loader'!Y38>0,'Simplified Loader'!Y38,\"\")","v":""},{"$f":"IF('Simplified Loader'!T38>0,'Simplified Loader'!T38,\"\")","v":""},{"$f":"IF('Simplified Loader'!G38=\"Male\",\"Male\",IF('Simplified Loader'!G38=\"Female\",\"Female\",IF('Simplified Loader'!G38=\"M\",\"Male\",IF('Simplified Loader'!G38=\"F\",\"Female\",\"\"))))","v":""},{"$f":"IF('Simplified Loader'!U38=\"Yes\",\"Yes\",IF('Simplified Loader'!U38=\"No\",\"No\",IF('Simplified Loader'!U38=\"Y\",\"Yes\",IF('Simplified Loader'!U38=\"N\",\"No\",\"\"))))","v":""},{"$f":"IF('Simplified Loader'!I38=\"Single\",\"Single\",IF('Simplified Loader'!I38=\"Family\",\"Family\",IF('Simplified Loader'!I38=\"Waive\",\"Family\",IF('Simplified Loader'!I38=\"Single Parent\",\"Family\",IF('Simplified Loader'!I38=\"Couple\",\"Family\",IF('Simplified Loader'!I38=\"In force\",\"Family\",IF('Simplified Loader'!I38=\"Applies\",\"Family\",IF('Simplified Loader'!I38=\"Applicable\",\"Family\",\"\"))))))))","v":""},{"$f":"IF('Simplified Loader'!AC38=\"English\",\"English\",IF('Simplified Loader'!AC38=\"French\",\"French\",IF('Simplified Loader'!AC38=\"E\",\"English\",IF('Simplified Loader'!AC38=\"F\",\"French\",\"\"))))","v":""},{"$f":"IF('Simplified Loader'!AB38=\"Yes\",\"Yes\",IF('Simplified Loader'!AB38=\"No\",\"No\",IF('Simplified Loader'!AB38=\"Y\",\"Yes\",IF('Simplified Loader'!AB38=\"N\",\"No\",\"\"))))","v":""},{"$f":"IF('Simplified Loader'!AD38>0,'Simplified Loader'!AD38,\"\")","v":""},{"$f":"IF('Simplified Loader'!M38>0,'Simplified Loader'!M38,\"\")","v":""},{"$f":"IF('Simplified Loader'!N38>0,'Simplified Loader'!N38,\"\")","v":""},{"$f":"IF('Simplified Loader'!O38>0,'Simplified Loader'!O38,\"\")","v":""},{"$f":"IF('Simplified Loader'!I38=\"Waive\",\"Yes\",\"\")","v":""},{"$f":"IF('Simplified Loader'!I38=\"Waive\",\"Yes\",\"\")","v":""},{"$f":"IF('Simplified Loader'!AE38>0,'Simplified Loader'!AE38,\"\")","v":""},{"$f":"IF('Simplified Loader'!AF38>0,'Simplified Loader'!AF38,\"\")","v":""},{"$f":"IF('Simplified Loader'!AG38>0,'Simplified Loader'!AG38,\"\")","v":""},{"$f":"IF('Simplified Loader'!AH38>0,'Simplified Loader'!AH38,\"\")","v":""},{"$f":"IF('Simplified Loader'!AI38>0,'Simplified Loader'!AI38,\"\")","v":" "},{"$f":"IF('Simplified Loader'!AJ38>0,'Simplified Loader'!AJ38,\"\")","v":" "},{"$f":"IF('Simplified Loader'!W38>0,'Simplified Loader'!W38&\" \",\"\")&IF('Simplified Loader'!V38>0,'Simplified Loader'!V38,\"\")","v":""},null,{"$f":"IF('Simplified Loader'!X38>0,'Simplified Loader'!X38,\"\")","v":""},{"$f":"IF('Simplified Loader'!Y38>0,'Simplified Loader'!Y38,\"\")","v":""},{"$f":"IF('Simplified Loader'!Z38>0,'Simplified Loader'!Z38,\"\")","v":""},{"$f":"IF('Simplified Loader'!AA38>0,'Simplified Loader'!AA38,\"\")","v":""},{"$f":"IF('Simplified Loader'!E38>0,'Simplified Loader'!E38,\"\")","v":""},{"$f":"IF('Simplified Loader'!AK38>0,'Simplified Loader'!AK38,\"\")","v":""},{"$f":"IF('Simplified Loader'!AL38>0,'Simplified Loader'!AL38,\"\")","v":""},{"$f":"IF('Simplified Loader'!AM38>0,'Simplified Loader'!AM38,\"\")","v":""},{"$f":"IF('Simplified Loader'!AN38=\"Male\",\"Male\",IF('Simplified Loader'!AN38=\"Female\",\"Female\",IF('Simplified Loader'!AN38=\"M\",\"Male\",IF('Simplified Loader'!AN38=\"F\",\"Female\",\"\"))))","v":""},{"$f":"IF('Simplified Loader'!AO38=\"Single\",\"Single\",IF('Simplified Loader'!AO38=\"Family\",\"Family\",IF('Simplified Loader'!AO38=\"S\",\"Single\",IF('Simplified Loader'!AO38=\"F\",\"Family\",\"\"))))","v":""},{"$f":"IF('Simplified Loader'!AP38=\"Single\",\"Single\",IF('Simplified Loader'!AP38=\"Family\",\"Family\",IF('Simplified Loader'!AP38=\"S\",\"Single\",IF('Simplified Loader'!AP38=\"F\",\"Family\",\"\"))))","v":""},{"$f":"IF('Simplified Loader'!AQ38>0,'Simplified Loader'!AQ38,\"\")","v":""},{"$f":"IF('Simplified Loader'!AR38=\"Yes\",\"Yes\",IF('Simplified Loader'!AR38=\"No\",\"No\",IF('Simplified Loader'!AR38=\"Y\",\"Yes\",IF('Simplified Loader'!AR38=\"N\",\"No\",\"\"))))","v":""},{"$f":"IF('Simplified Loader'!AS38>0,'Simplified Loader'!AS38,\"\")","v":""},{"$f":"IF('Simplified Loader'!AT38>0,'Simplified Loader'!AT38,\"\")","v":""},{"$f":"IF('Simplified Loader'!AU38>0,'Simplified Loader'!AU38,\"\")","v":""},{"$f":"IF('Simplified Loader'!AV38=\"Male\",\"Male\",IF('Simplified Loader'!AV38=\"Female\",\"Female\",IF('Simplified Loader'!AV38=\"M\",\"Male\",IF('Simplified Loader'!AV38=\"F\",\"Female\",\"\"))))","v":""},{"$f":"IF('Simplified Loader'!AW38=\"Yes\",\"Yes\",IF('Simplified Loader'!AW38=\"No\",\"No\",IF('Simplified Loader'!AW38=\"Y\",\"Yes\",IF('Simplified Loader'!AW38=\"N\",\"No\",\"\"))))","v":""},{"$f":"IF('Simplified Loader'!AX38=\"Yes\",\"Yes\",IF('Simplified Loader'!AX38=\"No\",\"No\",IF('Simplified Loader'!AX38=\"Y\",\"Yes\",IF('Simplified Loader'!AX38=\"N\",\"No\",\"\"))))","v":""},{"$f":"IF('Simplified Loader'!AY38>0,'Simplified Loader'!AY38,\"\")","v":""},{"$f":"IF('Simplified Loader'!AZ38>0,'Simplified Loader'!AZ38,\"\")","v":""},{"$f":"IF('Simplified Loader'!BA38>0,'Simplified Loader'!BA38,\"\")","v":""},{"$f":"IF('Simplified Loader'!BB38=\"Male\",\"Male\",IF('Simplified Loader'!BB38=\"Female\",\"Female\",IF('Simplified Loader'!BB38=\"M\",\"Male\",IF('Simplified Loader'!BB38=\"F\",\"Female\",\"\"))))","v":""},{"$f":"IF('Simplified Loader'!BC38=\"Yes\",\"Yes\",IF('Simplified Loader'!BC38=\"No\",\"No\",IF('Simplified Loader'!BC38=\"Y\",\"Yes\",IF('Simplified Loader'!BC38=\"N\",\"No\",\"\"))))","v":""},{"$f":"IF('Simplified Loader'!BD38=\"Yes\",\"Yes\",IF('Simplified Loader'!BD38=\"No\",\"No\",IF('Simplified Loader'!BD38=\"Y\",\"Yes\",IF('Simplified Loader'!BD38=\"N\",\"No\",\"\"))))","v":""},{"$f":"IF('Simplified Loader'!BE38>0,'Simplified Loader'!BE38,\"\")","v":""},{"$f":"IF('Simplified Loader'!BF38>0,'Simplified Loader'!BF38,\"\")","v":""},{"$f":"IF('Simplified Loader'!BG38>0,'Simplified Loader'!BG38,\"\")","v":""},{"$f":"IF('Simplified Loader'!BH38=\"Male\",\"Male\",IF('Simplified Loader'!BH38=\"Female\",\"Female\",IF('Simplified Loader'!BH38=\"M\",\"Male\",IF('Simplified Loader'!BH38=\"F\",\"Female\",\"\"))))","v":""},{"$f":"IF('Simplified Loader'!BI38=\"Yes\",\"Yes\",IF('Simplified Loader'!BI38=\"No\",\"No\",IF('Simplified Loader'!BI38=\"Y\",\"Yes\",IF('Simplified Loader'!BI38=\"N\",\"No\",\"\"))))","v":""},{"$f":"IF('Simplified Loader'!BJ38=\"Yes\",\"Yes\",IF('Simplified Loader'!BJ38=\"No\",\"No\",IF('Simplified Loader'!BJ38=\"Y\",\"Yes\",IF('Simplified Loader'!BJ38=\"N\",\"No\",\"\"))))","v":""},{"$f":"IF('Simplified Loader'!BK38>0,'Simplified Loader'!BK38,\"\")","v":""},{"$f":"IF('Simplified Loader'!BL38>0,'Simplified Loader'!BL38,\"\")","v":""},{"$f":"IF('Simplified Loader'!BM38>0,'Simplified Loader'!BM38,\"\")","v":""},{"$f":"IF('Simplified Loader'!BN38=\"Male\",\"Male\",IF('Simplified Loader'!BN38=\"Female\",\"Female\",IF('Simplified Loader'!BN38=\"M\",\"Male\",IF('Simplified Loader'!BN38=\"F\",\"Female\",\"\"))))","v":""},{"$f":"IF('Simplified Loader'!BO38=\"Yes\",\"Yes\",IF('Simplified Loader'!BO38=\"No\",\"No\",IF('Simplified Loader'!BO38=\"Y\",\"Yes\",IF('Simplified Loader'!BO38=\"N\",\"No\",\"\"))))","v":""},{"$f":"IF('Simplified Loader'!BP38=\"Yes\",\"Yes\",IF('Simplified Loader'!BP38=\"No\",\"No\",IF('Simplified Loader'!BP38=\"Y\",\"Yes\",IF('Simplified Loader'!BP38=\"N\",\"No\",\"\"))))","v":""},{"$f":"IF('Simplified Loader'!BQ38>0,'Simplified Loader'!BQ38,\"\")","v":""},{"$f":"IF('Simplified Loader'!BR38>0,'Simplified Loader'!BR38,\"\")","v":""},{"$f":"IF('Simplified Loader'!BS38>0,'Simplified Loader'!BS38,\"\")","v":""},{"$f":"IF('Simplified Loader'!BT38=\"Male\",\"Male\",IF('Simplified Loader'!BT38=\"Female\",\"Female\",IF('Simplified Loader'!BT38=\"M\",\"Male\",IF('Simplified Loader'!BT38=\"F\",\"Female\",\"\"))))","v":""},{"$f":"IF('Simplified Loader'!BU38=\"Yes\",\"Yes\",IF('Simplified Loader'!BU38=\"No\",\"No\",IF('Simplified Loader'!BU38=\"Y\",\"Yes\",IF('Simplified Loader'!BU38=\"N\",\"No\",\"\"))))","v":""},{"$f":"IF('Simplified Loader'!BV38=\"Yes\",\"Yes\",IF('Simplified Loader'!BV38=\"No\",\"No\",IF('Simplified Loader'!BV38=\"Y\",\"Yes\",IF('Simplified Loader'!BV38=\"N\",\"No\",\"\"))))","v":""},{"$f":"IF('Simplified Loader'!BW38>0,'Simplified Loader'!BW38,\"\")","v":""},{"$f":"IF('Simplified Loader'!BX38>0,'Simplified Loader'!BX38,\"\")","v":""},{"$f":"IF('Simplified Loader'!BY38>0,'Simplified Loader'!BY38,\"\")","v":""},{"$f":"IF('Simplified Loader'!BZ38=\"Male\",\"Male\",IF('Simplified Loader'!BZ38=\"Female\",\"Female\",IF('Simplified Loader'!BZ38=\"M\",\"Male\",IF('Simplified Loader'!BZ38=\"F\",\"Female\",\"\"))))","v":""},{"$f":"IF('Simplified Loader'!CA38=\"Yes\",\"Yes\",IF('Simplified Loader'!CA38=\"No\",\"No\",IF('Simplified Loader'!CA38=\"Y\",\"Yes\",IF('Simplified Loader'!CA38=\"N\",\"No\",\"\"))))","v":""},{"$f":"IF('Simplified Loader'!CB38=\"Yes\",\"Yes\",IF('Simplified Loader'!CB38=\"No\",\"No\",IF('Simplified Loader'!CB38=\"Y\",\"Yes\",IF('Simplified Loader'!CB38=\"N\",\"No\",\"\"))))","v":""},{"$f":"IF('Simplified Loader'!CH38>0,'Simplified Loader'!CH38,\"\")","v":"    "}]
[{"$f":"IF('Simplified Loader'!A39>0,'Simplified Loader'!A39,\"\")","v":""},{"$f":"IF('Simplified Loader'!B39>0,'Simplified Loader'!B39,\"\")","v":""},{"$f":"IF('Simplified Loader'!C39>0,'Simplified Loader'!C39,\"\")","v":""},{"$f":"IF('Simplified Loader'!D39>0,'Simplified Loader'!D39,\"\")","v":""},{"$f":"IF('Simplified Loader'!P39>0,TEXT('Simplified Loader'!P39,\"000\"),\"\")","v":""},{"$f":"IF('Simplified Loader'!Q39>0,'Simplified Loader'!Q39,\"\")","v":""},{"$f":"IF('Simplified Loader'!R39>0,'Simplified Loader'!R39,\"\")","v":""},{"$f":"IF('Simplified Loader'!F39>0,DATEVALUE(TEXT('Simplified Loader'!F39,\"yyyy-mm-dd\")),\"\")","v":""},{"$f":"IF('Simplified Loader'!L39>0,DATEVALUE(TEXT('Simplified Loader'!L39,\"yyyy-mm-dd\")),\"\")","v":""},{"$f":"IF('Simplified Loader'!Y39>0,'Simplified Loader'!Y39,\"\")","v":""},{"$f":"IF('Simplified Loader'!T39>0,'Simplified Loader'!T39,\"\")","v":""},{"$f":"IF('Simplified Loader'!G39=\"Male\",\"Male\",IF('Simplified Loader'!G39=\"Female\",\"Female\",IF('Simplified Loader'!G39=\"M\",\"Male\",IF('Simplified Loader'!G39=\"F\",\"Female\",\"\"))))","v":""},{"$f":"IF('Simplified Loader'!U39=\"Yes\",\"Yes\",IF('Simplified Loader'!U39=\"No\",\"No\",IF('Simplified Loader'!U39=\"Y\",\"Yes\",IF('Simplified Loader'!U39=\"N\",\"No\",\"\"))))","v":""},{"$f":"IF('Simplified Loader'!I39=\"Single\",\"Single\",IF('Simplified Loader'!I39=\"Family\",\"Family\",IF('Simplified Loader'!I39=\"Waive\",\"Family\",IF('Simplified Loader'!I39=\"Single Parent\",\"Family\",IF('Simplified Loader'!I39=\"Couple\",\"Family\",IF('Simplified Loader'!I39=\"In force\",\"Family\",IF('Simplified Loader'!I39=\"Applies\",\"Family\",IF('Simplified Loader'!I39=\"Applicable\",\"Family\",\"\"))))))))","v":""},{"$f":"IF('Simplified Loader'!AC39=\"English\",\"English\",IF('Simplified Loader'!AC39=\"French\",\"French\",IF('Simplified Loader'!AC39=\"E\",\"English\",IF('Simplified Loader'!AC39=\"F\",\"French\",\"\"))))","v":""},{"$f":"IF('Simplified Loader'!AB39=\"Yes\",\"Yes\",IF('Simplified Loader'!AB39=\"No\",\"No\",IF('Simplified Loader'!AB39=\"Y\",\"Yes\",IF('Simplified Loader'!AB39=\"N\",\"No\",\"\"))))","v":""},{"$f":"IF('Simplified Loader'!AD39>0,'Simplified Loader'!AD39,\"\")","v":""},{"$f":"IF('Simplified Loader'!M39>0,'Simplified Loader'!M39,\"\")","v":""},{"$f":"IF('Simplified Loader'!N39>0,'Simplified Loader'!N39,\"\")","v":""},{"$f":"IF('Simplified Loader'!O39>0,'Simplified Loader'!O39,\"\")","v":""},{"$f":"IF('Simplified Loader'!I39=\"Waive\",\"Yes\",\"\")","v":""},{"$f":"IF('Simplified Loader'!I39=\"Waive\",\"Yes\",\"\")","v":""},{"$f":"IF('Simplified Loader'!AE39>0,'Simplified Loader'!AE39,\"\")","v":""},{"$f":"IF('Simplified Loader'!AF39>0,'Simplified Loader'!AF39,\"\")","v":""},{"$f":"IF('Simplified Loader'!AG39>0,'Simplified Loader'!AG39,\"\")","v":""},{"$f":"IF('Simplified Loader'!AH39>0,'Simplified Loader'!AH39,\"\")","v":""},{"$f":"IF('Simplified Loader'!AI39>0,'Simplified Loader'!AI39,\"\")","v":" "},{"$f":"IF('Simplified Loader'!AJ39>0,'Simplified Loader'!AJ39,\"\")","v":" "},{"$f":"IF('Simplified Loader'!W39>0,'Simplified Loader'!W39&\" \",\"\")&IF('Simplified Loader'!V39>0,'Simplified Loader'!V39,\"\")","v":""},null,{"$f":"IF('Simplified Loader'!X39>0,'Simplified Loader'!X39,\"\")","v":""},{"$f":"IF('Simplified Loader'!Y39>0,'Simplified Loader'!Y39,\"\")","v":""},{"$f":"IF('Simplified Loader'!Z39>0,'Simplified Loader'!Z39,\"\")","v":""},{"$f":"IF('Simplified Loader'!AA39>0,'Simplified Loader'!AA39,\"\")","v":""},{"$f":"IF('Simplified Loader'!E39>0,'Simplified Loader'!E39,\"\")","v":""},{"$f":"IF('Simplified Loader'!AK39>0,'Simplified Loader'!AK39,\"\")","v":""},{"$f":"IF('Simplified Loader'!AL39>0,'Simplified Loader'!AL39,\"\")","v":""},{"$f":"IF('Simplified Loader'!AM39>0,'Simplified Loader'!AM39,\"\")","v":""},{"$f":"IF('Simplified Loader'!AN39=\"Male\",\"Male\",IF('Simplified Loader'!AN39=\"Female\",\"Female\",IF('Simplified Loader'!AN39=\"M\",\"Male\",IF('Simplified Loader'!AN39=\"F\",\"Female\",\"\"))))","v":""},{"$f":"IF('Simplified Loader'!AO39=\"Single\",\"Single\",IF('Simplified Loader'!AO39=\"Family\",\"Family\",IF('Simplified Loader'!AO39=\"S\",\"Single\",IF('Simplified Loader'!AO39=\"F\",\"Family\",\"\"))))","v":""},{"$f":"IF('Simplified Loader'!AP39=\"Single\",\"Single\",IF('Simplified Loader'!AP39=\"Family\",\"Family\",IF('Simplified Loader'!AP39=\"S\",\"Single\",IF('Simplified Loader'!AP39=\"F\",\"Family\",\"\"))))","v":""},{"$f":"IF('Simplified Loader'!AQ39>0,'Simplified Loader'!AQ39,\"\")","v":""},{"$f":"IF('Simplified Loader'!AR39=\"Yes\",\"Yes\",IF('Simplified Loader'!AR39=\"No\",\"No\",IF('Simplified Loader'!AR39=\"Y\",\"Yes\",IF('Simplified Loader'!AR39=\"N\",\"No\",\"\"))))","v":""},{"$f":"IF('Simplified Loader'!AS39>0,'Simplified Loader'!AS39,\"\")","v":""},{"$f":"IF('Simplified Loader'!AT39>0,'Simplified Loader'!AT39,\"\")","v":""},{"$f":"IF('Simplified Loader'!AU39>0,'Simplified Loader'!AU39,\"\")","v":""},{"$f":"IF('Simplified Loader'!AV39=\"Male\",\"Male\",IF('Simplified Loader'!AV39=\"Female\",\"Female\",IF('Simplified Loader'!AV39=\"M\",\"Male\",IF('Simplified Loader'!AV39=\"F\",\"Female\",\"\"))))","v":""},{"$f":"IF('Simplified Loader'!AW39=\"Yes\",\"Yes\",IF('Simplified Loader'!AW39=\"No\",\"No\",IF('Simplified Loader'!AW39=\"Y\",\"Yes\",IF('Simplified Loader'!AW39=\"N\",\"No\",\"\"))))","v":""},{"$f":"IF('Simplified Loader'!AX39=\"Yes\",\"Yes\",IF('Simplified Loader'!AX39=\"No\",\"No\",IF('Simplified Loader'!AX39=\"Y\",\"Yes\",IF('Simplified Loader'!AX39=\"N\",\"No\",\"\"))))","v":""},{"$f":"IF('Simplified Loader'!AY39>0,'Simplified Loader'!AY39,\"\")","v":""},{"$f":"IF('Simplified Loader'!AZ39>0,'Simplified Loader'!AZ39,\"\")","v":""},{"$f":"IF('Simplified Loader'!BA39>0,'Simplified Loader'!BA39,\"\")","v":""},{"$f":"IF('Simplified Loader'!BB39=\"Male\",\"Male\",IF('Simplified Loader'!BB39=\"Female\",\"Female\",IF('Simplified Loader'!BB39=\"M\",\"Male\",IF('Simplified Loader'!BB39=\"F\",\"Female\",\"\"))))","v":""},{"$f":"IF('Simplified Loader'!BC39=\"Yes\",\"Yes\",IF('Simplified Loader'!BC39=\"No\",\"No\",IF('Simplified Loader'!BC39=\"Y\",\"Yes\",IF('Simplified Loader'!BC39=\"N\",\"No\",\"\"))))","v":""},{"$f":"IF('Simplified Loader'!BD39=\"Yes\",\"Yes\",IF('Simplified Loader'!BD39=\"No\",\"No\",IF('Simplified Loader'!BD39=\"Y\",\"Yes\",IF('Simplified Loader'!BD39=\"N\",\"No\",\"\"))))","v":""},{"$f":"IF('Simplified Loader'!BE39>0,'Simplified Loader'!BE39,\"\")","v":""},{"$f":"IF('Simplified Loader'!BF39>0,'Simplified Loader'!BF39,\"\")","v":""},{"$f":"IF('Simplified Loader'!BG39>0,'Simplified Loader'!BG39,\"\")","v":""},{"$f":"IF('Simplified Loader'!BH39=\"Male\",\"Male\",IF('Simplified Loader'!BH39=\"Female\",\"Female\",IF('Simplified Loader'!BH39=\"M\",\"Male\",IF('Simplified Loader'!BH39=\"F\",\"Female\",\"\"))))","v":""},{"$f":"IF('Simplified Loader'!BI39=\"Yes\",\"Yes\",IF('Simplified Loader'!BI39=\"No\",\"No\",IF('Simplified Loader'!BI39=\"Y\",\"Yes\",IF('Simplified Loader'!BI39=\"N\",\"No\",\"\"))))","v":""},{"$f":"IF('Simplified Loader'!BJ39=\"Yes\",\"Yes\",IF('Simplified Loader'!BJ39=\"No\",\"No\",IF('Simplified Loader'!BJ39=\"Y\",\"Yes\",IF('Simplified Loader'!BJ39=\"N\",\"No\",\"\"))))","v":""},{"$f":"IF('Simplified Loader'!BK39>0,'Simplified Loader'!BK39,\"\")","v":""},{"$f":"IF('Simplified Loader'!BL39>0,'Simplified Loader'!BL39,\"\")","v":""},{"$f":"IF('Simplified Loader'!BM39>0,'Simplified Loader'!BM39,\"\")","v":""},{"$f":"IF('Simplified Loader'!BN39=\"Male\",\"Male\",IF('Simplified Loader'!BN39=\"Female\",\"Female\",IF('Simplified Loader'!BN39=\"M\",\"Male\",IF('Simplified Loader'!BN39=\"F\",\"Female\",\"\"))))","v":""},{"$f":"IF('Simplified Loader'!BO39=\"Yes\",\"Yes\",IF('Simplified Loader'!BO39=\"No\",\"No\",IF('Simplified Loader'!BO39=\"Y\",\"Yes\",IF('Simplified Loader'!BO39=\"N\",\"No\",\"\"))))","v":""},{"$f":"IF('Simplified Loader'!BP39=\"Yes\",\"Yes\",IF('Simplified Loader'!BP39=\"No\",\"No\",IF('Simplified Loader'!BP39=\"Y\",\"Yes\",IF('Simplified Loader'!BP39=\"N\",\"No\",\"\"))))","v":""},{"$f":"IF('Simplified Loader'!BQ39>0,'Simplified Loader'!BQ39,\"\")","v":""},{"$f":"IF('Simplified Loader'!BR39>0,'Simplified Loader'!BR39,\"\")","v":""},{"$f":"IF('Simplified Loader'!BS39>0,'Simplified Loader'!BS39,\"\")","v":""},{"$f":"IF('Simplified Loader'!BT39=\"Male\",\"Male\",IF('Simplified Loader'!BT39=\"Female\",\"Female\",IF('Simplified Loader'!BT39=\"M\",\"Male\",IF('Simplified Loader'!BT39=\"F\",\"Female\",\"\"))))","v":""},{"$f":"IF('Simplified Loader'!BU39=\"Yes\",\"Yes\",IF('Simplified Loader'!BU39=\"No\",\"No\",IF('Simplified Loader'!BU39=\"Y\",\"Yes\",IF('Simplified Loader'!BU39=\"N\",\"No\",\"\"))))","v":""},{"$f":"IF('Simplified Loader'!BV39=\"Yes\",\"Yes\",IF('Simplified Loader'!BV39=\"No\",\"No\",IF('Simplified Loader'!BV39=\"Y\",\"Yes\",IF('Simplified Loader'!BV39=\"N\",\"No\",\"\"))))","v":""},{"$f":"IF('Simplified Loader'!BW39>0,'Simplified Loader'!BW39,\"\")","v":""},{"$f":"IF('Simplified Loader'!BX39>0,'Simplified Loader'!BX39,\"\")","v":""},{"$f":"IF('Simplified Loader'!BY39>0,'Simplified Loader'!BY39,\"\")","v":""},{"$f":"IF('Simplified Loader'!BZ39=\"Male\",\"Male\",IF('Simplified Loader'!BZ39=\"Female\",\"Female\",IF('Simplified Loader'!BZ39=\"M\",\"Male\",IF('Simplified Loader'!BZ39=\"F\",\"Female\",\"\"))))","v":""},{"$f":"IF('Simplified Loader'!CA39=\"Yes\",\"Yes\",IF('Simplified Loader'!CA39=\"No\",\"No\",IF('Simplified Loader'!CA39=\"Y\",\"Yes\",IF('Simplified Loader'!CA39=\"N\",\"No\",\"\"))))","v":""},{"$f":"IF('Simplified Loader'!CB39=\"Yes\",\"Yes\",IF('Simplified Loader'!CB39=\"No\",\"No\",IF('Simplified Loader'!CB39=\"Y\",\"Yes\",IF('Simplified Loader'!CB39=\"N\",\"No\",\"\"))))","v":""},{"$f":"IF('Simplified Loader'!CH39>0,'Simplified Loader'!CH39,\"\")","v":"    "}]
[{"$f":"IF('Simplified Loader'!A40>0,'Simplified Loader'!A40,\"\")","v":""},{"$f":"IF('Simplified Loader'!B40>0,'Simplified Loader'!B40,\"\")","v":""},{"$f":"IF('Simplified Loader'!C40>0,'Simplified Loader'!C40,\"\")","v":""},{"$f":"IF('Simplified Loader'!D40>0,'Simplified Loader'!D40,\"\")","v":""},{"$f":"IF('Simplified Loader'!P40>0,TEXT('Simplified Loader'!P40,\"000\"),\"\")","v":""},{"$f":"IF('Simplified Loader'!Q40>0,'Simplified Loader'!Q40,\"\")","v":""},{"$f":"IF('Simplified Loader'!R40>0,'Simplified Loader'!R40,\"\")","v":""},{"$f":"IF('Simplified Loader'!F40>0,DATEVALUE(TEXT('Simplified Loader'!F40,\"yyyy-mm-dd\")),\"\")","v":""},{"$f":"IF('Simplified Loader'!L40>0,DATEVALUE(TEXT('Simplified Loader'!L40,\"yyyy-mm-dd\")),\"\")","v":""},{"$f":"IF('Simplified Loader'!Y40>0,'Simplified Loader'!Y40,\"\")","v":""},{"$f":"IF('Simplified Loader'!T40>0,'Simplified Loader'!T40,\"\")","v":""},{"$f":"IF('Simplified Loader'!G40=\"Male\",\"Male\",IF('Simplified Loader'!G40=\"Female\",\"Female\",IF('Simplified Loader'!G40=\"M\",\"Male\",IF('Simplified Loader'!G40=\"F\",\"Female\",\"\"))))","v":""},{"$f":"IF('Simplified Loader'!U40=\"Yes\",\"Yes\",IF('Simplified Loader'!U40=\"No\",\"No\",IF('Simplified Loader'!U40=\"Y\",\"Yes\",IF('Simplified Loader'!U40=\"N\",\"No\",\"\"))))","v":""},{"$f":"IF('Simplified Loader'!I40=\"Single\",\"Single\",IF('Simplified Loader'!I40=\"Family\",\"Family\",IF('Simplified Loader'!I40=\"Waive\",\"Family\",IF('Simplified Loader'!I40=\"Single Parent\",\"Family\",IF('Simplified Loader'!I40=\"Couple\",\"Family\",IF('Simplified Loader'!I40=\"In force\",\"Family\",IF('Simplified Loader'!I40=\"Applies\",\"Family\",IF('Simplified Loader'!I40=\"Applicable\",\"Family\",\"\"))))))))","v":""},{"$f":"IF('Simplified Loader'!AC40=\"English\",\"English\",IF('Simplified Loader'!AC40=\"French\",\"French\",IF('Simplified Loader'!AC40=\"E\",\"English\",IF('Simplified Loader'!AC40=\"F\",\"French\",\"\"))))","v":""},{"$f":"IF('Simplified Loader'!AB40=\"Yes\",\"Yes\",IF('Simplified Loader'!AB40=\"No\",\"No\",IF('Simplified Loader'!AB40=\"Y\",\"Yes\",IF('Simplified Loader'!AB40=\"N\",\"No\",\"\"))))","v":""},{"$f":"IF('Simplified Loader'!AD40>0,'Simplified Loader'!AD40,\"\")","v":""},{"$f":"IF('Simplified Loader'!M40>0,'Simplified Loader'!M40,\"\")","v":""},{"$f":"IF('Simplified Loader'!N40>0,'Simplified Loader'!N40,\"\")","v":""},{"$f":"IF('Simplified Loader'!O40>0,'Simplified Loader'!O40,\"\")","v":""},{"$f":"IF('Simplified Loader'!I40=\"Waive\",\"Yes\",\"\")","v":""},{"$f":"IF('Simplified Loader'!I40=\"Waive\",\"Yes\",\"\")","v":""},{"$f":"IF('Simplified Loader'!AE40>0,'Simplified Loader'!AE40,\"\")","v":""},{"$f":"IF('Simplified Loader'!AF40>0,'Simplified Loader'!AF40,\"\")","v":""},{"$f":"IF('Simplified Loader'!AG40>0,'Simplified Loader'!AG40,\"\")","v":""},{"$f":"IF('Simplified Loader'!AH40>0,'Simplified Loader'!AH40,\"\")","v":""},{"$f":"IF('Simplified Loader'!AI40>0,'Simplified Loader'!AI40,\"\")","v":" "},{"$f":"IF('Simplified Loader'!AJ40>0,'Simplified Loader'!AJ40,\"\")","v":" "},{"$f":"IF('Simplified Loader'!W40>0,'Simplified Loader'!W40&\" \",\"\")&IF('Simplified Loader'!V40>0,'Simplified Loader'!V40,\"\")","v":""},null,{"$f":"IF('Simplified Loader'!X40>0,'Simplified Loader'!X40,\"\")","v":""},{"$f":"IF('Simplified Loader'!Y40>0,'Simplified Loader'!Y40,\"\")","v":""},{"$f":"IF('Simplified Loader'!Z40>0,'Simplified Loader'!Z40,\"\")","v":""},{"$f":"IF('Simplified Loader'!AA40>0,'Simplified Loader'!AA40,\"\")","v":""},{"$f":"IF('Simplified Loader'!E40>0,'Simplified Loader'!E40,\"\")","v":""},{"$f":"IF('Simplified Loader'!AK40>0,'Simplified Loader'!AK40,\"\")","v":""},{"$f":"IF('Simplified Loader'!AL40>0,'Simplified Loader'!AL40,\"\")","v":""},{"$f":"IF('Simplified Loader'!AM40>0,'Simplified Loader'!AM40,\"\")","v":""},{"$f":"IF('Simplified Loader'!AN40=\"Male\",\"Male\",IF('Simplified Loader'!AN40=\"Female\",\"Female\",IF('Simplified Loader'!AN40=\"M\",\"Male\",IF('Simplified Loader'!AN40=\"F\",\"Female\",\"\"))))","v":""},{"$f":"IF('Simplified Loader'!AO40=\"Single\",\"Single\",IF('Simplified Loader'!AO40=\"Family\",\"Family\",IF('Simplified Loader'!AO40=\"S\",\"Single\",IF('Simplified Loader'!AO40=\"F\",\"Family\",\"\"))))","v":""},{"$f":"IF('Simplified Loader'!AP40=\"Single\",\"Single\",IF('Simplified Loader'!AP40=\"Family\",\"Family\",IF('Simplified Loader'!AP40=\"S\",\"Single\",IF('Simplified Loader'!AP40=\"F\",\"Family\",\"\"))))","v":""},{"$f":"IF('Simplified Loader'!AQ40>0,'Simplified Loader'!AQ40,\"\")","v":""},{"$f":"IF('Simplified Loader'!AR40=\"Yes\",\"Yes\",IF('Simplified Loader'!AR40=\"No\",\"No\",IF('Simplified Loader'!AR40=\"Y\",\"Yes\",IF('Simplified Loader'!AR40=\"N\",\"No\",\"\"))))","v":""},{"$f":"IF('Simplified Loader'!AS40>0,'Simplified Loader'!AS40,\"\")","v":""},{"$f":"IF('Simplified Loader'!AT40>0,'Simplified Loader'!AT40,\"\")","v":""},{"$f":"IF('Simplified Loader'!AU40>0,'Simplified Loader'!AU40,\"\")","v":""},{"$f":"IF('Simplified Loader'!AV40=\"Male\",\"Male\",IF('Simplified Loader'!AV40=\"Female\",\"Female\",IF('Simplified Loader'!AV40=\"M\",\"Male\",IF('Simplified Loader'!AV40=\"F\",\"Female\",\"\"))))","v":""},{"$f":"IF('Simplified Loader'!AW40=\"Yes\",\"Yes\",IF('Simplified Loader'!AW40=\"No\",\"No\",IF('Simplified Loader'!AW40=\"Y\",\"Yes\",IF('Simplified Loader'!AW40=\"N\",\"No\",\"\"))))","v":""},{"$f":"IF('Simplified Loader'!AX40=\"Yes\",\"Yes\",IF('Simplified Loader'!AX40=\"No\",\"No\",IF('Simplified Loader'!AX40=\"Y\",\"Yes\",IF('Simplified Loader'!AX40=\"N\",\"No\",\"\"))))","v":""},{"$f":"IF('Simplified Loader'!AY40>0,'Simplified Loader'!AY40,\"\")","v":""},{"$f":"IF('Simplified Loader'!AZ40>0,'Simplified Loader'!AZ40,\"\")","v":""},{"$f":"IF('Simplified Loader'!BA40>0,'Simplified Loader'!BA40,\"\")","v":""},{"$f":"IF('Simplified Loader'!BB40=\"Male\",\"Male\",IF('Simplified Loader'!BB40=\"Female\",\"Female\",IF('Simplified Loader'!BB40=\"M\",\"Male\",IF('Simplified Loader'!BB40=\"F\",\"Female\",\"\"))))","v":""},{"$f":"IF('Simplified Loader'!BC40=\"Yes\",\"Yes\",IF('Simplified Loader'!BC40=\"No\",\"No\",IF('Simplified Loader'!BC40=\"Y\",\"Yes\",IF('Simplified Loader'!BC40=\"N\",\"No\",\"\"))))","v":""},{"$f":"IF('Simplified Loader'!BD40=\"Yes\",\"Yes\",IF('Simplified Loader'!BD40=\"No\",\"No\",IF('Simplified Loader'!BD40=\"Y\",\"Yes\",IF('Simplified Loader'!BD40=\"N\",\"No\",\"\"))))","v":""},{"$f":"IF('Simplified Loader'!BE40>0,'Simplified Loader'!BE40,\"\")","v":""},{"$f":"IF('Simplified Loader'!BF40>0,'Simplified Loader'!BF40,\"\")","v":""},{"$f":"IF('Simplified Loader'!BG40>0,'Simplified Loader'!BG40,\"\")","v":""},{"$f":"IF('Simplified Loader'!BH40=\"Male\",\"Male\",IF('Simplified Loader'!BH40=\"Female\",\"Female\",IF('Simplified Loader'!BH40=\"M\",\"Male\",IF('Simplified Loader'!BH40=\"F\",\"Female\",\"\"))))","v":""},{"$f":"IF('Simplified Loader'!BI40=\"Yes\",\"Yes\",IF('Simplified Loader'!BI40=\"No\",\"No\",IF('Simplified Loader'!BI40=\"Y\",\"Yes\",IF('Simplified Loader'!BI40=\"N\",\"No\",\"\"))))","v":""},{"$f":"IF('Simplified Loader'!BJ40=\"Yes\",\"Yes\",IF('Simplified Loader'!BJ40=\"No\",\"No\",IF('Simplified Loader'!BJ40=\"Y\",\"Yes\",IF('Simplified Loader'!BJ40=\"N\",\"No\",\"\"))))","v":""},{"$f":"IF('Simplified Loader'!BK40>0,'Simplified Loader'!BK40,\"\")","v":""},{"$f":"IF('Simplified Loader'!BL40>0,'Simplified Loader'!BL40,\"\")","v":""},{"$f":"IF('Simplified Loader'!BM40>0,'Simplified Loader'!BM40,\"\")","v":""},{"$f":"IF('Simplified Loader'!BN40=\"Male\",\"Male\",IF('Simplified Loader'!BN40=\"Female\",\"Female\",IF('Simplified Loader'!BN40=\"M\",\"Male\",IF('Simplified Loader'!BN40=\"F\",\"Female\",\"\"))))","v":""},{"$f":"IF('Simplified Loader'!BO40=\"Yes\",\"Yes\",IF('Simplified Loader'!BO40=\"No\",\"No\",IF('Simplified Loader'!BO40=\"Y\",\"Yes\",IF('Simplified Loader'!BO40=\"N\",\"No\",\"\"))))","v":""},{"$f":"IF('Simplified Loader'!BP40=\"Yes\",\"Yes\",IF('Simplified Loader'!BP40=\"No\",\"No\",IF('Simplified Loader'!BP40=\"Y\",\"Yes\",IF('Simplified Loader'!BP40=\"N\",\"No\",\"\"))))","v":""},{"$f":"IF('Simplified Loader'!BQ40>0,'Simplified Loader'!BQ40,\"\")","v":""},{"$f":"IF('Simplified Loader'!BR40>0,'Simplified Loader'!BR40,\"\")","v":""},{"$f":"IF('Simplified Loader'!BS40>0,'Simplified Loader'!BS40,\"\")","v":""},{"$f":"IF('Simplified Loader'!BT40=\"Male\",\"Male\",IF('Simplified Loader'!BT40=\"Female\",\"Female\",IF('Simplified Loader'!BT40=\"M\",\"Male\",IF('Simplified Loader'!BT40=\"F\",\"Female\",\"\"))))","v":""},{"$f":"IF('Simplified Loader'!BU40=\"Yes\",\"Yes\",IF('Simplified Loader'!BU40=\"No\",\"No\",IF('Simplified Loader'!BU40=\"Y\",\"Yes\",IF('Simplified Loader'!BU40=\"N\",\"No\",\"\"))))","v":""},{"$f":"IF('Simplified Loader'!BV40=\"Yes\",\"Yes\",IF('Simplified Loader'!BV40=\"No\",\"No\",IF('Simplified Loader'!BV40=\"Y\",\"Yes\",IF('Simplified Loader'!BV40=\"N\",\"No\",\"\"))))","v":""},{"$f":"IF('Simplified Loader'!BW40>0,'Simplified Loader'!BW40,\"\")","v":""},{"$f":"IF('Simplified Loader'!BX40>0,'Simplified Loader'!BX40,\"\")","v":""},{"$f":"IF('Simplified Loader'!BY40>0,'Simplified Loader'!BY40,\"\")","v":""},{"$f":"IF('Simplified Loader'!BZ40=\"Male\",\"Male\",IF('Simplified Loader'!BZ40=\"Female\",\"Female\",IF('Simplified Loader'!BZ40=\"M\",\"Male\",IF('Simplified Loader'!BZ40=\"F\",\"Female\",\"\"))))","v":""},{"$f":"IF('Simplified Loader'!CA40=\"Yes\",\"Yes\",IF('Simplified Loader'!CA40=\"No\",\"No\",IF('Simplified Loader'!CA40=\"Y\",\"Yes\",IF('Simplified Loader'!CA40=\"N\",\"No\",\"\"))))","v":""},{"$f":"IF('Simplified Loader'!CB40=\"Yes\",\"Yes\",IF('Simplified Loader'!CB40=\"No\",\"No\",IF('Simplified Loader'!CB40=\"Y\",\"Yes\",IF('Simplified Loader'!CB40=\"N\",\"No\",\"\"))))","v":""},{"$f":"IF('Simplified Loader'!CH40>0,'Simplified Loader'!CH40,\"\")","v":"    "}]
[{"$f":"IF('Simplified Loader'!A41>0,'Simplified Loader'!A41,\"\")","v":""},{"$f":"IF('Simplified Loader'!B41>0,'Simplified Loader'!B41,\"\")","v":""},{"$f":"IF('Simplified Loader'!C41>0,'Simplified Loader'!C41,\"\")","v":""},{"$f":"IF('Simplified Loader'!D41>0,'Simplified Loader'!D41,\"\")","v":""},{"$f":"IF('Simplified Loader'!P41>0,TEXT('Simplified Loader'!P41,\"000\"),\"\")","v":""},{"$f":"IF('Simplified Loader'!Q41>0,'Simplified Loader'!Q41,\"\")","v":""},{"$f":"IF('Simplified Loader'!R41>0,'Simplified Loader'!R41,\"\")","v":""},{"$f":"IF('Simplified Loader'!F41>0,DATEVALUE(TEXT('Simplified Loader'!F41,\"yyyy-mm-dd\")),\"\")","v":""},{"$f":"IF('Simplified Loader'!L41>0,DATEVALUE(TEXT('Simplified Loader'!L41,\"yyyy-mm-dd\")),\"\")","v":""},{"$f":"IF('Simplified Loader'!Y41>0,'Simplified Loader'!Y41,\"\")","v":""},{"$f":"IF('Simplified Loader'!T41>0,'Simplified Loader'!T41,\"\")","v":""},{"$f":"IF('Simplified Loader'!G41=\"Male\",\"Male\",IF('Simplified Loader'!G41=\"Female\",\"Female\",IF('Simplified Loader'!G41=\"M\",\"Male\",IF('Simplified Loader'!G41=\"F\",\"Female\",\"\"))))","v":""},{"$f":"IF('Simplified Loader'!U41=\"Yes\",\"Yes\",IF('Simplified Loader'!U41=\"No\",\"No\",IF('Simplified Loader'!U41=\"Y\",\"Yes\",IF('Simplified Loader'!U41=\"N\",\"No\",\"\"))))","v":""},{"$f":"IF('Simplified Loader'!I41=\"Single\",\"Single\",IF('Simplified Loader'!I41=\"Family\",\"Family\",IF('Simplified Loader'!I41=\"Waive\",\"Family\",IF('Simplified Loader'!I41=\"Single Parent\",\"Family\",IF('Simplified Loader'!I41=\"Couple\",\"Family\",IF('Simplified Loader'!I41=\"In force\",\"Family\",IF('Simplified Loader'!I41=\"Applies\",\"Family\",IF('Simplified Loader'!I41=\"Applicable\",\"Family\",\"\"))))))))","v":""},{"$f":"IF('Simplified Loader'!AC41=\"English\",\"English\",IF('Simplified Loader'!AC41=\"French\",\"French\",IF('Simplified Loader'!AC41=\"E\",\"English\",IF('Simplified Loader'!AC41=\"F\",\"French\",\"\"))))","v":""},{"$f":"IF('Simplified Loader'!AB41=\"Yes\",\"Yes\",IF('Simplified Loader'!AB41=\"No\",\"No\",IF('Simplified Loader'!AB41=\"Y\",\"Yes\",IF('Simplified Loader'!AB41=\"N\",\"No\",\"\"))))","v":""},{"$f":"IF('Simplified Loader'!AD41>0,'Simplified Loader'!AD41,\"\")","v":""},{"$f":"IF('Simplified Loader'!M41>0,'Simplified Loader'!M41,\"\")","v":""},{"$f":"IF('Simplified Loader'!N41>0,'Simplified Loader'!N41,\"\")","v":""},{"$f":"IF('Simplified Loader'!O41>0,'Simplified Loader'!O41,\"\")","v":""},{"$f":"IF('Simplified Loader'!I41=\"Waive\",\"Yes\",\"\")","v":""},{"$f":"IF('Simplified Loader'!I41=\"Waive\",\"Yes\",\"\")","v":""},{"$f":"IF('Simplified Loader'!AE41>0,'Simplified Loader'!AE41,\"\")","v":""},{"$f":"IF('Simplified Loader'!AF41>0,'Simplified Loader'!AF41,\"\")","v":""},{"$f":"IF('Simplified Loader'!AG41>0,'Simplified Loader'!AG41,\"\")","v":""},{"$f":"IF('Simplified Loader'!AH41>0,'Simplified Loader'!AH41,\"\")","v":""},{"$f":"IF('Simplified Loader'!AI41>0,'Simplified Loader'!AI41,\"\")","v":" "},{"$f":"IF('Simplified Loader'!AJ41>0,'Simplified Loader'!AJ41,\"\")","v":" "},{"$f":"IF('Simplified Loader'!W41>0,'Simplified Loader'!W41&\" \",\"\")&IF('Simplified Loader'!V41>0,'Simplified Loader'!V41,\"\")","v":""},null,{"$f":"IF('Simplified Loader'!X41>0,'Simplified Loader'!X41,\"\")","v":""},{"$f":"IF('Simplified Loader'!Y41>0,'Simplified Loader'!Y41,\"\")","v":""},{"$f":"IF('Simplified Loader'!Z41>0,'Simplified Loader'!Z41,\"\")","v":""},{"$f":"IF('Simplified Loader'!AA41>0,'Simplified Loader'!AA41,\"\")","v":""},{"$f":"IF('Simplified Loader'!E41>0,'Simplified Loader'!E41,\"\")","v":""},{"$f":"IF('Simplified Loader'!AK41>0,'Simplified Loader'!AK41,\"\")","v":""},{"$f":"IF('Simplified Loader'!AL41>0,'Simplified Loader'!AL41,\"\")","v":""},{"$f":"IF('Simplified Loader'!AM41>0,'Simplified Loader'!AM41,\"\")","v":""},{"$f":"IF('Simplified Loader'!AN41=\"Male\",\"Male\",IF('Simplified Loader'!AN41=\"Female\",\"Female\",IF('Simplified Loader'!AN41=\"M\",\"Male\",IF('Simplified Loader'!AN41=\"F\",\"Female\",\"\"))))","v":""},{"$f":"IF('Simplified Loader'!AO41=\"Single\",\"Single\",IF('Simplified Loader'!AO41=\"Family\",\"Family\",IF('Simplified Loader'!AO41=\"S\",\"Single\",IF('Simplified Loader'!AO41=\"F\",\"Family\",\"\"))))","v":""},{"$f":"IF('Simplified Loader'!AP41=\"Single\",\"Single\",IF('Simplified Loader'!AP41=\"Family\",\"Family\",IF('Simplified Loader'!AP41=\"S\",\"Single\",IF('Simplified Loader'!AP41=\"F\",\"Family\",\"\"))))","v":""},{"$f":"IF('Simplified Loader'!AQ41>0,'Simplified Loader'!AQ41,\"\")","v":""},{"$f":"IF('Simplified Loader'!AR41=\"Yes\",\"Yes\",IF('Simplified Loader'!AR41=\"No\",\"No\",IF('Simplified Loader'!AR41=\"Y\",\"Yes\",IF('Simplified Loader'!AR41=\"N\",\"No\",\"\"))))","v":""},{"$f":"IF('Simplified Loader'!AS41>0,'Simplified Loader'!AS41,\"\")","v":""},{"$f":"IF('Simplified Loader'!AT41>0,'Simplified Loader'!AT41,\"\")","v":""},{"$f":"IF('Simplified Loader'!AU41>0,'Simplified Loader'!AU41,\"\")","v":""},{"$f":"IF('Simplified Loader'!AV41=\"Male\",\"Male\",IF('Simplified Loader'!AV41=\"Female\",\"Female\",IF('Simplified Loader'!AV41=\"M\",\"Male\",IF('Simplified Loader'!AV41=\"F\",\"Female\",\"\"))))","v":""},{"$f":"IF('Simplified Loader'!AW41=\"Yes\",\"Yes\",IF('Simplified Loader'!AW41=\"No\",\"No\",IF('Simplified Loader'!AW41=\"Y\",\"Yes\",IF('Simplified Loader'!AW41=\"N\",\"No\",\"\"))))","v":""},{"$f":"IF('Simplified Loader'!AX41=\"Yes\",\"Yes\",IF('Simplified Loader'!AX41=\"No\",\"No\",IF('Simplified Loader'!AX41=\"Y\",\"Yes\",IF('Simplified Loader'!AX41=\"N\",\"No\",\"\"))))","v":""},{"$f":"IF('Simplified Loader'!AY41>0,'Simplified Loader'!AY41,\"\")","v":""},{"$f":"IF('Simplified Loader'!AZ41>0,'Simplified Loader'!AZ41,\"\")","v":""},{"$f":"IF('Simplified Loader'!BA41>0,'Simplified Loader'!BA41,\"\")","v":""},{"$f":"IF('Simplified Loader'!BB41=\"Male\",\"Male\",IF('Simplified Loader'!BB41=\"Female\",\"Female\",IF('Simplified Loader'!BB41=\"M\",\"Male\",IF('Simplified Loader'!BB41=\"F\",\"Female\",\"\"))))","v":""},{"$f":"IF('Simplified Loader'!BC41=\"Yes\",\"Yes\",IF('Simplified Loader'!BC41=\"No\",\"No\",IF('Simplified Loader'!BC41=\"Y\",\"Yes\",IF('Simplified Loader'!BC41=\"N\",\"No\",\"\"))))","v":""},{"$f":"IF('Simplified Loader'!BD41=\"Yes\",\"Yes\",IF('Simplified Loader'!BD41=\"No\",\"No\",IF('Simplified Loader'!BD41=\"Y\",\"Yes\",IF('Simplified Loader'!BD41=\"N\",\"No\",\"\"))))","v":""},{"$f":"IF('Simplified Loader'!BE41>0,'Simplified Loader'!BE41,\"\")","v":""},{"$f":"IF('Simplified Loader'!BF41>0,'Simplified Loader'!BF41,\"\")","v":""},{"$f":"IF('Simplified Loader'!BG41>0,'Simplified Loader'!BG41,\"\")","v":""},{"$f":"IF('Simplified Loader'!BH41=\"Male\",\"Male\",IF('Simplified Loader'!BH41=\"Female\",\"Female\",IF('Simplified Loader'!BH41=\"M\",\"Male\",IF('Simplified Loader'!BH41=\"F\",\"Female\",\"\"))))","v":""},{"$f":"IF('Simplified Loader'!BI41=\"Yes\",\"Yes\",IF('Simplified Loader'!BI41=\"No\",\"No\",IF('Simplified Loader'!BI41=\"Y\",\"Yes\",IF('Simplified Loader'!BI41=\"N\",\"No\",\"\"))))","v":""},{"$f":"IF('Simplified Loader'!BJ41=\"Yes\",\"Yes\",IF('Simplified Loader'!BJ41=\"No\",\"No\",IF('Simplified Loader'!BJ41=\"Y\",\"Yes\",IF('Simplified Loader'!BJ41=\"N\",\"No\",\"\"))))","v":""},{"$f":"IF('Simplified Loader'!BK41>0,'Simplified Loader'!BK41,\"\")","v":""},{"$f":"IF('Simplified Loader'!BL41>0,'Simplified Loader'!BL41,\"\")","v":""},{"$f":"IF('Simplified Loader'!BM41>0,'Simplified Loader'!BM41,\"\")","v":""},{"$f":"IF('Simplified Loader'!BN41=\"Male\",\"Male\",IF('Simplified Loader'!BN41=\"Female\",\"Female\",IF('Simplified Loader'!BN41=\"M\",\"Male\",IF('Simplified Loader'!BN41=\"F\",\"Female\",\"\"))))","v":""},{"$f":"IF('Simplified Loader'!BO41=\"Yes\",\"Yes\",IF('Simplified Loader'!BO41=\"No\",\"No\",IF('Simplified Loader'!BO41=\"Y\",\"Yes\",IF('Simplified Loader'!BO41=\"N\",\"No\",\"\"))))","v":""},{"$f":"IF('Simplified Loader'!BP41=\"Yes\",\"Yes\",IF('Simplified Loader'!BP41=\"No\",\"No\",IF('Simplified Loader'!BP41=\"Y\",\"Yes\",IF('Simplified Loader'!BP41=\"N\",\"No\",\"\"))))","v":""},{"$f":"IF('Simplified Loader'!BQ41>0,'Simplified Loader'!BQ41,\"\")","v":""},{"$f":"IF('Simplified Loader'!BR41>0,'Simplified Loader'!BR41,\"\")","v":""},{"$f":"IF('Simplified Loader'!BS41>0,'Simplified Loader'!BS41,\"\")","v":""},{"$f":"IF('Simplified Loader'!BT41=\"Male\",\"Male\",IF('Simplified Loader'!BT41=\"Female\",\"Female\",IF('Simplified Loader'!BT41=\"M\",\"Male\",IF('Simplified Loader'!BT41=\"F\",\"Female\",\"\"))))","v":""},{"$f":"IF('Simplified Loader'!BU41=\"Yes\",\"Yes\",IF('Simplified Loader'!BU41=\"No\",\"No\",IF('Simplified Loader'!BU41=\"Y\",\"Yes\",IF('Simplified Loader'!BU41=\"N\",\"No\",\"\"))))","v":""},{"$f":"IF('Simplified Loader'!BV41=\"Yes\",\"Yes\",IF('Simplified Loader'!BV41=\"No\",\"No\",IF('Simplified Loader'!BV41=\"Y\",\"Yes\",IF('Simplified Loader'!BV41=\"N\",\"No\",\"\"))))","v":""},{"$f":"IF('Simplified Loader'!BW41>0,'Simplified Loader'!BW41,\"\")","v":""},{"$f":"IF('Simplified Loader'!BX41>0,'Simplified Loader'!BX41,\"\")","v":""},{"$f":"IF('Simplified Loader'!BY41>0,'Simplified Loader'!BY41,\"\")","v":""},{"$f":"IF('Simplified Loader'!BZ41=\"Male\",\"Male\",IF('Simplified Loader'!BZ41=\"Female\",\"Female\",IF('Simplified Loader'!BZ41=\"M\",\"Male\",IF('Simplified Loader'!BZ41=\"F\",\"Female\",\"\"))))","v":""},{"$f":"IF('Simplified Loader'!CA41=\"Yes\",\"Yes\",IF('Simplified Loader'!CA41=\"No\",\"No\",IF('Simplified Loader'!CA41=\"Y\",\"Yes\",IF('Simplified Loader'!CA41=\"N\",\"No\",\"\"))))","v":""},{"$f":"IF('Simplified Loader'!CB41=\"Yes\",\"Yes\",IF('Simplified Loader'!CB41=\"No\",\"No\",IF('Simplified Loader'!CB41=\"Y\",\"Yes\",IF('Simplified Loader'!CB41=\"N\",\"No\",\"\"))))","v":""},{"$f":"IF('Simplified Loader'!CH41>0,'Simplified Loader'!CH41,\"\")","v":"    "}]
[{"$f":"IF('Simplified Loader'!A42>0,'Simplified Loader'!A42,\"\")","v":""},{"$f":"IF('Simplified Loader'!B42>0,'Simplified Loader'!B42,\"\")","v":""},{"$f":"IF('Simplified Loader'!C42>0,'Simplified Loader'!C42,\"\")","v":""},{"$f":"IF('Simplified Loader'!D42>0,'Simplified Loader'!D42,\"\")","v":""},{"$f":"IF('Simplified Loader'!P42>0,TEXT('Simplified Loader'!P42,\"000\"),\"\")","v":""},{"$f":"IF('Simplified Loader'!Q42>0,'Simplified Loader'!Q42,\"\")","v":""},{"$f":"IF('Simplified Loader'!R42>0,'Simplified Loader'!R42,\"\")","v":""},{"$f":"IF('Simplified Loader'!F42>0,DATEVALUE(TEXT('Simplified Loader'!F42,\"yyyy-mm-dd\")),\"\")","v":""},{"$f":"IF('Simplified Loader'!L42>0,DATEVALUE(TEXT('Simplified Loader'!L42,\"yyyy-mm-dd\")),\"\")","v":""},{"$f":"IF('Simplified Loader'!Y42>0,'Simplified Loader'!Y42,\"\")","v":""},{"$f":"IF('Simplified Loader'!T42>0,'Simplified Loader'!T42,\"\")","v":""},{"$f":"IF('Simplified Loader'!G42=\"Male\",\"Male\",IF('Simplified Loader'!G42=\"Female\",\"Female\",IF('Simplified Loader'!G42=\"M\",\"Male\",IF('Simplified Loader'!G42=\"F\",\"Female\",\"\"))))","v":""},{"$f":"IF('Simplified Loader'!U42=\"Yes\",\"Yes\",IF('Simplified Loader'!U42=\"No\",\"No\",IF('Simplified Loader'!U42=\"Y\",\"Yes\",IF('Simplified Loader'!U42=\"N\",\"No\",\"\"))))","v":""},{"$f":"IF('Simplified Loader'!I42=\"Single\",\"Single\",IF('Simplified Loader'!I42=\"Family\",\"Family\",IF('Simplified Loader'!I42=\"Waive\",\"Family\",IF('Simplified Loader'!I42=\"Single Parent\",\"Family\",IF('Simplified Loader'!I42=\"Couple\",\"Family\",IF('Simplified Loader'!I42=\"In force\",\"Family\",IF('Simplified Loader'!I42=\"Applies\",\"Family\",IF('Simplified Loader'!I42=\"Applicable\",\"Family\",\"\"))))))))","v":""},{"$f":"IF('Simplified Loader'!AC42=\"English\",\"English\",IF('Simplified Loader'!AC42=\"French\",\"French\",IF('Simplified Loader'!AC42=\"E\",\"English\",IF('Simplified Loader'!AC42=\"F\",\"French\",\"\"))))","v":""},{"$f":"IF('Simplified Loader'!AB42=\"Yes\",\"Yes\",IF('Simplified Loader'!AB42=\"No\",\"No\",IF('Simplified Loader'!AB42=\"Y\",\"Yes\",IF('Simplified Loader'!AB42=\"N\",\"No\",\"\"))))","v":""},{"$f":"IF('Simplified Loader'!AD42>0,'Simplified Loader'!AD42,\"\")","v":""},{"$f":"IF('Simplified Loader'!M42>0,'Simplified Loader'!M42,\"\")","v":""},{"$f":"IF('Simplified Loader'!N42>0,'Simplified Loader'!N42,\"\")","v":""},{"$f":"IF('Simplified Loader'!O42>0,'Simplified Loader'!O42,\"\")","v":""},{"$f":"IF('Simplified Loader'!I42=\"Waive\",\"Yes\",\"\")","v":""},{"$f":"IF('Simplified Loader'!I42=\"Waive\",\"Yes\",\"\")","v":""},{"$f":"IF('Simplified Loader'!AE42>0,'Simplified Loader'!AE42,\"\")","v":""},{"$f":"IF('Simplified Loader'!AF42>0,'Simplified Loader'!AF42,\"\")","v":""},{"$f":"IF('Simplified Loader'!AG42>0,'Simplified Loader'!AG42,\"\")","v":""},{"$f":"IF('Simplified Loader'!AH42>0,'Simplified Loader'!AH42,\"\")","v":""},{"$f":"IF('Simplified Loader'!AI42>0,'Simplified Loader'!AI42,\"\")","v":" "},{"$f":"IF('Simplified Loader'!AJ42>0,'Simplified Loader'!AJ42,\"\")","v":" "},{"$f":"IF('Simplified Loader'!W42>0,'Simplified Loader'!W42&\" \",\"\")&IF('Simplified Loader'!V42>0,'Simplified Loader'!V42,\"\")","v":""},null,{"$f":"IF('Simplified Loader'!X42>0,'Simplified Loader'!X42,\"\")","v":""},{"$f":"IF('Simplified Loader'!Y42>0,'Simplified Loader'!Y42,\"\")","v":""},{"$f":"IF('Simplified Loader'!Z42>0,'Simplified Loader'!Z42,\"\")","v":""},{"$f":"IF('Simplified Loader'!AA42>0,'Simplified Loader'!AA42,\"\")","v":""},{"$f":"IF('Simplified Loader'!E42>0,'Simplified Loader'!E42,\"\")","v":""},{"$f":"IF('Simplified Loader'!AK42>0,'Simplified Loader'!AK42,\"\")","v":""},{"$f":"IF('Simplified Loader'!AL42>0,'Simplified Loader'!AL42,\"\")","v":""},{"$f":"IF('Simplified Loader'!AM42>0,'Simplified Loader'!AM42,\"\")","v":""},{"$f":"IF('Simplified Loader'!AN42=\"Male\",\"Male\",IF('Simplified Loader'!AN42=\"Female\",\"Female\",IF('Simplified Loader'!AN42=\"M\",\"Male\",IF('Simplified Loader'!AN42=\"F\",\"Female\",\"\"))))","v":""},{"$f":"IF('Simplified Loader'!AO42=\"Single\",\"Single\",IF('Simplified Loader'!AO42=\"Family\",\"Family\",IF('Simplified Loader'!AO42=\"S\",\"Single\",IF('Simplified Loader'!AO42=\"F\",\"Family\",\"\"))))","v":""},{"$f":"IF('Simplified Loader'!AP42=\"Single\",\"Single\",IF('Simplified Loader'!AP42=\"Family\",\"Family\",IF('Simplified Loader'!AP42=\"S\",\"Single\",IF('Simplified Loader'!AP42=\"F\",\"Family\",\"\"))))","v":""},{"$f":"IF('Simplified Loader'!AQ42>0,'Simplified Loader'!AQ42,\"\")","v":""},{"$f":"IF('Simplified Loader'!AR42=\"Yes\",\"Yes\",IF('Simplified Loader'!AR42=\"No\",\"No\",IF('Simplified Loader'!AR42=\"Y\",\"Yes\",IF('Simplified Loader'!AR42=\"N\",\"No\",\"\"))))","v":""},{"$f":"IF('Simplified Loader'!AS42>0,'Simplified Loader'!AS42,\"\")","v":""},{"$f":"IF('Simplified Loader'!AT42>0,'Simplified Loader'!AT42,\"\")","v":""},{"$f":"IF('Simplified Loader'!AU42>0,'Simplified Loader'!AU42,\"\")","v":""},{"$f":"IF('Simplified Loader'!AV42=\"Male\",\"Male\",IF('Simplified Loader'!AV42=\"Female\",\"Female\",IF('Simplified Loader'!AV42=\"M\",\"Male\",IF('Simplified Loader'!AV42=\"F\",\"Female\",\"\"))))","v":""},{"$f":"IF('Simplified Loader'!AW42=\"Yes\",\"Yes\",IF('Simplified Loader'!AW42=\"No\",\"No\",IF('Simplified Loader'!AW42=\"Y\",\"Yes\",IF('Simplified Loader'!AW42=\"N\",\"No\",\"\"))))","v":""},{"$f":"IF('Simplified Loader'!AX42=\"Yes\",\"Yes\",IF('Simplified Loader'!AX42=\"No\",\"No\",IF('Simplified Loader'!AX42=\"Y\",\"Yes\",IF('Simplified Loader'!AX42=\"N\",\"No\",\"\"))))","v":""},{"$f":"IF('Simplified Loader'!AY42>0,'Simplified Loader'!AY42,\"\")","v":""},{"$f":"IF('Simplified Loader'!AZ42>0,'Simplified Loader'!AZ42,\"\")","v":""},{"$f":"IF('Simplified Loader'!BA42>0,'Simplified Loader'!BA42,\"\")","v":""},{"$f":"IF('Simplified Loader'!BB42=\"Male\",\"Male\",IF('Simplified Loader'!BB42=\"Female\",\"Female\",IF('Simplified Loader'!BB42=\"M\",\"Male\",IF('Simplified Loader'!BB42=\"F\",\"Female\",\"\"))))","v":""},{"$f":"IF('Simplified Loader'!BC42=\"Yes\",\"Yes\",IF('Simplified Loader'!BC42=\"No\",\"No\",IF('Simplified Loader'!BC42=\"Y\",\"Yes\",IF('Simplified Loader'!BC42=\"N\",\"No\",\"\"))))","v":""},{"$f":"IF('Simplified Loader'!BD42=\"Yes\",\"Yes\",IF('Simplified Loader'!BD42=\"No\",\"No\",IF('Simplified Loader'!BD42=\"Y\",\"Yes\",IF('Simplified Loader'!BD42=\"N\",\"No\",\"\"))))","v":""},{"$f":"IF('Simplified Loader'!BE42>0,'Simplified Loader'!BE42,\"\")","v":""},{"$f":"IF('Simplified Loader'!BF42>0,'Simplified Loader'!BF42,\"\")","v":""},{"$f":"IF('Simplified Loader'!BG42>0,'Simplified Loader'!BG42,\"\")","v":""},{"$f":"IF('Simplified Loader'!BH42=\"Male\",\"Male\",IF('Simplified Loader'!BH42=\"Female\",\"Female\",IF('Simplified Loader'!BH42=\"M\",\"Male\",IF('Simplified Loader'!BH42=\"F\",\"Female\",\"\"))))","v":""},{"$f":"IF('Simplified Loader'!BI42=\"Yes\",\"Yes\",IF('Simplified Loader'!BI42=\"No\",\"No\",IF('Simplified Loader'!BI42=\"Y\",\"Yes\",IF('Simplified Loader'!BI42=\"N\",\"No\",\"\"))))","v":""},{"$f":"IF('Simplified Loader'!BJ42=\"Yes\",\"Yes\",IF('Simplified Loader'!BJ42=\"No\",\"No\",IF('Simplified Loader'!BJ42=\"Y\",\"Yes\",IF('Simplified Loader'!BJ42=\"N\",\"No\",\"\"))))","v":""},{"$f":"IF('Simplified Loader'!BK42>0,'Simplified Loader'!BK42,\"\")","v":""},{"$f":"IF('Simplified Loader'!BL42>0,'Simplified Loader'!BL42,\"\")","v":""},{"$f":"IF('Simplified Loader'!BM42>0,'Simplified Loader'!BM42,\"\")","v":""},{"$f":"IF('Simplified Loader'!BN42=\"Male\",\"Male\",IF('Simplified Loader'!BN42=\"Female\",\"Female\",IF('Simplified Loader'!BN42=\"M\",\"Male\",IF('Simplified Loader'!BN42=\"F\",\"Female\",\"\"))))","v":""},{"$f":"IF('Simplified Loader'!BO42=\"Yes\",\"Yes\",IF('Simplified Loader'!BO42=\"No\",\"No\",IF('Simplified Loader'!BO42=\"Y\",\"Yes\",IF('Simplified Loader'!BO42=\"N\",\"No\",\"\"))))","v":""},{"$f":"IF('Simplified Loader'!BP42=\"Yes\",\"Yes\",IF('Simplified Loader'!BP42=\"No\",\"No\",IF('Simplified Loader'!BP42=\"Y\",\"Yes\",IF('Simplified Loader'!BP42=\"N\",\"No\",\"\"))))","v":""},{"$f":"IF('Simplified Loader'!BQ42>0,'Simplified Loader'!BQ42,\"\")","v":""},{"$f":"IF('Simplified Loader'!BR42>0,'Simplified Loader'!BR42,\"\")","v":""},{"$f":"IF('Simplified Loader'!BS42>0,'Simplified Loader'!BS42,\"\")","v":""},{"$f":"IF('Simplified Loader'!BT42=\"Male\",\"Male\",IF('Simplified Loader'!BT42=\"Female\",\"Female\",IF('Simplified Loader'!BT42=\"M\",\"Male\",IF('Simplified Loader'!BT42=\"F\",\"Female\",\"\"))))","v":""},{"$f":"IF('Simplified Loader'!BU42=\"Yes\",\"Yes\",IF('Simplified Loader'!BU42=\"No\",\"No\",IF('Simplified Loader'!BU42=\"Y\",\"Yes\",IF('Simplified Loader'!BU42=\"N\",\"No\",\"\"))))","v":""},{"$f":"IF('Simplified Loader'!BV42=\"Yes\",\"Yes\",IF('Simplified Loader'!BV42=\"No\",\"No\",IF('Simplified Loader'!BV42=\"Y\",\"Yes\",IF('Simplified Loader'!BV42=\"N\",\"No\",\"\"))))","v":""},{"$f":"IF('Simplified Loader'!BW42>0,'Simplified Loader'!BW42,\"\")","v":""},{"$f":"IF('Simplified Loader'!BX42>0,'Simplified Loader'!BX42,\"\")","v":""},{"$f":"IF('Simplified Loader'!BY42>0,'Simplified Loader'!BY42,\"\")","v":""},{"$f":"IF('Simplified Loader'!BZ42=\"Male\",\"Male\",IF('Simplified Loader'!BZ42=\"Female\",\"Female\",IF('Simplified Loader'!BZ42=\"M\",\"Male\",IF('Simplified Loader'!BZ42=\"F\",\"Female\",\"\"))))","v":""},{"$f":"IF('Simplified Loader'!CA42=\"Yes\",\"Yes\",IF('Simplified Loader'!CA42=\"No\",\"No\",IF('Simplified Loader'!CA42=\"Y\",\"Yes\",IF('Simplified Loader'!CA42=\"N\",\"No\",\"\"))))","v":""},{"$f":"IF('Simplified Loader'!CB42=\"Yes\",\"Yes\",IF('Simplified Loader'!CB42=\"No\",\"No\",IF('Simplified Loader'!CB42=\"Y\",\"Yes\",IF('Simplified Loader'!CB42=\"N\",\"No\",\"\"))))","v":""},{"$f":"IF('Simplified Loader'!CH42>0,'Simplified Loader'!CH42,\"\")","v":"    "}]
[{"$f":"IF('Simplified Loader'!A43>0,'Simplified Loader'!A43,\"\")","v":""},{"$f":"IF('Simplified Loader'!B43>0,'Simplified Loader'!B43,\"\")","v":""},{"$f":"IF('Simplified Loader'!C43>0,'Simplified Loader'!C43,\"\")","v":""},{"$f":"IF('Simplified Loader'!D43>0,'Simplified Loader'!D43,\"\")","v":""},{"$f":"IF('Simplified Loader'!P43>0,TEXT('Simplified Loader'!P43,\"000\"),\"\")","v":""},{"$f":"IF('Simplified Loader'!Q43>0,'Simplified Loader'!Q43,\"\")","v":""},{"$f":"IF('Simplified Loader'!R43>0,'Simplified Loader'!R43,\"\")","v":""},{"$f":"IF('Simplified Loader'!F43>0,DATEVALUE(TEXT('Simplified Loader'!F43,\"yyyy-mm-dd\")),\"\")","v":""},{"$f":"IF('Simplified Loader'!L43>0,DATEVALUE(TEXT('Simplified Loader'!L43,\"yyyy-mm-dd\")),\"\")","v":""},{"$f":"IF('Simplified Loader'!Y43>0,'Simplified Loader'!Y43,\"\")","v":""},{"$f":"IF('Simplified Loader'!T43>0,'Simplified Loader'!T43,\"\")","v":""},{"$f":"IF('Simplified Loader'!G43=\"Male\",\"Male\",IF('Simplified Loader'!G43=\"Female\",\"Female\",IF('Simplified Loader'!G43=\"M\",\"Male\",IF('Simplified Loader'!G43=\"F\",\"Female\",\"\"))))","v":""},{"$f":"IF('Simplified Loader'!U43=\"Yes\",\"Yes\",IF('Simplified Loader'!U43=\"No\",\"No\",IF('Simplified Loader'!U43=\"Y\",\"Yes\",IF('Simplified Loader'!U43=\"N\",\"No\",\"\"))))","v":""},{"$f":"IF('Simplified Loader'!I43=\"Single\",\"Single\",IF('Simplified Loader'!I43=\"Family\",\"Family\",IF('Simplified Loader'!I43=\"Waive\",\"Family\",IF('Simplified Loader'!I43=\"Single Parent\",\"Family\",IF('Simplified Loader'!I43=\"Couple\",\"Family\",IF('Simplified Loader'!I43=\"In force\",\"Family\",IF('Simplified Loader'!I43=\"Applies\",\"Family\",IF('Simplified Loader'!I43=\"Applicable\",\"Family\",\"\"))))))))","v":""},{"$f":"IF('Simplified Loader'!AC43=\"English\",\"English\",IF('Simplified Loader'!AC43=\"French\",\"French\",IF('Simplified Loader'!AC43=\"E\",\"English\",IF('Simplified Loader'!AC43=\"F\",\"French\",\"\"))))","v":""},{"$f":"IF('Simplified Loader'!AB43=\"Yes\",\"Yes\",IF('Simplified Loader'!AB43=\"No\",\"No\",IF('Simplified Loader'!AB43=\"Y\",\"Yes\",IF('Simplified Loader'!AB43=\"N\",\"No\",\"\"))))","v":""},{"$f":"IF('Simplified Loader'!AD43>0,'Simplified Loader'!AD43,\"\")","v":""},{"$f":"IF('Simplified Loader'!M43>0,'Simplified Loader'!M43,\"\")","v":""},{"$f":"IF('Simplified Loader'!N43>0,'Simplified Loader'!N43,\"\")","v":""},{"$f":"IF('Simplified Loader'!O43>0,'Simplified Loader'!O43,\"\")","v":""},{"$f":"IF('Simplified Loader'!I43=\"Waive\",\"Yes\",\"\")","v":""},{"$f":"IF('Simplified Loader'!I43=\"Waive\",\"Yes\",\"\")","v":""},{"$f":"IF('Simplified Loader'!AE43>0,'Simplified Loader'!AE43,\"\")","v":""},{"$f":"IF('Simplified Loader'!AF43>0,'Simplified Loader'!AF43,\"\")","v":""},{"$f":"IF('Simplified Loader'!AG43>0,'Simplified Loader'!AG43,\"\")","v":""},{"$f":"IF('Simplified Loader'!AH43>0,'Simplified Loader'!AH43,\"\")","v":""},{"$f":"IF('Simplified Loader'!AI43>0,'Simplified Loader'!AI43,\"\")","v":" "},{"$f":"IF('Simplified Loader'!AJ43>0,'Simplified Loader'!AJ43,\"\")","v":" "},{"$f":"IF('Simplified Loader'!W43>0,'Simplified Loader'!W43&\" \",\"\")&IF('Simplified Loader'!V43>0,'Simplified Loader'!V43,\"\")","v":""},null,{"$f":"IF('Simplified Loader'!X43>0,'Simplified Loader'!X43,\"\")","v":""},{"$f":"IF('Simplified Loader'!Y43>0,'Simplified Loader'!Y43,\"\")","v":""},{"$f":"IF('Simplified Loader'!Z43>0,'Simplified Loader'!Z43,\"\")","v":""},{"$f":"IF('Simplified Loader'!AA43>0,'Simplified Loader'!AA43,\"\")","v":""},{"$f":"IF('Simplified Loader'!E43>0,'Simplified Loader'!E43,\"\")","v":""},{"$f":"IF('Simplified Loader'!AK43>0,'Simplified Loader'!AK43,\"\")","v":""},{"$f":"IF('Simplified Loader'!AL43>0,'Simplified Loader'!AL43,\"\")","v":""},{"$f":"IF('Simplified Loader'!AM43>0,'Simplified Loader'!AM43,\"\")","v":""},{"$f":"IF('Simplified Loader'!AN43=\"Male\",\"Male\",IF('Simplified Loader'!AN43=\"Female\",\"Female\",IF('Simplified Loader'!AN43=\"M\",\"Male\",IF('Simplified Loader'!AN43=\"F\",\"Female\",\"\"))))","v":""},{"$f":"IF('Simplified Loader'!AO43=\"Single\",\"Single\",IF('Simplified Loader'!AO43=\"Family\",\"Family\",IF('Simplified Loader'!AO43=\"S\",\"Single\",IF('Simplified Loader'!AO43=\"F\",\"Family\",\"\"))))","v":""},{"$f":"IF('Simplified Loader'!AP43=\"Single\",\"Single\",IF('Simplified Loader'!AP43=\"Family\",\"Family\",IF('Simplified Loader'!AP43=\"S\",\"Single\",IF('Simplified Loader'!AP43=\"F\",\"Family\",\"\"))))","v":""},{"$f":"IF('Simplified Loader'!AQ43>0,'Simplified Loader'!AQ43,\"\")","v":""},{"$f":"IF('Simplified Loader'!AR43=\"Yes\",\"Yes\",IF('Simplified Loader'!AR43=\"No\",\"No\",IF('Simplified Loader'!AR43=\"Y\",\"Yes\",IF('Simplified Loader'!AR43=\"N\",\"No\",\"\"))))","v":""},{"$f":"IF('Simplified Loader'!AS43>0,'Simplified Loader'!AS43,\"\")","v":""},{"$f":"IF('Simplified Loader'!AT43>0,'Simplified Loader'!AT43,\"\")","v":""},{"$f":"IF('Simplified Loader'!AU43>0,'Simplified Loader'!AU43,\"\")","v":""},{"$f":"IF('Simplified Loader'!AV43=\"Male\",\"Male\",IF('Simplified Loader'!AV43=\"Female\",\"Female\",IF('Simplified Loader'!AV43=\"M\",\"Male\",IF('Simplified Loader'!AV43=\"F\",\"Female\",\"\"))))","v":""},{"$f":"IF('Simplified Loader'!AW43=\"Yes\",\"Yes\",IF('Simplified Loader'!AW43=\"No\",\"No\",IF('Simplified Loader'!AW43=\"Y\",\"Yes\",IF('Simplified Loader'!AW43=\"N\",\"No\",\"\"))))","v":""},{"$f":"IF('Simplified Loader'!AX43=\"Yes\",\"Yes\",IF('Simplified Loader'!AX43=\"No\",\"No\",IF('Simplified Loader'!AX43=\"Y\",\"Yes\",IF('Simplified Loader'!AX43=\"N\",\"No\",\"\"))))","v":""},{"$f":"IF('Simplified Loader'!AY43>0,'Simplified Loader'!AY43,\"\")","v":""},{"$f":"IF('Simplified Loader'!AZ43>0,'Simplified Loader'!AZ43,\"\")","v":""},{"$f":"IF('Simplified Loader'!BA43>0,'Simplified Loader'!BA43,\"\")","v":""},{"$f":"IF('Simplified Loader'!BB43=\"Male\",\"Male\",IF('Simplified Loader'!BB43=\"Female\",\"Female\",IF('Simplified Loader'!BB43=\"M\",\"Male\",IF('Simplified Loader'!BB43=\"F\",\"Female\",\"\"))))","v":""},{"$f":"IF('Simplified Loader'!BC43=\"Yes\",\"Yes\",IF('Simplified Loader'!BC43=\"No\",\"No\",IF('Simplified Loader'!BC43=\"Y\",\"Yes\",IF('Simplified Loader'!BC43=\"N\",\"No\",\"\"))))","v":""},{"$f":"IF('Simplified Loader'!BD43=\"Yes\",\"Yes\",IF('Simplified Loader'!BD43=\"No\",\"No\",IF('Simplified Loader'!BD43=\"Y\",\"Yes\",IF('Simplified Loader'!BD43=\"N\",\"No\",\"\"))))","v":""},{"$f":"IF('Simplified Loader'!BE43>0,'Simplified Loader'!BE43,\"\")","v":""},{"$f":"IF('Simplified Loader'!BF43>0,'Simplified Loader'!BF43,\"\")","v":""},{"$f":"IF('Simplified Loader'!BG43>0,'Simplified Loader'!BG43,\"\")","v":""},{"$f":"IF('Simplified Loader'!BH43=\"Male\",\"Male\",IF('Simplified Loader'!BH43=\"Female\",\"Female\",IF('Simplified Loader'!BH43=\"M\",\"Male\",IF('Simplified Loader'!BH43=\"F\",\"Female\",\"\"))))","v":""},{"$f":"IF('Simplified Loader'!BI43=\"Yes\",\"Yes\",IF('Simplified Loader'!BI43=\"No\",\"No\",IF('Simplified Loader'!BI43=\"Y\",\"Yes\",IF('Simplified Loader'!BI43=\"N\",\"No\",\"\"))))","v":""},{"$f":"IF('Simplified Loader'!BJ43=\"Yes\",\"Yes\",IF('Simplified Loader'!BJ43=\"No\",\"No\",IF('Simplified Loader'!BJ43=\"Y\",\"Yes\",IF('Simplified Loader'!BJ43=\"N\",\"No\",\"\"))))","v":""},{"$f":"IF('Simplified Loader'!BK43>0,'Simplified Loader'!BK43,\"\")","v":""},{"$f":"IF('Simplified Loader'!BL43>0,'Simplified Loader'!BL43,\"\")","v":""},{"$f":"IF('Simplified Loader'!BM43>0,'Simplified Loader'!BM43,\"\")","v":""},{"$f":"IF('Simplified Loader'!BN43=\"Male\",\"Male\",IF('Simplified Loader'!BN43=\"Female\",\"Female\",IF('Simplified Loader'!BN43=\"M\",\"Male\",IF('Simplified Loader'!BN43=\"F\",\"Female\",\"\"))))","v":""},{"$f":"IF('Simplified Loader'!BO43=\"Yes\",\"Yes\",IF('Simplified Loader'!BO43=\"No\",\"No\",IF('Simplified Loader'!BO43=\"Y\",\"Yes\",IF('Simplified Loader'!BO43=\"N\",\"No\",\"\"))))","v":""},{"$f":"IF('Simplified Loader'!BP43=\"Yes\",\"Yes\",IF('Simplified Loader'!BP43=\"No\",\"No\",IF('Simplified Loader'!BP43=\"Y\",\"Yes\",IF('Simplified Loader'!BP43=\"N\",\"No\",\"\"))))","v":""},{"$f":"IF('Simplified Loader'!BQ43>0,'Simplified Loader'!BQ43,\"\")","v":""},{"$f":"IF('Simplified Loader'!BR43>0,'Simplified Loader'!BR43,\"\")","v":""},{"$f":"IF('Simplified Loader'!BS43>0,'Simplified Loader'!BS43,\"\")","v":""},{"$f":"IF('Simplified Loader'!BT43=\"Male\",\"Male\",IF('Simplified Loader'!BT43=\"Female\",\"Female\",IF('Simplified Loader'!BT43=\"M\",\"Male\",IF('Simplified Loader'!BT43=\"F\",\"Female\",\"\"))))","v":""},{"$f":"IF('Simplified Loader'!BU43=\"Yes\",\"Yes\",IF('Simplified Loader'!BU43=\"No\",\"No\",IF('Simplified Loader'!BU43=\"Y\",\"Yes\",IF('Simplified Loader'!BU43=\"N\",\"No\",\"\"))))","v":""},{"$f":"IF('Simplified Loader'!BV43=\"Yes\",\"Yes\",IF('Simplified Loader'!BV43=\"No\",\"No\",IF('Simplified Loader'!BV43=\"Y\",\"Yes\",IF('Simplified Loader'!BV43=\"N\",\"No\",\"\"))))","v":""},{"$f":"IF('Simplified Loader'!BW43>0,'Simplified Loader'!BW43,\"\")","v":""},{"$f":"IF('Simplified Loader'!BX43>0,'Simplified Loader'!BX43,\"\")","v":""},{"$f":"IF('Simplified Loader'!BY43>0,'Simplified Loader'!BY43,\"\")","v":""},{"$f":"IF('Simplified Loader'!BZ43=\"Male\",\"Male\",IF('Simplified Loader'!BZ43=\"Female\",\"Female\",IF('Simplified Loader'!BZ43=\"M\",\"Male\",IF('Simplified Loader'!BZ43=\"F\",\"Female\",\"\"))))","v":""},{"$f":"IF('Simplified Loader'!CA43=\"Yes\",\"Yes\",IF('Simplified Loader'!CA43=\"No\",\"No\",IF('Simplified Loader'!CA43=\"Y\",\"Yes\",IF('Simplified Loader'!CA43=\"N\",\"No\",\"\"))))","v":""},{"$f":"IF('Simplified Loader'!CB43=\"Yes\",\"Yes\",IF('Simplified Loader'!CB43=\"No\",\"No\",IF('Simplified Loader'!CB43=\"Y\",\"Yes\",IF('Simplified Loader'!CB43=\"N\",\"No\",\"\"))))","v":""},{"$f":"IF('Simplified Loader'!CH43>0,'Simplified Loader'!CH43,\"\")","v":"    "}]
[{"$f":"IF('Simplified Loader'!A44>0,'Simplified Loader'!A44,\"\")","v":""},{"$f":"IF('Simplified Loader'!B44>0,'Simplified Loader'!B44,\"\")","v":""},{"$f":"IF('Simplified Loader'!C44>0,'Simplified Loader'!C44,\"\")","v":""},{"$f":"IF('Simplified Loader'!D44>0,'Simplified Loader'!D44,\"\")","v":""},{"$f":"IF('Simplified Loader'!P44>0,TEXT('Simplified Loader'!P44,\"000\"),\"\")","v":""},{"$f":"IF('Simplified Loader'!Q44>0,'Simplified Loader'!Q44,\"\")","v":""},{"$f":"IF('Simplified Loader'!R44>0,'Simplified Loader'!R44,\"\")","v":""},{"$f":"IF('Simplified Loader'!F44>0,DATEVALUE(TEXT('Simplified Loader'!F44,\"yyyy-mm-dd\")),\"\")","v":""},{"$f":"IF('Simplified Loader'!L44>0,DATEVALUE(TEXT('Simplified Loader'!L44,\"yyyy-mm-dd\")),\"\")","v":""},{"$f":"IF('Simplified Loader'!Y44>0,'Simplified Loader'!Y44,\"\")","v":""},{"$f":"IF('Simplified Loader'!T44>0,'Simplified Loader'!T44,\"\")","v":""},{"$f":"IF('Simplified Loader'!G44=\"Male\",\"Male\",IF('Simplified Loader'!G44=\"Female\",\"Female\",IF('Simplified Loader'!G44=\"M\",\"Male\",IF('Simplified Loader'!G44=\"F\",\"Female\",\"\"))))","v":""},{"$f":"IF('Simplified Loader'!U44=\"Yes\",\"Yes\",IF('Simplified Loader'!U44=\"No\",\"No\",IF('Simplified Loader'!U44=\"Y\",\"Yes\",IF('Simplified Loader'!U44=\"N\",\"No\",\"\"))))","v":""},{"$f":"IF('Simplified Loader'!I44=\"Single\",\"Single\",IF('Simplified Loader'!I44=\"Family\",\"Family\",IF('Simplified Loader'!I44=\"Waive\",\"Family\",IF('Simplified Loader'!I44=\"Single Parent\",\"Family\",IF('Simplified Loader'!I44=\"Couple\",\"Family\",IF('Simplified Loader'!I44=\"In force\",\"Family\",IF('Simplified Loader'!I44=\"Applies\",\"Family\",IF('Simplified Loader'!I44=\"Applicable\",\"Family\",\"\"))))))))","v":""},{"$f":"IF('Simplified Loader'!AC44=\"English\",\"English\",IF('Simplified Loader'!AC44=\"French\",\"French\",IF('Simplified Loader'!AC44=\"E\",\"English\",IF('Simplified Loader'!AC44=\"F\",\"French\",\"\"))))","v":""},{"$f":"IF('Simplified Loader'!AB44=\"Yes\",\"Yes\",IF('Simplified Loader'!AB44=\"No\",\"No\",IF('Simplified Loader'!AB44=\"Y\",\"Yes\",IF('Simplified Loader'!AB44=\"N\",\"No\",\"\"))))","v":""},{"$f":"IF('Simplified Loader'!AD44>0,'Simplified Loader'!AD44,\"\")","v":""},{"$f":"IF('Simplified Loader'!M44>0,'Simplified Loader'!M44,\"\")","v":""},{"$f":"IF('Simplified Loader'!N44>0,'Simplified Loader'!N44,\"\")","v":""},{"$f":"IF('Simplified Loader'!O44>0,'Simplified Loader'!O44,\"\")","v":""},{"$f":"IF('Simplified Loader'!I44=\"Waive\",\"Yes\",\"\")","v":""},{"$f":"IF('Simplified Loader'!I44=\"Waive\",\"Yes\",\"\")","v":""},{"$f":"IF('Simplified Loader'!AE44>0,'Simplified Loader'!AE44,\"\")","v":""},{"$f":"IF('Simplified Loader'!AF44>0,'Simplified Loader'!AF44,\"\")","v":""},{"$f":"IF('Simplified Loader'!AG44>0,'Simplified Loader'!AG44,\"\")","v":""},{"$f":"IF('Simplified Loader'!AH44>0,'Simplified Loader'!AH44,\"\")","v":""},{"$f":"IF('Simplified Loader'!AI44>0,'Simplified Loader'!AI44,\"\")","v":" "},{"$f":"IF('Simplified Loader'!AJ44>0,'Simplified Loader'!AJ44,\"\")","v":" "},{"$f":"IF('Simplified Loader'!W44>0,'Simplified Loader'!W44&\" \",\"\")&IF('Simplified Loader'!V44>0,'Simplified Loader'!V44,\"\")","v":""},null,{"$f":"IF('Simplified Loader'!X44>0,'Simplified Loader'!X44,\"\")","v":""},{"$f":"IF('Simplified Loader'!Y44>0,'Simplified Loader'!Y44,\"\")","v":""},{"$f":"IF('Simplified Loader'!Z44>0,'Simplified Loader'!Z44,\"\")","v":""},{"$f":"IF('Simplified Loader'!AA44>0,'Simplified Loader'!AA44,\"\")","v":""},{"$f":"IF('Simplified Loader'!E44>0,'Simplified Loader'!E44,\"\")","v":""},{"$f":"IF('Simplified Loader'!AK44>0,'Simplified Loader'!AK44,\"\")","v":""},{"$f":"IF('Simplified Loader'!AL44>0,'Simplified Loader'!AL44,\"\")","v":""},{"$f":"IF('Simplified Loader'!AM44>0,'Simplified Loader'!AM44,\"\")","v":""},{"$f":"IF('Simplified Loader'!AN44=\"Male\",\"Male\",IF('Simplified Loader'!AN44=\"Female\",\"Female\",IF('Simplified Loader'!AN44=\"M\",\"Male\",IF('Simplified Loader'!AN44=\"F\",\"Female\",\"\"))))","v":""},{"$f":"IF('Simplified Loader'!AO44=\"Single\",\"Single\",IF('Simplified Loader'!AO44=\"Family\",\"Family\",IF('Simplified Loader'!AO44=\"S\",\"Single\",IF('Simplified Loader'!AO44=\"F\",\"Family\",\"\"))))","v":""},{"$f":"IF('Simplified Loader'!AP44=\"Single\",\"Single\",IF('Simplified Loader'!AP44=\"Family\",\"Family\",IF('Simplified Loader'!AP44=\"S\",\"Single\",IF('Simplified Loader'!AP44=\"F\",\"Family\",\"\"))))","v":""},{"$f":"IF('Simplified Loader'!AQ44>0,'Simplified Loader'!AQ44,\"\")","v":""},{"$f":"IF('Simplified Loader'!AR44=\"Yes\",\"Yes\",IF('Simplified Loader'!AR44=\"No\",\"No\",IF('Simplified Loader'!AR44=\"Y\",\"Yes\",IF('Simplified Loader'!AR44=\"N\",\"No\",\"\"))))","v":""},{"$f":"IF('Simplified Loader'!AS44>0,'Simplified Loader'!AS44,\"\")","v":""},{"$f":"IF('Simplified Loader'!AT44>0,'Simplified Loader'!AT44,\"\")","v":""},{"$f":"IF('Simplified Loader'!AU44>0,'Simplified Loader'!AU44,\"\")","v":""},{"$f":"IF('Simplified Loader'!AV44=\"Male\",\"Male\",IF('Simplified Loader'!AV44=\"Female\",\"Female\",IF('Simplified Loader'!AV44=\"M\",\"Male\",IF('Simplified Loader'!AV44=\"F\",\"Female\",\"\"))))","v":""},{"$f":"IF('Simplified Loader'!AW44=\"Yes\",\"Yes\",IF('Simplified Loader'!AW44=\"No\",\"No\",IF('Simplified Loader'!AW44=\"Y\",\"Yes\",IF('Simplified Loader'!AW44=\"N\",\"No\",\"\"))))","v":""},{"$f":"IF('Simplified Loader'!AX44=\"Yes\",\"Yes\",IF('Simplified Loader'!AX44=\"No\",\"No\",IF('Simplified Loader'!AX44=\"Y\",\"Yes\",IF('Simplified Loader'!AX44=\"N\",\"No\",\"\"))))","v":""},{"$f":"IF('Simplified Loader'!AY44>0,'Simplified Loader'!AY44,\"\")","v":""},{"$f":"IF('Simplified Loader'!AZ44>0,'Simplified Loader'!AZ44,\"\")","v":""},{"$f":"IF('Simplified Loader'!BA44>0,'Simplified Loader'!BA44,\"\")","v":""},{"$f":"IF('Simplified Loader'!BB44=\"Male\",\"Male\",IF('Simplified Loader'!BB44=\"Female\",\"Female\",IF('Simplified Loader'!BB44=\"M\",\"Male\",IF('Simplified Loader'!BB44=\"F\",\"Female\",\"\"))))","v":""},{"$f":"IF('Simplified Loader'!BC44=\"Yes\",\"Yes\",IF('Simplified Loader'!BC44=\"No\",\"No\",IF('Simplified Loader'!BC44=\"Y\",\"Yes\",IF('Simplified Loader'!BC44=\"N\",\"No\",\"\"))))","v":""},{"$f":"IF('Simplified Loader'!BD44=\"Yes\",\"Yes\",IF('Simplified Loader'!BD44=\"No\",\"No\",IF('Simplified Loader'!BD44=\"Y\",\"Yes\",IF('Simplified Loader'!BD44=\"N\",\"No\",\"\"))))","v":""},{"$f":"IF('Simplified Loader'!BE44>0,'Simplified Loader'!BE44,\"\")","v":""},{"$f":"IF('Simplified Loader'!BF44>0,'Simplified Loader'!BF44,\"\")","v":""},{"$f":"IF('Simplified Loader'!BG44>0,'Simplified Loader'!BG44,\"\")","v":""},{"$f":"IF('Simplified Loader'!BH44=\"Male\",\"Male\",IF('Simplified Loader'!BH44=\"Female\",\"Female\",IF('Simplified Loader'!BH44=\"M\",\"Male\",IF('Simplified Loader'!BH44=\"F\",\"Female\",\"\"))))","v":""},{"$f":"IF('Simplified Loader'!BI44=\"Yes\",\"Yes\",IF('Simplified Loader'!BI44=\"No\",\"No\",IF('Simplified Loader'!BI44=\"Y\",\"Yes\",IF('Simplified Loader'!BI44=\"N\",\"No\",\"\"))))","v":""},{"$f":"IF('Simplified Loader'!BJ44=\"Yes\",\"Yes\",IF('Simplified Loader'!BJ44=\"No\",\"No\",IF('Simplified Loader'!BJ44=\"Y\",\"Yes\",IF('Simplified Loader'!BJ44=\"N\",\"No\",\"\"))))","v":""},{"$f":"IF('Simplified Loader'!BK44>0,'Simplified Loader'!BK44,\"\")","v":""},{"$f":"IF('Simplified Loader'!BL44>0,'Simplified Loader'!BL44,\"\")","v":""},{"$f":"IF('Simplified Loader'!BM44>0,'Simplified Loader'!BM44,\"\")","v":""},{"$f":"IF('Simplified Loader'!BN44=\"Male\",\"Male\",IF('Simplified Loader'!BN44=\"Female\",\"Female\",IF('Simplified Loader'!BN44=\"M\",\"Male\",IF('Simplified Loader'!BN44=\"F\",\"Female\",\"\"))))","v":""},{"$f":"IF('Simplified Loader'!BO44=\"Yes\",\"Yes\",IF('Simplified Loader'!BO44=\"No\",\"No\",IF('Simplified Loader'!BO44=\"Y\",\"Yes\",IF('Simplified Loader'!BO44=\"N\",\"No\",\"\"))))","v":""},{"$f":"IF('Simplified Loader'!BP44=\"Yes\",\"Yes\",IF('Simplified Loader'!BP44=\"No\",\"No\",IF('Simplified Loader'!BP44=\"Y\",\"Yes\",IF('Simplified Loader'!BP44=\"N\",\"No\",\"\"))))","v":""},{"$f":"IF('Simplified Loader'!BQ44>0,'Simplified Loader'!BQ44,\"\")","v":""},{"$f":"IF('Simplified Loader'!BR44>0,'Simplified Loader'!BR44,\"\")","v":""},{"$f":"IF('Simplified Loader'!BS44>0,'Simplified Loader'!BS44,\"\")","v":""},{"$f":"IF('Simplified Loader'!BT44=\"Male\",\"Male\",IF('Simplified Loader'!BT44=\"Female\",\"Female\",IF('Simplified Loader'!BT44=\"M\",\"Male\",IF('Simplified Loader'!BT44=\"F\",\"Female\",\"\"))))","v":""},{"$f":"IF('Simplified Loader'!BU44=\"Yes\",\"Yes\",IF('Simplified Loader'!BU44=\"No\",\"No\",IF('Simplified Loader'!BU44=\"Y\",\"Yes\",IF('Simplified Loader'!BU44=\"N\",\"No\",\"\"))))","v":""},{"$f":"IF('Simplified Loader'!BV44=\"Yes\",\"Yes\",IF('Simplified Loader'!BV44=\"No\",\"No\",IF('Simplified Loader'!BV44=\"Y\",\"Yes\",IF('Simplified Loader'!BV44=\"N\",\"No\",\"\"))))","v":""},{"$f":"IF('Simplified Loader'!BW44>0,'Simplified Loader'!BW44,\"\")","v":""},{"$f":"IF('Simplified Loader'!BX44>0,'Simplified Loader'!BX44,\"\")","v":""},{"$f":"IF('Simplified Loader'!BY44>0,'Simplified Loader'!BY44,\"\")","v":""},{"$f":"IF('Simplified Loader'!BZ44=\"Male\",\"Male\",IF('Simplified Loader'!BZ44=\"Female\",\"Female\",IF('Simplified Loader'!BZ44=\"M\",\"Male\",IF('Simplified Loader'!BZ44=\"F\",\"Female\",\"\"))))","v":""},{"$f":"IF('Simplified Loader'!CA44=\"Yes\",\"Yes\",IF('Simplified Loader'!CA44=\"No\",\"No\",IF('Simplified Loader'!CA44=\"Y\",\"Yes\",IF('Simplified Loader'!CA44=\"N\",\"No\",\"\"))))","v":""},{"$f":"IF('Simplified Loader'!CB44=\"Yes\",\"Yes\",IF('Simplified Loader'!CB44=\"No\",\"No\",IF('Simplified Loader'!CB44=\"Y\",\"Yes\",IF('Simplified Loader'!CB44=\"N\",\"No\",\"\"))))","v":""},{"$f":"IF('Simplified Loader'!CH44>0,'Simplified Loader'!CH44,\"\")","v":"    "}]
[{"$f":"IF('Simplified Loader'!A45>0,'Simplified Loader'!A45,\"\")","v":""},{"$f":"IF('Simplified Loader'!B45>0,'Simplified Loader'!B45,\"\")","v":""},{"$f":"IF('Simplified Loader'!C45>0,'Simplified Loader'!C45,\"\")","v":""},{"$f":"IF('Simplified Loader'!D45>0,'Simplified Loader'!D45,\"\")","v":""},{"$f":"IF('Simplified Loader'!P45>0,TEXT('Simplified Loader'!P45,\"000\"),\"\")","v":""},{"$f":"IF('Simplified Loader'!Q45>0,'Simplified Loader'!Q45,\"\")","v":""},{"$f":"IF('Simplified Loader'!R45>0,'Simplified Loader'!R45,\"\")","v":""},{"$f":"IF('Simplified Loader'!F45>0,DATEVALUE(TEXT('Simplified Loader'!F45,\"yyyy-mm-dd\")),\"\")","v":""},{"$f":"IF('Simplified Loader'!L45>0,DATEVALUE(TEXT('Simplified Loader'!L45,\"yyyy-mm-dd\")),\"\")","v":""},{"$f":"IF('Simplified Loader'!Y45>0,'Simplified Loader'!Y45,\"\")","v":""},{"$f":"IF('Simplified Loader'!T45>0,'Simplified Loader'!T45,\"\")","v":""},{"$f":"IF('Simplified Loader'!G45=\"Male\",\"Male\",IF('Simplified Loader'!G45=\"Female\",\"Female\",IF('Simplified Loader'!G45=\"M\",\"Male\",IF('Simplified Loader'!G45=\"F\",\"Female\",\"\"))))","v":""},{"$f":"IF('Simplified Loader'!U45=\"Yes\",\"Yes\",IF('Simplified Loader'!U45=\"No\",\"No\",IF('Simplified Loader'!U45=\"Y\",\"Yes\",IF('Simplified Loader'!U45=\"N\",\"No\",\"\"))))","v":""},{"$f":"IF('Simplified Loader'!I45=\"Single\",\"Single\",IF('Simplified Loader'!I45=\"Family\",\"Family\",IF('Simplified Loader'!I45=\"Waive\",\"Family\",IF('Simplified Loader'!I45=\"Single Parent\",\"Family\",IF('Simplified Loader'!I45=\"Couple\",\"Family\",IF('Simplified Loader'!I45=\"In force\",\"Family\",IF('Simplified Loader'!I45=\"Applies\",\"Family\",IF('Simplified Loader'!I45=\"Applicable\",\"Family\",\"\"))))))))","v":""},{"$f":"IF('Simplified Loader'!AC45=\"English\",\"English\",IF('Simplified Loader'!AC45=\"French\",\"French\",IF('Simplified Loader'!AC45=\"E\",\"English\",IF('Simplified Loader'!AC45=\"F\",\"French\",\"\"))))","v":""},{"$f":"IF('Simplified Loader'!AB45=\"Yes\",\"Yes\",IF('Simplified Loader'!AB45=\"No\",\"No\",IF('Simplified Loader'!AB45=\"Y\",\"Yes\",IF('Simplified Loader'!AB45=\"N\",\"No\",\"\"))))","v":""},{"$f":"IF('Simplified Loader'!AD45>0,'Simplified Loader'!AD45,\"\")","v":""},{"$f":"IF('Simplified Loader'!M45>0,'Simplified Loader'!M45,\"\")","v":""},{"$f":"IF('Simplified Loader'!N45>0,'Simplified Loader'!N45,\"\")","v":""},{"$f":"IF('Simplified Loader'!O45>0,'Simplified Loader'!O45,\"\")","v":""},{"$f":"IF('Simplified Loader'!I45=\"Waive\",\"Yes\",\"\")","v":""},{"$f":"IF('Simplified Loader'!I45=\"Waive\",\"Yes\",\"\")","v":""},{"$f":"IF('Simplified Loader'!AE45>0,'Simplified Loader'!AE45,\"\")","v":""},{"$f":"IF('Simplified Loader'!AF45>0,'Simplified Loader'!AF45,\"\")","v":""},{"$f":"IF('Simplified Loader'!AG45>0,'Simplified Loader'!AG45,\"\")","v":""},{"$f":"IF('Simplified Loader'!AH45>0,'Simplified Loader'!AH45,\"\")","v":""},{"$f":"IF('Simplified Loader'!AI45>0,'Simplified Loader'!AI45,\"\")","v":" "},{"$f":"IF('Simplified Loader'!AJ45>0,'Simplified Loader'!AJ45,\"\")","v":" "},{"$f":"IF('Simplified Loader'!W45>0,'Simplified Loader'!W45&\" \",\"\")&IF('Simplified Loader'!V45>0,'Simplified Loader'!V45,\"\")","v":""},null,{"$f":"IF('Simplified Loader'!X45>0,'Simplified Loader'!X45,\"\")","v":""},{"$f":"IF('Simplified Loader'!Y45>0,'Simplified Loader'!Y45,\"\")","v":""},{"$f":"IF('Simplified Loader'!Z45>0,'Simplified Loader'!Z45,\"\")","v":""},{"$f":"IF('Simplified Loader'!AA45>0,'Simplified Loader'!AA45,\"\")","v":""},{"$f":"IF('Simplified Loader'!E45>0,'Simplified Loader'!E45,\"\")","v":""},{"$f":"IF('Simplified Loader'!AK45>0,'Simplified Loader'!AK45,\"\")","v":""},{"$f":"IF('Simplified Loader'!AL45>0,'Simplified Loader'!AL45,\"\")","v":""},{"$f":"IF('Simplified Loader'!AM45>0,'Simplified Loader'!AM45,\"\")","v":""},{"$f":"IF('Simplified Loader'!AN45=\"Male\",\"Male\",IF('Simplified Loader'!AN45=\"Female\",\"Female\",IF('Simplified Loader'!AN45=\"M\",\"Male\",IF('Simplified Loader'!AN45=\"F\",\"Female\",\"\"))))","v":""},{"$f":"IF('Simplified Loader'!AO45=\"Single\",\"Single\",IF('Simplified Loader'!AO45=\"Family\",\"Family\",IF('Simplified Loader'!AO45=\"S\",\"Single\",IF('Simplified Loader'!AO45=\"F\",\"Family\",\"\"))))","v":""},{"$f":"IF('Simplified Loader'!AP45=\"Single\",\"Single\",IF('Simplified Loader'!AP45=\"Family\",\"Family\",IF('Simplified Loader'!AP45=\"S\",\"Single\",IF('Simplified Loader'!AP45=\"F\",\"Family\",\"\"))))","v":""},{"$f":"IF('Simplified Loader'!AQ45>0,'Simplified Loader'!AQ45,\"\")","v":""},{"$f":"IF('Simplified Loader'!AR45=\"Yes\",\"Yes\",IF('Simplified Loader'!AR45=\"No\",\"No\",IF('Simplified Loader'!AR45=\"Y\",\"Yes\",IF('Simplified Loader'!AR45=\"N\",\"No\",\"\"))))","v":""},{"$f":"IF('Simplified Loader'!AS45>0,'Simplified Loader'!AS45,\"\")","v":""},{"$f":"IF('Simplified Loader'!AT45>0,'Simplified Loader'!AT45,\"\")","v":""},{"$f":"IF('Simplified Loader'!AU45>0,'Simplified Loader'!AU45,\"\")","v":""},{"$f":"IF('Simplified Loader'!AV45=\"Male\",\"Male\",IF('Simplified Loader'!AV45=\"Female\",\"Female\",IF('Simplified Loader'!AV45=\"M\",\"Male\",IF('Simplified Loader'!AV45=\"F\",\"Female\",\"\"))))","v":""},{"$f":"IF('Simplified Loader'!AW45=\"Yes\",\"Yes\",IF('Simplified Loader'!AW45=\"No\",\"No\",IF('Simplified Loader'!AW45=\"Y\",\"Yes\",IF('Simplified Loader'!AW45=\"N\",\"No\",\"\"))))","v":""},{"$f":"IF('Simplified Loader'!AX45=\"Yes\",\"Yes\",IF('Simplified Loader'!AX45=\"No\",\"No\",IF('Simplified Loader'!AX45=\"Y\",\"Yes\",IF('Simplified Loader'!AX45=\"N\",\"No\",\"\"))))","v":""},{"$f":"IF('Simplified Loader'!AY45>0,'Simplified Loader'!AY45,\"\")","v":""},{"$f":"IF('Simplified Loader'!AZ45>0,'Simplified Loader'!AZ45,\"\")","v":""},{"$f":"IF('Simplified Loader'!BA45>0,'Simplified Loader'!BA45,\"\")","v":""},{"$f":"IF('Simplified Loader'!BB45=\"Male\",\"Male\",IF('Simplified Loader'!BB45=\"Female\",\"Female\",IF('Simplified Loader'!BB45=\"M\",\"Male\",IF('Simplified Loader'!BB45=\"F\",\"Female\",\"\"))))","v":""},{"$f":"IF('Simplified Loader'!BC45=\"Yes\",\"Yes\",IF('Simplified Loader'!BC45=\"No\",\"No\",IF('Simplified Loader'!BC45=\"Y\",\"Yes\",IF('Simplified Loader'!BC45=\"N\",\"No\",\"\"))))","v":""},{"$f":"IF('Simplified Loader'!BD45=\"Yes\",\"Yes\",IF('Simplified Loader'!BD45=\"No\",\"No\",IF('Simplified Loader'!BD45=\"Y\",\"Yes\",IF('Simplified Loader'!BD45=\"N\",\"No\",\"\"))))","v":""},{"$f":"IF('Simplified Loader'!BE45>0,'Simplified Loader'!BE45,\"\")","v":""},{"$f":"IF('Simplified Loader'!BF45>0,'Simplified Loader'!BF45,\"\")","v":""},{"$f":"IF('Simplified Loader'!BG45>0,'Simplified Loader'!BG45,\"\")","v":""},{"$f":"IF('Simplified Loader'!BH45=\"Male\",\"Male\",IF('Simplified Loader'!BH45=\"Female\",\"Female\",IF('Simplified Loader'!BH45=\"M\",\"Male\",IF('Simplified Loader'!BH45=\"F\",\"Female\",\"\"))))","v":""},{"$f":"IF('Simplified Loader'!BI45=\"Yes\",\"Yes\",IF('Simplified Loader'!BI45=\"No\",\"No\",IF('Simplified Loader'!BI45=\"Y\",\"Yes\",IF('Simplified Loader'!BI45=\"N\",\"No\",\"\"))))","v":""},{"$f":"IF('Simplified Loader'!BJ45=\"Yes\",\"Yes\",IF('Simplified Loader'!BJ45=\"No\",\"No\",IF('Simplified Loader'!BJ45=\"Y\",\"Yes\",IF('Simplified Loader'!BJ45=\"N\",\"No\",\"\"))))","v":""},{"$f":"IF('Simplified Loader'!BK45>0,'Simplified Loader'!BK45,\"\")","v":""},{"$f":"IF('Simplified Loader'!BL45>0,'Simplified Loader'!BL45,\"\")","v":""},{"$f":"IF('Simplified Loader'!BM45>0,'Simplified Loader'!BM45,\"\")","v":""},{"$f":"IF('Simplified Loader'!BN45=\"Male\",\"Male\",IF('Simplified Loader'!BN45=\"Female\",\"Female\",IF('Simplified Loader'!BN45=\"M\",\"Male\",IF('Simplified Loader'!BN45=\"F\",\"Female\",\"\"))))","v":""},{"$f":"IF('Simplified Loader'!BO45=\"Yes\",\"Yes\",IF('Simplified Loader'!BO45=\"No\",\"No\",IF('Simplified Loader'!BO45=\"Y\",\"Yes\",IF('Simplified Loader'!BO45=\"N\",\"No\",\"\"))))","v":""},{"$f":"IF('Simplified Loader'!BP45=\"Yes\",\"Yes\",IF('Simplified Loader'!BP45=\"No\",\"No\",IF('Simplified Loader'!BP45=\"Y\",\"Yes\",IF('Simplified Loader'!BP45=\"N\",\"No\",\"\"))))","v":""},{"$f":"IF('Simplified Loader'!BQ45>0,'Simplified Loader'!BQ45,\"\")","v":""},{"$f":"IF('Simplified Loader'!BR45>0,'Simplified Loader'!BR45,\"\")","v":""},{"$f":"IF('Simplified Loader'!BS45>0,'Simplified Loader'!BS45,\"\")","v":""},{"$f":"IF('Simplified Loader'!BT45=\"Male\",\"Male\",IF('Simplified Loader'!BT45=\"Female\",\"Female\",IF('Simplified Loader'!BT45=\"M\",\"Male\",IF('Simplified Loader'!BT45=\"F\",\"Female\",\"\"))))","v":""},{"$f":"IF('Simplified Loader'!BU45=\"Yes\",\"Yes\",IF('Simplified Loader'!BU45=\"No\",\"No\",IF('Simplified Loader'!BU45=\"Y\",\"Yes\",IF('Simplified Loader'!BU45=\"N\",\"No\",\"\"))))","v":""},{"$f":"IF('Simplified Loader'!BV45=\"Yes\",\"Yes\",IF('Simplified Loader'!BV45=\"No\",\"No\",IF('Simplified Loader'!BV45=\"Y\",\"Yes\",IF('Simplified Loader'!BV45=\"N\",\"No\",\"\"))))","v":""},{"$f":"IF('Simplified Loader'!BW45>0,'Simplified Loader'!BW45,\"\")","v":""},{"$f":"IF('Simplified Loader'!BX45>0,'Simplified Loader'!BX45,\"\")","v":""},{"$f":"IF('Simplified Loader'!BY45>0,'Simplified Loader'!BY45,\"\")","v":""},{"$f":"IF('Simplified Loader'!BZ45=\"Male\",\"Male\",IF('Simplified Loader'!BZ45=\"Female\",\"Female\",IF('Simplified Loader'!BZ45=\"M\",\"Male\",IF('Simplified Loader'!BZ45=\"F\",\"Female\",\"\"))))","v":""},{"$f":"IF('Simplified Loader'!CA45=\"Yes\",\"Yes\",IF('Simplified Loader'!CA45=\"No\",\"No\",IF('Simplified Loader'!CA45=\"Y\",\"Yes\",IF('Simplified Loader'!CA45=\"N\",\"No\",\"\"))))","v":""},{"$f":"IF('Simplified Loader'!CB45=\"Yes\",\"Yes\",IF('Simplified Loader'!CB45=\"No\",\"No\",IF('Simplified Loader'!CB45=\"Y\",\"Yes\",IF('Simplified Loader'!CB45=\"N\",\"No\",\"\"))))","v":""},{"$f":"IF('Simplified Loader'!CH45>0,'Simplified Loader'!CH45,\"\")","v":"    "}]
[{"$f":"IF('Simplified Loader'!A46>0,'Simplified Loader'!A46,\"\")","v":""},{"$f":"IF('Simplified Loader'!B46>0,'Simplified Loader'!B46,\"\")","v":""},{"$f":"IF('Simplified Loader'!C46>0,'Simplified Loader'!C46,\"\")","v":""},{"$f":"IF('Simplified Loader'!D46>0,'Simplified Loader'!D46,\"\")","v":""},{"$f":"IF('Simplified Loader'!P46>0,TEXT('Simplified Loader'!P46,\"000\"),\"\")","v":""},{"$f":"IF('Simplified Loader'!Q46>0,'Simplified Loader'!Q46,\"\")","v":""},{"$f":"IF('Simplified Loader'!R46>0,'Simplified Loader'!R46,\"\")","v":""},{"$f":"IF('Simplified Loader'!F46>0,DATEVALUE(TEXT('Simplified Loader'!F46,\"yyyy-mm-dd\")),\"\")","v":""},{"$f":"IF('Simplified Loader'!L46>0,DATEVALUE(TEXT('Simplified Loader'!L46,\"yyyy-mm-dd\")),\"\")","v":""},{"$f":"IF('Simplified Loader'!Y46>0,'Simplified Loader'!Y46,\"\")","v":""},{"$f":"IF('Simplified Loader'!T46>0,'Simplified Loader'!T46,\"\")","v":""},{"$f":"IF('Simplified Loader'!G46=\"Male\",\"Male\",IF('Simplified Loader'!G46=\"Female\",\"Female\",IF('Simplified Loader'!G46=\"M\",\"Male\",IF('Simplified Loader'!G46=\"F\",\"Female\",\"\"))))","v":""},{"$f":"IF('Simplified Loader'!U46=\"Yes\",\"Yes\",IF('Simplified Loader'!U46=\"No\",\"No\",IF('Simplified Loader'!U46=\"Y\",\"Yes\",IF('Simplified Loader'!U46=\"N\",\"No\",\"\"))))","v":""},{"$f":"IF('Simplified Loader'!I46=\"Single\",\"Single\",IF('Simplified Loader'!I46=\"Family\",\"Family\",IF('Simplified Loader'!I46=\"Waive\",\"Family\",IF('Simplified Loader'!I46=\"Single Parent\",\"Family\",IF('Simplified Loader'!I46=\"Couple\",\"Family\",IF('Simplified Loader'!I46=\"In force\",\"Family\",IF('Simplified Loader'!I46=\"Applies\",\"Family\",IF('Simplified Loader'!I46=\"Applicable\",\"Family\",\"\"))))))))","v":""},{"$f":"IF('Simplified Loader'!AC46=\"English\",\"English\",IF('Simplified Loader'!AC46=\"French\",\"French\",IF('Simplified Loader'!AC46=\"E\",\"English\",IF('Simplified Loader'!AC46=\"F\",\"French\",\"\"))))","v":""},{"$f":"IF('Simplified Loader'!AB46=\"Yes\",\"Yes\",IF('Simplified Loader'!AB46=\"No\",\"No\",IF('Simplified Loader'!AB46=\"Y\",\"Yes\",IF('Simplified Loader'!AB46=\"N\",\"No\",\"\"))))","v":""},{"$f":"IF('Simplified Loader'!AD46>0,'Simplified Loader'!AD46,\"\")","v":""},{"$f":"IF('Simplified Loader'!M46>0,'Simplified Loader'!M46,\"\")","v":""},{"$f":"IF('Simplified Loader'!N46>0,'Simplified Loader'!N46,\"\")","v":""},{"$f":"IF('Simplified Loader'!O46>0,'Simplified Loader'!O46,\"\")","v":""},{"$f":"IF('Simplified Loader'!I46=\"Waive\",\"Yes\",\"\")","v":""},{"$f":"IF('Simplified Loader'!I46=\"Waive\",\"Yes\",\"\")","v":""},{"$f":"IF('Simplified Loader'!AE46>0,'Simplified Loader'!AE46,\"\")","v":""},{"$f":"IF('Simplified Loader'!AF46>0,'Simplified Loader'!AF46,\"\")","v":""},{"$f":"IF('Simplified Loader'!AG46>0,'Simplified Loader'!AG46,\"\")","v":""},{"$f":"IF('Simplified Loader'!AH46>0,'Simplified Loader'!AH46,\"\")","v":""},{"$f":"IF('Simplified Loader'!AI46>0,'Simplified Loader'!AI46,\"\")","v":" "},{"$f":"IF('Simplified Loader'!AJ46>0,'Simplified Loader'!AJ46,\"\")","v":" "},{"$f":"IF('Simplified Loader'!W46>0,'Simplified Loader'!W46&\" \",\"\")&IF('Simplified Loader'!V46>0,'Simplified Loader'!V46,\"\")","v":""},null,{"$f":"IF('Simplified Loader'!X46>0,'Simplified Loader'!X46,\"\")","v":""},{"$f":"IF('Simplified Loader'!Y46>0,'Simplified Loader'!Y46,\"\")","v":""},{"$f":"IF('Simplified Loader'!Z46>0,'Simplified Loader'!Z46,\"\")","v":""},{"$f":"IF('Simplified Loader'!AA46>0,'Simplified Loader'!AA46,\"\")","v":""},{"$f":"IF('Simplified Loader'!E46>0,'Simplified Loader'!E46,\"\")","v":""},{"$f":"IF('Simplified Loader'!AK46>0,'Simplified Loader'!AK46,\"\")","v":""},{"$f":"IF('Simplified Loader'!AL46>0,'Simplified Loader'!AL46,\"\")","v":""},{"$f":"IF('Simplified Loader'!AM46>0,'Simplified Loader'!AM46,\"\")","v":""},{"$f":"IF('Simplified Loader'!AN46=\"Male\",\"Male\",IF('Simplified Loader'!AN46=\"Female\",\"Female\",IF('Simplified Loader'!AN46=\"M\",\"Male\",IF('Simplified Loader'!AN46=\"F\",\"Female\",\"\"))))","v":""},{"$f":"IF('Simplified Loader'!AO46=\"Single\",\"Single\",IF('Simplified Loader'!AO46=\"Family\",\"Family\",IF('Simplified Loader'!AO46=\"S\",\"Single\",IF('Simplified Loader'!AO46=\"F\",\"Family\",\"\"))))","v":""},{"$f":"IF('Simplified Loader'!AP46=\"Single\",\"Single\",IF('Simplified Loader'!AP46=\"Family\",\"Family\",IF('Simplified Loader'!AP46=\"S\",\"Single\",IF('Simplified Loader'!AP46=\"F\",\"Family\",\"\"))))","v":""},{"$f":"IF('Simplified Loader'!AQ46>0,'Simplified Loader'!AQ46,\"\")","v":""},{"$f":"IF('Simplified Loader'!AR46=\"Yes\",\"Yes\",IF('Simplified Loader'!AR46=\"No\",\"No\",IF('Simplified Loader'!AR46=\"Y\",\"Yes\",IF('Simplified Loader'!AR46=\"N\",\"No\",\"\"))))","v":""},{"$f":"IF('Simplified Loader'!AS46>0,'Simplified Loader'!AS46,\"\")","v":""},{"$f":"IF('Simplified Loader'!AT46>0,'Simplified Loader'!AT46,\"\")","v":""},{"$f":"IF('Simplified Loader'!AU46>0,'Simplified Loader'!AU46,\"\")","v":""},{"$f":"IF('Simplified Loader'!AV46=\"Male\",\"Male\",IF('Simplified Loader'!AV46=\"Female\",\"Female\",IF('Simplified Loader'!AV46=\"M\",\"Male\",IF('Simplified Loader'!AV46=\"F\",\"Female\",\"\"))))","v":""},{"$f":"IF('Simplified Loader'!AW46=\"Yes\",\"Yes\",IF('Simplified Loader'!AW46=\"No\",\"No\",IF('Simplified Loader'!AW46=\"Y\",\"Yes\",IF('Simplified Loader'!AW46=\"N\",\"No\",\"\"))))","v":""},{"$f":"IF('Simplified Loader'!AX46=\"Yes\",\"Yes\",IF('Simplified Loader'!AX46=\"No\",\"No\",IF('Simplified Loader'!AX46=\"Y\",\"Yes\",IF('Simplified Loader'!AX46=\"N\",\"No\",\"\"))))","v":""},{"$f":"IF('Simplified Loader'!AY46>0,'Simplified Loader'!AY46,\"\")","v":""},{"$f":"IF('Simplified Loader'!AZ46>0,'Simplified Loader'!AZ46,\"\")","v":""},{"$f":"IF('Simplified Loader'!BA46>0,'Simplified Loader'!BA46,\"\")","v":""},{"$f":"IF('Simplified Loader'!BB46=\"Male\",\"Male\",IF('Simplified Loader'!BB46=\"Female\",\"Female\",IF('Simplified Loader'!BB46=\"M\",\"Male\",IF('Simplified Loader'!BB46=\"F\",\"Female\",\"\"))))","v":""},{"$f":"IF('Simplified Loader'!BC46=\"Yes\",\"Yes\",IF('Simplified Loader'!BC46=\"No\",\"No\",IF('Simplified Loader'!BC46=\"Y\",\"Yes\",IF('Simplified Loader'!BC46=\"N\",\"No\",\"\"))))","v":""},{"$f":"IF('Simplified Loader'!BD46=\"Yes\",\"Yes\",IF('Simplified Loader'!BD46=\"No\",\"No\",IF('Simplified Loader'!BD46=\"Y\",\"Yes\",IF('Simplified Loader'!BD46=\"N\",\"No\",\"\"))))","v":""},{"$f":"IF('Simplified Loader'!BE46>0,'Simplified Loader'!BE46,\"\")","v":""},{"$f":"IF('Simplified Loader'!BF46>0,'Simplified Loader'!BF46,\"\")","v":""},{"$f":"IF('Simplified Loader'!BG46>0,'Simplified Loader'!BG46,\"\")","v":""},{"$f":"IF('Simplified Loader'!BH46=\"Male\",\"Male\",IF('Simplified Loader'!BH46=\"Female\",\"Female\",IF('Simplified Loader'!BH46=\"M\",\"Male\",IF('Simplified Loader'!BH46=\"F\",\"Female\",\"\"))))","v":""},{"$f":"IF('Simplified Loader'!BI46=\"Yes\",\"Yes\",IF('Simplified Loader'!BI46=\"No\",\"No\",IF('Simplified Loader'!BI46=\"Y\",\"Yes\",IF('Simplified Loader'!BI46=\"N\",\"No\",\"\"))))","v":""},{"$f":"IF('Simplified Loader'!BJ46=\"Yes\",\"Yes\",IF('Simplified Loader'!BJ46=\"No\",\"No\",IF('Simplified Loader'!BJ46=\"Y\",\"Yes\",IF('Simplified Loader'!BJ46=\"N\",\"No\",\"\"))))","v":""},{"$f":"IF('Simplified Loader'!BK46>0,'Simplified Loader'!BK46,\"\")","v":""},{"$f":"IF('Simplified Loader'!BL46>0,'Simplified Loader'!BL46,\"\")","v":""},{"$f":"IF('Simplified Loader'!BM46>0,'Simplified Loader'!BM46,\"\")","v":""},{"$f":"IF('Simplified Loader'!BN46=\"Male\",\"Male\",IF('Simplified Loader'!BN46=\"Female\",\"Female\",IF('Simplified Loader'!BN46=\"M\",\"Male\",IF('Simplified Loader'!BN46=\"F\",\"Female\",\"\"))))","v":""},{"$f":"IF('Simplified Loader'!BO46=\"Yes\",\"Yes\",IF('Simplified Loader'!BO46=\"No\",\"No\",IF('Simplified Loader'!BO46=\"Y\",\"Yes\",IF('Simplified Loader'!BO46=\"N\",\"No\",\"\"))))","v":""},{"$f":"IF('Simplified Loader'!BP46=\"Yes\",\"Yes\",IF('Simplified Loader'!BP46=\"No\",\"No\",IF('Simplified Loader'!BP46=\"Y\",\"Yes\",IF('Simplified Loader'!BP46=\"N\",\"No\",\"\"))))","v":""},{"$f":"IF('Simplified Loader'!BQ46>0,'Simplified Loader'!BQ46,\"\")","v":""},{"$f":"IF('Simplified Loader'!BR46>0,'Simplified Loader'!BR46,\"\")","v":""},{"$f":"IF('Simplified Loader'!BS46>0,'Simplified Loader'!BS46,\"\")","v":""},{"$f":"IF('Simplified Loader'!BT46=\"Male\",\"Male\",IF('Simplified Loader'!BT46=\"Female\",\"Female\",IF('Simplified Loader'!BT46=\"M\",\"Male\",IF('Simplified Loader'!BT46=\"F\",\"Female\",\"\"))))","v":""},{"$f":"IF('Simplified Loader'!BU46=\"Yes\",\"Yes\",IF('Simplified Loader'!BU46=\"No\",\"No\",IF('Simplified Loader'!BU46=\"Y\",\"Yes\",IF('Simplified Loader'!BU46=\"N\",\"No\",\"\"))))","v":""},{"$f":"IF('Simplified Loader'!BV46=\"Yes\",\"Yes\",IF('Simplified Loader'!BV46=\"No\",\"No\",IF('Simplified Loader'!BV46=\"Y\",\"Yes\",IF('Simplified Loader'!BV46=\"N\",\"No\",\"\"))))","v":""},{"$f":"IF('Simplified Loader'!BW46>0,'Simplified Loader'!BW46,\"\")","v":""},{"$f":"IF('Simplified Loader'!BX46>0,'Simplified Loader'!BX46,\"\")","v":""},{"$f":"IF('Simplified Loader'!BY46>0,'Simplified Loader'!BY46,\"\")","v":""},{"$f":"IF('Simplified Loader'!BZ46=\"Male\",\"Male\",IF('Simplified Loader'!BZ46=\"Female\",\"Female\",IF('Simplified Loader'!BZ46=\"M\",\"Male\",IF('Simplified Loader'!BZ46=\"F\",\"Female\",\"\"))))","v":""},{"$f":"IF('Simplified Loader'!CA46=\"Yes\",\"Yes\",IF('Simplified Loader'!CA46=\"No\",\"No\",IF('Simplified Loader'!CA46=\"Y\",\"Yes\",IF('Simplified Loader'!CA46=\"N\",\"No\",\"\"))))","v":""},{"$f":"IF('Simplified Loader'!CB46=\"Yes\",\"Yes\",IF('Simplified Loader'!CB46=\"No\",\"No\",IF('Simplified Loader'!CB46=\"Y\",\"Yes\",IF('Simplified Loader'!CB46=\"N\",\"No\",\"\"))))","v":""},{"$f":"IF('Simplified Loader'!CH46>0,'Simplified Loader'!CH46,\"\")","v":"    "}]
[{"$f":"IF('Simplified Loader'!A47>0,'Simplified Loader'!A47,\"\")","v":""},{"$f":"IF('Simplified Loader'!B47>0,'Simplified Loader'!B47,\"\")","v":""},{"$f":"IF('Simplified Loader'!C47>0,'Simplified Loader'!C47,\"\")","v":""},{"$f":"IF('Simplified Loader'!D47>0,'Simplified Loader'!D47,\"\")","v":""},{"$f":"IF('Simplified Loader'!P47>0,TEXT('Simplified Loader'!P47,\"000\"),\"\")","v":""},{"$f":"IF('Simplified Loader'!Q47>0,'Simplified Loader'!Q47,\"\")","v":""},{"$f":"IF('Simplified Loader'!R47>0,'Simplified Loader'!R47,\"\")","v":""},{"$f":"IF('Simplified Loader'!F47>0,DATEVALUE(TEXT('Simplified Loader'!F47,\"yyyy-mm-dd\")),\"\")","v":""},{"$f":"IF('Simplified Loader'!L47>0,DATEVALUE(TEXT('Simplified Loader'!L47,\"yyyy-mm-dd\")),\"\")","v":""},{"$f":"IF('Simplified Loader'!Y47>0,'Simplified Loader'!Y47,\"\")","v":""},{"$f":"IF('Simplified Loader'!T47>0,'Simplified Loader'!T47,\"\")","v":""},{"$f":"IF('Simplified Loader'!G47=\"Male\",\"Male\",IF('Simplified Loader'!G47=\"Female\",\"Female\",IF('Simplified Loader'!G47=\"M\",\"Male\",IF('Simplified Loader'!G47=\"F\",\"Female\",\"\"))))","v":""},{"$f":"IF('Simplified Loader'!U47=\"Yes\",\"Yes\",IF('Simplified Loader'!U47=\"No\",\"No\",IF('Simplified Loader'!U47=\"Y\",\"Yes\",IF('Simplified Loader'!U47=\"N\",\"No\",\"\"))))","v":""},{"$f":"IF('Simplified Loader'!I47=\"Single\",\"Single\",IF('Simplified Loader'!I47=\"Family\",\"Family\",IF('Simplified Loader'!I47=\"Waive\",\"Family\",IF('Simplified Loader'!I47=\"Single Parent\",\"Family\",IF('Simplified Loader'!I47=\"Couple\",\"Family\",IF('Simplified Loader'!I47=\"In force\",\"Family\",IF('Simplified Loader'!I47=\"Applies\",\"Family\",IF('Simplified Loader'!I47=\"Applicable\",\"Family\",\"\"))))))))","v":""},{"$f":"IF('Simplified Loader'!AC47=\"English\",\"English\",IF('Simplified Loader'!AC47=\"French\",\"French\",IF('Simplified Loader'!AC47=\"E\",\"English\",IF('Simplified Loader'!AC47=\"F\",\"French\",\"\"))))","v":""},{"$f":"IF('Simplified Loader'!AB47=\"Yes\",\"Yes\",IF('Simplified Loader'!AB47=\"No\",\"No\",IF('Simplified Loader'!AB47=\"Y\",\"Yes\",IF('Simplified Loader'!AB47=\"N\",\"No\",\"\"))))","v":""},{"$f":"IF('Simplified Loader'!AD47>0,'Simplified Loader'!AD47,\"\")","v":""},{"$f":"IF('Simplified Loader'!M47>0,'Simplified Loader'!M47,\"\")","v":""},{"$f":"IF('Simplified Loader'!N47>0,'Simplified Loader'!N47,\"\")","v":""},{"$f":"IF('Simplified Loader'!O47>0,'Simplified Loader'!O47,\"\")","v":""},{"$f":"IF('Simplified Loader'!I47=\"Waive\",\"Yes\",\"\")","v":""},{"$f":"IF('Simplified Loader'!I47=\"Waive\",\"Yes\",\"\")","v":""},{"$f":"IF('Simplified Loader'!AE47>0,'Simplified Loader'!AE47,\"\")","v":""},{"$f":"IF('Simplified Loader'!AF47>0,'Simplified Loader'!AF47,\"\")","v":""},{"$f":"IF('Simplified Loader'!AG47>0,'Simplified Loader'!AG47,\"\")","v":""},{"$f":"IF('Simplified Loader'!AH47>0,'Simplified Loader'!AH47,\"\")","v":""},{"$f":"IF('Simplified Loader'!AI47>0,'Simplified Loader'!AI47,\"\")","v":" "},{"$f":"IF('Simplified Loader'!AJ47>0,'Simplified Loader'!AJ47,\"\")","v":" "},{"$f":"IF('Simplified Loader'!W47>0,'Simplified Loader'!W47&\" \",\"\")&IF('Simplified Loader'!V47>0,'Simplified Loader'!V47,\"\")","v":""},null,{"$f":"IF('Simplified Loader'!X47>0,'Simplified Loader'!X47,\"\")","v":""},{"$f":"IF('Simplified Loader'!Y47>0,'Simplified Loader'!Y47,\"\")","v":""},{"$f":"IF('Simplified Loader'!Z47>0,'Simplified Loader'!Z47,\"\")","v":""},{"$f":"IF('Simplified Loader'!AA47>0,'Simplified Loader'!AA47,\"\")","v":""},{"$f":"IF('Simplified Loader'!E47>0,'Simplified Loader'!E47,\"\")","v":""},{"$f":"IF('Simplified Loader'!AK47>0,'Simplified Loader'!AK47,\"\")","v":""},{"$f":"IF('Simplified Loader'!AL47>0,'Simplified Loader'!AL47,\"\")","v":""},{"$f":"IF('Simplified Loader'!AM47>0,'Simplified Loader'!AM47,\"\")","v":""},{"$f":"IF('Simplified Loader'!AN47=\"Male\",\"Male\",IF('Simplified Loader'!AN47=\"Female\",\"Female\",IF('Simplified Loader'!AN47=\"M\",\"Male\",IF('Simplified Loader'!AN47=\"F\",\"Female\",\"\"))))","v":""},{"$f":"IF('Simplified Loader'!AO47=\"Single\",\"Single\",IF('Simplified Loader'!AO47=\"Family\",\"Family\",IF('Simplified Loader'!AO47=\"S\",\"Single\",IF('Simplified Loader'!AO47=\"F\",\"Family\",\"\"))))","v":""},{"$f":"IF('Simplified Loader'!AP47=\"Single\",\"Single\",IF('Simplified Loader'!AP47=\"Family\",\"Family\",IF('Simplified Loader'!AP47=\"S\",\"Single\",IF('Simplified Loader'!AP47=\"F\",\"Family\",\"\"))))","v":""},{"$f":"IF('Simplified Loader'!AQ47>0,'Simplified Loader'!AQ47,\"\")","v":""},{"$f":"IF('Simplified Loader'!AR47=\"Yes\",\"Yes\",IF('Simplified Loader'!AR47=\"No\",\"No\",IF('Simplified Loader'!AR47=\"Y\",\"Yes\",IF('Simplified Loader'!AR47=\"N\",\"No\",\"\"))))","v":""},{"$f":"IF('Simplified Loader'!AS47>0,'Simplified Loader'!AS47,\"\")","v":""},{"$f":"IF('Simplified Loader'!AT47>0,'Simplified Loader'!AT47,\"\")","v":""},{"$f":"IF('Simplified Loader'!AU47>0,'Simplified Loader'!AU47,\"\")","v":""},{"$f":"IF('Simplified Loader'!AV47=\"Male\",\"Male\",IF('Simplified Loader'!AV47=\"Female\",\"Female\",IF('Simplified Loader'!AV47=\"M\",\"Male\",IF('Simplified Loader'!AV47=\"F\",\"Female\",\"\"))))","v":""},{"$f":"IF('Simplified Loader'!AW47=\"Yes\",\"Yes\",IF('Simplified Loader'!AW47=\"No\",\"No\",IF('Simplified Loader'!AW47=\"Y\",\"Yes\",IF('Simplified Loader'!AW47=\"N\",\"No\",\"\"))))","v":""},{"$f":"IF('Simplified Loader'!AX47=\"Yes\",\"Yes\",IF('Simplified Loader'!AX47=\"No\",\"No\",IF('Simplified Loader'!AX47=\"Y\",\"Yes\",IF('Simplified Loader'!AX47=\"N\",\"No\",\"\"))))","v":""},{"$f":"IF('Simplified Loader'!AY47>0,'Simplified Loader'!AY47,\"\")","v":""},{"$f":"IF('Simplified Loader'!AZ47>0,'Simplified Loader'!AZ47,\"\")","v":""},{"$f":"IF('Simplified Loader'!BA47>0,'Simplified Loader'!BA47,\"\")","v":""},{"$f":"IF('Simplified Loader'!BB47=\"Male\",\"Male\",IF('Simplified Loader'!BB47=\"Female\",\"Female\",IF('Simplified Loader'!BB47=\"M\",\"Male\",IF('Simplified Loader'!BB47=\"F\",\"Female\",\"\"))))","v":""},{"$f":"IF('Simplified Loader'!BC47=\"Yes\",\"Yes\",IF('Simplified Loader'!BC47=\"No\",\"No\",IF('Simplified Loader'!BC47=\"Y\",\"Yes\",IF('Simplified Loader'!BC47=\"N\",\"No\",\"\"))))","v":""},{"$f":"IF('Simplified Loader'!BD47=\"Yes\",\"Yes\",IF('Simplified Loader'!BD47=\"No\",\"No\",IF('Simplified Loader'!BD47=\"Y\",\"Yes\",IF('Simplified Loader'!BD47=\"N\",\"No\",\"\"))))","v":""},{"$f":"IF('Simplified Loader'!BE47>0,'Simplified Loader'!BE47,\"\")","v":""},{"$f":"IF('Simplified Loader'!BF47>0,'Simplified Loader'!BF47,\"\")","v":""},{"$f":"IF('Simplified Loader'!BG47>0,'Simplified Loader'!BG47,\"\")","v":""},{"$f":"IF('Simplified Loader'!BH47=\"Male\",\"Male\",IF('Simplified Loader'!BH47=\"Female\",\"Female\",IF('Simplified Loader'!BH47=\"M\",\"Male\",IF('Simplified Loader'!BH47=\"F\",\"Female\",\"\"))))","v":""},{"$f":"IF('Simplified Loader'!BI47=\"Yes\",\"Yes\",IF('Simplified Loader'!BI47=\"No\",\"No\",IF('Simplified Loader'!BI47=\"Y\",\"Yes\",IF('Simplified Loader'!BI47=\"N\",\"No\",\"\"))))","v":""},{"$f":"IF('Simplified Loader'!BJ47=\"Yes\",\"Yes\",IF('Simplified Loader'!BJ47=\"No\",\"No\",IF('Simplified Loader'!BJ47=\"Y\",\"Yes\",IF('Simplified Loader'!BJ47=\"N\",\"No\",\"\"))))","v":""},{"$f":"IF('Simplified Loader'!BK47>0,'Simplified Loader'!BK47,\"\")","v":""},{"$f":"IF('Simplified Loader'!BL47>0,'Simplified Loader'!BL47,\"\")","v":""},{"$f":"IF('Simplified Loader'!BM47>0,'Simplified Loader'!BM47,\"\")","v":""},{"$f":"IF('Simplified Loader'!BN47=\"Male\",\"Male\",IF('Simplified Loader'!BN47=\"Female\",\"Female\",IF('Simplified Loader'!BN47=\"M\",\"Male\",IF('Simplified Loader'!BN47=\"F\",\"Female\",\"\"))))","v":""},{"$f":"IF('Simplified Loader'!BO47=\"Yes\",\"Yes\",IF('Simplified Loader'!BO47=\"No\",\"No\",IF('Simplified Loader'!BO47=\"Y\",\"Yes\",IF('Simplified Loader'!BO47=\"N\",\"No\",\"\"))))","v":""},{"$f":"IF('Simplified Loader'!BP47=\"Yes\",\"Yes\",IF('Simplified Loader'!BP47=\"No\",\"No\",IF('Simplified Loader'!BP47=\"Y\",\"Yes\",IF('Simplified Loader'!BP47=\"N\",\"No\",\"\"))))","v":""},{"$f":"IF('Simplified Loader'!BQ47>0,'Simplified Loader'!BQ47,\"\")","v":""},{"$f":"IF('Simplified Loader'!BR47>0,'Simplified Loader'!BR47,\"\")","v":""},{"$f":"IF('Simplified Loader'!BS47>0,'Simplified Loader'!BS47,\"\")","v":""},{"$f":"IF('Simplified Loader'!BT47=\"Male\",\"Male\",IF('Simplified Loader'!BT47=\"Female\",\"Female\",IF('Simplified Loader'!BT47=\"M\",\"Male\",IF('Simplified Loader'!BT47=\"F\",\"Female\",\"\"))))","v":""},{"$f":"IF('Simplified Loader'!BU47=\"Yes\",\"Yes\",IF('Simplified Loader'!BU47=\"No\",\"No\",IF('Simplified Loader'!BU47=\"Y\",\"Yes\",IF('Simplified Loader'!BU47=\"N\",\"No\",\"\"))))","v":""},{"$f":"IF('Simplified Loader'!BV47=\"Yes\",\"Yes\",IF('Simplified Loader'!BV47=\"No\",\"No\",IF('Simplified Loader'!BV47=\"Y\",\"Yes\",IF('Simplified Loader'!BV47=\"N\",\"No\",\"\"))))","v":""},{"$f":"IF('Simplified Loader'!BW47>0,'Simplified Loader'!BW47,\"\")","v":""},{"$f":"IF('Simplified Loader'!BX47>0,'Simplified Loader'!BX47,\"\")","v":""},{"$f":"IF('Simplified Loader'!BY47>0,'Simplified Loader'!BY47,\"\")","v":""},{"$f":"IF('Simplified Loader'!BZ47=\"Male\",\"Male\",IF('Simplified Loader'!BZ47=\"Female\",\"Female\",IF('Simplified Loader'!BZ47=\"M\",\"Male\",IF('Simplified Loader'!BZ47=\"F\",\"Female\",\"\"))))","v":""},{"$f":"IF('Simplified Loader'!CA47=\"Yes\",\"Yes\",IF('Simplified Loader'!CA47=\"No\",\"No\",IF('Simplified Loader'!CA47=\"Y\",\"Yes\",IF('Simplified Loader'!CA47=\"N\",\"No\",\"\"))))","v":""},{"$f":"IF('Simplified Loader'!CB47=\"Yes\",\"Yes\",IF('Simplified Loader'!CB47=\"No\",\"No\",IF('Simplified Loader'!CB47=\"Y\",\"Yes\",IF('Simplified Loader'!CB47=\"N\",\"No\",\"\"))))","v":""},{"$f":"IF('Simplified Loader'!CH47>0,'Simplified Loader'!CH47,\"\")","v":"    "}]
[{"$f":"IF('Simplified Loader'!A48>0,'Simplified Loader'!A48,\"\")","v":""},{"$f":"IF('Simplified Loader'!B48>0,'Simplified Loader'!B48,\"\")","v":""},{"$f":"IF('Simplified Loader'!C48>0,'Simplified Loader'!C48,\"\")","v":""},{"$f":"IF('Simplified Loader'!D48>0,'Simplified Loader'!D48,\"\")","v":""},{"$f":"IF('Simplified Loader'!P48>0,TEXT('Simplified Loader'!P48,\"000\"),\"\")","v":""},{"$f":"IF('Simplified Loader'!Q48>0,'Simplified Loader'!Q48,\"\")","v":""},{"$f":"IF('Simplified Loader'!R48>0,'Simplified Loader'!R48,\"\")","v":""},{"$f":"IF('Simplified Loader'!F48>0,DATEVALUE(TEXT('Simplified Loader'!F48,\"yyyy-mm-dd\")),\"\")","v":""},{"$f":"IF('Simplified Loader'!L48>0,DATEVALUE(TEXT('Simplified Loader'!L48,\"yyyy-mm-dd\")),\"\")","v":""},{"$f":"IF('Simplified Loader'!Y48>0,'Simplified Loader'!Y48,\"\")","v":""},{"$f":"IF('Simplified Loader'!T48>0,'Simplified Loader'!T48,\"\")","v":""},{"$f":"IF('Simplified Loader'!G48=\"Male\",\"Male\",IF('Simplified Loader'!G48=\"Female\",\"Female\",IF('Simplified Loader'!G48=\"M\",\"Male\",IF('Simplified Loader'!G48=\"F\",\"Female\",\"\"))))","v":""},{"$f":"IF('Simplified Loader'!U48=\"Yes\",\"Yes\",IF('Simplified Loader'!U48=\"No\",\"No\",IF('Simplified Loader'!U48=\"Y\",\"Yes\",IF('Simplified Loader'!U48=\"N\",\"No\",\"\"))))","v":""},{"$f":"IF('Simplified Loader'!I48=\"Single\",\"Single\",IF('Simplified Loader'!I48=\"Family\",\"Family\",IF('Simplified Loader'!I48=\"Waive\",\"Family\",IF('Simplified Loader'!I48=\"Single Parent\",\"Family\",IF('Simplified Loader'!I48=\"Couple\",\"Family\",IF('Simplified Loader'!I48=\"In force\",\"Family\",IF('Simplified Loader'!I48=\"Applies\",\"Family\",IF('Simplified Loader'!I48=\"Applicable\",\"Family\",\"\"))))))))","v":""},{"$f":"IF('Simplified Loader'!AC48=\"English\",\"English\",IF('Simplified Loader'!AC48=\"French\",\"French\",IF('Simplified Loader'!AC48=\"E\",\"English\",IF('Simplified Loader'!AC48=\"F\",\"French\",\"\"))))","v":""},{"$f":"IF('Simplified Loader'!AB48=\"Yes\",\"Yes\",IF('Simplified Loader'!AB48=\"No\",\"No\",IF('Simplified Loader'!AB48=\"Y\",\"Yes\",IF('Simplified Loader'!AB48=\"N\",\"No\",\"\"))))","v":""},{"$f":"IF('Simplified Loader'!AD48>0,'Simplified Loader'!AD48,\"\")","v":""},{"$f":"IF('Simplified Loader'!M48>0,'Simplified Loader'!M48,\"\")","v":""},{"$f":"IF('Simplified Loader'!N48>0,'Simplified Loader'!N48,\"\")","v":""},{"$f":"IF('Simplified Loader'!O48>0,'Simplified Loader'!O48,\"\")","v":""},{"$f":"IF('Simplified Loader'!I48=\"Waive\",\"Yes\",\"\")","v":""},{"$f":"IF('Simplified Loader'!I48=\"Waive\",\"Yes\",\"\")","v":""},{"$f":"IF('Simplified Loader'!AE48>0,'Simplified Loader'!AE48,\"\")","v":""},{"$f":"IF('Simplified Loader'!AF48>0,'Simplified Loader'!AF48,\"\")","v":""},{"$f":"IF('Simplified Loader'!AG48>0,'Simplified Loader'!AG48,\"\")","v":""},{"$f":"IF('Simplified Loader'!AH48>0,'Simplified Loader'!AH48,\"\")","v":""},{"$f":"IF('Simplified Loader'!AI48>0,'Simplified Loader'!AI48,\"\")","v":" "},{"$f":"IF('Simplified Loader'!AJ48>0,'Simplified Loader'!AJ48,\"\")","v":" "},{"$f":"IF('Simplified Loader'!W48>0,'Simplified Loader'!W48&\" \",\"\")&IF('Simplified Loader'!V48>0,'Simplified Loader'!V48,\"\")","v":""},null,{"$f":"IF('Simplified Loader'!X48>0,'Simplified Loader'!X48,\"\")","v":""},{"$f":"IF('Simplified Loader'!Y48>0,'Simplified Loader'!Y48,\"\")","v":""},{"$f":"IF('Simplified Loader'!Z48>0,'Simplified Loader'!Z48,\"\")","v":""},{"$f":"IF('Simplified Loader'!AA48>0,'Simplified Loader'!AA48,\"\")","v":""},{"$f":"IF('Simplified Loader'!E48>0,'Simplified Loader'!E48,\"\")","v":""},{"$f":"IF('Simplified Loader'!AK48>0,'Simplified Loader'!AK48,\"\")","v":""},{"$f":"IF('Simplified Loader'!AL48>0,'Simplified Loader'!AL48,\"\")","v":""},{"$f":"IF('Simplified Loader'!AM48>0,'Simplified Loader'!AM48,\"\")","v":""},{"$f":"IF('Simplified Loader'!AN48=\"Male\",\"Male\",IF('Simplified Loader'!AN48=\"Female\",\"Female\",IF('Simplified Loader'!AN48=\"M\",\"Male\",IF('Simplified Loader'!AN48=\"F\",\"Female\",\"\"))))","v":""},{"$f":"IF('Simplified Loader'!AO48=\"Single\",\"Single\",IF('Simplified Loader'!AO48=\"Family\",\"Family\",IF('Simplified Loader'!AO48=\"S\",\"Single\",IF('Simplified Loader'!AO48=\"F\",\"Family\",\"\"))))","v":""},{"$f":"IF('Simplified Loader'!AP48=\"Single\",\"Single\",IF('Simplified Loader'!AP48=\"Family\",\"Family\",IF('Simplified Loader'!AP48=\"S\",\"Single\",IF('Simplified Loader'!AP48=\"F\",\"Family\",\"\"))))","v":""},{"$f":"IF('Simplified Loader'!AQ48>0,'Simplified Loader'!AQ48,\"\")","v":""},{"$f":"IF('Simplified Loader'!AR48=\"Yes\",\"Yes\",IF('Simplified Loader'!AR48=\"No\",\"No\",IF('Simplified Loader'!AR48=\"Y\",\"Yes\",IF('Simplified Loader'!AR48=\"N\",\"No\",\"\"))))","v":""},{"$f":"IF('Simplified Loader'!AS48>0,'Simplified Loader'!AS48,\"\")","v":""},{"$f":"IF('Simplified Loader'!AT48>0,'Simplified Loader'!AT48,\"\")","v":""},{"$f":"IF('Simplified Loader'!AU48>0,'Simplified Loader'!AU48,\"\")","v":""},{"$f":"IF('Simplified Loader'!AV48=\"Male\",\"Male\",IF('Simplified Loader'!AV48=\"Female\",\"Female\",IF('Simplified Loader'!AV48=\"M\",\"Male\",IF('Simplified Loader'!AV48=\"F\",\"Female\",\"\"))))","v":""},{"$f":"IF('Simplified Loader'!AW48=\"Yes\",\"Yes\",IF('Simplified Loader'!AW48=\"No\",\"No\",IF('Simplified Loader'!AW48=\"Y\",\"Yes\",IF('Simplified Loader'!AW48=\"N\",\"No\",\"\"))))","v":""},{"$f":"IF('Simplified Loader'!AX48=\"Yes\",\"Yes\",IF('Simplified Loader'!AX48=\"No\",\"No\",IF('Simplified Loader'!AX48=\"Y\",\"Yes\",IF('Simplified Loader'!AX48=\"N\",\"No\",\"\"))))","v":""},{"$f":"IF('Simplified Loader'!AY48>0,'Simplified Loader'!AY48,\"\")","v":""},{"$f":"IF('Simplified Loader'!AZ48>0,'Simplified Loader'!AZ48,\"\")","v":""},{"$f":"IF('Simplified Loader'!BA48>0,'Simplified Loader'!BA48,\"\")","v":""},{"$f":"IF('Simplified Loader'!BB48=\"Male\",\"Male\",IF('Simplified Loader'!BB48=\"Female\",\"Female\",IF('Simplified Loader'!BB48=\"M\",\"Male\",IF('Simplified Loader'!BB48=\"F\",\"Female\",\"\"))))","v":""},{"$f":"IF('Simplified Loader'!BC48=\"Yes\",\"Yes\",IF('Simplified Loader'!BC48=\"No\",\"No\",IF('Simplified Loader'!BC48=\"Y\",\"Yes\",IF('Simplified Loader'!BC48=\"N\",\"No\",\"\"))))","v":""},{"$f":"IF('Simplified Loader'!BD48=\"Yes\",\"Yes\",IF('Simplified Loader'!BD48=\"No\",\"No\",IF('Simplified Loader'!BD48=\"Y\",\"Yes\",IF('Simplified Loader'!BD48=\"N\",\"No\",\"\"))))","v":""},{"$f":"IF('Simplified Loader'!BE48>0,'Simplified Loader'!BE48,\"\")","v":""},{"$f":"IF('Simplified Loader'!BF48>0,'Simplified Loader'!BF48,\"\")","v":""},{"$f":"IF('Simplified Loader'!BG48>0,'Simplified Loader'!BG48,\"\")","v":""},{"$f":"IF('Simplified Loader'!BH48=\"Male\",\"Male\",IF('Simplified Loader'!BH48=\"Female\",\"Female\",IF('Simplified Loader'!BH48=\"M\",\"Male\",IF('Simplified Loader'!BH48=\"F\",\"Female\",\"\"))))","v":""},{"$f":"IF('Simplified Loader'!BI48=\"Yes\",\"Yes\",IF('Simplified Loader'!BI48=\"No\",\"No\",IF('Simplified Loader'!BI48=\"Y\",\"Yes\",IF('Simplified Loader'!BI48=\"N\",\"No\",\"\"))))","v":""},{"$f":"IF('Simplified Loader'!BJ48=\"Yes\",\"Yes\",IF('Simplified Loader'!BJ48=\"No\",\"No\",IF('Simplified Loader'!BJ48=\"Y\",\"Yes\",IF('Simplified Loader'!BJ48=\"N\",\"No\",\"\"))))","v":""},{"$f":"IF('Simplified Loader'!BK48>0,'Simplified Loader'!BK48,\"\")","v":""},{"$f":"IF('Simplified Loader'!BL48>0,'Simplified Loader'!BL48,\"\")","v":""},{"$f":"IF('Simplified Loader'!BM48>0,'Simplified Loader'!BM48,\"\")","v":""},{"$f":"IF('Simplified Loader'!BN48=\"Male\",\"Male\",IF('Simplified Loader'!BN48=\"Female\",\"Female\",IF('Simplified Loader'!BN48=\"M\",\"Male\",IF('Simplified Loader'!BN48=\"F\",\"Female\",\"\"))))","v":""},{"$f":"IF('Simplified Loader'!BO48=\"Yes\",\"Yes\",IF('Simplified Loader'!BO48=\"No\",\"No\",IF('Simplified Loader'!BO48=\"Y\",\"Yes\",IF('Simplified Loader'!BO48=\"N\",\"No\",\"\"))))","v":""},{"$f":"IF('Simplified Loader'!BP48=\"Yes\",\"Yes\",IF('Simplified Loader'!BP48=\"No\",\"No\",IF('Simplified Loader'!BP48=\"Y\",\"Yes\",IF('Simplified Loader'!BP48=\"N\",\"No\",\"\"))))","v":""},{"$f":"IF('Simplified Loader'!BQ48>0,'Simplified Loader'!BQ48,\"\")","v":""},{"$f":"IF('Simplified Loader'!BR48>0,'Simplified Loader'!BR48,\"\")","v":""},{"$f":"IF('Simplified Loader'!BS48>0,'Simplified Loader'!BS48,\"\")","v":""},{"$f":"IF('Simplified Loader'!BT48=\"Male\",\"Male\",IF('Simplified Loader'!BT48=\"Female\",\"Female\",IF('Simplified Loader'!BT48=\"M\",\"Male\",IF('Simplified Loader'!BT48=\"F\",\"Female\",\"\"))))","v":""},{"$f":"IF('Simplified Loader'!BU48=\"Yes\",\"Yes\",IF('Simplified Loader'!BU48=\"No\",\"No\",IF('Simplified Loader'!BU48=\"Y\",\"Yes\",IF('Simplified Loader'!BU48=\"N\",\"No\",\"\"))))","v":""},{"$f":"IF('Simplified Loader'!BV48=\"Yes\",\"Yes\",IF('Simplified Loader'!BV48=\"No\",\"No\",IF('Simplified Loader'!BV48=\"Y\",\"Yes\",IF('Simplified Loader'!BV48=\"N\",\"No\",\"\"))))","v":""},{"$f":"IF('Simplified Loader'!BW48>0,'Simplified Loader'!BW48,\"\")","v":""},{"$f":"IF('Simplified Loader'!BX48>0,'Simplified Loader'!BX48,\"\")","v":""},{"$f":"IF('Simplified Loader'!BY48>0,'Simplified Loader'!BY48,\"\")","v":""},{"$f":"IF('Simplified Loader'!BZ48=\"Male\",\"Male\",IF('Simplified Loader'!BZ48=\"Female\",\"Female\",IF('Simplified Loader'!BZ48=\"M\",\"Male\",IF('Simplified Loader'!BZ48=\"F\",\"Female\",\"\"))))","v":""},{"$f":"IF('Simplified Loader'!CA48=\"Yes\",\"Yes\",IF('Simplified Loader'!CA48=\"No\",\"No\",IF('Simplified Loader'!CA48=\"Y\",\"Yes\",IF('Simplified Loader'!CA48=\"N\",\"No\",\"\"))))","v":""},{"$f":"IF('Simplified Loader'!CB48=\"Yes\",\"Yes\",IF('Simplified Loader'!CB48=\"No\",\"No\",IF('Simplified Loader'!CB48=\"Y\",\"Yes\",IF('Simplified Loader'!CB48=\"N\",\"No\",\"\"))))","v":""},{"$f":"IF('Simplified Loader'!CH48>0,'Simplified Loader'!CH48,\"\")","v":"    "}]
[{"$f":"IF('Simplified Loader'!A49>0,'Simplified Loader'!A49,\"\")","v":""},{"$f":"IF('Simplified Loader'!B49>0,'Simplified Loader'!B49,\"\")","v":""},{"$f":"IF('Simplified Loader'!C49>0,'Simplified Loader'!C49,\"\")","v":""},{"$f":"IF('Simplified Loader'!D49>0,'Simplified Loader'!D49,\"\")","v":""},{"$f":"IF('Simplified Loader'!P49>0,TEXT('Simplified Loader'!P49,\"000\"),\"\")","v":""},{"$f":"IF('Simplified Loader'!Q49>0,'Simplified Loader'!Q49,\"\")","v":""},{"$f":"IF('Simplified Loader'!R49>0,'Simplified Loader'!R49,\"\")","v":""},{"$f":"IF('Simplified Loader'!F49>0,DATEVALUE(TEXT('Simplified Loader'!F49,\"yyyy-mm-dd\")),\"\")","v":""},{"$f":"IF('Simplified Loader'!L49>0,DATEVALUE(TEXT('Simplified Loader'!L49,\"yyyy-mm-dd\")),\"\")","v":""},{"$f":"IF('Simplified Loader'!Y49>0,'Simplified Loader'!Y49,\"\")","v":""},{"$f":"IF('Simplified Loader'!T49>0,'Simplified Loader'!T49,\"\")","v":""},{"$f":"IF('Simplified Loader'!G49=\"Male\",\"Male\",IF('Simplified Loader'!G49=\"Female\",\"Female\",IF('Simplified Loader'!G49=\"M\",\"Male\",IF('Simplified Loader'!G49=\"F\",\"Female\",\"\"))))","v":""},{"$f":"IF('Simplified Loader'!U49=\"Yes\",\"Yes\",IF('Simplified Loader'!U49=\"No\",\"No\",IF('Simplified Loader'!U49=\"Y\",\"Yes\",IF('Simplified Loader'!U49=\"N\",\"No\",\"\"))))","v":""},{"$f":"IF('Simplified Loader'!I49=\"Single\",\"Single\",IF('Simplified Loader'!I49=\"Family\",\"Family\",IF('Simplified Loader'!I49=\"Waive\",\"Family\",IF('Simplified Loader'!I49=\"Single Parent\",\"Family\",IF('Simplified Loader'!I49=\"Couple\",\"Family\",IF('Simplified Loader'!I49=\"In force\",\"Family\",IF('Simplified Loader'!I49=\"Applies\",\"Family\",IF('Simplified Loader'!I49=\"Applicable\",\"Family\",\"\"))))))))","v":""},{"$f":"IF('Simplified Loader'!AC49=\"English\",\"English\",IF('Simplified Loader'!AC49=\"French\",\"French\",IF('Simplified Loader'!AC49=\"E\",\"English\",IF('Simplified Loader'!AC49=\"F\",\"French\",\"\"))))","v":""},{"$f":"IF('Simplified Loader'!AB49=\"Yes\",\"Yes\",IF('Simplified Loader'!AB49=\"No\",\"No\",IF('Simplified Loader'!AB49=\"Y\",\"Yes\",IF('Simplified Loader'!AB49=\"N\",\"No\",\"\"))))","v":""},{"$f":"IF('Simplified Loader'!AD49>0,'Simplified Loader'!AD49,\"\")","v":""},{"$f":"IF('Simplified Loader'!M49>0,'Simplified Loader'!M49,\"\")","v":""},{"$f":"IF('Simplified Loader'!N49>0,'Simplified Loader'!N49,\"\")","v":""},{"$f":"IF('Simplified Loader'!O49>0,'Simplified Loader'!O49,\"\")","v":""},{"$f":"IF('Simplified Loader'!I49=\"Waive\",\"Yes\",\"\")","v":""},{"$f":"IF('Simplified Loader'!I49=\"Waive\",\"Yes\",\"\")","v":""},{"$f":"IF('Simplified Loader'!AE49>0,'Simplified Loader'!AE49,\"\")","v":""},{"$f":"IF('Simplified Loader'!AF49>0,'Simplified Loader'!AF49,\"\")","v":""},{"$f":"IF('Simplified Loader'!AG49>0,'Simplified Loader'!AG49,\"\")","v":""},{"$f":"IF('Simplified Loader'!AH49>0,'Simplified Loader'!AH49,\"\")","v":""},{"$f":"IF('Simplified Loader'!AI49>0,'Simplified Loader'!AI49,\"\")","v":" "},{"$f":"IF('Simplified Loader'!AJ49>0,'Simplified Loader'!AJ49,\"\")","v":" "},{"$f":"IF('Simplified Loader'!W49>0,'Simplified Loader'!W49&\" \",\"\")&IF('Simplified Loader'!V49>0,'Simplified Loader'!V49,\"\")","v":""},null,{"$f":"IF('Simplified Loader'!X49>0,'Simplified Loader'!X49,\"\")","v":""},{"$f":"IF('Simplified Loader'!Y49>0,'Simplified Loader'!Y49,\"\")","v":""},{"$f":"IF('Simplified Loader'!Z49>0,'Simplified Loader'!Z49,\"\")","v":""},{"$f":"IF('Simplified Loader'!AA49>0,'Simplified Loader'!AA49,\"\")","v":""},{"$f":"IF('Simplified Loader'!E49>0,'Simplified Loader'!E49,\"\")","v":""},{"$f":"IF('Simplified Loader'!AK49>0,'Simplified Loader'!AK49,\"\")","v":""},{"$f":"IF('Simplified Loader'!AL49>0,'Simplified Loader'!AL49,\"\")","v":""},{"$f":"IF('Simplified Loader'!AM49>0,'Simplified Loader'!AM49,\"\")","v":""},{"$f":"IF('Simplified Loader'!AN49=\"Male\",\"Male\",IF('Simplified Loader'!AN49=\"Female\",\"Female\",IF('Simplified Loader'!AN49=\"M\",\"Male\",IF('Simplified Loader'!AN49=\"F\",\"Female\",\"\"))))","v":""},{"$f":"IF('Simplified Loader'!AO49=\"Single\",\"Single\",IF('Simplified Loader'!AO49=\"Family\",\"Family\",IF('Simplified Loader'!AO49=\"S\",\"Single\",IF('Simplified Loader'!AO49=\"F\",\"Family\",\"\"))))","v":""},{"$f":"IF('Simplified Loader'!AP49=\"Single\",\"Single\",IF('Simplified Loader'!AP49=\"Family\",\"Family\",IF('Simplified Loader'!AP49=\"S\",\"Single\",IF('Simplified Loader'!AP49=\"F\",\"Family\",\"\"))))","v":""},{"$f":"IF('Simplified Loader'!AQ49>0,'Simplified Loader'!AQ49,\"\")","v":""},{"$f":"IF('Simplified Loader'!AR49=\"Yes\",\"Yes\",IF('Simplified Loader'!AR49=\"No\",\"No\",IF('Simplified Loader'!AR49=\"Y\",\"Yes\",IF('Simplified Loader'!AR49=\"N\",\"No\",\"\"))))","v":""},{"$f":"IF('Simplified Loader'!AS49>0,'Simplified Loader'!AS49,\"\")","v":""},{"$f":"IF('Simplified Loader'!AT49>0,'Simplified Loader'!AT49,\"\")","v":""},{"$f":"IF('Simplified Loader'!AU49>0,'Simplified Loader'!AU49,\"\")","v":""},{"$f":"IF('Simplified Loader'!AV49=\"Male\",\"Male\",IF('Simplified Loader'!AV49=\"Female\",\"Female\",IF('Simplified Loader'!AV49=\"M\",\"Male\",IF('Simplified Loader'!AV49=\"F\",\"Female\",\"\"))))","v":""},{"$f":"IF('Simplified Loader'!AW49=\"Yes\",\"Yes\",IF('Simplified Loader'!AW49=\"No\",\"No\",IF('Simplified Loader'!AW49=\"Y\",\"Yes\",IF('Simplified Loader'!AW49=\"N\",\"No\",\"\"))))","v":""},{"$f":"IF('Simplified Loader'!AX49=\"Yes\",\"Yes\",IF('Simplified Loader'!AX49=\"No\",\"No\",IF('Simplified Loader'!AX49=\"Y\",\"Yes\",IF('Simplified Loader'!AX49=\"N\",\"No\",\"\"))))","v":""},{"$f":"IF('Simplified Loader'!AY49>0,'Simplified Loader'!AY49,\"\")","v":""},{"$f":"IF('Simplified Loader'!AZ49>0,'Simplified Loader'!AZ49,\"\")","v":""},{"$f":"IF('Simplified Loader'!BA49>0,'Simplified Loader'!BA49,\"\")","v":""},{"$f":"IF('Simplified Loader'!BB49=\"Male\",\"Male\",IF('Simplified Loader'!BB49=\"Female\",\"Female\",IF('Simplified Loader'!BB49=\"M\",\"Male\",IF('Simplified Loader'!BB49=\"F\",\"Female\",\"\"))))","v":""},{"$f":"IF('Simplified Loader'!BC49=\"Yes\",\"Yes\",IF('Simplified Loader'!BC49=\"No\",\"No\",IF('Simplified Loader'!BC49=\"Y\",\"Yes\",IF('Simplified Loader'!BC49=\"N\",\"No\",\"\"))))","v":""},{"$f":"IF('Simplified Loader'!BD49=\"Yes\",\"Yes\",IF('Simplified Loader'!BD49=\"No\",\"No\",IF('Simplified Loader'!BD49=\"Y\",\"Yes\",IF('Simplified Loader'!BD49=\"N\",\"No\",\"\"))))","v":""},{"$f":"IF('Simplified Loader'!BE49>0,'Simplified Loader'!BE49,\"\")","v":""},{"$f":"IF('Simplified Loader'!BF49>0,'Simplified Loader'!BF49,\"\")","v":""},{"$f":"IF('Simplified Loader'!BG49>0,'Simplified Loader'!BG49,\"\")","v":""},{"$f":"IF('Simplified Loader'!BH49=\"Male\",\"Male\",IF('Simplified Loader'!BH49=\"Female\",\"Female\",IF('Simplified Loader'!BH49=\"M\",\"Male\",IF('Simplified Loader'!BH49=\"F\",\"Female\",\"\"))))","v":""},{"$f":"IF('Simplified Loader'!BI49=\"Yes\",\"Yes\",IF('Simplified Loader'!BI49=\"No\",\"No\",IF('Simplified Loader'!BI49=\"Y\",\"Yes\",IF('Simplified Loader'!BI49=\"N\",\"No\",\"\"))))","v":""},{"$f":"IF('Simplified Loader'!BJ49=\"Yes\",\"Yes\",IF('Simplified Loader'!BJ49=\"No\",\"No\",IF('Simplified Loader'!BJ49=\"Y\",\"Yes\",IF('Simplified Loader'!BJ49=\"N\",\"No\",\"\"))))","v":""},{"$f":"IF('Simplified Loader'!BK49>0,'Simplified Loader'!BK49,\"\")","v":""},{"$f":"IF('Simplified Loader'!BL49>0,'Simplified Loader'!BL49,\"\")","v":""},{"$f":"IF('Simplified Loader'!BM49>0,'Simplified Loader'!BM49,\"\")","v":""},{"$f":"IF('Simplified Loader'!BN49=\"Male\",\"Male\",IF('Simplified Loader'!BN49=\"Female\",\"Female\",IF('Simplified Loader'!BN49=\"M\",\"Male\",IF('Simplified Loader'!BN49=\"F\",\"Female\",\"\"))))","v":""},{"$f":"IF('Simplified Loader'!BO49=\"Yes\",\"Yes\",IF('Simplified Loader'!BO49=\"No\",\"No\",IF('Simplified Loader'!BO49=\"Y\",\"Yes\",IF('Simplified Loader'!BO49=\"N\",\"No\",\"\"))))","v":""},{"$f":"IF('Simplified Loader'!BP49=\"Yes\",\"Yes\",IF('Simplified Loader'!BP49=\"No\",\"No\",IF('Simplified Loader'!BP49=\"Y\",\"Yes\",IF('Simplified Loader'!BP49=\"N\",\"No\",\"\"))))","v":""},{"$f":"IF('Simplified Loader'!BQ49>0,'Simplified Loader'!BQ49,\"\")","v":""},{"$f":"IF('Simplified Loader'!BR49>0,'Simplified Loader'!BR49,\"\")","v":""},{"$f":"IF('Simplified Loader'!BS49>0,'Simplified Loader'!BS49,\"\")","v":""},{"$f":"IF('Simplified Loader'!BT49=\"Male\",\"Male\",IF('Simplified Loader'!BT49=\"Female\",\"Female\",IF('Simplified Loader'!BT49=\"M\",\"Male\",IF('Simplified Loader'!BT49=\"F\",\"Female\",\"\"))))","v":""},{"$f":"IF('Simplified Loader'!BU49=\"Yes\",\"Yes\",IF('Simplified Loader'!BU49=\"No\",\"No\",IF('Simplified Loader'!BU49=\"Y\",\"Yes\",IF('Simplified Loader'!BU49=\"N\",\"No\",\"\"))))","v":""},{"$f":"IF('Simplified Loader'!BV49=\"Yes\",\"Yes\",IF('Simplified Loader'!BV49=\"No\",\"No\",IF('Simplified Loader'!BV49=\"Y\",\"Yes\",IF('Simplified Loader'!BV49=\"N\",\"No\",\"\"))))","v":""},{"$f":"IF('Simplified Loader'!BW49>0,'Simplified Loader'!BW49,\"\")","v":""},{"$f":"IF('Simplified Loader'!BX49>0,'Simplified Loader'!BX49,\"\")","v":""},{"$f":"IF('Simplified Loader'!BY49>0,'Simplified Loader'!BY49,\"\")","v":""},{"$f":"IF('Simplified Loader'!BZ49=\"Male\",\"Male\",IF('Simplified Loader'!BZ49=\"Female\",\"Female\",IF('Simplified Loader'!BZ49=\"M\",\"Male\",IF('Simplified Loader'!BZ49=\"F\",\"Female\",\"\"))))","v":""},{"$f":"IF('Simplified Loader'!CA49=\"Yes\",\"Yes\",IF('Simplified Loader'!CA49=\"No\",\"No\",IF('Simplified Loader'!CA49=\"Y\",\"Yes\",IF('Simplified Loader'!CA49=\"N\",\"No\",\"\"))))","v":""},{"$f":"IF('Simplified Loader'!CB49=\"Yes\",\"Yes\",IF('Simplified Loader'!CB49=\"No\",\"No\",IF('Simplified Loader'!CB49=\"Y\",\"Yes\",IF('Simplified Loader'!CB49=\"N\",\"No\",\"\"))))","v":""},{"$f":"IF('Simplified Loader'!CH49>0,'Simplified Loader'!CH49,\"\")","v":"    "}]
[{"$f":"IF('Simplified Loader'!A50>0,'Simplified Loader'!A50,\"\")","v":""},{"$f":"IF('Simplified Loader'!B50>0,'Simplified Loader'!B50,\"\")","v":""},{"$f":"IF('Simplified Loader'!C50>0,'Simplified Loader'!C50,\"\")","v":""},{"$f":"IF('Simplified Loader'!D50>0,'Simplified Loader'!D50,\"\")","v":""},{"$f":"IF('Simplified Loader'!P50>0,TEXT('Simplified Loader'!P50,\"000\"),\"\")","v":""},{"$f":"IF('Simplified Loader'!Q50>0,'Simplified Loader'!Q50,\"\")","v":""},{"$f":"IF('Simplified Loader'!R50>0,'Simplified Loader'!R50,\"\")","v":""},{"$f":"IF('Simplified Loader'!F50>0,DATEVALUE(TEXT('Simplified Loader'!F50,\"yyyy-mm-dd\")),\"\")","v":""},{"$f":"IF('Simplified Loader'!L50>0,DATEVALUE(TEXT('Simplified Loader'!L50,\"yyyy-mm-dd\")),\"\")","v":""},{"$f":"IF('Simplified Loader'!Y50>0,'Simplified Loader'!Y50,\"\")","v":""},{"$f":"IF('Simplified Loader'!T50>0,'Simplified Loader'!T50,\"\")","v":""},{"$f":"IF('Simplified Loader'!G50=\"Male\",\"Male\",IF('Simplified Loader'!G50=\"Female\",\"Female\",IF('Simplified Loader'!G50=\"M\",\"Male\",IF('Simplified Loader'!G50=\"F\",\"Female\",\"\"))))","v":""},{"$f":"IF('Simplified Loader'!U50=\"Yes\",\"Yes\",IF('Simplified Loader'!U50=\"No\",\"No\",IF('Simplified Loader'!U50=\"Y\",\"Yes\",IF('Simplified Loader'!U50=\"N\",\"No\",\"\"))))","v":""},{"$f":"IF('Simplified Loader'!I50=\"Single\",\"Single\",IF('Simplified Loader'!I50=\"Family\",\"Family\",IF('Simplified Loader'!I50=\"Waive\",\"Family\",IF('Simplified Loader'!I50=\"Single Parent\",\"Family\",IF('Simplified Loader'!I50=\"Couple\",\"Family\",IF('Simplified Loader'!I50=\"In force\",\"Family\",IF('Simplified Loader'!I50=\"Applies\",\"Family\",IF('Simplified Loader'!I50=\"Applicable\",\"Family\",\"\"))))))))","v":""},{"$f":"IF('Simplified Loader'!AC50=\"English\",\"English\",IF('Simplified Loader'!AC50=\"French\",\"French\",IF('Simplified Loader'!AC50=\"E\",\"English\",IF('Simplified Loader'!AC50=\"F\",\"French\",\"\"))))","v":""},{"$f":"IF('Simplified Loader'!AB50=\"Yes\",\"Yes\",IF('Simplified Loader'!AB50=\"No\",\"No\",IF('Simplified Loader'!AB50=\"Y\",\"Yes\",IF('Simplified Loader'!AB50=\"N\",\"No\",\"\"))))","v":""},{"$f":"IF('Simplified Loader'!AD50>0,'Simplified Loader'!AD50,\"\")","v":""},{"$f":"IF('Simplified Loader'!M50>0,'Simplified Loader'!M50,\"\")","v":""},{"$f":"IF('Simplified Loader'!N50>0,'Simplified Loader'!N50,\"\")","v":""},{"$f":"IF('Simplified Loader'!O50>0,'Simplified Loader'!O50,\"\")","v":""},{"$f":"IF('Simplified Loader'!I50=\"Waive\",\"Yes\",\"\")","v":""},{"$f":"IF('Simplified Loader'!I50=\"Waive\",\"Yes\",\"\")","v":""},{"$f":"IF('Simplified Loader'!AE50>0,'Simplified Loader'!AE50,\"\")","v":""},{"$f":"IF('Simplified Loader'!AF50>0,'Simplified Loader'!AF50,\"\")","v":""},{"$f":"IF('Simplified Loader'!AG50>0,'Simplified Loader'!AG50,\"\")","v":""},{"$f":"IF('Simplified Loader'!AH50>0,'Simplified Loader'!AH50,\"\")","v":""},{"$f":"IF('Simplified Loader'!AI50>0,'Simplified Loader'!AI50,\"\")","v":" "},{"$f":"IF('Simplified Loader'!AJ50>0,'Simplified Loader'!AJ50,\"\")","v":" "},{"$f":"IF('Simplified Loader'!W50>0,'Simplified Loader'!W50&\" \",\"\")&IF('Simplified Loader'!V50>0,'Simplified Loader'!V50,\"\")","v":""},null,{"$f":"IF('Simplified Loader'!X50>0,'Simplified Loader'!X50,\"\")","v":""},{"$f":"IF('Simplified Loader'!Y50>0,'Simplified Loader'!Y50,\"\")","v":""},{"$f":"IF('Simplified Loader'!Z50>0,'Simplified Loader'!Z50,\"\")","v":""},{"$f":"IF('Simplified Loader'!AA50>0,'Simplified Loader'!AA50,\"\")","v":""},{"$f":"IF('Simplified Loader'!E50>0,'Simplified Loader'!E50,\"\")","v":""},{"$f":"IF('Simplified Loader'!AK50>0,'Simplified Loader'!AK50,\"\")","v":""},{"$f":"IF('Simplified Loader'!AL50>0,'Simplified Loader'!AL50,\"\")","v":""},{"$f":"IF('Simplified Loader'!AM50>0,'Simplified Loader'!AM50,\"\")","v":""},{"$f":"IF('Simplified Loader'!AN50=\"Male\",\"Male\",IF('Simplified Loader'!AN50=\"Female\",\"Female\",IF('Simplified Loader'!AN50=\"M\",\"Male\",IF('Simplified Loader'!AN50=\"F\",\"Female\",\"\"))))","v":""},{"$f":"IF('Simplified Loader'!AO50=\"Single\",\"Single\",IF('Simplified Loader'!AO50=\"Family\",\"Family\",IF('Simplified Loader'!AO50=\"S\",\"Single\",IF('Simplified Loader'!AO50=\"F\",\"Family\",\"\"))))","v":""},{"$f":"IF('Simplified Loader'!AP50=\"Single\",\"Single\",IF('Simplified Loader'!AP50=\"Family\",\"Family\",IF('Simplified Loader'!AP50=\"S\",\"Single\",IF('Simplified Loader'!AP50=\"F\",\"Family\",\"\"))))","v":""},{"$f":"IF('Simplified Loader'!AQ50>0,'Simplified Loader'!AQ50,\"\")","v":""},{"$f":"IF('Simplified Loader'!AR50=\"Yes\",\"Yes\",IF('Simplified Loader'!AR50=\"No\",\"No\",IF('Simplified Loader'!AR50=\"Y\",\"Yes\",IF('Simplified Loader'!AR50=\"N\",\"No\",\"\"))))","v":""},{"$f":"IF('Simplified Loader'!AS50>0,'Simplified Loader'!AS50,\"\")","v":""},{"$f":"IF('Simplified Loader'!AT50>0,'Simplified Loader'!AT50,\"\")","v":""},{"$f":"IF('Simplified Loader'!AU50>0,'Simplified Loader'!AU50,\"\")","v":""},{"$f":"IF('Simplified Loader'!AV50=\"Male\",\"Male\",IF('Simplified Loader'!AV50=\"Female\",\"Female\",IF('Simplified Loader'!AV50=\"M\",\"Male\",IF('Simplified Loader'!AV50=\"F\",\"Female\",\"\"))))","v":""},{"$f":"IF('Simplified Loader'!AW50=\"Yes\",\"Yes\",IF('Simplified Loader'!AW50=\"No\",\"No\",IF('Simplified Loader'!AW50=\"Y\",\"Yes\",IF('Simplified Loader'!AW50=\"N\",\"No\",\"\"))))","v":""},{"$f":"IF('Simplified Loader'!AX50=\"Yes\",\"Yes\",IF('Simplified Loader'!AX50=\"No\",\"No\",IF('Simplified Loader'!AX50=\"Y\",\"Yes\",IF('Simplified Loader'!AX50=\"N\",\"No\",\"\"))))","v":""},{"$f":"IF('Simplified Loader'!AY50>0,'Simplified Loader'!AY50,\"\")","v":""},{"$f":"IF('Simplified Loader'!AZ50>0,'Simplified Loader'!AZ50,\"\")","v":""},{"$f":"IF('Simplified Loader'!BA50>0,'Simplified Loader'!BA50,\"\")","v":""},{"$f":"IF('Simplified Loader'!BB50=\"Male\",\"Male\",IF('Simplified Loader'!BB50=\"Female\",\"Female\",IF('Simplified Loader'!BB50=\"M\",\"Male\",IF('Simplified Loader'!BB50=\"F\",\"Female\",\"\"))))","v":""},{"$f":"IF('Simplified Loader'!BC50=\"Yes\",\"Yes\",IF('Simplified Loader'!BC50=\"No\",\"No\",IF('Simplified Loader'!BC50=\"Y\",\"Yes\",IF('Simplified Loader'!BC50=\"N\",\"No\",\"\"))))","v":""},{"$f":"IF('Simplified Loader'!BD50=\"Yes\",\"Yes\",IF('Simplified Loader'!BD50=\"No\",\"No\",IF('Simplified Loader'!BD50=\"Y\",\"Yes\",IF('Simplified Loader'!BD50=\"N\",\"No\",\"\"))))","v":""},{"$f":"IF('Simplified Loader'!BE50>0,'Simplified Loader'!BE50,\"\")","v":""},{"$f":"IF('Simplified Loader'!BF50>0,'Simplified Loader'!BF50,\"\")","v":""},{"$f":"IF('Simplified Loader'!BG50>0,'Simplified Loader'!BG50,\"\")","v":""},{"$f":"IF('Simplified Loader'!BH50=\"Male\",\"Male\",IF('Simplified Loader'!BH50=\"Female\",\"Female\",IF('Simplified Loader'!BH50=\"M\",\"Male\",IF('Simplified Loader'!BH50=\"F\",\"Female\",\"\"))))","v":""},{"$f":"IF('Simplified Loader'!BI50=\"Yes\",\"Yes\",IF('Simplified Loader'!BI50=\"No\",\"No\",IF('Simplified Loader'!BI50=\"Y\",\"Yes\",IF('Simplified Loader'!BI50=\"N\",\"No\",\"\"))))","v":""},{"$f":"IF('Simplified Loader'!BJ50=\"Yes\",\"Yes\",IF('Simplified Loader'!BJ50=\"No\",\"No\",IF('Simplified Loader'!BJ50=\"Y\",\"Yes\",IF('Simplified Loader'!BJ50=\"N\",\"No\",\"\"))))","v":""},{"$f":"IF('Simplified Loader'!BK50>0,'Simplified Loader'!BK50,\"\")","v":""},{"$f":"IF('Simplified Loader'!BL50>0,'Simplified Loader'!BL50,\"\")","v":""},{"$f":"IF('Simplified Loader'!BM50>0,'Simplified Loader'!BM50,\"\")","v":""},{"$f":"IF('Simplified Loader'!BN50=\"Male\",\"Male\",IF('Simplified Loader'!BN50=\"Female\",\"Female\",IF('Simplified Loader'!BN50=\"M\",\"Male\",IF('Simplified Loader'!BN50=\"F\",\"Female\",\"\"))))","v":""},{"$f":"IF('Simplified Loader'!BO50=\"Yes\",\"Yes\",IF('Simplified Loader'!BO50=\"No\",\"No\",IF('Simplified Loader'!BO50=\"Y\",\"Yes\",IF('Simplified Loader'!BO50=\"N\",\"No\",\"\"))))","v":""},{"$f":"IF('Simplified Loader'!BP50=\"Yes\",\"Yes\",IF('Simplified Loader'!BP50=\"No\",\"No\",IF('Simplified Loader'!BP50=\"Y\",\"Yes\",IF('Simplified Loader'!BP50=\"N\",\"No\",\"\"))))","v":""},{"$f":"IF('Simplified Loader'!BQ50>0,'Simplified Loader'!BQ50,\"\")","v":""},{"$f":"IF('Simplified Loader'!BR50>0,'Simplified Loader'!BR50,\"\")","v":""},{"$f":"IF('Simplified Loader'!BS50>0,'Simplified Loader'!BS50,\"\")","v":""},{"$f":"IF('Simplified Loader'!BT50=\"Male\",\"Male\",IF('Simplified Loader'!BT50=\"Female\",\"Female\",IF('Simplified Loader'!BT50=\"M\",\"Male\",IF('Simplified Loader'!BT50=\"F\",\"Female\",\"\"))))","v":""},{"$f":"IF('Simplified Loader'!BU50=\"Yes\",\"Yes\",IF('Simplified Loader'!BU50=\"No\",\"No\",IF('Simplified Loader'!BU50=\"Y\",\"Yes\",IF('Simplified Loader'!BU50=\"N\",\"No\",\"\"))))","v":""},{"$f":"IF('Simplified Loader'!BV50=\"Yes\",\"Yes\",IF('Simplified Loader'!BV50=\"No\",\"No\",IF('Simplified Loader'!BV50=\"Y\",\"Yes\",IF('Simplified Loader'!BV50=\"N\",\"No\",\"\"))))","v":""},{"$f":"IF('Simplified Loader'!BW50>0,'Simplified Loader'!BW50,\"\")","v":""},{"$f":"IF('Simplified Loader'!BX50>0,'Simplified Loader'!BX50,\"\")","v":""},{"$f":"IF('Simplified Loader'!BY50>0,'Simplified Loader'!BY50,\"\")","v":""},{"$f":"IF('Simplified Loader'!BZ50=\"Male\",\"Male\",IF('Simplified Loader'!BZ50=\"Female\",\"Female\",IF('Simplified Loader'!BZ50=\"M\",\"Male\",IF('Simplified Loader'!BZ50=\"F\",\"Female\",\"\"))))","v":""},{"$f":"IF('Simplified Loader'!CA50=\"Yes\",\"Yes\",IF('Simplified Loader'!CA50=\"No\",\"No\",IF('Simplified Loader'!CA50=\"Y\",\"Yes\",IF('Simplified Loader'!CA50=\"N\",\"No\",\"\"))))","v":""},{"$f":"IF('Simplified Loader'!CB50=\"Yes\",\"Yes\",IF('Simplified Loader'!CB50=\"No\",\"No\",IF('Simplified Loader'!CB50=\"Y\",\"Yes\",IF('Simplified Loader'!CB50=\"N\",\"No\",\"\"))))","v":""},{"$f":"IF('Simplified Loader'!CH50>0,'Simplified Loader'!CH50,\"\")","v":"    "}]
[{"$f":"IF('Simplified Loader'!A51>0,'Simplified Loader'!A51,\"\")","v":""},{"$f":"IF('Simplified Loader'!B51>0,'Simplified Loader'!B51,\"\")","v":""},{"$f":"IF('Simplified Loader'!C51>0,'Simplified Loader'!C51,\"\")","v":""},{"$f":"IF('Simplified Loader'!D51>0,'Simplified Loader'!D51,\"\")","v":""},{"$f":"IF('Simplified Loader'!P51>0,TEXT('Simplified Loader'!P51,\"000\"),\"\")","v":""},{"$f":"IF('Simplified Loader'!Q51>0,'Simplified Loader'!Q51,\"\")","v":""},{"$f":"IF('Simplified Loader'!R51>0,'Simplified Loader'!R51,\"\")","v":""},{"$f":"IF('Simplified Loader'!F51>0,DATEVALUE(TEXT('Simplified Loader'!F51,\"yyyy-mm-dd\")),\"\")","v":""},{"$f":"IF('Simplified Loader'!L51>0,DATEVALUE(TEXT('Simplified Loader'!L51,\"yyyy-mm-dd\")),\"\")","v":""},{"$f":"IF('Simplified Loader'!Y51>0,'Simplified Loader'!Y51,\"\")","v":""},{"$f":"IF('Simplified Loader'!T51>0,'Simplified Loader'!T51,\"\")","v":""},{"$f":"IF('Simplified Loader'!G51=\"Male\",\"Male\",IF('Simplified Loader'!G51=\"Female\",\"Female\",IF('Simplified Loader'!G51=\"M\",\"Male\",IF('Simplified Loader'!G51=\"F\",\"Female\",\"\"))))","v":""},{"$f":"IF('Simplified Loader'!U51=\"Yes\",\"Yes\",IF('Simplified Loader'!U51=\"No\",\"No\",IF('Simplified Loader'!U51=\"Y\",\"Yes\",IF('Simplified Loader'!U51=\"N\",\"No\",\"\"))))","v":""},{"$f":"IF('Simplified Loader'!I51=\"Single\",\"Single\",IF('Simplified Loader'!I51=\"Family\",\"Family\",IF('Simplified Loader'!I51=\"Waive\",\"Family\",IF('Simplified Loader'!I51=\"Single Parent\",\"Family\",IF('Simplified Loader'!I51=\"Couple\",\"Family\",IF('Simplified Loader'!I51=\"In force\",\"Family\",IF('Simplified Loader'!I51=\"Applies\",\"Family\",IF('Simplified Loader'!I51=\"Applicable\",\"Family\",\"\"))))))))","v":""},{"$f":"IF('Simplified Loader'!AC51=\"English\",\"English\",IF('Simplified Loader'!AC51=\"French\",\"French\",IF('Simplified Loader'!AC51=\"E\",\"English\",IF('Simplified Loader'!AC51=\"F\",\"French\",\"\"))))","v":""},{"$f":"IF('Simplified Loader'!AB51=\"Yes\",\"Yes\",IF('Simplified Loader'!AB51=\"No\",\"No\",IF('Simplified Loader'!AB51=\"Y\",\"Yes\",IF('Simplified Loader'!AB51=\"N\",\"No\",\"\"))))","v":""},{"$f":"IF('Simplified Loader'!AD51>0,'Simplified Loader'!AD51,\"\")","v":""},{"$f":"IF('Simplified Loader'!M51>0,'Simplified Loader'!M51,\"\")","v":""},{"$f":"IF('Simplified Loader'!N51>0,'Simplified Loader'!N51,\"\")","v":""},{"$f":"IF('Simplified Loader'!O51>0,'Simplified Loader'!O51,\"\")","v":""},{"$f":"IF('Simplified Loader'!I51=\"Waive\",\"Yes\",\"\")","v":""},{"$f":"IF('Simplified Loader'!I51=\"Waive\",\"Yes\",\"\")","v":""},{"$f":"IF('Simplified Loader'!AE51>0,'Simplified Loader'!AE51,\"\")","v":""},{"$f":"IF('Simplified Loader'!AF51>0,'Simplified Loader'!AF51,\"\")","v":""},{"$f":"IF('Simplified Loader'!AG51>0,'Simplified Loader'!AG51,\"\")","v":""},{"$f":"IF('Simplified Loader'!AH51>0,'Simplified Loader'!AH51,\"\")","v":""},{"$f":"IF('Simplified Loader'!AI51>0,'Simplified Loader'!AI51,\"\")","v":" "},{"$f":"IF('Simplified Loader'!AJ51>0,'Simplified Loader'!AJ51,\"\")","v":" "},{"$f":"IF('Simplified Loader'!W51>0,'Simplified Loader'!W51&\" \",\"\")&IF('Simplified Loader'!V51>0,'Simplified Loader'!V51,\"\")","v":""},null,{"$f":"IF('Simplified Loader'!X51>0,'Simplified Loader'!X51,\"\")","v":""},{"$f":"IF('Simplified Loader'!Y51>0,'Simplified Loader'!Y51,\"\")","v":""},{"$f":"IF('Simplified Loader'!Z51>0,'Simplified Loader'!Z51,\"\")","v":""},{"$f":"IF('Simplified Loader'!AA51>0,'Simplified Loader'!AA51,\"\")","v":""},{"$f":"IF('Simplified Loader'!E51>0,'Simplified Loader'!E51,\"\")","v":""},{"$f":"IF('Simplified Loader'!AK51>0,'Simplified Loader'!AK51,\"\")","v":""},{"$f":"IF('Simplified Loader'!AL51>0,'Simplified Loader'!AL51,\"\")","v":""},{"$f":"IF('Simplified Loader'!AM51>0,'Simplified Loader'!AM51,\"\")","v":""},{"$f":"IF('Simplified Loader'!AN51=\"Male\",\"Male\",IF('Simplified Loader'!AN51=\"Female\",\"Female\",IF('Simplified Loader'!AN51=\"M\",\"Male\",IF('Simplified Loader'!AN51=\"F\",\"Female\",\"\"))))","v":""},{"$f":"IF('Simplified Loader'!AO51=\"Single\",\"Single\",IF('Simplified Loader'!AO51=\"Family\",\"Family\",IF('Simplified Loader'!AO51=\"S\",\"Single\",IF('Simplified Loader'!AO51=\"F\",\"Family\",\"\"))))","v":""},{"$f":"IF('Simplified Loader'!AP51=\"Single\",\"Single\",IF('Simplified Loader'!AP51=\"Family\",\"Family\",IF('Simplified Loader'!AP51=\"S\",\"Single\",IF('Simplified Loader'!AP51=\"F\",\"Family\",\"\"))))","v":""},{"$f":"IF('Simplified Loader'!AQ51>0,'Simplified Loader'!AQ51,\"\")","v":""},{"$f":"IF('Simplified Loader'!AR51=\"Yes\",\"Yes\",IF('Simplified Loader'!AR51=\"No\",\"No\",IF('Simplified Loader'!AR51=\"Y\",\"Yes\",IF('Simplified Loader'!AR51=\"N\",\"No\",\"\"))))","v":""},{"$f":"IF('Simplified Loader'!AS51>0,'Simplified Loader'!AS51,\"\")","v":""},{"$f":"IF('Simplified Loader'!AT51>0,'Simplified Loader'!AT51,\"\")","v":""},{"$f":"IF('Simplified Loader'!AU51>0,'Simplified Loader'!AU51,\"\")","v":""},{"$f":"IF('Simplified Loader'!AV51=\"Male\",\"Male\",IF('Simplified Loader'!AV51=\"Female\",\"Female\",IF('Simplified Loader'!AV51=\"M\",\"Male\",IF('Simplified Loader'!AV51=\"F\",\"Female\",\"\"))))","v":""},{"$f":"IF('Simplified Loader'!AW51=\"Yes\",\"Yes\",IF('Simplified Loader'!AW51=\"No\",\"No\",IF('Simplified Loader'!AW51=\"Y\",\"Yes\",IF('Simplified Loader'!AW51=\"N\",\"No\",\"\"))))","v":""},{"$f":"IF('Simplified Loader'!AX51=\"Yes\",\"Yes\",IF('Simplified Loader'!AX51=\"No\",\"No\",IF('Simplified Loader'!AX51=\"Y\",\"Yes\",IF('Simplified Loader'!AX51=\"N\",\"No\",\"\"))))","v":""},{"$f":"IF('Simplified Loader'!AY51>0,'Simplified Loader'!AY51,\"\")","v":""},{"$f":"IF('Simplified Loader'!AZ51>0,'Simplified Loader'!AZ51,\"\")","v":""},{"$f":"IF('Simplified Loader'!BA51>0,'Simplified Loader'!BA51,\"\")","v":""},{"$f":"IF('Simplified Loader'!BB51=\"Male\",\"Male\",IF('Simplified Loader'!BB51=\"Female\",\"Female\",IF('Simplified Loader'!BB51=\"M\",\"Male\",IF('Simplified Loader'!BB51=\"F\",\"Female\",\"\"))))","v":""},{"$f":"IF('Simplified Loader'!BC51=\"Yes\",\"Yes\",IF('Simplified Loader'!BC51=\"No\",\"No\",IF('Simplified Loader'!BC51=\"Y\",\"Yes\",IF('Simplified Loader'!BC51=\"N\",\"No\",\"\"))))","v":""},{"$f":"IF('Simplified Loader'!BD51=\"Yes\",\"Yes\",IF('Simplified Loader'!BD51=\"No\",\"No\",IF('Simplified Loader'!BD51=\"Y\",\"Yes\",IF('Simplified Loader'!BD51=\"N\",\"No\",\"\"))))","v":""},{"$f":"IF('Simplified Loader'!BE51>0,'Simplified Loader'!BE51,\"\")","v":""},{"$f":"IF('Simplified Loader'!BF51>0,'Simplified Loader'!BF51,\"\")","v":""},{"$f":"IF('Simplified Loader'!BG51>0,'Simplified Loader'!BG51,\"\")","v":""},{"$f":"IF('Simplified Loader'!BH51=\"Male\",\"Male\",IF('Simplified Loader'!BH51=\"Female\",\"Female\",IF('Simplified Loader'!BH51=\"M\",\"Male\",IF('Simplified Loader'!BH51=\"F\",\"Female\",\"\"))))","v":""},{"$f":"IF('Simplified Loader'!BI51=\"Yes\",\"Yes\",IF('Simplified Loader'!BI51=\"No\",\"No\",IF('Simplified Loader'!BI51=\"Y\",\"Yes\",IF('Simplified Loader'!BI51=\"N\",\"No\",\"\"))))","v":""},{"$f":"IF('Simplified Loader'!BJ51=\"Yes\",\"Yes\",IF('Simplified Loader'!BJ51=\"No\",\"No\",IF('Simplified Loader'!BJ51=\"Y\",\"Yes\",IF('Simplified Loader'!BJ51=\"N\",\"No\",\"\"))))","v":""},{"$f":"IF('Simplified Loader'!BK51>0,'Simplified Loader'!BK51,\"\")","v":""},{"$f":"IF('Simplified Loader'!BL51>0,'Simplified Loader'!BL51,\"\")","v":""},{"$f":"IF('Simplified Loader'!BM51>0,'Simplified Loader'!BM51,\"\")","v":""},{"$f":"IF('Simplified Loader'!BN51=\"Male\",\"Male\",IF('Simplified Loader'!BN51=\"Female\",\"Female\",IF('Simplified Loader'!BN51=\"M\",\"Male\",IF('Simplified Loader'!BN51=\"F\",\"Female\",\"\"))))","v":""},{"$f":"IF('Simplified Loader'!BO51=\"Yes\",\"Yes\",IF('Simplified Loader'!BO51=\"No\",\"No\",IF('Simplified Loader'!BO51=\"Y\",\"Yes\",IF('Simplified Loader'!BO51=\"N\",\"No\",\"\"))))","v":""},{"$f":"IF('Simplified Loader'!BP51=\"Yes\",\"Yes\",IF('Simplified Loader'!BP51=\"No\",\"No\",IF('Simplified Loader'!BP51=\"Y\",\"Yes\",IF('Simplified Loader'!BP51=\"N\",\"No\",\"\"))))","v":""},{"$f":"IF('Simplified Loader'!BQ51>0,'Simplified Loader'!BQ51,\"\")","v":""},{"$f":"IF('Simplified Loader'!BR51>0,'Simplified Loader'!BR51,\"\")","v":""},{"$f":"IF('Simplified Loader'!BS51>0,'Simplified Loader'!BS51,\"\")","v":""},{"$f":"IF('Simplified Loader'!BT51=\"Male\",\"Male\",IF('Simplified Loader'!BT51=\"Female\",\"Female\",IF('Simplified Loader'!BT51=\"M\",\"Male\",IF('Simplified Loader'!BT51=\"F\",\"Female\",\"\"))))","v":""},{"$f":"IF('Simplified Loader'!BU51=\"Yes\",\"Yes\",IF('Simplified Loader'!BU51=\"No\",\"No\",IF('Simplified Loader'!BU51=\"Y\",\"Yes\",IF('Simplified Loader'!BU51=\"N\",\"No\",\"\"))))","v":""},{"$f":"IF('Simplified Loader'!BV51=\"Yes\",\"Yes\",IF('Simplified Loader'!BV51=\"No\",\"No\",IF('Simplified Loader'!BV51=\"Y\",\"Yes\",IF('Simplified Loader'!BV51=\"N\",\"No\",\"\"))))","v":""},{"$f":"IF('Simplified Loader'!BW51>0,'Simplified Loader'!BW51,\"\")","v":""},{"$f":"IF('Simplified Loader'!BX51>0,'Simplified Loader'!BX51,\"\")","v":""},{"$f":"IF('Simplified Loader'!BY51>0,'Simplified Loader'!BY51,\"\")","v":""},{"$f":"IF('Simplified Loader'!BZ51=\"Male\",\"Male\",IF('Simplified Loader'!BZ51=\"Female\",\"Female\",IF('Simplified Loader'!BZ51=\"M\",\"Male\",IF('Simplified Loader'!BZ51=\"F\",\"Female\",\"\"))))","v":""},{"$f":"IF('Simplified Loader'!CA51=\"Yes\",\"Yes\",IF('Simplified Loader'!CA51=\"No\",\"No\",IF('Simplified Loader'!CA51=\"Y\",\"Yes\",IF('Simplified Loader'!CA51=\"N\",\"No\",\"\"))))","v":""},{"$f":"IF('Simplified Loader'!CB51=\"Yes\",\"Yes\",IF('Simplified Loader'!CB51=\"No\",\"No\",IF('Simplified Loader'!CB51=\"Y\",\"Yes\",IF('Simplified Loader'!CB51=\"N\",\"No\",\"\"))))","v":""},{"$f":"IF('Simplified Loader'!CH51>0,'Simplified Loader'!CH51,\"\")","v":"    "}]
[{"$f":"IF('Simplified Loader'!A52>0,'Simplified Loader'!A52,\"\")","v":""},{"$f":"IF('Simplified Loader'!B52>0,'Simplified Loader'!B52,\"\")","v":""},{"$f":"IF('Simplified Loader'!C52>0,'Simplified Loader'!C52,\"\")","v":""},{"$f":"IF('Simplified Loader'!D52>0,'Simplified Loader'!D52,\"\")","v":""},{"$f":"IF('Simplified Loader'!P52>0,TEXT('Simplified Loader'!P52,\"000\"),\"\")","v":""},{"$f":"IF('Simplified Loader'!Q52>0,'Simplified Loader'!Q52,\"\")","v":""},{"$f":"IF('Simplified Loader'!R52>0,'Simplified Loader'!R52,\"\")","v":""},{"$f":"IF('Simplified Loader'!F52>0,DATEVALUE(TEXT('Simplified Loader'!F52,\"yyyy-mm-dd\")),\"\")","v":""},{"$f":"IF('Simplified Loader'!L52>0,DATEVALUE(TEXT('Simplified Loader'!L52,\"yyyy-mm-dd\")),\"\")","v":""},{"$f":"IF('Simplified Loader'!Y52>0,'Simplified Loader'!Y52,\"\")","v":""},{"$f":"IF('Simplified Loader'!T52>0,'Simplified Loader'!T52,\"\")","v":""},{"$f":"IF('Simplified Loader'!G52=\"Male\",\"Male\",IF('Simplified Loader'!G52=\"Female\",\"Female\",IF('Simplified Loader'!G52=\"M\",\"Male\",IF('Simplified Loader'!G52=\"F\",\"Female\",\"\"))))","v":""},{"$f":"IF('Simplified Loader'!U52=\"Yes\",\"Yes\",IF('Simplified Loader'!U52=\"No\",\"No\",IF('Simplified Loader'!U52=\"Y\",\"Yes\",IF('Simplified Loader'!U52=\"N\",\"No\",\"\"))))","v":""},{"$f":"IF('Simplified Loader'!I52=\"Single\",\"Single\",IF('Simplified Loader'!I52=\"Family\",\"Family\",IF('Simplified Loader'!I52=\"Waive\",\"Family\",IF('Simplified Loader'!I52=\"Single Parent\",\"Family\",IF('Simplified Loader'!I52=\"Couple\",\"Family\",IF('Simplified Loader'!I52=\"In force\",\"Family\",IF('Simplified Loader'!I52=\"Applies\",\"Family\",IF('Simplified Loader'!I52=\"Applicable\",\"Family\",\"\"))))))))","v":""},{"$f":"IF('Simplified Loader'!AC52=\"English\",\"English\",IF('Simplified Loader'!AC52=\"French\",\"French\",IF('Simplified Loader'!AC52=\"E\",\"English\",IF('Simplified Loader'!AC52=\"F\",\"French\",\"\"))))","v":""},{"$f":"IF('Simplified Loader'!AB52=\"Yes\",\"Yes\",IF('Simplified Loader'!AB52=\"No\",\"No\",IF('Simplified Loader'!AB52=\"Y\",\"Yes\",IF('Simplified Loader'!AB52=\"N\",\"No\",\"\"))))","v":""},{"$f":"IF('Simplified Loader'!AD52>0,'Simplified Loader'!AD52,\"\")","v":""},{"$f":"IF('Simplified Loader'!M52>0,'Simplified Loader'!M52,\"\")","v":""},{"$f":"IF('Simplified Loader'!N52>0,'Simplified Loader'!N52,\"\")","v":""},{"$f":"IF('Simplified Loader'!O52>0,'Simplified Loader'!O52,\"\")","v":""},{"$f":"IF('Simplified Loader'!I52=\"Waive\",\"Yes\",\"\")","v":""},{"$f":"IF('Simplified Loader'!I52=\"Waive\",\"Yes\",\"\")","v":""},{"$f":"IF('Simplified Loader'!AE52>0,'Simplified Loader'!AE52,\"\")","v":""},{"$f":"IF('Simplified Loader'!AF52>0,'Simplified Loader'!AF52,\"\")","v":""},{"$f":"IF('Simplified Loader'!AG52>0,'Simplified Loader'!AG52,\"\")","v":""},{"$f":"IF('Simplified Loader'!AH52>0,'Simplified Loader'!AH52,\"\")","v":""},{"$f":"IF('Simplified Loader'!AI52>0,'Simplified Loader'!AI52,\"\")","v":" "},{"$f":"IF('Simplified Loader'!AJ52>0,'Simplified Loader'!AJ52,\"\")","v":" "},{"$f":"IF('Simplified Loader'!W52>0,'Simplified Loader'!W52&\" \",\"\")&IF('Simplified Loader'!V52>0,'Simplified Loader'!V52,\"\")","v":""},null,{"$f":"IF('Simplified Loader'!X52>0,'Simplified Loader'!X52,\"\")","v":""},{"$f":"IF('Simplified Loader'!Y52>0,'Simplified Loader'!Y52,\"\")","v":""},{"$f":"IF('Simplified Loader'!Z52>0,'Simplified Loader'!Z52,\"\")","v":""},{"$f":"IF('Simplified Loader'!AA52>0,'Simplified Loader'!AA52,\"\")","v":""},{"$f":"IF('Simplified Loader'!E52>0,'Simplified Loader'!E52,\"\")","v":""},{"$f":"IF('Simplified Loader'!AK52>0,'Simplified Loader'!AK52,\"\")","v":""},{"$f":"IF('Simplified Loader'!AL52>0,'Simplified Loader'!AL52,\"\")","v":""},{"$f":"IF('Simplified Loader'!AM52>0,'Simplified Loader'!AM52,\"\")","v":""},{"$f":"IF('Simplified Loader'!AN52=\"Male\",\"Male\",IF('Simplified Loader'!AN52=\"Female\",\"Female\",IF('Simplified Loader'!AN52=\"M\",\"Male\",IF('Simplified Loader'!AN52=\"F\",\"Female\",\"\"))))","v":""},{"$f":"IF('Simplified Loader'!AO52=\"Single\",\"Single\",IF('Simplified Loader'!AO52=\"Family\",\"Family\",IF('Simplified Loader'!AO52=\"S\",\"Single\",IF('Simplified Loader'!AO52=\"F\",\"Family\",\"\"))))","v":""},{"$f":"IF('Simplified Loader'!AP52=\"Single\",\"Single\",IF('Simplified Loader'!AP52=\"Family\",\"Family\",IF('Simplified Loader'!AP52=\"S\",\"Single\",IF('Simplified Loader'!AP52=\"F\",\"Family\",\"\"))))","v":""},{"$f":"IF('Simplified Loader'!AQ52>0,'Simplified Loader'!AQ52,\"\")","v":""},{"$f":"IF('Simplified Loader'!AR52=\"Yes\",\"Yes\",IF('Simplified Loader'!AR52=\"No\",\"No\",IF('Simplified Loader'!AR52=\"Y\",\"Yes\",IF('Simplified Loader'!AR52=\"N\",\"No\",\"\"))))","v":""},{"$f":"IF('Simplified Loader'!AS52>0,'Simplified Loader'!AS52,\"\")","v":""},{"$f":"IF('Simplified Loader'!AT52>0,'Simplified Loader'!AT52,\"\")","v":""},{"$f":"IF('Simplified Loader'!AU52>0,'Simplified Loader'!AU52,\"\")","v":""},{"$f":"IF('Simplified Loader'!AV52=\"Male\",\"Male\",IF('Simplified Loader'!AV52=\"Female\",\"Female\",IF('Simplified Loader'!AV52=\"M\",\"Male\",IF('Simplified Loader'!AV52=\"F\",\"Female\",\"\"))))","v":""},{"$f":"IF('Simplified Loader'!AW52=\"Yes\",\"Yes\",IF('Simplified Loader'!AW52=\"No\",\"No\",IF('Simplified Loader'!AW52=\"Y\",\"Yes\",IF('Simplified Loader'!AW52=\"N\",\"No\",\"\"))))","v":""},{"$f":"IF('Simplified Loader'!AX52=\"Yes\",\"Yes\",IF('Simplified Loader'!AX52=\"No\",\"No\",IF('Simplified Loader'!AX52=\"Y\",\"Yes\",IF('Simplified Loader'!AX52=\"N\",\"No\",\"\"))))","v":""},{"$f":"IF('Simplified Loader'!AY52>0,'Simplified Loader'!AY52,\"\")","v":""},{"$f":"IF('Simplified Loader'!AZ52>0,'Simplified Loader'!AZ52,\"\")","v":""},{"$f":"IF('Simplified Loader'!BA52>0,'Simplified Loader'!BA52,\"\")","v":""},{"$f":"IF('Simplified Loader'!BB52=\"Male\",\"Male\",IF('Simplified Loader'!BB52=\"Female\",\"Female\",IF('Simplified Loader'!BB52=\"M\",\"Male\",IF('Simplified Loader'!BB52=\"F\",\"Female\",\"\"))))","v":""},{"$f":"IF('Simplified Loader'!BC52=\"Yes\",\"Yes\",IF('Simplified Loader'!BC52=\"No\",\"No\",IF('Simplified Loader'!BC52=\"Y\",\"Yes\",IF('Simplified Loader'!BC52=\"N\",\"No\",\"\"))))","v":""},{"$f":"IF('Simplified Loader'!BD52=\"Yes\",\"Yes\",IF('Simplified Loader'!BD52=\"No\",\"No\",IF('Simplified Loader'!BD52=\"Y\",\"Yes\",IF('Simplified Loader'!BD52=\"N\",\"No\",\"\"))))","v":""},{"$f":"IF('Simplified Loader'!BE52>0,'Simplified Loader'!BE52,\"\")","v":""},{"$f":"IF('Simplified Loader'!BF52>0,'Simplified Loader'!BF52,\"\")","v":""},{"$f":"IF('Simplified Loader'!BG52>0,'Simplified Loader'!BG52,\"\")","v":""},{"$f":"IF('Simplified Loader'!BH52=\"Male\",\"Male\",IF('Simplified Loader'!BH52=\"Female\",\"Female\",IF('Simplified Loader'!BH52=\"M\",\"Male\",IF('Simplified Loader'!BH52=\"F\",\"Female\",\"\"))))","v":""},{"$f":"IF('Simplified Loader'!BI52=\"Yes\",\"Yes\",IF('Simplified Loader'!BI52=\"No\",\"No\",IF('Simplified Loader'!BI52=\"Y\",\"Yes\",IF('Simplified Loader'!BI52=\"N\",\"No\",\"\"))))","v":""},{"$f":"IF('Simplified Loader'!BJ52=\"Yes\",\"Yes\",IF('Simplified Loader'!BJ52=\"No\",\"No\",IF('Simplified Loader'!BJ52=\"Y\",\"Yes\",IF('Simplified Loader'!BJ52=\"N\",\"No\",\"\"))))","v":""},{"$f":"IF('Simplified Loader'!BK52>0,'Simplified Loader'!BK52,\"\")","v":""},{"$f":"IF('Simplified Loader'!BL52>0,'Simplified Loader'!BL52,\"\")","v":""},{"$f":"IF('Simplified Loader'!BM52>0,'Simplified Loader'!BM52,\"\")","v":""},{"$f":"IF('Simplified Loader'!BN52=\"Male\",\"Male\",IF('Simplified Loader'!BN52=\"Female\",\"Female\",IF('Simplified Loader'!BN52=\"M\",\"Male\",IF('Simplified Loader'!BN52=\"F\",\"Female\",\"\"))))","v":""},{"$f":"IF('Simplified Loader'!BO52=\"Yes\",\"Yes\",IF('Simplified Loader'!BO52=\"No\",\"No\",IF('Simplified Loader'!BO52=\"Y\",\"Yes\",IF('Simplified Loader'!BO52=\"N\",\"No\",\"\"))))","v":""},{"$f":"IF('Simplified Loader'!BP52=\"Yes\",\"Yes\",IF('Simplified Loader'!BP52=\"No\",\"No\",IF('Simplified Loader'!BP52=\"Y\",\"Yes\",IF('Simplified Loader'!BP52=\"N\",\"No\",\"\"))))","v":""},{"$f":"IF('Simplified Loader'!BQ52>0,'Simplified Loader'!BQ52,\"\")","v":""},{"$f":"IF('Simplified Loader'!BR52>0,'Simplified Loader'!BR52,\"\")","v":""},{"$f":"IF('Simplified Loader'!BS52>0,'Simplified Loader'!BS52,\"\")","v":""},{"$f":"IF('Simplified Loader'!BT52=\"Male\",\"Male\",IF('Simplified Loader'!BT52=\"Female\",\"Female\",IF('Simplified Loader'!BT52=\"M\",\"Male\",IF('Simplified Loader'!BT52=\"F\",\"Female\",\"\"))))","v":""},{"$f":"IF('Simplified Loader'!BU52=\"Yes\",\"Yes\",IF('Simplified Loader'!BU52=\"No\",\"No\",IF('Simplified Loader'!BU52=\"Y\",\"Yes\",IF('Simplified Loader'!BU52=\"N\",\"No\",\"\"))))","v":""},{"$f":"IF('Simplified Loader'!BV52=\"Yes\",\"Yes\",IF('Simplified Loader'!BV52=\"No\",\"No\",IF('Simplified Loader'!BV52=\"Y\",\"Yes\",IF('Simplified Loader'!BV52=\"N\",\"No\",\"\"))))","v":""},{"$f":"IF('Simplified Loader'!BW52>0,'Simplified Loader'!BW52,\"\")","v":""},{"$f":"IF('Simplified Loader'!BX52>0,'Simplified Loader'!BX52,\"\")","v":""},{"$f":"IF('Simplified Loader'!BY52>0,'Simplified Loader'!BY52,\"\")","v":""},{"$f":"IF('Simplified Loader'!BZ52=\"Male\",\"Male\",IF('Simplified Loader'!BZ52=\"Female\",\"Female\",IF('Simplified Loader'!BZ52=\"M\",\"Male\",IF('Simplified Loader'!BZ52=\"F\",\"Female\",\"\"))))","v":""},{"$f":"IF('Simplified Loader'!CA52=\"Yes\",\"Yes\",IF('Simplified Loader'!CA52=\"No\",\"No\",IF('Simplified Loader'!CA52=\"Y\",\"Yes\",IF('Simplified Loader'!CA52=\"N\",\"No\",\"\"))))","v":""},{"$f":"IF('Simplified Loader'!CB52=\"Yes\",\"Yes\",IF('Simplified Loader'!CB52=\"No\",\"No\",IF('Simplified Loader'!CB52=\"Y\",\"Yes\",IF('Simplified Loader'!CB52=\"N\",\"No\",\"\"))))","v":""},{"$f":"IF('Simplified Loader'!CH52>0,'Simplified Loader'!CH52,\"\")","v":"    "}]
[{"$f":"IF('Simplified Loader'!A53>0,'Simplified Loader'!A53,\"\")","v":""},{"$f":"IF('Simplified Loader'!B53>0,'Simplified Loader'!B53,\"\")","v":""},{"$f":"IF('Simplified Loader'!C53>0,'Simplified Loader'!C53,\"\")","v":""},{"$f":"IF('Simplified Loader'!D53>0,'Simplified Loader'!D53,\"\")","v":""},{"$f":"IF('Simplified Loader'!P53>0,TEXT('Simplified Loader'!P53,\"000\"),\"\")","v":""},{"$f":"IF('Simplified Loader'!Q53>0,'Simplified Loader'!Q53,\"\")","v":""},{"$f":"IF('Simplified Loader'!R53>0,'Simplified Loader'!R53,\"\")","v":""},{"$f":"IF('Simplified Loader'!F53>0,DATEVALUE(TEXT('Simplified Loader'!F53,\"yyyy-mm-dd\")),\"\")","v":""},{"$f":"IF('Simplified Loader'!L53>0,DATEVALUE(TEXT('Simplified Loader'!L53,\"yyyy-mm-dd\")),\"\")","v":""},{"$f":"IF('Simplified Loader'!Y53>0,'Simplified Loader'!Y53,\"\")","v":""},{"$f":"IF('Simplified Loader'!T53>0,'Simplified Loader'!T53,\"\")","v":""},{"$f":"IF('Simplified Loader'!G53=\"Male\",\"Male\",IF('Simplified Loader'!G53=\"Female\",\"Female\",IF('Simplified Loader'!G53=\"M\",\"Male\",IF('Simplified Loader'!G53=\"F\",\"Female\",\"\"))))","v":""},{"$f":"IF('Simplified Loader'!U53=\"Yes\",\"Yes\",IF('Simplified Loader'!U53=\"No\",\"No\",IF('Simplified Loader'!U53=\"Y\",\"Yes\",IF('Simplified Loader'!U53=\"N\",\"No\",\"\"))))","v":""},{"$f":"IF('Simplified Loader'!I53=\"Single\",\"Single\",IF('Simplified Loader'!I53=\"Family\",\"Family\",IF('Simplified Loader'!I53=\"Waive\",\"Family\",IF('Simplified Loader'!I53=\"Single Parent\",\"Family\",IF('Simplified Loader'!I53=\"Couple\",\"Family\",IF('Simplified Loader'!I53=\"In force\",\"Family\",IF('Simplified Loader'!I53=\"Applies\",\"Family\",IF('Simplified Loader'!I53=\"Applicable\",\"Family\",\"\"))))))))","v":""},{"$f":"IF('Simplified Loader'!AC53=\"English\",\"English\",IF('Simplified Loader'!AC53=\"French\",\"French\",IF('Simplified Loader'!AC53=\"E\",\"English\",IF('Simplified Loader'!AC53=\"F\",\"French\",\"\"))))","v":""},{"$f":"IF('Simplified Loader'!AB53=\"Yes\",\"Yes\",IF('Simplified Loader'!AB53=\"No\",\"No\",IF('Simplified Loader'!AB53=\"Y\",\"Yes\",IF('Simplified Loader'!AB53=\"N\",\"No\",\"\"))))","v":""},{"$f":"IF('Simplified Loader'!AD53>0,'Simplified Loader'!AD53,\"\")","v":""},{"$f":"IF('Simplified Loader'!M53>0,'Simplified Loader'!M53,\"\")","v":""},{"$f":"IF('Simplified Loader'!N53>0,'Simplified Loader'!N53,\"\")","v":""},{"$f":"IF('Simplified Loader'!O53>0,'Simplified Loader'!O53,\"\")","v":""},{"$f":"IF('Simplified Loader'!I53=\"Waive\",\"Yes\",\"\")","v":""},{"$f":"IF('Simplified Loader'!I53=\"Waive\",\"Yes\",\"\")","v":""},{"$f":"IF('Simplified Loader'!AE53>0,'Simplified Loader'!AE53,\"\")","v":""},{"$f":"IF('Simplified Loader'!AF53>0,'Simplified Loader'!AF53,\"\")","v":""},{"$f":"IF('Simplified Loader'!AG53>0,'Simplified Loader'!AG53,\"\")","v":""},{"$f":"IF('Simplified Loader'!AH53>0,'Simplified Loader'!AH53,\"\")","v":""},{"$f":"IF('Simplified Loader'!AI53>0,'Simplified Loader'!AI53,\"\")","v":" "},{"$f":"IF('Simplified Loader'!AJ53>0,'Simplified Loader'!AJ53,\"\")","v":" "},{"$f":"IF('Simplified Loader'!W53>0,'Simplified Loader'!W53&\" \",\"\")&IF('Simplified Loader'!V53>0,'Simplified Loader'!V53,\"\")","v":""},null,{"$f":"IF('Simplified Loader'!X53>0,'Simplified Loader'!X53,\"\")","v":""},{"$f":"IF('Simplified Loader'!Y53>0,'Simplified Loader'!Y53,\"\")","v":""},{"$f":"IF('Simplified Loader'!Z53>0,'Simplified Loader'!Z53,\"\")","v":""},{"$f":"IF('Simplified Loader'!AA53>0,'Simplified Loader'!AA53,\"\")","v":""},{"$f":"IF('Simplified Loader'!E53>0,'Simplified Loader'!E53,\"\")","v":""},{"$f":"IF('Simplified Loader'!AK53>0,'Simplified Loader'!AK53,\"\")","v":""},{"$f":"IF('Simplified Loader'!AL53>0,'Simplified Loader'!AL53,\"\")","v":""},{"$f":"IF('Simplified Loader'!AM53>0,'Simplified Loader'!AM53,\"\")","v":""},{"$f":"IF('Simplified Loader'!AN53=\"Male\",\"Male\",IF('Simplified Loader'!AN53=\"Female\",\"Female\",IF('Simplified Loader'!AN53=\"M\",\"Male\",IF('Simplified Loader'!AN53=\"F\",\"Female\",\"\"))))","v":""},{"$f":"IF('Simplified Loader'!AO53=\"Single\",\"Single\",IF('Simplified Loader'!AO53=\"Family\",\"Family\",IF('Simplified Loader'!AO53=\"S\",\"Single\",IF('Simplified Loader'!AO53=\"F\",\"Family\",\"\"))))","v":""},{"$f":"IF('Simplified Loader'!AP53=\"Single\",\"Single\",IF('Simplified Loader'!AP53=\"Family\",\"Family\",IF('Simplified Loader'!AP53=\"S\",\"Single\",IF('Simplified Loader'!AP53=\"F\",\"Family\",\"\"))))","v":""},{"$f":"IF('Simplified Loader'!AQ53>0,'Simplified Loader'!AQ53,\"\")","v":""},{"$f":"IF('Simplified Loader'!AR53=\"Yes\",\"Yes\",IF('Simplified Loader'!AR53=\"No\",\"No\",IF('Simplified Loader'!AR53=\"Y\",\"Yes\",IF('Simplified Loader'!AR53=\"N\",\"No\",\"\"))))","v":""},{"$f":"IF('Simplified Loader'!AS53>0,'Simplified Loader'!AS53,\"\")","v":""},{"$f":"IF('Simplified Loader'!AT53>0,'Simplified Loader'!AT53,\"\")","v":""},{"$f":"IF('Simplified Loader'!AU53>0,'Simplified Loader'!AU53,\"\")","v":""},{"$f":"IF('Simplified Loader'!AV53=\"Male\",\"Male\",IF('Simplified Loader'!AV53=\"Female\",\"Female\",IF('Simplified Loader'!AV53=\"M\",\"Male\",IF('Simplified Loader'!AV53=\"F\",\"Female\",\"\"))))","v":""},{"$f":"IF('Simplified Loader'!AW53=\"Yes\",\"Yes\",IF('Simplified Loader'!AW53=\"No\",\"No\",IF('Simplified Loader'!AW53=\"Y\",\"Yes\",IF('Simplified Loader'!AW53=\"N\",\"No\",\"\"))))","v":""},{"$f":"IF('Simplified Loader'!AX53=\"Yes\",\"Yes\",IF('Simplified Loader'!AX53=\"No\",\"No\",IF('Simplified Loader'!AX53=\"Y\",\"Yes\",IF('Simplified Loader'!AX53=\"N\",\"No\",\"\"))))","v":""},{"$f":"IF('Simplified Loader'!AY53>0,'Simplified Loader'!AY53,\"\")","v":""},{"$f":"IF('Simplified Loader'!AZ53>0,'Simplified Loader'!AZ53,\"\")","v":""},{"$f":"IF('Simplified Loader'!BA53>0,'Simplified Loader'!BA53,\"\")","v":""},{"$f":"IF('Simplified Loader'!BB53=\"Male\",\"Male\",IF('Simplified Loader'!BB53=\"Female\",\"Female\",IF('Simplified Loader'!BB53=\"M\",\"Male\",IF('Simplified Loader'!BB53=\"F\",\"Female\",\"\"))))","v":""},{"$f":"IF('Simplified Loader'!BC53=\"Yes\",\"Yes\",IF('Simplified Loader'!BC53=\"No\",\"No\",IF('Simplified Loader'!BC53=\"Y\",\"Yes\",IF('Simplified Loader'!BC53=\"N\",\"No\",\"\"))))","v":""},{"$f":"IF('Simplified Loader'!BD53=\"Yes\",\"Yes\",IF('Simplified Loader'!BD53=\"No\",\"No\",IF('Simplified Loader'!BD53=\"Y\",\"Yes\",IF('Simplified Loader'!BD53=\"N\",\"No\",\"\"))))","v":""},{"$f":"IF('Simplified Loader'!BE53>0,'Simplified Loader'!BE53,\"\")","v":""},{"$f":"IF('Simplified Loader'!BF53>0,'Simplified Loader'!BF53,\"\")","v":""},{"$f":"IF('Simplified Loader'!BG53>0,'Simplified Loader'!BG53,\"\")","v":""},{"$f":"IF('Simplified Loader'!BH53=\"Male\",\"Male\",IF('Simplified Loader'!BH53=\"Female\",\"Female\",IF('Simplified Loader'!BH53=\"M\",\"Male\",IF('Simplified Loader'!BH53=\"F\",\"Female\",\"\"))))","v":""},{"$f":"IF('Simplified Loader'!BI53=\"Yes\",\"Yes\",IF('Simplified Loader'!BI53=\"No\",\"No\",IF('Simplified Loader'!BI53=\"Y\",\"Yes\",IF('Simplified Loader'!BI53=\"N\",\"No\",\"\"))))","v":""},{"$f":"IF('Simplified Loader'!BJ53=\"Yes\",\"Yes\",IF('Simplified Loader'!BJ53=\"No\",\"No\",IF('Simplified Loader'!BJ53=\"Y\",\"Yes\",IF('Simplified Loader'!BJ53=\"N\",\"No\",\"\"))))","v":""},{"$f":"IF('Simplified Loader'!BK53>0,'Simplified Loader'!BK53,\"\")","v":""},{"$f":"IF('Simplified Loader'!BL53>0,'Simplified Loader'!BL53,\"\")","v":""},{"$f":"IF('Simplified Loader'!BM53>0,'Simplified Loader'!BM53,\"\")","v":""},{"$f":"IF('Simplified Loader'!BN53=\"Male\",\"Male\",IF('Simplified Loader'!BN53=\"Female\",\"Female\",IF('Simplified Loader'!BN53=\"M\",\"Male\",IF('Simplified Loader'!BN53=\"F\",\"Female\",\"\"))))","v":""},{"$f":"IF('Simplified Loader'!BO53=\"Yes\",\"Yes\",IF('Simplified Loader'!BO53=\"No\",\"No\",IF('Simplified Loader'!BO53=\"Y\",\"Yes\",IF('Simplified Loader'!BO53=\"N\",\"No\",\"\"))))","v":""},{"$f":"IF('Simplified Loader'!BP53=\"Yes\",\"Yes\",IF('Simplified Loader'!BP53=\"No\",\"No\",IF('Simplified Loader'!BP53=\"Y\",\"Yes\",IF('Simplified Loader'!BP53=\"N\",\"No\",\"\"))))","v":""},{"$f":"IF('Simplified Loader'!BQ53>0,'Simplified Loader'!BQ53,\"\")","v":""},{"$f":"IF('Simplified Loader'!BR53>0,'Simplified Loader'!BR53,\"\")","v":""},{"$f":"IF('Simplified Loader'!BS53>0,'Simplified Loader'!BS53,\"\")","v":""},{"$f":"IF('Simplified Loader'!BT53=\"Male\",\"Male\",IF('Simplified Loader'!BT53=\"Female\",\"Female\",IF('Simplified Loader'!BT53=\"M\",\"Male\",IF('Simplified Loader'!BT53=\"F\",\"Female\",\"\"))))","v":""},{"$f":"IF('Simplified Loader'!BU53=\"Yes\",\"Yes\",IF('Simplified Loader'!BU53=\"No\",\"No\",IF('Simplified Loader'!BU53=\"Y\",\"Yes\",IF('Simplified Loader'!BU53=\"N\",\"No\",\"\"))))","v":""},{"$f":"IF('Simplified Loader'!BV53=\"Yes\",\"Yes\",IF('Simplified Loader'!BV53=\"No\",\"No\",IF('Simplified Loader'!BV53=\"Y\",\"Yes\",IF('Simplified Loader'!BV53=\"N\",\"No\",\"\"))))","v":""},{"$f":"IF('Simplified Loader'!BW53>0,'Simplified Loader'!BW53,\"\")","v":""},{"$f":"IF('Simplified Loader'!BX53>0,'Simplified Loader'!BX53,\"\")","v":""},{"$f":"IF('Simplified Loader'!BY53>0,'Simplified Loader'!BY53,\"\")","v":""},{"$f":"IF('Simplified Loader'!BZ53=\"Male\",\"Male\",IF('Simplified Loader'!BZ53=\"Female\",\"Female\",IF('Simplified Loader'!BZ53=\"M\",\"Male\",IF('Simplified Loader'!BZ53=\"F\",\"Female\",\"\"))))","v":""},{"$f":"IF('Simplified Loader'!CA53=\"Yes\",\"Yes\",IF('Simplified Loader'!CA53=\"No\",\"No\",IF('Simplified Loader'!CA53=\"Y\",\"Yes\",IF('Simplified Loader'!CA53=\"N\",\"No\",\"\"))))","v":""},{"$f":"IF('Simplified Loader'!CB53=\"Yes\",\"Yes\",IF('Simplified Loader'!CB53=\"No\",\"No\",IF('Simplified Loader'!CB53=\"Y\",\"Yes\",IF('Simplified Loader'!CB53=\"N\",\"No\",\"\"))))","v":""},{"$f":"IF('Simplified Loader'!CH53>0,'Simplified Loader'!CH53,\"\")","v":"    "}]
[{"$f":"IF('Simplified Loader'!A54>0,'Simplified Loader'!A54,\"\")","v":""},{"$f":"IF('Simplified Loader'!B54>0,'Simplified Loader'!B54,\"\")","v":""},{"$f":"IF('Simplified Loader'!C54>0,'Simplified Loader'!C54,\"\")","v":""},{"$f":"IF('Simplified Loader'!D54>0,'Simplified Loader'!D54,\"\")","v":""},{"$f":"IF('Simplified Loader'!P54>0,TEXT('Simplified Loader'!P54,\"000\"),\"\")","v":""},{"$f":"IF('Simplified Loader'!Q54>0,'Simplified Loader'!Q54,\"\")","v":""},{"$f":"IF('Simplified Loader'!R54>0,'Simplified Loader'!R54,\"\")","v":""},{"$f":"IF('Simplified Loader'!F54>0,DATEVALUE(TEXT('Simplified Loader'!F54,\"yyyy-mm-dd\")),\"\")","v":""},{"$f":"IF('Simplified Loader'!L54>0,DATEVALUE(TEXT('Simplified Loader'!L54,\"yyyy-mm-dd\")),\"\")","v":""},{"$f":"IF('Simplified Loader'!Y54>0,'Simplified Loader'!Y54,\"\")","v":""},{"$f":"IF('Simplified Loader'!T54>0,'Simplified Loader'!T54,\"\")","v":""},{"$f":"IF('Simplified Loader'!G54=\"Male\",\"Male\",IF('Simplified Loader'!G54=\"Female\",\"Female\",IF('Simplified Loader'!G54=\"M\",\"Male\",IF('Simplified Loader'!G54=\"F\",\"Female\",\"\"))))","v":""},{"$f":"IF('Simplified Loader'!U54=\"Yes\",\"Yes\",IF('Simplified Loader'!U54=\"No\",\"No\",IF('Simplified Loader'!U54=\"Y\",\"Yes\",IF('Simplified Loader'!U54=\"N\",\"No\",\"\"))))","v":""},{"$f":"IF('Simplified Loader'!I54=\"Single\",\"Single\",IF('Simplified Loader'!I54=\"Family\",\"Family\",IF('Simplified Loader'!I54=\"Waive\",\"Family\",IF('Simplified Loader'!I54=\"Single Parent\",\"Family\",IF('Simplified Loader'!I54=\"Couple\",\"Family\",IF('Simplified Loader'!I54=\"In force\",\"Family\",IF('Simplified Loader'!I54=\"Applies\",\"Family\",IF('Simplified Loader'!I54=\"Applicable\",\"Family\",\"\"))))))))","v":""},{"$f":"IF('Simplified Loader'!AC54=\"English\",\"English\",IF('Simplified Loader'!AC54=\"French\",\"French\",IF('Simplified Loader'!AC54=\"E\",\"English\",IF('Simplified Loader'!AC54=\"F\",\"French\",\"\"))))","v":""},{"$f":"IF('Simplified Loader'!AB54=\"Yes\",\"Yes\",IF('Simplified Loader'!AB54=\"No\",\"No\",IF('Simplified Loader'!AB54=\"Y\",\"Yes\",IF('Simplified Loader'!AB54=\"N\",\"No\",\"\"))))","v":""},{"$f":"IF('Simplified Loader'!AD54>0,'Simplified Loader'!AD54,\"\")","v":""},{"$f":"IF('Simplified Loader'!M54>0,'Simplified Loader'!M54,\"\")","v":""},{"$f":"IF('Simplified Loader'!N54>0,'Simplified Loader'!N54,\"\")","v":""},{"$f":"IF('Simplified Loader'!O54>0,'Simplified Loader'!O54,\"\")","v":""},{"$f":"IF('Simplified Loader'!I54=\"Waive\",\"Yes\",\"\")","v":""},{"$f":"IF('Simplified Loader'!I54=\"Waive\",\"Yes\",\"\")","v":""},{"$f":"IF('Simplified Loader'!AE54>0,'Simplified Loader'!AE54,\"\")","v":""},{"$f":"IF('Simplified Loader'!AF54>0,'Simplified Loader'!AF54,\"\")","v":""},{"$f":"IF('Simplified Loader'!AG54>0,'Simplified Loader'!AG54,\"\")","v":""},{"$f":"IF('Simplified Loader'!AH54>0,'Simplified Loader'!AH54,\"\")","v":""},{"$f":"IF('Simplified Loader'!AI54>0,'Simplified Loader'!AI54,\"\")","v":" "},{"$f":"IF('Simplified Loader'!AJ54>0,'Simplified Loader'!AJ54,\"\")","v":" "},{"$f":"IF('Simplified Loader'!W54>0,'Simplified Loader'!W54&\" \",\"\")&IF('Simplified Loader'!V54>0,'Simplified Loader'!V54,\"\")","v":""},null,{"$f":"IF('Simplified Loader'!X54>0,'Simplified Loader'!X54,\"\")","v":""},{"$f":"IF('Simplified Loader'!Y54>0,'Simplified Loader'!Y54,\"\")","v":""},{"$f":"IF('Simplified Loader'!Z54>0,'Simplified Loader'!Z54,\"\")","v":""},{"$f":"IF('Simplified Loader'!AA54>0,'Simplified Loader'!AA54,\"\")","v":""},{"$f":"IF('Simplified Loader'!E54>0,'Simplified Loader'!E54,\"\")","v":""},{"$f":"IF('Simplified Loader'!AK54>0,'Simplified Loader'!AK54,\"\")","v":""},{"$f":"IF('Simplified Loader'!AL54>0,'Simplified Loader'!AL54,\"\")","v":""},{"$f":"IF('Simplified Loader'!AM54>0,'Simplified Loader'!AM54,\"\")","v":""},{"$f":"IF('Simplified Loader'!AN54=\"Male\",\"Male\",IF('Simplified Loader'!AN54=\"Female\",\"Female\",IF('Simplified Loader'!AN54=\"M\",\"Male\",IF('Simplified Loader'!AN54=\"F\",\"Female\",\"\"))))","v":""},{"$f":"IF('Simplified Loader'!AO54=\"Single\",\"Single\",IF('Simplified Loader'!AO54=\"Family\",\"Family\",IF('Simplified Loader'!AO54=\"S\",\"Single\",IF('Simplified Loader'!AO54=\"F\",\"Family\",\"\"))))","v":""},{"$f":"IF('Simplified Loader'!AP54=\"Single\",\"Single\",IF('Simplified Loader'!AP54=\"Family\",\"Family\",IF('Simplified Loader'!AP54=\"S\",\"Single\",IF('Simplified Loader'!AP54=\"F\",\"Family\",\"\"))))","v":""},{"$f":"IF('Simplified Loader'!AQ54>0,'Simplified Loader'!AQ54,\"\")","v":""},{"$f":"IF('Simplified Loader'!AR54=\"Yes\",\"Yes\",IF('Simplified Loader'!AR54=\"No\",\"No\",IF('Simplified Loader'!AR54=\"Y\",\"Yes\",IF('Simplified Loader'!AR54=\"N\",\"No\",\"\"))))","v":""},{"$f":"IF('Simplified Loader'!AS54>0,'Simplified Loader'!AS54,\"\")","v":""},{"$f":"IF('Simplified Loader'!AT54>0,'Simplified Loader'!AT54,\"\")","v":""},{"$f":"IF('Simplified Loader'!AU54>0,'Simplified Loader'!AU54,\"\")","v":""},{"$f":"IF('Simplified Loader'!AV54=\"Male\",\"Male\",IF('Simplified Loader'!AV54=\"Female\",\"Female\",IF('Simplified Loader'!AV54=\"M\",\"Male\",IF('Simplified Loader'!AV54=\"F\",\"Female\",\"\"))))","v":""},{"$f":"IF('Simplified Loader'!AW54=\"Yes\",\"Yes\",IF('Simplified Loader'!AW54=\"No\",\"No\",IF('Simplified Loader'!AW54=\"Y\",\"Yes\",IF('Simplified Loader'!AW54=\"N\",\"No\",\"\"))))","v":""},{"$f":"IF('Simplified Loader'!AX54=\"Yes\",\"Yes\",IF('Simplified Loader'!AX54=\"No\",\"No\",IF('Simplified Loader'!AX54=\"Y\",\"Yes\",IF('Simplified Loader'!AX54=\"N\",\"No\",\"\"))))","v":""},{"$f":"IF('Simplified Loader'!AY54>0,'Simplified Loader'!AY54,\"\")","v":""},{"$f":"IF('Simplified Loader'!AZ54>0,'Simplified Loader'!AZ54,\"\")","v":""},{"$f":"IF('Simplified Loader'!BA54>0,'Simplified Loader'!BA54,\"\")","v":""},{"$f":"IF('Simplified Loader'!BB54=\"Male\",\"Male\",IF('Simplified Loader'!BB54=\"Female\",\"Female\",IF('Simplified Loader'!BB54=\"M\",\"Male\",IF('Simplified Loader'!BB54=\"F\",\"Female\",\"\"))))","v":""},{"$f":"IF('Simplified Loader'!BC54=\"Yes\",\"Yes\",IF('Simplified Loader'!BC54=\"No\",\"No\",IF('Simplified Loader'!BC54=\"Y\",\"Yes\",IF('Simplified Loader'!BC54=\"N\",\"No\",\"\"))))","v":""},{"$f":"IF('Simplified Loader'!BD54=\"Yes\",\"Yes\",IF('Simplified Loader'!BD54=\"No\",\"No\",IF('Simplified Loader'!BD54=\"Y\",\"Yes\",IF('Simplified Loader'!BD54=\"N\",\"No\",\"\"))))","v":""},{"$f":"IF('Simplified Loader'!BE54>0,'Simplified Loader'!BE54,\"\")","v":""},{"$f":"IF('Simplified Loader'!BF54>0,'Simplified Loader'!BF54,\"\")","v":""},{"$f":"IF('Simplified Loader'!BG54>0,'Simplified Loader'!BG54,\"\")","v":""},{"$f":"IF('Simplified Loader'!BH54=\"Male\",\"Male\",IF('Simplified Loader'!BH54=\"Female\",\"Female\",IF('Simplified Loader'!BH54=\"M\",\"Male\",IF('Simplified Loader'!BH54=\"F\",\"Female\",\"\"))))","v":""},{"$f":"IF('Simplified Loader'!BI54=\"Yes\",\"Yes\",IF('Simplified Loader'!BI54=\"No\",\"No\",IF('Simplified Loader'!BI54=\"Y\",\"Yes\",IF('Simplified Loader'!BI54=\"N\",\"No\",\"\"))))","v":""},{"$f":"IF('Simplified Loader'!BJ54=\"Yes\",\"Yes\",IF('Simplified Loader'!BJ54=\"No\",\"No\",IF('Simplified Loader'!BJ54=\"Y\",\"Yes\",IF('Simplified Loader'!BJ54=\"N\",\"No\",\"\"))))","v":""},{"$f":"IF('Simplified Loader'!BK54>0,'Simplified Loader'!BK54,\"\")","v":""},{"$f":"IF('Simplified Loader'!BL54>0,'Simplified Loader'!BL54,\"\")","v":""},{"$f":"IF('Simplified Loader'!BM54>0,'Simplified Loader'!BM54,\"\")","v":""},{"$f":"IF('Simplified Loader'!BN54=\"Male\",\"Male\",IF('Simplified Loader'!BN54=\"Female\",\"Female\",IF('Simplified Loader'!BN54=\"M\",\"Male\",IF('Simplified Loader'!BN54=\"F\",\"Female\",\"\"))))","v":""},{"$f":"IF('Simplified Loader'!BO54=\"Yes\",\"Yes\",IF('Simplified Loader'!BO54=\"No\",\"No\",IF('Simplified Loader'!BO54=\"Y\",\"Yes\",IF('Simplified Loader'!BO54=\"N\",\"No\",\"\"))))","v":""},{"$f":"IF('Simplified Loader'!BP54=\"Yes\",\"Yes\",IF('Simplified Loader'!BP54=\"No\",\"No\",IF('Simplified Loader'!BP54=\"Y\",\"Yes\",IF('Simplified Loader'!BP54=\"N\",\"No\",\"\"))))","v":""},{"$f":"IF('Simplified Loader'!BQ54>0,'Simplified Loader'!BQ54,\"\")","v":""},{"$f":"IF('Simplified Loader'!BR54>0,'Simplified Loader'!BR54,\"\")","v":""},{"$f":"IF('Simplified Loader'!BS54>0,'Simplified Loader'!BS54,\"\")","v":""},{"$f":"IF('Simplified Loader'!BT54=\"Male\",\"Male\",IF('Simplified Loader'!BT54=\"Female\",\"Female\",IF('Simplified Loader'!BT54=\"M\",\"Male\",IF('Simplified Loader'!BT54=\"F\",\"Female\",\"\"))))","v":""},{"$f":"IF('Simplified Loader'!BU54=\"Yes\",\"Yes\",IF('Simplified Loader'!BU54=\"No\",\"No\",IF('Simplified Loader'!BU54=\"Y\",\"Yes\",IF('Simplified Loader'!BU54=\"N\",\"No\",\"\"))))","v":""},{"$f":"IF('Simplified Loader'!BV54=\"Yes\",\"Yes\",IF('Simplified Loader'!BV54=\"No\",\"No\",IF('Simplified Loader'!BV54=\"Y\",\"Yes\",IF('Simplified Loader'!BV54=\"N\",\"No\",\"\"))))","v":""},{"$f":"IF('Simplified Loader'!BW54>0,'Simplified Loader'!BW54,\"\")","v":""},{"$f":"IF('Simplified Loader'!BX54>0,'Simplified Loader'!BX54,\"\")","v":""},{"$f":"IF('Simplified Loader'!BY54>0,'Simplified Loader'!BY54,\"\")","v":""},{"$f":"IF('Simplified Loader'!BZ54=\"Male\",\"Male\",IF('Simplified Loader'!BZ54=\"Female\",\"Female\",IF('Simplified Loader'!BZ54=\"M\",\"Male\",IF('Simplified Loader'!BZ54=\"F\",\"Female\",\"\"))))","v":""},{"$f":"IF('Simplified Loader'!CA54=\"Yes\",\"Yes\",IF('Simplified Loader'!CA54=\"No\",\"No\",IF('Simplified Loader'!CA54=\"Y\",\"Yes\",IF('Simplified Loader'!CA54=\"N\",\"No\",\"\"))))","v":""},{"$f":"IF('Simplified Loader'!CB54=\"Yes\",\"Yes\",IF('Simplified Loader'!CB54=\"No\",\"No\",IF('Simplified Loader'!CB54=\"Y\",\"Yes\",IF('Simplified Loader'!CB54=\"N\",\"No\",\"\"))))","v":""},{"$f":"IF('Simplified Loader'!CH54>0,'Simplified Loader'!CH54,\"\")","v":"    "}]
[{"$f":"IF('Simplified Loader'!A55>0,'Simplified Loader'!A55,\"\")","v":""},{"$f":"IF('Simplified Loader'!B55>0,'Simplified Loader'!B55,\"\")","v":""},{"$f":"IF('Simplified Loader'!C55>0,'Simplified Loader'!C55,\"\")","v":""},{"$f":"IF('Simplified Loader'!D55>0,'Simplified Loader'!D55,\"\")","v":""},{"$f":"IF('Simplified Loader'!P55>0,TEXT('Simplified Loader'!P55,\"000\"),\"\")","v":""},{"$f":"IF('Simplified Loader'!Q55>0,'Simplified Loader'!Q55,\"\")","v":""},{"$f":"IF('Simplified Loader'!R55>0,'Simplified Loader'!R55,\"\")","v":""},{"$f":"IF('Simplified Loader'!F55>0,DATEVALUE(TEXT('Simplified Loader'!F55,\"yyyy-mm-dd\")),\"\")","v":""},{"$f":"IF('Simplified Loader'!L55>0,DATEVALUE(TEXT('Simplified Loader'!L55,\"yyyy-mm-dd\")),\"\")","v":""},{"$f":"IF('Simplified Loader'!Y55>0,'Simplified Loader'!Y55,\"\")","v":""},{"$f":"IF('Simplified Loader'!T55>0,'Simplified Loader'!T55,\"\")","v":""},{"$f":"IF('Simplified Loader'!G55=\"Male\",\"Male\",IF('Simplified Loader'!G55=\"Female\",\"Female\",IF('Simplified Loader'!G55=\"M\",\"Male\",IF('Simplified Loader'!G55=\"F\",\"Female\",\"\"))))","v":""},{"$f":"IF('Simplified Loader'!U55=\"Yes\",\"Yes\",IF('Simplified Loader'!U55=\"No\",\"No\",IF('Simplified Loader'!U55=\"Y\",\"Yes\",IF('Simplified Loader'!U55=\"N\",\"No\",\"\"))))","v":""},{"$f":"IF('Simplified Loader'!I55=\"Single\",\"Single\",IF('Simplified Loader'!I55=\"Family\",\"Family\",IF('Simplified Loader'!I55=\"Waive\",\"Family\",IF('Simplified Loader'!I55=\"Single Parent\",\"Family\",IF('Simplified Loader'!I55=\"Couple\",\"Family\",IF('Simplified Loader'!I55=\"In force\",\"Family\",IF('Simplified Loader'!I55=\"Applies\",\"Family\",IF('Simplified Loader'!I55=\"Applicable\",\"Family\",\"\"))))))))","v":""},{"$f":"IF('Simplified Loader'!AC55=\"English\",\"English\",IF('Simplified Loader'!AC55=\"French\",\"French\",IF('Simplified Loader'!AC55=\"E\",\"English\",IF('Simplified Loader'!AC55=\"F\",\"French\",\"\"))))","v":""},{"$f":"IF('Simplified Loader'!AB55=\"Yes\",\"Yes\",IF('Simplified Loader'!AB55=\"No\",\"No\",IF('Simplified Loader'!AB55=\"Y\",\"Yes\",IF('Simplified Loader'!AB55=\"N\",\"No\",\"\"))))","v":""},{"$f":"IF('Simplified Loader'!AD55>0,'Simplified Loader'!AD55,\"\")","v":""},{"$f":"IF('Simplified Loader'!M55>0,'Simplified Loader'!M55,\"\")","v":""},{"$f":"IF('Simplified Loader'!N55>0,'Simplified Loader'!N55,\"\")","v":""},{"$f":"IF('Simplified Loader'!O55>0,'Simplified Loader'!O55,\"\")","v":""},{"$f":"IF('Simplified Loader'!I55=\"Waive\",\"Yes\",\"\")","v":""},{"$f":"IF('Simplified Loader'!I55=\"Waive\",\"Yes\",\"\")","v":""},{"$f":"IF('Simplified Loader'!AE55>0,'Simplified Loader'!AE55,\"\")","v":""},{"$f":"IF('Simplified Loader'!AF55>0,'Simplified Loader'!AF55,\"\")","v":""},{"$f":"IF('Simplified Loader'!AG55>0,'Simplified Loader'!AG55,\"\")","v":""},{"$f":"IF('Simplified Loader'!AH55>0,'Simplified Loader'!AH55,\"\")","v":""},{"$f":"IF('Simplified Loader'!AI55>0,'Simplified Loader'!AI55,\"\")","v":" "},{"$f":"IF('Simplified Loader'!AJ55>0,'Simplified Loader'!AJ55,\"\")","v":" "},{"$f":"IF('Simplified Loader'!W55>0,'Simplified Loader'!W55&\" \",\"\")&IF('Simplified Loader'!V55>0,'Simplified Loader'!V55,\"\")","v":""},null,{"$f":"IF('Simplified Loader'!X55>0,'Simplified Loader'!X55,\"\")","v":""},{"$f":"IF('Simplified Loader'!Y55>0,'Simplified Loader'!Y55,\"\")","v":""},{"$f":"IF('Simplified Loader'!Z55>0,'Simplified Loader'!Z55,\"\")","v":""},{"$f":"IF('Simplified Loader'!AA55>0,'Simplified Loader'!AA55,\"\")","v":""},{"$f":"IF('Simplified Loader'!E55>0,'Simplified Loader'!E55,\"\")","v":""},{"$f":"IF('Simplified Loader'!AK55>0,'Simplified Loader'!AK55,\"\")","v":""},{"$f":"IF('Simplified Loader'!AL55>0,'Simplified Loader'!AL55,\"\")","v":""},{"$f":"IF('Simplified Loader'!AM55>0,'Simplified Loader'!AM55,\"\")","v":""},{"$f":"IF('Simplified Loader'!AN55=\"Male\",\"Male\",IF('Simplified Loader'!AN55=\"Female\",\"Female\",IF('Simplified Loader'!AN55=\"M\",\"Male\",IF('Simplified Loader'!AN55=\"F\",\"Female\",\"\"))))","v":""},{"$f":"IF('Simplified Loader'!AO55=\"Single\",\"Single\",IF('Simplified Loader'!AO55=\"Family\",\"Family\",IF('Simplified Loader'!AO55=\"S\",\"Single\",IF('Simplified Loader'!AO55=\"F\",\"Family\",\"\"))))","v":""},{"$f":"IF('Simplified Loader'!AP55=\"Single\",\"Single\",IF('Simplified Loader'!AP55=\"Family\",\"Family\",IF('Simplified Loader'!AP55=\"S\",\"Single\",IF('Simplified Loader'!AP55=\"F\",\"Family\",\"\"))))","v":""},{"$f":"IF('Simplified Loader'!AQ55>0,'Simplified Loader'!AQ55,\"\")","v":""},{"$f":"IF('Simplified Loader'!AR55=\"Yes\",\"Yes\",IF('Simplified Loader'!AR55=\"No\",\"No\",IF('Simplified Loader'!AR55=\"Y\",\"Yes\",IF('Simplified Loader'!AR55=\"N\",\"No\",\"\"))))","v":""},{"$f":"IF('Simplified Loader'!AS55>0,'Simplified Loader'!AS55,\"\")","v":""},{"$f":"IF('Simplified Loader'!AT55>0,'Simplified Loader'!AT55,\"\")","v":""},{"$f":"IF('Simplified Loader'!AU55>0,'Simplified Loader'!AU55,\"\")","v":""},{"$f":"IF('Simplified Loader'!AV55=\"Male\",\"Male\",IF('Simplified Loader'!AV55=\"Female\",\"Female\",IF('Simplified Loader'!AV55=\"M\",\"Male\",IF('Simplified Loader'!AV55=\"F\",\"Female\",\"\"))))","v":""},{"$f":"IF('Simplified Loader'!AW55=\"Yes\",\"Yes\",IF('Simplified Loader'!AW55=\"No\",\"No\",IF('Simplified Loader'!AW55=\"Y\",\"Yes\",IF('Simplified Loader'!AW55=\"N\",\"No\",\"\"))))","v":""},{"$f":"IF('Simplified Loader'!AX55=\"Yes\",\"Yes\",IF('Simplified Loader'!AX55=\"No\",\"No\",IF('Simplified Loader'!AX55=\"Y\",\"Yes\",IF('Simplified Loader'!AX55=\"N\",\"No\",\"\"))))","v":""},{"$f":"IF('Simplified Loader'!AY55>0,'Simplified Loader'!AY55,\"\")","v":""},{"$f":"IF('Simplified Loader'!AZ55>0,'Simplified Loader'!AZ55,\"\")","v":""},{"$f":"IF('Simplified Loader'!BA55>0,'Simplified Loader'!BA55,\"\")","v":""},{"$f":"IF('Simplified Loader'!BB55=\"Male\",\"Male\",IF('Simplified Loader'!BB55=\"Female\",\"Female\",IF('Simplified Loader'!BB55=\"M\",\"Male\",IF('Simplified Loader'!BB55=\"F\",\"Female\",\"\"))))","v":""},{"$f":"IF('Simplified Loader'!BC55=\"Yes\",\"Yes\",IF('Simplified Loader'!BC55=\"No\",\"No\",IF('Simplified Loader'!BC55=\"Y\",\"Yes\",IF('Simplified Loader'!BC55=\"N\",\"No\",\"\"))))","v":""},{"$f":"IF('Simplified Loader'!BD55=\"Yes\",\"Yes\",IF('Simplified Loader'!BD55=\"No\",\"No\",IF('Simplified Loader'!BD55=\"Y\",\"Yes\",IF('Simplified Loader'!BD55=\"N\",\"No\",\"\"))))","v":""},{"$f":"IF('Simplified Loader'!BE55>0,'Simplified Loader'!BE55,\"\")","v":""},{"$f":"IF('Simplified Loader'!BF55>0,'Simplified Loader'!BF55,\"\")","v":""},{"$f":"IF('Simplified Loader'!BG55>0,'Simplified Loader'!BG55,\"\")","v":""},{"$f":"IF('Simplified Loader'!BH55=\"Male\",\"Male\",IF('Simplified Loader'!BH55=\"Female\",\"Female\",IF('Simplified Loader'!BH55=\"M\",\"Male\",IF('Simplified Loader'!BH55=\"F\",\"Female\",\"\"))))","v":""},{"$f":"IF('Simplified Loader'!BI55=\"Yes\",\"Yes\",IF('Simplified Loader'!BI55=\"No\",\"No\",IF('Simplified Loader'!BI55=\"Y\",\"Yes\",IF('Simplified Loader'!BI55=\"N\",\"No\",\"\"))))","v":""},{"$f":"IF('Simplified Loader'!BJ55=\"Yes\",\"Yes\",IF('Simplified Loader'!BJ55=\"No\",\"No\",IF('Simplified Loader'!BJ55=\"Y\",\"Yes\",IF('Simplified Loader'!BJ55=\"N\",\"No\",\"\"))))","v":""},{"$f":"IF('Simplified Loader'!BK55>0,'Simplified Loader'!BK55,\"\")","v":""},{"$f":"IF('Simplified Loader'!BL55>0,'Simplified Loader'!BL55,\"\")","v":""},{"$f":"IF('Simplified Loader'!BM55>0,'Simplified Loader'!BM55,\"\")","v":""},{"$f":"IF('Simplified Loader'!BN55=\"Male\",\"Male\",IF('Simplified Loader'!BN55=\"Female\",\"Female\",IF('Simplified Loader'!BN55=\"M\",\"Male\",IF('Simplified Loader'!BN55=\"F\",\"Female\",\"\"))))","v":""},{"$f":"IF('Simplified Loader'!BO55=\"Yes\",\"Yes\",IF('Simplified Loader'!BO55=\"No\",\"No\",IF('Simplified Loader'!BO55=\"Y\",\"Yes\",IF('Simplified Loader'!BO55=\"N\",\"No\",\"\"))))","v":""},{"$f":"IF('Simplified Loader'!BP55=\"Yes\",\"Yes\",IF('Simplified Loader'!BP55=\"No\",\"No\",IF('Simplified Loader'!BP55=\"Y\",\"Yes\",IF('Simplified Loader'!BP55=\"N\",\"No\",\"\"))))","v":""},{"$f":"IF('Simplified Loader'!BQ55>0,'Simplified Loader'!BQ55,\"\")","v":""},{"$f":"IF('Simplified Loader'!BR55>0,'Simplified Loader'!BR55,\"\")","v":""},{"$f":"IF('Simplified Loader'!BS55>0,'Simplified Loader'!BS55,\"\")","v":""},{"$f":"IF('Simplified Loader'!BT55=\"Male\",\"Male\",IF('Simplified Loader'!BT55=\"Female\",\"Female\",IF('Simplified Loader'!BT55=\"M\",\"Male\",IF('Simplified Loader'!BT55=\"F\",\"Female\",\"\"))))","v":""},{"$f":"IF('Simplified Loader'!BU55=\"Yes\",\"Yes\",IF('Simplified Loader'!BU55=\"No\",\"No\",IF('Simplified Loader'!BU55=\"Y\",\"Yes\",IF('Simplified Loader'!BU55=\"N\",\"No\",\"\"))))","v":""},{"$f":"IF('Simplified Loader'!BV55=\"Yes\",\"Yes\",IF('Simplified Loader'!BV55=\"No\",\"No\",IF('Simplified Loader'!BV55=\"Y\",\"Yes\",IF('Simplified Loader'!BV55=\"N\",\"No\",\"\"))))","v":""},{"$f":"IF('Simplified Loader'!BW55>0,'Simplified Loader'!BW55,\"\")","v":""},{"$f":"IF('Simplified Loader'!BX55>0,'Simplified Loader'!BX55,\"\")","v":""},{"$f":"IF('Simplified Loader'!BY55>0,'Simplified Loader'!BY55,\"\")","v":""},{"$f":"IF('Simplified Loader'!BZ55=\"Male\",\"Male\",IF('Simplified Loader'!BZ55=\"Female\",\"Female\",IF('Simplified Loader'!BZ55=\"M\",\"Male\",IF('Simplified Loader'!BZ55=\"F\",\"Female\",\"\"))))","v":""},{"$f":"IF('Simplified Loader'!CA55=\"Yes\",\"Yes\",IF('Simplified Loader'!CA55=\"No\",\"No\",IF('Simplified Loader'!CA55=\"Y\",\"Yes\",IF('Simplified Loader'!CA55=\"N\",\"No\",\"\"))))","v":""},{"$f":"IF('Simplified Loader'!CB55=\"Yes\",\"Yes\",IF('Simplified Loader'!CB55=\"No\",\"No\",IF('Simplified Loader'!CB55=\"Y\",\"Yes\",IF('Simplified Loader'!CB55=\"N\",\"No\",\"\"))))","v":""},{"$f":"IF('Simplified Loader'!CH55>0,'Simplified Loader'!CH55,\"\")","v":"    "}]
[{"$f":"IF('Simplified Loader'!A56>0,'Simplified Loader'!A56,\"\")","v":""},{"$f":"IF('Simplified Loader'!B56>0,'Simplified Loader'!B56,\"\")","v":""},{"$f":"IF('Simplified Loader'!C56>0,'Simplified Loader'!C56,\"\")","v":""},{"$f":"IF('Simplified Loader'!D56>0,'Simplified Loader'!D56,\"\")","v":""},{"$f":"IF('Simplified Loader'!P56>0,TEXT('Simplified Loader'!P56,\"000\"),\"\")","v":""},{"$f":"IF('Simplified Loader'!Q56>0,'Simplified Loader'!Q56,\"\")","v":""},{"$f":"IF('Simplified Loader'!R56>0,'Simplified Loader'!R56,\"\")","v":""},{"$f":"IF('Simplified Loader'!F56>0,DATEVALUE(TEXT('Simplified Loader'!F56,\"yyyy-mm-dd\")),\"\")","v":""},{"$f":"IF('Simplified Loader'!L56>0,DATEVALUE(TEXT('Simplified Loader'!L56,\"yyyy-mm-dd\")),\"\")","v":""},{"$f":"IF('Simplified Loader'!Y56>0,'Simplified Loader'!Y56,\"\")","v":""},{"$f":"IF('Simplified Loader'!T56>0,'Simplified Loader'!T56,\"\")","v":""},{"$f":"IF('Simplified Loader'!G56=\"Male\",\"Male\",IF('Simplified Loader'!G56=\"Female\",\"Female\",IF('Simplified Loader'!G56=\"M\",\"Male\",IF('Simplified Loader'!G56=\"F\",\"Female\",\"\"))))","v":""},{"$f":"IF('Simplified Loader'!U56=\"Yes\",\"Yes\",IF('Simplified Loader'!U56=\"No\",\"No\",IF('Simplified Loader'!U56=\"Y\",\"Yes\",IF('Simplified Loader'!U56=\"N\",\"No\",\"\"))))","v":""},{"$f":"IF('Simplified Loader'!I56=\"Single\",\"Single\",IF('Simplified Loader'!I56=\"Family\",\"Family\",IF('Simplified Loader'!I56=\"Waive\",\"Family\",IF('Simplified Loader'!I56=\"Single Parent\",\"Family\",IF('Simplified Loader'!I56=\"Couple\",\"Family\",IF('Simplified Loader'!I56=\"In force\",\"Family\",IF('Simplified Loader'!I56=\"Applies\",\"Family\",IF('Simplified Loader'!I56=\"Applicable\",\"Family\",\"\"))))))))","v":""},{"$f":"IF('Simplified Loader'!AC56=\"English\",\"English\",IF('Simplified Loader'!AC56=\"French\",\"French\",IF('Simplified Loader'!AC56=\"E\",\"English\",IF('Simplified Loader'!AC56=\"F\",\"French\",\"\"))))","v":""},{"$f":"IF('Simplified Loader'!AB56=\"Yes\",\"Yes\",IF('Simplified Loader'!AB56=\"No\",\"No\",IF('Simplified Loader'!AB56=\"Y\",\"Yes\",IF('Simplified Loader'!AB56=\"N\",\"No\",\"\"))))","v":""},{"$f":"IF('Simplified Loader'!AD56>0,'Simplified Loader'!AD56,\"\")","v":""},{"$f":"IF('Simplified Loader'!M56>0,'Simplified Loader'!M56,\"\")","v":""},{"$f":"IF('Simplified Loader'!N56>0,'Simplified Loader'!N56,\"\")","v":""},{"$f":"IF('Simplified Loader'!O56>0,'Simplified Loader'!O56,\"\")","v":""},{"$f":"IF('Simplified Loader'!I56=\"Waive\",\"Yes\",\"\")","v":""},{"$f":"IF('Simplified Loader'!I56=\"Waive\",\"Yes\",\"\")","v":""},{"$f":"IF('Simplified Loader'!AE56>0,'Simplified Loader'!AE56,\"\")","v":""},{"$f":"IF('Simplified Loader'!AF56>0,'Simplified Loader'!AF56,\"\")","v":""},{"$f":"IF('Simplified Loader'!AG56>0,'Simplified Loader'!AG56,\"\")","v":""},{"$f":"IF('Simplified Loader'!AH56>0,'Simplified Loader'!AH56,\"\")","v":""},{"$f":"IF('Simplified Loader'!AI56>0,'Simplified Loader'!AI56,\"\")","v":" "},{"$f":"IF('Simplified Loader'!AJ56>0,'Simplified Loader'!AJ56,\"\")","v":" "},{"$f":"IF('Simplified Loader'!W56>0,'Simplified Loader'!W56&\" \",\"\")&IF('Simplified Loader'!V56>0,'Simplified Loader'!V56,\"\")","v":""},null,{"$f":"IF('Simplified Loader'!X56>0,'Simplified Loader'!X56,\"\")","v":""},{"$f":"IF('Simplified Loader'!Y56>0,'Simplified Loader'!Y56,\"\")","v":""},{"$f":"IF('Simplified Loader'!Z56>0,'Simplified Loader'!Z56,\"\")","v":""},{"$f":"IF('Simplified Loader'!AA56>0,'Simplified Loader'!AA56,\"\")","v":""},{"$f":"IF('Simplified Loader'!E56>0,'Simplified Loader'!E56,\"\")","v":""},{"$f":"IF('Simplified Loader'!AK56>0,'Simplified Loader'!AK56,\"\")","v":""},{"$f":"IF('Simplified Loader'!AL56>0,'Simplified Loader'!AL56,\"\")","v":""},{"$f":"IF('Simplified Loader'!AM56>0,'Simplified Loader'!AM56,\"\")","v":""},{"$f":"IF('Simplified Loader'!AN56=\"Male\",\"Male\",IF('Simplified Loader'!AN56=\"Female\",\"Female\",IF('Simplified Loader'!AN56=\"M\",\"Male\",IF('Simplified Loader'!AN56=\"F\",\"Female\",\"\"))))","v":""},{"$f":"IF('Simplified Loader'!AO56=\"Single\",\"Single\",IF('Simplified Loader'!AO56=\"Family\",\"Family\",IF('Simplified Loader'!AO56=\"S\",\"Single\",IF('Simplified Loader'!AO56=\"F\",\"Family\",\"\"))))","v":""},{"$f":"IF('Simplified Loader'!AP56=\"Single\",\"Single\",IF('Simplified Loader'!AP56=\"Family\",\"Family\",IF('Simplified Loader'!AP56=\"S\",\"Single\",IF('Simplified Loader'!AP56=\"F\",\"Family\",\"\"))))","v":""},{"$f":"IF('Simplified Loader'!AQ56>0,'Simplified Loader'!AQ56,\"\")","v":""},{"$f":"IF('Simplified Loader'!AR56=\"Yes\",\"Yes\",IF('Simplified Loader'!AR56=\"No\",\"No\",IF('Simplified Loader'!AR56=\"Y\",\"Yes\",IF('Simplified Loader'!AR56=\"N\",\"No\",\"\"))))","v":""},{"$f":"IF('Simplified Loader'!AS56>0,'Simplified Loader'!AS56,\"\")","v":""},{"$f":"IF('Simplified Loader'!AT56>0,'Simplified Loader'!AT56,\"\")","v":""},{"$f":"IF('Simplified Loader'!AU56>0,'Simplified Loader'!AU56,\"\")","v":""},{"$f":"IF('Simplified Loader'!AV56=\"Male\",\"Male\",IF('Simplified Loader'!AV56=\"Female\",\"Female\",IF('Simplified Loader'!AV56=\"M\",\"Male\",IF('Simplified Loader'!AV56=\"F\",\"Female\",\"\"))))","v":""},{"$f":"IF('Simplified Loader'!AW56=\"Yes\",\"Yes\",IF('Simplified Loader'!AW56=\"No\",\"No\",IF('Simplified Loader'!AW56=\"Y\",\"Yes\",IF('Simplified Loader'!AW56=\"N\",\"No\",\"\"))))","v":""},{"$f":"IF('Simplified Loader'!AX56=\"Yes\",\"Yes\",IF('Simplified Loader'!AX56=\"No\",\"No\",IF('Simplified Loader'!AX56=\"Y\",\"Yes\",IF('Simplified Loader'!AX56=\"N\",\"No\",\"\"))))","v":""},{"$f":"IF('Simplified Loader'!AY56>0,'Simplified Loader'!AY56,\"\")","v":""},{"$f":"IF('Simplified Loader'!AZ56>0,'Simplified Loader'!AZ56,\"\")","v":""},{"$f":"IF('Simplified Loader'!BA56>0,'Simplified Loader'!BA56,\"\")","v":""},{"$f":"IF('Simplified Loader'!BB56=\"Male\",\"Male\",IF('Simplified Loader'!BB56=\"Female\",\"Female\",IF('Simplified Loader'!BB56=\"M\",\"Male\",IF('Simplified Loader'!BB56=\"F\",\"Female\",\"\"))))","v":""},{"$f":"IF('Simplified Loader'!BC56=\"Yes\",\"Yes\",IF('Simplified Loader'!BC56=\"No\",\"No\",IF('Simplified Loader'!BC56=\"Y\",\"Yes\",IF('Simplified Loader'!BC56=\"N\",\"No\",\"\"))))","v":""},{"$f":"IF('Simplified Loader'!BD56=\"Yes\",\"Yes\",IF('Simplified Loader'!BD56=\"No\",\"No\",IF('Simplified Loader'!BD56=\"Y\",\"Yes\",IF('Simplified Loader'!BD56=\"N\",\"No\",\"\"))))","v":""},{"$f":"IF('Simplified Loader'!BE56>0,'Simplified Loader'!BE56,\"\")","v":""},{"$f":"IF('Simplified Loader'!BF56>0,'Simplified Loader'!BF56,\"\")","v":""},{"$f":"IF('Simplified Loader'!BG56>0,'Simplified Loader'!BG56,\"\")","v":""},{"$f":"IF('Simplified Loader'!BH56=\"Male\",\"Male\",IF('Simplified Loader'!BH56=\"Female\",\"Female\",IF('Simplified Loader'!BH56=\"M\",\"Male\",IF('Simplified Loader'!BH56=\"F\",\"Female\",\"\"))))","v":""},{"$f":"IF('Simplified Loader'!BI56=\"Yes\",\"Yes\",IF('Simplified Loader'!BI56=\"No\",\"No\",IF('Simplified Loader'!BI56=\"Y\",\"Yes\",IF('Simplified Loader'!BI56=\"N\",\"No\",\"\"))))","v":""},{"$f":"IF('Simplified Loader'!BJ56=\"Yes\",\"Yes\",IF('Simplified Loader'!BJ56=\"No\",\"No\",IF('Simplified Loader'!BJ56=\"Y\",\"Yes\",IF('Simplified Loader'!BJ56=\"N\",\"No\",\"\"))))","v":""},{"$f":"IF('Simplified Loader'!BK56>0,'Simplified Loader'!BK56,\"\")","v":""},{"$f":"IF('Simplified Loader'!BL56>0,'Simplified Loader'!BL56,\"\")","v":""},{"$f":"IF('Simplified Loader'!BM56>0,'Simplified Loader'!BM56,\"\")","v":""},{"$f":"IF('Simplified Loader'!BN56=\"Male\",\"Male\",IF('Simplified Loader'!BN56=\"Female\",\"Female\",IF('Simplified Loader'!BN56=\"M\",\"Male\",IF('Simplified Loader'!BN56=\"F\",\"Female\",\"\"))))","v":""},{"$f":"IF('Simplified Loader'!BO56=\"Yes\",\"Yes\",IF('Simplified Loader'!BO56=\"No\",\"No\",IF('Simplified Loader'!BO56=\"Y\",\"Yes\",IF('Simplified Loader'!BO56=\"N\",\"No\",\"\"))))","v":""},{"$f":"IF('Simplified Loader'!BP56=\"Yes\",\"Yes\",IF('Simplified Loader'!BP56=\"No\",\"No\",IF('Simplified Loader'!BP56=\"Y\",\"Yes\",IF('Simplified Loader'!BP56=\"N\",\"No\",\"\"))))","v":""},{"$f":"IF('Simplified Loader'!BQ56>0,'Simplified Loader'!BQ56,\"\")","v":""},{"$f":"IF('Simplified Loader'!BR56>0,'Simplified Loader'!BR56,\"\")","v":""},{"$f":"IF('Simplified Loader'!BS56>0,'Simplified Loader'!BS56,\"\")","v":""},{"$f":"IF('Simplified Loader'!BT56=\"Male\",\"Male\",IF('Simplified Loader'!BT56=\"Female\",\"Female\",IF('Simplified Loader'!BT56=\"M\",\"Male\",IF('Simplified Loader'!BT56=\"F\",\"Female\",\"\"))))","v":""},{"$f":"IF('Simplified Loader'!BU56=\"Yes\",\"Yes\",IF('Simplified Loader'!BU56=\"No\",\"No\",IF('Simplified Loader'!BU56=\"Y\",\"Yes\",IF('Simplified Loader'!BU56=\"N\",\"No\",\"\"))))","v":""},{"$f":"IF('Simplified Loader'!BV56=\"Yes\",\"Yes\",IF('Simplified Loader'!BV56=\"No\",\"No\",IF('Simplified Loader'!BV56=\"Y\",\"Yes\",IF('Simplified Loader'!BV56=\"N\",\"No\",\"\"))))","v":""},{"$f":"IF('Simplified Loader'!BW56>0,'Simplified Loader'!BW56,\"\")","v":""},{"$f":"IF('Simplified Loader'!BX56>0,'Simplified Loader'!BX56,\"\")","v":""},{"$f":"IF('Simplified Loader'!BY56>0,'Simplified Loader'!BY56,\"\")","v":""},{"$f":"IF('Simplified Loader'!BZ56=\"Male\",\"Male\",IF('Simplified Loader'!BZ56=\"Female\",\"Female\",IF('Simplified Loader'!BZ56=\"M\",\"Male\",IF('Simplified Loader'!BZ56=\"F\",\"Female\",\"\"))))","v":""},{"$f":"IF('Simplified Loader'!CA56=\"Yes\",\"Yes\",IF('Simplified Loader'!CA56=\"No\",\"No\",IF('Simplified Loader'!CA56=\"Y\",\"Yes\",IF('Simplified Loader'!CA56=\"N\",\"No\",\"\"))))","v":""},{"$f":"IF('Simplified Loader'!CB56=\"Yes\",\"Yes\",IF('Simplified Loader'!CB56=\"No\",\"No\",IF('Simplified Loader'!CB56=\"Y\",\"Yes\",IF('Simplified Loader'!CB56=\"N\",\"No\",\"\"))))","v":""},{"$f":"IF('Simplified Loader'!CH56>0,'Simplified Loader'!CH56,\"\")","v":"    "}]
[{"$f":"IF('Simplified Loader'!A57>0,'Simplified Loader'!A57,\"\")","v":""},{"$f":"IF('Simplified Loader'!B57>0,'Simplified Loader'!B57,\"\")","v":""},{"$f":"IF('Simplified Loader'!C57>0,'Simplified Loader'!C57,\"\")","v":""},{"$f":"IF('Simplified Loader'!D57>0,'Simplified Loader'!D57,\"\")","v":""},{"$f":"IF('Simplified Loader'!P57>0,TEXT('Simplified Loader'!P57,\"000\"),\"\")","v":""},{"$f":"IF('Simplified Loader'!Q57>0,'Simplified Loader'!Q57,\"\")","v":""},{"$f":"IF('Simplified Loader'!R57>0,'Simplified Loader'!R57,\"\")","v":""},{"$f":"IF('Simplified Loader'!F57>0,DATEVALUE(TEXT('Simplified Loader'!F57,\"yyyy-mm-dd\")),\"\")","v":""},{"$f":"IF('Simplified Loader'!L57>0,DATEVALUE(TEXT('Simplified Loader'!L57,\"yyyy-mm-dd\")),\"\")","v":""},{"$f":"IF('Simplified Loader'!Y57>0,'Simplified Loader'!Y57,\"\")","v":""},{"$f":"IF('Simplified Loader'!T57>0,'Simplified Loader'!T57,\"\")","v":""},{"$f":"IF('Simplified Loader'!G57=\"Male\",\"Male\",IF('Simplified Loader'!G57=\"Female\",\"Female\",IF('Simplified Loader'!G57=\"M\",\"Male\",IF('Simplified Loader'!G57=\"F\",\"Female\",\"\"))))","v":""},{"$f":"IF('Simplified Loader'!U57=\"Yes\",\"Yes\",IF('Simplified Loader'!U57=\"No\",\"No\",IF('Simplified Loader'!U57=\"Y\",\"Yes\",IF('Simplified Loader'!U57=\"N\",\"No\",\"\"))))","v":""},{"$f":"IF('Simplified Loader'!I57=\"Single\",\"Single\",IF('Simplified Loader'!I57=\"Family\",\"Family\",IF('Simplified Loader'!I57=\"Waive\",\"Family\",IF('Simplified Loader'!I57=\"Single Parent\",\"Family\",IF('Simplified Loader'!I57=\"Couple\",\"Family\",IF('Simplified Loader'!I57=\"In force\",\"Family\",IF('Simplified Loader'!I57=\"Applies\",\"Family\",IF('Simplified Loader'!I57=\"Applicable\",\"Family\",\"\"))))))))","v":""},{"$f":"IF('Simplified Loader'!AC57=\"English\",\"English\",IF('Simplified Loader'!AC57=\"French\",\"French\",IF('Simplified Loader'!AC57=\"E\",\"English\",IF('Simplified Loader'!AC57=\"F\",\"French\",\"\"))))","v":""},{"$f":"IF('Simplified Loader'!AB57=\"Yes\",\"Yes\",IF('Simplified Loader'!AB57=\"No\",\"No\",IF('Simplified Loader'!AB57=\"Y\",\"Yes\",IF('Simplified Loader'!AB57=\"N\",\"No\",\"\"))))","v":""},{"$f":"IF('Simplified Loader'!AD57>0,'Simplified Loader'!AD57,\"\")","v":""},{"$f":"IF('Simplified Loader'!M57>0,'Simplified Loader'!M57,\"\")","v":""},{"$f":"IF('Simplified Loader'!N57>0,'Simplified Loader'!N57,\"\")","v":""},{"$f":"IF('Simplified Loader'!O57>0,'Simplified Loader'!O57,\"\")","v":""},{"$f":"IF('Simplified Loader'!I57=\"Waive\",\"Yes\",\"\")","v":""},{"$f":"IF('Simplified Loader'!I57=\"Waive\",\"Yes\",\"\")","v":""},{"$f":"IF('Simplified Loader'!AE57>0,'Simplified Loader'!AE57,\"\")","v":""},{"$f":"IF('Simplified Loader'!AF57>0,'Simplified Loader'!AF57,\"\")","v":""},{"$f":"IF('Simplified Loader'!AG57>0,'Simplified Loader'!AG57,\"\")","v":""},{"$f":"IF('Simplified Loader'!AH57>0,'Simplified Loader'!AH57,\"\")","v":""},{"$f":"IF('Simplified Loader'!AI57>0,'Simplified Loader'!AI57,\"\")","v":" "},{"$f":"IF('Simplified Loader'!AJ57>0,'Simplified Loader'!AJ57,\"\")","v":" "},{"$f":"IF('Simplified Loader'!W57>0,'Simplified Loader'!W57&\" \",\"\")&IF('Simplified Loader'!V57>0,'Simplified Loader'!V57,\"\")","v":""},null,{"$f":"IF('Simplified Loader'!X57>0,'Simplified Loader'!X57,\"\")","v":""},{"$f":"IF('Simplified Loader'!Y57>0,'Simplified Loader'!Y57,\"\")","v":""},{"$f":"IF('Simplified Loader'!Z57>0,'Simplified Loader'!Z57,\"\")","v":""},{"$f":"IF('Simplified Loader'!AA57>0,'Simplified Loader'!AA57,\"\")","v":""},{"$f":"IF('Simplified Loader'!E57>0,'Simplified Loader'!E57,\"\")","v":""},{"$f":"IF('Simplified Loader'!AK57>0,'Simplified Loader'!AK57,\"\")","v":""},{"$f":"IF('Simplified Loader'!AL57>0,'Simplified Loader'!AL57,\"\")","v":""},{"$f":"IF('Simplified Loader'!AM57>0,'Simplified Loader'!AM57,\"\")","v":""},{"$f":"IF('Simplified Loader'!AN57=\"Male\",\"Male\",IF('Simplified Loader'!AN57=\"Female\",\"Female\",IF('Simplified Loader'!AN57=\"M\",\"Male\",IF('Simplified Loader'!AN57=\"F\",\"Female\",\"\"))))","v":""},{"$f":"IF('Simplified Loader'!AO57=\"Single\",\"Single\",IF('Simplified Loader'!AO57=\"Family\",\"Family\",IF('Simplified Loader'!AO57=\"S\",\"Single\",IF('Simplified Loader'!AO57=\"F\",\"Family\",\"\"))))","v":""},{"$f":"IF('Simplified Loader'!AP57=\"Single\",\"Single\",IF('Simplified Loader'!AP57=\"Family\",\"Family\",IF('Simplified Loader'!AP57=\"S\",\"Single\",IF('Simplified Loader'!AP57=\"F\",\"Family\",\"\"))))","v":""},{"$f":"IF('Simplified Loader'!AQ57>0,'Simplified Loader'!AQ57,\"\")","v":""},{"$f":"IF('Simplified Loader'!AR57=\"Yes\",\"Yes\",IF('Simplified Loader'!AR57=\"No\",\"No\",IF('Simplified Loader'!AR57=\"Y\",\"Yes\",IF('Simplified Loader'!AR57=\"N\",\"No\",\"\"))))","v":""},{"$f":"IF('Simplified Loader'!AS57>0,'Simplified Loader'!AS57,\"\")","v":""},{"$f":"IF('Simplified Loader'!AT57>0,'Simplified Loader'!AT57,\"\")","v":""},{"$f":"IF('Simplified Loader'!AU57>0,'Simplified Loader'!AU57,\"\")","v":""},{"$f":"IF('Simplified Loader'!AV57=\"Male\",\"Male\",IF('Simplified Loader'!AV57=\"Female\",\"Female\",IF('Simplified Loader'!AV57=\"M\",\"Male\",IF('Simplified Loader'!AV57=\"F\",\"Female\",\"\"))))","v":""},{"$f":"IF('Simplified Loader'!AW57=\"Yes\",\"Yes\",IF('Simplified Loader'!AW57=\"No\",\"No\",IF('Simplified Loader'!AW57=\"Y\",\"Yes\",IF('Simplified Loader'!AW57=\"N\",\"No\",\"\"))))","v":""},{"$f":"IF('Simplified Loader'!AX57=\"Yes\",\"Yes\",IF('Simplified Loader'!AX57=\"No\",\"No\",IF('Simplified Loader'!AX57=\"Y\",\"Yes\",IF('Simplified Loader'!AX57=\"N\",\"No\",\"\"))))","v":""},{"$f":"IF('Simplified Loader'!AY57>0,'Simplified Loader'!AY57,\"\")","v":""},{"$f":"IF('Simplified Loader'!AZ57>0,'Simplified Loader'!AZ57,\"\")","v":""},{"$f":"IF('Simplified Loader'!BA57>0,'Simplified Loader'!BA57,\"\")","v":""},{"$f":"IF('Simplified Loader'!BB57=\"Male\",\"Male\",IF('Simplified Loader'!BB57=\"Female\",\"Female\",IF('Simplified Loader'!BB57=\"M\",\"Male\",IF('Simplified Loader'!BB57=\"F\",\"Female\",\"\"))))","v":""},{"$f":"IF('Simplified Loader'!BC57=\"Yes\",\"Yes\",IF('Simplified Loader'!BC57=\"No\",\"No\",IF('Simplified Loader'!BC57=\"Y\",\"Yes\",IF('Simplified Loader'!BC57=\"N\",\"No\",\"\"))))","v":""},{"$f":"IF('Simplified Loader'!BD57=\"Yes\",\"Yes\",IF('Simplified Loader'!BD57=\"No\",\"No\",IF('Simplified Loader'!BD57=\"Y\",\"Yes\",IF('Simplified Loader'!BD57=\"N\",\"No\",\"\"))))","v":""},{"$f":"IF('Simplified Loader'!BE57>0,'Simplified Loader'!BE57,\"\")","v":""},{"$f":"IF('Simplified Loader'!BF57>0,'Simplified Loader'!BF57,\"\")","v":""},{"$f":"IF('Simplified Loader'!BG57>0,'Simplified Loader'!BG57,\"\")","v":""},{"$f":"IF('Simplified Loader'!BH57=\"Male\",\"Male\",IF('Simplified Loader'!BH57=\"Female\",\"Female\",IF('Simplified Loader'!BH57=\"M\",\"Male\",IF('Simplified Loader'!BH57=\"F\",\"Female\",\"\"))))","v":""},{"$f":"IF('Simplified Loader'!BI57=\"Yes\",\"Yes\",IF('Simplified Loader'!BI57=\"No\",\"No\",IF('Simplified Loader'!BI57=\"Y\",\"Yes\",IF('Simplified Loader'!BI57=\"N\",\"No\",\"\"))))","v":""},{"$f":"IF('Simplified Loader'!BJ57=\"Yes\",\"Yes\",IF('Simplified Loader'!BJ57=\"No\",\"No\",IF('Simplified Loader'!BJ57=\"Y\",\"Yes\",IF('Simplified Loader'!BJ57=\"N\",\"No\",\"\"))))","v":""},{"$f":"IF('Simplified Loader'!BK57>0,'Simplified Loader'!BK57,\"\")","v":""},{"$f":"IF('Simplified Loader'!BL57>0,'Simplified Loader'!BL57,\"\")","v":""},{"$f":"IF('Simplified Loader'!BM57>0,'Simplified Loader'!BM57,\"\")","v":""},{"$f":"IF('Simplified Loader'!BN57=\"Male\",\"Male\",IF('Simplified Loader'!BN57=\"Female\",\"Female\",IF('Simplified Loader'!BN57=\"M\",\"Male\",IF('Simplified Loader'!BN57=\"F\",\"Female\",\"\"))))","v":""},{"$f":"IF('Simplified Loader'!BO57=\"Yes\",\"Yes\",IF('Simplified Loader'!BO57=\"No\",\"No\",IF('Simplified Loader'!BO57=\"Y\",\"Yes\",IF('Simplified Loader'!BO57=\"N\",\"No\",\"\"))))","v":""},{"$f":"IF('Simplified Loader'!BP57=\"Yes\",\"Yes\",IF('Simplified Loader'!BP57=\"No\",\"No\",IF('Simplified Loader'!BP57=\"Y\",\"Yes\",IF('Simplified Loader'!BP57=\"N\",\"No\",\"\"))))","v":""},{"$f":"IF('Simplified Loader'!BQ57>0,'Simplified Loader'!BQ57,\"\")","v":""},{"$f":"IF('Simplified Loader'!BR57>0,'Simplified Loader'!BR57,\"\")","v":""},{"$f":"IF('Simplified Loader'!BS57>0,'Simplified Loader'!BS57,\"\")","v":""},{"$f":"IF('Simplified Loader'!BT57=\"Male\",\"Male\",IF('Simplified Loader'!BT57=\"Female\",\"Female\",IF('Simplified Loader'!BT57=\"M\",\"Male\",IF('Simplified Loader'!BT57=\"F\",\"Female\",\"\"))))","v":""},{"$f":"IF('Simplified Loader'!BU57=\"Yes\",\"Yes\",IF('Simplified Loader'!BU57=\"No\",\"No\",IF('Simplified Loader'!BU57=\"Y\",\"Yes\",IF('Simplified Loader'!BU57=\"N\",\"No\",\"\"))))","v":""},{"$f":"IF('Simplified Loader'!BV57=\"Yes\",\"Yes\",IF('Simplified Loader'!BV57=\"No\",\"No\",IF('Simplified Loader'!BV57=\"Y\",\"Yes\",IF('Simplified Loader'!BV57=\"N\",\"No\",\"\"))))","v":""},{"$f":"IF('Simplified Loader'!BW57>0,'Simplified Loader'!BW57,\"\")","v":""},{"$f":"IF('Simplified Loader'!BX57>0,'Simplified Loader'!BX57,\"\")","v":""},{"$f":"IF('Simplified Loader'!BY57>0,'Simplified Loader'!BY57,\"\")","v":""},{"$f":"IF('Simplified Loader'!BZ57=\"Male\",\"Male\",IF('Simplified Loader'!BZ57=\"Female\",\"Female\",IF('Simplified Loader'!BZ57=\"M\",\"Male\",IF('Simplified Loader'!BZ57=\"F\",\"Female\",\"\"))))","v":""},{"$f":"IF('Simplified Loader'!CA57=\"Yes\",\"Yes\",IF('Simplified Loader'!CA57=\"No\",\"No\",IF('Simplified Loader'!CA57=\"Y\",\"Yes\",IF('Simplified Loader'!CA57=\"N\",\"No\",\"\"))))","v":""},{"$f":"IF('Simplified Loader'!CB57=\"Yes\",\"Yes\",IF('Simplified Loader'!CB57=\"No\",\"No\",IF('Simplified Loader'!CB57=\"Y\",\"Yes\",IF('Simplified Loader'!CB57=\"N\",\"No\",\"\"))))","v":""},{"$f":"IF('Simplified Loader'!CH57>0,'Simplified Loader'!CH57,\"\")","v":"    "}]
[{"$f":"IF('Simplified Loader'!A58>0,'Simplified Loader'!A58,\"\")","v":""},{"$f":"IF('Simplified Loader'!B58>0,'Simplified Loader'!B58,\"\")","v":""},{"$f":"IF('Simplified Loader'!C58>0,'Simplified Loader'!C58,\"\")","v":""},{"$f":"IF('Simplified Loader'!D58>0,'Simplified Loader'!D58,\"\")","v":""},{"$f":"IF('Simplified Loader'!P58>0,TEXT('Simplified Loader'!P58,\"000\"),\"\")","v":""},{"$f":"IF('Simplified Loader'!Q58>0,'Simplified Loader'!Q58,\"\")","v":""},{"$f":"IF('Simplified Loader'!R58>0,'Simplified Loader'!R58,\"\")","v":""},{"$f":"IF('Simplified Loader'!F58>0,DATEVALUE(TEXT('Simplified Loader'!F58,\"yyyy-mm-dd\")),\"\")","v":""},{"$f":"IF('Simplified Loader'!L58>0,DATEVALUE(TEXT('Simplified Loader'!L58,\"yyyy-mm-dd\")),\"\")","v":""},{"$f":"IF('Simplified Loader'!Y58>0,'Simplified Loader'!Y58,\"\")","v":""},{"$f":"IF('Simplified Loader'!T58>0,'Simplified Loader'!T58,\"\")","v":""},{"$f":"IF('Simplified Loader'!G58=\"Male\",\"Male\",IF('Simplified Loader'!G58=\"Female\",\"Female\",IF('Simplified Loader'!G58=\"M\",\"Male\",IF('Simplified Loader'!G58=\"F\",\"Female\",\"\"))))","v":""},{"$f":"IF('Simplified Loader'!U58=\"Yes\",\"Yes\",IF('Simplified Loader'!U58=\"No\",\"No\",IF('Simplified Loader'!U58=\"Y\",\"Yes\",IF('Simplified Loader'!U58=\"N\",\"No\",\"\"))))","v":""},{"$f":"IF('Simplified Loader'!I58=\"Single\",\"Single\",IF('Simplified Loader'!I58=\"Family\",\"Family\",IF('Simplified Loader'!I58=\"Waive\",\"Family\",IF('Simplified Loader'!I58=\"Single Parent\",\"Family\",IF('Simplified Loader'!I58=\"Couple\",\"Family\",IF('Simplified Loader'!I58=\"In force\",\"Family\",IF('Simplified Loader'!I58=\"Applies\",\"Family\",IF('Simplified Loader'!I58=\"Applicable\",\"Family\",\"\"))))))))","v":""},{"$f":"IF('Simplified Loader'!AC58=\"English\",\"English\",IF('Simplified Loader'!AC58=\"French\",\"French\",IF('Simplified Loader'!AC58=\"E\",\"English\",IF('Simplified Loader'!AC58=\"F\",\"French\",\"\"))))","v":""},{"$f":"IF('Simplified Loader'!AB58=\"Yes\",\"Yes\",IF('Simplified Loader'!AB58=\"No\",\"No\",IF('Simplified Loader'!AB58=\"Y\",\"Yes\",IF('Simplified Loader'!AB58=\"N\",\"No\",\"\"))))","v":""},{"$f":"IF('Simplified Loader'!AD58>0,'Simplified Loader'!AD58,\"\")","v":""},{"$f":"IF('Simplified Loader'!M58>0,'Simplified Loader'!M58,\"\")","v":""},{"$f":"IF('Simplified Loader'!N58>0,'Simplified Loader'!N58,\"\")","v":""},{"$f":"IF('Simplified Loader'!O58>0,'Simplified Loader'!O58,\"\")","v":""},{"$f":"IF('Simplified Loader'!I58=\"Waive\",\"Yes\",\"\")","v":""},{"$f":"IF('Simplified Loader'!I58=\"Waive\",\"Yes\",\"\")","v":""},{"$f":"IF('Simplified Loader'!AE58>0,'Simplified Loader'!AE58,\"\")","v":""},{"$f":"IF('Simplified Loader'!AF58>0,'Simplified Loader'!AF58,\"\")","v":""},{"$f":"IF('Simplified Loader'!AG58>0,'Simplified Loader'!AG58,\"\")","v":""},{"$f":"IF('Simplified Loader'!AH58>0,'Simplified Loader'!AH58,\"\")","v":""},{"$f":"IF('Simplified Loader'!AI58>0,'Simplified Loader'!AI58,\"\")","v":" "},{"$f":"IF('Simplified Loader'!AJ58>0,'Simplified Loader'!AJ58,\"\")","v":" "},{"$f":"IF('Simplified Loader'!W58>0,'Simplified Loader'!W58&\" \",\"\")&IF('Simplified Loader'!V58>0,'Simplified Loader'!V58,\"\")","v":""},null,{"$f":"IF('Simplified Loader'!X58>0,'Simplified Loader'!X58,\"\")","v":""},{"$f":"IF('Simplified Loader'!Y58>0,'Simplified Loader'!Y58,\"\")","v":""},{"$f":"IF('Simplified Loader'!Z58>0,'Simplified Loader'!Z58,\"\")","v":""},{"$f":"IF('Simplified Loader'!AA58>0,'Simplified Loader'!AA58,\"\")","v":""},{"$f":"IF('Simplified Loader'!E58>0,'Simplified Loader'!E58,\"\")","v":""},{"$f":"IF('Simplified Loader'!AK58>0,'Simplified Loader'!AK58,\"\")","v":""},{"$f":"IF('Simplified Loader'!AL58>0,'Simplified Loader'!AL58,\"\")","v":""},{"$f":"IF('Simplified Loader'!AM58>0,'Simplified Loader'!AM58,\"\")","v":""},{"$f":"IF('Simplified Loader'!AN58=\"Male\",\"Male\",IF('Simplified Loader'!AN58=\"Female\",\"Female\",IF('Simplified Loader'!AN58=\"M\",\"Male\",IF('Simplified Loader'!AN58=\"F\",\"Female\",\"\"))))","v":""},{"$f":"IF('Simplified Loader'!AO58=\"Single\",\"Single\",IF('Simplified Loader'!AO58=\"Family\",\"Family\",IF('Simplified Loader'!AO58=\"S\",\"Single\",IF('Simplified Loader'!AO58=\"F\",\"Family\",\"\"))))","v":""},{"$f":"IF('Simplified Loader'!AP58=\"Single\",\"Single\",IF('Simplified Loader'!AP58=\"Family\",\"Family\",IF('Simplified Loader'!AP58=\"S\",\"Single\",IF('Simplified Loader'!AP58=\"F\",\"Family\",\"\"))))","v":""},{"$f":"IF('Simplified Loader'!AQ58>0,'Simplified Loader'!AQ58,\"\")","v":""},{"$f":"IF('Simplified Loader'!AR58=\"Yes\",\"Yes\",IF('Simplified Loader'!AR58=\"No\",\"No\",IF('Simplified Loader'!AR58=\"Y\",\"Yes\",IF('Simplified Loader'!AR58=\"N\",\"No\",\"\"))))","v":""},{"$f":"IF('Simplified Loader'!AS58>0,'Simplified Loader'!AS58,\"\")","v":""},{"$f":"IF('Simplified Loader'!AT58>0,'Simplified Loader'!AT58,\"\")","v":""},{"$f":"IF('Simplified Loader'!AU58>0,'Simplified Loader'!AU58,\"\")","v":""},{"$f":"IF('Simplified Loader'!AV58=\"Male\",\"Male\",IF('Simplified Loader'!AV58=\"Female\",\"Female\",IF('Simplified Loader'!AV58=\"M\",\"Male\",IF('Simplified Loader'!AV58=\"F\",\"Female\",\"\"))))","v":""},{"$f":"IF('Simplified Loader'!AW58=\"Yes\",\"Yes\",IF('Simplified Loader'!AW58=\"No\",\"No\",IF('Simplified Loader'!AW58=\"Y\",\"Yes\",IF('Simplified Loader'!AW58=\"N\",\"No\",\"\"))))","v":""},{"$f":"IF('Simplified Loader'!AX58=\"Yes\",\"Yes\",IF('Simplified Loader'!AX58=\"No\",\"No\",IF('Simplified Loader'!AX58=\"Y\",\"Yes\",IF('Simplified Loader'!AX58=\"N\",\"No\",\"\"))))","v":""},{"$f":"IF('Simplified Loader'!AY58>0,'Simplified Loader'!AY58,\"\")","v":""},{"$f":"IF('Simplified Loader'!AZ58>0,'Simplified Loader'!AZ58,\"\")","v":""},{"$f":"IF('Simplified Loader'!BA58>0,'Simplified Loader'!BA58,\"\")","v":""},{"$f":"IF('Simplified Loader'!BB58=\"Male\",\"Male\",IF('Simplified Loader'!BB58=\"Female\",\"Female\",IF('Simplified Loader'!BB58=\"M\",\"Male\",IF('Simplified Loader'!BB58=\"F\",\"Female\",\"\"))))","v":""},{"$f":"IF('Simplified Loader'!BC58=\"Yes\",\"Yes\",IF('Simplified Loader'!BC58=\"No\",\"No\",IF('Simplified Loader'!BC58=\"Y\",\"Yes\",IF('Simplified Loader'!BC58=\"N\",\"No\",\"\"))))","v":""},{"$f":"IF('Simplified Loader'!BD58=\"Yes\",\"Yes\",IF('Simplified Loader'!BD58=\"No\",\"No\",IF('Simplified Loader'!BD58=\"Y\",\"Yes\",IF('Simplified Loader'!BD58=\"N\",\"No\",\"\"))))","v":""},{"$f":"IF('Simplified Loader'!BE58>0,'Simplified Loader'!BE58,\"\")","v":""},{"$f":"IF('Simplified Loader'!BF58>0,'Simplified Loader'!BF58,\"\")","v":""},{"$f":"IF('Simplified Loader'!BG58>0,'Simplified Loader'!BG58,\"\")","v":""},{"$f":"IF('Simplified Loader'!BH58=\"Male\",\"Male\",IF('Simplified Loader'!BH58=\"Female\",\"Female\",IF('Simplified Loader'!BH58=\"M\",\"Male\",IF('Simplified Loader'!BH58=\"F\",\"Female\",\"\"))))","v":""},{"$f":"IF('Simplified Loader'!BI58=\"Yes\",\"Yes\",IF('Simplified Loader'!BI58=\"No\",\"No\",IF('Simplified Loader'!BI58=\"Y\",\"Yes\",IF('Simplified Loader'!BI58=\"N\",\"No\",\"\"))))","v":""},{"$f":"IF('Simplified Loader'!BJ58=\"Yes\",\"Yes\",IF('Simplified Loader'!BJ58=\"No\",\"No\",IF('Simplified Loader'!BJ58=\"Y\",\"Yes\",IF('Simplified Loader'!BJ58=\"N\",\"No\",\"\"))))","v":""},{"$f":"IF('Simplified Loader'!BK58>0,'Simplified Loader'!BK58,\"\")","v":""},{"$f":"IF('Simplified Loader'!BL58>0,'Simplified Loader'!BL58,\"\")","v":""},{"$f":"IF('Simplified Loader'!BM58>0,'Simplified Loader'!BM58,\"\")","v":""},{"$f":"IF('Simplified Loader'!BN58=\"Male\",\"Male\",IF('Simplified Loader'!BN58=\"Female\",\"Female\",IF('Simplified Loader'!BN58=\"M\",\"Male\",IF('Simplified Loader'!BN58=\"F\",\"Female\",\"\"))))","v":""},{"$f":"IF('Simplified Loader'!BO58=\"Yes\",\"Yes\",IF('Simplified Loader'!BO58=\"No\",\"No\",IF('Simplified Loader'!BO58=\"Y\",\"Yes\",IF('Simplified Loader'!BO58=\"N\",\"No\",\"\"))))","v":""},{"$f":"IF('Simplified Loader'!BP58=\"Yes\",\"Yes\",IF('Simplified Loader'!BP58=\"No\",\"No\",IF('Simplified Loader'!BP58=\"Y\",\"Yes\",IF('Simplified Loader'!BP58=\"N\",\"No\",\"\"))))","v":""},{"$f":"IF('Simplified Loader'!BQ58>0,'Simplified Loader'!BQ58,\"\")","v":""},{"$f":"IF('Simplified Loader'!BR58>0,'Simplified Loader'!BR58,\"\")","v":""},{"$f":"IF('Simplified Loader'!BS58>0,'Simplified Loader'!BS58,\"\")","v":""},{"$f":"IF('Simplified Loader'!BT58=\"Male\",\"Male\",IF('Simplified Loader'!BT58=\"Female\",\"Female\",IF('Simplified Loader'!BT58=\"M\",\"Male\",IF('Simplified Loader'!BT58=\"F\",\"Female\",\"\"))))","v":""},{"$f":"IF('Simplified Loader'!BU58=\"Yes\",\"Yes\",IF('Simplified Loader'!BU58=\"No\",\"No\",IF('Simplified Loader'!BU58=\"Y\",\"Yes\",IF('Simplified Loader'!BU58=\"N\",\"No\",\"\"))))","v":""},{"$f":"IF('Simplified Loader'!BV58=\"Yes\",\"Yes\",IF('Simplified Loader'!BV58=\"No\",\"No\",IF('Simplified Loader'!BV58=\"Y\",\"Yes\",IF('Simplified Loader'!BV58=\"N\",\"No\",\"\"))))","v":""},{"$f":"IF('Simplified Loader'!BW58>0,'Simplified Loader'!BW58,\"\")","v":""},{"$f":"IF('Simplified Loader'!BX58>0,'Simplified Loader'!BX58,\"\")","v":""},{"$f":"IF('Simplified Loader'!BY58>0,'Simplified Loader'!BY58,\"\")","v":""},{"$f":"IF('Simplified Loader'!BZ58=\"Male\",\"Male\",IF('Simplified Loader'!BZ58=\"Female\",\"Female\",IF('Simplified Loader'!BZ58=\"M\",\"Male\",IF('Simplified Loader'!BZ58=\"F\",\"Female\",\"\"))))","v":""},{"$f":"IF('Simplified Loader'!CA58=\"Yes\",\"Yes\",IF('Simplified Loader'!CA58=\"No\",\"No\",IF('Simplified Loader'!CA58=\"Y\",\"Yes\",IF('Simplified Loader'!CA58=\"N\",\"No\",\"\"))))","v":""},{"$f":"IF('Simplified Loader'!CB58=\"Yes\",\"Yes\",IF('Simplified Loader'!CB58=\"No\",\"No\",IF('Simplified Loader'!CB58=\"Y\",\"Yes\",IF('Simplified Loader'!CB58=\"N\",\"No\",\"\"))))","v":""},{"$f":"IF('Simplified Loader'!CH58>0,'Simplified Loader'!CH58,\"\")","v":"    "}]
[{"$f":"IF('Simplified Loader'!A59>0,'Simplified Loader'!A59,\"\")","v":""},{"$f":"IF('Simplified Loader'!B59>0,'Simplified Loader'!B59,\"\")","v":""},{"$f":"IF('Simplified Loader'!C59>0,'Simplified Loader'!C59,\"\")","v":""},{"$f":"IF('Simplified Loader'!D59>0,'Simplified Loader'!D59,\"\")","v":""},{"$f":"IF('Simplified Loader'!P59>0,TEXT('Simplified Loader'!P59,\"000\"),\"\")","v":""},{"$f":"IF('Simplified Loader'!Q59>0,'Simplified Loader'!Q59,\"\")","v":""},{"$f":"IF('Simplified Loader'!R59>0,'Simplified Loader'!R59,\"\")","v":""},{"$f":"IF('Simplified Loader'!F59>0,DATEVALUE(TEXT('Simplified Loader'!F59,\"yyyy-mm-dd\")),\"\")","v":""},{"$f":"IF('Simplified Loader'!L59>0,DATEVALUE(TEXT('Simplified Loader'!L59,\"yyyy-mm-dd\")),\"\")","v":""},{"$f":"IF('Simplified Loader'!Y59>0,'Simplified Loader'!Y59,\"\")","v":""},{"$f":"IF('Simplified Loader'!T59>0,'Simplified Loader'!T59,\"\")","v":""},{"$f":"IF('Simplified Loader'!G59=\"Male\",\"Male\",IF('Simplified Loader'!G59=\"Female\",\"Female\",IF('Simplified Loader'!G59=\"M\",\"Male\",IF('Simplified Loader'!G59=\"F\",\"Female\",\"\"))))","v":""},{"$f":"IF('Simplified Loader'!U59=\"Yes\",\"Yes\",IF('Simplified Loader'!U59=\"No\",\"No\",IF('Simplified Loader'!U59=\"Y\",\"Yes\",IF('Simplified Loader'!U59=\"N\",\"No\",\"\"))))","v":""},{"$f":"IF('Simplified Loader'!I59=\"Single\",\"Single\",IF('Simplified Loader'!I59=\"Family\",\"Family\",IF('Simplified Loader'!I59=\"Waive\",\"Family\",IF('Simplified Loader'!I59=\"Single Parent\",\"Family\",IF('Simplified Loader'!I59=\"Couple\",\"Family\",IF('Simplified Loader'!I59=\"In force\",\"Family\",IF('Simplified Loader'!I59=\"Applies\",\"Family\",IF('Simplified Loader'!I59=\"Applicable\",\"Family\",\"\"))))))))","v":""},{"$f":"IF('Simplified Loader'!AC59=\"English\",\"English\",IF('Simplified Loader'!AC59=\"French\",\"French\",IF('Simplified Loader'!AC59=\"E\",\"English\",IF('Simplified Loader'!AC59=\"F\",\"French\",\"\"))))","v":""},{"$f":"IF('Simplified Loader'!AB59=\"Yes\",\"Yes\",IF('Simplified Loader'!AB59=\"No\",\"No\",IF('Simplified Loader'!AB59=\"Y\",\"Yes\",IF('Simplified Loader'!AB59=\"N\",\"No\",\"\"))))","v":""},{"$f":"IF('Simplified Loader'!AD59>0,'Simplified Loader'!AD59,\"\")","v":""},{"$f":"IF('Simplified Loader'!M59>0,'Simplified Loader'!M59,\"\")","v":""},{"$f":"IF('Simplified Loader'!N59>0,'Simplified Loader'!N59,\"\")","v":""},{"$f":"IF('Simplified Loader'!O59>0,'Simplified Loader'!O59,\"\")","v":""},{"$f":"IF('Simplified Loader'!I59=\"Waive\",\"Yes\",\"\")","v":""},{"$f":"IF('Simplified Loader'!I59=\"Waive\",\"Yes\",\"\")","v":""},{"$f":"IF('Simplified Loader'!AE59>0,'Simplified Loader'!AE59,\"\")","v":""},{"$f":"IF('Simplified Loader'!AF59>0,'Simplified Loader'!AF59,\"\")","v":""},{"$f":"IF('Simplified Loader'!AG59>0,'Simplified Loader'!AG59,\"\")","v":""},{"$f":"IF('Simplified Loader'!AH59>0,'Simplified Loader'!AH59,\"\")","v":""},{"$f":"IF('Simplified Loader'!AI59>0,'Simplified Loader'!AI59,\"\")","v":" "},{"$f":"IF('Simplified Loader'!AJ59>0,'Simplified Loader'!AJ59,\"\")","v":" "},{"$f":"IF('Simplified Loader'!W59>0,'Simplified Loader'!W59&\" \",\"\")&IF('Simplified Loader'!V59>0,'Simplified Loader'!V59,\"\")","v":""},null,{"$f":"IF('Simplified Loader'!X59>0,'Simplified Loader'!X59,\"\")","v":""},{"$f":"IF('Simplified Loader'!Y59>0,'Simplified Loader'!Y59,\"\")","v":""},{"$f":"IF('Simplified Loader'!Z59>0,'Simplified Loader'!Z59,\"\")","v":""},{"$f":"IF('Simplified Loader'!AA59>0,'Simplified Loader'!AA59,\"\")","v":""},{"$f":"IF('Simplified Loader'!E59>0,'Simplified Loader'!E59,\"\")","v":""},{"$f":"IF('Simplified Loader'!AK59>0,'Simplified Loader'!AK59,\"\")","v":""},{"$f":"IF('Simplified Loader'!AL59>0,'Simplified Loader'!AL59,\"\")","v":""},{"$f":"IF('Simplified Loader'!AM59>0,'Simplified Loader'!AM59,\"\")","v":""},{"$f":"IF('Simplified Loader'!AN59=\"Male\",\"Male\",IF('Simplified Loader'!AN59=\"Female\",\"Female\",IF('Simplified Loader'!AN59=\"M\",\"Male\",IF('Simplified Loader'!AN59=\"F\",\"Female\",\"\"))))","v":""},{"$f":"IF('Simplified Loader'!AO59=\"Single\",\"Single\",IF('Simplified Loader'!AO59=\"Family\",\"Family\",IF('Simplified Loader'!AO59=\"S\",\"Single\",IF('Simplified Loader'!AO59=\"F\",\"Family\",\"\"))))","v":""},{"$f":"IF('Simplified Loader'!AP59=\"Single\",\"Single\",IF('Simplified Loader'!AP59=\"Family\",\"Family\",IF('Simplified Loader'!AP59=\"S\",\"Single\",IF('Simplified Loader'!AP59=\"F\",\"Family\",\"\"))))","v":""},{"$f":"IF('Simplified Loader'!AQ59>0,'Simplified Loader'!AQ59,\"\")","v":""},{"$f":"IF('Simplified Loader'!AR59=\"Yes\",\"Yes\",IF('Simplified Loader'!AR59=\"No\",\"No\",IF('Simplified Loader'!AR59=\"Y\",\"Yes\",IF('Simplified Loader'!AR59=\"N\",\"No\",\"\"))))","v":""},{"$f":"IF('Simplified Loader'!AS59>0,'Simplified Loader'!AS59,\"\")","v":""},{"$f":"IF('Simplified Loader'!AT59>0,'Simplified Loader'!AT59,\"\")","v":""},{"$f":"IF('Simplified Loader'!AU59>0,'Simplified Loader'!AU59,\"\")","v":""},{"$f":"IF('Simplified Loader'!AV59=\"Male\",\"Male\",IF('Simplified Loader'!AV59=\"Female\",\"Female\",IF('Simplified Loader'!AV59=\"M\",\"Male\",IF('Simplified Loader'!AV59=\"F\",\"Female\",\"\"))))","v":""},{"$f":"IF('Simplified Loader'!AW59=\"Yes\",\"Yes\",IF('Simplified Loader'!AW59=\"No\",\"No\",IF('Simplified Loader'!AW59=\"Y\",\"Yes\",IF('Simplified Loader'!AW59=\"N\",\"No\",\"\"))))","v":""},{"$f":"IF('Simplified Loader'!AX59=\"Yes\",\"Yes\",IF('Simplified Loader'!AX59=\"No\",\"No\",IF('Simplified Loader'!AX59=\"Y\",\"Yes\",IF('Simplified Loader'!AX59=\"N\",\"No\",\"\"))))","v":""},{"$f":"IF('Simplified Loader'!AY59>0,'Simplified Loader'!AY59,\"\")","v":""},{"$f":"IF('Simplified Loader'!AZ59>0,'Simplified Loader'!AZ59,\"\")","v":""},{"$f":"IF('Simplified Loader'!BA59>0,'Simplified Loader'!BA59,\"\")","v":""},{"$f":"IF('Simplified Loader'!BB59=\"Male\",\"Male\",IF('Simplified Loader'!BB59=\"Female\",\"Female\",IF('Simplified Loader'!BB59=\"M\",\"Male\",IF('Simplified Loader'!BB59=\"F\",\"Female\",\"\"))))","v":""},{"$f":"IF('Simplified Loader'!BC59=\"Yes\",\"Yes\",IF('Simplified Loader'!BC59=\"No\",\"No\",IF('Simplified Loader'!BC59=\"Y\",\"Yes\",IF('Simplified Loader'!BC59=\"N\",\"No\",\"\"))))","v":""},{"$f":"IF('Simplified Loader'!BD59=\"Yes\",\"Yes\",IF('Simplified Loader'!BD59=\"No\",\"No\",IF('Simplified Loader'!BD59=\"Y\",\"Yes\",IF('Simplified Loader'!BD59=\"N\",\"No\",\"\"))))","v":""},{"$f":"IF('Simplified Loader'!BE59>0,'Simplified Loader'!BE59,\"\")","v":""},{"$f":"IF('Simplified Loader'!BF59>0,'Simplified Loader'!BF59,\"\")","v":""},{"$f":"IF('Simplified Loader'!BG59>0,'Simplified Loader'!BG59,\"\")","v":""},{"$f":"IF('Simplified Loader'!BH59=\"Male\",\"Male\",IF('Simplified Loader'!BH59=\"Female\",\"Female\",IF('Simplified Loader'!BH59=\"M\",\"Male\",IF('Simplified Loader'!BH59=\"F\",\"Female\",\"\"))))","v":""},{"$f":"IF('Simplified Loader'!BI59=\"Yes\",\"Yes\",IF('Simplified Loader'!BI59=\"No\",\"No\",IF('Simplified Loader'!BI59=\"Y\",\"Yes\",IF('Simplified Loader'!BI59=\"N\",\"No\",\"\"))))","v":""},{"$f":"IF('Simplified Loader'!BJ59=\"Yes\",\"Yes\",IF('Simplified Loader'!BJ59=\"No\",\"No\",IF('Simplified Loader'!BJ59=\"Y\",\"Yes\",IF('Simplified Loader'!BJ59=\"N\",\"No\",\"\"))))","v":""},{"$f":"IF('Simplified Loader'!BK59>0,'Simplified Loader'!BK59,\"\")","v":""},{"$f":"IF('Simplified Loader'!BL59>0,'Simplified Loader'!BL59,\"\")","v":""},{"$f":"IF('Simplified Loader'!BM59>0,'Simplified Loader'!BM59,\"\")","v":""},{"$f":"IF('Simplified Loader'!BN59=\"Male\",\"Male\",IF('Simplified Loader'!BN59=\"Female\",\"Female\",IF('Simplified Loader'!BN59=\"M\",\"Male\",IF('Simplified Loader'!BN59=\"F\",\"Female\",\"\"))))","v":""},{"$f":"IF('Simplified Loader'!BO59=\"Yes\",\"Yes\",IF('Simplified Loader'!BO59=\"No\",\"No\",IF('Simplified Loader'!BO59=\"Y\",\"Yes\",IF('Simplified Loader'!BO59=\"N\",\"No\",\"\"))))","v":""},{"$f":"IF('Simplified Loader'!BP59=\"Yes\",\"Yes\",IF('Simplified Loader'!BP59=\"No\",\"No\",IF('Simplified Loader'!BP59=\"Y\",\"Yes\",IF('Simplified Loader'!BP59=\"N\",\"No\",\"\"))))","v":""},{"$f":"IF('Simplified Loader'!BQ59>0,'Simplified Loader'!BQ59,\"\")","v":""},{"$f":"IF('Simplified Loader'!BR59>0,'Simplified Loader'!BR59,\"\")","v":""},{"$f":"IF('Simplified Loader'!BS59>0,'Simplified Loader'!BS59,\"\")","v":""},{"$f":"IF('Simplified Loader'!BT59=\"Male\",\"Male\",IF('Simplified Loader'!BT59=\"Female\",\"Female\",IF('Simplified Loader'!BT59=\"M\",\"Male\",IF('Simplified Loader'!BT59=\"F\",\"Female\",\"\"))))","v":""},{"$f":"IF('Simplified Loader'!BU59=\"Yes\",\"Yes\",IF('Simplified Loader'!BU59=\"No\",\"No\",IF('Simplified Loader'!BU59=\"Y\",\"Yes\",IF('Simplified Loader'!BU59=\"N\",\"No\",\"\"))))","v":""},{"$f":"IF('Simplified Loader'!BV59=\"Yes\",\"Yes\",IF('Simplified Loader'!BV59=\"No\",\"No\",IF('Simplified Loader'!BV59=\"Y\",\"Yes\",IF('Simplified Loader'!BV59=\"N\",\"No\",\"\"))))","v":""},{"$f":"IF('Simplified Loader'!BW59>0,'Simplified Loader'!BW59,\"\")","v":""},{"$f":"IF('Simplified Loader'!BX59>0,'Simplified Loader'!BX59,\"\")","v":""},{"$f":"IF('Simplified Loader'!BY59>0,'Simplified Loader'!BY59,\"\")","v":""},{"$f":"IF('Simplified Loader'!BZ59=\"Male\",\"Male\",IF('Simplified Loader'!BZ59=\"Female\",\"Female\",IF('Simplified Loader'!BZ59=\"M\",\"Male\",IF('Simplified Loader'!BZ59=\"F\",\"Female\",\"\"))))","v":""},{"$f":"IF('Simplified Loader'!CA59=\"Yes\",\"Yes\",IF('Simplified Loader'!CA59=\"No\",\"No\",IF('Simplified Loader'!CA59=\"Y\",\"Yes\",IF('Simplified Loader'!CA59=\"N\",\"No\",\"\"))))","v":""},{"$f":"IF('Simplified Loader'!CB59=\"Yes\",\"Yes\",IF('Simplified Loader'!CB59=\"No\",\"No\",IF('Simplified Loader'!CB59=\"Y\",\"Yes\",IF('Simplified Loader'!CB59=\"N\",\"No\",\"\"))))","v":""},{"$f":"IF('Simplified Loader'!CH59>0,'Simplified Loader'!CH59,\"\")","v":"    "}]
[{"$f":"IF('Simplified Loader'!A60>0,'Simplified Loader'!A60,\"\")","v":""},{"$f":"IF('Simplified Loader'!B60>0,'Simplified Loader'!B60,\"\")","v":""},{"$f":"IF('Simplified Loader'!C60>0,'Simplified Loader'!C60,\"\")","v":""},{"$f":"IF('Simplified Loader'!D60>0,'Simplified Loader'!D60,\"\")","v":""},{"$f":"IF('Simplified Loader'!P60>0,TEXT('Simplified Loader'!P60,\"000\"),\"\")","v":""},{"$f":"IF('Simplified Loader'!Q60>0,'Simplified Loader'!Q60,\"\")","v":""},{"$f":"IF('Simplified Loader'!R60>0,'Simplified Loader'!R60,\"\")","v":""},{"$f":"IF('Simplified Loader'!F60>0,DATEVALUE(TEXT('Simplified Loader'!F60,\"yyyy-mm-dd\")),\"\")","v":""},{"$f":"IF('Simplified Loader'!L60>0,DATEVALUE(TEXT('Simplified Loader'!L60,\"yyyy-mm-dd\")),\"\")","v":""},{"$f":"IF('Simplified Loader'!Y60>0,'Simplified Loader'!Y60,\"\")","v":""},{"$f":"IF('Simplified Loader'!T60>0,'Simplified Loader'!T60,\"\")","v":""},{"$f":"IF('Simplified Loader'!G60=\"Male\",\"Male\",IF('Simplified Loader'!G60=\"Female\",\"Female\",IF('Simplified Loader'!G60=\"M\",\"Male\",IF('Simplified Loader'!G60=\"F\",\"Female\",\"\"))))","v":""},{"$f":"IF('Simplified Loader'!U60=\"Yes\",\"Yes\",IF('Simplified Loader'!U60=\"No\",\"No\",IF('Simplified Loader'!U60=\"Y\",\"Yes\",IF('Simplified Loader'!U60=\"N\",\"No\",\"\"))))","v":""},{"$f":"IF('Simplified Loader'!I60=\"Single\",\"Single\",IF('Simplified Loader'!I60=\"Family\",\"Family\",IF('Simplified Loader'!I60=\"Waive\",\"Family\",IF('Simplified Loader'!I60=\"Single Parent\",\"Family\",IF('Simplified Loader'!I60=\"Couple\",\"Family\",IF('Simplified Loader'!I60=\"In force\",\"Family\",IF('Simplified Loader'!I60=\"Applies\",\"Family\",IF('Simplified Loader'!I60=\"Applicable\",\"Family\",\"\"))))))))","v":""},{"$f":"IF('Simplified Loader'!AC60=\"English\",\"English\",IF('Simplified Loader'!AC60=\"French\",\"French\",IF('Simplified Loader'!AC60=\"E\",\"English\",IF('Simplified Loader'!AC60=\"F\",\"French\",\"\"))))","v":""},{"$f":"IF('Simplified Loader'!AB60=\"Yes\",\"Yes\",IF('Simplified Loader'!AB60=\"No\",\"No\",IF('Simplified Loader'!AB60=\"Y\",\"Yes\",IF('Simplified Loader'!AB60=\"N\",\"No\",\"\"))))","v":""},{"$f":"IF('Simplified Loader'!AD60>0,'Simplified Loader'!AD60,\"\")","v":""},{"$f":"IF('Simplified Loader'!M60>0,'Simplified Loader'!M60,\"\")","v":""},{"$f":"IF('Simplified Loader'!N60>0,'Simplified Loader'!N60,\"\")","v":""},{"$f":"IF('Simplified Loader'!O60>0,'Simplified Loader'!O60,\"\")","v":""},{"$f":"IF('Simplified Loader'!I60=\"Waive\",\"Yes\",\"\")","v":""},{"$f":"IF('Simplified Loader'!I60=\"Waive\",\"Yes\",\"\")","v":""},{"$f":"IF('Simplified Loader'!AE60>0,'Simplified Loader'!AE60,\"\")","v":""},{"$f":"IF('Simplified Loader'!AF60>0,'Simplified Loader'!AF60,\"\")","v":""},{"$f":"IF('Simplified Loader'!AG60>0,'Simplified Loader'!AG60,\"\")","v":""},{"$f":"IF('Simplified Loader'!AH60>0,'Simplified Loader'!AH60,\"\")","v":""},{"$f":"IF('Simplified Loader'!AI60>0,'Simplified Loader'!AI60,\"\")","v":" "},{"$f":"IF('Simplified Loader'!AJ60>0,'Simplified Loader'!AJ60,\"\")","v":" "},{"$f":"IF('Simplified Loader'!W60>0,'Simplified Loader'!W60&\" \",\"\")&IF('Simplified Loader'!V60>0,'Simplified Loader'!V60,\"\")","v":""},null,{"$f":"IF('Simplified Loader'!X60>0,'Simplified Loader'!X60,\"\")","v":""},{"$f":"IF('Simplified Loader'!Y60>0,'Simplified Loader'!Y60,\"\")","v":""},{"$f":"IF('Simplified Loader'!Z60>0,'Simplified Loader'!Z60,\"\")","v":""},{"$f":"IF('Simplified Loader'!AA60>0,'Simplified Loader'!AA60,\"\")","v":""},{"$f":"IF('Simplified Loader'!E60>0,'Simplified Loader'!E60,\"\")","v":""},{"$f":"IF('Simplified Loader'!AK60>0,'Simplified Loader'!AK60,\"\")","v":""},{"$f":"IF('Simplified Loader'!AL60>0,'Simplified Loader'!AL60,\"\")","v":""},{"$f":"IF('Simplified Loader'!AM60>0,'Simplified Loader'!AM60,\"\")","v":""},{"$f":"IF('Simplified Loader'!AN60=\"Male\",\"Male\",IF('Simplified Loader'!AN60=\"Female\",\"Female\",IF('Simplified Loader'!AN60=\"M\",\"Male\",IF('Simplified Loader'!AN60=\"F\",\"Female\",\"\"))))","v":""},{"$f":"IF('Simplified Loader'!AO60=\"Single\",\"Single\",IF('Simplified Loader'!AO60=\"Family\",\"Family\",IF('Simplified Loader'!AO60=\"S\",\"Single\",IF('Simplified Loader'!AO60=\"F\",\"Family\",\"\"))))","v":""},{"$f":"IF('Simplified Loader'!AP60=\"Single\",\"Single\",IF('Simplified Loader'!AP60=\"Family\",\"Family\",IF('Simplified Loader'!AP60=\"S\",\"Single\",IF('Simplified Loader'!AP60=\"F\",\"Family\",\"\"))))","v":""},{"$f":"IF('Simplified Loader'!AQ60>0,'Simplified Loader'!AQ60,\"\")","v":""},{"$f":"IF('Simplified Loader'!AR60=\"Yes\",\"Yes\",IF('Simplified Loader'!AR60=\"No\",\"No\",IF('Simplified Loader'!AR60=\"Y\",\"Yes\",IF('Simplified Loader'!AR60=\"N\",\"No\",\"\"))))","v":""},{"$f":"IF('Simplified Loader'!AS60>0,'Simplified Loader'!AS60,\"\")","v":""},{"$f":"IF('Simplified Loader'!AT60>0,'Simplified Loader'!AT60,\"\")","v":""},{"$f":"IF('Simplified Loader'!AU60>0,'Simplified Loader'!AU60,\"\")","v":""},{"$f":"IF('Simplified Loader'!AV60=\"Male\",\"Male\",IF('Simplified Loader'!AV60=\"Female\",\"Female\",IF('Simplified Loader'!AV60=\"M\",\"Male\",IF('Simplified Loader'!AV60=\"F\",\"Female\",\"\"))))","v":""},{"$f":"IF('Simplified Loader'!AW60=\"Yes\",\"Yes\",IF('Simplified Loader'!AW60=\"No\",\"No\",IF('Simplified Loader'!AW60=\"Y\",\"Yes\",IF('Simplified Loader'!AW60=\"N\",\"No\",\"\"))))","v":""},{"$f":"IF('Simplified Loader'!AX60=\"Yes\",\"Yes\",IF('Simplified Loader'!AX60=\"No\",\"No\",IF('Simplified Loader'!AX60=\"Y\",\"Yes\",IF('Simplified Loader'!AX60=\"N\",\"No\",\"\"))))","v":""},{"$f":"IF('Simplified Loader'!AY60>0,'Simplified Loader'!AY60,\"\")","v":""},{"$f":"IF('Simplified Loader'!AZ60>0,'Simplified Loader'!AZ60,\"\")","v":""},{"$f":"IF('Simplified Loader'!BA60>0,'Simplified Loader'!BA60,\"\")","v":""},{"$f":"IF('Simplified Loader'!BB60=\"Male\",\"Male\",IF('Simplified Loader'!BB60=\"Female\",\"Female\",IF('Simplified Loader'!BB60=\"M\",\"Male\",IF('Simplified Loader'!BB60=\"F\",\"Female\",\"\"))))","v":""},{"$f":"IF('Simplified Loader'!BC60=\"Yes\",\"Yes\",IF('Simplified Loader'!BC60=\"No\",\"No\",IF('Simplified Loader'!BC60=\"Y\",\"Yes\",IF('Simplified Loader'!BC60=\"N\",\"No\",\"\"))))","v":""},{"$f":"IF('Simplified Loader'!BD60=\"Yes\",\"Yes\",IF('Simplified Loader'!BD60=\"No\",\"No\",IF('Simplified Loader'!BD60=\"Y\",\"Yes\",IF('Simplified Loader'!BD60=\"N\",\"No\",\"\"))))","v":""},{"$f":"IF('Simplified Loader'!BE60>0,'Simplified Loader'!BE60,\"\")","v":""},{"$f":"IF('Simplified Loader'!BF60>0,'Simplified Loader'!BF60,\"\")","v":""},{"$f":"IF('Simplified Loader'!BG60>0,'Simplified Loader'!BG60,\"\")","v":""},{"$f":"IF('Simplified Loader'!BH60=\"Male\",\"Male\",IF('Simplified Loader'!BH60=\"Female\",\"Female\",IF('Simplified Loader'!BH60=\"M\",\"Male\",IF('Simplified Loader'!BH60=\"F\",\"Female\",\"\"))))","v":""},{"$f":"IF('Simplified Loader'!BI60=\"Yes\",\"Yes\",IF('Simplified Loader'!BI60=\"No\",\"No\",IF('Simplified Loader'!BI60=\"Y\",\"Yes\",IF('Simplified Loader'!BI60=\"N\",\"No\",\"\"))))","v":""},{"$f":"IF('Simplified Loader'!BJ60=\"Yes\",\"Yes\",IF('Simplified Loader'!BJ60=\"No\",\"No\",IF('Simplified Loader'!BJ60=\"Y\",\"Yes\",IF('Simplified Loader'!BJ60=\"N\",\"No\",\"\"))))","v":""},{"$f":"IF('Simplified Loader'!BK60>0,'Simplified Loader'!BK60,\"\")","v":""},{"$f":"IF('Simplified Loader'!BL60>0,'Simplified Loader'!BL60,\"\")","v":""},{"$f":"IF('Simplified Loader'!BM60>0,'Simplified Loader'!BM60,\"\")","v":""},{"$f":"IF('Simplified Loader'!BN60=\"Male\",\"Male\",IF('Simplified Loader'!BN60=\"Female\",\"Female\",IF('Simplified Loader'!BN60=\"M\",\"Male\",IF('Simplified Loader'!BN60=\"F\",\"Female\",\"\"))))","v":""},{"$f":"IF('Simplified Loader'!BO60=\"Yes\",\"Yes\",IF('Simplified Loader'!BO60=\"No\",\"No\",IF('Simplified Loader'!BO60=\"Y\",\"Yes\",IF('Simplified Loader'!BO60=\"N\",\"No\",\"\"))))","v":""},{"$f":"IF('Simplified Loader'!BP60=\"Yes\",\"Yes\",IF('Simplified Loader'!BP60=\"No\",\"No\",IF('Simplified Loader'!BP60=\"Y\",\"Yes\",IF('Simplified Loader'!BP60=\"N\",\"No\",\"\"))))","v":""},{"$f":"IF('Simplified Loader'!BQ60>0,'Simplified Loader'!BQ60,\"\")","v":""},{"$f":"IF('Simplified Loader'!BR60>0,'Simplified Loader'!BR60,\"\")","v":""},{"$f":"IF('Simplified Loader'!BS60>0,'Simplified Loader'!BS60,\"\")","v":""},{"$f":"IF('Simplified Loader'!BT60=\"Male\",\"Male\",IF('Simplified Loader'!BT60=\"Female\",\"Female\",IF('Simplified Loader'!BT60=\"M\",\"Male\",IF('Simplified Loader'!BT60=\"F\",\"Female\",\"\"))))","v":""},{"$f":"IF('Simplified Loader'!BU60=\"Yes\",\"Yes\",IF('Simplified Loader'!BU60=\"No\",\"No\",IF('Simplified Loader'!BU60=\"Y\",\"Yes\",IF('Simplified Loader'!BU60=\"N\",\"No\",\"\"))))","v":""},{"$f":"IF('Simplified Loader'!BV60=\"Yes\",\"Yes\",IF('Simplified Loader'!BV60=\"No\",\"No\",IF('Simplified Loader'!BV60=\"Y\",\"Yes\",IF('Simplified Loader'!BV60=\"N\",\"No\",\"\"))))","v":""},{"$f":"IF('Simplified Loader'!BW60>0,'Simplified Loader'!BW60,\"\")","v":""},{"$f":"IF('Simplified Loader'!BX60>0,'Simplified Loader'!BX60,\"\")","v":""},{"$f":"IF('Simplified Loader'!BY60>0,'Simplified Loader'!BY60,\"\")","v":""},{"$f":"IF('Simplified Loader'!BZ60=\"Male\",\"Male\",IF('Simplified Loader'!BZ60=\"Female\",\"Female\",IF('Simplified Loader'!BZ60=\"M\",\"Male\",IF('Simplified Loader'!BZ60=\"F\",\"Female\",\"\"))))","v":""},{"$f":"IF('Simplified Loader'!CA60=\"Yes\",\"Yes\",IF('Simplified Loader'!CA60=\"No\",\"No\",IF('Simplified Loader'!CA60=\"Y\",\"Yes\",IF('Simplified Loader'!CA60=\"N\",\"No\",\"\"))))","v":""},{"$f":"IF('Simplified Loader'!CB60=\"Yes\",\"Yes\",IF('Simplified Loader'!CB60=\"No\",\"No\",IF('Simplified Loader'!CB60=\"Y\",\"Yes\",IF('Simplified Loader'!CB60=\"N\",\"No\",\"\"))))","v":""},{"$f":"IF('Simplified Loader'!CH60>0,'Simplified Loader'!CH60,\"\")","v":"    "}]
[{"$f":"IF('Simplified Loader'!A61>0,'Simplified Loader'!A61,\"\")","v":""},{"$f":"IF('Simplified Loader'!B61>0,'Simplified Loader'!B61,\"\")","v":""},{"$f":"IF('Simplified Loader'!C61>0,'Simplified Loader'!C61,\"\")","v":""},{"$f":"IF('Simplified Loader'!D61>0,'Simplified Loader'!D61,\"\")","v":""},{"$f":"IF('Simplified Loader'!P61>0,TEXT('Simplified Loader'!P61,\"000\"),\"\")","v":""},{"$f":"IF('Simplified Loader'!Q61>0,'Simplified Loader'!Q61,\"\")","v":""},{"$f":"IF('Simplified Loader'!R61>0,'Simplified Loader'!R61,\"\")","v":""},{"$f":"IF('Simplified Loader'!F61>0,DATEVALUE(TEXT('Simplified Loader'!F61,\"yyyy-mm-dd\")),\"\")","v":""},{"$f":"IF('Simplified Loader'!L61>0,DATEVALUE(TEXT('Simplified Loader'!L61,\"yyyy-mm-dd\")),\"\")","v":""},{"$f":"IF('Simplified Loader'!Y61>0,'Simplified Loader'!Y61,\"\")","v":""},{"$f":"IF('Simplified Loader'!T61>0,'Simplified Loader'!T61,\"\")","v":""},{"$f":"IF('Simplified Loader'!G61=\"Male\",\"Male\",IF('Simplified Loader'!G61=\"Female\",\"Female\",IF('Simplified Loader'!G61=\"M\",\"Male\",IF('Simplified Loader'!G61=\"F\",\"Female\",\"\"))))","v":""},{"$f":"IF('Simplified Loader'!U61=\"Yes\",\"Yes\",IF('Simplified Loader'!U61=\"No\",\"No\",IF('Simplified Loader'!U61=\"Y\",\"Yes\",IF('Simplified Loader'!U61=\"N\",\"No\",\"\"))))","v":""},{"$f":"IF('Simplified Loader'!I61=\"Single\",\"Single\",IF('Simplified Loader'!I61=\"Family\",\"Family\",IF('Simplified Loader'!I61=\"Waive\",\"Family\",IF('Simplified Loader'!I61=\"Single Parent\",\"Family\",IF('Simplified Loader'!I61=\"Couple\",\"Family\",IF('Simplified Loader'!I61=\"In force\",\"Family\",IF('Simplified Loader'!I61=\"Applies\",\"Family\",IF('Simplified Loader'!I61=\"Applicable\",\"Family\",\"\"))))))))","v":""},{"$f":"IF('Simplified Loader'!AC61=\"English\",\"English\",IF('Simplified Loader'!AC61=\"French\",\"French\",IF('Simplified Loader'!AC61=\"E\",\"English\",IF('Simplified Loader'!AC61=\"F\",\"French\",\"\"))))","v":""},{"$f":"IF('Simplified Loader'!AB61=\"Yes\",\"Yes\",IF('Simplified Loader'!AB61=\"No\",\"No\",IF('Simplified Loader'!AB61=\"Y\",\"Yes\",IF('Simplified Loader'!AB61=\"N\",\"No\",\"\"))))","v":""},{"$f":"IF('Simplified Loader'!AD61>0,'Simplified Loader'!AD61,\"\")","v":""},{"$f":"IF('Simplified Loader'!M61>0,'Simplified Loader'!M61,\"\")","v":""},{"$f":"IF('Simplified Loader'!N61>0,'Simplified Loader'!N61,\"\")","v":""},{"$f":"IF('Simplified Loader'!O61>0,'Simplified Loader'!O61,\"\")","v":""},{"$f":"IF('Simplified Loader'!I61=\"Waive\",\"Yes\",\"\")","v":""},{"$f":"IF('Simplified Loader'!I61=\"Waive\",\"Yes\",\"\")","v":""},{"$f":"IF('Simplified Loader'!AE61>0,'Simplified Loader'!AE61,\"\")","v":""},{"$f":"IF('Simplified Loader'!AF61>0,'Simplified Loader'!AF61,\"\")","v":""},{"$f":"IF('Simplified Loader'!AG61>0,'Simplified Loader'!AG61,\"\")","v":""},{"$f":"IF('Simplified Loader'!AH61>0,'Simplified Loader'!AH61,\"\")","v":""},{"$f":"IF('Simplified Loader'!AI61>0,'Simplified Loader'!AI61,\"\")","v":" "},{"$f":"IF('Simplified Loader'!AJ61>0,'Simplified Loader'!AJ61,\"\")","v":" "},{"$f":"IF('Simplified Loader'!W61>0,'Simplified Loader'!W61&\" \",\"\")&IF('Simplified Loader'!V61>0,'Simplified Loader'!V61,\"\")","v":""},null,{"$f":"IF('Simplified Loader'!X61>0,'Simplified Loader'!X61,\"\")","v":""},{"$f":"IF('Simplified Loader'!Y61>0,'Simplified Loader'!Y61,\"\")","v":""},{"$f":"IF('Simplified Loader'!Z61>0,'Simplified Loader'!Z61,\"\")","v":""},{"$f":"IF('Simplified Loader'!AA61>0,'Simplified Loader'!AA61,\"\")","v":""},{"$f":"IF('Simplified Loader'!E61>0,'Simplified Loader'!E61,\"\")","v":""},{"$f":"IF('Simplified Loader'!AK61>0,'Simplified Loader'!AK61,\"\")","v":""},{"$f":"IF('Simplified Loader'!AL61>0,'Simplified Loader'!AL61,\"\")","v":""},{"$f":"IF('Simplified Loader'!AM61>0,'Simplified Loader'!AM61,\"\")","v":""},{"$f":"IF('Simplified Loader'!AN61=\"Male\",\"Male\",IF('Simplified Loader'!AN61=\"Female\",\"Female\",IF('Simplified Loader'!AN61=\"M\",\"Male\",IF('Simplified Loader'!AN61=\"F\",\"Female\",\"\"))))","v":""},{"$f":"IF('Simplified Loader'!AO61=\"Single\",\"Single\",IF('Simplified Loader'!AO61=\"Family\",\"Family\",IF('Simplified Loader'!AO61=\"S\",\"Single\",IF('Simplified Loader'!AO61=\"F\",\"Family\",\"\"))))","v":""},{"$f":"IF('Simplified Loader'!AP61=\"Single\",\"Single\",IF('Simplified Loader'!AP61=\"Family\",\"Family\",IF('Simplified Loader'!AP61=\"S\",\"Single\",IF('Simplified Loader'!AP61=\"F\",\"Family\",\"\"))))","v":""},{"$f":"IF('Simplified Loader'!AQ61>0,'Simplified Loader'!AQ61,\"\")","v":""},{"$f":"IF('Simplified Loader'!AR61=\"Yes\",\"Yes\",IF('Simplified Loader'!AR61=\"No\",\"No\",IF('Simplified Loader'!AR61=\"Y\",\"Yes\",IF('Simplified Loader'!AR61=\"N\",\"No\",\"\"))))","v":""},{"$f":"IF('Simplified Loader'!AS61>0,'Simplified Loader'!AS61,\"\")","v":""},{"$f":"IF('Simplified Loader'!AT61>0,'Simplified Loader'!AT61,\"\")","v":""},{"$f":"IF('Simplified Loader'!AU61>0,'Simplified Loader'!AU61,\"\")","v":""},{"$f":"IF('Simplified Loader'!AV61=\"Male\",\"Male\",IF('Simplified Loader'!AV61=\"Female\",\"Female\",IF('Simplified Loader'!AV61=\"M\",\"Male\",IF('Simplified Loader'!AV61=\"F\",\"Female\",\"\"))))","v":""},{"$f":"IF('Simplified Loader'!AW61=\"Yes\",\"Yes\",IF('Simplified Loader'!AW61=\"No\",\"No\",IF('Simplified Loader'!AW61=\"Y\",\"Yes\",IF('Simplified Loader'!AW61=\"N\",\"No\",\"\"))))","v":""},{"$f":"IF('Simplified Loader'!AX61=\"Yes\",\"Yes\",IF('Simplified Loader'!AX61=\"No\",\"No\",IF('Simplified Loader'!AX61=\"Y\",\"Yes\",IF('Simplified Loader'!AX61=\"N\",\"No\",\"\"))))","v":""},{"$f":"IF('Simplified Loader'!AY61>0,'Simplified Loader'!AY61,\"\")","v":""},{"$f":"IF('Simplified Loader'!AZ61>0,'Simplified Loader'!AZ61,\"\")","v":""},{"$f":"IF('Simplified Loader'!BA61>0,'Simplified Loader'!BA61,\"\")","v":""},{"$f":"IF('Simplified Loader'!BB61=\"Male\",\"Male\",IF('Simplified Loader'!BB61=\"Female\",\"Female\",IF('Simplified Loader'!BB61=\"M\",\"Male\",IF('Simplified Loader'!BB61=\"F\",\"Female\",\"\"))))","v":""},{"$f":"IF('Simplified Loader'!BC61=\"Yes\",\"Yes\",IF('Simplified Loader'!BC61=\"No\",\"No\",IF('Simplified Loader'!BC61=\"Y\",\"Yes\",IF('Simplified Loader'!BC61=\"N\",\"No\",\"\"))))","v":""},{"$f":"IF('Simplified Loader'!BD61=\"Yes\",\"Yes\",IF('Simplified Loader'!BD61=\"No\",\"No\",IF('Simplified Loader'!BD61=\"Y\",\"Yes\",IF('Simplified Loader'!BD61=\"N\",\"No\",\"\"))))","v":""},{"$f":"IF('Simplified Loader'!BE61>0,'Simplified Loader'!BE61,\"\")","v":""},{"$f":"IF('Simplified Loader'!BF61>0,'Simplified Loader'!BF61,\"\")","v":""},{"$f":"IF('Simplified Loader'!BG61>0,'Simplified Loader'!BG61,\"\")","v":""},{"$f":"IF('Simplified Loader'!BH61=\"Male\",\"Male\",IF('Simplified Loader'!BH61=\"Female\",\"Female\",IF('Simplified Loader'!BH61=\"M\",\"Male\",IF('Simplified Loader'!BH61=\"F\",\"Female\",\"\"))))","v":""},{"$f":"IF('Simplified Loader'!BI61=\"Yes\",\"Yes\",IF('Simplified Loader'!BI61=\"No\",\"No\",IF('Simplified Loader'!BI61=\"Y\",\"Yes\",IF('Simplified Loader'!BI61=\"N\",\"No\",\"\"))))","v":""},{"$f":"IF('Simplified Loader'!BJ61=\"Yes\",\"Yes\",IF('Simplified Loader'!BJ61=\"No\",\"No\",IF('Simplified Loader'!BJ61=\"Y\",\"Yes\",IF('Simplified Loader'!BJ61=\"N\",\"No\",\"\"))))","v":""},{"$f":"IF('Simplified Loader'!BK61>0,'Simplified Loader'!BK61,\"\")","v":""},{"$f":"IF('Simplified Loader'!BL61>0,'Simplified Loader'!BL61,\"\")","v":""},{"$f":"IF('Simplified Loader'!BM61>0,'Simplified Loader'!BM61,\"\")","v":""},{"$f":"IF('Simplified Loader'!BN61=\"Male\",\"Male\",IF('Simplified Loader'!BN61=\"Female\",\"Female\",IF('Simplified Loader'!BN61=\"M\",\"Male\",IF('Simplified Loader'!BN61=\"F\",\"Female\",\"\"))))","v":""},{"$f":"IF('Simplified Loader'!BO61=\"Yes\",\"Yes\",IF('Simplified Loader'!BO61=\"No\",\"No\",IF('Simplified Loader'!BO61=\"Y\",\"Yes\",IF('Simplified Loader'!BO61=\"N\",\"No\",\"\"))))","v":""},{"$f":"IF('Simplified Loader'!BP61=\"Yes\",\"Yes\",IF('Simplified Loader'!BP61=\"No\",\"No\",IF('Simplified Loader'!BP61=\"Y\",\"Yes\",IF('Simplified Loader'!BP61=\"N\",\"No\",\"\"))))","v":""},{"$f":"IF('Simplified Loader'!BQ61>0,'Simplified Loader'!BQ61,\"\")","v":""},{"$f":"IF('Simplified Loader'!BR61>0,'Simplified Loader'!BR61,\"\")","v":""},{"$f":"IF('Simplified Loader'!BS61>0,'Simplified Loader'!BS61,\"\")","v":""},{"$f":"IF('Simplified Loader'!BT61=\"Male\",\"Male\",IF('Simplified Loader'!BT61=\"Female\",\"Female\",IF('Simplified Loader'!BT61=\"M\",\"Male\",IF('Simplified Loader'!BT61=\"F\",\"Female\",\"\"))))","v":""},{"$f":"IF('Simplified Loader'!BU61=\"Yes\",\"Yes\",IF('Simplified Loader'!BU61=\"No\",\"No\",IF('Simplified Loader'!BU61=\"Y\",\"Yes\",IF('Simplified Loader'!BU61=\"N\",\"No\",\"\"))))","v":""},{"$f":"IF('Simplified Loader'!BV61=\"Yes\",\"Yes\",IF('Simplified Loader'!BV61=\"No\",\"No\",IF('Simplified Loader'!BV61=\"Y\",\"Yes\",IF('Simplified Loader'!BV61=\"N\",\"No\",\"\"))))","v":""},{"$f":"IF('Simplified Loader'!BW61>0,'Simplified Loader'!BW61,\"\")","v":""},{"$f":"IF('Simplified Loader'!BX61>0,'Simplified Loader'!BX61,\"\")","v":""},{"$f":"IF('Simplified Loader'!BY61>0,'Simplified Loader'!BY61,\"\")","v":""},{"$f":"IF('Simplified Loader'!BZ61=\"Male\",\"Male\",IF('Simplified Loader'!BZ61=\"Female\",\"Female\",IF('Simplified Loader'!BZ61=\"M\",\"Male\",IF('Simplified Loader'!BZ61=\"F\",\"Female\",\"\"))))","v":""},{"$f":"IF('Simplified Loader'!CA61=\"Yes\",\"Yes\",IF('Simplified Loader'!CA61=\"No\",\"No\",IF('Simplified Loader'!CA61=\"Y\",\"Yes\",IF('Simplified Loader'!CA61=\"N\",\"No\",\"\"))))","v":""},{"$f":"IF('Simplified Loader'!CB61=\"Yes\",\"Yes\",IF('Simplified Loader'!CB61=\"No\",\"No\",IF('Simplified Loader'!CB61=\"Y\",\"Yes\",IF('Simplified Loader'!CB61=\"N\",\"No\",\"\"))))","v":""},{"$f":"IF('Simplified Loader'!CH61>0,'Simplified Loader'!CH61,\"\")","v":"    "}]
[{"$f":"IF('Simplified Loader'!A62>0,'Simplified Loader'!A62,\"\")","v":""},{"$f":"IF('Simplified Loader'!B62>0,'Simplified Loader'!B62,\"\")","v":""},{"$f":"IF('Simplified Loader'!C62>0,'Simplified Loader'!C62,\"\")","v":""},{"$f":"IF('Simplified Loader'!D62>0,'Simplified Loader'!D62,\"\")","v":""},{"$f":"IF('Simplified Loader'!P62>0,TEXT('Simplified Loader'!P62,\"000\"),\"\")","v":""},{"$f":"IF('Simplified Loader'!Q62>0,'Simplified Loader'!Q62,\"\")","v":""},{"$f":"IF('Simplified Loader'!R62>0,'Simplified Loader'!R62,\"\")","v":""},{"$f":"IF('Simplified Loader'!F62>0,DATEVALUE(TEXT('Simplified Loader'!F62,\"yyyy-mm-dd\")),\"\")","v":""},{"$f":"IF('Simplified Loader'!L62>0,DATEVALUE(TEXT('Simplified Loader'!L62,\"yyyy-mm-dd\")),\"\")","v":""},{"$f":"IF('Simplified Loader'!Y62>0,'Simplified Loader'!Y62,\"\")","v":""},{"$f":"IF('Simplified Loader'!T62>0,'Simplified Loader'!T62,\"\")","v":""},{"$f":"IF('Simplified Loader'!G62=\"Male\",\"Male\",IF('Simplified Loader'!G62=\"Female\",\"Female\",IF('Simplified Loader'!G62=\"M\",\"Male\",IF('Simplified Loader'!G62=\"F\",\"Female\",\"\"))))","v":""},{"$f":"IF('Simplified Loader'!U62=\"Yes\",\"Yes\",IF('Simplified Loader'!U62=\"No\",\"No\",IF('Simplified Loader'!U62=\"Y\",\"Yes\",IF('Simplified Loader'!U62=\"N\",\"No\",\"\"))))","v":""},{"$f":"IF('Simplified Loader'!I62=\"Single\",\"Single\",IF('Simplified Loader'!I62=\"Family\",\"Family\",IF('Simplified Loader'!I62=\"Waive\",\"Family\",IF('Simplified Loader'!I62=\"Single Parent\",\"Family\",IF('Simplified Loader'!I62=\"Couple\",\"Family\",IF('Simplified Loader'!I62=\"In force\",\"Family\",IF('Simplified Loader'!I62=\"Applies\",\"Family\",IF('Simplified Loader'!I62=\"Applicable\",\"Family\",\"\"))))))))","v":""},{"$f":"IF('Simplified Loader'!AC62=\"English\",\"English\",IF('Simplified Loader'!AC62=\"French\",\"French\",IF('Simplified Loader'!AC62=\"E\",\"English\",IF('Simplified Loader'!AC62=\"F\",\"French\",\"\"))))","v":""},{"$f":"IF('Simplified Loader'!AB62=\"Yes\",\"Yes\",IF('Simplified Loader'!AB62=\"No\",\"No\",IF('Simplified Loader'!AB62=\"Y\",\"Yes\",IF('Simplified Loader'!AB62=\"N\",\"No\",\"\"))))","v":""},{"$f":"IF('Simplified Loader'!AD62>0,'Simplified Loader'!AD62,\"\")","v":""},{"$f":"IF('Simplified Loader'!M62>0,'Simplified Loader'!M62,\"\")","v":""},{"$f":"IF('Simplified Loader'!N62>0,'Simplified Loader'!N62,\"\")","v":""},{"$f":"IF('Simplified Loader'!O62>0,'Simplified Loader'!O62,\"\")","v":""},{"$f":"IF('Simplified Loader'!I62=\"Waive\",\"Yes\",\"\")","v":""},{"$f":"IF('Simplified Loader'!I62=\"Waive\",\"Yes\",\"\")","v":""},{"$f":"IF('Simplified Loader'!AE62>0,'Simplified Loader'!AE62,\"\")","v":""},{"$f":"IF('Simplified Loader'!AF62>0,'Simplified Loader'!AF62,\"\")","v":""},{"$f":"IF('Simplified Loader'!AG62>0,'Simplified Loader'!AG62,\"\")","v":""},{"$f":"IF('Simplified Loader'!AH62>0,'Simplified Loader'!AH62,\"\")","v":""},{"$f":"IF('Simplified Loader'!AI62>0,'Simplified Loader'!AI62,\"\")","v":" "},{"$f":"IF('Simplified Loader'!AJ62>0,'Simplified Loader'!AJ62,\"\")","v":" "},{"$f":"IF('Simplified Loader'!W62>0,'Simplified Loader'!W62&\" \",\"\")&IF('Simplified Loader'!V62>0,'Simplified Loader'!V62,\"\")","v":""},null,{"$f":"IF('Simplified Loader'!X62>0,'Simplified Loader'!X62,\"\")","v":""},{"$f":"IF('Simplified Loader'!Y62>0,'Simplified Loader'!Y62,\"\")","v":""},{"$f":"IF('Simplified Loader'!Z62>0,'Simplified Loader'!Z62,\"\")","v":""},{"$f":"IF('Simplified Loader'!AA62>0,'Simplified Loader'!AA62,\"\")","v":""},{"$f":"IF('Simplified Loader'!E62>0,'Simplified Loader'!E62,\"\")","v":""},{"$f":"IF('Simplified Loader'!AK62>0,'Simplified Loader'!AK62,\"\")","v":""},{"$f":"IF('Simplified Loader'!AL62>0,'Simplified Loader'!AL62,\"\")","v":""},{"$f":"IF('Simplified Loader'!AM62>0,'Simplified Loader'!AM62,\"\")","v":""},{"$f":"IF('Simplified Loader'!AN62=\"Male\",\"Male\",IF('Simplified Loader'!AN62=\"Female\",\"Female\",IF('Simplified Loader'!AN62=\"M\",\"Male\",IF('Simplified Loader'!AN62=\"F\",\"Female\",\"\"))))","v":""},{"$f":"IF('Simplified Loader'!AO62=\"Single\",\"Single\",IF('Simplified Loader'!AO62=\"Family\",\"Family\",IF('Simplified Loader'!AO62=\"S\",\"Single\",IF('Simplified Loader'!AO62=\"F\",\"Family\",\"\"))))","v":""},{"$f":"IF('Simplified Loader'!AP62=\"Single\",\"Single\",IF('Simplified Loader'!AP62=\"Family\",\"Family\",IF('Simplified Loader'!AP62=\"S\",\"Single\",IF('Simplified Loader'!AP62=\"F\",\"Family\",\"\"))))","v":""},{"$f":"IF('Simplified Loader'!AQ62>0,'Simplified Loader'!AQ62,\"\")","v":""},{"$f":"IF('Simplified Loader'!AR62=\"Yes\",\"Yes\",IF('Simplified Loader'!AR62=\"No\",\"No\",IF('Simplified Loader'!AR62=\"Y\",\"Yes\",IF('Simplified Loader'!AR62=\"N\",\"No\",\"\"))))","v":""},{"$f":"IF('Simplified Loader'!AS62>0,'Simplified Loader'!AS62,\"\")","v":""},{"$f":"IF('Simplified Loader'!AT62>0,'Simplified Loader'!AT62,\"\")","v":""},{"$f":"IF('Simplified Loader'!AU62>0,'Simplified Loader'!AU62,\"\")","v":""},{"$f":"IF('Simplified Loader'!AV62=\"Male\",\"Male\",IF('Simplified Loader'!AV62=\"Female\",\"Female\",IF('Simplified Loader'!AV62=\"M\",\"Male\",IF('Simplified Loader'!AV62=\"F\",\"Female\",\"\"))))","v":""},{"$f":"IF('Simplified Loader'!AW62=\"Yes\",\"Yes\",IF('Simplified Loader'!AW62=\"No\",\"No\",IF('Simplified Loader'!AW62=\"Y\",\"Yes\",IF('Simplified Loader'!AW62=\"N\",\"No\",\"\"))))","v":""},{"$f":"IF('Simplified Loader'!AX62=\"Yes\",\"Yes\",IF('Simplified Loader'!AX62=\"No\",\"No\",IF('Simplified Loader'!AX62=\"Y\",\"Yes\",IF('Simplified Loader'!AX62=\"N\",\"No\",\"\"))))","v":""},{"$f":"IF('Simplified Loader'!AY62>0,'Simplified Loader'!AY62,\"\")","v":""},{"$f":"IF('Simplified Loader'!AZ62>0,'Simplified Loader'!AZ62,\"\")","v":""},{"$f":"IF('Simplified Loader'!BA62>0,'Simplified Loader'!BA62,\"\")","v":""},{"$f":"IF('Simplified Loader'!BB62=\"Male\",\"Male\",IF('Simplified Loader'!BB62=\"Female\",\"Female\",IF('Simplified Loader'!BB62=\"M\",\"Male\",IF('Simplified Loader'!BB62=\"F\",\"Female\",\"\"))))","v":""},{"$f":"IF('Simplified Loader'!BC62=\"Yes\",\"Yes\",IF('Simplified Loader'!BC62=\"No\",\"No\",IF('Simplified Loader'!BC62=\"Y\",\"Yes\",IF('Simplified Loader'!BC62=\"N\",\"No\",\"\"))))","v":""},{"$f":"IF('Simplified Loader'!BD62=\"Yes\",\"Yes\",IF('Simplified Loader'!BD62=\"No\",\"No\",IF('Simplified Loader'!BD62=\"Y\",\"Yes\",IF('Simplified Loader'!BD62=\"N\",\"No\",\"\"))))","v":""},{"$f":"IF('Simplified Loader'!BE62>0,'Simplified Loader'!BE62,\"\")","v":""},{"$f":"IF('Simplified Loader'!BF62>0,'Simplified Loader'!BF62,\"\")","v":""},{"$f":"IF('Simplified Loader'!BG62>0,'Simplified Loader'!BG62,\"\")","v":""},{"$f":"IF('Simplified Loader'!BH62=\"Male\",\"Male\",IF('Simplified Loader'!BH62=\"Female\",\"Female\",IF('Simplified Loader'!BH62=\"M\",\"Male\",IF('Simplified Loader'!BH62=\"F\",\"Female\",\"\"))))","v":""},{"$f":"IF('Simplified Loader'!BI62=\"Yes\",\"Yes\",IF('Simplified Loader'!BI62=\"No\",\"No\",IF('Simplified Loader'!BI62=\"Y\",\"Yes\",IF('Simplified Loader'!BI62=\"N\",\"No\",\"\"))))","v":""},{"$f":"IF('Simplified Loader'!BJ62=\"Yes\",\"Yes\",IF('Simplified Loader'!BJ62=\"No\",\"No\",IF('Simplified Loader'!BJ62=\"Y\",\"Yes\",IF('Simplified Loader'!BJ62=\"N\",\"No\",\"\"))))","v":""},{"$f":"IF('Simplified Loader'!BK62>0,'Simplified Loader'!BK62,\"\")","v":""},{"$f":"IF('Simplified Loader'!BL62>0,'Simplified Loader'!BL62,\"\")","v":""},{"$f":"IF('Simplified Loader'!BM62>0,'Simplified Loader'!BM62,\"\")","v":""},{"$f":"IF('Simplified Loader'!BN62=\"Male\",\"Male\",IF('Simplified Loader'!BN62=\"Female\",\"Female\",IF('Simplified Loader'!BN62=\"M\",\"Male\",IF('Simplified Loader'!BN62=\"F\",\"Female\",\"\"))))","v":""},{"$f":"IF('Simplified Loader'!BO62=\"Yes\",\"Yes\",IF('Simplified Loader'!BO62=\"No\",\"No\",IF('Simplified Loader'!BO62=\"Y\",\"Yes\",IF('Simplified Loader'!BO62=\"N\",\"No\",\"\"))))","v":""},{"$f":"IF('Simplified Loader'!BP62=\"Yes\",\"Yes\",IF('Simplified Loader'!BP62=\"No\",\"No\",IF('Simplified Loader'!BP62=\"Y\",\"Yes\",IF('Simplified Loader'!BP62=\"N\",\"No\",\"\"))))","v":""},{"$f":"IF('Simplified Loader'!BQ62>0,'Simplified Loader'!BQ62,\"\")","v":""},{"$f":"IF('Simplified Loader'!BR62>0,'Simplified Loader'!BR62,\"\")","v":""},{"$f":"IF('Simplified Loader'!BS62>0,'Simplified Loader'!BS62,\"\")","v":""},{"$f":"IF('Simplified Loader'!BT62=\"Male\",\"Male\",IF('Simplified Loader'!BT62=\"Female\",\"Female\",IF('Simplified Loader'!BT62=\"M\",\"Male\",IF('Simplified Loader'!BT62=\"F\",\"Female\",\"\"))))","v":""},{"$f":"IF('Simplified Loader'!BU62=\"Yes\",\"Yes\",IF('Simplified Loader'!BU62=\"No\",\"No\",IF('Simplified Loader'!BU62=\"Y\",\"Yes\",IF('Simplified Loader'!BU62=\"N\",\"No\",\"\"))))","v":""},{"$f":"IF('Simplified Loader'!BV62=\"Yes\",\"Yes\",IF('Simplified Loader'!BV62=\"No\",\"No\",IF('Simplified Loader'!BV62=\"Y\",\"Yes\",IF('Simplified Loader'!BV62=\"N\",\"No\",\"\"))))","v":""},{"$f":"IF('Simplified Loader'!BW62>0,'Simplified Loader'!BW62,\"\")","v":""},{"$f":"IF('Simplified Loader'!BX62>0,'Simplified Loader'!BX62,\"\")","v":""},{"$f":"IF('Simplified Loader'!BY62>0,'Simplified Loader'!BY62,\"\")","v":""},{"$f":"IF('Simplified Loader'!BZ62=\"Male\",\"Male\",IF('Simplified Loader'!BZ62=\"Female\",\"Female\",IF('Simplified Loader'!BZ62=\"M\",\"Male\",IF('Simplified Loader'!BZ62=\"F\",\"Female\",\"\"))))","v":""},{"$f":"IF('Simplified Loader'!CA62=\"Yes\",\"Yes\",IF('Simplified Loader'!CA62=\"No\",\"No\",IF('Simplified Loader'!CA62=\"Y\",\"Yes\",IF('Simplified Loader'!CA62=\"N\",\"No\",\"\"))))","v":""},{"$f":"IF('Simplified Loader'!CB62=\"Yes\",\"Yes\",IF('Simplified Loader'!CB62=\"No\",\"No\",IF('Simplified Loader'!CB62=\"Y\",\"Yes\",IF('Simplified Loader'!CB62=\"N\",\"No\",\"\"))))","v":""},{"$f":"IF('Simplified Loader'!CH62>0,'Simplified Loader'!CH62,\"\")","v":"    "}]
[{"$f":"IF('Simplified Loader'!A63>0,'Simplified Loader'!A63,\"\")","v":""},{"$f":"IF('Simplified Loader'!B63>0,'Simplified Loader'!B63,\"\")","v":""},{"$f":"IF('Simplified Loader'!C63>0,'Simplified Loader'!C63,\"\")","v":""},{"$f":"IF('Simplified Loader'!D63>0,'Simplified Loader'!D63,\"\")","v":""},{"$f":"IF('Simplified Loader'!P63>0,TEXT('Simplified Loader'!P63,\"000\"),\"\")","v":""},{"$f":"IF('Simplified Loader'!Q63>0,'Simplified Loader'!Q63,\"\")","v":""},{"$f":"IF('Simplified Loader'!R63>0,'Simplified Loader'!R63,\"\")","v":""},{"$f":"IF('Simplified Loader'!F63>0,DATEVALUE(TEXT('Simplified Loader'!F63,\"yyyy-mm-dd\")),\"\")","v":""},{"$f":"IF('Simplified Loader'!L63>0,DATEVALUE(TEXT('Simplified Loader'!L63,\"yyyy-mm-dd\")),\"\")","v":""},{"$f":"IF('Simplified Loader'!Y63>0,'Simplified Loader'!Y63,\"\")","v":""},{"$f":"IF('Simplified Loader'!T63>0,'Simplified Loader'!T63,\"\")","v":""},{"$f":"IF('Simplified Loader'!G63=\"Male\",\"Male\",IF('Simplified Loader'!G63=\"Female\",\"Female\",IF('Simplified Loader'!G63=\"M\",\"Male\",IF('Simplified Loader'!G63=\"F\",\"Female\",\"\"))))","v":""},{"$f":"IF('Simplified Loader'!U63=\"Yes\",\"Yes\",IF('Simplified Loader'!U63=\"No\",\"No\",IF('Simplified Loader'!U63=\"Y\",\"Yes\",IF('Simplified Loader'!U63=\"N\",\"No\",\"\"))))","v":""},{"$f":"IF('Simplified Loader'!I63=\"Single\",\"Single\",IF('Simplified Loader'!I63=\"Family\",\"Family\",IF('Simplified Loader'!I63=\"Waive\",\"Family\",IF('Simplified Loader'!I63=\"Single Parent\",\"Family\",IF('Simplified Loader'!I63=\"Couple\",\"Family\",IF('Simplified Loader'!I63=\"In force\",\"Family\",IF('Simplified Loader'!I63=\"Applies\",\"Family\",IF('Simplified Loader'!I63=\"Applicable\",\"Family\",\"\"))))))))","v":""},{"$f":"IF('Simplified Loader'!AC63=\"English\",\"English\",IF('Simplified Loader'!AC63=\"French\",\"French\",IF('Simplified Loader'!AC63=\"E\",\"English\",IF('Simplified Loader'!AC63=\"F\",\"French\",\"\"))))","v":""},{"$f":"IF('Simplified Loader'!AB63=\"Yes\",\"Yes\",IF('Simplified Loader'!AB63=\"No\",\"No\",IF('Simplified Loader'!AB63=\"Y\",\"Yes\",IF('Simplified Loader'!AB63=\"N\",\"No\",\"\"))))","v":""},{"$f":"IF('Simplified Loader'!AD63>0,'Simplified Loader'!AD63,\"\")","v":""},{"$f":"IF('Simplified Loader'!M63>0,'Simplified Loader'!M63,\"\")","v":""},{"$f":"IF('Simplified Loader'!N63>0,'Simplified Loader'!N63,\"\")","v":""},{"$f":"IF('Simplified Loader'!O63>0,'Simplified Loader'!O63,\"\")","v":""},{"$f":"IF('Simplified Loader'!I63=\"Waive\",\"Yes\",\"\")","v":""},{"$f":"IF('Simplified Loader'!I63=\"Waive\",\"Yes\",\"\")","v":""},{"$f":"IF('Simplified Loader'!AE63>0,'Simplified Loader'!AE63,\"\")","v":""},{"$f":"IF('Simplified Loader'!AF63>0,'Simplified Loader'!AF63,\"\")","v":""},{"$f":"IF('Simplified Loader'!AG63>0,'Simplified Loader'!AG63,\"\")","v":""},{"$f":"IF('Simplified Loader'!AH63>0,'Simplified Loader'!AH63,\"\")","v":""},{"$f":"IF('Simplified Loader'!AI63>0,'Simplified Loader'!AI63,\"\")","v":" "},{"$f":"IF('Simplified Loader'!AJ63>0,'Simplified Loader'!AJ63,\"\")","v":" "},{"$f":"IF('Simplified Loader'!W63>0,'Simplified Loader'!W63&\" \",\"\")&IF('Simplified Loader'!V63>0,'Simplified Loader'!V63,\"\")","v":""},null,{"$f":"IF('Simplified Loader'!X63>0,'Simplified Loader'!X63,\"\")","v":""},{"$f":"IF('Simplified Loader'!Y63>0,'Simplified Loader'!Y63,\"\")","v":""},{"$f":"IF('Simplified Loader'!Z63>0,'Simplified Loader'!Z63,\"\")","v":""},{"$f":"IF('Simplified Loader'!AA63>0,'Simplified Loader'!AA63,\"\")","v":""},{"$f":"IF('Simplified Loader'!E63>0,'Simplified Loader'!E63,\"\")","v":""},{"$f":"IF('Simplified Loader'!AK63>0,'Simplified Loader'!AK63,\"\")","v":""},{"$f":"IF('Simplified Loader'!AL63>0,'Simplified Loader'!AL63,\"\")","v":""},{"$f":"IF('Simplified Loader'!AM63>0,'Simplified Loader'!AM63,\"\")","v":""},{"$f":"IF('Simplified Loader'!AN63=\"Male\",\"Male\",IF('Simplified Loader'!AN63=\"Female\",\"Female\",IF('Simplified Loader'!AN63=\"M\",\"Male\",IF('Simplified Loader'!AN63=\"F\",\"Female\",\"\"))))","v":""},{"$f":"IF('Simplified Loader'!AO63=\"Single\",\"Single\",IF('Simplified Loader'!AO63=\"Family\",\"Family\",IF('Simplified Loader'!AO63=\"S\",\"Single\",IF('Simplified Loader'!AO63=\"F\",\"Family\",\"\"))))","v":""},{"$f":"IF('Simplified Loader'!AP63=\"Single\",\"Single\",IF('Simplified Loader'!AP63=\"Family\",\"Family\",IF('Simplified Loader'!AP63=\"S\",\"Single\",IF('Simplified Loader'!AP63=\"F\",\"Family\",\"\"))))","v":""},{"$f":"IF('Simplified Loader'!AQ63>0,'Simplified Loader'!AQ63,\"\")","v":""},{"$f":"IF('Simplified Loader'!AR63=\"Yes\",\"Yes\",IF('Simplified Loader'!AR63=\"No\",\"No\",IF('Simplified Loader'!AR63=\"Y\",\"Yes\",IF('Simplified Loader'!AR63=\"N\",\"No\",\"\"))))","v":""},{"$f":"IF('Simplified Loader'!AS63>0,'Simplified Loader'!AS63,\"\")","v":""},{"$f":"IF('Simplified Loader'!AT63>0,'Simplified Loader'!AT63,\"\")","v":""},{"$f":"IF('Simplified Loader'!AU63>0,'Simplified Loader'!AU63,\"\")","v":""},{"$f":"IF('Simplified Loader'!AV63=\"Male\",\"Male\",IF('Simplified Loader'!AV63=\"Female\",\"Female\",IF('Simplified Loader'!AV63=\"M\",\"Male\",IF('Simplified Loader'!AV63=\"F\",\"Female\",\"\"))))","v":""},{"$f":"IF('Simplified Loader'!AW63=\"Yes\",\"Yes\",IF('Simplified Loader'!AW63=\"No\",\"No\",IF('Simplified Loader'!AW63=\"Y\",\"Yes\",IF('Simplified Loader'!AW63=\"N\",\"No\",\"\"))))","v":""},{"$f":"IF('Simplified Loader'!AX63=\"Yes\",\"Yes\",IF('Simplified Loader'!AX63=\"No\",\"No\",IF('Simplified Loader'!AX63=\"Y\",\"Yes\",IF('Simplified Loader'!AX63=\"N\",\"No\",\"\"))))","v":""},{"$f":"IF('Simplified Loader'!AY63>0,'Simplified Loader'!AY63,\"\")","v":""},{"$f":"IF('Simplified Loader'!AZ63>0,'Simplified Loader'!AZ63,\"\")","v":""},{"$f":"IF('Simplified Loader'!BA63>0,'Simplified Loader'!BA63,\"\")","v":""},{"$f":"IF('Simplified Loader'!BB63=\"Male\",\"Male\",IF('Simplified Loader'!BB63=\"Female\",\"Female\",IF('Simplified Loader'!BB63=\"M\",\"Male\",IF('Simplified Loader'!BB63=\"F\",\"Female\",\"\"))))","v":""},{"$f":"IF('Simplified Loader'!BC63=\"Yes\",\"Yes\",IF('Simplified Loader'!BC63=\"No\",\"No\",IF('Simplified Loader'!BC63=\"Y\",\"Yes\",IF('Simplified Loader'!BC63=\"N\",\"No\",\"\"))))","v":""},{"$f":"IF('Simplified Loader'!BD63=\"Yes\",\"Yes\",IF('Simplified Loader'!BD63=\"No\",\"No\",IF('Simplified Loader'!BD63=\"Y\",\"Yes\",IF('Simplified Loader'!BD63=\"N\",\"No\",\"\"))))","v":""},{"$f":"IF('Simplified Loader'!BE63>0,'Simplified Loader'!BE63,\"\")","v":""},{"$f":"IF('Simplified Loader'!BF63>0,'Simplified Loader'!BF63,\"\")","v":""},{"$f":"IF('Simplified Loader'!BG63>0,'Simplified Loader'!BG63,\"\")","v":""},{"$f":"IF('Simplified Loader'!BH63=\"Male\",\"Male\",IF('Simplified Loader'!BH63=\"Female\",\"Female\",IF('Simplified Loader'!BH63=\"M\",\"Male\",IF('Simplified Loader'!BH63=\"F\",\"Female\",\"\"))))","v":""},{"$f":"IF('Simplified Loader'!BI63=\"Yes\",\"Yes\",IF('Simplified Loader'!BI63=\"No\",\"No\",IF('Simplified Loader'!BI63=\"Y\",\"Yes\",IF('Simplified Loader'!BI63=\"N\",\"No\",\"\"))))","v":""},{"$f":"IF('Simplified Loader'!BJ63=\"Yes\",\"Yes\",IF('Simplified Loader'!BJ63=\"No\",\"No\",IF('Simplified Loader'!BJ63=\"Y\",\"Yes\",IF('Simplified Loader'!BJ63=\"N\",\"No\",\"\"))))","v":""},{"$f":"IF('Simplified Loader'!BK63>0,'Simplified Loader'!BK63,\"\")","v":""},{"$f":"IF('Simplified Loader'!BL63>0,'Simplified Loader'!BL63,\"\")","v":""},{"$f":"IF('Simplified Loader'!BM63>0,'Simplified Loader'!BM63,\"\")","v":""},{"$f":"IF('Simplified Loader'!BN63=\"Male\",\"Male\",IF('Simplified Loader'!BN63=\"Female\",\"Female\",IF('Simplified Loader'!BN63=\"M\",\"Male\",IF('Simplified Loader'!BN63=\"F\",\"Female\",\"\"))))","v":""},{"$f":"IF('Simplified Loader'!BO63=\"Yes\",\"Yes\",IF('Simplified Loader'!BO63=\"No\",\"No\",IF('Simplified Loader'!BO63=\"Y\",\"Yes\",IF('Simplified Loader'!BO63=\"N\",\"No\",\"\"))))","v":""},{"$f":"IF('Simplified Loader'!BP63=\"Yes\",\"Yes\",IF('Simplified Loader'!BP63=\"No\",\"No\",IF('Simplified Loader'!BP63=\"Y\",\"Yes\",IF('Simplified Loader'!BP63=\"N\",\"No\",\"\"))))","v":""},{"$f":"IF('Simplified Loader'!BQ63>0,'Simplified Loader'!BQ63,\"\")","v":""},{"$f":"IF('Simplified Loader'!BR63>0,'Simplified Loader'!BR63,\"\")","v":""},{"$f":"IF('Simplified Loader'!BS63>0,'Simplified Loader'!BS63,\"\")","v":""},{"$f":"IF('Simplified Loader'!BT63=\"Male\",\"Male\",IF('Simplified Loader'!BT63=\"Female\",\"Female\",IF('Simplified Loader'!BT63=\"M\",\"Male\",IF('Simplified Loader'!BT63=\"F\",\"Female\",\"\"))))","v":""},{"$f":"IF('Simplified Loader'!BU63=\"Yes\",\"Yes\",IF('Simplified Loader'!BU63=\"No\",\"No\",IF('Simplified Loader'!BU63=\"Y\",\"Yes\",IF('Simplified Loader'!BU63=\"N\",\"No\",\"\"))))","v":""},{"$f":"IF('Simplified Loader'!BV63=\"Yes\",\"Yes\",IF('Simplified Loader'!BV63=\"No\",\"No\",IF('Simplified Loader'!BV63=\"Y\",\"Yes\",IF('Simplified Loader'!BV63=\"N\",\"No\",\"\"))))","v":""},{"$f":"IF('Simplified Loader'!BW63>0,'Simplified Loader'!BW63,\"\")","v":""},{"$f":"IF('Simplified Loader'!BX63>0,'Simplified Loader'!BX63,\"\")","v":""},{"$f":"IF('Simplified Loader'!BY63>0,'Simplified Loader'!BY63,\"\")","v":""},{"$f":"IF('Simplified Loader'!BZ63=\"Male\",\"Male\",IF('Simplified Loader'!BZ63=\"Female\",\"Female\",IF('Simplified Loader'!BZ63=\"M\",\"Male\",IF('Simplified Loader'!BZ63=\"F\",\"Female\",\"\"))))","v":""},{"$f":"IF('Simplified Loader'!CA63=\"Yes\",\"Yes\",IF('Simplified Loader'!CA63=\"No\",\"No\",IF('Simplified Loader'!CA63=\"Y\",\"Yes\",IF('Simplified Loader'!CA63=\"N\",\"No\",\"\"))))","v":""},{"$f":"IF('Simplified Loader'!CB63=\"Yes\",\"Yes\",IF('Simplified Loader'!CB63=\"No\",\"No\",IF('Simplified Loader'!CB63=\"Y\",\"Yes\",IF('Simplified Loader'!CB63=\"N\",\"No\",\"\"))))","v":""},{"$f":"IF('Simplified Loader'!CH63>0,'Simplified Loader'!CH63,\"\")","v":"    "}]
[{"$f":"IF('Simplified Loader'!A64>0,'Simplified Loader'!A64,\"\")","v":""},{"$f":"IF('Simplified Loader'!B64>0,'Simplified Loader'!B64,\"\")","v":""},{"$f":"IF('Simplified Loader'!C64>0,'Simplified Loader'!C64,\"\")","v":""},{"$f":"IF('Simplified Loader'!D64>0,'Simplified Loader'!D64,\"\")","v":""},{"$f":"IF('Simplified Loader'!P64>0,TEXT('Simplified Loader'!P64,\"000\"),\"\")","v":""},{"$f":"IF('Simplified Loader'!Q64>0,'Simplified Loader'!Q64,\"\")","v":""},{"$f":"IF('Simplified Loader'!R64>0,'Simplified Loader'!R64,\"\")","v":""},{"$f":"IF('Simplified Loader'!F64>0,DATEVALUE(TEXT('Simplified Loader'!F64,\"yyyy-mm-dd\")),\"\")","v":""},{"$f":"IF('Simplified Loader'!L64>0,DATEVALUE(TEXT('Simplified Loader'!L64,\"yyyy-mm-dd\")),\"\")","v":""},{"$f":"IF('Simplified Loader'!Y64>0,'Simplified Loader'!Y64,\"\")","v":""},{"$f":"IF('Simplified Loader'!T64>0,'Simplified Loader'!T64,\"\")","v":""},{"$f":"IF('Simplified Loader'!G64=\"Male\",\"Male\",IF('Simplified Loader'!G64=\"Female\",\"Female\",IF('Simplified Loader'!G64=\"M\",\"Male\",IF('Simplified Loader'!G64=\"F\",\"Female\",\"\"))))","v":""},{"$f":"IF('Simplified Loader'!U64=\"Yes\",\"Yes\",IF('Simplified Loader'!U64=\"No\",\"No\",IF('Simplified Loader'!U64=\"Y\",\"Yes\",IF('Simplified Loader'!U64=\"N\",\"No\",\"\"))))","v":""},{"$f":"IF('Simplified Loader'!I64=\"Single\",\"Single\",IF('Simplified Loader'!I64=\"Family\",\"Family\",IF('Simplified Loader'!I64=\"Waive\",\"Family\",IF('Simplified Loader'!I64=\"Single Parent\",\"Family\",IF('Simplified Loader'!I64=\"Couple\",\"Family\",IF('Simplified Loader'!I64=\"In force\",\"Family\",IF('Simplified Loader'!I64=\"Applies\",\"Family\",IF('Simplified Loader'!I64=\"Applicable\",\"Family\",\"\"))))))))","v":""},{"$f":"IF('Simplified Loader'!AC64=\"English\",\"English\",IF('Simplified Loader'!AC64=\"French\",\"French\",IF('Simplified Loader'!AC64=\"E\",\"English\",IF('Simplified Loader'!AC64=\"F\",\"French\",\"\"))))","v":""},{"$f":"IF('Simplified Loader'!AB64=\"Yes\",\"Yes\",IF('Simplified Loader'!AB64=\"No\",\"No\",IF('Simplified Loader'!AB64=\"Y\",\"Yes\",IF('Simplified Loader'!AB64=\"N\",\"No\",\"\"))))","v":""},{"$f":"IF('Simplified Loader'!AD64>0,'Simplified Loader'!AD64,\"\")","v":""},{"$f":"IF('Simplified Loader'!M64>0,'Simplified Loader'!M64,\"\")","v":""},{"$f":"IF('Simplified Loader'!N64>0,'Simplified Loader'!N64,\"\")","v":""},{"$f":"IF('Simplified Loader'!O64>0,'Simplified Loader'!O64,\"\")","v":""},{"$f":"IF('Simplified Loader'!I64=\"Waive\",\"Yes\",\"\")","v":""},{"$f":"IF('Simplified Loader'!I64=\"Waive\",\"Yes\",\"\")","v":""},{"$f":"IF('Simplified Loader'!AE64>0,'Simplified Loader'!AE64,\"\")","v":""},{"$f":"IF('Simplified Loader'!AF64>0,'Simplified Loader'!AF64,\"\")","v":""},{"$f":"IF('Simplified Loader'!AG64>0,'Simplified Loader'!AG64,\"\")","v":""},{"$f":"IF('Simplified Loader'!AH64>0,'Simplified Loader'!AH64,\"\")","v":""},{"$f":"IF('Simplified Loader'!AI64>0,'Simplified Loader'!AI64,\"\")","v":" "},{"$f":"IF('Simplified Loader'!AJ64>0,'Simplified Loader'!AJ64,\"\")","v":" "},{"$f":"IF('Simplified Loader'!W64>0,'Simplified Loader'!W64&\" \",\"\")&IF('Simplified Loader'!V64>0,'Simplified Loader'!V64,\"\")","v":""},null,{"$f":"IF('Simplified Loader'!X64>0,'Simplified Loader'!X64,\"\")","v":""},{"$f":"IF('Simplified Loader'!Y64>0,'Simplified Loader'!Y64,\"\")","v":""},{"$f":"IF('Simplified Loader'!Z64>0,'Simplified Loader'!Z64,\"\")","v":""},{"$f":"IF('Simplified Loader'!AA64>0,'Simplified Loader'!AA64,\"\")","v":""},{"$f":"IF('Simplified Loader'!E64>0,'Simplified Loader'!E64,\"\")","v":""},{"$f":"IF('Simplified Loader'!AK64>0,'Simplified Loader'!AK64,\"\")","v":""},{"$f":"IF('Simplified Loader'!AL64>0,'Simplified Loader'!AL64,\"\")","v":""},{"$f":"IF('Simplified Loader'!AM64>0,'Simplified Loader'!AM64,\"\")","v":""},{"$f":"IF('Simplified Loader'!AN64=\"Male\",\"Male\",IF('Simplified Loader'!AN64=\"Female\",\"Female\",IF('Simplified Loader'!AN64=\"M\",\"Male\",IF('Simplified Loader'!AN64=\"F\",\"Female\",\"\"))))","v":""},{"$f":"IF('Simplified Loader'!AO64=\"Single\",\"Single\",IF('Simplified Loader'!AO64=\"Family\",\"Family\",IF('Simplified Loader'!AO64=\"S\",\"Single\",IF('Simplified Loader'!AO64=\"F\",\"Family\",\"\"))))","v":""},{"$f":"IF('Simplified Loader'!AP64=\"Single\",\"Single\",IF('Simplified Loader'!AP64=\"Family\",\"Family\",IF('Simplified Loader'!AP64=\"S\",\"Single\",IF('Simplified Loader'!AP64=\"F\",\"Family\",\"\"))))","v":""},{"$f":"IF('Simplified Loader'!AQ64>0,'Simplified Loader'!AQ64,\"\")","v":""},{"$f":"IF('Simplified Loader'!AR64=\"Yes\",\"Yes\",IF('Simplified Loader'!AR64=\"No\",\"No\",IF('Simplified Loader'!AR64=\"Y\",\"Yes\",IF('Simplified Loader'!AR64=\"N\",\"No\",\"\"))))","v":""},{"$f":"IF('Simplified Loader'!AS64>0,'Simplified Loader'!AS64,\"\")","v":""},{"$f":"IF('Simplified Loader'!AT64>0,'Simplified Loader'!AT64,\"\")","v":""},{"$f":"IF('Simplified Loader'!AU64>0,'Simplified Loader'!AU64,\"\")","v":""},{"$f":"IF('Simplified Loader'!AV64=\"Male\",\"Male\",IF('Simplified Loader'!AV64=\"Female\",\"Female\",IF('Simplified Loader'!AV64=\"M\",\"Male\",IF('Simplified Loader'!AV64=\"F\",\"Female\",\"\"))))","v":""},{"$f":"IF('Simplified Loader'!AW64=\"Yes\",\"Yes\",IF('Simplified Loader'!AW64=\"No\",\"No\",IF('Simplified Loader'!AW64=\"Y\",\"Yes\",IF('Simplified Loader'!AW64=\"N\",\"No\",\"\"))))","v":""},{"$f":"IF('Simplified Loader'!AX64=\"Yes\",\"Yes\",IF('Simplified Loader'!AX64=\"No\",\"No\",IF('Simplified Loader'!AX64=\"Y\",\"Yes\",IF('Simplified Loader'!AX64=\"N\",\"No\",\"\"))))","v":""},{"$f":"IF('Simplified Loader'!AY64>0,'Simplified Loader'!AY64,\"\")","v":""},{"$f":"IF('Simplified Loader'!AZ64>0,'Simplified Loader'!AZ64,\"\")","v":""},{"$f":"IF('Simplified Loader'!BA64>0,'Simplified Loader'!BA64,\"\")","v":""},{"$f":"IF('Simplified Loader'!BB64=\"Male\",\"Male\",IF('Simplified Loader'!BB64=\"Female\",\"Female\",IF('Simplified Loader'!BB64=\"M\",\"Male\",IF('Simplified Loader'!BB64=\"F\",\"Female\",\"\"))))","v":""},{"$f":"IF('Simplified Loader'!BC64=\"Yes\",\"Yes\",IF('Simplified Loader'!BC64=\"No\",\"No\",IF('Simplified Loader'!BC64=\"Y\",\"Yes\",IF('Simplified Loader'!BC64=\"N\",\"No\",\"\"))))","v":""},{"$f":"IF('Simplified Loader'!BD64=\"Yes\",\"Yes\",IF('Simplified Loader'!BD64=\"No\",\"No\",IF('Simplified Loader'!BD64=\"Y\",\"Yes\",IF('Simplified Loader'!BD64=\"N\",\"No\",\"\"))))","v":""},{"$f":"IF('Simplified Loader'!BE64>0,'Simplified Loader'!BE64,\"\")","v":""},{"$f":"IF('Simplified Loader'!BF64>0,'Simplified Loader'!BF64,\"\")","v":""},{"$f":"IF('Simplified Loader'!BG64>0,'Simplified Loader'!BG64,\"\")","v":""},{"$f":"IF('Simplified Loader'!BH64=\"Male\",\"Male\",IF('Simplified Loader'!BH64=\"Female\",\"Female\",IF('Simplified Loader'!BH64=\"M\",\"Male\",IF('Simplified Loader'!BH64=\"F\",\"Female\",\"\"))))","v":""},{"$f":"IF('Simplified Loader'!BI64=\"Yes\",\"Yes\",IF('Simplified Loader'!BI64=\"No\",\"No\",IF('Simplified Loader'!BI64=\"Y\",\"Yes\",IF('Simplified Loader'!BI64=\"N\",\"No\",\"\"))))","v":""},{"$f":"IF('Simplified Loader'!BJ64=\"Yes\",\"Yes\",IF('Simplified Loader'!BJ64=\"No\",\"No\",IF('Simplified Loader'!BJ64=\"Y\",\"Yes\",IF('Simplified Loader'!BJ64=\"N\",\"No\",\"\"))))","v":""},{"$f":"IF('Simplified Loader'!BK64>0,'Simplified Loader'!BK64,\"\")","v":""},{"$f":"IF('Simplified Loader'!BL64>0,'Simplified Loader'!BL64,\"\")","v":""},{"$f":"IF('Simplified Loader'!BM64>0,'Simplified Loader'!BM64,\"\")","v":""},{"$f":"IF('Simplified Loader'!BN64=\"Male\",\"Male\",IF('Simplified Loader'!BN64=\"Female\",\"Female\",IF('Simplified Loader'!BN64=\"M\",\"Male\",IF('Simplified Loader'!BN64=\"F\",\"Female\",\"\"))))","v":""},{"$f":"IF('Simplified Loader'!BO64=\"Yes\",\"Yes\",IF('Simplified Loader'!BO64=\"No\",\"No\",IF('Simplified Loader'!BO64=\"Y\",\"Yes\",IF('Simplified Loader'!BO64=\"N\",\"No\",\"\"))))","v":""},{"$f":"IF('Simplified Loader'!BP64=\"Yes\",\"Yes\",IF('Simplified Loader'!BP64=\"No\",\"No\",IF('Simplified Loader'!BP64=\"Y\",\"Yes\",IF('Simplified Loader'!BP64=\"N\",\"No\",\"\"))))","v":""},{"$f":"IF('Simplified Loader'!BQ64>0,'Simplified Loader'!BQ64,\"\")","v":""},{"$f":"IF('Simplified Loader'!BR64>0,'Simplified Loader'!BR64,\"\")","v":""},{"$f":"IF('Simplified Loader'!BS64>0,'Simplified Loader'!BS64,\"\")","v":""},{"$f":"IF('Simplified Loader'!BT64=\"Male\",\"Male\",IF('Simplified Loader'!BT64=\"Female\",\"Female\",IF('Simplified Loader'!BT64=\"M\",\"Male\",IF('Simplified Loader'!BT64=\"F\",\"Female\",\"\"))))","v":""},{"$f":"IF('Simplified Loader'!BU64=\"Yes\",\"Yes\",IF('Simplified Loader'!BU64=\"No\",\"No\",IF('Simplified Loader'!BU64=\"Y\",\"Yes\",IF('Simplified Loader'!BU64=\"N\",\"No\",\"\"))))","v":""},{"$f":"IF('Simplified Loader'!BV64=\"Yes\",\"Yes\",IF('Simplified Loader'!BV64=\"No\",\"No\",IF('Simplified Loader'!BV64=\"Y\",\"Yes\",IF('Simplified Loader'!BV64=\"N\",\"No\",\"\"))))","v":""},{"$f":"IF('Simplified Loader'!BW64>0,'Simplified Loader'!BW64,\"\")","v":""},{"$f":"IF('Simplified Loader'!BX64>0,'Simplified Loader'!BX64,\"\")","v":""},{"$f":"IF('Simplified Loader'!BY64>0,'Simplified Loader'!BY64,\"\")","v":""},{"$f":"IF('Simplified Loader'!BZ64=\"Male\",\"Male\",IF('Simplified Loader'!BZ64=\"Female\",\"Female\",IF('Simplified Loader'!BZ64=\"M\",\"Male\",IF('Simplified Loader'!BZ64=\"F\",\"Female\",\"\"))))","v":""},{"$f":"IF('Simplified Loader'!CA64=\"Yes\",\"Yes\",IF('Simplified Loader'!CA64=\"No\",\"No\",IF('Simplified Loader'!CA64=\"Y\",\"Yes\",IF('Simplified Loader'!CA64=\"N\",\"No\",\"\"))))","v":""},{"$f":"IF('Simplified Loader'!CB64=\"Yes\",\"Yes\",IF('Simplified Loader'!CB64=\"No\",\"No\",IF('Simplified Loader'!CB64=\"Y\",\"Yes\",IF('Simplified Loader'!CB64=\"N\",\"No\",\"\"))))","v":""},{"$f":"IF('Simplified Loader'!CH64>0,'Simplified Loader'!CH64,\"\")","v":"    "}]
[{"$f":"IF('Simplified Loader'!A65>0,'Simplified Loader'!A65,\"\")","v":""},{"$f":"IF('Simplified Loader'!B65>0,'Simplified Loader'!B65,\"\")","v":""},{"$f":"IF('Simplified Loader'!C65>0,'Simplified Loader'!C65,\"\")","v":""},{"$f":"IF('Simplified Loader'!D65>0,'Simplified Loader'!D65,\"\")","v":""},{"$f":"IF('Simplified Loader'!P65>0,TEXT('Simplified Loader'!P65,\"000\"),\"\")","v":""},{"$f":"IF('Simplified Loader'!Q65>0,'Simplified Loader'!Q65,\"\")","v":""},{"$f":"IF('Simplified Loader'!R65>0,'Simplified Loader'!R65,\"\")","v":""},{"$f":"IF('Simplified Loader'!F65>0,DATEVALUE(TEXT('Simplified Loader'!F65,\"yyyy-mm-dd\")),\"\")","v":""},{"$f":"IF('Simplified Loader'!L65>0,DATEVALUE(TEXT('Simplified Loader'!L65,\"yyyy-mm-dd\")),\"\")","v":""},{"$f":"IF('Simplified Loader'!Y65>0,'Simplified Loader'!Y65,\"\")","v":""},{"$f":"IF('Simplified Loader'!T65>0,'Simplified Loader'!T65,\"\")","v":""},{"$f":"IF('Simplified Loader'!G65=\"Male\",\"Male\",IF('Simplified Loader'!G65=\"Female\",\"Female\",IF('Simplified Loader'!G65=\"M\",\"Male\",IF('Simplified Loader'!G65=\"F\",\"Female\",\"\"))))","v":""},{"$f":"IF('Simplified Loader'!U65=\"Yes\",\"Yes\",IF('Simplified Loader'!U65=\"No\",\"No\",IF('Simplified Loader'!U65=\"Y\",\"Yes\",IF('Simplified Loader'!U65=\"N\",\"No\",\"\"))))","v":""},{"$f":"IF('Simplified Loader'!I65=\"Single\",\"Single\",IF('Simplified Loader'!I65=\"Family\",\"Family\",IF('Simplified Loader'!I65=\"Waive\",\"Family\",IF('Simplified Loader'!I65=\"Single Parent\",\"Family\",IF('Simplified Loader'!I65=\"Couple\",\"Family\",IF('Simplified Loader'!I65=\"In force\",\"Family\",IF('Simplified Loader'!I65=\"Applies\",\"Family\",IF('Simplified Loader'!I65=\"Applicable\",\"Family\",\"\"))))))))","v":""},{"$f":"IF('Simplified Loader'!AC65=\"English\",\"English\",IF('Simplified Loader'!AC65=\"French\",\"French\",IF('Simplified Loader'!AC65=\"E\",\"English\",IF('Simplified Loader'!AC65=\"F\",\"French\",\"\"))))","v":""},{"$f":"IF('Simplified Loader'!AB65=\"Yes\",\"Yes\",IF('Simplified Loader'!AB65=\"No\",\"No\",IF('Simplified Loader'!AB65=\"Y\",\"Yes\",IF('Simplified Loader'!AB65=\"N\",\"No\",\"\"))))","v":""},{"$f":"IF('Simplified Loader'!AD65>0,'Simplified Loader'!AD65,\"\")","v":""},{"$f":"IF('Simplified Loader'!M65>0,'Simplified Loader'!M65,\"\")","v":""},{"$f":"IF('Simplified Loader'!N65>0,'Simplified Loader'!N65,\"\")","v":""},{"$f":"IF('Simplified Loader'!O65>0,'Simplified Loader'!O65,\"\")","v":""},{"$f":"IF('Simplified Loader'!I65=\"Waive\",\"Yes\",\"\")","v":""},{"$f":"IF('Simplified Loader'!I65=\"Waive\",\"Yes\",\"\")","v":""},{"$f":"IF('Simplified Loader'!AE65>0,'Simplified Loader'!AE65,\"\")","v":""},{"$f":"IF('Simplified Loader'!AF65>0,'Simplified Loader'!AF65,\"\")","v":""},{"$f":"IF('Simplified Loader'!AG65>0,'Simplified Loader'!AG65,\"\")","v":""},{"$f":"IF('Simplified Loader'!AH65>0,'Simplified Loader'!AH65,\"\")","v":""},{"$f":"IF('Simplified Loader'!AI65>0,'Simplified Loader'!AI65,\"\")","v":" "},{"$f":"IF('Simplified Loader'!AJ65>0,'Simplified Loader'!AJ65,\"\")","v":" "},{"$f":"IF('Simplified Loader'!W65>0,'Simplified Loader'!W65&\" \",\"\")&IF('Simplified Loader'!V65>0,'Simplified Loader'!V65,\"\")","v":""},null,{"$f":"IF('Simplified Loader'!X65>0,'Simplified Loader'!X65,\"\")","v":""},{"$f":"IF('Simplified Loader'!Y65>0,'Simplified Loader'!Y65,\"\")","v":""},{"$f":"IF('Simplified Loader'!Z65>0,'Simplified Loader'!Z65,\"\")","v":""},{"$f":"IF('Simplified Loader'!AA65>0,'Simplified Loader'!AA65,\"\")","v":""},{"$f":"IF('Simplified Loader'!E65>0,'Simplified Loader'!E65,\"\")","v":""},{"$f":"IF('Simplified Loader'!AK65>0,'Simplified Loader'!AK65,\"\")","v":""},{"$f":"IF('Simplified Loader'!AL65>0,'Simplified Loader'!AL65,\"\")","v":""},{"$f":"IF('Simplified Loader'!AM65>0,'Simplified Loader'!AM65,\"\")","v":""},{"$f":"IF('Simplified Loader'!AN65=\"Male\",\"Male\",IF('Simplified Loader'!AN65=\"Female\",\"Female\",IF('Simplified Loader'!AN65=\"M\",\"Male\",IF('Simplified Loader'!AN65=\"F\",\"Female\",\"\"))))","v":""},{"$f":"IF('Simplified Loader'!AO65=\"Single\",\"Single\",IF('Simplified Loader'!AO65=\"Family\",\"Family\",IF('Simplified Loader'!AO65=\"S\",\"Single\",IF('Simplified Loader'!AO65=\"F\",\"Family\",\"\"))))","v":""},{"$f":"IF('Simplified Loader'!AP65=\"Single\",\"Single\",IF('Simplified Loader'!AP65=\"Family\",\"Family\",IF('Simplified Loader'!AP65=\"S\",\"Single\",IF('Simplified Loader'!AP65=\"F\",\"Family\",\"\"))))","v":""},{"$f":"IF('Simplified Loader'!AQ65>0,'Simplified Loader'!AQ65,\"\")","v":""},{"$f":"IF('Simplified Loader'!AR65=\"Yes\",\"Yes\",IF('Simplified Loader'!AR65=\"No\",\"No\",IF('Simplified Loader'!AR65=\"Y\",\"Yes\",IF('Simplified Loader'!AR65=\"N\",\"No\",\"\"))))","v":""},{"$f":"IF('Simplified Loader'!AS65>0,'Simplified Loader'!AS65,\"\")","v":""},{"$f":"IF('Simplified Loader'!AT65>0,'Simplified Loader'!AT65,\"\")","v":""},{"$f":"IF('Simplified Loader'!AU65>0,'Simplified Loader'!AU65,\"\")","v":""},{"$f":"IF('Simplified Loader'!AV65=\"Male\",\"Male\",IF('Simplified Loader'!AV65=\"Female\",\"Female\",IF('Simplified Loader'!AV65=\"M\",\"Male\",IF('Simplified Loader'!AV65=\"F\",\"Female\",\"\"))))","v":""},{"$f":"IF('Simplified Loader'!AW65=\"Yes\",\"Yes\",IF('Simplified Loader'!AW65=\"No\",\"No\",IF('Simplified Loader'!AW65=\"Y\",\"Yes\",IF('Simplified Loader'!AW65=\"N\",\"No\",\"\"))))","v":""},{"$f":"IF('Simplified Loader'!AX65=\"Yes\",\"Yes\",IF('Simplified Loader'!AX65=\"No\",\"No\",IF('Simplified Loader'!AX65=\"Y\",\"Yes\",IF('Simplified Loader'!AX65=\"N\",\"No\",\"\"))))","v":""},{"$f":"IF('Simplified Loader'!AY65>0,'Simplified Loader'!AY65,\"\")","v":""},{"$f":"IF('Simplified Loader'!AZ65>0,'Simplified Loader'!AZ65,\"\")","v":""},{"$f":"IF('Simplified Loader'!BA65>0,'Simplified Loader'!BA65,\"\")","v":""},{"$f":"IF('Simplified Loader'!BB65=\"Male\",\"Male\",IF('Simplified Loader'!BB65=\"Female\",\"Female\",IF('Simplified Loader'!BB65=\"M\",\"Male\",IF('Simplified Loader'!BB65=\"F\",\"Female\",\"\"))))","v":""},{"$f":"IF('Simplified Loader'!BC65=\"Yes\",\"Yes\",IF('Simplified Loader'!BC65=\"No\",\"No\",IF('Simplified Loader'!BC65=\"Y\",\"Yes\",IF('Simplified Loader'!BC65=\"N\",\"No\",\"\"))))","v":""},{"$f":"IF('Simplified Loader'!BD65=\"Yes\",\"Yes\",IF('Simplified Loader'!BD65=\"No\",\"No\",IF('Simplified Loader'!BD65=\"Y\",\"Yes\",IF('Simplified Loader'!BD65=\"N\",\"No\",\"\"))))","v":""},{"$f":"IF('Simplified Loader'!BE65>0,'Simplified Loader'!BE65,\"\")","v":""},{"$f":"IF('Simplified Loader'!BF65>0,'Simplified Loader'!BF65,\"\")","v":""},{"$f":"IF('Simplified Loader'!BG65>0,'Simplified Loader'!BG65,\"\")","v":""},{"$f":"IF('Simplified Loader'!BH65=\"Male\",\"Male\",IF('Simplified Loader'!BH65=\"Female\",\"Female\",IF('Simplified Loader'!BH65=\"M\",\"Male\",IF('Simplified Loader'!BH65=\"F\",\"Female\",\"\"))))","v":""},{"$f":"IF('Simplified Loader'!BI65=\"Yes\",\"Yes\",IF('Simplified Loader'!BI65=\"No\",\"No\",IF('Simplified Loader'!BI65=\"Y\",\"Yes\",IF('Simplified Loader'!BI65=\"N\",\"No\",\"\"))))","v":""},{"$f":"IF('Simplified Loader'!BJ65=\"Yes\",\"Yes\",IF('Simplified Loader'!BJ65=\"No\",\"No\",IF('Simplified Loader'!BJ65=\"Y\",\"Yes\",IF('Simplified Loader'!BJ65=\"N\",\"No\",\"\"))))","v":""},{"$f":"IF('Simplified Loader'!BK65>0,'Simplified Loader'!BK65,\"\")","v":""},{"$f":"IF('Simplified Loader'!BL65>0,'Simplified Loader'!BL65,\"\")","v":""},{"$f":"IF('Simplified Loader'!BM65>0,'Simplified Loader'!BM65,\"\")","v":""},{"$f":"IF('Simplified Loader'!BN65=\"Male\",\"Male\",IF('Simplified Loader'!BN65=\"Female\",\"Female\",IF('Simplified Loader'!BN65=\"M\",\"Male\",IF('Simplified Loader'!BN65=\"F\",\"Female\",\"\"))))","v":""},{"$f":"IF('Simplified Loader'!BO65=\"Yes\",\"Yes\",IF('Simplified Loader'!BO65=\"No\",\"No\",IF('Simplified Loader'!BO65=\"Y\",\"Yes\",IF('Simplified Loader'!BO65=\"N\",\"No\",\"\"))))","v":""},{"$f":"IF('Simplified Loader'!BP65=\"Yes\",\"Yes\",IF('Simplified Loader'!BP65=\"No\",\"No\",IF('Simplified Loader'!BP65=\"Y\",\"Yes\",IF('Simplified Loader'!BP65=\"N\",\"No\",\"\"))))","v":""},{"$f":"IF('Simplified Loader'!BQ65>0,'Simplified Loader'!BQ65,\"\")","v":""},{"$f":"IF('Simplified Loader'!BR65>0,'Simplified Loader'!BR65,\"\")","v":""},{"$f":"IF('Simplified Loader'!BS65>0,'Simplified Loader'!BS65,\"\")","v":""},{"$f":"IF('Simplified Loader'!BT65=\"Male\",\"Male\",IF('Simplified Loader'!BT65=\"Female\",\"Female\",IF('Simplified Loader'!BT65=\"M\",\"Male\",IF('Simplified Loader'!BT65=\"F\",\"Female\",\"\"))))","v":""},{"$f":"IF('Simplified Loader'!BU65=\"Yes\",\"Yes\",IF('Simplified Loader'!BU65=\"No\",\"No\",IF('Simplified Loader'!BU65=\"Y\",\"Yes\",IF('Simplified Loader'!BU65=\"N\",\"No\",\"\"))))","v":""},{"$f":"IF('Simplified Loader'!BV65=\"Yes\",\"Yes\",IF('Simplified Loader'!BV65=\"No\",\"No\",IF('Simplified Loader'!BV65=\"Y\",\"Yes\",IF('Simplified Loader'!BV65=\"N\",\"No\",\"\"))))","v":""},{"$f":"IF('Simplified Loader'!BW65>0,'Simplified Loader'!BW65,\"\")","v":""},{"$f":"IF('Simplified Loader'!BX65>0,'Simplified Loader'!BX65,\"\")","v":""},{"$f":"IF('Simplified Loader'!BY65>0,'Simplified Loader'!BY65,\"\")","v":""},{"$f":"IF('Simplified Loader'!BZ65=\"Male\",\"Male\",IF('Simplified Loader'!BZ65=\"Female\",\"Female\",IF('Simplified Loader'!BZ65=\"M\",\"Male\",IF('Simplified Loader'!BZ65=\"F\",\"Female\",\"\"))))","v":""},{"$f":"IF('Simplified Loader'!CA65=\"Yes\",\"Yes\",IF('Simplified Loader'!CA65=\"No\",\"No\",IF('Simplified Loader'!CA65=\"Y\",\"Yes\",IF('Simplified Loader'!CA65=\"N\",\"No\",\"\"))))","v":""},{"$f":"IF('Simplified Loader'!CB65=\"Yes\",\"Yes\",IF('Simplified Loader'!CB65=\"No\",\"No\",IF('Simplified Loader'!CB65=\"Y\",\"Yes\",IF('Simplified Loader'!CB65=\"N\",\"No\",\"\"))))","v":""},{"$f":"IF('Simplified Loader'!CH65>0,'Simplified Loader'!CH65,\"\")","v":"    "}]
[{"$f":"IF('Simplified Loader'!A66>0,'Simplified Loader'!A66,\"\")","v":""},{"$f":"IF('Simplified Loader'!B66>0,'Simplified Loader'!B66,\"\")","v":""},{"$f":"IF('Simplified Loader'!C66>0,'Simplified Loader'!C66,\"\")","v":""},{"$f":"IF('Simplified Loader'!D66>0,'Simplified Loader'!D66,\"\")","v":""},{"$f":"IF('Simplified Loader'!P66>0,TEXT('Simplified Loader'!P66,\"000\"),\"\")","v":""},{"$f":"IF('Simplified Loader'!Q66>0,'Simplified Loader'!Q66,\"\")","v":""},{"$f":"IF('Simplified Loader'!R66>0,'Simplified Loader'!R66,\"\")","v":""},{"$f":"IF('Simplified Loader'!F66>0,DATEVALUE(TEXT('Simplified Loader'!F66,\"yyyy-mm-dd\")),\"\")","v":""},{"$f":"IF('Simplified Loader'!L66>0,DATEVALUE(TEXT('Simplified Loader'!L66,\"yyyy-mm-dd\")),\"\")","v":""},{"$f":"IF('Simplified Loader'!Y66>0,'Simplified Loader'!Y66,\"\")","v":""},{"$f":"IF('Simplified Loader'!T66>0,'Simplified Loader'!T66,\"\")","v":""},{"$f":"IF('Simplified Loader'!G66=\"Male\",\"Male\",IF('Simplified Loader'!G66=\"Female\",\"Female\",IF('Simplified Loader'!G66=\"M\",\"Male\",IF('Simplified Loader'!G66=\"F\",\"Female\",\"\"))))","v":""},{"$f":"IF('Simplified Loader'!U66=\"Yes\",\"Yes\",IF('Simplified Loader'!U66=\"No\",\"No\",IF('Simplified Loader'!U66=\"Y\",\"Yes\",IF('Simplified Loader'!U66=\"N\",\"No\",\"\"))))","v":""},{"$f":"IF('Simplified Loader'!I66=\"Single\",\"Single\",IF('Simplified Loader'!I66=\"Family\",\"Family\",IF('Simplified Loader'!I66=\"Waive\",\"Family\",IF('Simplified Loader'!I66=\"Single Parent\",\"Family\",IF('Simplified Loader'!I66=\"Couple\",\"Family\",IF('Simplified Loader'!I66=\"In force\",\"Family\",IF('Simplified Loader'!I66=\"Applies\",\"Family\",IF('Simplified Loader'!I66=\"Applicable\",\"Family\",\"\"))))))))","v":""},{"$f":"IF('Simplified Loader'!AC66=\"English\",\"English\",IF('Simplified Loader'!AC66=\"French\",\"French\",IF('Simplified Loader'!AC66=\"E\",\"English\",IF('Simplified Loader'!AC66=\"F\",\"French\",\"\"))))","v":""},{"$f":"IF('Simplified Loader'!AB66=\"Yes\",\"Yes\",IF('Simplified Loader'!AB66=\"No\",\"No\",IF('Simplified Loader'!AB66=\"Y\",\"Yes\",IF('Simplified Loader'!AB66=\"N\",\"No\",\"\"))))","v":""},{"$f":"IF('Simplified Loader'!AD66>0,'Simplified Loader'!AD66,\"\")","v":""},{"$f":"IF('Simplified Loader'!M66>0,'Simplified Loader'!M66,\"\")","v":""},{"$f":"IF('Simplified Loader'!N66>0,'Simplified Loader'!N66,\"\")","v":""},{"$f":"IF('Simplified Loader'!O66>0,'Simplified Loader'!O66,\"\")","v":""},{"$f":"IF('Simplified Loader'!I66=\"Waive\",\"Yes\",\"\")","v":""},{"$f":"IF('Simplified Loader'!I66=\"Waive\",\"Yes\",\"\")","v":""},{"$f":"IF('Simplified Loader'!AE66>0,'Simplified Loader'!AE66,\"\")","v":""},{"$f":"IF('Simplified Loader'!AF66>0,'Simplified Loader'!AF66,\"\")","v":""},{"$f":"IF('Simplified Loader'!AG66>0,'Simplified Loader'!AG66,\"\")","v":""},{"$f":"IF('Simplified Loader'!AH66>0,'Simplified Loader'!AH66,\"\")","v":""},{"$f":"IF('Simplified Loader'!AI66>0,'Simplified Loader'!AI66,\"\")","v":" "},{"$f":"IF('Simplified Loader'!AJ66>0,'Simplified Loader'!AJ66,\"\")","v":" "},{"$f":"IF('Simplified Loader'!W66>0,'Simplified Loader'!W66&\" \",\"\")&IF('Simplified Loader'!V66>0,'Simplified Loader'!V66,\"\")","v":""},null,{"$f":"IF('Simplified Loader'!X66>0,'Simplified Loader'!X66,\"\")","v":""},{"$f":"IF('Simplified Loader'!Y66>0,'Simplified Loader'!Y66,\"\")","v":""},{"$f":"IF('Simplified Loader'!Z66>0,'Simplified Loader'!Z66,\"\")","v":""},{"$f":"IF('Simplified Loader'!AA66>0,'Simplified Loader'!AA66,\"\")","v":""},{"$f":"IF('Simplified Loader'!E66>0,'Simplified Loader'!E66,\"\")","v":""},{"$f":"IF('Simplified Loader'!AK66>0,'Simplified Loader'!AK66,\"\")","v":""},{"$f":"IF('Simplified Loader'!AL66>0,'Simplified Loader'!AL66,\"\")","v":""},{"$f":"IF('Simplified Loader'!AM66>0,'Simplified Loader'!AM66,\"\")","v":""},{"$f":"IF('Simplified Loader'!AN66=\"Male\",\"Male\",IF('Simplified Loader'!AN66=\"Female\",\"Female\",IF('Simplified Loader'!AN66=\"M\",\"Male\",IF('Simplified Loader'!AN66=\"F\",\"Female\",\"\"))))","v":""},{"$f":"IF('Simplified Loader'!AO66=\"Single\",\"Single\",IF('Simplified Loader'!AO66=\"Family\",\"Family\",IF('Simplified Loader'!AO66=\"S\",\"Single\",IF('Simplified Loader'!AO66=\"F\",\"Family\",\"\"))))","v":""},{"$f":"IF('Simplified Loader'!AP66=\"Single\",\"Single\",IF('Simplified Loader'!AP66=\"Family\",\"Family\",IF('Simplified Loader'!AP66=\"S\",\"Single\",IF('Simplified Loader'!AP66=\"F\",\"Family\",\"\"))))","v":""},{"$f":"IF('Simplified Loader'!AQ66>0,'Simplified Loader'!AQ66,\"\")","v":""},{"$f":"IF('Simplified Loader'!AR66=\"Yes\",\"Yes\",IF('Simplified Loader'!AR66=\"No\",\"No\",IF('Simplified Loader'!AR66=\"Y\",\"Yes\",IF('Simplified Loader'!AR66=\"N\",\"No\",\"\"))))","v":""},{"$f":"IF('Simplified Loader'!AS66>0,'Simplified Loader'!AS66,\"\")","v":""},{"$f":"IF('Simplified Loader'!AT66>0,'Simplified Loader'!AT66,\"\")","v":""},{"$f":"IF('Simplified Loader'!AU66>0,'Simplified Loader'!AU66,\"\")","v":""},{"$f":"IF('Simplified Loader'!AV66=\"Male\",\"Male\",IF('Simplified Loader'!AV66=\"Female\",\"Female\",IF('Simplified Loader'!AV66=\"M\",\"Male\",IF('Simplified Loader'!AV66=\"F\",\"Female\",\"\"))))","v":""},{"$f":"IF('Simplified Loader'!AW66=\"Yes\",\"Yes\",IF('Simplified Loader'!AW66=\"No\",\"No\",IF('Simplified Loader'!AW66=\"Y\",\"Yes\",IF('Simplified Loader'!AW66=\"N\",\"No\",\"\"))))","v":""},{"$f":"IF('Simplified Loader'!AX66=\"Yes\",\"Yes\",IF('Simplified Loader'!AX66=\"No\",\"No\",IF('Simplified Loader'!AX66=\"Y\",\"Yes\",IF('Simplified Loader'!AX66=\"N\",\"No\",\"\"))))","v":""},{"$f":"IF('Simplified Loader'!AY66>0,'Simplified Loader'!AY66,\"\")","v":""},{"$f":"IF('Simplified Loader'!AZ66>0,'Simplified Loader'!AZ66,\"\")","v":""},{"$f":"IF('Simplified Loader'!BA66>0,'Simplified Loader'!BA66,\"\")","v":""},{"$f":"IF('Simplified Loader'!BB66=\"Male\",\"Male\",IF('Simplified Loader'!BB66=\"Female\",\"Female\",IF('Simplified Loader'!BB66=\"M\",\"Male\",IF('Simplified Loader'!BB66=\"F\",\"Female\",\"\"))))","v":""},{"$f":"IF('Simplified Loader'!BC66=\"Yes\",\"Yes\",IF('Simplified Loader'!BC66=\"No\",\"No\",IF('Simplified Loader'!BC66=\"Y\",\"Yes\",IF('Simplified Loader'!BC66=\"N\",\"No\",\"\"))))","v":""},{"$f":"IF('Simplified Loader'!BD66=\"Yes\",\"Yes\",IF('Simplified Loader'!BD66=\"No\",\"No\",IF('Simplified Loader'!BD66=\"Y\",\"Yes\",IF('Simplified Loader'!BD66=\"N\",\"No\",\"\"))))","v":""},{"$f":"IF('Simplified Loader'!BE66>0,'Simplified Loader'!BE66,\"\")","v":""},{"$f":"IF('Simplified Loader'!BF66>0,'Simplified Loader'!BF66,\"\")","v":""},{"$f":"IF('Simplified Loader'!BG66>0,'Simplified Loader'!BG66,\"\")","v":""},{"$f":"IF('Simplified Loader'!BH66=\"Male\",\"Male\",IF('Simplified Loader'!BH66=\"Female\",\"Female\",IF('Simplified Loader'!BH66=\"M\",\"Male\",IF('Simplified Loader'!BH66=\"F\",\"Female\",\"\"))))","v":""},{"$f":"IF('Simplified Loader'!BI66=\"Yes\",\"Yes\",IF('Simplified Loader'!BI66=\"No\",\"No\",IF('Simplified Loader'!BI66=\"Y\",\"Yes\",IF('Simplified Loader'!BI66=\"N\",\"No\",\"\"))))","v":""},{"$f":"IF('Simplified Loader'!BJ66=\"Yes\",\"Yes\",IF('Simplified Loader'!BJ66=\"No\",\"No\",IF('Simplified Loader'!BJ66=\"Y\",\"Yes\",IF('Simplified Loader'!BJ66=\"N\",\"No\",\"\"))))","v":""},{"$f":"IF('Simplified Loader'!BK66>0,'Simplified Loader'!BK66,\"\")","v":""},{"$f":"IF('Simplified Loader'!BL66>0,'Simplified Loader'!BL66,\"\")","v":""},{"$f":"IF('Simplified Loader'!BM66>0,'Simplified Loader'!BM66,\"\")","v":""},{"$f":"IF('Simplified Loader'!BN66=\"Male\",\"Male\",IF('Simplified Loader'!BN66=\"Female\",\"Female\",IF('Simplified Loader'!BN66=\"M\",\"Male\",IF('Simplified Loader'!BN66=\"F\",\"Female\",\"\"))))","v":""},{"$f":"IF('Simplified Loader'!BO66=\"Yes\",\"Yes\",IF('Simplified Loader'!BO66=\"No\",\"No\",IF('Simplified Loader'!BO66=\"Y\",\"Yes\",IF('Simplified Loader'!BO66=\"N\",\"No\",\"\"))))","v":""},{"$f":"IF('Simplified Loader'!BP66=\"Yes\",\"Yes\",IF('Simplified Loader'!BP66=\"No\",\"No\",IF('Simplified Loader'!BP66=\"Y\",\"Yes\",IF('Simplified Loader'!BP66=\"N\",\"No\",\"\"))))","v":""},{"$f":"IF('Simplified Loader'!BQ66>0,'Simplified Loader'!BQ66,\"\")","v":""},{"$f":"IF('Simplified Loader'!BR66>0,'Simplified Loader'!BR66,\"\")","v":""},{"$f":"IF('Simplified Loader'!BS66>0,'Simplified Loader'!BS66,\"\")","v":""},{"$f":"IF('Simplified Loader'!BT66=\"Male\",\"Male\",IF('Simplified Loader'!BT66=\"Female\",\"Female\",IF('Simplified Loader'!BT66=\"M\",\"Male\",IF('Simplified Loader'!BT66=\"F\",\"Female\",\"\"))))","v":""},{"$f":"IF('Simplified Loader'!BU66=\"Yes\",\"Yes\",IF('Simplified Loader'!BU66=\"No\",\"No\",IF('Simplified Loader'!BU66=\"Y\",\"Yes\",IF('Simplified Loader'!BU66=\"N\",\"No\",\"\"))))","v":""},{"$f":"IF('Simplified Loader'!BV66=\"Yes\",\"Yes\",IF('Simplified Loader'!BV66=\"No\",\"No\",IF('Simplified Loader'!BV66=\"Y\",\"Yes\",IF('Simplified Loader'!BV66=\"N\",\"No\",\"\"))))","v":""},{"$f":"IF('Simplified Loader'!BW66>0,'Simplified Loader'!BW66,\"\")","v":""},{"$f":"IF('Simplified Loader'!BX66>0,'Simplified Loader'!BX66,\"\")","v":""},{"$f":"IF('Simplified Loader'!BY66>0,'Simplified Loader'!BY66,\"\")","v":""},{"$f":"IF('Simplified Loader'!BZ66=\"Male\",\"Male\",IF('Simplified Loader'!BZ66=\"Female\",\"Female\",IF('Simplified Loader'!BZ66=\"M\",\"Male\",IF('Simplified Loader'!BZ66=\"F\",\"Female\",\"\"))))","v":""},{"$f":"IF('Simplified Loader'!CA66=\"Yes\",\"Yes\",IF('Simplified Loader'!CA66=\"No\",\"No\",IF('Simplified Loader'!CA66=\"Y\",\"Yes\",IF('Simplified Loader'!CA66=\"N\",\"No\",\"\"))))","v":""},{"$f":"IF('Simplified Loader'!CB66=\"Yes\",\"Yes\",IF('Simplified Loader'!CB66=\"No\",\"No\",IF('Simplified Loader'!CB66=\"Y\",\"Yes\",IF('Simplified Loader'!CB66=\"N\",\"No\",\"\"))))","v":""},{"$f":"IF('Simplified Loader'!CH66>0,'Simplified Loader'!CH66,\"\")","v":"    "}]
[{"$f":"IF('Simplified Loader'!A67>0,'Simplified Loader'!A67,\"\")","v":""},{"$f":"IF('Simplified Loader'!B67>0,'Simplified Loader'!B67,\"\")","v":""},{"$f":"IF('Simplified Loader'!C67>0,'Simplified Loader'!C67,\"\")","v":""},{"$f":"IF('Simplified Loader'!D67>0,'Simplified Loader'!D67,\"\")","v":""},{"$f":"IF('Simplified Loader'!P67>0,TEXT('Simplified Loader'!P67,\"000\"),\"\")","v":""},{"$f":"IF('Simplified Loader'!Q67>0,'Simplified Loader'!Q67,\"\")","v":""},{"$f":"IF('Simplified Loader'!R67>0,'Simplified Loader'!R67,\"\")","v":""},{"$f":"IF('Simplified Loader'!F67>0,DATEVALUE(TEXT('Simplified Loader'!F67,\"yyyy-mm-dd\")),\"\")","v":""},{"$f":"IF('Simplified Loader'!L67>0,DATEVALUE(TEXT('Simplified Loader'!L67,\"yyyy-mm-dd\")),\"\")","v":""},{"$f":"IF('Simplified Loader'!Y67>0,'Simplified Loader'!Y67,\"\")","v":""},{"$f":"IF('Simplified Loader'!T67>0,'Simplified Loader'!T67,\"\")","v":""},{"$f":"IF('Simplified Loader'!G67=\"Male\",\"Male\",IF('Simplified Loader'!G67=\"Female\",\"Female\",IF('Simplified Loader'!G67=\"M\",\"Male\",IF('Simplified Loader'!G67=\"F\",\"Female\",\"\"))))","v":""},{"$f":"IF('Simplified Loader'!U67=\"Yes\",\"Yes\",IF('Simplified Loader'!U67=\"No\",\"No\",IF('Simplified Loader'!U67=\"Y\",\"Yes\",IF('Simplified Loader'!U67=\"N\",\"No\",\"\"))))","v":""},{"$f":"IF('Simplified Loader'!I67=\"Single\",\"Single\",IF('Simplified Loader'!I67=\"Family\",\"Family\",IF('Simplified Loader'!I67=\"Waive\",\"Family\",IF('Simplified Loader'!I67=\"Single Parent\",\"Family\",IF('Simplified Loader'!I67=\"Couple\",\"Family\",IF('Simplified Loader'!I67=\"In force\",\"Family\",IF('Simplified Loader'!I67=\"Applies\",\"Family\",IF('Simplified Loader'!I67=\"Applicable\",\"Family\",\"\"))))))))","v":""},{"$f":"IF('Simplified Loader'!AC67=\"English\",\"English\",IF('Simplified Loader'!AC67=\"French\",\"French\",IF('Simplified Loader'!AC67=\"E\",\"English\",IF('Simplified Loader'!AC67=\"F\",\"French\",\"\"))))","v":""},{"$f":"IF('Simplified Loader'!AB67=\"Yes\",\"Yes\",IF('Simplified Loader'!AB67=\"No\",\"No\",IF('Simplified Loader'!AB67=\"Y\",\"Yes\",IF('Simplified Loader'!AB67=\"N\",\"No\",\"\"))))","v":""},{"$f":"IF('Simplified Loader'!AD67>0,'Simplified Loader'!AD67,\"\")","v":""},{"$f":"IF('Simplified Loader'!M67>0,'Simplified Loader'!M67,\"\")","v":""},{"$f":"IF('Simplified Loader'!N67>0,'Simplified Loader'!N67,\"\")","v":""},{"$f":"IF('Simplified Loader'!O67>0,'Simplified Loader'!O67,\"\")","v":""},{"$f":"IF('Simplified Loader'!I67=\"Waive\",\"Yes\",\"\")","v":""},{"$f":"IF('Simplified Loader'!I67=\"Waive\",\"Yes\",\"\")","v":""},{"$f":"IF('Simplified Loader'!AE67>0,'Simplified Loader'!AE67,\"\")","v":""},{"$f":"IF('Simplified Loader'!AF67>0,'Simplified Loader'!AF67,\"\")","v":""},{"$f":"IF('Simplified Loader'!AG67>0,'Simplified Loader'!AG67,\"\")","v":""},{"$f":"IF('Simplified Loader'!AH67>0,'Simplified Loader'!AH67,\"\")","v":""},{"$f":"IF('Simplified Loader'!AI67>0,'Simplified Loader'!AI67,\"\")","v":" "},{"$f":"IF('Simplified Loader'!AJ67>0,'Simplified Loader'!AJ67,\"\")","v":" "},{"$f":"IF('Simplified Loader'!W67>0,'Simplified Loader'!W67&\" \",\"\")&IF('Simplified Loader'!V67>0,'Simplified Loader'!V67,\"\")","v":""},null,{"$f":"IF('Simplified Loader'!X67>0,'Simplified Loader'!X67,\"\")","v":""},{"$f":"IF('Simplified Loader'!Y67>0,'Simplified Loader'!Y67,\"\")","v":""},{"$f":"IF('Simplified Loader'!Z67>0,'Simplified Loader'!Z67,\"\")","v":""},{"$f":"IF('Simplified Loader'!AA67>0,'Simplified Loader'!AA67,\"\")","v":""},{"$f":"IF('Simplified Loader'!E67>0,'Simplified Loader'!E67,\"\")","v":""},{"$f":"IF('Simplified Loader'!AK67>0,'Simplified Loader'!AK67,\"\")","v":""},{"$f":"IF('Simplified Loader'!AL67>0,'Simplified Loader'!AL67,\"\")","v":""},{"$f":"IF('Simplified Loader'!AM67>0,'Simplified Loader'!AM67,\"\")","v":""},{"$f":"IF('Simplified Loader'!AN67=\"Male\",\"Male\",IF('Simplified Loader'!AN67=\"Female\",\"Female\",IF('Simplified Loader'!AN67=\"M\",\"Male\",IF('Simplified Loader'!AN67=\"F\",\"Female\",\"\"))))","v":""},{"$f":"IF('Simplified Loader'!AO67=\"Single\",\"Single\",IF('Simplified Loader'!AO67=\"Family\",\"Family\",IF('Simplified Loader'!AO67=\"S\",\"Single\",IF('Simplified Loader'!AO67=\"F\",\"Family\",\"\"))))","v":""},{"$f":"IF('Simplified Loader'!AP67=\"Single\",\"Single\",IF('Simplified Loader'!AP67=\"Family\",\"Family\",IF('Simplified Loader'!AP67=\"S\",\"Single\",IF('Simplified Loader'!AP67=\"F\",\"Family\",\"\"))))","v":""},{"$f":"IF('Simplified Loader'!AQ67>0,'Simplified Loader'!AQ67,\"\")","v":""},{"$f":"IF('Simplified Loader'!AR67=\"Yes\",\"Yes\",IF('Simplified Loader'!AR67=\"No\",\"No\",IF('Simplified Loader'!AR67=\"Y\",\"Yes\",IF('Simplified Loader'!AR67=\"N\",\"No\",\"\"))))","v":""},{"$f":"IF('Simplified Loader'!AS67>0,'Simplified Loader'!AS67,\"\")","v":""},{"$f":"IF('Simplified Loader'!AT67>0,'Simplified Loader'!AT67,\"\")","v":""},{"$f":"IF('Simplified Loader'!AU67>0,'Simplified Loader'!AU67,\"\")","v":""},{"$f":"IF('Simplified Loader'!AV67=\"Male\",\"Male\",IF('Simplified Loader'!AV67=\"Female\",\"Female\",IF('Simplified Loader'!AV67=\"M\",\"Male\",IF('Simplified Loader'!AV67=\"F\",\"Female\",\"\"))))","v":""},{"$f":"IF('Simplified Loader'!AW67=\"Yes\",\"Yes\",IF('Simplified Loader'!AW67=\"No\",\"No\",IF('Simplified Loader'!AW67=\"Y\",\"Yes\",IF('Simplified Loader'!AW67=\"N\",\"No\",\"\"))))","v":""},{"$f":"IF('Simplified Loader'!AX67=\"Yes\",\"Yes\",IF('Simplified Loader'!AX67=\"No\",\"No\",IF('Simplified Loader'!AX67=\"Y\",\"Yes\",IF('Simplified Loader'!AX67=\"N\",\"No\",\"\"))))","v":""},{"$f":"IF('Simplified Loader'!AY67>0,'Simplified Loader'!AY67,\"\")","v":""},{"$f":"IF('Simplified Loader'!AZ67>0,'Simplified Loader'!AZ67,\"\")","v":""},{"$f":"IF('Simplified Loader'!BA67>0,'Simplified Loader'!BA67,\"\")","v":""},{"$f":"IF('Simplified Loader'!BB67=\"Male\",\"Male\",IF('Simplified Loader'!BB67=\"Female\",\"Female\",IF('Simplified Loader'!BB67=\"M\",\"Male\",IF('Simplified Loader'!BB67=\"F\",\"Female\",\"\"))))","v":""},{"$f":"IF('Simplified Loader'!BC67=\"Yes\",\"Yes\",IF('Simplified Loader'!BC67=\"No\",\"No\",IF('Simplified Loader'!BC67=\"Y\",\"Yes\",IF('Simplified Loader'!BC67=\"N\",\"No\",\"\"))))","v":""},{"$f":"IF('Simplified Loader'!BD67=\"Yes\",\"Yes\",IF('Simplified Loader'!BD67=\"No\",\"No\",IF('Simplified Loader'!BD67=\"Y\",\"Yes\",IF('Simplified Loader'!BD67=\"N\",\"No\",\"\"))))","v":""},{"$f":"IF('Simplified Loader'!BE67>0,'Simplified Loader'!BE67,\"\")","v":""},{"$f":"IF('Simplified Loader'!BF67>0,'Simplified Loader'!BF67,\"\")","v":""},{"$f":"IF('Simplified Loader'!BG67>0,'Simplified Loader'!BG67,\"\")","v":""},{"$f":"IF('Simplified Loader'!BH67=\"Male\",\"Male\",IF('Simplified Loader'!BH67=\"Female\",\"Female\",IF('Simplified Loader'!BH67=\"M\",\"Male\",IF('Simplified Loader'!BH67=\"F\",\"Female\",\"\"))))","v":""},{"$f":"IF('Simplified Loader'!BI67=\"Yes\",\"Yes\",IF('Simplified Loader'!BI67=\"No\",\"No\",IF('Simplified Loader'!BI67=\"Y\",\"Yes\",IF('Simplified Loader'!BI67=\"N\",\"No\",\"\"))))","v":""},{"$f":"IF('Simplified Loader'!BJ67=\"Yes\",\"Yes\",IF('Simplified Loader'!BJ67=\"No\",\"No\",IF('Simplified Loader'!BJ67=\"Y\",\"Yes\",IF('Simplified Loader'!BJ67=\"N\",\"No\",\"\"))))","v":""},{"$f":"IF('Simplified Loader'!BK67>0,'Simplified Loader'!BK67,\"\")","v":""},{"$f":"IF('Simplified Loader'!BL67>0,'Simplified Loader'!BL67,\"\")","v":""},{"$f":"IF('Simplified Loader'!BM67>0,'Simplified Loader'!BM67,\"\")","v":""},{"$f":"IF('Simplified Loader'!BN67=\"Male\",\"Male\",IF('Simplified Loader'!BN67=\"Female\",\"Female\",IF('Simplified Loader'!BN67=\"M\",\"Male\",IF('Simplified Loader'!BN67=\"F\",\"Female\",\"\"))))","v":""},{"$f":"IF('Simplified Loader'!BO67=\"Yes\",\"Yes\",IF('Simplified Loader'!BO67=\"No\",\"No\",IF('Simplified Loader'!BO67=\"Y\",\"Yes\",IF('Simplified Loader'!BO67=\"N\",\"No\",\"\"))))","v":""},{"$f":"IF('Simplified Loader'!BP67=\"Yes\",\"Yes\",IF('Simplified Loader'!BP67=\"No\",\"No\",IF('Simplified Loader'!BP67=\"Y\",\"Yes\",IF('Simplified Loader'!BP67=\"N\",\"No\",\"\"))))","v":""},{"$f":"IF('Simplified Loader'!BQ67>0,'Simplified Loader'!BQ67,\"\")","v":""},{"$f":"IF('Simplified Loader'!BR67>0,'Simplified Loader'!BR67,\"\")","v":""},{"$f":"IF('Simplified Loader'!BS67>0,'Simplified Loader'!BS67,\"\")","v":""},{"$f":"IF('Simplified Loader'!BT67=\"Male\",\"Male\",IF('Simplified Loader'!BT67=\"Female\",\"Female\",IF('Simplified Loader'!BT67=\"M\",\"Male\",IF('Simplified Loader'!BT67=\"F\",\"Female\",\"\"))))","v":""},{"$f":"IF('Simplified Loader'!BU67=\"Yes\",\"Yes\",IF('Simplified Loader'!BU67=\"No\",\"No\",IF('Simplified Loader'!BU67=\"Y\",\"Yes\",IF('Simplified Loader'!BU67=\"N\",\"No\",\"\"))))","v":""},{"$f":"IF('Simplified Loader'!BV67=\"Yes\",\"Yes\",IF('Simplified Loader'!BV67=\"No\",\"No\",IF('Simplified Loader'!BV67=\"Y\",\"Yes\",IF('Simplified Loader'!BV67=\"N\",\"No\",\"\"))))","v":""},{"$f":"IF('Simplified Loader'!BW67>0,'Simplified Loader'!BW67,\"\")","v":""},{"$f":"IF('Simplified Loader'!BX67>0,'Simplified Loader'!BX67,\"\")","v":""},{"$f":"IF('Simplified Loader'!BY67>0,'Simplified Loader'!BY67,\"\")","v":""},{"$f":"IF('Simplified Loader'!BZ67=\"Male\",\"Male\",IF('Simplified Loader'!BZ67=\"Female\",\"Female\",IF('Simplified Loader'!BZ67=\"M\",\"Male\",IF('Simplified Loader'!BZ67=\"F\",\"Female\",\"\"))))","v":""},{"$f":"IF('Simplified Loader'!CA67=\"Yes\",\"Yes\",IF('Simplified Loader'!CA67=\"No\",\"No\",IF('Simplified Loader'!CA67=\"Y\",\"Yes\",IF('Simplified Loader'!CA67=\"N\",\"No\",\"\"))))","v":""},{"$f":"IF('Simplified Loader'!CB67=\"Yes\",\"Yes\",IF('Simplified Loader'!CB67=\"No\",\"No\",IF('Simplified Loader'!CB67=\"Y\",\"Yes\",IF('Simplified Loader'!CB67=\"N\",\"No\",\"\"))))","v":""},{"$f":"IF('Simplified Loader'!CH67>0,'Simplified Loader'!CH67,\"\")","v":"    "}]
[{"$f":"IF('Simplified Loader'!A68>0,'Simplified Loader'!A68,\"\")","v":""},{"$f":"IF('Simplified Loader'!B68>0,'Simplified Loader'!B68,\"\")","v":""},{"$f":"IF('Simplified Loader'!C68>0,'Simplified Loader'!C68,\"\")","v":""},{"$f":"IF('Simplified Loader'!D68>0,'Simplified Loader'!D68,\"\")","v":""},{"$f":"IF('Simplified Loader'!P68>0,TEXT('Simplified Loader'!P68,\"000\"),\"\")","v":""},{"$f":"IF('Simplified Loader'!Q68>0,'Simplified Loader'!Q68,\"\")","v":""},{"$f":"IF('Simplified Loader'!R68>0,'Simplified Loader'!R68,\"\")","v":""},{"$f":"IF('Simplified Loader'!F68>0,DATEVALUE(TEXT('Simplified Loader'!F68,\"yyyy-mm-dd\")),\"\")","v":""},{"$f":"IF('Simplified Loader'!L68>0,DATEVALUE(TEXT('Simplified Loader'!L68,\"yyyy-mm-dd\")),\"\")","v":""},{"$f":"IF('Simplified Loader'!Y68>0,'Simplified Loader'!Y68,\"\")","v":""},{"$f":"IF('Simplified Loader'!T68>0,'Simplified Loader'!T68,\"\")","v":""},{"$f":"IF('Simplified Loader'!G68=\"Male\",\"Male\",IF('Simplified Loader'!G68=\"Female\",\"Female\",IF('Simplified Loader'!G68=\"M\",\"Male\",IF('Simplified Loader'!G68=\"F\",\"Female\",\"\"))))","v":""},{"$f":"IF('Simplified Loader'!U68=\"Yes\",\"Yes\",IF('Simplified Loader'!U68=\"No\",\"No\",IF('Simplified Loader'!U68=\"Y\",\"Yes\",IF('Simplified Loader'!U68=\"N\",\"No\",\"\"))))","v":""},{"$f":"IF('Simplified Loader'!I68=\"Single\",\"Single\",IF('Simplified Loader'!I68=\"Family\",\"Family\",IF('Simplified Loader'!I68=\"Waive\",\"Family\",IF('Simplified Loader'!I68=\"Single Parent\",\"Family\",IF('Simplified Loader'!I68=\"Couple\",\"Family\",IF('Simplified Loader'!I68=\"In force\",\"Family\",IF('Simplified Loader'!I68=\"Applies\",\"Family\",IF('Simplified Loader'!I68=\"Applicable\",\"Family\",\"\"))))))))","v":""},{"$f":"IF('Simplified Loader'!AC68=\"English\",\"English\",IF('Simplified Loader'!AC68=\"French\",\"French\",IF('Simplified Loader'!AC68=\"E\",\"English\",IF('Simplified Loader'!AC68=\"F\",\"French\",\"\"))))","v":""},{"$f":"IF('Simplified Loader'!AB68=\"Yes\",\"Yes\",IF('Simplified Loader'!AB68=\"No\",\"No\",IF('Simplified Loader'!AB68=\"Y\",\"Yes\",IF('Simplified Loader'!AB68=\"N\",\"No\",\"\"))))","v":""},{"$f":"IF('Simplified Loader'!AD68>0,'Simplified Loader'!AD68,\"\")","v":""},{"$f":"IF('Simplified Loader'!M68>0,'Simplified Loader'!M68,\"\")","v":""},{"$f":"IF('Simplified Loader'!N68>0,'Simplified Loader'!N68,\"\")","v":""},{"$f":"IF('Simplified Loader'!O68>0,'Simplified Loader'!O68,\"\")","v":""},{"$f":"IF('Simplified Loader'!I68=\"Waive\",\"Yes\",\"\")","v":""},{"$f":"IF('Simplified Loader'!I68=\"Waive\",\"Yes\",\"\")","v":""},{"$f":"IF('Simplified Loader'!AE68>0,'Simplified Loader'!AE68,\"\")","v":""},{"$f":"IF('Simplified Loader'!AF68>0,'Simplified Loader'!AF68,\"\")","v":""},{"$f":"IF('Simplified Loader'!AG68>0,'Simplified Loader'!AG68,\"\")","v":""},{"$f":"IF('Simplified Loader'!AH68>0,'Simplified Loader'!AH68,\"\")","v":""},{"$f":"IF('Simplified Loader'!AI68>0,'Simplified Loader'!AI68,\"\")","v":" "},{"$f":"IF('Simplified Loader'!AJ68>0,'Simplified Loader'!AJ68,\"\")","v":" "},{"$f":"IF('Simplified Loader'!W68>0,'Simplified Loader'!W68&\" \",\"\")&IF('Simplified Loader'!V68>0,'Simplified Loader'!V68,\"\")","v":""},null,{"$f":"IF('Simplified Loader'!X68>0,'Simplified Loader'!X68,\"\")","v":""},{"$f":"IF('Simplified Loader'!Y68>0,'Simplified Loader'!Y68,\"\")","v":""},{"$f":"IF('Simplified Loader'!Z68>0,'Simplified Loader'!Z68,\"\")","v":""},{"$f":"IF('Simplified Loader'!AA68>0,'Simplified Loader'!AA68,\"\")","v":""},{"$f":"IF('Simplified Loader'!E68>0,'Simplified Loader'!E68,\"\")","v":""},{"$f":"IF('Simplified Loader'!AK68>0,'Simplified Loader'!AK68,\"\")","v":""},{"$f":"IF('Simplified Loader'!AL68>0,'Simplified Loader'!AL68,\"\")","v":""},{"$f":"IF('Simplified Loader'!AM68>0,'Simplified Loader'!AM68,\"\")","v":""},{"$f":"IF('Simplified Loader'!AN68=\"Male\",\"Male\",IF('Simplified Loader'!AN68=\"Female\",\"Female\",IF('Simplified Loader'!AN68=\"M\",\"Male\",IF('Simplified Loader'!AN68=\"F\",\"Female\",\"\"))))","v":""},{"$f":"IF('Simplified Loader'!AO68=\"Single\",\"Single\",IF('Simplified Loader'!AO68=\"Family\",\"Family\",IF('Simplified Loader'!AO68=\"S\",\"Single\",IF('Simplified Loader'!AO68=\"F\",\"Family\",\"\"))))","v":""},{"$f":"IF('Simplified Loader'!AP68=\"Single\",\"Single\",IF('Simplified Loader'!AP68=\"Family\",\"Family\",IF('Simplified Loader'!AP68=\"S\",\"Single\",IF('Simplified Loader'!AP68=\"F\",\"Family\",\"\"))))","v":""},{"$f":"IF('Simplified Loader'!AQ68>0,'Simplified Loader'!AQ68,\"\")","v":""},{"$f":"IF('Simplified Loader'!AR68=\"Yes\",\"Yes\",IF('Simplified Loader'!AR68=\"No\",\"No\",IF('Simplified Loader'!AR68=\"Y\",\"Yes\",IF('Simplified Loader'!AR68=\"N\",\"No\",\"\"))))","v":""},{"$f":"IF('Simplified Loader'!AS68>0,'Simplified Loader'!AS68,\"\")","v":""},{"$f":"IF('Simplified Loader'!AT68>0,'Simplified Loader'!AT68,\"\")","v":""},{"$f":"IF('Simplified Loader'!AU68>0,'Simplified Loader'!AU68,\"\")","v":""},{"$f":"IF('Simplified Loader'!AV68=\"Male\",\"Male\",IF('Simplified Loader'!AV68=\"Female\",\"Female\",IF('Simplified Loader'!AV68=\"M\",\"Male\",IF('Simplified Loader'!AV68=\"F\",\"Female\",\"\"))))","v":""},{"$f":"IF('Simplified Loader'!AW68=\"Yes\",\"Yes\",IF('Simplified Loader'!AW68=\"No\",\"No\",IF('Simplified Loader'!AW68=\"Y\",\"Yes\",IF('Simplified Loader'!AW68=\"N\",\"No\",\"\"))))","v":""},{"$f":"IF('Simplified Loader'!AX68=\"Yes\",\"Yes\",IF('Simplified Loader'!AX68=\"No\",\"No\",IF('Simplified Loader'!AX68=\"Y\",\"Yes\",IF('Simplified Loader'!AX68=\"N\",\"No\",\"\"))))","v":""},{"$f":"IF('Simplified Loader'!AY68>0,'Simplified Loader'!AY68,\"\")","v":""},{"$f":"IF('Simplified Loader'!AZ68>0,'Simplified Loader'!AZ68,\"\")","v":""},{"$f":"IF('Simplified Loader'!BA68>0,'Simplified Loader'!BA68,\"\")","v":""},{"$f":"IF('Simplified Loader'!BB68=\"Male\",\"Male\",IF('Simplified Loader'!BB68=\"Female\",\"Female\",IF('Simplified Loader'!BB68=\"M\",\"Male\",IF('Simplified Loader'!BB68=\"F\",\"Female\",\"\"))))","v":""},{"$f":"IF('Simplified Loader'!BC68=\"Yes\",\"Yes\",IF('Simplified Loader'!BC68=\"No\",\"No\",IF('Simplified Loader'!BC68=\"Y\",\"Yes\",IF('Simplified Loader'!BC68=\"N\",\"No\",\"\"))))","v":""},{"$f":"IF('Simplified Loader'!BD68=\"Yes\",\"Yes\",IF('Simplified Loader'!BD68=\"No\",\"No\",IF('Simplified Loader'!BD68=\"Y\",\"Yes\",IF('Simplified Loader'!BD68=\"N\",\"No\",\"\"))))","v":""},{"$f":"IF('Simplified Loader'!BE68>0,'Simplified Loader'!BE68,\"\")","v":""},{"$f":"IF('Simplified Loader'!BF68>0,'Simplified Loader'!BF68,\"\")","v":""},{"$f":"IF('Simplified Loader'!BG68>0,'Simplified Loader'!BG68,\"\")","v":""},{"$f":"IF('Simplified Loader'!BH68=\"Male\",\"Male\",IF('Simplified Loader'!BH68=\"Female\",\"Female\",IF('Simplified Loader'!BH68=\"M\",\"Male\",IF('Simplified Loader'!BH68=\"F\",\"Female\",\"\"))))","v":""},{"$f":"IF('Simplified Loader'!BI68=\"Yes\",\"Yes\",IF('Simplified Loader'!BI68=\"No\",\"No\",IF('Simplified Loader'!BI68=\"Y\",\"Yes\",IF('Simplified Loader'!BI68=\"N\",\"No\",\"\"))))","v":""},{"$f":"IF('Simplified Loader'!BJ68=\"Yes\",\"Yes\",IF('Simplified Loader'!BJ68=\"No\",\"No\",IF('Simplified Loader'!BJ68=\"Y\",\"Yes\",IF('Simplified Loader'!BJ68=\"N\",\"No\",\"\"))))","v":""},{"$f":"IF('Simplified Loader'!BK68>0,'Simplified Loader'!BK68,\"\")","v":""},{"$f":"IF('Simplified Loader'!BL68>0,'Simplified Loader'!BL68,\"\")","v":""},{"$f":"IF('Simplified Loader'!BM68>0,'Simplified Loader'!BM68,\"\")","v":""},{"$f":"IF('Simplified Loader'!BN68=\"Male\",\"Male\",IF('Simplified Loader'!BN68=\"Female\",\"Female\",IF('Simplified Loader'!BN68=\"M\",\"Male\",IF('Simplified Loader'!BN68=\"F\",\"Female\",\"\"))))","v":""},{"$f":"IF('Simplified Loader'!BO68=\"Yes\",\"Yes\",IF('Simplified Loader'!BO68=\"No\",\"No\",IF('Simplified Loader'!BO68=\"Y\",\"Yes\",IF('Simplified Loader'!BO68=\"N\",\"No\",\"\"))))","v":""},{"$f":"IF('Simplified Loader'!BP68=\"Yes\",\"Yes\",IF('Simplified Loader'!BP68=\"No\",\"No\",IF('Simplified Loader'!BP68=\"Y\",\"Yes\",IF('Simplified Loader'!BP68=\"N\",\"No\",\"\"))))","v":""},{"$f":"IF('Simplified Loader'!BQ68>0,'Simplified Loader'!BQ68,\"\")","v":""},{"$f":"IF('Simplified Loader'!BR68>0,'Simplified Loader'!BR68,\"\")","v":""},{"$f":"IF('Simplified Loader'!BS68>0,'Simplified Loader'!BS68,\"\")","v":""},{"$f":"IF('Simplified Loader'!BT68=\"Male\",\"Male\",IF('Simplified Loader'!BT68=\"Female\",\"Female\",IF('Simplified Loader'!BT68=\"M\",\"Male\",IF('Simplified Loader'!BT68=\"F\",\"Female\",\"\"))))","v":""},{"$f":"IF('Simplified Loader'!BU68=\"Yes\",\"Yes\",IF('Simplified Loader'!BU68=\"No\",\"No\",IF('Simplified Loader'!BU68=\"Y\",\"Yes\",IF('Simplified Loader'!BU68=\"N\",\"No\",\"\"))))","v":""},{"$f":"IF('Simplified Loader'!BV68=\"Yes\",\"Yes\",IF('Simplified Loader'!BV68=\"No\",\"No\",IF('Simplified Loader'!BV68=\"Y\",\"Yes\",IF('Simplified Loader'!BV68=\"N\",\"No\",\"\"))))","v":""},{"$f":"IF('Simplified Loader'!BW68>0,'Simplified Loader'!BW68,\"\")","v":""},{"$f":"IF('Simplified Loader'!BX68>0,'Simplified Loader'!BX68,\"\")","v":""},{"$f":"IF('Simplified Loader'!BY68>0,'Simplified Loader'!BY68,\"\")","v":""},{"$f":"IF('Simplified Loader'!BZ68=\"Male\",\"Male\",IF('Simplified Loader'!BZ68=\"Female\",\"Female\",IF('Simplified Loader'!BZ68=\"M\",\"Male\",IF('Simplified Loader'!BZ68=\"F\",\"Female\",\"\"))))","v":""},{"$f":"IF('Simplified Loader'!CA68=\"Yes\",\"Yes\",IF('Simplified Loader'!CA68=\"No\",\"No\",IF('Simplified Loader'!CA68=\"Y\",\"Yes\",IF('Simplified Loader'!CA68=\"N\",\"No\",\"\"))))","v":""},{"$f":"IF('Simplified Loader'!CB68=\"Yes\",\"Yes\",IF('Simplified Loader'!CB68=\"No\",\"No\",IF('Simplified Loader'!CB68=\"Y\",\"Yes\",IF('Simplified Loader'!CB68=\"N\",\"No\",\"\"))))","v":""},{"$f":"IF('Simplified Loader'!CH68>0,'Simplified Loader'!CH68,\"\")","v":"    "}]
[{"$f":"IF('Simplified Loader'!A69>0,'Simplified Loader'!A69,\"\")","v":""},{"$f":"IF('Simplified Loader'!B69>0,'Simplified Loader'!B69,\"\")","v":""},{"$f":"IF('Simplified Loader'!C69>0,'Simplified Loader'!C69,\"\")","v":""},{"$f":"IF('Simplified Loader'!D69>0,'Simplified Loader'!D69,\"\")","v":""},{"$f":"IF('Simplified Loader'!P69>0,TEXT('Simplified Loader'!P69,\"000\"),\"\")","v":""},{"$f":"IF('Simplified Loader'!Q69>0,'Simplified Loader'!Q69,\"\")","v":""},{"$f":"IF('Simplified Loader'!R69>0,'Simplified Loader'!R69,\"\")","v":""},{"$f":"IF('Simplified Loader'!F69>0,DATEVALUE(TEXT('Simplified Loader'!F69,\"yyyy-mm-dd\")),\"\")","v":""},{"$f":"IF('Simplified Loader'!L69>0,DATEVALUE(TEXT('Simplified Loader'!L69,\"yyyy-mm-dd\")),\"\")","v":""},{"$f":"IF('Simplified Loader'!Y69>0,'Simplified Loader'!Y69,\"\")","v":""},{"$f":"IF('Simplified Loader'!T69>0,'Simplified Loader'!T69,\"\")","v":""},{"$f":"IF('Simplified Loader'!G69=\"Male\",\"Male\",IF('Simplified Loader'!G69=\"Female\",\"Female\",IF('Simplified Loader'!G69=\"M\",\"Male\",IF('Simplified Loader'!G69=\"F\",\"Female\",\"\"))))","v":""},{"$f":"IF('Simplified Loader'!U69=\"Yes\",\"Yes\",IF('Simplified Loader'!U69=\"No\",\"No\",IF('Simplified Loader'!U69=\"Y\",\"Yes\",IF('Simplified Loader'!U69=\"N\",\"No\",\"\"))))","v":""},{"$f":"IF('Simplified Loader'!I69=\"Single\",\"Single\",IF('Simplified Loader'!I69=\"Family\",\"Family\",IF('Simplified Loader'!I69=\"Waive\",\"Family\",IF('Simplified Loader'!I69=\"Single Parent\",\"Family\",IF('Simplified Loader'!I69=\"Couple\",\"Family\",IF('Simplified Loader'!I69=\"In force\",\"Family\",IF('Simplified Loader'!I69=\"Applies\",\"Family\",IF('Simplified Loader'!I69=\"Applicable\",\"Family\",\"\"))))))))","v":""},{"$f":"IF('Simplified Loader'!AC69=\"English\",\"English\",IF('Simplified Loader'!AC69=\"French\",\"French\",IF('Simplified Loader'!AC69=\"E\",\"English\",IF('Simplified Loader'!AC69=\"F\",\"French\",\"\"))))","v":""},{"$f":"IF('Simplified Loader'!AB69=\"Yes\",\"Yes\",IF('Simplified Loader'!AB69=\"No\",\"No\",IF('Simplified Loader'!AB69=\"Y\",\"Yes\",IF('Simplified Loader'!AB69=\"N\",\"No\",\"\"))))","v":""},{"$f":"IF('Simplified Loader'!AD69>0,'Simplified Loader'!AD69,\"\")","v":""},{"$f":"IF('Simplified Loader'!M69>0,'Simplified Loader'!M69,\"\")","v":""},{"$f":"IF('Simplified Loader'!N69>0,'Simplified Loader'!N69,\"\")","v":""},{"$f":"IF('Simplified Loader'!O69>0,'Simplified Loader'!O69,\"\")","v":""},{"$f":"IF('Simplified Loader'!I69=\"Waive\",\"Yes\",\"\")","v":""},{"$f":"IF('Simplified Loader'!I69=\"Waive\",\"Yes\",\"\")","v":""},{"$f":"IF('Simplified Loader'!AE69>0,'Simplified Loader'!AE69,\"\")","v":""},{"$f":"IF('Simplified Loader'!AF69>0,'Simplified Loader'!AF69,\"\")","v":""},{"$f":"IF('Simplified Loader'!AG69>0,'Simplified Loader'!AG69,\"\")","v":""},{"$f":"IF('Simplified Loader'!AH69>0,'Simplified Loader'!AH69,\"\")","v":""},{"$f":"IF('Simplified Loader'!AI69>0,'Simplified Loader'!AI69,\"\")","v":" "},{"$f":"IF('Simplified Loader'!AJ69>0,'Simplified Loader'!AJ69,\"\")","v":" "},{"$f":"IF('Simplified Loader'!W69>0,'Simplified Loader'!W69&\" \",\"\")&IF('Simplified Loader'!V69>0,'Simplified Loader'!V69,\"\")","v":""},null,{"$f":"IF('Simplified Loader'!X69>0,'Simplified Loader'!X69,\"\")","v":""},{"$f":"IF('Simplified Loader'!Y69>0,'Simplified Loader'!Y69,\"\")","v":""},{"$f":"IF('Simplified Loader'!Z69>0,'Simplified Loader'!Z69,\"\")","v":""},{"$f":"IF('Simplified Loader'!AA69>0,'Simplified Loader'!AA69,\"\")","v":""},{"$f":"IF('Simplified Loader'!E69>0,'Simplified Loader'!E69,\"\")","v":""},{"$f":"IF('Simplified Loader'!AK69>0,'Simplified Loader'!AK69,\"\")","v":""},{"$f":"IF('Simplified Loader'!AL69>0,'Simplified Loader'!AL69,\"\")","v":""},{"$f":"IF('Simplified Loader'!AM69>0,'Simplified Loader'!AM69,\"\")","v":""},{"$f":"IF('Simplified Loader'!AN69=\"Male\",\"Male\",IF('Simplified Loader'!AN69=\"Female\",\"Female\",IF('Simplified Loader'!AN69=\"M\",\"Male\",IF('Simplified Loader'!AN69=\"F\",\"Female\",\"\"))))","v":""},{"$f":"IF('Simplified Loader'!AO69=\"Single\",\"Single\",IF('Simplified Loader'!AO69=\"Family\",\"Family\",IF('Simplified Loader'!AO69=\"S\",\"Single\",IF('Simplified Loader'!AO69=\"F\",\"Family\",\"\"))))","v":""},{"$f":"IF('Simplified Loader'!AP69=\"Single\",\"Single\",IF('Simplified Loader'!AP69=\"Family\",\"Family\",IF('Simplified Loader'!AP69=\"S\",\"Single\",IF('Simplified Loader'!AP69=\"F\",\"Family\",\"\"))))","v":""},{"$f":"IF('Simplified Loader'!AQ69>0,'Simplified Loader'!AQ69,\"\")","v":""},{"$f":"IF('Simplified Loader'!AR69=\"Yes\",\"Yes\",IF('Simplified Loader'!AR69=\"No\",\"No\",IF('Simplified Loader'!AR69=\"Y\",\"Yes\",IF('Simplified Loader'!AR69=\"N\",\"No\",\"\"))))","v":""},{"$f":"IF('Simplified Loader'!AS69>0,'Simplified Loader'!AS69,\"\")","v":""},{"$f":"IF('Simplified Loader'!AT69>0,'Simplified Loader'!AT69,\"\")","v":""},{"$f":"IF('Simplified Loader'!AU69>0,'Simplified Loader'!AU69,\"\")","v":""},{"$f":"IF('Simplified Loader'!AV69=\"Male\",\"Male\",IF('Simplified Loader'!AV69=\"Female\",\"Female\",IF('Simplified Loader'!AV69=\"M\",\"Male\",IF('Simplified Loader'!AV69=\"F\",\"Female\",\"\"))))","v":""},{"$f":"IF('Simplified Loader'!AW69=\"Yes\",\"Yes\",IF('Simplified Loader'!AW69=\"No\",\"No\",IF('Simplified Loader'!AW69=\"Y\",\"Yes\",IF('Simplified Loader'!AW69=\"N\",\"No\",\"\"))))","v":""},{"$f":"IF('Simplified Loader'!AX69=\"Yes\",\"Yes\",IF('Simplified Loader'!AX69=\"No\",\"No\",IF('Simplified Loader'!AX69=\"Y\",\"Yes\",IF('Simplified Loader'!AX69=\"N\",\"No\",\"\"))))","v":""},{"$f":"IF('Simplified Loader'!AY69>0,'Simplified Loader'!AY69,\"\")","v":""},{"$f":"IF('Simplified Loader'!AZ69>0,'Simplified Loader'!AZ69,\"\")","v":""},{"$f":"IF('Simplified Loader'!BA69>0,'Simplified Loader'!BA69,\"\")","v":""},{"$f":"IF('Simplified Loader'!BB69=\"Male\",\"Male\",IF('Simplified Loader'!BB69=\"Female\",\"Female\",IF('Simplified Loader'!BB69=\"M\",\"Male\",IF('Simplified Loader'!BB69=\"F\",\"Female\",\"\"))))","v":""},{"$f":"IF('Simplified Loader'!BC69=\"Yes\",\"Yes\",IF('Simplified Loader'!BC69=\"No\",\"No\",IF('Simplified Loader'!BC69=\"Y\",\"Yes\",IF('Simplified Loader'!BC69=\"N\",\"No\",\"\"))))","v":""},{"$f":"IF('Simplified Loader'!BD69=\"Yes\",\"Yes\",IF('Simplified Loader'!BD69=\"No\",\"No\",IF('Simplified Loader'!BD69=\"Y\",\"Yes\",IF('Simplified Loader'!BD69=\"N\",\"No\",\"\"))))","v":""},{"$f":"IF('Simplified Loader'!BE69>0,'Simplified Loader'!BE69,\"\")","v":""},{"$f":"IF('Simplified Loader'!BF69>0,'Simplified Loader'!BF69,\"\")","v":""},{"$f":"IF('Simplified Loader'!BG69>0,'Simplified Loader'!BG69,\"\")","v":""},{"$f":"IF('Simplified Loader'!BH69=\"Male\",\"Male\",IF('Simplified Loader'!BH69=\"Female\",\"Female\",IF('Simplified Loader'!BH69=\"M\",\"Male\",IF('Simplified Loader'!BH69=\"F\",\"Female\",\"\"))))","v":""},{"$f":"IF('Simplified Loader'!BI69=\"Yes\",\"Yes\",IF('Simplified Loader'!BI69=\"No\",\"No\",IF('Simplified Loader'!BI69=\"Y\",\"Yes\",IF('Simplified Loader'!BI69=\"N\",\"No\",\"\"))))","v":""},{"$f":"IF('Simplified Loader'!BJ69=\"Yes\",\"Yes\",IF('Simplified Loader'!BJ69=\"No\",\"No\",IF('Simplified Loader'!BJ69=\"Y\",\"Yes\",IF('Simplified Loader'!BJ69=\"N\",\"No\",\"\"))))","v":""},{"$f":"IF('Simplified Loader'!BK69>0,'Simplified Loader'!BK69,\"\")","v":""},{"$f":"IF('Simplified Loader'!BL69>0,'Simplified Loader'!BL69,\"\")","v":""},{"$f":"IF('Simplified Loader'!BM69>0,'Simplified Loader'!BM69,\"\")","v":""},{"$f":"IF('Simplified Loader'!BN69=\"Male\",\"Male\",IF('Simplified Loader'!BN69=\"Female\",\"Female\",IF('Simplified Loader'!BN69=\"M\",\"Male\",IF('Simplified Loader'!BN69=\"F\",\"Female\",\"\"))))","v":""},{"$f":"IF('Simplified Loader'!BO69=\"Yes\",\"Yes\",IF('Simplified Loader'!BO69=\"No\",\"No\",IF('Simplified Loader'!BO69=\"Y\",\"Yes\",IF('Simplified Loader'!BO69=\"N\",\"No\",\"\"))))","v":""},{"$f":"IF('Simplified Loader'!BP69=\"Yes\",\"Yes\",IF('Simplified Loader'!BP69=\"No\",\"No\",IF('Simplified Loader'!BP69=\"Y\",\"Yes\",IF('Simplified Loader'!BP69=\"N\",\"No\",\"\"))))","v":""},{"$f":"IF('Simplified Loader'!BQ69>0,'Simplified Loader'!BQ69,\"\")","v":""},{"$f":"IF('Simplified Loader'!BR69>0,'Simplified Loader'!BR69,\"\")","v":""},{"$f":"IF('Simplified Loader'!BS69>0,'Simplified Loader'!BS69,\"\")","v":""},{"$f":"IF('Simplified Loader'!BT69=\"Male\",\"Male\",IF('Simplified Loader'!BT69=\"Female\",\"Female\",IF('Simplified Loader'!BT69=\"M\",\"Male\",IF('Simplified Loader'!BT69=\"F\",\"Female\",\"\"))))","v":""},{"$f":"IF('Simplified Loader'!BU69=\"Yes\",\"Yes\",IF('Simplified Loader'!BU69=\"No\",\"No\",IF('Simplified Loader'!BU69=\"Y\",\"Yes\",IF('Simplified Loader'!BU69=\"N\",\"No\",\"\"))))","v":""},{"$f":"IF('Simplified Loader'!BV69=\"Yes\",\"Yes\",IF('Simplified Loader'!BV69=\"No\",\"No\",IF('Simplified Loader'!BV69=\"Y\",\"Yes\",IF('Simplified Loader'!BV69=\"N\",\"No\",\"\"))))","v":""},{"$f":"IF('Simplified Loader'!BW69>0,'Simplified Loader'!BW69,\"\")","v":""},{"$f":"IF('Simplified Loader'!BX69>0,'Simplified Loader'!BX69,\"\")","v":""},{"$f":"IF('Simplified Loader'!BY69>0,'Simplified Loader'!BY69,\"\")","v":""},{"$f":"IF('Simplified Loader'!BZ69=\"Male\",\"Male\",IF('Simplified Loader'!BZ69=\"Female\",\"Female\",IF('Simplified Loader'!BZ69=\"M\",\"Male\",IF('Simplified Loader'!BZ69=\"F\",\"Female\",\"\"))))","v":""},{"$f":"IF('Simplified Loader'!CA69=\"Yes\",\"Yes\",IF('Simplified Loader'!CA69=\"No\",\"No\",IF('Simplified Loader'!CA69=\"Y\",\"Yes\",IF('Simplified Loader'!CA69=\"N\",\"No\",\"\"))))","v":""},{"$f":"IF('Simplified Loader'!CB69=\"Yes\",\"Yes\",IF('Simplified Loader'!CB69=\"No\",\"No\",IF('Simplified Loader'!CB69=\"Y\",\"Yes\",IF('Simplified Loader'!CB69=\"N\",\"No\",\"\"))))","v":""},{"$f":"IF('Simplified Loader'!CH69>0,'Simplified Loader'!CH69,\"\")","v":"    "}]
[{"$f":"IF('Simplified Loader'!A70>0,'Simplified Loader'!A70,\"\")","v":""},{"$f":"IF('Simplified Loader'!B70>0,'Simplified Loader'!B70,\"\")","v":""},{"$f":"IF('Simplified Loader'!C70>0,'Simplified Loader'!C70,\"\")","v":""},{"$f":"IF('Simplified Loader'!D70>0,'Simplified Loader'!D70,\"\")","v":""},{"$f":"IF('Simplified Loader'!P70>0,TEXT('Simplified Loader'!P70,\"000\"),\"\")","v":""},{"$f":"IF('Simplified Loader'!Q70>0,'Simplified Loader'!Q70,\"\")","v":""},{"$f":"IF('Simplified Loader'!R70>0,'Simplified Loader'!R70,\"\")","v":""},{"$f":"IF('Simplified Loader'!F70>0,DATEVALUE(TEXT('Simplified Loader'!F70,\"yyyy-mm-dd\")),\"\")","v":""},{"$f":"IF('Simplified Loader'!L70>0,DATEVALUE(TEXT('Simplified Loader'!L70,\"yyyy-mm-dd\")),\"\")","v":""},{"$f":"IF('Simplified Loader'!Y70>0,'Simplified Loader'!Y70,\"\")","v":""},{"$f":"IF('Simplified Loader'!T70>0,'Simplified Loader'!T70,\"\")","v":""},{"$f":"IF('Simplified Loader'!G70=\"Male\",\"Male\",IF('Simplified Loader'!G70=\"Female\",\"Female\",IF('Simplified Loader'!G70=\"M\",\"Male\",IF('Simplified Loader'!G70=\"F\",\"Female\",\"\"))))","v":""},{"$f":"IF('Simplified Loader'!U70=\"Yes\",\"Yes\",IF('Simplified Loader'!U70=\"No\",\"No\",IF('Simplified Loader'!U70=\"Y\",\"Yes\",IF('Simplified Loader'!U70=\"N\",\"No\",\"\"))))","v":""},{"$f":"IF('Simplified Loader'!I70=\"Single\",\"Single\",IF('Simplified Loader'!I70=\"Family\",\"Family\",IF('Simplified Loader'!I70=\"Waive\",\"Family\",IF('Simplified Loader'!I70=\"Single Parent\",\"Family\",IF('Simplified Loader'!I70=\"Couple\",\"Family\",IF('Simplified Loader'!I70=\"In force\",\"Family\",IF('Simplified Loader'!I70=\"Applies\",\"Family\",IF('Simplified Loader'!I70=\"Applicable\",\"Family\",\"\"))))))))","v":""},{"$f":"IF('Simplified Loader'!AC70=\"English\",\"English\",IF('Simplified Loader'!AC70=\"French\",\"French\",IF('Simplified Loader'!AC70=\"E\",\"English\",IF('Simplified Loader'!AC70=\"F\",\"French\",\"\"))))","v":""},{"$f":"IF('Simplified Loader'!AB70=\"Yes\",\"Yes\",IF('Simplified Loader'!AB70=\"No\",\"No\",IF('Simplified Loader'!AB70=\"Y\",\"Yes\",IF('Simplified Loader'!AB70=\"N\",\"No\",\"\"))))","v":""},{"$f":"IF('Simplified Loader'!AD70>0,'Simplified Loader'!AD70,\"\")","v":""},{"$f":"IF('Simplified Loader'!M70>0,'Simplified Loader'!M70,\"\")","v":""},{"$f":"IF('Simplified Loader'!N70>0,'Simplified Loader'!N70,\"\")","v":""},{"$f":"IF('Simplified Loader'!O70>0,'Simplified Loader'!O70,\"\")","v":""},{"$f":"IF('Simplified Loader'!I70=\"Waive\",\"Yes\",\"\")","v":""},{"$f":"IF('Simplified Loader'!I70=\"Waive\",\"Yes\",\"\")","v":""},{"$f":"IF('Simplified Loader'!AE70>0,'Simplified Loader'!AE70,\"\")","v":""},{"$f":"IF('Simplified Loader'!AF70>0,'Simplified Loader'!AF70,\"\")","v":""},{"$f":"IF('Simplified Loader'!AG70>0,'Simplified Loader'!AG70,\"\")","v":""},{"$f":"IF('Simplified Loader'!AH70>0,'Simplified Loader'!AH70,\"\")","v":""},{"$f":"IF('Simplified Loader'!AI70>0,'Simplified Loader'!AI70,\"\")","v":" "},{"$f":"IF('Simplified Loader'!AJ70>0,'Simplified Loader'!AJ70,\"\")","v":" "},{"$f":"IF('Simplified Loader'!W70>0,'Simplified Loader'!W70&\" \",\"\")&IF('Simplified Loader'!V70>0,'Simplified Loader'!V70,\"\")","v":""},null,{"$f":"IF('Simplified Loader'!X70>0,'Simplified Loader'!X70,\"\")","v":""},{"$f":"IF('Simplified Loader'!Y70>0,'Simplified Loader'!Y70,\"\")","v":""},{"$f":"IF('Simplified Loader'!Z70>0,'Simplified Loader'!Z70,\"\")","v":""},{"$f":"IF('Simplified Loader'!AA70>0,'Simplified Loader'!AA70,\"\")","v":""},{"$f":"IF('Simplified Loader'!E70>0,'Simplified Loader'!E70,\"\")","v":""},{"$f":"IF('Simplified Loader'!AK70>0,'Simplified Loader'!AK70,\"\")","v":""},{"$f":"IF('Simplified Loader'!AL70>0,'Simplified Loader'!AL70,\"\")","v":""},{"$f":"IF('Simplified Loader'!AM70>0,'Simplified Loader'!AM70,\"\")","v":""},{"$f":"IF('Simplified Loader'!AN70=\"Male\",\"Male\",IF('Simplified Loader'!AN70=\"Female\",\"Female\",IF('Simplified Loader'!AN70=\"M\",\"Male\",IF('Simplified Loader'!AN70=\"F\",\"Female\",\"\"))))","v":""},{"$f":"IF('Simplified Loader'!AO70=\"Single\",\"Single\",IF('Simplified Loader'!AO70=\"Family\",\"Family\",IF('Simplified Loader'!AO70=\"S\",\"Single\",IF('Simplified Loader'!AO70=\"F\",\"Family\",\"\"))))","v":""},{"$f":"IF('Simplified Loader'!AP70=\"Single\",\"Single\",IF('Simplified Loader'!AP70=\"Family\",\"Family\",IF('Simplified Loader'!AP70=\"S\",\"Single\",IF('Simplified Loader'!AP70=\"F\",\"Family\",\"\"))))","v":""},{"$f":"IF('Simplified Loader'!AQ70>0,'Simplified Loader'!AQ70,\"\")","v":""},{"$f":"IF('Simplified Loader'!AR70=\"Yes\",\"Yes\",IF('Simplified Loader'!AR70=\"No\",\"No\",IF('Simplified Loader'!AR70=\"Y\",\"Yes\",IF('Simplified Loader'!AR70=\"N\",\"No\",\"\"))))","v":""},{"$f":"IF('Simplified Loader'!AS70>0,'Simplified Loader'!AS70,\"\")","v":""},{"$f":"IF('Simplified Loader'!AT70>0,'Simplified Loader'!AT70,\"\")","v":""},{"$f":"IF('Simplified Loader'!AU70>0,'Simplified Loader'!AU70,\"\")","v":""},{"$f":"IF('Simplified Loader'!AV70=\"Male\",\"Male\",IF('Simplified Loader'!AV70=\"Female\",\"Female\",IF('Simplified Loader'!AV70=\"M\",\"Male\",IF('Simplified Loader'!AV70=\"F\",\"Female\",\"\"))))","v":""},{"$f":"IF('Simplified Loader'!AW70=\"Yes\",\"Yes\",IF('Simplified Loader'!AW70=\"No\",\"No\",IF('Simplified Loader'!AW70=\"Y\",\"Yes\",IF('Simplified Loader'!AW70=\"N\",\"No\",\"\"))))","v":""},{"$f":"IF('Simplified Loader'!AX70=\"Yes\",\"Yes\",IF('Simplified Loader'!AX70=\"No\",\"No\",IF('Simplified Loader'!AX70=\"Y\",\"Yes\",IF('Simplified Loader'!AX70=\"N\",\"No\",\"\"))))","v":""},{"$f":"IF('Simplified Loader'!AY70>0,'Simplified Loader'!AY70,\"\")","v":""},{"$f":"IF('Simplified Loader'!AZ70>0,'Simplified Loader'!AZ70,\"\")","v":""},{"$f":"IF('Simplified Loader'!BA70>0,'Simplified Loader'!BA70,\"\")","v":""},{"$f":"IF('Simplified Loader'!BB70=\"Male\",\"Male\",IF('Simplified Loader'!BB70=\"Female\",\"Female\",IF('Simplified Loader'!BB70=\"M\",\"Male\",IF('Simplified Loader'!BB70=\"F\",\"Female\",\"\"))))","v":""},{"$f":"IF('Simplified Loader'!BC70=\"Yes\",\"Yes\",IF('Simplified Loader'!BC70=\"No\",\"No\",IF('Simplified Loader'!BC70=\"Y\",\"Yes\",IF('Simplified Loader'!BC70=\"N\",\"No\",\"\"))))","v":""},{"$f":"IF('Simplified Loader'!BD70=\"Yes\",\"Yes\",IF('Simplified Loader'!BD70=\"No\",\"No\",IF('Simplified Loader'!BD70=\"Y\",\"Yes\",IF('Simplified Loader'!BD70=\"N\",\"No\",\"\"))))","v":""},{"$f":"IF('Simplified Loader'!BE70>0,'Simplified Loader'!BE70,\"\")","v":""},{"$f":"IF('Simplified Loader'!BF70>0,'Simplified Loader'!BF70,\"\")","v":""},{"$f":"IF('Simplified Loader'!BG70>0,'Simplified Loader'!BG70,\"\")","v":""},{"$f":"IF('Simplified Loader'!BH70=\"Male\",\"Male\",IF('Simplified Loader'!BH70=\"Female\",\"Female\",IF('Simplified Loader'!BH70=\"M\",\"Male\",IF('Simplified Loader'!BH70=\"F\",\"Female\",\"\"))))","v":""},{"$f":"IF('Simplified Loader'!BI70=\"Yes\",\"Yes\",IF('Simplified Loader'!BI70=\"No\",\"No\",IF('Simplified Loader'!BI70=\"Y\",\"Yes\",IF('Simplified Loader'!BI70=\"N\",\"No\",\"\"))))","v":""},{"$f":"IF('Simplified Loader'!BJ70=\"Yes\",\"Yes\",IF('Simplified Loader'!BJ70=\"No\",\"No\",IF('Simplified Loader'!BJ70=\"Y\",\"Yes\",IF('Simplified Loader'!BJ70=\"N\",\"No\",\"\"))))","v":""},{"$f":"IF('Simplified Loader'!BK70>0,'Simplified Loader'!BK70,\"\")","v":""},{"$f":"IF('Simplified Loader'!BL70>0,'Simplified Loader'!BL70,\"\")","v":""},{"$f":"IF('Simplified Loader'!BM70>0,'Simplified Loader'!BM70,\"\")","v":""},{"$f":"IF('Simplified Loader'!BN70=\"Male\",\"Male\",IF('Simplified Loader'!BN70=\"Female\",\"Female\",IF('Simplified Loader'!BN70=\"M\",\"Male\",IF('Simplified Loader'!BN70=\"F\",\"Female\",\"\"))))","v":""},{"$f":"IF('Simplified Loader'!BO70=\"Yes\",\"Yes\",IF('Simplified Loader'!BO70=\"No\",\"No\",IF('Simplified Loader'!BO70=\"Y\",\"Yes\",IF('Simplified Loader'!BO70=\"N\",\"No\",\"\"))))","v":""},{"$f":"IF('Simplified Loader'!BP70=\"Yes\",\"Yes\",IF('Simplified Loader'!BP70=\"No\",\"No\",IF('Simplified Loader'!BP70=\"Y\",\"Yes\",IF('Simplified Loader'!BP70=\"N\",\"No\",\"\"))))","v":""},{"$f":"IF('Simplified Loader'!BQ70>0,'Simplified Loader'!BQ70,\"\")","v":""},{"$f":"IF('Simplified Loader'!BR70>0,'Simplified Loader'!BR70,\"\")","v":""},{"$f":"IF('Simplified Loader'!BS70>0,'Simplified Loader'!BS70,\"\")","v":""},{"$f":"IF('Simplified Loader'!BT70=\"Male\",\"Male\",IF('Simplified Loader'!BT70=\"Female\",\"Female\",IF('Simplified Loader'!BT70=\"M\",\"Male\",IF('Simplified Loader'!BT70=\"F\",\"Female\",\"\"))))","v":""},{"$f":"IF('Simplified Loader'!BU70=\"Yes\",\"Yes\",IF('Simplified Loader'!BU70=\"No\",\"No\",IF('Simplified Loader'!BU70=\"Y\",\"Yes\",IF('Simplified Loader'!BU70=\"N\",\"No\",\"\"))))","v":""},{"$f":"IF('Simplified Loader'!BV70=\"Yes\",\"Yes\",IF('Simplified Loader'!BV70=\"No\",\"No\",IF('Simplified Loader'!BV70=\"Y\",\"Yes\",IF('Simplified Loader'!BV70=\"N\",\"No\",\"\"))))","v":""},{"$f":"IF('Simplified Loader'!BW70>0,'Simplified Loader'!BW70,\"\")","v":""},{"$f":"IF('Simplified Loader'!BX70>0,'Simplified Loader'!BX70,\"\")","v":""},{"$f":"IF('Simplified Loader'!BY70>0,'Simplified Loader'!BY70,\"\")","v":""},{"$f":"IF('Simplified Loader'!BZ70=\"Male\",\"Male\",IF('Simplified Loader'!BZ70=\"Female\",\"Female\",IF('Simplified Loader'!BZ70=\"M\",\"Male\",IF('Simplified Loader'!BZ70=\"F\",\"Female\",\"\"))))","v":""},{"$f":"IF('Simplified Loader'!CA70=\"Yes\",\"Yes\",IF('Simplified Loader'!CA70=\"No\",\"No\",IF('Simplified Loader'!CA70=\"Y\",\"Yes\",IF('Simplified Loader'!CA70=\"N\",\"No\",\"\"))))","v":""},{"$f":"IF('Simplified Loader'!CB70=\"Yes\",\"Yes\",IF('Simplified Loader'!CB70=\"No\",\"No\",IF('Simplified Loader'!CB70=\"Y\",\"Yes\",IF('Simplified Loader'!CB70=\"N\",\"No\",\"\"))))","v":""},{"$f":"IF('Simplified Loader'!CH70>0,'Simplified Loader'!CH70,\"\")","v":"    "}]
[{"$f":"IF('Simplified Loader'!A71>0,'Simplified Loader'!A71,\"\")","v":""},{"$f":"IF('Simplified Loader'!B71>0,'Simplified Loader'!B71,\"\")","v":""},{"$f":"IF('Simplified Loader'!C71>0,'Simplified Loader'!C71,\"\")","v":""},{"$f":"IF('Simplified Loader'!D71>0,'Simplified Loader'!D71,\"\")","v":""},{"$f":"IF('Simplified Loader'!P71>0,TEXT('Simplified Loader'!P71,\"000\"),\"\")","v":""},{"$f":"IF('Simplified Loader'!Q71>0,'Simplified Loader'!Q71,\"\")","v":""},{"$f":"IF('Simplified Loader'!R71>0,'Simplified Loader'!R71,\"\")","v":""},{"$f":"IF('Simplified Loader'!F71>0,DATEVALUE(TEXT('Simplified Loader'!F71,\"yyyy-mm-dd\")),\"\")","v":""},{"$f":"IF('Simplified Loader'!L71>0,DATEVALUE(TEXT('Simplified Loader'!L71,\"yyyy-mm-dd\")),\"\")","v":""},{"$f":"IF('Simplified Loader'!Y71>0,'Simplified Loader'!Y71,\"\")","v":""},{"$f":"IF('Simplified Loader'!T71>0,'Simplified Loader'!T71,\"\")","v":""},{"$f":"IF('Simplified Loader'!G71=\"Male\",\"Male\",IF('Simplified Loader'!G71=\"Female\",\"Female\",IF('Simplified Loader'!G71=\"M\",\"Male\",IF('Simplified Loader'!G71=\"F\",\"Female\",\"\"))))","v":""},{"$f":"IF('Simplified Loader'!U71=\"Yes\",\"Yes\",IF('Simplified Loader'!U71=\"No\",\"No\",IF('Simplified Loader'!U71=\"Y\",\"Yes\",IF('Simplified Loader'!U71=\"N\",\"No\",\"\"))))","v":""},{"$f":"IF('Simplified Loader'!I71=\"Single\",\"Single\",IF('Simplified Loader'!I71=\"Family\",\"Family\",IF('Simplified Loader'!I71=\"Waive\",\"Family\",IF('Simplified Loader'!I71=\"Single Parent\",\"Family\",IF('Simplified Loader'!I71=\"Couple\",\"Family\",IF('Simplified Loader'!I71=\"In force\",\"Family\",IF('Simplified Loader'!I71=\"Applies\",\"Family\",IF('Simplified Loader'!I71=\"Applicable\",\"Family\",\"\"))))))))","v":""},{"$f":"IF('Simplified Loader'!AC71=\"English\",\"English\",IF('Simplified Loader'!AC71=\"French\",\"French\",IF('Simplified Loader'!AC71=\"E\",\"English\",IF('Simplified Loader'!AC71=\"F\",\"French\",\"\"))))","v":""},{"$f":"IF('Simplified Loader'!AB71=\"Yes\",\"Yes\",IF('Simplified Loader'!AB71=\"No\",\"No\",IF('Simplified Loader'!AB71=\"Y\",\"Yes\",IF('Simplified Loader'!AB71=\"N\",\"No\",\"\"))))","v":""},{"$f":"IF('Simplified Loader'!AD71>0,'Simplified Loader'!AD71,\"\")","v":""},{"$f":"IF('Simplified Loader'!M71>0,'Simplified Loader'!M71,\"\")","v":""},{"$f":"IF('Simplified Loader'!N71>0,'Simplified Loader'!N71,\"\")","v":""},{"$f":"IF('Simplified Loader'!O71>0,'Simplified Loader'!O71,\"\")","v":""},{"$f":"IF('Simplified Loader'!I71=\"Waive\",\"Yes\",\"\")","v":""},{"$f":"IF('Simplified Loader'!I71=\"Waive\",\"Yes\",\"\")","v":""},{"$f":"IF('Simplified Loader'!AE71>0,'Simplified Loader'!AE71,\"\")","v":""},{"$f":"IF('Simplified Loader'!AF71>0,'Simplified Loader'!AF71,\"\")","v":""},{"$f":"IF('Simplified Loader'!AG71>0,'Simplified Loader'!AG71,\"\")","v":""},{"$f":"IF('Simplified Loader'!AH71>0,'Simplified Loader'!AH71,\"\")","v":""},{"$f":"IF('Simplified Loader'!AI71>0,'Simplified Loader'!AI71,\"\")","v":" "},{"$f":"IF('Simplified Loader'!AJ71>0,'Simplified Loader'!AJ71,\"\")","v":" "},{"$f":"IF('Simplified Loader'!W71>0,'Simplified Loader'!W71&\" \",\"\")&IF('Simplified Loader'!V71>0,'Simplified Loader'!V71,\"\")","v":""},null,{"$f":"IF('Simplified Loader'!X71>0,'Simplified Loader'!X71,\"\")","v":""},{"$f":"IF('Simplified Loader'!Y71>0,'Simplified Loader'!Y71,\"\")","v":""},{"$f":"IF('Simplified Loader'!Z71>0,'Simplified Loader'!Z71,\"\")","v":""},{"$f":"IF('Simplified Loader'!AA71>0,'Simplified Loader'!AA71,\"\")","v":""},{"$f":"IF('Simplified Loader'!E71>0,'Simplified Loader'!E71,\"\")","v":""},{"$f":"IF('Simplified Loader'!AK71>0,'Simplified Loader'!AK71,\"\")","v":""},{"$f":"IF('Simplified Loader'!AL71>0,'Simplified Loader'!AL71,\"\")","v":""},{"$f":"IF('Simplified Loader'!AM71>0,'Simplified Loader'!AM71,\"\")","v":""},{"$f":"IF('Simplified Loader'!AN71=\"Male\",\"Male\",IF('Simplified Loader'!AN71=\"Female\",\"Female\",IF('Simplified Loader'!AN71=\"M\",\"Male\",IF('Simplified Loader'!AN71=\"F\",\"Female\",\"\"))))","v":""},{"$f":"IF('Simplified Loader'!AO71=\"Single\",\"Single\",IF('Simplified Loader'!AO71=\"Family\",\"Family\",IF('Simplified Loader'!AO71=\"S\",\"Single\",IF('Simplified Loader'!AO71=\"F\",\"Family\",\"\"))))","v":""},{"$f":"IF('Simplified Loader'!AP71=\"Single\",\"Single\",IF('Simplified Loader'!AP71=\"Family\",\"Family\",IF('Simplified Loader'!AP71=\"S\",\"Single\",IF('Simplified Loader'!AP71=\"F\",\"Family\",\"\"))))","v":""},{"$f":"IF('Simplified Loader'!AQ71>0,'Simplified Loader'!AQ71,\"\")","v":""},{"$f":"IF('Simplified Loader'!AR71=\"Yes\",\"Yes\",IF('Simplified Loader'!AR71=\"No\",\"No\",IF('Simplified Loader'!AR71=\"Y\",\"Yes\",IF('Simplified Loader'!AR71=\"N\",\"No\",\"\"))))","v":""},{"$f":"IF('Simplified Loader'!AS71>0,'Simplified Loader'!AS71,\"\")","v":""},{"$f":"IF('Simplified Loader'!AT71>0,'Simplified Loader'!AT71,\"\")","v":""},{"$f":"IF('Simplified Loader'!AU71>0,'Simplified Loader'!AU71,\"\")","v":""},{"$f":"IF('Simplified Loader'!AV71=\"Male\",\"Male\",IF('Simplified Loader'!AV71=\"Female\",\"Female\",IF('Simplified Loader'!AV71=\"M\",\"Male\",IF('Simplified Loader'!AV71=\"F\",\"Female\",\"\"))))","v":""},{"$f":"IF('Simplified Loader'!AW71=\"Yes\",\"Yes\",IF('Simplified Loader'!AW71=\"No\",\"No\",IF('Simplified Loader'!AW71=\"Y\",\"Yes\",IF('Simplified Loader'!AW71=\"N\",\"No\",\"\"))))","v":""},{"$f":"IF('Simplified Loader'!AX71=\"Yes\",\"Yes\",IF('Simplified Loader'!AX71=\"No\",\"No\",IF('Simplified Loader'!AX71=\"Y\",\"Yes\",IF('Simplified Loader'!AX71=\"N\",\"No\",\"\"))))","v":""},{"$f":"IF('Simplified Loader'!AY71>0,'Simplified Loader'!AY71,\"\")","v":""},{"$f":"IF('Simplified Loader'!AZ71>0,'Simplified Loader'!AZ71,\"\")","v":""},{"$f":"IF('Simplified Loader'!BA71>0,'Simplified Loader'!BA71,\"\")","v":""},{"$f":"IF('Simplified Loader'!BB71=\"Male\",\"Male\",IF('Simplified Loader'!BB71=\"Female\",\"Female\",IF('Simplified Loader'!BB71=\"M\",\"Male\",IF('Simplified Loader'!BB71=\"F\",\"Female\",\"\"))))","v":""},{"$f":"IF('Simplified Loader'!BC71=\"Yes\",\"Yes\",IF('Simplified Loader'!BC71=\"No\",\"No\",IF('Simplified Loader'!BC71=\"Y\",\"Yes\",IF('Simplified Loader'!BC71=\"N\",\"No\",\"\"))))","v":""},{"$f":"IF('Simplified Loader'!BD71=\"Yes\",\"Yes\",IF('Simplified Loader'!BD71=\"No\",\"No\",IF('Simplified Loader'!BD71=\"Y\",\"Yes\",IF('Simplified Loader'!BD71=\"N\",\"No\",\"\"))))","v":""},{"$f":"IF('Simplified Loader'!BE71>0,'Simplified Loader'!BE71,\"\")","v":""},{"$f":"IF('Simplified Loader'!BF71>0,'Simplified Loader'!BF71,\"\")","v":""},{"$f":"IF('Simplified Loader'!BG71>0,'Simplified Loader'!BG71,\"\")","v":""},{"$f":"IF('Simplified Loader'!BH71=\"Male\",\"Male\",IF('Simplified Loader'!BH71=\"Female\",\"Female\",IF('Simplified Loader'!BH71=\"M\",\"Male\",IF('Simplified Loader'!BH71=\"F\",\"Female\",\"\"))))","v":""},{"$f":"IF('Simplified Loader'!BI71=\"Yes\",\"Yes\",IF('Simplified Loader'!BI71=\"No\",\"No\",IF('Simplified Loader'!BI71=\"Y\",\"Yes\",IF('Simplified Loader'!BI71=\"N\",\"No\",\"\"))))","v":""},{"$f":"IF('Simplified Loader'!BJ71=\"Yes\",\"Yes\",IF('Simplified Loader'!BJ71=\"No\",\"No\",IF('Simplified Loader'!BJ71=\"Y\",\"Yes\",IF('Simplified Loader'!BJ71=\"N\",\"No\",\"\"))))","v":""},{"$f":"IF('Simplified Loader'!BK71>0,'Simplified Loader'!BK71,\"\")","v":""},{"$f":"IF('Simplified Loader'!BL71>0,'Simplified Loader'!BL71,\"\")","v":""},{"$f":"IF('Simplified Loader'!BM71>0,'Simplified Loader'!BM71,\"\")","v":""},{"$f":"IF('Simplified Loader'!BN71=\"Male\",\"Male\",IF('Simplified Loader'!BN71=\"Female\",\"Female\",IF('Simplified Loader'!BN71=\"M\",\"Male\",IF('Simplified Loader'!BN71=\"F\",\"Female\",\"\"))))","v":""},{"$f":"IF('Simplified Loader'!BO71=\"Yes\",\"Yes\",IF('Simplified Loader'!BO71=\"No\",\"No\",IF('Simplified Loader'!BO71=\"Y\",\"Yes\",IF('Simplified Loader'!BO71=\"N\",\"No\",\"\"))))","v":""},{"$f":"IF('Simplified Loader'!BP71=\"Yes\",\"Yes\",IF('Simplified Loader'!BP71=\"No\",\"No\",IF('Simplified Loader'!BP71=\"Y\",\"Yes\",IF('Simplified Loader'!BP71=\"N\",\"No\",\"\"))))","v":""},{"$f":"IF('Simplified Loader'!BQ71>0,'Simplified Loader'!BQ71,\"\")","v":""},{"$f":"IF('Simplified Loader'!BR71>0,'Simplified Loader'!BR71,\"\")","v":""},{"$f":"IF('Simplified Loader'!BS71>0,'Simplified Loader'!BS71,\"\")","v":""},{"$f":"IF('Simplified Loader'!BT71=\"Male\",\"Male\",IF('Simplified Loader'!BT71=\"Female\",\"Female\",IF('Simplified Loader'!BT71=\"M\",\"Male\",IF('Simplified Loader'!BT71=\"F\",\"Female\",\"\"))))","v":""},{"$f":"IF('Simplified Loader'!BU71=\"Yes\",\"Yes\",IF('Simplified Loader'!BU71=\"No\",\"No\",IF('Simplified Loader'!BU71=\"Y\",\"Yes\",IF('Simplified Loader'!BU71=\"N\",\"No\",\"\"))))","v":""},{"$f":"IF('Simplified Loader'!BV71=\"Yes\",\"Yes\",IF('Simplified Loader'!BV71=\"No\",\"No\",IF('Simplified Loader'!BV71=\"Y\",\"Yes\",IF('Simplified Loader'!BV71=\"N\",\"No\",\"\"))))","v":""},{"$f":"IF('Simplified Loader'!BW71>0,'Simplified Loader'!BW71,\"\")","v":""},{"$f":"IF('Simplified Loader'!BX71>0,'Simplified Loader'!BX71,\"\")","v":""},{"$f":"IF('Simplified Loader'!BY71>0,'Simplified Loader'!BY71,\"\")","v":""},{"$f":"IF('Simplified Loader'!BZ71=\"Male\",\"Male\",IF('Simplified Loader'!BZ71=\"Female\",\"Female\",IF('Simplified Loader'!BZ71=\"M\",\"Male\",IF('Simplified Loader'!BZ71=\"F\",\"Female\",\"\"))))","v":""},{"$f":"IF('Simplified Loader'!CA71=\"Yes\",\"Yes\",IF('Simplified Loader'!CA71=\"No\",\"No\",IF('Simplified Loader'!CA71=\"Y\",\"Yes\",IF('Simplified Loader'!CA71=\"N\",\"No\",\"\"))))","v":""},{"$f":"IF('Simplified Loader'!CB71=\"Yes\",\"Yes\",IF('Simplified Loader'!CB71=\"No\",\"No\",IF('Simplified Loader'!CB71=\"Y\",\"Yes\",IF('Simplified Loader'!CB71=\"N\",\"No\",\"\"))))","v":""},{"$f":"IF('Simplified Loader'!CH71>0,'Simplified Loader'!CH71,\"\")","v":"    "}]
[{"$f":"IF('Simplified Loader'!A72>0,'Simplified Loader'!A72,\"\")","v":""},{"$f":"IF('Simplified Loader'!B72>0,'Simplified Loader'!B72,\"\")","v":""},{"$f":"IF('Simplified Loader'!C72>0,'Simplified Loader'!C72,\"\")","v":""},{"$f":"IF('Simplified Loader'!D72>0,'Simplified Loader'!D72,\"\")","v":""},{"$f":"IF('Simplified Loader'!P72>0,TEXT('Simplified Loader'!P72,\"000\"),\"\")","v":""},{"$f":"IF('Simplified Loader'!Q72>0,'Simplified Loader'!Q72,\"\")","v":""},{"$f":"IF('Simplified Loader'!R72>0,'Simplified Loader'!R72,\"\")","v":""},{"$f":"IF('Simplified Loader'!F72>0,DATEVALUE(TEXT('Simplified Loader'!F72,\"yyyy-mm-dd\")),\"\")","v":""},{"$f":"IF('Simplified Loader'!L72>0,DATEVALUE(TEXT('Simplified Loader'!L72,\"yyyy-mm-dd\")),\"\")","v":""},{"$f":"IF('Simplified Loader'!Y72>0,'Simplified Loader'!Y72,\"\")","v":""},{"$f":"IF('Simplified Loader'!T72>0,'Simplified Loader'!T72,\"\")","v":""},{"$f":"IF('Simplified Loader'!G72=\"Male\",\"Male\",IF('Simplified Loader'!G72=\"Female\",\"Female\",IF('Simplified Loader'!G72=\"M\",\"Male\",IF('Simplified Loader'!G72=\"F\",\"Female\",\"\"))))","v":""},{"$f":"IF('Simplified Loader'!U72=\"Yes\",\"Yes\",IF('Simplified Loader'!U72=\"No\",\"No\",IF('Simplified Loader'!U72=\"Y\",\"Yes\",IF('Simplified Loader'!U72=\"N\",\"No\",\"\"))))","v":""},{"$f":"IF('Simplified Loader'!I72=\"Single\",\"Single\",IF('Simplified Loader'!I72=\"Family\",\"Family\",IF('Simplified Loader'!I72=\"Waive\",\"Family\",IF('Simplified Loader'!I72=\"Single Parent\",\"Family\",IF('Simplified Loader'!I72=\"Couple\",\"Family\",IF('Simplified Loader'!I72=\"In force\",\"Family\",IF('Simplified Loader'!I72=\"Applies\",\"Family\",IF('Simplified Loader'!I72=\"Applicable\",\"Family\",\"\"))))))))","v":""},{"$f":"IF('Simplified Loader'!AC72=\"English\",\"English\",IF('Simplified Loader'!AC72=\"French\",\"French\",IF('Simplified Loader'!AC72=\"E\",\"English\",IF('Simplified Loader'!AC72=\"F\",\"French\",\"\"))))","v":""},{"$f":"IF('Simplified Loader'!AB72=\"Yes\",\"Yes\",IF('Simplified Loader'!AB72=\"No\",\"No\",IF('Simplified Loader'!AB72=\"Y\",\"Yes\",IF('Simplified Loader'!AB72=\"N\",\"No\",\"\"))))","v":""},{"$f":"IF('Simplified Loader'!AD72>0,'Simplified Loader'!AD72,\"\")","v":""},{"$f":"IF('Simplified Loader'!M72>0,'Simplified Loader'!M72,\"\")","v":""},{"$f":"IF('Simplified Loader'!N72>0,'Simplified Loader'!N72,\"\")","v":""},{"$f":"IF('Simplified Loader'!O72>0,'Simplified Loader'!O72,\"\")","v":""},{"$f":"IF('Simplified Loader'!I72=\"Waive\",\"Yes\",\"\")","v":""},{"$f":"IF('Simplified Loader'!I72=\"Waive\",\"Yes\",\"\")","v":""},{"$f":"IF('Simplified Loader'!AE72>0,'Simplified Loader'!AE72,\"\")","v":""},{"$f":"IF('Simplified Loader'!AF72>0,'Simplified Loader'!AF72,\"\")","v":""},{"$f":"IF('Simplified Loader'!AG72>0,'Simplified Loader'!AG72,\"\")","v":""},{"$f":"IF('Simplified Loader'!AH72>0,'Simplified Loader'!AH72,\"\")","v":""},{"$f":"IF('Simplified Loader'!AI72>0,'Simplified Loader'!AI72,\"\")","v":" "},{"$f":"IF('Simplified Loader'!AJ72>0,'Simplified Loader'!AJ72,\"\")","v":" "},{"$f":"IF('Simplified Loader'!W72>0,'Simplified Loader'!W72&\" \",\"\")&IF('Simplified Loader'!V72>0,'Simplified Loader'!V72,\"\")","v":""},null,{"$f":"IF('Simplified Loader'!X72>0,'Simplified Loader'!X72,\"\")","v":""},{"$f":"IF('Simplified Loader'!Y72>0,'Simplified Loader'!Y72,\"\")","v":""},{"$f":"IF('Simplified Loader'!Z72>0,'Simplified Loader'!Z72,\"\")","v":""},{"$f":"IF('Simplified Loader'!AA72>0,'Simplified Loader'!AA72,\"\")","v":""},{"$f":"IF('Simplified Loader'!E72>0,'Simplified Loader'!E72,\"\")","v":""},{"$f":"IF('Simplified Loader'!AK72>0,'Simplified Loader'!AK72,\"\")","v":""},{"$f":"IF('Simplified Loader'!AL72>0,'Simplified Loader'!AL72,\"\")","v":""},{"$f":"IF('Simplified Loader'!AM72>0,'Simplified Loader'!AM72,\"\")","v":""},{"$f":"IF('Simplified Loader'!AN72=\"Male\",\"Male\",IF('Simplified Loader'!AN72=\"Female\",\"Female\",IF('Simplified Loader'!AN72=\"M\",\"Male\",IF('Simplified Loader'!AN72=\"F\",\"Female\",\"\"))))","v":""},{"$f":"IF('Simplified Loader'!AO72=\"Single\",\"Single\",IF('Simplified Loader'!AO72=\"Family\",\"Family\",IF('Simplified Loader'!AO72=\"S\",\"Single\",IF('Simplified Loader'!AO72=\"F\",\"Family\",\"\"))))","v":""},{"$f":"IF('Simplified Loader'!AP72=\"Single\",\"Single\",IF('Simplified Loader'!AP72=\"Family\",\"Family\",IF('Simplified Loader'!AP72=\"S\",\"Single\",IF('Simplified Loader'!AP72=\"F\",\"Family\",\"\"))))","v":""},{"$f":"IF('Simplified Loader'!AQ72>0,'Simplified Loader'!AQ72,\"\")","v":""},{"$f":"IF('Simplified Loader'!AR72=\"Yes\",\"Yes\",IF('Simplified Loader'!AR72=\"No\",\"No\",IF('Simplified Loader'!AR72=\"Y\",\"Yes\",IF('Simplified Loader'!AR72=\"N\",\"No\",\"\"))))","v":""},{"$f":"IF('Simplified Loader'!AS72>0,'Simplified Loader'!AS72,\"\")","v":""},{"$f":"IF('Simplified Loader'!AT72>0,'Simplified Loader'!AT72,\"\")","v":""},{"$f":"IF('Simplified Loader'!AU72>0,'Simplified Loader'!AU72,\"\")","v":""},{"$f":"IF('Simplified Loader'!AV72=\"Male\",\"Male\",IF('Simplified Loader'!AV72=\"Female\",\"Female\",IF('Simplified Loader'!AV72=\"M\",\"Male\",IF('Simplified Loader'!AV72=\"F\",\"Female\",\"\"))))","v":""},{"$f":"IF('Simplified Loader'!AW72=\"Yes\",\"Yes\",IF('Simplified Loader'!AW72=\"No\",\"No\",IF('Simplified Loader'!AW72=\"Y\",\"Yes\",IF('Simplified Loader'!AW72=\"N\",\"No\",\"\"))))","v":""},{"$f":"IF('Simplified Loader'!AX72=\"Yes\",\"Yes\",IF('Simplified Loader'!AX72=\"No\",\"No\",IF('Simplified Loader'!AX72=\"Y\",\"Yes\",IF('Simplified Loader'!AX72=\"N\",\"No\",\"\"))))","v":""},{"$f":"IF('Simplified Loader'!AY72>0,'Simplified Loader'!AY72,\"\")","v":""},{"$f":"IF('Simplified Loader'!AZ72>0,'Simplified Loader'!AZ72,\"\")","v":""},{"$f":"IF('Simplified Loader'!BA72>0,'Simplified Loader'!BA72,\"\")","v":""},{"$f":"IF('Simplified Loader'!BB72=\"Male\",\"Male\",IF('Simplified Loader'!BB72=\"Female\",\"Female\",IF('Simplified Loader'!BB72=\"M\",\"Male\",IF('Simplified Loader'!BB72=\"F\",\"Female\",\"\"))))","v":""},{"$f":"IF('Simplified Loader'!BC72=\"Yes\",\"Yes\",IF('Simplified Loader'!BC72=\"No\",\"No\",IF('Simplified Loader'!BC72=\"Y\",\"Yes\",IF('Simplified Loader'!BC72=\"N\",\"No\",\"\"))))","v":""},{"$f":"IF('Simplified Loader'!BD72=\"Yes\",\"Yes\",IF('Simplified Loader'!BD72=\"No\",\"No\",IF('Simplified Loader'!BD72=\"Y\",\"Yes\",IF('Simplified Loader'!BD72=\"N\",\"No\",\"\"))))","v":""},{"$f":"IF('Simplified Loader'!BE72>0,'Simplified Loader'!BE72,\"\")","v":""},{"$f":"IF('Simplified Loader'!BF72>0,'Simplified Loader'!BF72,\"\")","v":""},{"$f":"IF('Simplified Loader'!BG72>0,'Simplified Loader'!BG72,\"\")","v":""},{"$f":"IF('Simplified Loader'!BH72=\"Male\",\"Male\",IF('Simplified Loader'!BH72=\"Female\",\"Female\",IF('Simplified Loader'!BH72=\"M\",\"Male\",IF('Simplified Loader'!BH72=\"F\",\"Female\",\"\"))))","v":""},{"$f":"IF('Simplified Loader'!BI72=\"Yes\",\"Yes\",IF('Simplified Loader'!BI72=\"No\",\"No\",IF('Simplified Loader'!BI72=\"Y\",\"Yes\",IF('Simplified Loader'!BI72=\"N\",\"No\",\"\"))))","v":""},{"$f":"IF('Simplified Loader'!BJ72=\"Yes\",\"Yes\",IF('Simplified Loader'!BJ72=\"No\",\"No\",IF('Simplified Loader'!BJ72=\"Y\",\"Yes\",IF('Simplified Loader'!BJ72=\"N\",\"No\",\"\"))))","v":""},{"$f":"IF('Simplified Loader'!BK72>0,'Simplified Loader'!BK72,\"\")","v":""},{"$f":"IF('Simplified Loader'!BL72>0,'Simplified Loader'!BL72,\"\")","v":""},{"$f":"IF('Simplified Loader'!BM72>0,'Simplified Loader'!BM72,\"\")","v":""},{"$f":"IF('Simplified Loader'!BN72=\"Male\",\"Male\",IF('Simplified Loader'!BN72=\"Female\",\"Female\",IF('Simplified Loader'!BN72=\"M\",\"Male\",IF('Simplified Loader'!BN72=\"F\",\"Female\",\"\"))))","v":""},{"$f":"IF('Simplified Loader'!BO72=\"Yes\",\"Yes\",IF('Simplified Loader'!BO72=\"No\",\"No\",IF('Simplified Loader'!BO72=\"Y\",\"Yes\",IF('Simplified Loader'!BO72=\"N\",\"No\",\"\"))))","v":""},{"$f":"IF('Simplified Loader'!BP72=\"Yes\",\"Yes\",IF('Simplified Loader'!BP72=\"No\",\"No\",IF('Simplified Loader'!BP72=\"Y\",\"Yes\",IF('Simplified Loader'!BP72=\"N\",\"No\",\"\"))))","v":""},{"$f":"IF('Simplified Loader'!BQ72>0,'Simplified Loader'!BQ72,\"\")","v":""},{"$f":"IF('Simplified Loader'!BR72>0,'Simplified Loader'!BR72,\"\")","v":""},{"$f":"IF('Simplified Loader'!BS72>0,'Simplified Loader'!BS72,\"\")","v":""},{"$f":"IF('Simplified Loader'!BT72=\"Male\",\"Male\",IF('Simplified Loader'!BT72=\"Female\",\"Female\",IF('Simplified Loader'!BT72=\"M\",\"Male\",IF('Simplified Loader'!BT72=\"F\",\"Female\",\"\"))))","v":""},{"$f":"IF('Simplified Loader'!BU72=\"Yes\",\"Yes\",IF('Simplified Loader'!BU72=\"No\",\"No\",IF('Simplified Loader'!BU72=\"Y\",\"Yes\",IF('Simplified Loader'!BU72=\"N\",\"No\",\"\"))))","v":""},{"$f":"IF('Simplified Loader'!BV72=\"Yes\",\"Yes\",IF('Simplified Loader'!BV72=\"No\",\"No\",IF('Simplified Loader'!BV72=\"Y\",\"Yes\",IF('Simplified Loader'!BV72=\"N\",\"No\",\"\"))))","v":""},{"$f":"IF('Simplified Loader'!BW72>0,'Simplified Loader'!BW72,\"\")","v":""},{"$f":"IF('Simplified Loader'!BX72>0,'Simplified Loader'!BX72,\"\")","v":""},{"$f":"IF('Simplified Loader'!BY72>0,'Simplified Loader'!BY72,\"\")","v":""},{"$f":"IF('Simplified Loader'!BZ72=\"Male\",\"Male\",IF('Simplified Loader'!BZ72=\"Female\",\"Female\",IF('Simplified Loader'!BZ72=\"M\",\"Male\",IF('Simplified Loader'!BZ72=\"F\",\"Female\",\"\"))))","v":""},{"$f":"IF('Simplified Loader'!CA72=\"Yes\",\"Yes\",IF('Simplified Loader'!CA72=\"No\",\"No\",IF('Simplified Loader'!CA72=\"Y\",\"Yes\",IF('Simplified Loader'!CA72=\"N\",\"No\",\"\"))))","v":""},{"$f":"IF('Simplified Loader'!CB72=\"Yes\",\"Yes\",IF('Simplified Loader'!CB72=\"No\",\"No\",IF('Simplified Loader'!CB72=\"Y\",\"Yes\",IF('Simplified Loader'!CB72=\"N\",\"No\",\"\"))))","v":""},{"$f":"IF('Simplified Loader'!CH72>0,'Simplified Loader'!CH72,\"\")","v":"    "}]
[{"$f":"IF('Simplified Loader'!A73>0,'Simplified Loader'!A73,\"\")","v":""},{"$f":"IF('Simplified Loader'!B73>0,'Simplified Loader'!B73,\"\")","v":""},{"$f":"IF('Simplified Loader'!C73>0,'Simplified Loader'!C73,\"\")","v":""},{"$f":"IF('Simplified Loader'!D73>0,'Simplified Loader'!D73,\"\")","v":""},{"$f":"IF('Simplified Loader'!P73>0,TEXT('Simplified Loader'!P73,\"000\"),\"\")","v":""},{"$f":"IF('Simplified Loader'!Q73>0,'Simplified Loader'!Q73,\"\")","v":""},{"$f":"IF('Simplified Loader'!R73>0,'Simplified Loader'!R73,\"\")","v":""},{"$f":"IF('Simplified Loader'!F73>0,DATEVALUE(TEXT('Simplified Loader'!F73,\"yyyy-mm-dd\")),\"\")","v":""},{"$f":"IF('Simplified Loader'!L73>0,DATEVALUE(TEXT('Simplified Loader'!L73,\"yyyy-mm-dd\")),\"\")","v":""},{"$f":"IF('Simplified Loader'!Y73>0,'Simplified Loader'!Y73,\"\")","v":""},{"$f":"IF('Simplified Loader'!T73>0,'Simplified Loader'!T73,\"\")","v":""},{"$f":"IF('Simplified Loader'!G73=\"Male\",\"Male\",IF('Simplified Loader'!G73=\"Female\",\"Female\",IF('Simplified Loader'!G73=\"M\",\"Male\",IF('Simplified Loader'!G73=\"F\",\"Female\",\"\"))))","v":""},{"$f":"IF('Simplified Loader'!U73=\"Yes\",\"Yes\",IF('Simplified Loader'!U73=\"No\",\"No\",IF('Simplified Loader'!U73=\"Y\",\"Yes\",IF('Simplified Loader'!U73=\"N\",\"No\",\"\"))))","v":""},{"$f":"IF('Simplified Loader'!I73=\"Single\",\"Single\",IF('Simplified Loader'!I73=\"Family\",\"Family\",IF('Simplified Loader'!I73=\"Waive\",\"Family\",IF('Simplified Loader'!I73=\"Single Parent\",\"Family\",IF('Simplified Loader'!I73=\"Couple\",\"Family\",IF('Simplified Loader'!I73=\"In force\",\"Family\",IF('Simplified Loader'!I73=\"Applies\",\"Family\",IF('Simplified Loader'!I73=\"Applicable\",\"Family\",\"\"))))))))","v":""},{"$f":"IF('Simplified Loader'!AC73=\"English\",\"English\",IF('Simplified Loader'!AC73=\"French\",\"French\",IF('Simplified Loader'!AC73=\"E\",\"English\",IF('Simplified Loader'!AC73=\"F\",\"French\",\"\"))))","v":""},{"$f":"IF('Simplified Loader'!AB73=\"Yes\",\"Yes\",IF('Simplified Loader'!AB73=\"No\",\"No\",IF('Simplified Loader'!AB73=\"Y\",\"Yes\",IF('Simplified Loader'!AB73=\"N\",\"No\",\"\"))))","v":""},{"$f":"IF('Simplified Loader'!AD73>0,'Simplified Loader'!AD73,\"\")","v":""},{"$f":"IF('Simplified Loader'!M73>0,'Simplified Loader'!M73,\"\")","v":""},{"$f":"IF('Simplified Loader'!N73>0,'Simplified Loader'!N73,\"\")","v":""},{"$f":"IF('Simplified Loader'!O73>0,'Simplified Loader'!O73,\"\")","v":""},{"$f":"IF('Simplified Loader'!I73=\"Waive\",\"Yes\",\"\")","v":""},{"$f":"IF('Simplified Loader'!I73=\"Waive\",\"Yes\",\"\")","v":""},{"$f":"IF('Simplified Loader'!AE73>0,'Simplified Loader'!AE73,\"\")","v":""},{"$f":"IF('Simplified Loader'!AF73>0,'Simplified Loader'!AF73,\"\")","v":""},{"$f":"IF('Simplified Loader'!AG73>0,'Simplified Loader'!AG73,\"\")","v":""},{"$f":"IF('Simplified Loader'!AH73>0,'Simplified Loader'!AH73,\"\")","v":""},{"$f":"IF('Simplified Loader'!AI73>0,'Simplified Loader'!AI73,\"\")","v":" "},{"$f":"IF('Simplified Loader'!AJ73>0,'Simplified Loader'!AJ73,\"\")","v":" "},{"$f":"IF('Simplified Loader'!W73>0,'Simplified Loader'!W73&\" \",\"\")&IF('Simplified Loader'!V73>0,'Simplified Loader'!V73,\"\")","v":""},null,{"$f":"IF('Simplified Loader'!X73>0,'Simplified Loader'!X73,\"\")","v":""},{"$f":"IF('Simplified Loader'!Y73>0,'Simplified Loader'!Y73,\"\")","v":""},{"$f":"IF('Simplified Loader'!Z73>0,'Simplified Loader'!Z73,\"\")","v":""},{"$f":"IF('Simplified Loader'!AA73>0,'Simplified Loader'!AA73,\"\")","v":""},{"$f":"IF('Simplified Loader'!E73>0,'Simplified Loader'!E73,\"\")","v":""},{"$f":"IF('Simplified Loader'!AK73>0,'Simplified Loader'!AK73,\"\")","v":""},{"$f":"IF('Simplified Loader'!AL73>0,'Simplified Loader'!AL73,\"\")","v":""},{"$f":"IF('Simplified Loader'!AM73>0,'Simplified Loader'!AM73,\"\")","v":""},{"$f":"IF('Simplified Loader'!AN73=\"Male\",\"Male\",IF('Simplified Loader'!AN73=\"Female\",\"Female\",IF('Simplified Loader'!AN73=\"M\",\"Male\",IF('Simplified Loader'!AN73=\"F\",\"Female\",\"\"))))","v":""},{"$f":"IF('Simplified Loader'!AO73=\"Single\",\"Single\",IF('Simplified Loader'!AO73=\"Family\",\"Family\",IF('Simplified Loader'!AO73=\"S\",\"Single\",IF('Simplified Loader'!AO73=\"F\",\"Family\",\"\"))))","v":""},{"$f":"IF('Simplified Loader'!AP73=\"Single\",\"Single\",IF('Simplified Loader'!AP73=\"Family\",\"Family\",IF('Simplified Loader'!AP73=\"S\",\"Single\",IF('Simplified Loader'!AP73=\"F\",\"Family\",\"\"))))","v":""},{"$f":"IF('Simplified Loader'!AQ73>0,'Simplified Loader'!AQ73,\"\")","v":""},{"$f":"IF('Simplified Loader'!AR73=\"Yes\",\"Yes\",IF('Simplified Loader'!AR73=\"No\",\"No\",IF('Simplified Loader'!AR73=\"Y\",\"Yes\",IF('Simplified Loader'!AR73=\"N\",\"No\",\"\"))))","v":""},{"$f":"IF('Simplified Loader'!AS73>0,'Simplified Loader'!AS73,\"\")","v":""},{"$f":"IF('Simplified Loader'!AT73>0,'Simplified Loader'!AT73,\"\")","v":""},{"$f":"IF('Simplified Loader'!AU73>0,'Simplified Loader'!AU73,\"\")","v":""},{"$f":"IF('Simplified Loader'!AV73=\"Male\",\"Male\",IF('Simplified Loader'!AV73=\"Female\",\"Female\",IF('Simplified Loader'!AV73=\"M\",\"Male\",IF('Simplified Loader'!AV73=\"F\",\"Female\",\"\"))))","v":""},{"$f":"IF('Simplified Loader'!AW73=\"Yes\",\"Yes\",IF('Simplified Loader'!AW73=\"No\",\"No\",IF('Simplified Loader'!AW73=\"Y\",\"Yes\",IF('Simplified Loader'!AW73=\"N\",\"No\",\"\"))))","v":""},{"$f":"IF('Simplified Loader'!AX73=\"Yes\",\"Yes\",IF('Simplified Loader'!AX73=\"No\",\"No\",IF('Simplified Loader'!AX73=\"Y\",\"Yes\",IF('Simplified Loader'!AX73=\"N\",\"No\",\"\"))))","v":""},{"$f":"IF('Simplified Loader'!AY73>0,'Simplified Loader'!AY73,\"\")","v":""},{"$f":"IF('Simplified Loader'!AZ73>0,'Simplified Loader'!AZ73,\"\")","v":""},{"$f":"IF('Simplified Loader'!BA73>0,'Simplified Loader'!BA73,\"\")","v":""},{"$f":"IF('Simplified Loader'!BB73=\"Male\",\"Male\",IF('Simplified Loader'!BB73=\"Female\",\"Female\",IF('Simplified Loader'!BB73=\"M\",\"Male\",IF('Simplified Loader'!BB73=\"F\",\"Female\",\"\"))))","v":""},{"$f":"IF('Simplified Loader'!BC73=\"Yes\",\"Yes\",IF('Simplified Loader'!BC73=\"No\",\"No\",IF('Simplified Loader'!BC73=\"Y\",\"Yes\",IF('Simplified Loader'!BC73=\"N\",\"No\",\"\"))))","v":""},{"$f":"IF('Simplified Loader'!BD73=\"Yes\",\"Yes\",IF('Simplified Loader'!BD73=\"No\",\"No\",IF('Simplified Loader'!BD73=\"Y\",\"Yes\",IF('Simplified Loader'!BD73=\"N\",\"No\",\"\"))))","v":""},{"$f":"IF('Simplified Loader'!BE73>0,'Simplified Loader'!BE73,\"\")","v":""},{"$f":"IF('Simplified Loader'!BF73>0,'Simplified Loader'!BF73,\"\")","v":""},{"$f":"IF('Simplified Loader'!BG73>0,'Simplified Loader'!BG73,\"\")","v":""},{"$f":"IF('Simplified Loader'!BH73=\"Male\",\"Male\",IF('Simplified Loader'!BH73=\"Female\",\"Female\",IF('Simplified Loader'!BH73=\"M\",\"Male\",IF('Simplified Loader'!BH73=\"F\",\"Female\",\"\"))))","v":""},{"$f":"IF('Simplified Loader'!BI73=\"Yes\",\"Yes\",IF('Simplified Loader'!BI73=\"No\",\"No\",IF('Simplified Loader'!BI73=\"Y\",\"Yes\",IF('Simplified Loader'!BI73=\"N\",\"No\",\"\"))))","v":""},{"$f":"IF('Simplified Loader'!BJ73=\"Yes\",\"Yes\",IF('Simplified Loader'!BJ73=\"No\",\"No\",IF('Simplified Loader'!BJ73=\"Y\",\"Yes\",IF('Simplified Loader'!BJ73=\"N\",\"No\",\"\"))))","v":""},{"$f":"IF('Simplified Loader'!BK73>0,'Simplified Loader'!BK73,\"\")","v":""},{"$f":"IF('Simplified Loader'!BL73>0,'Simplified Loader'!BL73,\"\")","v":""},{"$f":"IF('Simplified Loader'!BM73>0,'Simplified Loader'!BM73,\"\")","v":""},{"$f":"IF('Simplified Loader'!BN73=\"Male\",\"Male\",IF('Simplified Loader'!BN73=\"Female\",\"Female\",IF('Simplified Loader'!BN73=\"M\",\"Male\",IF('Simplified Loader'!BN73=\"F\",\"Female\",\"\"))))","v":""},{"$f":"IF('Simplified Loader'!BO73=\"Yes\",\"Yes\",IF('Simplified Loader'!BO73=\"No\",\"No\",IF('Simplified Loader'!BO73=\"Y\",\"Yes\",IF('Simplified Loader'!BO73=\"N\",\"No\",\"\"))))","v":""},{"$f":"IF('Simplified Loader'!BP73=\"Yes\",\"Yes\",IF('Simplified Loader'!BP73=\"No\",\"No\",IF('Simplified Loader'!BP73=\"Y\",\"Yes\",IF('Simplified Loader'!BP73=\"N\",\"No\",\"\"))))","v":""},{"$f":"IF('Simplified Loader'!BQ73>0,'Simplified Loader'!BQ73,\"\")","v":""},{"$f":"IF('Simplified Loader'!BR73>0,'Simplified Loader'!BR73,\"\")","v":""},{"$f":"IF('Simplified Loader'!BS73>0,'Simplified Loader'!BS73,\"\")","v":""},{"$f":"IF('Simplified Loader'!BT73=\"Male\",\"Male\",IF('Simplified Loader'!BT73=\"Female\",\"Female\",IF('Simplified Loader'!BT73=\"M\",\"Male\",IF('Simplified Loader'!BT73=\"F\",\"Female\",\"\"))))","v":""},{"$f":"IF('Simplified Loader'!BU73=\"Yes\",\"Yes\",IF('Simplified Loader'!BU73=\"No\",\"No\",IF('Simplified Loader'!BU73=\"Y\",\"Yes\",IF('Simplified Loader'!BU73=\"N\",\"No\",\"\"))))","v":""},{"$f":"IF('Simplified Loader'!BV73=\"Yes\",\"Yes\",IF('Simplified Loader'!BV73=\"No\",\"No\",IF('Simplified Loader'!BV73=\"Y\",\"Yes\",IF('Simplified Loader'!BV73=\"N\",\"No\",\"\"))))","v":""},{"$f":"IF('Simplified Loader'!BW73>0,'Simplified Loader'!BW73,\"\")","v":""},{"$f":"IF('Simplified Loader'!BX73>0,'Simplified Loader'!BX73,\"\")","v":""},{"$f":"IF('Simplified Loader'!BY73>0,'Simplified Loader'!BY73,\"\")","v":""},{"$f":"IF('Simplified Loader'!BZ73=\"Male\",\"Male\",IF('Simplified Loader'!BZ73=\"Female\",\"Female\",IF('Simplified Loader'!BZ73=\"M\",\"Male\",IF('Simplified Loader'!BZ73=\"F\",\"Female\",\"\"))))","v":""},{"$f":"IF('Simplified Loader'!CA73=\"Yes\",\"Yes\",IF('Simplified Loader'!CA73=\"No\",\"No\",IF('Simplified Loader'!CA73=\"Y\",\"Yes\",IF('Simplified Loader'!CA73=\"N\",\"No\",\"\"))))","v":""},{"$f":"IF('Simplified Loader'!CB73=\"Yes\",\"Yes\",IF('Simplified Loader'!CB73=\"No\",\"No\",IF('Simplified Loader'!CB73=\"Y\",\"Yes\",IF('Simplified Loader'!CB73=\"N\",\"No\",\"\"))))","v":""},{"$f":"IF('Simplified Loader'!CH73>0,'Simplified Loader'!CH73,\"\")","v":"    "}]
[{"$f":"IF('Simplified Loader'!A74>0,'Simplified Loader'!A74,\"\")","v":""},{"$f":"IF('Simplified Loader'!B74>0,'Simplified Loader'!B74,\"\")","v":""},{"$f":"IF('Simplified Loader'!C74>0,'Simplified Loader'!C74,\"\")","v":""},{"$f":"IF('Simplified Loader'!D74>0,'Simplified Loader'!D74,\"\")","v":""},{"$f":"IF('Simplified Loader'!P74>0,TEXT('Simplified Loader'!P74,\"000\"),\"\")","v":""},{"$f":"IF('Simplified Loader'!Q74>0,'Simplified Loader'!Q74,\"\")","v":""},{"$f":"IF('Simplified Loader'!R74>0,'Simplified Loader'!R74,\"\")","v":""},{"$f":"IF('Simplified Loader'!F74>0,DATEVALUE(TEXT('Simplified Loader'!F74,\"yyyy-mm-dd\")),\"\")","v":""},{"$f":"IF('Simplified Loader'!L74>0,DATEVALUE(TEXT('Simplified Loader'!L74,\"yyyy-mm-dd\")),\"\")","v":""},{"$f":"IF('Simplified Loader'!Y74>0,'Simplified Loader'!Y74,\"\")","v":""},{"$f":"IF('Simplified Loader'!T74>0,'Simplified Loader'!T74,\"\")","v":""},{"$f":"IF('Simplified Loader'!G74=\"Male\",\"Male\",IF('Simplified Loader'!G74=\"Female\",\"Female\",IF('Simplified Loader'!G74=\"M\",\"Male\",IF('Simplified Loader'!G74=\"F\",\"Female\",\"\"))))","v":""},{"$f":"IF('Simplified Loader'!U74=\"Yes\",\"Yes\",IF('Simplified Loader'!U74=\"No\",\"No\",IF('Simplified Loader'!U74=\"Y\",\"Yes\",IF('Simplified Loader'!U74=\"N\",\"No\",\"\"))))","v":""},{"$f":"IF('Simplified Loader'!I74=\"Single\",\"Single\",IF('Simplified Loader'!I74=\"Family\",\"Family\",IF('Simplified Loader'!I74=\"Waive\",\"Family\",IF('Simplified Loader'!I74=\"Single Parent\",\"Family\",IF('Simplified Loader'!I74=\"Couple\",\"Family\",IF('Simplified Loader'!I74=\"In force\",\"Family\",IF('Simplified Loader'!I74=\"Applies\",\"Family\",IF('Simplified Loader'!I74=\"Applicable\",\"Family\",\"\"))))))))","v":""},{"$f":"IF('Simplified Loader'!AC74=\"English\",\"English\",IF('Simplified Loader'!AC74=\"French\",\"French\",IF('Simplified Loader'!AC74=\"E\",\"English\",IF('Simplified Loader'!AC74=\"F\",\"French\",\"\"))))","v":""},{"$f":"IF('Simplified Loader'!AB74=\"Yes\",\"Yes\",IF('Simplified Loader'!AB74=\"No\",\"No\",IF('Simplified Loader'!AB74=\"Y\",\"Yes\",IF('Simplified Loader'!AB74=\"N\",\"No\",\"\"))))","v":""},{"$f":"IF('Simplified Loader'!AD74>0,'Simplified Loader'!AD74,\"\")","v":""},{"$f":"IF('Simplified Loader'!M74>0,'Simplified Loader'!M74,\"\")","v":""},{"$f":"IF('Simplified Loader'!N74>0,'Simplified Loader'!N74,\"\")","v":""},{"$f":"IF('Simplified Loader'!O74>0,'Simplified Loader'!O74,\"\")","v":""},{"$f":"IF('Simplified Loader'!I74=\"Waive\",\"Yes\",\"\")","v":""},{"$f":"IF('Simplified Loader'!I74=\"Waive\",\"Yes\",\"\")","v":""},{"$f":"IF('Simplified Loader'!AE74>0,'Simplified Loader'!AE74,\"\")","v":""},{"$f":"IF('Simplified Loader'!AF74>0,'Simplified Loader'!AF74,\"\")","v":""},{"$f":"IF('Simplified Loader'!AG74>0,'Simplified Loader'!AG74,\"\")","v":""},{"$f":"IF('Simplified Loader'!AH74>0,'Simplified Loader'!AH74,\"\")","v":""},{"$f":"IF('Simplified Loader'!AI74>0,'Simplified Loader'!AI74,\"\")","v":" "},{"$f":"IF('Simplified Loader'!AJ74>0,'Simplified Loader'!AJ74,\"\")","v":" "},{"$f":"IF('Simplified Loader'!W74>0,'Simplified Loader'!W74&\" \",\"\")&IF('Simplified Loader'!V74>0,'Simplified Loader'!V74,\"\")","v":""},null,{"$f":"IF('Simplified Loader'!X74>0,'Simplified Loader'!X74,\"\")","v":""},{"$f":"IF('Simplified Loader'!Y74>0,'Simplified Loader'!Y74,\"\")","v":""},{"$f":"IF('Simplified Loader'!Z74>0,'Simplified Loader'!Z74,\"\")","v":""},{"$f":"IF('Simplified Loader'!AA74>0,'Simplified Loader'!AA74,\"\")","v":""},{"$f":"IF('Simplified Loader'!E74>0,'Simplified Loader'!E74,\"\")","v":""},{"$f":"IF('Simplified Loader'!AK74>0,'Simplified Loader'!AK74,\"\")","v":""},{"$f":"IF('Simplified Loader'!AL74>0,'Simplified Loader'!AL74,\"\")","v":""},{"$f":"IF('Simplified Loader'!AM74>0,'Simplified Loader'!AM74,\"\")","v":""},{"$f":"IF('Simplified Loader'!AN74=\"Male\",\"Male\",IF('Simplified Loader'!AN74=\"Female\",\"Female\",IF('Simplified Loader'!AN74=\"M\",\"Male\",IF('Simplified Loader'!AN74=\"F\",\"Female\",\"\"))))","v":""},{"$f":"IF('Simplified Loader'!AO74=\"Single\",\"Single\",IF('Simplified Loader'!AO74=\"Family\",\"Family\",IF('Simplified Loader'!AO74=\"S\",\"Single\",IF('Simplified Loader'!AO74=\"F\",\"Family\",\"\"))))","v":""},{"$f":"IF('Simplified Loader'!AP74=\"Single\",\"Single\",IF('Simplified Loader'!AP74=\"Family\",\"Family\",IF('Simplified Loader'!AP74=\"S\",\"Single\",IF('Simplified Loader'!AP74=\"F\",\"Family\",\"\"))))","v":""},{"$f":"IF('Simplified Loader'!AQ74>0,'Simplified Loader'!AQ74,\"\")","v":""},{"$f":"IF('Simplified Loader'!AR74=\"Yes\",\"Yes\",IF('Simplified Loader'!AR74=\"No\",\"No\",IF('Simplified Loader'!AR74=\"Y\",\"Yes\",IF('Simplified Loader'!AR74=\"N\",\"No\",\"\"))))","v":""},{"$f":"IF('Simplified Loader'!AS74>0,'Simplified Loader'!AS74,\"\")","v":""},{"$f":"IF('Simplified Loader'!AT74>0,'Simplified Loader'!AT74,\"\")","v":""},{"$f":"IF('Simplified Loader'!AU74>0,'Simplified Loader'!AU74,\"\")","v":""},{"$f":"IF('Simplified Loader'!AV74=\"Male\",\"Male\",IF('Simplified Loader'!AV74=\"Female\",\"Female\",IF('Simplified Loader'!AV74=\"M\",\"Male\",IF('Simplified Loader'!AV74=\"F\",\"Female\",\"\"))))","v":""},{"$f":"IF('Simplified Loader'!AW74=\"Yes\",\"Yes\",IF('Simplified Loader'!AW74=\"No\",\"No\",IF('Simplified Loader'!AW74=\"Y\",\"Yes\",IF('Simplified Loader'!AW74=\"N\",\"No\",\"\"))))","v":""},{"$f":"IF('Simplified Loader'!AX74=\"Yes\",\"Yes\",IF('Simplified Loader'!AX74=\"No\",\"No\",IF('Simplified Loader'!AX74=\"Y\",\"Yes\",IF('Simplified Loader'!AX74=\"N\",\"No\",\"\"))))","v":""},{"$f":"IF('Simplified Loader'!AY74>0,'Simplified Loader'!AY74,\"\")","v":""},{"$f":"IF('Simplified Loader'!AZ74>0,'Simplified Loader'!AZ74,\"\")","v":""},{"$f":"IF('Simplified Loader'!BA74>0,'Simplified Loader'!BA74,\"\")","v":""},{"$f":"IF('Simplified Loader'!BB74=\"Male\",\"Male\",IF('Simplified Loader'!BB74=\"Female\",\"Female\",IF('Simplified Loader'!BB74=\"M\",\"Male\",IF('Simplified Loader'!BB74=\"F\",\"Female\",\"\"))))","v":""},{"$f":"IF('Simplified Loader'!BC74=\"Yes\",\"Yes\",IF('Simplified Loader'!BC74=\"No\",\"No\",IF('Simplified Loader'!BC74=\"Y\",\"Yes\",IF('Simplified Loader'!BC74=\"N\",\"No\",\"\"))))","v":""},{"$f":"IF('Simplified Loader'!BD74=\"Yes\",\"Yes\",IF('Simplified Loader'!BD74=\"No\",\"No\",IF('Simplified Loader'!BD74=\"Y\",\"Yes\",IF('Simplified Loader'!BD74=\"N\",\"No\",\"\"))))","v":""},{"$f":"IF('Simplified Loader'!BE74>0,'Simplified Loader'!BE74,\"\")","v":""},{"$f":"IF('Simplified Loader'!BF74>0,'Simplified Loader'!BF74,\"\")","v":""},{"$f":"IF('Simplified Loader'!BG74>0,'Simplified Loader'!BG74,\"\")","v":""},{"$f":"IF('Simplified Loader'!BH74=\"Male\",\"Male\",IF('Simplified Loader'!BH74=\"Female\",\"Female\",IF('Simplified Loader'!BH74=\"M\",\"Male\",IF('Simplified Loader'!BH74=\"F\",\"Female\",\"\"))))","v":""},{"$f":"IF('Simplified Loader'!BI74=\"Yes\",\"Yes\",IF('Simplified Loader'!BI74=\"No\",\"No\",IF('Simplified Loader'!BI74=\"Y\",\"Yes\",IF('Simplified Loader'!BI74=\"N\",\"No\",\"\"))))","v":""},{"$f":"IF('Simplified Loader'!BJ74=\"Yes\",\"Yes\",IF('Simplified Loader'!BJ74=\"No\",\"No\",IF('Simplified Loader'!BJ74=\"Y\",\"Yes\",IF('Simplified Loader'!BJ74=\"N\",\"No\",\"\"))))","v":""},{"$f":"IF('Simplified Loader'!BK74>0,'Simplified Loader'!BK74,\"\")","v":""},{"$f":"IF('Simplified Loader'!BL74>0,'Simplified Loader'!BL74,\"\")","v":""},{"$f":"IF('Simplified Loader'!BM74>0,'Simplified Loader'!BM74,\"\")","v":""},{"$f":"IF('Simplified Loader'!BN74=\"Male\",\"Male\",IF('Simplified Loader'!BN74=\"Female\",\"Female\",IF('Simplified Loader'!BN74=\"M\",\"Male\",IF('Simplified Loader'!BN74=\"F\",\"Female\",\"\"))))","v":""},{"$f":"IF('Simplified Loader'!BO74=\"Yes\",\"Yes\",IF('Simplified Loader'!BO74=\"No\",\"No\",IF('Simplified Loader'!BO74=\"Y\",\"Yes\",IF('Simplified Loader'!BO74=\"N\",\"No\",\"\"))))","v":""},{"$f":"IF('Simplified Loader'!BP74=\"Yes\",\"Yes\",IF('Simplified Loader'!BP74=\"No\",\"No\",IF('Simplified Loader'!BP74=\"Y\",\"Yes\",IF('Simplified Loader'!BP74=\"N\",\"No\",\"\"))))","v":""},{"$f":"IF('Simplified Loader'!BQ74>0,'Simplified Loader'!BQ74,\"\")","v":""},{"$f":"IF('Simplified Loader'!BR74>0,'Simplified Loader'!BR74,\"\")","v":""},{"$f":"IF('Simplified Loader'!BS74>0,'Simplified Loader'!BS74,\"\")","v":""},{"$f":"IF('Simplified Loader'!BT74=\"Male\",\"Male\",IF('Simplified Loader'!BT74=\"Female\",\"Female\",IF('Simplified Loader'!BT74=\"M\",\"Male\",IF('Simplified Loader'!BT74=\"F\",\"Female\",\"\"))))","v":""},{"$f":"IF('Simplified Loader'!BU74=\"Yes\",\"Yes\",IF('Simplified Loader'!BU74=\"No\",\"No\",IF('Simplified Loader'!BU74=\"Y\",\"Yes\",IF('Simplified Loader'!BU74=\"N\",\"No\",\"\"))))","v":""},{"$f":"IF('Simplified Loader'!BV74=\"Yes\",\"Yes\",IF('Simplified Loader'!BV74=\"No\",\"No\",IF('Simplified Loader'!BV74=\"Y\",\"Yes\",IF('Simplified Loader'!BV74=\"N\",\"No\",\"\"))))","v":""},{"$f":"IF('Simplified Loader'!BW74>0,'Simplified Loader'!BW74,\"\")","v":""},{"$f":"IF('Simplified Loader'!BX74>0,'Simplified Loader'!BX74,\"\")","v":""},{"$f":"IF('Simplified Loader'!BY74>0,'Simplified Loader'!BY74,\"\")","v":""},{"$f":"IF('Simplified Loader'!BZ74=\"Male\",\"Male\",IF('Simplified Loader'!BZ74=\"Female\",\"Female\",IF('Simplified Loader'!BZ74=\"M\",\"Male\",IF('Simplified Loader'!BZ74=\"F\",\"Female\",\"\"))))","v":""},{"$f":"IF('Simplified Loader'!CA74=\"Yes\",\"Yes\",IF('Simplified Loader'!CA74=\"No\",\"No\",IF('Simplified Loader'!CA74=\"Y\",\"Yes\",IF('Simplified Loader'!CA74=\"N\",\"No\",\"\"))))","v":""},{"$f":"IF('Simplified Loader'!CB74=\"Yes\",\"Yes\",IF('Simplified Loader'!CB74=\"No\",\"No\",IF('Simplified Loader'!CB74=\"Y\",\"Yes\",IF('Simplified Loader'!CB74=\"N\",\"No\",\"\"))))","v":""},{"$f":"IF('Simplified Loader'!CH74>0,'Simplified Loader'!CH74,\"\")","v":"    "}]
[{"$f":"IF('Simplified Loader'!A75>0,'Simplified Loader'!A75,\"\")","v":""},{"$f":"IF('Simplified Loader'!B75>0,'Simplified Loader'!B75,\"\")","v":""},{"$f":"IF('Simplified Loader'!C75>0,'Simplified Loader'!C75,\"\")","v":""},{"$f":"IF('Simplified Loader'!D75>0,'Simplified Loader'!D75,\"\")","v":""},{"$f":"IF('Simplified Loader'!P75>0,TEXT('Simplified Loader'!P75,\"000\"),\"\")","v":""},{"$f":"IF('Simplified Loader'!Q75>0,'Simplified Loader'!Q75,\"\")","v":""},{"$f":"IF('Simplified Loader'!R75>0,'Simplified Loader'!R75,\"\")","v":""},{"$f":"IF('Simplified Loader'!F75>0,DATEVALUE(TEXT('Simplified Loader'!F75,\"yyyy-mm-dd\")),\"\")","v":""},{"$f":"IF('Simplified Loader'!L75>0,DATEVALUE(TEXT('Simplified Loader'!L75,\"yyyy-mm-dd\")),\"\")","v":""},{"$f":"IF('Simplified Loader'!Y75>0,'Simplified Loader'!Y75,\"\")","v":""},{"$f":"IF('Simplified Loader'!T75>0,'Simplified Loader'!T75,\"\")","v":""},{"$f":"IF('Simplified Loader'!G75=\"Male\",\"Male\",IF('Simplified Loader'!G75=\"Female\",\"Female\",IF('Simplified Loader'!G75=\"M\",\"Male\",IF('Simplified Loader'!G75=\"F\",\"Female\",\"\"))))","v":""},{"$f":"IF('Simplified Loader'!U75=\"Yes\",\"Yes\",IF('Simplified Loader'!U75=\"No\",\"No\",IF('Simplified Loader'!U75=\"Y\",\"Yes\",IF('Simplified Loader'!U75=\"N\",\"No\",\"\"))))","v":""},{"$f":"IF('Simplified Loader'!I75=\"Single\",\"Single\",IF('Simplified Loader'!I75=\"Family\",\"Family\",IF('Simplified Loader'!I75=\"Waive\",\"Family\",IF('Simplified Loader'!I75=\"Single Parent\",\"Family\",IF('Simplified Loader'!I75=\"Couple\",\"Family\",IF('Simplified Loader'!I75=\"In force\",\"Family\",IF('Simplified Loader'!I75=\"Applies\",\"Family\",IF('Simplified Loader'!I75=\"Applicable\",\"Family\",\"\"))))))))","v":""},{"$f":"IF('Simplified Loader'!AC75=\"English\",\"English\",IF('Simplified Loader'!AC75=\"French\",\"French\",IF('Simplified Loader'!AC75=\"E\",\"English\",IF('Simplified Loader'!AC75=\"F\",\"French\",\"\"))))","v":""},{"$f":"IF('Simplified Loader'!AB75=\"Yes\",\"Yes\",IF('Simplified Loader'!AB75=\"No\",\"No\",IF('Simplified Loader'!AB75=\"Y\",\"Yes\",IF('Simplified Loader'!AB75=\"N\",\"No\",\"\"))))","v":""},{"$f":"IF('Simplified Loader'!AD75>0,'Simplified Loader'!AD75,\"\")","v":""},{"$f":"IF('Simplified Loader'!M75>0,'Simplified Loader'!M75,\"\")","v":""},{"$f":"IF('Simplified Loader'!N75>0,'Simplified Loader'!N75,\"\")","v":""},{"$f":"IF('Simplified Loader'!O75>0,'Simplified Loader'!O75,\"\")","v":""},{"$f":"IF('Simplified Loader'!I75=\"Waive\",\"Yes\",\"\")","v":""},{"$f":"IF('Simplified Loader'!I75=\"Waive\",\"Yes\",\"\")","v":""},{"$f":"IF('Simplified Loader'!AE75>0,'Simplified Loader'!AE75,\"\")","v":""},{"$f":"IF('Simplified Loader'!AF75>0,'Simplified Loader'!AF75,\"\")","v":""},{"$f":"IF('Simplified Loader'!AG75>0,'Simplified Loader'!AG75,\"\")","v":""},{"$f":"IF('Simplified Loader'!AH75>0,'Simplified Loader'!AH75,\"\")","v":""},{"$f":"IF('Simplified Loader'!AI75>0,'Simplified Loader'!AI75,\"\")","v":" "},{"$f":"IF('Simplified Loader'!AJ75>0,'Simplified Loader'!AJ75,\"\")","v":" "},{"$f":"IF('Simplified Loader'!W75>0,'Simplified Loader'!W75&\" \",\"\")&IF('Simplified Loader'!V75>0,'Simplified Loader'!V75,\"\")","v":""},null,{"$f":"IF('Simplified Loader'!X75>0,'Simplified Loader'!X75,\"\")","v":""},{"$f":"IF('Simplified Loader'!Y75>0,'Simplified Loader'!Y75,\"\")","v":""},{"$f":"IF('Simplified Loader'!Z75>0,'Simplified Loader'!Z75,\"\")","v":""},{"$f":"IF('Simplified Loader'!AA75>0,'Simplified Loader'!AA75,\"\")","v":""},{"$f":"IF('Simplified Loader'!E75>0,'Simplified Loader'!E75,\"\")","v":""},{"$f":"IF('Simplified Loader'!AK75>0,'Simplified Loader'!AK75,\"\")","v":""},{"$f":"IF('Simplified Loader'!AL75>0,'Simplified Loader'!AL75,\"\")","v":""},{"$f":"IF('Simplified Loader'!AM75>0,'Simplified Loader'!AM75,\"\")","v":""},{"$f":"IF('Simplified Loader'!AN75=\"Male\",\"Male\",IF('Simplified Loader'!AN75=\"Female\",\"Female\",IF('Simplified Loader'!AN75=\"M\",\"Male\",IF('Simplified Loader'!AN75=\"F\",\"Female\",\"\"))))","v":""},{"$f":"IF('Simplified Loader'!AO75=\"Single\",\"Single\",IF('Simplified Loader'!AO75=\"Family\",\"Family\",IF('Simplified Loader'!AO75=\"S\",\"Single\",IF('Simplified Loader'!AO75=\"F\",\"Family\",\"\"))))","v":""},{"$f":"IF('Simplified Loader'!AP75=\"Single\",\"Single\",IF('Simplified Loader'!AP75=\"Family\",\"Family\",IF('Simplified Loader'!AP75=\"S\",\"Single\",IF('Simplified Loader'!AP75=\"F\",\"Family\",\"\"))))","v":""},{"$f":"IF('Simplified Loader'!AQ75>0,'Simplified Loader'!AQ75,\"\")","v":""},{"$f":"IF('Simplified Loader'!AR75=\"Yes\",\"Yes\",IF('Simplified Loader'!AR75=\"No\",\"No\",IF('Simplified Loader'!AR75=\"Y\",\"Yes\",IF('Simplified Loader'!AR75=\"N\",\"No\",\"\"))))","v":""},{"$f":"IF('Simplified Loader'!AS75>0,'Simplified Loader'!AS75,\"\")","v":""},{"$f":"IF('Simplified Loader'!AT75>0,'Simplified Loader'!AT75,\"\")","v":""},{"$f":"IF('Simplified Loader'!AU75>0,'Simplified Loader'!AU75,\"\")","v":""},{"$f":"IF('Simplified Loader'!AV75=\"Male\",\"Male\",IF('Simplified Loader'!AV75=\"Female\",\"Female\",IF('Simplified Loader'!AV75=\"M\",\"Male\",IF('Simplified Loader'!AV75=\"F\",\"Female\",\"\"))))","v":""},{"$f":"IF('Simplified Loader'!AW75=\"Yes\",\"Yes\",IF('Simplified Loader'!AW75=\"No\",\"No\",IF('Simplified Loader'!AW75=\"Y\",\"Yes\",IF('Simplified Loader'!AW75=\"N\",\"No\",\"\"))))","v":""},{"$f":"IF('Simplified Loader'!AX75=\"Yes\",\"Yes\",IF('Simplified Loader'!AX75=\"No\",\"No\",IF('Simplified Loader'!AX75=\"Y\",\"Yes\",IF('Simplified Loader'!AX75=\"N\",\"No\",\"\"))))","v":""},{"$f":"IF('Simplified Loader'!AY75>0,'Simplified Loader'!AY75,\"\")","v":""},{"$f":"IF('Simplified Loader'!AZ75>0,'Simplified Loader'!AZ75,\"\")","v":""},{"$f":"IF('Simplified Loader'!BA75>0,'Simplified Loader'!BA75,\"\")","v":""},{"$f":"IF('Simplified Loader'!BB75=\"Male\",\"Male\",IF('Simplified Loader'!BB75=\"Female\",\"Female\",IF('Simplified Loader'!BB75=\"M\",\"Male\",IF('Simplified Loader'!BB75=\"F\",\"Female\",\"\"))))","v":""},{"$f":"IF('Simplified Loader'!BC75=\"Yes\",\"Yes\",IF('Simplified Loader'!BC75=\"No\",\"No\",IF('Simplified Loader'!BC75=\"Y\",\"Yes\",IF('Simplified Loader'!BC75=\"N\",\"No\",\"\"))))","v":""},{"$f":"IF('Simplified Loader'!BD75=\"Yes\",\"Yes\",IF('Simplified Loader'!BD75=\"No\",\"No\",IF('Simplified Loader'!BD75=\"Y\",\"Yes\",IF('Simplified Loader'!BD75=\"N\",\"No\",\"\"))))","v":""},{"$f":"IF('Simplified Loader'!BE75>0,'Simplified Loader'!BE75,\"\")","v":""},{"$f":"IF('Simplified Loader'!BF75>0,'Simplified Loader'!BF75,\"\")","v":""},{"$f":"IF('Simplified Loader'!BG75>0,'Simplified Loader'!BG75,\"\")","v":""},{"$f":"IF('Simplified Loader'!BH75=\"Male\",\"Male\",IF('Simplified Loader'!BH75=\"Female\",\"Female\",IF('Simplified Loader'!BH75=\"M\",\"Male\",IF('Simplified Loader'!BH75=\"F\",\"Female\",\"\"))))","v":""},{"$f":"IF('Simplified Loader'!BI75=\"Yes\",\"Yes\",IF('Simplified Loader'!BI75=\"No\",\"No\",IF('Simplified Loader'!BI75=\"Y\",\"Yes\",IF('Simplified Loader'!BI75=\"N\",\"No\",\"\"))))","v":""},{"$f":"IF('Simplified Loader'!BJ75=\"Yes\",\"Yes\",IF('Simplified Loader'!BJ75=\"No\",\"No\",IF('Simplified Loader'!BJ75=\"Y\",\"Yes\",IF('Simplified Loader'!BJ75=\"N\",\"No\",\"\"))))","v":""},{"$f":"IF('Simplified Loader'!BK75>0,'Simplified Loader'!BK75,\"\")","v":""},{"$f":"IF('Simplified Loader'!BL75>0,'Simplified Loader'!BL75,\"\")","v":""},{"$f":"IF('Simplified Loader'!BM75>0,'Simplified Loader'!BM75,\"\")","v":""},{"$f":"IF('Simplified Loader'!BN75=\"Male\",\"Male\",IF('Simplified Loader'!BN75=\"Female\",\"Female\",IF('Simplified Loader'!BN75=\"M\",\"Male\",IF('Simplified Loader'!BN75=\"F\",\"Female\",\"\"))))","v":""},{"$f":"IF('Simplified Loader'!BO75=\"Yes\",\"Yes\",IF('Simplified Loader'!BO75=\"No\",\"No\",IF('Simplified Loader'!BO75=\"Y\",\"Yes\",IF('Simplified Loader'!BO75=\"N\",\"No\",\"\"))))","v":""},{"$f":"IF('Simplified Loader'!BP75=\"Yes\",\"Yes\",IF('Simplified Loader'!BP75=\"No\",\"No\",IF('Simplified Loader'!BP75=\"Y\",\"Yes\",IF('Simplified Loader'!BP75=\"N\",\"No\",\"\"))))","v":""},{"$f":"IF('Simplified Loader'!BQ75>0,'Simplified Loader'!BQ75,\"\")","v":""},{"$f":"IF('Simplified Loader'!BR75>0,'Simplified Loader'!BR75,\"\")","v":""},{"$f":"IF('Simplified Loader'!BS75>0,'Simplified Loader'!BS75,\"\")","v":""},{"$f":"IF('Simplified Loader'!BT75=\"Male\",\"Male\",IF('Simplified Loader'!BT75=\"Female\",\"Female\",IF('Simplified Loader'!BT75=\"M\",\"Male\",IF('Simplified Loader'!BT75=\"F\",\"Female\",\"\"))))","v":""},{"$f":"IF('Simplified Loader'!BU75=\"Yes\",\"Yes\",IF('Simplified Loader'!BU75=\"No\",\"No\",IF('Simplified Loader'!BU75=\"Y\",\"Yes\",IF('Simplified Loader'!BU75=\"N\",\"No\",\"\"))))","v":""},{"$f":"IF('Simplified Loader'!BV75=\"Yes\",\"Yes\",IF('Simplified Loader'!BV75=\"No\",\"No\",IF('Simplified Loader'!BV75=\"Y\",\"Yes\",IF('Simplified Loader'!BV75=\"N\",\"No\",\"\"))))","v":""},{"$f":"IF('Simplified Loader'!BW75>0,'Simplified Loader'!BW75,\"\")","v":""},{"$f":"IF('Simplified Loader'!BX75>0,'Simplified Loader'!BX75,\"\")","v":""},{"$f":"IF('Simplified Loader'!BY75>0,'Simplified Loader'!BY75,\"\")","v":""},{"$f":"IF('Simplified Loader'!BZ75=\"Male\",\"Male\",IF('Simplified Loader'!BZ75=\"Female\",\"Female\",IF('Simplified Loader'!BZ75=\"M\",\"Male\",IF('Simplified Loader'!BZ75=\"F\",\"Female\",\"\"))))","v":""},{"$f":"IF('Simplified Loader'!CA75=\"Yes\",\"Yes\",IF('Simplified Loader'!CA75=\"No\",\"No\",IF('Simplified Loader'!CA75=\"Y\",\"Yes\",IF('Simplified Loader'!CA75=\"N\",\"No\",\"\"))))","v":""},{"$f":"IF('Simplified Loader'!CB75=\"Yes\",\"Yes\",IF('Simplified Loader'!CB75=\"No\",\"No\",IF('Simplified Loader'!CB75=\"Y\",\"Yes\",IF('Simplified Loader'!CB75=\"N\",\"No\",\"\"))))","v":""},{"$f":"IF('Simplified Loader'!CH75>0,'Simplified Loader'!CH75,\"\")","v":"    "}]
[{"$f":"IF('Simplified Loader'!A76>0,'Simplified Loader'!A76,\"\")","v":""},{"$f":"IF('Simplified Loader'!B76>0,'Simplified Loader'!B76,\"\")","v":""},{"$f":"IF('Simplified Loader'!C76>0,'Simplified Loader'!C76,\"\")","v":""},{"$f":"IF('Simplified Loader'!D76>0,'Simplified Loader'!D76,\"\")","v":""},{"$f":"IF('Simplified Loader'!P76>0,TEXT('Simplified Loader'!P76,\"000\"),\"\")","v":""},{"$f":"IF('Simplified Loader'!Q76>0,'Simplified Loader'!Q76,\"\")","v":""},{"$f":"IF('Simplified Loader'!R76>0,'Simplified Loader'!R76,\"\")","v":""},{"$f":"IF('Simplified Loader'!F76>0,DATEVALUE(TEXT('Simplified Loader'!F76,\"yyyy-mm-dd\")),\"\")","v":""},{"$f":"IF('Simplified Loader'!L76>0,DATEVALUE(TEXT('Simplified Loader'!L76,\"yyyy-mm-dd\")),\"\")","v":""},{"$f":"IF('Simplified Loader'!Y76>0,'Simplified Loader'!Y76,\"\")","v":""},{"$f":"IF('Simplified Loader'!T76>0,'Simplified Loader'!T76,\"\")","v":""},{"$f":"IF('Simplified Loader'!G76=\"Male\",\"Male\",IF('Simplified Loader'!G76=\"Female\",\"Female\",IF('Simplified Loader'!G76=\"M\",\"Male\",IF('Simplified Loader'!G76=\"F\",\"Female\",\"\"))))","v":""},{"$f":"IF('Simplified Loader'!U76=\"Yes\",\"Yes\",IF('Simplified Loader'!U76=\"No\",\"No\",IF('Simplified Loader'!U76=\"Y\",\"Yes\",IF('Simplified Loader'!U76=\"N\",\"No\",\"\"))))","v":""},{"$f":"IF('Simplified Loader'!I76=\"Single\",\"Single\",IF('Simplified Loader'!I76=\"Family\",\"Family\",IF('Simplified Loader'!I76=\"Waive\",\"Family\",IF('Simplified Loader'!I76=\"Single Parent\",\"Family\",IF('Simplified Loader'!I76=\"Couple\",\"Family\",IF('Simplified Loader'!I76=\"In force\",\"Family\",IF('Simplified Loader'!I76=\"Applies\",\"Family\",IF('Simplified Loader'!I76=\"Applicable\",\"Family\",\"\"))))))))","v":""},{"$f":"IF('Simplified Loader'!AC76=\"English\",\"English\",IF('Simplified Loader'!AC76=\"French\",\"French\",IF('Simplified Loader'!AC76=\"E\",\"English\",IF('Simplified Loader'!AC76=\"F\",\"French\",\"\"))))","v":""},{"$f":"IF('Simplified Loader'!AB76=\"Yes\",\"Yes\",IF('Simplified Loader'!AB76=\"No\",\"No\",IF('Simplified Loader'!AB76=\"Y\",\"Yes\",IF('Simplified Loader'!AB76=\"N\",\"No\",\"\"))))","v":""},{"$f":"IF('Simplified Loader'!AD76>0,'Simplified Loader'!AD76,\"\")","v":""},{"$f":"IF('Simplified Loader'!M76>0,'Simplified Loader'!M76,\"\")","v":""},{"$f":"IF('Simplified Loader'!N76>0,'Simplified Loader'!N76,\"\")","v":""},{"$f":"IF('Simplified Loader'!O76>0,'Simplified Loader'!O76,\"\")","v":""},{"$f":"IF('Simplified Loader'!I76=\"Waive\",\"Yes\",\"\")","v":""},{"$f":"IF('Simplified Loader'!I76=\"Waive\",\"Yes\",\"\")","v":""},{"$f":"IF('Simplified Loader'!AE76>0,'Simplified Loader'!AE76,\"\")","v":""},{"$f":"IF('Simplified Loader'!AF76>0,'Simplified Loader'!AF76,\"\")","v":""},{"$f":"IF('Simplified Loader'!AG76>0,'Simplified Loader'!AG76,\"\")","v":""},{"$f":"IF('Simplified Loader'!AH76>0,'Simplified Loader'!AH76,\"\")","v":""},{"$f":"IF('Simplified Loader'!AI76>0,'Simplified Loader'!AI76,\"\")","v":" "},{"$f":"IF('Simplified Loader'!AJ76>0,'Simplified Loader'!AJ76,\"\")","v":" "},{"$f":"IF('Simplified Loader'!W76>0,'Simplified Loader'!W76&\" \",\"\")&IF('Simplified Loader'!V76>0,'Simplified Loader'!V76,\"\")","v":""},null,{"$f":"IF('Simplified Loader'!X76>0,'Simplified Loader'!X76,\"\")","v":""},{"$f":"IF('Simplified Loader'!Y76>0,'Simplified Loader'!Y76,\"\")","v":""},{"$f":"IF('Simplified Loader'!Z76>0,'Simplified Loader'!Z76,\"\")","v":""},{"$f":"IF('Simplified Loader'!AA76>0,'Simplified Loader'!AA76,\"\")","v":""},{"$f":"IF('Simplified Loader'!E76>0,'Simplified Loader'!E76,\"\")","v":""},{"$f":"IF('Simplified Loader'!AK76>0,'Simplified Loader'!AK76,\"\")","v":""},{"$f":"IF('Simplified Loader'!AL76>0,'Simplified Loader'!AL76,\"\")","v":""},{"$f":"IF('Simplified Loader'!AM76>0,'Simplified Loader'!AM76,\"\")","v":""},{"$f":"IF('Simplified Loader'!AN76=\"Male\",\"Male\",IF('Simplified Loader'!AN76=\"Female\",\"Female\",IF('Simplified Loader'!AN76=\"M\",\"Male\",IF('Simplified Loader'!AN76=\"F\",\"Female\",\"\"))))","v":""},{"$f":"IF('Simplified Loader'!AO76=\"Single\",\"Single\",IF('Simplified Loader'!AO76=\"Family\",\"Family\",IF('Simplified Loader'!AO76=\"S\",\"Single\",IF('Simplified Loader'!AO76=\"F\",\"Family\",\"\"))))","v":""},{"$f":"IF('Simplified Loader'!AP76=\"Single\",\"Single\",IF('Simplified Loader'!AP76=\"Family\",\"Family\",IF('Simplified Loader'!AP76=\"S\",\"Single\",IF('Simplified Loader'!AP76=\"F\",\"Family\",\"\"))))","v":""},{"$f":"IF('Simplified Loader'!AQ76>0,'Simplified Loader'!AQ76,\"\")","v":""},{"$f":"IF('Simplified Loader'!AR76=\"Yes\",\"Yes\",IF('Simplified Loader'!AR76=\"No\",\"No\",IF('Simplified Loader'!AR76=\"Y\",\"Yes\",IF('Simplified Loader'!AR76=\"N\",\"No\",\"\"))))","v":""},{"$f":"IF('Simplified Loader'!AS76>0,'Simplified Loader'!AS76,\"\")","v":""},{"$f":"IF('Simplified Loader'!AT76>0,'Simplified Loader'!AT76,\"\")","v":""},{"$f":"IF('Simplified Loader'!AU76>0,'Simplified Loader'!AU76,\"\")","v":""},{"$f":"IF('Simplified Loader'!AV76=\"Male\",\"Male\",IF('Simplified Loader'!AV76=\"Female\",\"Female\",IF('Simplified Loader'!AV76=\"M\",\"Male\",IF('Simplified Loader'!AV76=\"F\",\"Female\",\"\"))))","v":""},{"$f":"IF('Simplified Loader'!AW76=\"Yes\",\"Yes\",IF('Simplified Loader'!AW76=\"No\",\"No\",IF('Simplified Loader'!AW76=\"Y\",\"Yes\",IF('Simplified Loader'!AW76=\"N\",\"No\",\"\"))))","v":""},{"$f":"IF('Simplified Loader'!AX76=\"Yes\",\"Yes\",IF('Simplified Loader'!AX76=\"No\",\"No\",IF('Simplified Loader'!AX76=\"Y\",\"Yes\",IF('Simplified Loader'!AX76=\"N\",\"No\",\"\"))))","v":""},{"$f":"IF('Simplified Loader'!AY76>0,'Simplified Loader'!AY76,\"\")","v":""},{"$f":"IF('Simplified Loader'!AZ76>0,'Simplified Loader'!AZ76,\"\")","v":""},{"$f":"IF('Simplified Loader'!BA76>0,'Simplified Loader'!BA76,\"\")","v":""},{"$f":"IF('Simplified Loader'!BB76=\"Male\",\"Male\",IF('Simplified Loader'!BB76=\"Female\",\"Female\",IF('Simplified Loader'!BB76=\"M\",\"Male\",IF('Simplified Loader'!BB76=\"F\",\"Female\",\"\"))))","v":""},{"$f":"IF('Simplified Loader'!BC76=\"Yes\",\"Yes\",IF('Simplified Loader'!BC76=\"No\",\"No\",IF('Simplified Loader'!BC76=\"Y\",\"Yes\",IF('Simplified Loader'!BC76=\"N\",\"No\",\"\"))))","v":""},{"$f":"IF('Simplified Loader'!BD76=\"Yes\",\"Yes\",IF('Simplified Loader'!BD76=\"No\",\"No\",IF('Simplified Loader'!BD76=\"Y\",\"Yes\",IF('Simplified Loader'!BD76=\"N\",\"No\",\"\"))))","v":""},{"$f":"IF('Simplified Loader'!BE76>0,'Simplified Loader'!BE76,\"\")","v":""},{"$f":"IF('Simplified Loader'!BF76>0,'Simplified Loader'!BF76,\"\")","v":""},{"$f":"IF('Simplified Loader'!BG76>0,'Simplified Loader'!BG76,\"\")","v":""},{"$f":"IF('Simplified Loader'!BH76=\"Male\",\"Male\",IF('Simplified Loader'!BH76=\"Female\",\"Female\",IF('Simplified Loader'!BH76=\"M\",\"Male\",IF('Simplified Loader'!BH76=\"F\",\"Female\",\"\"))))","v":""},{"$f":"IF('Simplified Loader'!BI76=\"Yes\",\"Yes\",IF('Simplified Loader'!BI76=\"No\",\"No\",IF('Simplified Loader'!BI76=\"Y\",\"Yes\",IF('Simplified Loader'!BI76=\"N\",\"No\",\"\"))))","v":""},{"$f":"IF('Simplified Loader'!BJ76=\"Yes\",\"Yes\",IF('Simplified Loader'!BJ76=\"No\",\"No\",IF('Simplified Loader'!BJ76=\"Y\",\"Yes\",IF('Simplified Loader'!BJ76=\"N\",\"No\",\"\"))))","v":""},{"$f":"IF('Simplified Loader'!BK76>0,'Simplified Loader'!BK76,\"\")","v":""},{"$f":"IF('Simplified Loader'!BL76>0,'Simplified Loader'!BL76,\"\")","v":""},{"$f":"IF('Simplified Loader'!BM76>0,'Simplified Loader'!BM76,\"\")","v":""},{"$f":"IF('Simplified Loader'!BN76=\"Male\",\"Male\",IF('Simplified Loader'!BN76=\"Female\",\"Female\",IF('Simplified Loader'!BN76=\"M\",\"Male\",IF('Simplified Loader'!BN76=\"F\",\"Female\",\"\"))))","v":""},{"$f":"IF('Simplified Loader'!BO76=\"Yes\",\"Yes\",IF('Simplified Loader'!BO76=\"No\",\"No\",IF('Simplified Loader'!BO76=\"Y\",\"Yes\",IF('Simplified Loader'!BO76=\"N\",\"No\",\"\"))))","v":""},{"$f":"IF('Simplified Loader'!BP76=\"Yes\",\"Yes\",IF('Simplified Loader'!BP76=\"No\",\"No\",IF('Simplified Loader'!BP76=\"Y\",\"Yes\",IF('Simplified Loader'!BP76=\"N\",\"No\",\"\"))))","v":""},{"$f":"IF('Simplified Loader'!BQ76>0,'Simplified Loader'!BQ76,\"\")","v":""},{"$f":"IF('Simplified Loader'!BR76>0,'Simplified Loader'!BR76,\"\")","v":""},{"$f":"IF('Simplified Loader'!BS76>0,'Simplified Loader'!BS76,\"\")","v":""},{"$f":"IF('Simplified Loader'!BT76=\"Male\",\"Male\",IF('Simplified Loader'!BT76=\"Female\",\"Female\",IF('Simplified Loader'!BT76=\"M\",\"Male\",IF('Simplified Loader'!BT76=\"F\",\"Female\",\"\"))))","v":""},{"$f":"IF('Simplified Loader'!BU76=\"Yes\",\"Yes\",IF('Simplified Loader'!BU76=\"No\",\"No\",IF('Simplified Loader'!BU76=\"Y\",\"Yes\",IF('Simplified Loader'!BU76=\"N\",\"No\",\"\"))))","v":""},{"$f":"IF('Simplified Loader'!BV76=\"Yes\",\"Yes\",IF('Simplified Loader'!BV76=\"No\",\"No\",IF('Simplified Loader'!BV76=\"Y\",\"Yes\",IF('Simplified Loader'!BV76=\"N\",\"No\",\"\"))))","v":""},{"$f":"IF('Simplified Loader'!BW76>0,'Simplified Loader'!BW76,\"\")","v":""},{"$f":"IF('Simplified Loader'!BX76>0,'Simplified Loader'!BX76,\"\")","v":""},{"$f":"IF('Simplified Loader'!BY76>0,'Simplified Loader'!BY76,\"\")","v":""},{"$f":"IF('Simplified Loader'!BZ76=\"Male\",\"Male\",IF('Simplified Loader'!BZ76=\"Female\",\"Female\",IF('Simplified Loader'!BZ76=\"M\",\"Male\",IF('Simplified Loader'!BZ76=\"F\",\"Female\",\"\"))))","v":""},{"$f":"IF('Simplified Loader'!CA76=\"Yes\",\"Yes\",IF('Simplified Loader'!CA76=\"No\",\"No\",IF('Simplified Loader'!CA76=\"Y\",\"Yes\",IF('Simplified Loader'!CA76=\"N\",\"No\",\"\"))))","v":""},{"$f":"IF('Simplified Loader'!CB76=\"Yes\",\"Yes\",IF('Simplified Loader'!CB76=\"No\",\"No\",IF('Simplified Loader'!CB76=\"Y\",\"Yes\",IF('Simplified Loader'!CB76=\"N\",\"No\",\"\"))))","v":""},{"$f":"IF('Simplified Loader'!CH76>0,'Simplified Loader'!CH76,\"\")","v":"    "}]
[{"$f":"IF('Simplified Loader'!A77>0,'Simplified Loader'!A77,\"\")","v":""},{"$f":"IF('Simplified Loader'!B77>0,'Simplified Loader'!B77,\"\")","v":""},{"$f":"IF('Simplified Loader'!C77>0,'Simplified Loader'!C77,\"\")","v":""},{"$f":"IF('Simplified Loader'!D77>0,'Simplified Loader'!D77,\"\")","v":""},{"$f":"IF('Simplified Loader'!P77>0,TEXT('Simplified Loader'!P77,\"000\"),\"\")","v":""},{"$f":"IF('Simplified Loader'!Q77>0,'Simplified Loader'!Q77,\"\")","v":""},{"$f":"IF('Simplified Loader'!R77>0,'Simplified Loader'!R77,\"\")","v":""},{"$f":"IF('Simplified Loader'!F77>0,DATEVALUE(TEXT('Simplified Loader'!F77,\"yyyy-mm-dd\")),\"\")","v":""},{"$f":"IF('Simplified Loader'!L77>0,DATEVALUE(TEXT('Simplified Loader'!L77,\"yyyy-mm-dd\")),\"\")","v":""},{"$f":"IF('Simplified Loader'!Y77>0,'Simplified Loader'!Y77,\"\")","v":""},{"$f":"IF('Simplified Loader'!T77>0,'Simplified Loader'!T77,\"\")","v":""},{"$f":"IF('Simplified Loader'!G77=\"Male\",\"Male\",IF('Simplified Loader'!G77=\"Female\",\"Female\",IF('Simplified Loader'!G77=\"M\",\"Male\",IF('Simplified Loader'!G77=\"F\",\"Female\",\"\"))))","v":""},{"$f":"IF('Simplified Loader'!U77=\"Yes\",\"Yes\",IF('Simplified Loader'!U77=\"No\",\"No\",IF('Simplified Loader'!U77=\"Y\",\"Yes\",IF('Simplified Loader'!U77=\"N\",\"No\",\"\"))))","v":""},{"$f":"IF('Simplified Loader'!I77=\"Single\",\"Single\",IF('Simplified Loader'!I77=\"Family\",\"Family\",IF('Simplified Loader'!I77=\"Waive\",\"Family\",IF('Simplified Loader'!I77=\"Single Parent\",\"Family\",IF('Simplified Loader'!I77=\"Couple\",\"Family\",IF('Simplified Loader'!I77=\"In force\",\"Family\",IF('Simplified Loader'!I77=\"Applies\",\"Family\",IF('Simplified Loader'!I77=\"Applicable\",\"Family\",\"\"))))))))","v":""},{"$f":"IF('Simplified Loader'!AC77=\"English\",\"English\",IF('Simplified Loader'!AC77=\"French\",\"French\",IF('Simplified Loader'!AC77=\"E\",\"English\",IF('Simplified Loader'!AC77=\"F\",\"French\",\"\"))))","v":""},{"$f":"IF('Simplified Loader'!AB77=\"Yes\",\"Yes\",IF('Simplified Loader'!AB77=\"No\",\"No\",IF('Simplified Loader'!AB77=\"Y\",\"Yes\",IF('Simplified Loader'!AB77=\"N\",\"No\",\"\"))))","v":""},{"$f":"IF('Simplified Loader'!AD77>0,'Simplified Loader'!AD77,\"\")","v":""},{"$f":"IF('Simplified Loader'!M77>0,'Simplified Loader'!M77,\"\")","v":""},{"$f":"IF('Simplified Loader'!N77>0,'Simplified Loader'!N77,\"\")","v":""},{"$f":"IF('Simplified Loader'!O77>0,'Simplified Loader'!O77,\"\")","v":""},{"$f":"IF('Simplified Loader'!I77=\"Waive\",\"Yes\",\"\")","v":""},{"$f":"IF('Simplified Loader'!I77=\"Waive\",\"Yes\",\"\")","v":""},{"$f":"IF('Simplified Loader'!AE77>0,'Simplified Loader'!AE77,\"\")","v":""},{"$f":"IF('Simplified Loader'!AF77>0,'Simplified Loader'!AF77,\"\")","v":""},{"$f":"IF('Simplified Loader'!AG77>0,'Simplified Loader'!AG77,\"\")","v":""},{"$f":"IF('Simplified Loader'!AH77>0,'Simplified Loader'!AH77,\"\")","v":""},{"$f":"IF('Simplified Loader'!AI77>0,'Simplified Loader'!AI77,\"\")","v":" "},{"$f":"IF('Simplified Loader'!AJ77>0,'Simplified Loader'!AJ77,\"\")","v":" "},{"$f":"IF('Simplified Loader'!W77>0,'Simplified Loader'!W77&\" \",\"\")&IF('Simplified Loader'!V77>0,'Simplified Loader'!V77,\"\")","v":""},null,{"$f":"IF('Simplified Loader'!X77>0,'Simplified Loader'!X77,\"\")","v":""},{"$f":"IF('Simplified Loader'!Y77>0,'Simplified Loader'!Y77,\"\")","v":""},{"$f":"IF('Simplified Loader'!Z77>0,'Simplified Loader'!Z77,\"\")","v":""},{"$f":"IF('Simplified Loader'!AA77>0,'Simplified Loader'!AA77,\"\")","v":""},{"$f":"IF('Simplified Loader'!E77>0,'Simplified Loader'!E77,\"\")","v":""},{"$f":"IF('Simplified Loader'!AK77>0,'Simplified Loader'!AK77,\"\")","v":""},{"$f":"IF('Simplified Loader'!AL77>0,'Simplified Loader'!AL77,\"\")","v":""},{"$f":"IF('Simplified Loader'!AM77>0,'Simplified Loader'!AM77,\"\")","v":""},{"$f":"IF('Simplified Loader'!AN77=\"Male\",\"Male\",IF('Simplified Loader'!AN77=\"Female\",\"Female\",IF('Simplified Loader'!AN77=\"M\",\"Male\",IF('Simplified Loader'!AN77=\"F\",\"Female\",\"\"))))","v":""},{"$f":"IF('Simplified Loader'!AO77=\"Single\",\"Single\",IF('Simplified Loader'!AO77=\"Family\",\"Family\",IF('Simplified Loader'!AO77=\"S\",\"Single\",IF('Simplified Loader'!AO77=\"F\",\"Family\",\"\"))))","v":""},{"$f":"IF('Simplified Loader'!AP77=\"Single\",\"Single\",IF('Simplified Loader'!AP77=\"Family\",\"Family\",IF('Simplified Loader'!AP77=\"S\",\"Single\",IF('Simplified Loader'!AP77=\"F\",\"Family\",\"\"))))","v":""},{"$f":"IF('Simplified Loader'!AQ77>0,'Simplified Loader'!AQ77,\"\")","v":""},{"$f":"IF('Simplified Loader'!AR77=\"Yes\",\"Yes\",IF('Simplified Loader'!AR77=\"No\",\"No\",IF('Simplified Loader'!AR77=\"Y\",\"Yes\",IF('Simplified Loader'!AR77=\"N\",\"No\",\"\"))))","v":""},{"$f":"IF('Simplified Loader'!AS77>0,'Simplified Loader'!AS77,\"\")","v":""},{"$f":"IF('Simplified Loader'!AT77>0,'Simplified Loader'!AT77,\"\")","v":""},{"$f":"IF('Simplified Loader'!AU77>0,'Simplified Loader'!AU77,\"\")","v":""},{"$f":"IF('Simplified Loader'!AV77=\"Male\",\"Male\",IF('Simplified Loader'!AV77=\"Female\",\"Female\",IF('Simplified Loader'!AV77=\"M\",\"Male\",IF('Simplified Loader'!AV77=\"F\",\"Female\",\"\"))))","v":""},{"$f":"IF('Simplified Loader'!AW77=\"Yes\",\"Yes\",IF('Simplified Loader'!AW77=\"No\",\"No\",IF('Simplified Loader'!AW77=\"Y\",\"Yes\",IF('Simplified Loader'!AW77=\"N\",\"No\",\"\"))))","v":""},{"$f":"IF('Simplified Loader'!AX77=\"Yes\",\"Yes\",IF('Simplified Loader'!AX77=\"No\",\"No\",IF('Simplified Loader'!AX77=\"Y\",\"Yes\",IF('Simplified Loader'!AX77=\"N\",\"No\",\"\"))))","v":""},{"$f":"IF('Simplified Loader'!AY77>0,'Simplified Loader'!AY77,\"\")","v":""},{"$f":"IF('Simplified Loader'!AZ77>0,'Simplified Loader'!AZ77,\"\")","v":""},{"$f":"IF('Simplified Loader'!BA77>0,'Simplified Loader'!BA77,\"\")","v":""},{"$f":"IF('Simplified Loader'!BB77=\"Male\",\"Male\",IF('Simplified Loader'!BB77=\"Female\",\"Female\",IF('Simplified Loader'!BB77=\"M\",\"Male\",IF('Simplified Loader'!BB77=\"F\",\"Female\",\"\"))))","v":""},{"$f":"IF('Simplified Loader'!BC77=\"Yes\",\"Yes\",IF('Simplified Loader'!BC77=\"No\",\"No\",IF('Simplified Loader'!BC77=\"Y\",\"Yes\",IF('Simplified Loader'!BC77=\"N\",\"No\",\"\"))))","v":""},{"$f":"IF('Simplified Loader'!BD77=\"Yes\",\"Yes\",IF('Simplified Loader'!BD77=\"No\",\"No\",IF('Simplified Loader'!BD77=\"Y\",\"Yes\",IF('Simplified Loader'!BD77=\"N\",\"No\",\"\"))))","v":""},{"$f":"IF('Simplified Loader'!BE77>0,'Simplified Loader'!BE77,\"\")","v":""},{"$f":"IF('Simplified Loader'!BF77>0,'Simplified Loader'!BF77,\"\")","v":""},{"$f":"IF('Simplified Loader'!BG77>0,'Simplified Loader'!BG77,\"\")","v":""},{"$f":"IF('Simplified Loader'!BH77=\"Male\",\"Male\",IF('Simplified Loader'!BH77=\"Female\",\"Female\",IF('Simplified Loader'!BH77=\"M\",\"Male\",IF('Simplified Loader'!BH77=\"F\",\"Female\",\"\"))))","v":""},{"$f":"IF('Simplified Loader'!BI77=\"Yes\",\"Yes\",IF('Simplified Loader'!BI77=\"No\",\"No\",IF('Simplified Loader'!BI77=\"Y\",\"Yes\",IF('Simplified Loader'!BI77=\"N\",\"No\",\"\"))))","v":""},{"$f":"IF('Simplified Loader'!BJ77=\"Yes\",\"Yes\",IF('Simplified Loader'!BJ77=\"No\",\"No\",IF('Simplified Loader'!BJ77=\"Y\",\"Yes\",IF('Simplified Loader'!BJ77=\"N\",\"No\",\"\"))))","v":""},{"$f":"IF('Simplified Loader'!BK77>0,'Simplified Loader'!BK77,\"\")","v":""},{"$f":"IF('Simplified Loader'!BL77>0,'Simplified Loader'!BL77,\"\")","v":""},{"$f":"IF('Simplified Loader'!BM77>0,'Simplified Loader'!BM77,\"\")","v":""},{"$f":"IF('Simplified Loader'!BN77=\"Male\",\"Male\",IF('Simplified Loader'!BN77=\"Female\",\"Female\",IF('Simplified Loader'!BN77=\"M\",\"Male\",IF('Simplified Loader'!BN77=\"F\",\"Female\",\"\"))))","v":""},{"$f":"IF('Simplified Loader'!BO77=\"Yes\",\"Yes\",IF('Simplified Loader'!BO77=\"No\",\"No\",IF('Simplified Loader'!BO77=\"Y\",\"Yes\",IF('Simplified Loader'!BO77=\"N\",\"No\",\"\"))))","v":""},{"$f":"IF('Simplified Loader'!BP77=\"Yes\",\"Yes\",IF('Simplified Loader'!BP77=\"No\",\"No\",IF('Simplified Loader'!BP77=\"Y\",\"Yes\",IF('Simplified Loader'!BP77=\"N\",\"No\",\"\"))))","v":""},{"$f":"IF('Simplified Loader'!BQ77>0,'Simplified Loader'!BQ77,\"\")","v":""},{"$f":"IF('Simplified Loader'!BR77>0,'Simplified Loader'!BR77,\"\")","v":""},{"$f":"IF('Simplified Loader'!BS77>0,'Simplified Loader'!BS77,\"\")","v":""},{"$f":"IF('Simplified Loader'!BT77=\"Male\",\"Male\",IF('Simplified Loader'!BT77=\"Female\",\"Female\",IF('Simplified Loader'!BT77=\"M\",\"Male\",IF('Simplified Loader'!BT77=\"F\",\"Female\",\"\"))))","v":""},{"$f":"IF('Simplified Loader'!BU77=\"Yes\",\"Yes\",IF('Simplified Loader'!BU77=\"No\",\"No\",IF('Simplified Loader'!BU77=\"Y\",\"Yes\",IF('Simplified Loader'!BU77=\"N\",\"No\",\"\"))))","v":""},{"$f":"IF('Simplified Loader'!BV77=\"Yes\",\"Yes\",IF('Simplified Loader'!BV77=\"No\",\"No\",IF('Simplified Loader'!BV77=\"Y\",\"Yes\",IF('Simplified Loader'!BV77=\"N\",\"No\",\"\"))))","v":""},{"$f":"IF('Simplified Loader'!BW77>0,'Simplified Loader'!BW77,\"\")","v":""},{"$f":"IF('Simplified Loader'!BX77>0,'Simplified Loader'!BX77,\"\")","v":""},{"$f":"IF('Simplified Loader'!BY77>0,'Simplified Loader'!BY77,\"\")","v":""},{"$f":"IF('Simplified Loader'!BZ77=\"Male\",\"Male\",IF('Simplified Loader'!BZ77=\"Female\",\"Female\",IF('Simplified Loader'!BZ77=\"M\",\"Male\",IF('Simplified Loader'!BZ77=\"F\",\"Female\",\"\"))))","v":""},{"$f":"IF('Simplified Loader'!CA77=\"Yes\",\"Yes\",IF('Simplified Loader'!CA77=\"No\",\"No\",IF('Simplified Loader'!CA77=\"Y\",\"Yes\",IF('Simplified Loader'!CA77=\"N\",\"No\",\"\"))))","v":""},{"$f":"IF('Simplified Loader'!CB77=\"Yes\",\"Yes\",IF('Simplified Loader'!CB77=\"No\",\"No\",IF('Simplified Loader'!CB77=\"Y\",\"Yes\",IF('Simplified Loader'!CB77=\"N\",\"No\",\"\"))))","v":""},{"$f":"IF('Simplified Loader'!CH77>0,'Simplified Loader'!CH77,\"\")","v":"    "}]
[{"$f":"IF('Simplified Loader'!A78>0,'Simplified Loader'!A78,\"\")","v":""},{"$f":"IF('Simplified Loader'!B78>0,'Simplified Loader'!B78,\"\")","v":""},{"$f":"IF('Simplified Loader'!C78>0,'Simplified Loader'!C78,\"\")","v":""},{"$f":"IF('Simplified Loader'!D78>0,'Simplified Loader'!D78,\"\")","v":""},{"$f":"IF('Simplified Loader'!P78>0,TEXT('Simplified Loader'!P78,\"000\"),\"\")","v":""},{"$f":"IF('Simplified Loader'!Q78>0,'Simplified Loader'!Q78,\"\")","v":""},{"$f":"IF('Simplified Loader'!R78>0,'Simplified Loader'!R78,\"\")","v":""},{"$f":"IF('Simplified Loader'!F78>0,DATEVALUE(TEXT('Simplified Loader'!F78,\"yyyy-mm-dd\")),\"\")","v":""},{"$f":"IF('Simplified Loader'!L78>0,DATEVALUE(TEXT('Simplified Loader'!L78,\"yyyy-mm-dd\")),\"\")","v":""},{"$f":"IF('Simplified Loader'!Y78>0,'Simplified Loader'!Y78,\"\")","v":""},{"$f":"IF('Simplified Loader'!T78>0,'Simplified Loader'!T78,\"\")","v":""},{"$f":"IF('Simplified Loader'!G78=\"Male\",\"Male\",IF('Simplified Loader'!G78=\"Female\",\"Female\",IF('Simplified Loader'!G78=\"M\",\"Male\",IF('Simplified Loader'!G78=\"F\",\"Female\",\"\"))))","v":""},{"$f":"IF('Simplified Loader'!U78=\"Yes\",\"Yes\",IF('Simplified Loader'!U78=\"No\",\"No\",IF('Simplified Loader'!U78=\"Y\",\"Yes\",IF('Simplified Loader'!U78=\"N\",\"No\",\"\"))))","v":""},{"$f":"IF('Simplified Loader'!I78=\"Single\",\"Single\",IF('Simplified Loader'!I78=\"Family\",\"Family\",IF('Simplified Loader'!I78=\"Waive\",\"Family\",IF('Simplified Loader'!I78=\"Single Parent\",\"Family\",IF('Simplified Loader'!I78=\"Couple\",\"Family\",IF('Simplified Loader'!I78=\"In force\",\"Family\",IF('Simplified Loader'!I78=\"Applies\",\"Family\",IF('Simplified Loader'!I78=\"Applicable\",\"Family\",\"\"))))))))","v":""},{"$f":"IF('Simplified Loader'!AC78=\"English\",\"English\",IF('Simplified Loader'!AC78=\"French\",\"French\",IF('Simplified Loader'!AC78=\"E\",\"English\",IF('Simplified Loader'!AC78=\"F\",\"French\",\"\"))))","v":""},{"$f":"IF('Simplified Loader'!AB78=\"Yes\",\"Yes\",IF('Simplified Loader'!AB78=\"No\",\"No\",IF('Simplified Loader'!AB78=\"Y\",\"Yes\",IF('Simplified Loader'!AB78=\"N\",\"No\",\"\"))))","v":""},{"$f":"IF('Simplified Loader'!AD78>0,'Simplified Loader'!AD78,\"\")","v":""},{"$f":"IF('Simplified Loader'!M78>0,'Simplified Loader'!M78,\"\")","v":""},{"$f":"IF('Simplified Loader'!N78>0,'Simplified Loader'!N78,\"\")","v":""},{"$f":"IF('Simplified Loader'!O78>0,'Simplified Loader'!O78,\"\")","v":""},{"$f":"IF('Simplified Loader'!I78=\"Waive\",\"Yes\",\"\")","v":""},{"$f":"IF('Simplified Loader'!I78=\"Waive\",\"Yes\",\"\")","v":""},{"$f":"IF('Simplified Loader'!AE78>0,'Simplified Loader'!AE78,\"\")","v":""},{"$f":"IF('Simplified Loader'!AF78>0,'Simplified Loader'!AF78,\"\")","v":""},{"$f":"IF('Simplified Loader'!AG78>0,'Simplified Loader'!AG78,\"\")","v":""},{"$f":"IF('Simplified Loader'!AH78>0,'Simplified Loader'!AH78,\"\")","v":""},{"$f":"IF('Simplified Loader'!AI78>0,'Simplified Loader'!AI78,\"\")","v":" "},{"$f":"IF('Simplified Loader'!AJ78>0,'Simplified Loader'!AJ78,\"\")","v":" "},{"$f":"IF('Simplified Loader'!W78>0,'Simplified Loader'!W78&\" \",\"\")&IF('Simplified Loader'!V78>0,'Simplified Loader'!V78,\"\")","v":""},null,{"$f":"IF('Simplified Loader'!X78>0,'Simplified Loader'!X78,\"\")","v":""},{"$f":"IF('Simplified Loader'!Y78>0,'Simplified Loader'!Y78,\"\")","v":""},{"$f":"IF('Simplified Loader'!Z78>0,'Simplified Loader'!Z78,\"\")","v":""},{"$f":"IF('Simplified Loader'!AA78>0,'Simplified Loader'!AA78,\"\")","v":""},{"$f":"IF('Simplified Loader'!E78>0,'Simplified Loader'!E78,\"\")","v":""},{"$f":"IF('Simplified Loader'!AK78>0,'Simplified Loader'!AK78,\"\")","v":""},{"$f":"IF('Simplified Loader'!AL78>0,'Simplified Loader'!AL78,\"\")","v":""},{"$f":"IF('Simplified Loader'!AM78>0,'Simplified Loader'!AM78,\"\")","v":""},{"$f":"IF('Simplified Loader'!AN78=\"Male\",\"Male\",IF('Simplified Loader'!AN78=\"Female\",\"Female\",IF('Simplified Loader'!AN78=\"M\",\"Male\",IF('Simplified Loader'!AN78=\"F\",\"Female\",\"\"))))","v":""},{"$f":"IF('Simplified Loader'!AO78=\"Single\",\"Single\",IF('Simplified Loader'!AO78=\"Family\",\"Family\",IF('Simplified Loader'!AO78=\"S\",\"Single\",IF('Simplified Loader'!AO78=\"F\",\"Family\",\"\"))))","v":""},{"$f":"IF('Simplified Loader'!AP78=\"Single\",\"Single\",IF('Simplified Loader'!AP78=\"Family\",\"Family\",IF('Simplified Loader'!AP78=\"S\",\"Single\",IF('Simplified Loader'!AP78=\"F\",\"Family\",\"\"))))","v":""},{"$f":"IF('Simplified Loader'!AQ78>0,'Simplified Loader'!AQ78,\"\")","v":""},{"$f":"IF('Simplified Loader'!AR78=\"Yes\",\"Yes\",IF('Simplified Loader'!AR78=\"No\",\"No\",IF('Simplified Loader'!AR78=\"Y\",\"Yes\",IF('Simplified Loader'!AR78=\"N\",\"No\",\"\"))))","v":""},{"$f":"IF('Simplified Loader'!AS78>0,'Simplified Loader'!AS78,\"\")","v":""},{"$f":"IF('Simplified Loader'!AT78>0,'Simplified Loader'!AT78,\"\")","v":""},{"$f":"IF('Simplified Loader'!AU78>0,'Simplified Loader'!AU78,\"\")","v":""},{"$f":"IF('Simplified Loader'!AV78=\"Male\",\"Male\",IF('Simplified Loader'!AV78=\"Female\",\"Female\",IF('Simplified Loader'!AV78=\"M\",\"Male\",IF('Simplified Loader'!AV78=\"F\",\"Female\",\"\"))))","v":""},{"$f":"IF('Simplified Loader'!AW78=\"Yes\",\"Yes\",IF('Simplified Loader'!AW78=\"No\",\"No\",IF('Simplified Loader'!AW78=\"Y\",\"Yes\",IF('Simplified Loader'!AW78=\"N\",\"No\",\"\"))))","v":""},{"$f":"IF('Simplified Loader'!AX78=\"Yes\",\"Yes\",IF('Simplified Loader'!AX78=\"No\",\"No\",IF('Simplified Loader'!AX78=\"Y\",\"Yes\",IF('Simplified Loader'!AX78=\"N\",\"No\",\"\"))))","v":""},{"$f":"IF('Simplified Loader'!AY78>0,'Simplified Loader'!AY78,\"\")","v":""},{"$f":"IF('Simplified Loader'!AZ78>0,'Simplified Loader'!AZ78,\"\")","v":""},{"$f":"IF('Simplified Loader'!BA78>0,'Simplified Loader'!BA78,\"\")","v":""},{"$f":"IF('Simplified Loader'!BB78=\"Male\",\"Male\",IF('Simplified Loader'!BB78=\"Female\",\"Female\",IF('Simplified Loader'!BB78=\"M\",\"Male\",IF('Simplified Loader'!BB78=\"F\",\"Female\",\"\"))))","v":""},{"$f":"IF('Simplified Loader'!BC78=\"Yes\",\"Yes\",IF('Simplified Loader'!BC78=\"No\",\"No\",IF('Simplified Loader'!BC78=\"Y\",\"Yes\",IF('Simplified Loader'!BC78=\"N\",\"No\",\"\"))))","v":""},{"$f":"IF('Simplified Loader'!BD78=\"Yes\",\"Yes\",IF('Simplified Loader'!BD78=\"No\",\"No\",IF('Simplified Loader'!BD78=\"Y\",\"Yes\",IF('Simplified Loader'!BD78=\"N\",\"No\",\"\"))))","v":""},{"$f":"IF('Simplified Loader'!BE78>0,'Simplified Loader'!BE78,\"\")","v":""},{"$f":"IF('Simplified Loader'!BF78>0,'Simplified Loader'!BF78,\"\")","v":""},{"$f":"IF('Simplified Loader'!BG78>0,'Simplified Loader'!BG78,\"\")","v":""},{"$f":"IF('Simplified Loader'!BH78=\"Male\",\"Male\",IF('Simplified Loader'!BH78=\"Female\",\"Female\",IF('Simplified Loader'!BH78=\"M\",\"Male\",IF('Simplified Loader'!BH78=\"F\",\"Female\",\"\"))))","v":""},{"$f":"IF('Simplified Loader'!BI78=\"Yes\",\"Yes\",IF('Simplified Loader'!BI78=\"No\",\"No\",IF('Simplified Loader'!BI78=\"Y\",\"Yes\",IF('Simplified Loader'!BI78=\"N\",\"No\",\"\"))))","v":""},{"$f":"IF('Simplified Loader'!BJ78=\"Yes\",\"Yes\",IF('Simplified Loader'!BJ78=\"No\",\"No\",IF('Simplified Loader'!BJ78=\"Y\",\"Yes\",IF('Simplified Loader'!BJ78=\"N\",\"No\",\"\"))))","v":""},{"$f":"IF('Simplified Loader'!BK78>0,'Simplified Loader'!BK78,\"\")","v":""},{"$f":"IF('Simplified Loader'!BL78>0,'Simplified Loader'!BL78,\"\")","v":""},{"$f":"IF('Simplified Loader'!BM78>0,'Simplified Loader'!BM78,\"\")","v":""},{"$f":"IF('Simplified Loader'!BN78=\"Male\",\"Male\",IF('Simplified Loader'!BN78=\"Female\",\"Female\",IF('Simplified Loader'!BN78=\"M\",\"Male\",IF('Simplified Loader'!BN78=\"F\",\"Female\",\"\"))))","v":""},{"$f":"IF('Simplified Loader'!BO78=\"Yes\",\"Yes\",IF('Simplified Loader'!BO78=\"No\",\"No\",IF('Simplified Loader'!BO78=\"Y\",\"Yes\",IF('Simplified Loader'!BO78=\"N\",\"No\",\"\"))))","v":""},{"$f":"IF('Simplified Loader'!BP78=\"Yes\",\"Yes\",IF('Simplified Loader'!BP78=\"No\",\"No\",IF('Simplified Loader'!BP78=\"Y\",\"Yes\",IF('Simplified Loader'!BP78=\"N\",\"No\",\"\"))))","v":""},{"$f":"IF('Simplified Loader'!BQ78>0,'Simplified Loader'!BQ78,\"\")","v":""},{"$f":"IF('Simplified Loader'!BR78>0,'Simplified Loader'!BR78,\"\")","v":""},{"$f":"IF('Simplified Loader'!BS78>0,'Simplified Loader'!BS78,\"\")","v":""},{"$f":"IF('Simplified Loader'!BT78=\"Male\",\"Male\",IF('Simplified Loader'!BT78=\"Female\",\"Female\",IF('Simplified Loader'!BT78=\"M\",\"Male\",IF('Simplified Loader'!BT78=\"F\",\"Female\",\"\"))))","v":""},{"$f":"IF('Simplified Loader'!BU78=\"Yes\",\"Yes\",IF('Simplified Loader'!BU78=\"No\",\"No\",IF('Simplified Loader'!BU78=\"Y\",\"Yes\",IF('Simplified Loader'!BU78=\"N\",\"No\",\"\"))))","v":""},{"$f":"IF('Simplified Loader'!BV78=\"Yes\",\"Yes\",IF('Simplified Loader'!BV78=\"No\",\"No\",IF('Simplified Loader'!BV78=\"Y\",\"Yes\",IF('Simplified Loader'!BV78=\"N\",\"No\",\"\"))))","v":""},{"$f":"IF('Simplified Loader'!BW78>0,'Simplified Loader'!BW78,\"\")","v":""},{"$f":"IF('Simplified Loader'!BX78>0,'Simplified Loader'!BX78,\"\")","v":""},{"$f":"IF('Simplified Loader'!BY78>0,'Simplified Loader'!BY78,\"\")","v":""},{"$f":"IF('Simplified Loader'!BZ78=\"Male\",\"Male\",IF('Simplified Loader'!BZ78=\"Female\",\"Female\",IF('Simplified Loader'!BZ78=\"M\",\"Male\",IF('Simplified Loader'!BZ78=\"F\",\"Female\",\"\"))))","v":""},{"$f":"IF('Simplified Loader'!CA78=\"Yes\",\"Yes\",IF('Simplified Loader'!CA78=\"No\",\"No\",IF('Simplified Loader'!CA78=\"Y\",\"Yes\",IF('Simplified Loader'!CA78=\"N\",\"No\",\"\"))))","v":""},{"$f":"IF('Simplified Loader'!CB78=\"Yes\",\"Yes\",IF('Simplified Loader'!CB78=\"No\",\"No\",IF('Simplified Loader'!CB78=\"Y\",\"Yes\",IF('Simplified Loader'!CB78=\"N\",\"No\",\"\"))))","v":""},{"$f":"IF('Simplified Loader'!CH78>0,'Simplified Loader'!CH78,\"\")","v":"    "}]
[{"$f":"IF('Simplified Loader'!A79>0,'Simplified Loader'!A79,\"\")","v":""},{"$f":"IF('Simplified Loader'!B79>0,'Simplified Loader'!B79,\"\")","v":""},{"$f":"IF('Simplified Loader'!C79>0,'Simplified Loader'!C79,\"\")","v":""},{"$f":"IF('Simplified Loader'!D79>0,'Simplified Loader'!D79,\"\")","v":""},{"$f":"IF('Simplified Loader'!P79>0,TEXT('Simplified Loader'!P79,\"000\"),\"\")","v":""},{"$f":"IF('Simplified Loader'!Q79>0,'Simplified Loader'!Q79,\"\")","v":""},{"$f":"IF('Simplified Loader'!R79>0,'Simplified Loader'!R79,\"\")","v":""},{"$f":"IF('Simplified Loader'!F79>0,DATEVALUE(TEXT('Simplified Loader'!F79,\"yyyy-mm-dd\")),\"\")","v":""},{"$f":"IF('Simplified Loader'!L79>0,DATEVALUE(TEXT('Simplified Loader'!L79,\"yyyy-mm-dd\")),\"\")","v":""},{"$f":"IF('Simplified Loader'!Y79>0,'Simplified Loader'!Y79,\"\")","v":""},{"$f":"IF('Simplified Loader'!T79>0,'Simplified Loader'!T79,\"\")","v":""},{"$f":"IF('Simplified Loader'!G79=\"Male\",\"Male\",IF('Simplified Loader'!G79=\"Female\",\"Female\",IF('Simplified Loader'!G79=\"M\",\"Male\",IF('Simplified Loader'!G79=\"F\",\"Female\",\"\"))))","v":""},{"$f":"IF('Simplified Loader'!U79=\"Yes\",\"Yes\",IF('Simplified Loader'!U79=\"No\",\"No\",IF('Simplified Loader'!U79=\"Y\",\"Yes\",IF('Simplified Loader'!U79=\"N\",\"No\",\"\"))))","v":""},{"$f":"IF('Simplified Loader'!I79=\"Single\",\"Single\",IF('Simplified Loader'!I79=\"Family\",\"Family\",IF('Simplified Loader'!I79=\"Waive\",\"Family\",IF('Simplified Loader'!I79=\"Single Parent\",\"Family\",IF('Simplified Loader'!I79=\"Couple\",\"Family\",IF('Simplified Loader'!I79=\"In force\",\"Family\",IF('Simplified Loader'!I79=\"Applies\",\"Family\",IF('Simplified Loader'!I79=\"Applicable\",\"Family\",\"\"))))))))","v":""},{"$f":"IF('Simplified Loader'!AC79=\"English\",\"English\",IF('Simplified Loader'!AC79=\"French\",\"French\",IF('Simplified Loader'!AC79=\"E\",\"English\",IF('Simplified Loader'!AC79=\"F\",\"French\",\"\"))))","v":""},{"$f":"IF('Simplified Loader'!AB79=\"Yes\",\"Yes\",IF('Simplified Loader'!AB79=\"No\",\"No\",IF('Simplified Loader'!AB79=\"Y\",\"Yes\",IF('Simplified Loader'!AB79=\"N\",\"No\",\"\"))))","v":""},{"$f":"IF('Simplified Loader'!AD79>0,'Simplified Loader'!AD79,\"\")","v":""},{"$f":"IF('Simplified Loader'!M79>0,'Simplified Loader'!M79,\"\")","v":""},{"$f":"IF('Simplified Loader'!N79>0,'Simplified Loader'!N79,\"\")","v":""},{"$f":"IF('Simplified Loader'!O79>0,'Simplified Loader'!O79,\"\")","v":""},{"$f":"IF('Simplified Loader'!I79=\"Waive\",\"Yes\",\"\")","v":""},{"$f":"IF('Simplified Loader'!I79=\"Waive\",\"Yes\",\"\")","v":""},{"$f":"IF('Simplified Loader'!AE79>0,'Simplified Loader'!AE79,\"\")","v":""},{"$f":"IF('Simplified Loader'!AF79>0,'Simplified Loader'!AF79,\"\")","v":""},{"$f":"IF('Simplified Loader'!AG79>0,'Simplified Loader'!AG79,\"\")","v":""},{"$f":"IF('Simplified Loader'!AH79>0,'Simplified Loader'!AH79,\"\")","v":""},{"$f":"IF('Simplified Loader'!AI79>0,'Simplified Loader'!AI79,\"\")","v":" "},{"$f":"IF('Simplified Loader'!AJ79>0,'Simplified Loader'!AJ79,\"\")","v":" "},{"$f":"IF('Simplified Loader'!W79>0,'Simplified Loader'!W79&\" \",\"\")&IF('Simplified Loader'!V79>0,'Simplified Loader'!V79,\"\")","v":""},null,{"$f":"IF('Simplified Loader'!X79>0,'Simplified Loader'!X79,\"\")","v":""},{"$f":"IF('Simplified Loader'!Y79>0,'Simplified Loader'!Y79,\"\")","v":""},{"$f":"IF('Simplified Loader'!Z79>0,'Simplified Loader'!Z79,\"\")","v":""},{"$f":"IF('Simplified Loader'!AA79>0,'Simplified Loader'!AA79,\"\")","v":""},{"$f":"IF('Simplified Loader'!E79>0,'Simplified Loader'!E79,\"\")","v":""},{"$f":"IF('Simplified Loader'!AK79>0,'Simplified Loader'!AK79,\"\")","v":""},{"$f":"IF('Simplified Loader'!AL79>0,'Simplified Loader'!AL79,\"\")","v":""},{"$f":"IF('Simplified Loader'!AM79>0,'Simplified Loader'!AM79,\"\")","v":""},{"$f":"IF('Simplified Loader'!AN79=\"Male\",\"Male\",IF('Simplified Loader'!AN79=\"Female\",\"Female\",IF('Simplified Loader'!AN79=\"M\",\"Male\",IF('Simplified Loader'!AN79=\"F\",\"Female\",\"\"))))","v":""},{"$f":"IF('Simplified Loader'!AO79=\"Single\",\"Single\",IF('Simplified Loader'!AO79=\"Family\",\"Family\",IF('Simplified Loader'!AO79=\"S\",\"Single\",IF('Simplified Loader'!AO79=\"F\",\"Family\",\"\"))))","v":""},{"$f":"IF('Simplified Loader'!AP79=\"Single\",\"Single\",IF('Simplified Loader'!AP79=\"Family\",\"Family\",IF('Simplified Loader'!AP79=\"S\",\"Single\",IF('Simplified Loader'!AP79=\"F\",\"Family\",\"\"))))","v":""},{"$f":"IF('Simplified Loader'!AQ79>0,'Simplified Loader'!AQ79,\"\")","v":""},{"$f":"IF('Simplified Loader'!AR79=\"Yes\",\"Yes\",IF('Simplified Loader'!AR79=\"No\",\"No\",IF('Simplified Loader'!AR79=\"Y\",\"Yes\",IF('Simplified Loader'!AR79=\"N\",\"No\",\"\"))))","v":""},{"$f":"IF('Simplified Loader'!AS79>0,'Simplified Loader'!AS79,\"\")","v":""},{"$f":"IF('Simplified Loader'!AT79>0,'Simplified Loader'!AT79,\"\")","v":""},{"$f":"IF('Simplified Loader'!AU79>0,'Simplified Loader'!AU79,\"\")","v":""},{"$f":"IF('Simplified Loader'!AV79=\"Male\",\"Male\",IF('Simplified Loader'!AV79=\"Female\",\"Female\",IF('Simplified Loader'!AV79=\"M\",\"Male\",IF('Simplified Loader'!AV79=\"F\",\"Female\",\"\"))))","v":""},{"$f":"IF('Simplified Loader'!AW79=\"Yes\",\"Yes\",IF('Simplified Loader'!AW79=\"No\",\"No\",IF('Simplified Loader'!AW79=\"Y\",\"Yes\",IF('Simplified Loader'!AW79=\"N\",\"No\",\"\"))))","v":""},{"$f":"IF('Simplified Loader'!AX79=\"Yes\",\"Yes\",IF('Simplified Loader'!AX79=\"No\",\"No\",IF('Simplified Loader'!AX79=\"Y\",\"Yes\",IF('Simplified Loader'!AX79=\"N\",\"No\",\"\"))))","v":""},{"$f":"IF('Simplified Loader'!AY79>0,'Simplified Loader'!AY79,\"\")","v":""},{"$f":"IF('Simplified Loader'!AZ79>0,'Simplified Loader'!AZ79,\"\")","v":""},{"$f":"IF('Simplified Loader'!BA79>0,'Simplified Loader'!BA79,\"\")","v":""},{"$f":"IF('Simplified Loader'!BB79=\"Male\",\"Male\",IF('Simplified Loader'!BB79=\"Female\",\"Female\",IF('Simplified Loader'!BB79=\"M\",\"Male\",IF('Simplified Loader'!BB79=\"F\",\"Female\",\"\"))))","v":""},{"$f":"IF('Simplified Loader'!BC79=\"Yes\",\"Yes\",IF('Simplified Loader'!BC79=\"No\",\"No\",IF('Simplified Loader'!BC79=\"Y\",\"Yes\",IF('Simplified Loader'!BC79=\"N\",\"No\",\"\"))))","v":""},{"$f":"IF('Simplified Loader'!BD79=\"Yes\",\"Yes\",IF('Simplified Loader'!BD79=\"No\",\"No\",IF('Simplified Loader'!BD79=\"Y\",\"Yes\",IF('Simplified Loader'!BD79=\"N\",\"No\",\"\"))))","v":""},{"$f":"IF('Simplified Loader'!BE79>0,'Simplified Loader'!BE79,\"\")","v":""},{"$f":"IF('Simplified Loader'!BF79>0,'Simplified Loader'!BF79,\"\")","v":""},{"$f":"IF('Simplified Loader'!BG79>0,'Simplified Loader'!BG79,\"\")","v":""},{"$f":"IF('Simplified Loader'!BH79=\"Male\",\"Male\",IF('Simplified Loader'!BH79=\"Female\",\"Female\",IF('Simplified Loader'!BH79=\"M\",\"Male\",IF('Simplified Loader'!BH79=\"F\",\"Female\",\"\"))))","v":""},{"$f":"IF('Simplified Loader'!BI79=\"Yes\",\"Yes\",IF('Simplified Loader'!BI79=\"No\",\"No\",IF('Simplified Loader'!BI79=\"Y\",\"Yes\",IF('Simplified Loader'!BI79=\"N\",\"No\",\"\"))))","v":""},{"$f":"IF('Simplified Loader'!BJ79=\"Yes\",\"Yes\",IF('Simplified Loader'!BJ79=\"No\",\"No\",IF('Simplified Loader'!BJ79=\"Y\",\"Yes\",IF('Simplified Loader'!BJ79=\"N\",\"No\",\"\"))))","v":""},{"$f":"IF('Simplified Loader'!BK79>0,'Simplified Loader'!BK79,\"\")","v":""},{"$f":"IF('Simplified Loader'!BL79>0,'Simplified Loader'!BL79,\"\")","v":""},{"$f":"IF('Simplified Loader'!BM79>0,'Simplified Loader'!BM79,\"\")","v":""},{"$f":"IF('Simplified Loader'!BN79=\"Male\",\"Male\",IF('Simplified Loader'!BN79=\"Female\",\"Female\",IF('Simplified Loader'!BN79=\"M\",\"Male\",IF('Simplified Loader'!BN79=\"F\",\"Female\",\"\"))))","v":""},{"$f":"IF('Simplified Loader'!BO79=\"Yes\",\"Yes\",IF('Simplified Loader'!BO79=\"No\",\"No\",IF('Simplified Loader'!BO79=\"Y\",\"Yes\",IF('Simplified Loader'!BO79=\"N\",\"No\",\"\"))))","v":""},{"$f":"IF('Simplified Loader'!BP79=\"Yes\",\"Yes\",IF('Simplified Loader'!BP79=\"No\",\"No\",IF('Simplified Loader'!BP79=\"Y\",\"Yes\",IF('Simplified Loader'!BP79=\"N\",\"No\",\"\"))))","v":""},{"$f":"IF('Simplified Loader'!BQ79>0,'Simplified Loader'!BQ79,\"\")","v":""},{"$f":"IF('Simplified Loader'!BR79>0,'Simplified Loader'!BR79,\"\")","v":""},{"$f":"IF('Simplified Loader'!BS79>0,'Simplified Loader'!BS79,\"\")","v":""},{"$f":"IF('Simplified Loader'!BT79=\"Male\",\"Male\",IF('Simplified Loader'!BT79=\"Female\",\"Female\",IF('Simplified Loader'!BT79=\"M\",\"Male\",IF('Simplified Loader'!BT79=\"F\",\"Female\",\"\"))))","v":""},{"$f":"IF('Simplified Loader'!BU79=\"Yes\",\"Yes\",IF('Simplified Loader'!BU79=\"No\",\"No\",IF('Simplified Loader'!BU79=\"Y\",\"Yes\",IF('Simplified Loader'!BU79=\"N\",\"No\",\"\"))))","v":""},{"$f":"IF('Simplified Loader'!BV79=\"Yes\",\"Yes\",IF('Simplified Loader'!BV79=\"No\",\"No\",IF('Simplified Loader'!BV79=\"Y\",\"Yes\",IF('Simplified Loader'!BV79=\"N\",\"No\",\"\"))))","v":""},{"$f":"IF('Simplified Loader'!BW79>0,'Simplified Loader'!BW79,\"\")","v":""},{"$f":"IF('Simplified Loader'!BX79>0,'Simplified Loader'!BX79,\"\")","v":""},{"$f":"IF('Simplified Loader'!BY79>0,'Simplified Loader'!BY79,\"\")","v":""},{"$f":"IF('Simplified Loader'!BZ79=\"Male\",\"Male\",IF('Simplified Loader'!BZ79=\"Female\",\"Female\",IF('Simplified Loader'!BZ79=\"M\",\"Male\",IF('Simplified Loader'!BZ79=\"F\",\"Female\",\"\"))))","v":""},{"$f":"IF('Simplified Loader'!CA79=\"Yes\",\"Yes\",IF('Simplified Loader'!CA79=\"No\",\"No\",IF('Simplified Loader'!CA79=\"Y\",\"Yes\",IF('Simplified Loader'!CA79=\"N\",\"No\",\"\"))))","v":""},{"$f":"IF('Simplified Loader'!CB79=\"Yes\",\"Yes\",IF('Simplified Loader'!CB79=\"No\",\"No\",IF('Simplified Loader'!CB79=\"Y\",\"Yes\",IF('Simplified Loader'!CB79=\"N\",\"No\",\"\"))))","v":""},{"$f":"IF('Simplified Loader'!CH79>0,'Simplified Loader'!CH79,\"\")","v":"    "}]
[{"$f":"IF('Simplified Loader'!A80>0,'Simplified Loader'!A80,\"\")","v":""},{"$f":"IF('Simplified Loader'!B80>0,'Simplified Loader'!B80,\"\")","v":""},{"$f":"IF('Simplified Loader'!C80>0,'Simplified Loader'!C80,\"\")","v":""},{"$f":"IF('Simplified Loader'!D80>0,'Simplified Loader'!D80,\"\")","v":""},{"$f":"IF('Simplified Loader'!P80>0,TEXT('Simplified Loader'!P80,\"000\"),\"\")","v":""},{"$f":"IF('Simplified Loader'!Q80>0,'Simplified Loader'!Q80,\"\")","v":""},{"$f":"IF('Simplified Loader'!R80>0,'Simplified Loader'!R80,\"\")","v":""},{"$f":"IF('Simplified Loader'!F80>0,DATEVALUE(TEXT('Simplified Loader'!F80,\"yyyy-mm-dd\")),\"\")","v":""},{"$f":"IF('Simplified Loader'!L80>0,DATEVALUE(TEXT('Simplified Loader'!L80,\"yyyy-mm-dd\")),\"\")","v":""},{"$f":"IF('Simplified Loader'!Y80>0,'Simplified Loader'!Y80,\"\")","v":""},{"$f":"IF('Simplified Loader'!T80>0,'Simplified Loader'!T80,\"\")","v":""},{"$f":"IF('Simplified Loader'!G80=\"Male\",\"Male\",IF('Simplified Loader'!G80=\"Female\",\"Female\",IF('Simplified Loader'!G80=\"M\",\"Male\",IF('Simplified Loader'!G80=\"F\",\"Female\",\"\"))))","v":""},{"$f":"IF('Simplified Loader'!U80=\"Yes\",\"Yes\",IF('Simplified Loader'!U80=\"No\",\"No\",IF('Simplified Loader'!U80=\"Y\",\"Yes\",IF('Simplified Loader'!U80=\"N\",\"No\",\"\"))))","v":""},{"$f":"IF('Simplified Loader'!I80=\"Single\",\"Single\",IF('Simplified Loader'!I80=\"Family\",\"Family\",IF('Simplified Loader'!I80=\"Waive\",\"Family\",IF('Simplified Loader'!I80=\"Single Parent\",\"Family\",IF('Simplified Loader'!I80=\"Couple\",\"Family\",IF('Simplified Loader'!I80=\"In force\",\"Family\",IF('Simplified Loader'!I80=\"Applies\",\"Family\",IF('Simplified Loader'!I80=\"Applicable\",\"Family\",\"\"))))))))","v":""},{"$f":"IF('Simplified Loader'!AC80=\"English\",\"English\",IF('Simplified Loader'!AC80=\"French\",\"French\",IF('Simplified Loader'!AC80=\"E\",\"English\",IF('Simplified Loader'!AC80=\"F\",\"French\",\"\"))))","v":""},{"$f":"IF('Simplified Loader'!AB80=\"Yes\",\"Yes\",IF('Simplified Loader'!AB80=\"No\",\"No\",IF('Simplified Loader'!AB80=\"Y\",\"Yes\",IF('Simplified Loader'!AB80=\"N\",\"No\",\"\"))))","v":""},{"$f":"IF('Simplified Loader'!AD80>0,'Simplified Loader'!AD80,\"\")","v":""},{"$f":"IF('Simplified Loader'!M80>0,'Simplified Loader'!M80,\"\")","v":""},{"$f":"IF('Simplified Loader'!N80>0,'Simplified Loader'!N80,\"\")","v":""},{"$f":"IF('Simplified Loader'!O80>0,'Simplified Loader'!O80,\"\")","v":""},{"$f":"IF('Simplified Loader'!I80=\"Waive\",\"Yes\",\"\")","v":""},{"$f":"IF('Simplified Loader'!I80=\"Waive\",\"Yes\",\"\")","v":""},{"$f":"IF('Simplified Loader'!AE80>0,'Simplified Loader'!AE80,\"\")","v":""},{"$f":"IF('Simplified Loader'!AF80>0,'Simplified Loader'!AF80,\"\")","v":""},{"$f":"IF('Simplified Loader'!AG80>0,'Simplified Loader'!AG80,\"\")","v":""},{"$f":"IF('Simplified Loader'!AH80>0,'Simplified Loader'!AH80,\"\")","v":""},{"$f":"IF('Simplified Loader'!AI80>0,'Simplified Loader'!AI80,\"\")","v":" "},{"$f":"IF('Simplified Loader'!AJ80>0,'Simplified Loader'!AJ80,\"\")","v":" "},{"$f":"IF('Simplified Loader'!W80>0,'Simplified Loader'!W80&\" \",\"\")&IF('Simplified Loader'!V80>0,'Simplified Loader'!V80,\"\")","v":""},null,{"$f":"IF('Simplified Loader'!X80>0,'Simplified Loader'!X80,\"\")","v":""},{"$f":"IF('Simplified Loader'!Y80>0,'Simplified Loader'!Y80,\"\")","v":""},{"$f":"IF('Simplified Loader'!Z80>0,'Simplified Loader'!Z80,\"\")","v":""},{"$f":"IF('Simplified Loader'!AA80>0,'Simplified Loader'!AA80,\"\")","v":""},{"$f":"IF('Simplified Loader'!E80>0,'Simplified Loader'!E80,\"\")","v":""},{"$f":"IF('Simplified Loader'!AK80>0,'Simplified Loader'!AK80,\"\")","v":""},{"$f":"IF('Simplified Loader'!AL80>0,'Simplified Loader'!AL80,\"\")","v":""},{"$f":"IF('Simplified Loader'!AM80>0,'Simplified Loader'!AM80,\"\")","v":""},{"$f":"IF('Simplified Loader'!AN80=\"Male\",\"Male\",IF('Simplified Loader'!AN80=\"Female\",\"Female\",IF('Simplified Loader'!AN80=\"M\",\"Male\",IF('Simplified Loader'!AN80=\"F\",\"Female\",\"\"))))","v":""},{"$f":"IF('Simplified Loader'!AO80=\"Single\",\"Single\",IF('Simplified Loader'!AO80=\"Family\",\"Family\",IF('Simplified Loader'!AO80=\"S\",\"Single\",IF('Simplified Loader'!AO80=\"F\",\"Family\",\"\"))))","v":""},{"$f":"IF('Simplified Loader'!AP80=\"Single\",\"Single\",IF('Simplified Loader'!AP80=\"Family\",\"Family\",IF('Simplified Loader'!AP80=\"S\",\"Single\",IF('Simplified Loader'!AP80=\"F\",\"Family\",\"\"))))","v":""},{"$f":"IF('Simplified Loader'!AQ80>0,'Simplified Loader'!AQ80,\"\")","v":""},{"$f":"IF('Simplified Loader'!AR80=\"Yes\",\"Yes\",IF('Simplified Loader'!AR80=\"No\",\"No\",IF('Simplified Loader'!AR80=\"Y\",\"Yes\",IF('Simplified Loader'!AR80=\"N\",\"No\",\"\"))))","v":""},{"$f":"IF('Simplified Loader'!AS80>0,'Simplified Loader'!AS80,\"\")","v":""},{"$f":"IF('Simplified Loader'!AT80>0,'Simplified Loader'!AT80,\"\")","v":""},{"$f":"IF('Simplified Loader'!AU80>0,'Simplified Loader'!AU80,\"\")","v":""},{"$f":"IF('Simplified Loader'!AV80=\"Male\",\"Male\",IF('Simplified Loader'!AV80=\"Female\",\"Female\",IF('Simplified Loader'!AV80=\"M\",\"Male\",IF('Simplified Loader'!AV80=\"F\",\"Female\",\"\"))))","v":""},{"$f":"IF('Simplified Loader'!AW80=\"Yes\",\"Yes\",IF('Simplified Loader'!AW80=\"No\",\"No\",IF('Simplified Loader'!AW80=\"Y\",\"Yes\",IF('Simplified Loader'!AW80=\"N\",\"No\",\"\"))))","v":""},{"$f":"IF('Simplified Loader'!AX80=\"Yes\",\"Yes\",IF('Simplified Loader'!AX80=\"No\",\"No\",IF('Simplified Loader'!AX80=\"Y\",\"Yes\",IF('Simplified Loader'!AX80=\"N\",\"No\",\"\"))))","v":""},{"$f":"IF('Simplified Loader'!AY80>0,'Simplified Loader'!AY80,\"\")","v":""},{"$f":"IF('Simplified Loader'!AZ80>0,'Simplified Loader'!AZ80,\"\")","v":""},{"$f":"IF('Simplified Loader'!BA80>0,'Simplified Loader'!BA80,\"\")","v":""},{"$f":"IF('Simplified Loader'!BB80=\"Male\",\"Male\",IF('Simplified Loader'!BB80=\"Female\",\"Female\",IF('Simplified Loader'!BB80=\"M\",\"Male\",IF('Simplified Loader'!BB80=\"F\",\"Female\",\"\"))))","v":""},{"$f":"IF('Simplified Loader'!BC80=\"Yes\",\"Yes\",IF('Simplified Loader'!BC80=\"No\",\"No\",IF('Simplified Loader'!BC80=\"Y\",\"Yes\",IF('Simplified Loader'!BC80=\"N\",\"No\",\"\"))))","v":""},{"$f":"IF('Simplified Loader'!BD80=\"Yes\",\"Yes\",IF('Simplified Loader'!BD80=\"No\",\"No\",IF('Simplified Loader'!BD80=\"Y\",\"Yes\",IF('Simplified Loader'!BD80=\"N\",\"No\",\"\"))))","v":""},{"$f":"IF('Simplified Loader'!BE80>0,'Simplified Loader'!BE80,\"\")","v":""},{"$f":"IF('Simplified Loader'!BF80>0,'Simplified Loader'!BF80,\"\")","v":""},{"$f":"IF('Simplified Loader'!BG80>0,'Simplified Loader'!BG80,\"\")","v":""},{"$f":"IF('Simplified Loader'!BH80=\"Male\",\"Male\",IF('Simplified Loader'!BH80=\"Female\",\"Female\",IF('Simplified Loader'!BH80=\"M\",\"Male\",IF('Simplified Loader'!BH80=\"F\",\"Female\",\"\"))))","v":""},{"$f":"IF('Simplified Loader'!BI80=\"Yes\",\"Yes\",IF('Simplified Loader'!BI80=\"No\",\"No\",IF('Simplified Loader'!BI80=\"Y\",\"Yes\",IF('Simplified Loader'!BI80=\"N\",\"No\",\"\"))))","v":""},{"$f":"IF('Simplified Loader'!BJ80=\"Yes\",\"Yes\",IF('Simplified Loader'!BJ80=\"No\",\"No\",IF('Simplified Loader'!BJ80=\"Y\",\"Yes\",IF('Simplified Loader'!BJ80=\"N\",\"No\",\"\"))))","v":""},{"$f":"IF('Simplified Loader'!BK80>0,'Simplified Loader'!BK80,\"\")","v":""},{"$f":"IF('Simplified Loader'!BL80>0,'Simplified Loader'!BL80,\"\")","v":""},{"$f":"IF('Simplified Loader'!BM80>0,'Simplified Loader'!BM80,\"\")","v":""},{"$f":"IF('Simplified Loader'!BN80=\"Male\",\"Male\",IF('Simplified Loader'!BN80=\"Female\",\"Female\",IF('Simplified Loader'!BN80=\"M\",\"Male\",IF('Simplified Loader'!BN80=\"F\",\"Female\",\"\"))))","v":""},{"$f":"IF('Simplified Loader'!BO80=\"Yes\",\"Yes\",IF('Simplified Loader'!BO80=\"No\",\"No\",IF('Simplified Loader'!BO80=\"Y\",\"Yes\",IF('Simplified Loader'!BO80=\"N\",\"No\",\"\"))))","v":""},{"$f":"IF('Simplified Loader'!BP80=\"Yes\",\"Yes\",IF('Simplified Loader'!BP80=\"No\",\"No\",IF('Simplified Loader'!BP80=\"Y\",\"Yes\",IF('Simplified Loader'!BP80=\"N\",\"No\",\"\"))))","v":""},{"$f":"IF('Simplified Loader'!BQ80>0,'Simplified Loader'!BQ80,\"\")","v":""},{"$f":"IF('Simplified Loader'!BR80>0,'Simplified Loader'!BR80,\"\")","v":""},{"$f":"IF('Simplified Loader'!BS80>0,'Simplified Loader'!BS80,\"\")","v":""},{"$f":"IF('Simplified Loader'!BT80=\"Male\",\"Male\",IF('Simplified Loader'!BT80=\"Female\",\"Female\",IF('Simplified Loader'!BT80=\"M\",\"Male\",IF('Simplified Loader'!BT80=\"F\",\"Female\",\"\"))))","v":""},{"$f":"IF('Simplified Loader'!BU80=\"Yes\",\"Yes\",IF('Simplified Loader'!BU80=\"No\",\"No\",IF('Simplified Loader'!BU80=\"Y\",\"Yes\",IF('Simplified Loader'!BU80=\"N\",\"No\",\"\"))))","v":""},{"$f":"IF('Simplified Loader'!BV80=\"Yes\",\"Yes\",IF('Simplified Loader'!BV80=\"No\",\"No\",IF('Simplified Loader'!BV80=\"Y\",\"Yes\",IF('Simplified Loader'!BV80=\"N\",\"No\",\"\"))))","v":""},{"$f":"IF('Simplified Loader'!BW80>0,'Simplified Loader'!BW80,\"\")","v":""},{"$f":"IF('Simplified Loader'!BX80>0,'Simplified Loader'!BX80,\"\")","v":""},{"$f":"IF('Simplified Loader'!BY80>0,'Simplified Loader'!BY80,\"\")","v":""},{"$f":"IF('Simplified Loader'!BZ80=\"Male\",\"Male\",IF('Simplified Loader'!BZ80=\"Female\",\"Female\",IF('Simplified Loader'!BZ80=\"M\",\"Male\",IF('Simplified Loader'!BZ80=\"F\",\"Female\",\"\"))))","v":""},{"$f":"IF('Simplified Loader'!CA80=\"Yes\",\"Yes\",IF('Simplified Loader'!CA80=\"No\",\"No\",IF('Simplified Loader'!CA80=\"Y\",\"Yes\",IF('Simplified Loader'!CA80=\"N\",\"No\",\"\"))))","v":""},{"$f":"IF('Simplified Loader'!CB80=\"Yes\",\"Yes\",IF('Simplified Loader'!CB80=\"No\",\"No\",IF('Simplified Loader'!CB80=\"Y\",\"Yes\",IF('Simplified Loader'!CB80=\"N\",\"No\",\"\"))))","v":""},{"$f":"IF('Simplified Loader'!CH80>0,'Simplified Loader'!CH80,\"\")","v":"    "}]
[{"$f":"IF('Simplified Loader'!A81>0,'Simplified Loader'!A81,\"\")","v":""},{"$f":"IF('Simplified Loader'!B81>0,'Simplified Loader'!B81,\"\")","v":""},{"$f":"IF('Simplified Loader'!C81>0,'Simplified Loader'!C81,\"\")","v":""},{"$f":"IF('Simplified Loader'!D81>0,'Simplified Loader'!D81,\"\")","v":""},{"$f":"IF('Simplified Loader'!P81>0,TEXT('Simplified Loader'!P81,\"000\"),\"\")","v":""},{"$f":"IF('Simplified Loader'!Q81>0,'Simplified Loader'!Q81,\"\")","v":""},{"$f":"IF('Simplified Loader'!R81>0,'Simplified Loader'!R81,\"\")","v":""},{"$f":"IF('Simplified Loader'!F81>0,DATEVALUE(TEXT('Simplified Loader'!F81,\"yyyy-mm-dd\")),\"\")","v":""},{"$f":"IF('Simplified Loader'!L81>0,DATEVALUE(TEXT('Simplified Loader'!L81,\"yyyy-mm-dd\")),\"\")","v":""},{"$f":"IF('Simplified Loader'!Y81>0,'Simplified Loader'!Y81,\"\")","v":""},{"$f":"IF('Simplified Loader'!T81>0,'Simplified Loader'!T81,\"\")","v":""},{"$f":"IF('Simplified Loader'!G81=\"Male\",\"Male\",IF('Simplified Loader'!G81=\"Female\",\"Female\",IF('Simplified Loader'!G81=\"M\",\"Male\",IF('Simplified Loader'!G81=\"F\",\"Female\",\"\"))))","v":""},{"$f":"IF('Simplified Loader'!U81=\"Yes\",\"Yes\",IF('Simplified Loader'!U81=\"No\",\"No\",IF('Simplified Loader'!U81=\"Y\",\"Yes\",IF('Simplified Loader'!U81=\"N\",\"No\",\"\"))))","v":""},{"$f":"IF('Simplified Loader'!I81=\"Single\",\"Single\",IF('Simplified Loader'!I81=\"Family\",\"Family\",IF('Simplified Loader'!I81=\"Waive\",\"Family\",IF('Simplified Loader'!I81=\"Single Parent\",\"Family\",IF('Simplified Loader'!I81=\"Couple\",\"Family\",IF('Simplified Loader'!I81=\"In force\",\"Family\",IF('Simplified Loader'!I81=\"Applies\",\"Family\",IF('Simplified Loader'!I81=\"Applicable\",\"Family\",\"\"))))))))","v":""},{"$f":"IF('Simplified Loader'!AC81=\"English\",\"English\",IF('Simplified Loader'!AC81=\"French\",\"French\",IF('Simplified Loader'!AC81=\"E\",\"English\",IF('Simplified Loader'!AC81=\"F\",\"French\",\"\"))))","v":""},{"$f":"IF('Simplified Loader'!AB81=\"Yes\",\"Yes\",IF('Simplified Loader'!AB81=\"No\",\"No\",IF('Simplified Loader'!AB81=\"Y\",\"Yes\",IF('Simplified Loader'!AB81=\"N\",\"No\",\"\"))))","v":""},{"$f":"IF('Simplified Loader'!AD81>0,'Simplified Loader'!AD81,\"\")","v":""},{"$f":"IF('Simplified Loader'!M81>0,'Simplified Loader'!M81,\"\")","v":""},{"$f":"IF('Simplified Loader'!N81>0,'Simplified Loader'!N81,\"\")","v":""},{"$f":"IF('Simplified Loader'!O81>0,'Simplified Loader'!O81,\"\")","v":""},{"$f":"IF('Simplified Loader'!I81=\"Waive\",\"Yes\",\"\")","v":""},{"$f":"IF('Simplified Loader'!I81=\"Waive\",\"Yes\",\"\")","v":""},{"$f":"IF('Simplified Loader'!AE81>0,'Simplified Loader'!AE81,\"\")","v":""},{"$f":"IF('Simplified Loader'!AF81>0,'Simplified Loader'!AF81,\"\")","v":""},{"$f":"IF('Simplified Loader'!AG81>0,'Simplified Loader'!AG81,\"\")","v":""},{"$f":"IF('Simplified Loader'!AH81>0,'Simplified Loader'!AH81,\"\")","v":""},{"$f":"IF('Simplified Loader'!AI81>0,'Simplified Loader'!AI81,\"\")","v":" "},{"$f":"IF('Simplified Loader'!AJ81>0,'Simplified Loader'!AJ81,\"\")","v":" "},{"$f":"IF('Simplified Loader'!W81>0,'Simplified Loader'!W81&\" \",\"\")&IF('Simplified Loader'!V81>0,'Simplified Loader'!V81,\"\")","v":""},null,{"$f":"IF('Simplified Loader'!X81>0,'Simplified Loader'!X81,\"\")","v":""},{"$f":"IF('Simplified Loader'!Y81>0,'Simplified Loader'!Y81,\"\")","v":""},{"$f":"IF('Simplified Loader'!Z81>0,'Simplified Loader'!Z81,\"\")","v":""},{"$f":"IF('Simplified Loader'!AA81>0,'Simplified Loader'!AA81,\"\")","v":""},{"$f":"IF('Simplified Loader'!E81>0,'Simplified Loader'!E81,\"\")","v":""},{"$f":"IF('Simplified Loader'!AK81>0,'Simplified Loader'!AK81,\"\")","v":""},{"$f":"IF('Simplified Loader'!AL81>0,'Simplified Loader'!AL81,\"\")","v":""},{"$f":"IF('Simplified Loader'!AM81>0,'Simplified Loader'!AM81,\"\")","v":""},{"$f":"IF('Simplified Loader'!AN81=\"Male\",\"Male\",IF('Simplified Loader'!AN81=\"Female\",\"Female\",IF('Simplified Loader'!AN81=\"M\",\"Male\",IF('Simplified Loader'!AN81=\"F\",\"Female\",\"\"))))","v":""},{"$f":"IF('Simplified Loader'!AO81=\"Single\",\"Single\",IF('Simplified Loader'!AO81=\"Family\",\"Family\",IF('Simplified Loader'!AO81=\"S\",\"Single\",IF('Simplified Loader'!AO81=\"F\",\"Family\",\"\"))))","v":""},{"$f":"IF('Simplified Loader'!AP81=\"Single\",\"Single\",IF('Simplified Loader'!AP81=\"Family\",\"Family\",IF('Simplified Loader'!AP81=\"S\",\"Single\",IF('Simplified Loader'!AP81=\"F\",\"Family\",\"\"))))","v":""},{"$f":"IF('Simplified Loader'!AQ81>0,'Simplified Loader'!AQ81,\"\")","v":""},{"$f":"IF('Simplified Loader'!AR81=\"Yes\",\"Yes\",IF('Simplified Loader'!AR81=\"No\",\"No\",IF('Simplified Loader'!AR81=\"Y\",\"Yes\",IF('Simplified Loader'!AR81=\"N\",\"No\",\"\"))))","v":""},{"$f":"IF('Simplified Loader'!AS81>0,'Simplified Loader'!AS81,\"\")","v":""},{"$f":"IF('Simplified Loader'!AT81>0,'Simplified Loader'!AT81,\"\")","v":""},{"$f":"IF('Simplified Loader'!AU81>0,'Simplified Loader'!AU81,\"\")","v":""},{"$f":"IF('Simplified Loader'!AV81=\"Male\",\"Male\",IF('Simplified Loader'!AV81=\"Female\",\"Female\",IF('Simplified Loader'!AV81=\"M\",\"Male\",IF('Simplified Loader'!AV81=\"F\",\"Female\",\"\"))))","v":""},{"$f":"IF('Simplified Loader'!AW81=\"Yes\",\"Yes\",IF('Simplified Loader'!AW81=\"No\",\"No\",IF('Simplified Loader'!AW81=\"Y\",\"Yes\",IF('Simplified Loader'!AW81=\"N\",\"No\",\"\"))))","v":""},{"$f":"IF('Simplified Loader'!AX81=\"Yes\",\"Yes\",IF('Simplified Loader'!AX81=\"No\",\"No\",IF('Simplified Loader'!AX81=\"Y\",\"Yes\",IF('Simplified Loader'!AX81=\"N\",\"No\",\"\"))))","v":""},{"$f":"IF('Simplified Loader'!AY81>0,'Simplified Loader'!AY81,\"\")","v":""},{"$f":"IF('Simplified Loader'!AZ81>0,'Simplified Loader'!AZ81,\"\")","v":""},{"$f":"IF('Simplified Loader'!BA81>0,'Simplified Loader'!BA81,\"\")","v":""},{"$f":"IF('Simplified Loader'!BB81=\"Male\",\"Male\",IF('Simplified Loader'!BB81=\"Female\",\"Female\",IF('Simplified Loader'!BB81=\"M\",\"Male\",IF('Simplified Loader'!BB81=\"F\",\"Female\",\"\"))))","v":""},{"$f":"IF('Simplified Loader'!BC81=\"Yes\",\"Yes\",IF('Simplified Loader'!BC81=\"No\",\"No\",IF('Simplified Loader'!BC81=\"Y\",\"Yes\",IF('Simplified Loader'!BC81=\"N\",\"No\",\"\"))))","v":""},{"$f":"IF('Simplified Loader'!BD81=\"Yes\",\"Yes\",IF('Simplified Loader'!BD81=\"No\",\"No\",IF('Simplified Loader'!BD81=\"Y\",\"Yes\",IF('Simplified Loader'!BD81=\"N\",\"No\",\"\"))))","v":""},{"$f":"IF('Simplified Loader'!BE81>0,'Simplified Loader'!BE81,\"\")","v":""},{"$f":"IF('Simplified Loader'!BF81>0,'Simplified Loader'!BF81,\"\")","v":""},{"$f":"IF('Simplified Loader'!BG81>0,'Simplified Loader'!BG81,\"\")","v":""},{"$f":"IF('Simplified Loader'!BH81=\"Male\",\"Male\",IF('Simplified Loader'!BH81=\"Female\",\"Female\",IF('Simplified Loader'!BH81=\"M\",\"Male\",IF('Simplified Loader'!BH81=\"F\",\"Female\",\"\"))))","v":""},{"$f":"IF('Simplified Loader'!BI81=\"Yes\",\"Yes\",IF('Simplified Loader'!BI81=\"No\",\"No\",IF('Simplified Loader'!BI81=\"Y\",\"Yes\",IF('Simplified Loader'!BI81=\"N\",\"No\",\"\"))))","v":""},{"$f":"IF('Simplified Loader'!BJ81=\"Yes\",\"Yes\",IF('Simplified Loader'!BJ81=\"No\",\"No\",IF('Simplified Loader'!BJ81=\"Y\",\"Yes\",IF('Simplified Loader'!BJ81=\"N\",\"No\",\"\"))))","v":""},{"$f":"IF('Simplified Loader'!BK81>0,'Simplified Loader'!BK81,\"\")","v":""},{"$f":"IF('Simplified Loader'!BL81>0,'Simplified Loader'!BL81,\"\")","v":""},{"$f":"IF('Simplified Loader'!BM81>0,'Simplified Loader'!BM81,\"\")","v":""},{"$f":"IF('Simplified Loader'!BN81=\"Male\",\"Male\",IF('Simplified Loader'!BN81=\"Female\",\"Female\",IF('Simplified Loader'!BN81=\"M\",\"Male\",IF('Simplified Loader'!BN81=\"F\",\"Female\",\"\"))))","v":""},{"$f":"IF('Simplified Loader'!BO81=\"Yes\",\"Yes\",IF('Simplified Loader'!BO81=\"No\",\"No\",IF('Simplified Loader'!BO81=\"Y\",\"Yes\",IF('Simplified Loader'!BO81=\"N\",\"No\",\"\"))))","v":""},{"$f":"IF('Simplified Loader'!BP81=\"Yes\",\"Yes\",IF('Simplified Loader'!BP81=\"No\",\"No\",IF('Simplified Loader'!BP81=\"Y\",\"Yes\",IF('Simplified Loader'!BP81=\"N\",\"No\",\"\"))))","v":""},{"$f":"IF('Simplified Loader'!BQ81>0,'Simplified Loader'!BQ81,\"\")","v":""},{"$f":"IF('Simplified Loader'!BR81>0,'Simplified Loader'!BR81,\"\")","v":""},{"$f":"IF('Simplified Loader'!BS81>0,'Simplified Loader'!BS81,\"\")","v":""},{"$f":"IF('Simplified Loader'!BT81=\"Male\",\"Male\",IF('Simplified Loader'!BT81=\"Female\",\"Female\",IF('Simplified Loader'!BT81=\"M\",\"Male\",IF('Simplified Loader'!BT81=\"F\",\"Female\",\"\"))))","v":""},{"$f":"IF('Simplified Loader'!BU81=\"Yes\",\"Yes\",IF('Simplified Loader'!BU81=\"No\",\"No\",IF('Simplified Loader'!BU81=\"Y\",\"Yes\",IF('Simplified Loader'!BU81=\"N\",\"No\",\"\"))))","v":""},{"$f":"IF('Simplified Loader'!BV81=\"Yes\",\"Yes\",IF('Simplified Loader'!BV81=\"No\",\"No\",IF('Simplified Loader'!BV81=\"Y\",\"Yes\",IF('Simplified Loader'!BV81=\"N\",\"No\",\"\"))))","v":""},{"$f":"IF('Simplified Loader'!BW81>0,'Simplified Loader'!BW81,\"\")","v":""},{"$f":"IF('Simplified Loader'!BX81>0,'Simplified Loader'!BX81,\"\")","v":""},{"$f":"IF('Simplified Loader'!BY81>0,'Simplified Loader'!BY81,\"\")","v":""},{"$f":"IF('Simplified Loader'!BZ81=\"Male\",\"Male\",IF('Simplified Loader'!BZ81=\"Female\",\"Female\",IF('Simplified Loader'!BZ81=\"M\",\"Male\",IF('Simplified Loader'!BZ81=\"F\",\"Female\",\"\"))))","v":""},{"$f":"IF('Simplified Loader'!CA81=\"Yes\",\"Yes\",IF('Simplified Loader'!CA81=\"No\",\"No\",IF('Simplified Loader'!CA81=\"Y\",\"Yes\",IF('Simplified Loader'!CA81=\"N\",\"No\",\"\"))))","v":""},{"$f":"IF('Simplified Loader'!CB81=\"Yes\",\"Yes\",IF('Simplified Loader'!CB81=\"No\",\"No\",IF('Simplified Loader'!CB81=\"Y\",\"Yes\",IF('Simplified Loader'!CB81=\"N\",\"No\",\"\"))))","v":""},{"$f":"IF('Simplified Loader'!CH81>0,'Simplified Loader'!CH81,\"\")","v":"    "}]
[{"$f":"IF('Simplified Loader'!A82>0,'Simplified Loader'!A82,\"\")","v":""},{"$f":"IF('Simplified Loader'!B82>0,'Simplified Loader'!B82,\"\")","v":""},{"$f":"IF('Simplified Loader'!C82>0,'Simplified Loader'!C82,\"\")","v":""},{"$f":"IF('Simplified Loader'!D82>0,'Simplified Loader'!D82,\"\")","v":""},{"$f":"IF('Simplified Loader'!P82>0,TEXT('Simplified Loader'!P82,\"000\"),\"\")","v":""},{"$f":"IF('Simplified Loader'!Q82>0,'Simplified Loader'!Q82,\"\")","v":""},{"$f":"IF('Simplified Loader'!R82>0,'Simplified Loader'!R82,\"\")","v":""},{"$f":"IF('Simplified Loader'!F82>0,DATEVALUE(TEXT('Simplified Loader'!F82,\"yyyy-mm-dd\")),\"\")","v":""},{"$f":"IF('Simplified Loader'!L82>0,DATEVALUE(TEXT('Simplified Loader'!L82,\"yyyy-mm-dd\")),\"\")","v":""},{"$f":"IF('Simplified Loader'!Y82>0,'Simplified Loader'!Y82,\"\")","v":""},{"$f":"IF('Simplified Loader'!T82>0,'Simplified Loader'!T82,\"\")","v":""},{"$f":"IF('Simplified Loader'!G82=\"Male\",\"Male\",IF('Simplified Loader'!G82=\"Female\",\"Female\",IF('Simplified Loader'!G82=\"M\",\"Male\",IF('Simplified Loader'!G82=\"F\",\"Female\",\"\"))))","v":""},{"$f":"IF('Simplified Loader'!U82=\"Yes\",\"Yes\",IF('Simplified Loader'!U82=\"No\",\"No\",IF('Simplified Loader'!U82=\"Y\",\"Yes\",IF('Simplified Loader'!U82=\"N\",\"No\",\"\"))))","v":""},{"$f":"IF('Simplified Loader'!I82=\"Single\",\"Single\",IF('Simplified Loader'!I82=\"Family\",\"Family\",IF('Simplified Loader'!I82=\"Waive\",\"Family\",IF('Simplified Loader'!I82=\"Single Parent\",\"Family\",IF('Simplified Loader'!I82=\"Couple\",\"Family\",IF('Simplified Loader'!I82=\"In force\",\"Family\",IF('Simplified Loader'!I82=\"Applies\",\"Family\",IF('Simplified Loader'!I82=\"Applicable\",\"Family\",\"\"))))))))","v":""},{"$f":"IF('Simplified Loader'!AC82=\"English\",\"English\",IF('Simplified Loader'!AC82=\"French\",\"French\",IF('Simplified Loader'!AC82=\"E\",\"English\",IF('Simplified Loader'!AC82=\"F\",\"French\",\"\"))))","v":""},{"$f":"IF('Simplified Loader'!AB82=\"Yes\",\"Yes\",IF('Simplified Loader'!AB82=\"No\",\"No\",IF('Simplified Loader'!AB82=\"Y\",\"Yes\",IF('Simplified Loader'!AB82=\"N\",\"No\",\"\"))))","v":""},{"$f":"IF('Simplified Loader'!AD82>0,'Simplified Loader'!AD82,\"\")","v":""},{"$f":"IF('Simplified Loader'!M82>0,'Simplified Loader'!M82,\"\")","v":""},{"$f":"IF('Simplified Loader'!N82>0,'Simplified Loader'!N82,\"\")","v":""},{"$f":"IF('Simplified Loader'!O82>0,'Simplified Loader'!O82,\"\")","v":""},{"$f":"IF('Simplified Loader'!I82=\"Waive\",\"Yes\",\"\")","v":""},{"$f":"IF('Simplified Loader'!I82=\"Waive\",\"Yes\",\"\")","v":""},{"$f":"IF('Simplified Loader'!AE82>0,'Simplified Loader'!AE82,\"\")","v":""},{"$f":"IF('Simplified Loader'!AF82>0,'Simplified Loader'!AF82,\"\")","v":""},{"$f":"IF('Simplified Loader'!AG82>0,'Simplified Loader'!AG82,\"\")","v":""},{"$f":"IF('Simplified Loader'!AH82>0,'Simplified Loader'!AH82,\"\")","v":""},{"$f":"IF('Simplified Loader'!AI82>0,'Simplified Loader'!AI82,\"\")","v":" "},{"$f":"IF('Simplified Loader'!AJ82>0,'Simplified Loader'!AJ82,\"\")","v":" "},{"$f":"IF('Simplified Loader'!W82>0,'Simplified Loader'!W82&\" \",\"\")&IF('Simplified Loader'!V82>0,'Simplified Loader'!V82,\"\")","v":""},null,{"$f":"IF('Simplified Loader'!X82>0,'Simplified Loader'!X82,\"\")","v":""},{"$f":"IF('Simplified Loader'!Y82>0,'Simplified Loader'!Y82,\"\")","v":""},{"$f":"IF('Simplified Loader'!Z82>0,'Simplified Loader'!Z82,\"\")","v":""},{"$f":"IF('Simplified Loader'!AA82>0,'Simplified Loader'!AA82,\"\")","v":""},{"$f":"IF('Simplified Loader'!E82>0,'Simplified Loader'!E82,\"\")","v":""},{"$f":"IF('Simplified Loader'!AK82>0,'Simplified Loader'!AK82,\"\")","v":""},{"$f":"IF('Simplified Loader'!AL82>0,'Simplified Loader'!AL82,\"\")","v":""},{"$f":"IF('Simplified Loader'!AM82>0,'Simplified Loader'!AM82,\"\")","v":""},{"$f":"IF('Simplified Loader'!AN82=\"Male\",\"Male\",IF('Simplified Loader'!AN82=\"Female\",\"Female\",IF('Simplified Loader'!AN82=\"M\",\"Male\",IF('Simplified Loader'!AN82=\"F\",\"Female\",\"\"))))","v":""},{"$f":"IF('Simplified Loader'!AO82=\"Single\",\"Single\",IF('Simplified Loader'!AO82=\"Family\",\"Family\",IF('Simplified Loader'!AO82=\"S\",\"Single\",IF('Simplified Loader'!AO82=\"F\",\"Family\",\"\"))))","v":""},{"$f":"IF('Simplified Loader'!AP82=\"Single\",\"Single\",IF('Simplified Loader'!AP82=\"Family\",\"Family\",IF('Simplified Loader'!AP82=\"S\",\"Single\",IF('Simplified Loader'!AP82=\"F\",\"Family\",\"\"))))","v":""},{"$f":"IF('Simplified Loader'!AQ82>0,'Simplified Loader'!AQ82,\"\")","v":""},{"$f":"IF('Simplified Loader'!AR82=\"Yes\",\"Yes\",IF('Simplified Loader'!AR82=\"No\",\"No\",IF('Simplified Loader'!AR82=\"Y\",\"Yes\",IF('Simplified Loader'!AR82=\"N\",\"No\",\"\"))))","v":""},{"$f":"IF('Simplified Loader'!AS82>0,'Simplified Loader'!AS82,\"\")","v":""},{"$f":"IF('Simplified Loader'!AT82>0,'Simplified Loader'!AT82,\"\")","v":""},{"$f":"IF('Simplified Loader'!AU82>0,'Simplified Loader'!AU82,\"\")","v":""},{"$f":"IF('Simplified Loader'!AV82=\"Male\",\"Male\",IF('Simplified Loader'!AV82=\"Female\",\"Female\",IF('Simplified Loader'!AV82=\"M\",\"Male\",IF('Simplified Loader'!AV82=\"F\",\"Female\",\"\"))))","v":""},{"$f":"IF('Simplified Loader'!AW82=\"Yes\",\"Yes\",IF('Simplified Loader'!AW82=\"No\",\"No\",IF('Simplified Loader'!AW82=\"Y\",\"Yes\",IF('Simplified Loader'!AW82=\"N\",\"No\",\"\"))))","v":""},{"$f":"IF('Simplified Loader'!AX82=\"Yes\",\"Yes\",IF('Simplified Loader'!AX82=\"No\",\"No\",IF('Simplified Loader'!AX82=\"Y\",\"Yes\",IF('Simplified Loader'!AX82=\"N\",\"No\",\"\"))))","v":""},{"$f":"IF('Simplified Loader'!AY82>0,'Simplified Loader'!AY82,\"\")","v":""},{"$f":"IF('Simplified Loader'!AZ82>0,'Simplified Loader'!AZ82,\"\")","v":""},{"$f":"IF('Simplified Loader'!BA82>0,'Simplified Loader'!BA82,\"\")","v":""},{"$f":"IF('Simplified Loader'!BB82=\"Male\",\"Male\",IF('Simplified Loader'!BB82=\"Female\",\"Female\",IF('Simplified Loader'!BB82=\"M\",\"Male\",IF('Simplified Loader'!BB82=\"F\",\"Female\",\"\"))))","v":""},{"$f":"IF('Simplified Loader'!BC82=\"Yes\",\"Yes\",IF('Simplified Loader'!BC82=\"No\",\"No\",IF('Simplified Loader'!BC82=\"Y\",\"Yes\",IF('Simplified Loader'!BC82=\"N\",\"No\",\"\"))))","v":""},{"$f":"IF('Simplified Loader'!BD82=\"Yes\",\"Yes\",IF('Simplified Loader'!BD82=\"No\",\"No\",IF('Simplified Loader'!BD82=\"Y\",\"Yes\",IF('Simplified Loader'!BD82=\"N\",\"No\",\"\"))))","v":""},{"$f":"IF('Simplified Loader'!BE82>0,'Simplified Loader'!BE82,\"\")","v":""},{"$f":"IF('Simplified Loader'!BF82>0,'Simplified Loader'!BF82,\"\")","v":""},{"$f":"IF('Simplified Loader'!BG82>0,'Simplified Loader'!BG82,\"\")","v":""},{"$f":"IF('Simplified Loader'!BH82=\"Male\",\"Male\",IF('Simplified Loader'!BH82=\"Female\",\"Female\",IF('Simplified Loader'!BH82=\"M\",\"Male\",IF('Simplified Loader'!BH82=\"F\",\"Female\",\"\"))))","v":""},{"$f":"IF('Simplified Loader'!BI82=\"Yes\",\"Yes\",IF('Simplified Loader'!BI82=\"No\",\"No\",IF('Simplified Loader'!BI82=\"Y\",\"Yes\",IF('Simplified Loader'!BI82=\"N\",\"No\",\"\"))))","v":""},{"$f":"IF('Simplified Loader'!BJ82=\"Yes\",\"Yes\",IF('Simplified Loader'!BJ82=\"No\",\"No\",IF('Simplified Loader'!BJ82=\"Y\",\"Yes\",IF('Simplified Loader'!BJ82=\"N\",\"No\",\"\"))))","v":""},{"$f":"IF('Simplified Loader'!BK82>0,'Simplified Loader'!BK82,\"\")","v":""},{"$f":"IF('Simplified Loader'!BL82>0,'Simplified Loader'!BL82,\"\")","v":""},{"$f":"IF('Simplified Loader'!BM82>0,'Simplified Loader'!BM82,\"\")","v":""},{"$f":"IF('Simplified Loader'!BN82=\"Male\",\"Male\",IF('Simplified Loader'!BN82=\"Female\",\"Female\",IF('Simplified Loader'!BN82=\"M\",\"Male\",IF('Simplified Loader'!BN82=\"F\",\"Female\",\"\"))))","v":""},{"$f":"IF('Simplified Loader'!BO82=\"Yes\",\"Yes\",IF('Simplified Loader'!BO82=\"No\",\"No\",IF('Simplified Loader'!BO82=\"Y\",\"Yes\",IF('Simplified Loader'!BO82=\"N\",\"No\",\"\"))))","v":""},{"$f":"IF('Simplified Loader'!BP82=\"Yes\",\"Yes\",IF('Simplified Loader'!BP82=\"No\",\"No\",IF('Simplified Loader'!BP82=\"Y\",\"Yes\",IF('Simplified Loader'!BP82=\"N\",\"No\",\"\"))))","v":""},{"$f":"IF('Simplified Loader'!BQ82>0,'Simplified Loader'!BQ82,\"\")","v":""},{"$f":"IF('Simplified Loader'!BR82>0,'Simplified Loader'!BR82,\"\")","v":""},{"$f":"IF('Simplified Loader'!BS82>0,'Simplified Loader'!BS82,\"\")","v":""},{"$f":"IF('Simplified Loader'!BT82=\"Male\",\"Male\",IF('Simplified Loader'!BT82=\"Female\",\"Female\",IF('Simplified Loader'!BT82=\"M\",\"Male\",IF('Simplified Loader'!BT82=\"F\",\"Female\",\"\"))))","v":""},{"$f":"IF('Simplified Loader'!BU82=\"Yes\",\"Yes\",IF('Simplified Loader'!BU82=\"No\",\"No\",IF('Simplified Loader'!BU82=\"Y\",\"Yes\",IF('Simplified Loader'!BU82=\"N\",\"No\",\"\"))))","v":""},{"$f":"IF('Simplified Loader'!BV82=\"Yes\",\"Yes\",IF('Simplified Loader'!BV82=\"No\",\"No\",IF('Simplified Loader'!BV82=\"Y\",\"Yes\",IF('Simplified Loader'!BV82=\"N\",\"No\",\"\"))))","v":""},{"$f":"IF('Simplified Loader'!BW82>0,'Simplified Loader'!BW82,\"\")","v":""},{"$f":"IF('Simplified Loader'!BX82>0,'Simplified Loader'!BX82,\"\")","v":""},{"$f":"IF('Simplified Loader'!BY82>0,'Simplified Loader'!BY82,\"\")","v":""},{"$f":"IF('Simplified Loader'!BZ82=\"Male\",\"Male\",IF('Simplified Loader'!BZ82=\"Female\",\"Female\",IF('Simplified Loader'!BZ82=\"M\",\"Male\",IF('Simplified Loader'!BZ82=\"F\",\"Female\",\"\"))))","v":""},{"$f":"IF('Simplified Loader'!CA82=\"Yes\",\"Yes\",IF('Simplified Loader'!CA82=\"No\",\"No\",IF('Simplified Loader'!CA82=\"Y\",\"Yes\",IF('Simplified Loader'!CA82=\"N\",\"No\",\"\"))))","v":""},{"$f":"IF('Simplified Loader'!CB82=\"Yes\",\"Yes\",IF('Simplified Loader'!CB82=\"No\",\"No\",IF('Simplified Loader'!CB82=\"Y\",\"Yes\",IF('Simplified Loader'!CB82=\"N\",\"No\",\"\"))))","v":""},{"$f":"IF('Simplified Loader'!CH82>0,'Simplified Loader'!CH82,\"\")","v":"    "}]
[{"$f":"IF('Simplified Loader'!A83>0,'Simplified Loader'!A83,\"\")","v":""},{"$f":"IF('Simplified Loader'!B83>0,'Simplified Loader'!B83,\"\")","v":""},{"$f":"IF('Simplified Loader'!C83>0,'Simplified Loader'!C83,\"\")","v":""},{"$f":"IF('Simplified Loader'!D83>0,'Simplified Loader'!D83,\"\")","v":""},{"$f":"IF('Simplified Loader'!P83>0,TEXT('Simplified Loader'!P83,\"000\"),\"\")","v":""},{"$f":"IF('Simplified Loader'!Q83>0,'Simplified Loader'!Q83,\"\")","v":""},{"$f":"IF('Simplified Loader'!R83>0,'Simplified Loader'!R83,\"\")","v":""},{"$f":"IF('Simplified Loader'!F83>0,DATEVALUE(TEXT('Simplified Loader'!F83,\"yyyy-mm-dd\")),\"\")","v":""},{"$f":"IF('Simplified Loader'!L83>0,DATEVALUE(TEXT('Simplified Loader'!L83,\"yyyy-mm-dd\")),\"\")","v":""},{"$f":"IF('Simplified Loader'!Y83>0,'Simplified Loader'!Y83,\"\")","v":""},{"$f":"IF('Simplified Loader'!T83>0,'Simplified Loader'!T83,\"\")","v":""},{"$f":"IF('Simplified Loader'!G83=\"Male\",\"Male\",IF('Simplified Loader'!G83=\"Female\",\"Female\",IF('Simplified Loader'!G83=\"M\",\"Male\",IF('Simplified Loader'!G83=\"F\",\"Female\",\"\"))))","v":""},{"$f":"IF('Simplified Loader'!U83=\"Yes\",\"Yes\",IF('Simplified Loader'!U83=\"No\",\"No\",IF('Simplified Loader'!U83=\"Y\",\"Yes\",IF('Simplified Loader'!U83=\"N\",\"No\",\"\"))))","v":""},{"$f":"IF('Simplified Loader'!I83=\"Single\",\"Single\",IF('Simplified Loader'!I83=\"Family\",\"Family\",IF('Simplified Loader'!I83=\"Waive\",\"Family\",IF('Simplified Loader'!I83=\"Single Parent\",\"Family\",IF('Simplified Loader'!I83=\"Couple\",\"Family\",IF('Simplified Loader'!I83=\"In force\",\"Family\",IF('Simplified Loader'!I83=\"Applies\",\"Family\",IF('Simplified Loader'!I83=\"Applicable\",\"Family\",\"\"))))))))","v":""},{"$f":"IF('Simplified Loader'!AC83=\"English\",\"English\",IF('Simplified Loader'!AC83=\"French\",\"French\",IF('Simplified Loader'!AC83=\"E\",\"English\",IF('Simplified Loader'!AC83=\"F\",\"French\",\"\"))))","v":""},{"$f":"IF('Simplified Loader'!AB83=\"Yes\",\"Yes\",IF('Simplified Loader'!AB83=\"No\",\"No\",IF('Simplified Loader'!AB83=\"Y\",\"Yes\",IF('Simplified Loader'!AB83=\"N\",\"No\",\"\"))))","v":""},{"$f":"IF('Simplified Loader'!AD83>0,'Simplified Loader'!AD83,\"\")","v":""},{"$f":"IF('Simplified Loader'!M83>0,'Simplified Loader'!M83,\"\")","v":""},{"$f":"IF('Simplified Loader'!N83>0,'Simplified Loader'!N83,\"\")","v":""},{"$f":"IF('Simplified Loader'!O83>0,'Simplified Loader'!O83,\"\")","v":""},{"$f":"IF('Simplified Loader'!I83=\"Waive\",\"Yes\",\"\")","v":""},{"$f":"IF('Simplified Loader'!I83=\"Waive\",\"Yes\",\"\")","v":""},{"$f":"IF('Simplified Loader'!AE83>0,'Simplified Loader'!AE83,\"\")","v":""},{"$f":"IF('Simplified Loader'!AF83>0,'Simplified Loader'!AF83,\"\")","v":""},{"$f":"IF('Simplified Loader'!AG83>0,'Simplified Loader'!AG83,\"\")","v":""},{"$f":"IF('Simplified Loader'!AH83>0,'Simplified Loader'!AH83,\"\")","v":""},{"$f":"IF('Simplified Loader'!AI83>0,'Simplified Loader'!AI83,\"\")","v":" "},{"$f":"IF('Simplified Loader'!AJ83>0,'Simplified Loader'!AJ83,\"\")","v":" "},{"$f":"IF('Simplified Loader'!W83>0,'Simplified Loader'!W83&\" \",\"\")&IF('Simplified Loader'!V83>0,'Simplified Loader'!V83,\"\")","v":""},null,{"$f":"IF('Simplified Loader'!X83>0,'Simplified Loader'!X83,\"\")","v":""},{"$f":"IF('Simplified Loader'!Y83>0,'Simplified Loader'!Y83,\"\")","v":""},{"$f":"IF('Simplified Loader'!Z83>0,'Simplified Loader'!Z83,\"\")","v":""},{"$f":"IF('Simplified Loader'!AA83>0,'Simplified Loader'!AA83,\"\")","v":""},{"$f":"IF('Simplified Loader'!E83>0,'Simplified Loader'!E83,\"\")","v":""},{"$f":"IF('Simplified Loader'!AK83>0,'Simplified Loader'!AK83,\"\")","v":""},{"$f":"IF('Simplified Loader'!AL83>0,'Simplified Loader'!AL83,\"\")","v":""},{"$f":"IF('Simplified Loader'!AM83>0,'Simplified Loader'!AM83,\"\")","v":""},{"$f":"IF('Simplified Loader'!AN83=\"Male\",\"Male\",IF('Simplified Loader'!AN83=\"Female\",\"Female\",IF('Simplified Loader'!AN83=\"M\",\"Male\",IF('Simplified Loader'!AN83=\"F\",\"Female\",\"\"))))","v":""},{"$f":"IF('Simplified Loader'!AO83=\"Single\",\"Single\",IF('Simplified Loader'!AO83=\"Family\",\"Family\",IF('Simplified Loader'!AO83=\"S\",\"Single\",IF('Simplified Loader'!AO83=\"F\",\"Family\",\"\"))))","v":""},{"$f":"IF('Simplified Loader'!AP83=\"Single\",\"Single\",IF('Simplified Loader'!AP83=\"Family\",\"Family\",IF('Simplified Loader'!AP83=\"S\",\"Single\",IF('Simplified Loader'!AP83=\"F\",\"Family\",\"\"))))","v":""},{"$f":"IF('Simplified Loader'!AQ83>0,'Simplified Loader'!AQ83,\"\")","v":""},{"$f":"IF('Simplified Loader'!AR83=\"Yes\",\"Yes\",IF('Simplified Loader'!AR83=\"No\",\"No\",IF('Simplified Loader'!AR83=\"Y\",\"Yes\",IF('Simplified Loader'!AR83=\"N\",\"No\",\"\"))))","v":""},{"$f":"IF('Simplified Loader'!AS83>0,'Simplified Loader'!AS83,\"\")","v":""},{"$f":"IF('Simplified Loader'!AT83>0,'Simplified Loader'!AT83,\"\")","v":""},{"$f":"IF('Simplified Loader'!AU83>0,'Simplified Loader'!AU83,\"\")","v":""},{"$f":"IF('Simplified Loader'!AV83=\"Male\",\"Male\",IF('Simplified Loader'!AV83=\"Female\",\"Female\",IF('Simplified Loader'!AV83=\"M\",\"Male\",IF('Simplified Loader'!AV83=\"F\",\"Female\",\"\"))))","v":""},{"$f":"IF('Simplified Loader'!AW83=\"Yes\",\"Yes\",IF('Simplified Loader'!AW83=\"No\",\"No\",IF('Simplified Loader'!AW83=\"Y\",\"Yes\",IF('Simplified Loader'!AW83=\"N\",\"No\",\"\"))))","v":""},{"$f":"IF('Simplified Loader'!AX83=\"Yes\",\"Yes\",IF('Simplified Loader'!AX83=\"No\",\"No\",IF('Simplified Loader'!AX83=\"Y\",\"Yes\",IF('Simplified Loader'!AX83=\"N\",\"No\",\"\"))))","v":""},{"$f":"IF('Simplified Loader'!AY83>0,'Simplified Loader'!AY83,\"\")","v":""},{"$f":"IF('Simplified Loader'!AZ83>0,'Simplified Loader'!AZ83,\"\")","v":""},{"$f":"IF('Simplified Loader'!BA83>0,'Simplified Loader'!BA83,\"\")","v":""},{"$f":"IF('Simplified Loader'!BB83=\"Male\",\"Male\",IF('Simplified Loader'!BB83=\"Female\",\"Female\",IF('Simplified Loader'!BB83=\"M\",\"Male\",IF('Simplified Loader'!BB83=\"F\",\"Female\",\"\"))))","v":""},{"$f":"IF('Simplified Loader'!BC83=\"Yes\",\"Yes\",IF('Simplified Loader'!BC83=\"No\",\"No\",IF('Simplified Loader'!BC83=\"Y\",\"Yes\",IF('Simplified Loader'!BC83=\"N\",\"No\",\"\"))))","v":""},{"$f":"IF('Simplified Loader'!BD83=\"Yes\",\"Yes\",IF('Simplified Loader'!BD83=\"No\",\"No\",IF('Simplified Loader'!BD83=\"Y\",\"Yes\",IF('Simplified Loader'!BD83=\"N\",\"No\",\"\"))))","v":""},{"$f":"IF('Simplified Loader'!BE83>0,'Simplified Loader'!BE83,\"\")","v":""},{"$f":"IF('Simplified Loader'!BF83>0,'Simplified Loader'!BF83,\"\")","v":""},{"$f":"IF('Simplified Loader'!BG83>0,'Simplified Loader'!BG83,\"\")","v":""},{"$f":"IF('Simplified Loader'!BH83=\"Male\",\"Male\",IF('Simplified Loader'!BH83=\"Female\",\"Female\",IF('Simplified Loader'!BH83=\"M\",\"Male\",IF('Simplified Loader'!BH83=\"F\",\"Female\",\"\"))))","v":""},{"$f":"IF('Simplified Loader'!BI83=\"Yes\",\"Yes\",IF('Simplified Loader'!BI83=\"No\",\"No\",IF('Simplified Loader'!BI83=\"Y\",\"Yes\",IF('Simplified Loader'!BI83=\"N\",\"No\",\"\"))))","v":""},{"$f":"IF('Simplified Loader'!BJ83=\"Yes\",\"Yes\",IF('Simplified Loader'!BJ83=\"No\",\"No\",IF('Simplified Loader'!BJ83=\"Y\",\"Yes\",IF('Simplified Loader'!BJ83=\"N\",\"No\",\"\"))))","v":""},{"$f":"IF('Simplified Loader'!BK83>0,'Simplified Loader'!BK83,\"\")","v":""},{"$f":"IF('Simplified Loader'!BL83>0,'Simplified Loader'!BL83,\"\")","v":""},{"$f":"IF('Simplified Loader'!BM83>0,'Simplified Loader'!BM83,\"\")","v":""},{"$f":"IF('Simplified Loader'!BN83=\"Male\",\"Male\",IF('Simplified Loader'!BN83=\"Female\",\"Female\",IF('Simplified Loader'!BN83=\"M\",\"Male\",IF('Simplified Loader'!BN83=\"F\",\"Female\",\"\"))))","v":""},{"$f":"IF('Simplified Loader'!BO83=\"Yes\",\"Yes\",IF('Simplified Loader'!BO83=\"No\",\"No\",IF('Simplified Loader'!BO83=\"Y\",\"Yes\",IF('Simplified Loader'!BO83=\"N\",\"No\",\"\"))))","v":""},{"$f":"IF('Simplified Loader'!BP83=\"Yes\",\"Yes\",IF('Simplified Loader'!BP83=\"No\",\"No\",IF('Simplified Loader'!BP83=\"Y\",\"Yes\",IF('Simplified Loader'!BP83=\"N\",\"No\",\"\"))))","v":""},{"$f":"IF('Simplified Loader'!BQ83>0,'Simplified Loader'!BQ83,\"\")","v":""},{"$f":"IF('Simplified Loader'!BR83>0,'Simplified Loader'!BR83,\"\")","v":""},{"$f":"IF('Simplified Loader'!BS83>0,'Simplified Loader'!BS83,\"\")","v":""},{"$f":"IF('Simplified Loader'!BT83=\"Male\",\"Male\",IF('Simplified Loader'!BT83=\"Female\",\"Female\",IF('Simplified Loader'!BT83=\"M\",\"Male\",IF('Simplified Loader'!BT83=\"F\",\"Female\",\"\"))))","v":""},{"$f":"IF('Simplified Loader'!BU83=\"Yes\",\"Yes\",IF('Simplified Loader'!BU83=\"No\",\"No\",IF('Simplified Loader'!BU83=\"Y\",\"Yes\",IF('Simplified Loader'!BU83=\"N\",\"No\",\"\"))))","v":""},{"$f":"IF('Simplified Loader'!BV83=\"Yes\",\"Yes\",IF('Simplified Loader'!BV83=\"No\",\"No\",IF('Simplified Loader'!BV83=\"Y\",\"Yes\",IF('Simplified Loader'!BV83=\"N\",\"No\",\"\"))))","v":""},{"$f":"IF('Simplified Loader'!BW83>0,'Simplified Loader'!BW83,\"\")","v":""},{"$f":"IF('Simplified Loader'!BX83>0,'Simplified Loader'!BX83,\"\")","v":""},{"$f":"IF('Simplified Loader'!BY83>0,'Simplified Loader'!BY83,\"\")","v":""},{"$f":"IF('Simplified Loader'!BZ83=\"Male\",\"Male\",IF('Simplified Loader'!BZ83=\"Female\",\"Female\",IF('Simplified Loader'!BZ83=\"M\",\"Male\",IF('Simplified Loader'!BZ83=\"F\",\"Female\",\"\"))))","v":""},{"$f":"IF('Simplified Loader'!CA83=\"Yes\",\"Yes\",IF('Simplified Loader'!CA83=\"No\",\"No\",IF('Simplified Loader'!CA83=\"Y\",\"Yes\",IF('Simplified Loader'!CA83=\"N\",\"No\",\"\"))))","v":""},{"$f":"IF('Simplified Loader'!CB83=\"Yes\",\"Yes\",IF('Simplified Loader'!CB83=\"No\",\"No\",IF('Simplified Loader'!CB83=\"Y\",\"Yes\",IF('Simplified Loader'!CB83=\"N\",\"No\",\"\"))))","v":""},{"$f":"IF('Simplified Loader'!CH83>0,'Simplified Loader'!CH83,\"\")","v":"    "}]
[{"$f":"IF('Simplified Loader'!A84>0,'Simplified Loader'!A84,\"\")","v":""},{"$f":"IF('Simplified Loader'!B84>0,'Simplified Loader'!B84,\"\")","v":""},{"$f":"IF('Simplified Loader'!C84>0,'Simplified Loader'!C84,\"\")","v":""},{"$f":"IF('Simplified Loader'!D84>0,'Simplified Loader'!D84,\"\")","v":""},{"$f":"IF('Simplified Loader'!P84>0,TEXT('Simplified Loader'!P84,\"000\"),\"\")","v":""},{"$f":"IF('Simplified Loader'!Q84>0,'Simplified Loader'!Q84,\"\")","v":""},{"$f":"IF('Simplified Loader'!R84>0,'Simplified Loader'!R84,\"\")","v":""},{"$f":"IF('Simplified Loader'!F84>0,DATEVALUE(TEXT('Simplified Loader'!F84,\"yyyy-mm-dd\")),\"\")","v":""},{"$f":"IF('Simplified Loader'!L84>0,DATEVALUE(TEXT('Simplified Loader'!L84,\"yyyy-mm-dd\")),\"\")","v":""},{"$f":"IF('Simplified Loader'!Y84>0,'Simplified Loader'!Y84,\"\")","v":""},{"$f":"IF('Simplified Loader'!T84>0,'Simplified Loader'!T84,\"\")","v":""},{"$f":"IF('Simplified Loader'!G84=\"Male\",\"Male\",IF('Simplified Loader'!G84=\"Female\",\"Female\",IF('Simplified Loader'!G84=\"M\",\"Male\",IF('Simplified Loader'!G84=\"F\",\"Female\",\"\"))))","v":""},{"$f":"IF('Simplified Loader'!U84=\"Yes\",\"Yes\",IF('Simplified Loader'!U84=\"No\",\"No\",IF('Simplified Loader'!U84=\"Y\",\"Yes\",IF('Simplified Loader'!U84=\"N\",\"No\",\"\"))))","v":""},{"$f":"IF('Simplified Loader'!I84=\"Single\",\"Single\",IF('Simplified Loader'!I84=\"Family\",\"Family\",IF('Simplified Loader'!I84=\"Waive\",\"Family\",IF('Simplified Loader'!I84=\"Single Parent\",\"Family\",IF('Simplified Loader'!I84=\"Couple\",\"Family\",IF('Simplified Loader'!I84=\"In force\",\"Family\",IF('Simplified Loader'!I84=\"Applies\",\"Family\",IF('Simplified Loader'!I84=\"Applicable\",\"Family\",\"\"))))))))","v":""},{"$f":"IF('Simplified Loader'!AC84=\"English\",\"English\",IF('Simplified Loader'!AC84=\"French\",\"French\",IF('Simplified Loader'!AC84=\"E\",\"English\",IF('Simplified Loader'!AC84=\"F\",\"French\",\"\"))))","v":""},{"$f":"IF('Simplified Loader'!AB84=\"Yes\",\"Yes\",IF('Simplified Loader'!AB84=\"No\",\"No\",IF('Simplified Loader'!AB84=\"Y\",\"Yes\",IF('Simplified Loader'!AB84=\"N\",\"No\",\"\"))))","v":""},{"$f":"IF('Simplified Loader'!AD84>0,'Simplified Loader'!AD84,\"\")","v":""},{"$f":"IF('Simplified Loader'!M84>0,'Simplified Loader'!M84,\"\")","v":""},{"$f":"IF('Simplified Loader'!N84>0,'Simplified Loader'!N84,\"\")","v":""},{"$f":"IF('Simplified Loader'!O84>0,'Simplified Loader'!O84,\"\")","v":""},{"$f":"IF('Simplified Loader'!I84=\"Waive\",\"Yes\",\"\")","v":""},{"$f":"IF('Simplified Loader'!I84=\"Waive\",\"Yes\",\"\")","v":""},{"$f":"IF('Simplified Loader'!AE84>0,'Simplified Loader'!AE84,\"\")","v":""},{"$f":"IF('Simplified Loader'!AF84>0,'Simplified Loader'!AF84,\"\")","v":""},{"$f":"IF('Simplified Loader'!AG84>0,'Simplified Loader'!AG84,\"\")","v":""},{"$f":"IF('Simplified Loader'!AH84>0,'Simplified Loader'!AH84,\"\")","v":""},{"$f":"IF('Simplified Loader'!AI84>0,'Simplified Loader'!AI84,\"\")","v":" "},{"$f":"IF('Simplified Loader'!AJ84>0,'Simplified Loader'!AJ84,\"\")","v":" "},{"$f":"IF('Simplified Loader'!W84>0,'Simplified Loader'!W84&\" \",\"\")&IF('Simplified Loader'!V84>0,'Simplified Loader'!V84,\"\")","v":""},null,{"$f":"IF('Simplified Loader'!X84>0,'Simplified Loader'!X84,\"\")","v":""},{"$f":"IF('Simplified Loader'!Y84>0,'Simplified Loader'!Y84,\"\")","v":""},{"$f":"IF('Simplified Loader'!Z84>0,'Simplified Loader'!Z84,\"\")","v":""},{"$f":"IF('Simplified Loader'!AA84>0,'Simplified Loader'!AA84,\"\")","v":""},{"$f":"IF('Simplified Loader'!E84>0,'Simplified Loader'!E84,\"\")","v":""},{"$f":"IF('Simplified Loader'!AK84>0,'Simplified Loader'!AK84,\"\")","v":""},{"$f":"IF('Simplified Loader'!AL84>0,'Simplified Loader'!AL84,\"\")","v":""},{"$f":"IF('Simplified Loader'!AM84>0,'Simplified Loader'!AM84,\"\")","v":""},{"$f":"IF('Simplified Loader'!AN84=\"Male\",\"Male\",IF('Simplified Loader'!AN84=\"Female\",\"Female\",IF('Simplified Loader'!AN84=\"M\",\"Male\",IF('Simplified Loader'!AN84=\"F\",\"Female\",\"\"))))","v":""},{"$f":"IF('Simplified Loader'!AO84=\"Single\",\"Single\",IF('Simplified Loader'!AO84=\"Family\",\"Family\",IF('Simplified Loader'!AO84=\"S\",\"Single\",IF('Simplified Loader'!AO84=\"F\",\"Family\",\"\"))))","v":""},{"$f":"IF('Simplified Loader'!AP84=\"Single\",\"Single\",IF('Simplified Loader'!AP84=\"Family\",\"Family\",IF('Simplified Loader'!AP84=\"S\",\"Single\",IF('Simplified Loader'!AP84=\"F\",\"Family\",\"\"))))","v":""},{"$f":"IF('Simplified Loader'!AQ84>0,'Simplified Loader'!AQ84,\"\")","v":""},{"$f":"IF('Simplified Loader'!AR84=\"Yes\",\"Yes\",IF('Simplified Loader'!AR84=\"No\",\"No\",IF('Simplified Loader'!AR84=\"Y\",\"Yes\",IF('Simplified Loader'!AR84=\"N\",\"No\",\"\"))))","v":""},{"$f":"IF('Simplified Loader'!AS84>0,'Simplified Loader'!AS84,\"\")","v":""},{"$f":"IF('Simplified Loader'!AT84>0,'Simplified Loader'!AT84,\"\")","v":""},{"$f":"IF('Simplified Loader'!AU84>0,'Simplified Loader'!AU84,\"\")","v":""},{"$f":"IF('Simplified Loader'!AV84=\"Male\",\"Male\",IF('Simplified Loader'!AV84=\"Female\",\"Female\",IF('Simplified Loader'!AV84=\"M\",\"Male\",IF('Simplified Loader'!AV84=\"F\",\"Female\",\"\"))))","v":""},{"$f":"IF('Simplified Loader'!AW84=\"Yes\",\"Yes\",IF('Simplified Loader'!AW84=\"No\",\"No\",IF('Simplified Loader'!AW84=\"Y\",\"Yes\",IF('Simplified Loader'!AW84=\"N\",\"No\",\"\"))))","v":""},{"$f":"IF('Simplified Loader'!AX84=\"Yes\",\"Yes\",IF('Simplified Loader'!AX84=\"No\",\"No\",IF('Simplified Loader'!AX84=\"Y\",\"Yes\",IF('Simplified Loader'!AX84=\"N\",\"No\",\"\"))))","v":""},{"$f":"IF('Simplified Loader'!AY84>0,'Simplified Loader'!AY84,\"\")","v":""},{"$f":"IF('Simplified Loader'!AZ84>0,'Simplified Loader'!AZ84,\"\")","v":""},{"$f":"IF('Simplified Loader'!BA84>0,'Simplified Loader'!BA84,\"\")","v":""},{"$f":"IF('Simplified Loader'!BB84=\"Male\",\"Male\",IF('Simplified Loader'!BB84=\"Female\",\"Female\",IF('Simplified Loader'!BB84=\"M\",\"Male\",IF('Simplified Loader'!BB84=\"F\",\"Female\",\"\"))))","v":""},{"$f":"IF('Simplified Loader'!BC84=\"Yes\",\"Yes\",IF('Simplified Loader'!BC84=\"No\",\"No\",IF('Simplified Loader'!BC84=\"Y\",\"Yes\",IF('Simplified Loader'!BC84=\"N\",\"No\",\"\"))))","v":""},{"$f":"IF('Simplified Loader'!BD84=\"Yes\",\"Yes\",IF('Simplified Loader'!BD84=\"No\",\"No\",IF('Simplified Loader'!BD84=\"Y\",\"Yes\",IF('Simplified Loader'!BD84=\"N\",\"No\",\"\"))))","v":""},{"$f":"IF('Simplified Loader'!BE84>0,'Simplified Loader'!BE84,\"\")","v":""},{"$f":"IF('Simplified Loader'!BF84>0,'Simplified Loader'!BF84,\"\")","v":""},{"$f":"IF('Simplified Loader'!BG84>0,'Simplified Loader'!BG84,\"\")","v":""},{"$f":"IF('Simplified Loader'!BH84=\"Male\",\"Male\",IF('Simplified Loader'!BH84=\"Female\",\"Female\",IF('Simplified Loader'!BH84=\"M\",\"Male\",IF('Simplified Loader'!BH84=\"F\",\"Female\",\"\"))))","v":""},{"$f":"IF('Simplified Loader'!BI84=\"Yes\",\"Yes\",IF('Simplified Loader'!BI84=\"No\",\"No\",IF('Simplified Loader'!BI84=\"Y\",\"Yes\",IF('Simplified Loader'!BI84=\"N\",\"No\",\"\"))))","v":""},{"$f":"IF('Simplified Loader'!BJ84=\"Yes\",\"Yes\",IF('Simplified Loader'!BJ84=\"No\",\"No\",IF('Simplified Loader'!BJ84=\"Y\",\"Yes\",IF('Simplified Loader'!BJ84=\"N\",\"No\",\"\"))))","v":""},{"$f":"IF('Simplified Loader'!BK84>0,'Simplified Loader'!BK84,\"\")","v":""},{"$f":"IF('Simplified Loader'!BL84>0,'Simplified Loader'!BL84,\"\")","v":""},{"$f":"IF('Simplified Loader'!BM84>0,'Simplified Loader'!BM84,\"\")","v":""},{"$f":"IF('Simplified Loader'!BN84=\"Male\",\"Male\",IF('Simplified Loader'!BN84=\"Female\",\"Female\",IF('Simplified Loader'!BN84=\"M\",\"Male\",IF('Simplified Loader'!BN84=\"F\",\"Female\",\"\"))))","v":""},{"$f":"IF('Simplified Loader'!BO84=\"Yes\",\"Yes\",IF('Simplified Loader'!BO84=\"No\",\"No\",IF('Simplified Loader'!BO84=\"Y\",\"Yes\",IF('Simplified Loader'!BO84=\"N\",\"No\",\"\"))))","v":""},{"$f":"IF('Simplified Loader'!BP84=\"Yes\",\"Yes\",IF('Simplified Loader'!BP84=\"No\",\"No\",IF('Simplified Loader'!BP84=\"Y\",\"Yes\",IF('Simplified Loader'!BP84=\"N\",\"No\",\"\"))))","v":""},{"$f":"IF('Simplified Loader'!BQ84>0,'Simplified Loader'!BQ84,\"\")","v":""},{"$f":"IF('Simplified Loader'!BR84>0,'Simplified Loader'!BR84,\"\")","v":""},{"$f":"IF('Simplified Loader'!BS84>0,'Simplified Loader'!BS84,\"\")","v":""},{"$f":"IF('Simplified Loader'!BT84=\"Male\",\"Male\",IF('Simplified Loader'!BT84=\"Female\",\"Female\",IF('Simplified Loader'!BT84=\"M\",\"Male\",IF('Simplified Loader'!BT84=\"F\",\"Female\",\"\"))))","v":""},{"$f":"IF('Simplified Loader'!BU84=\"Yes\",\"Yes\",IF('Simplified Loader'!BU84=\"No\",\"No\",IF('Simplified Loader'!BU84=\"Y\",\"Yes\",IF('Simplified Loader'!BU84=\"N\",\"No\",\"\"))))","v":""},{"$f":"IF('Simplified Loader'!BV84=\"Yes\",\"Yes\",IF('Simplified Loader'!BV84=\"No\",\"No\",IF('Simplified Loader'!BV84=\"Y\",\"Yes\",IF('Simplified Loader'!BV84=\"N\",\"No\",\"\"))))","v":""},{"$f":"IF('Simplified Loader'!BW84>0,'Simplified Loader'!BW84,\"\")","v":""},{"$f":"IF('Simplified Loader'!BX84>0,'Simplified Loader'!BX84,\"\")","v":""},{"$f":"IF('Simplified Loader'!BY84>0,'Simplified Loader'!BY84,\"\")","v":""},{"$f":"IF('Simplified Loader'!BZ84=\"Male\",\"Male\",IF('Simplified Loader'!BZ84=\"Female\",\"Female\",IF('Simplified Loader'!BZ84=\"M\",\"Male\",IF('Simplified Loader'!BZ84=\"F\",\"Female\",\"\"))))","v":""},{"$f":"IF('Simplified Loader'!CA84=\"Yes\",\"Yes\",IF('Simplified Loader'!CA84=\"No\",\"No\",IF('Simplified Loader'!CA84=\"Y\",\"Yes\",IF('Simplified Loader'!CA84=\"N\",\"No\",\"\"))))","v":""},{"$f":"IF('Simplified Loader'!CB84=\"Yes\",\"Yes\",IF('Simplified Loader'!CB84=\"No\",\"No\",IF('Simplified Loader'!CB84=\"Y\",\"Yes\",IF('Simplified Loader'!CB84=\"N\",\"No\",\"\"))))","v":""},{"$f":"IF('Simplified Loader'!CH84>0,'Simplified Loader'!CH84,\"\")","v":"    "}]
[{"$f":"IF('Simplified Loader'!A85>0,'Simplified Loader'!A85,\"\")","v":""},{"$f":"IF('Simplified Loader'!B85>0,'Simplified Loader'!B85,\"\")","v":""},{"$f":"IF('Simplified Loader'!C85>0,'Simplified Loader'!C85,\"\")","v":""},{"$f":"IF('Simplified Loader'!D85>0,'Simplified Loader'!D85,\"\")","v":""},{"$f":"IF('Simplified Loader'!P85>0,TEXT('Simplified Loader'!P85,\"000\"),\"\")","v":""},{"$f":"IF('Simplified Loader'!Q85>0,'Simplified Loader'!Q85,\"\")","v":""},{"$f":"IF('Simplified Loader'!R85>0,'Simplified Loader'!R85,\"\")","v":""},{"$f":"IF('Simplified Loader'!F85>0,DATEVALUE(TEXT('Simplified Loader'!F85,\"yyyy-mm-dd\")),\"\")","v":""},{"$f":"IF('Simplified Loader'!L85>0,DATEVALUE(TEXT('Simplified Loader'!L85,\"yyyy-mm-dd\")),\"\")","v":""},{"$f":"IF('Simplified Loader'!Y85>0,'Simplified Loader'!Y85,\"\")","v":""},{"$f":"IF('Simplified Loader'!T85>0,'Simplified Loader'!T85,\"\")","v":""},{"$f":"IF('Simplified Loader'!G85=\"Male\",\"Male\",IF('Simplified Loader'!G85=\"Female\",\"Female\",IF('Simplified Loader'!G85=\"M\",\"Male\",IF('Simplified Loader'!G85=\"F\",\"Female\",\"\"))))","v":""},{"$f":"IF('Simplified Loader'!U85=\"Yes\",\"Yes\",IF('Simplified Loader'!U85=\"No\",\"No\",IF('Simplified Loader'!U85=\"Y\",\"Yes\",IF('Simplified Loader'!U85=\"N\",\"No\",\"\"))))","v":""},{"$f":"IF('Simplified Loader'!I85=\"Single\",\"Single\",IF('Simplified Loader'!I85=\"Family\",\"Family\",IF('Simplified Loader'!I85=\"Waive\",\"Family\",IF('Simplified Loader'!I85=\"Single Parent\",\"Family\",IF('Simplified Loader'!I85=\"Couple\",\"Family\",IF('Simplified Loader'!I85=\"In force\",\"Family\",IF('Simplified Loader'!I85=\"Applies\",\"Family\",IF('Simplified Loader'!I85=\"Applicable\",\"Family\",\"\"))))))))","v":""},{"$f":"IF('Simplified Loader'!AC85=\"English\",\"English\",IF('Simplified Loader'!AC85=\"French\",\"French\",IF('Simplified Loader'!AC85=\"E\",\"English\",IF('Simplified Loader'!AC85=\"F\",\"French\",\"\"))))","v":""},{"$f":"IF('Simplified Loader'!AB85=\"Yes\",\"Yes\",IF('Simplified Loader'!AB85=\"No\",\"No\",IF('Simplified Loader'!AB85=\"Y\",\"Yes\",IF('Simplified Loader'!AB85=\"N\",\"No\",\"\"))))","v":""},{"$f":"IF('Simplified Loader'!AD85>0,'Simplified Loader'!AD85,\"\")","v":""},{"$f":"IF('Simplified Loader'!M85>0,'Simplified Loader'!M85,\"\")","v":""},{"$f":"IF('Simplified Loader'!N85>0,'Simplified Loader'!N85,\"\")","v":""},{"$f":"IF('Simplified Loader'!O85>0,'Simplified Loader'!O85,\"\")","v":""},{"$f":"IF('Simplified Loader'!I85=\"Waive\",\"Yes\",\"\")","v":""},{"$f":"IF('Simplified Loader'!I85=\"Waive\",\"Yes\",\"\")","v":""},{"$f":"IF('Simplified Loader'!AE85>0,'Simplified Loader'!AE85,\"\")","v":""},{"$f":"IF('Simplified Loader'!AF85>0,'Simplified Loader'!AF85,\"\")","v":""},{"$f":"IF('Simplified Loader'!AG85>0,'Simplified Loader'!AG85,\"\")","v":""},{"$f":"IF('Simplified Loader'!AH85>0,'Simplified Loader'!AH85,\"\")","v":""},{"$f":"IF('Simplified Loader'!AI85>0,'Simplified Loader'!AI85,\"\")","v":" "},{"$f":"IF('Simplified Loader'!AJ85>0,'Simplified Loader'!AJ85,\"\")","v":" "},{"$f":"IF('Simplified Loader'!W85>0,'Simplified Loader'!W85&\" \",\"\")&IF('Simplified Loader'!V85>0,'Simplified Loader'!V85,\"\")","v":""},null,{"$f":"IF('Simplified Loader'!X85>0,'Simplified Loader'!X85,\"\")","v":""},{"$f":"IF('Simplified Loader'!Y85>0,'Simplified Loader'!Y85,\"\")","v":""},{"$f":"IF('Simplified Loader'!Z85>0,'Simplified Loader'!Z85,\"\")","v":""},{"$f":"IF('Simplified Loader'!AA85>0,'Simplified Loader'!AA85,\"\")","v":""},{"$f":"IF('Simplified Loader'!E85>0,'Simplified Loader'!E85,\"\")","v":""},{"$f":"IF('Simplified Loader'!AK85>0,'Simplified Loader'!AK85,\"\")","v":""},{"$f":"IF('Simplified Loader'!AL85>0,'Simplified Loader'!AL85,\"\")","v":""},{"$f":"IF('Simplified Loader'!AM85>0,'Simplified Loader'!AM85,\"\")","v":""},{"$f":"IF('Simplified Loader'!AN85=\"Male\",\"Male\",IF('Simplified Loader'!AN85=\"Female\",\"Female\",IF('Simplified Loader'!AN85=\"M\",\"Male\",IF('Simplified Loader'!AN85=\"F\",\"Female\",\"\"))))","v":""},{"$f":"IF('Simplified Loader'!AO85=\"Single\",\"Single\",IF('Simplified Loader'!AO85=\"Family\",\"Family\",IF('Simplified Loader'!AO85=\"S\",\"Single\",IF('Simplified Loader'!AO85=\"F\",\"Family\",\"\"))))","v":""},{"$f":"IF('Simplified Loader'!AP85=\"Single\",\"Single\",IF('Simplified Loader'!AP85=\"Family\",\"Family\",IF('Simplified Loader'!AP85=\"S\",\"Single\",IF('Simplified Loader'!AP85=\"F\",\"Family\",\"\"))))","v":""},{"$f":"IF('Simplified Loader'!AQ85>0,'Simplified Loader'!AQ85,\"\")","v":""},{"$f":"IF('Simplified Loader'!AR85=\"Yes\",\"Yes\",IF('Simplified Loader'!AR85=\"No\",\"No\",IF('Simplified Loader'!AR85=\"Y\",\"Yes\",IF('Simplified Loader'!AR85=\"N\",\"No\",\"\"))))","v":""},{"$f":"IF('Simplified Loader'!AS85>0,'Simplified Loader'!AS85,\"\")","v":""},{"$f":"IF('Simplified Loader'!AT85>0,'Simplified Loader'!AT85,\"\")","v":""},{"$f":"IF('Simplified Loader'!AU85>0,'Simplified Loader'!AU85,\"\")","v":""},{"$f":"IF('Simplified Loader'!AV85=\"Male\",\"Male\",IF('Simplified Loader'!AV85=\"Female\",\"Female\",IF('Simplified Loader'!AV85=\"M\",\"Male\",IF('Simplified Loader'!AV85=\"F\",\"Female\",\"\"))))","v":""},{"$f":"IF('Simplified Loader'!AW85=\"Yes\",\"Yes\",IF('Simplified Loader'!AW85=\"No\",\"No\",IF('Simplified Loader'!AW85=\"Y\",\"Yes\",IF('Simplified Loader'!AW85=\"N\",\"No\",\"\"))))","v":""},{"$f":"IF('Simplified Loader'!AX85=\"Yes\",\"Yes\",IF('Simplified Loader'!AX85=\"No\",\"No\",IF('Simplified Loader'!AX85=\"Y\",\"Yes\",IF('Simplified Loader'!AX85=\"N\",\"No\",\"\"))))","v":""},{"$f":"IF('Simplified Loader'!AY85>0,'Simplified Loader'!AY85,\"\")","v":""},{"$f":"IF('Simplified Loader'!AZ85>0,'Simplified Loader'!AZ85,\"\")","v":""},{"$f":"IF('Simplified Loader'!BA85>0,'Simplified Loader'!BA85,\"\")","v":""},{"$f":"IF('Simplified Loader'!BB85=\"Male\",\"Male\",IF('Simplified Loader'!BB85=\"Female\",\"Female\",IF('Simplified Loader'!BB85=\"M\",\"Male\",IF('Simplified Loader'!BB85=\"F\",\"Female\",\"\"))))","v":""},{"$f":"IF('Simplified Loader'!BC85=\"Yes\",\"Yes\",IF('Simplified Loader'!BC85=\"No\",\"No\",IF('Simplified Loader'!BC85=\"Y\",\"Yes\",IF('Simplified Loader'!BC85=\"N\",\"No\",\"\"))))","v":""},{"$f":"IF('Simplified Loader'!BD85=\"Yes\",\"Yes\",IF('Simplified Loader'!BD85=\"No\",\"No\",IF('Simplified Loader'!BD85=\"Y\",\"Yes\",IF('Simplified Loader'!BD85=\"N\",\"No\",\"\"))))","v":""},{"$f":"IF('Simplified Loader'!BE85>0,'Simplified Loader'!BE85,\"\")","v":""},{"$f":"IF('Simplified Loader'!BF85>0,'Simplified Loader'!BF85,\"\")","v":""},{"$f":"IF('Simplified Loader'!BG85>0,'Simplified Loader'!BG85,\"\")","v":""},{"$f":"IF('Simplified Loader'!BH85=\"Male\",\"Male\",IF('Simplified Loader'!BH85=\"Female\",\"Female\",IF('Simplified Loader'!BH85=\"M\",\"Male\",IF('Simplified Loader'!BH85=\"F\",\"Female\",\"\"))))","v":""},{"$f":"IF('Simplified Loader'!BI85=\"Yes\",\"Yes\",IF('Simplified Loader'!BI85=\"No\",\"No\",IF('Simplified Loader'!BI85=\"Y\",\"Yes\",IF('Simplified Loader'!BI85=\"N\",\"No\",\"\"))))","v":""},{"$f":"IF('Simplified Loader'!BJ85=\"Yes\",\"Yes\",IF('Simplified Loader'!BJ85=\"No\",\"No\",IF('Simplified Loader'!BJ85=\"Y\",\"Yes\",IF('Simplified Loader'!BJ85=\"N\",\"No\",\"\"))))","v":""},{"$f":"IF('Simplified Loader'!BK85>0,'Simplified Loader'!BK85,\"\")","v":""},{"$f":"IF('Simplified Loader'!BL85>0,'Simplified Loader'!BL85,\"\")","v":""},{"$f":"IF('Simplified Loader'!BM85>0,'Simplified Loader'!BM85,\"\")","v":""},{"$f":"IF('Simplified Loader'!BN85=\"Male\",\"Male\",IF('Simplified Loader'!BN85=\"Female\",\"Female\",IF('Simplified Loader'!BN85=\"M\",\"Male\",IF('Simplified Loader'!BN85=\"F\",\"Female\",\"\"))))","v":""},{"$f":"IF('Simplified Loader'!BO85=\"Yes\",\"Yes\",IF('Simplified Loader'!BO85=\"No\",\"No\",IF('Simplified Loader'!BO85=\"Y\",\"Yes\",IF('Simplified Loader'!BO85=\"N\",\"No\",\"\"))))","v":""},{"$f":"IF('Simplified Loader'!BP85=\"Yes\",\"Yes\",IF('Simplified Loader'!BP85=\"No\",\"No\",IF('Simplified Loader'!BP85=\"Y\",\"Yes\",IF('Simplified Loader'!BP85=\"N\",\"No\",\"\"))))","v":""},{"$f":"IF('Simplified Loader'!BQ85>0,'Simplified Loader'!BQ85,\"\")","v":""},{"$f":"IF('Simplified Loader'!BR85>0,'Simplified Loader'!BR85,\"\")","v":""},{"$f":"IF('Simplified Loader'!BS85>0,'Simplified Loader'!BS85,\"\")","v":""},{"$f":"IF('Simplified Loader'!BT85=\"Male\",\"Male\",IF('Simplified Loader'!BT85=\"Female\",\"Female\",IF('Simplified Loader'!BT85=\"M\",\"Male\",IF('Simplified Loader'!BT85=\"F\",\"Female\",\"\"))))","v":""},{"$f":"IF('Simplified Loader'!BU85=\"Yes\",\"Yes\",IF('Simplified Loader'!BU85=\"No\",\"No\",IF('Simplified Loader'!BU85=\"Y\",\"Yes\",IF('Simplified Loader'!BU85=\"N\",\"No\",\"\"))))","v":""},{"$f":"IF('Simplified Loader'!BV85=\"Yes\",\"Yes\",IF('Simplified Loader'!BV85=\"No\",\"No\",IF('Simplified Loader'!BV85=\"Y\",\"Yes\",IF('Simplified Loader'!BV85=\"N\",\"No\",\"\"))))","v":""},{"$f":"IF('Simplified Loader'!BW85>0,'Simplified Loader'!BW85,\"\")","v":""},{"$f":"IF('Simplified Loader'!BX85>0,'Simplified Loader'!BX85,\"\")","v":""},{"$f":"IF('Simplified Loader'!BY85>0,'Simplified Loader'!BY85,\"\")","v":""},{"$f":"IF('Simplified Loader'!BZ85=\"Male\",\"Male\",IF('Simplified Loader'!BZ85=\"Female\",\"Female\",IF('Simplified Loader'!BZ85=\"M\",\"Male\",IF('Simplified Loader'!BZ85=\"F\",\"Female\",\"\"))))","v":""},{"$f":"IF('Simplified Loader'!CA85=\"Yes\",\"Yes\",IF('Simplified Loader'!CA85=\"No\",\"No\",IF('Simplified Loader'!CA85=\"Y\",\"Yes\",IF('Simplified Loader'!CA85=\"N\",\"No\",\"\"))))","v":""},{"$f":"IF('Simplified Loader'!CB85=\"Yes\",\"Yes\",IF('Simplified Loader'!CB85=\"No\",\"No\",IF('Simplified Loader'!CB85=\"Y\",\"Yes\",IF('Simplified Loader'!CB85=\"N\",\"No\",\"\"))))","v":""},{"$f":"IF('Simplified Loader'!CH85>0,'Simplified Loader'!CH85,\"\")","v":"    "}]
[{"$f":"IF('Simplified Loader'!A86>0,'Simplified Loader'!A86,\"\")","v":""},{"$f":"IF('Simplified Loader'!B86>0,'Simplified Loader'!B86,\"\")","v":""},{"$f":"IF('Simplified Loader'!C86>0,'Simplified Loader'!C86,\"\")","v":""},{"$f":"IF('Simplified Loader'!D86>0,'Simplified Loader'!D86,\"\")","v":""},{"$f":"IF('Simplified Loader'!P86>0,TEXT('Simplified Loader'!P86,\"000\"),\"\")","v":""},{"$f":"IF('Simplified Loader'!Q86>0,'Simplified Loader'!Q86,\"\")","v":""},{"$f":"IF('Simplified Loader'!R86>0,'Simplified Loader'!R86,\"\")","v":""},{"$f":"IF('Simplified Loader'!F86>0,DATEVALUE(TEXT('Simplified Loader'!F86,\"yyyy-mm-dd\")),\"\")","v":""},{"$f":"IF('Simplified Loader'!L86>0,DATEVALUE(TEXT('Simplified Loader'!L86,\"yyyy-mm-dd\")),\"\")","v":""},{"$f":"IF('Simplified Loader'!Y86>0,'Simplified Loader'!Y86,\"\")","v":""},{"$f":"IF('Simplified Loader'!T86>0,'Simplified Loader'!T86,\"\")","v":""},{"$f":"IF('Simplified Loader'!G86=\"Male\",\"Male\",IF('Simplified Loader'!G86=\"Female\",\"Female\",IF('Simplified Loader'!G86=\"M\",\"Male\",IF('Simplified Loader'!G86=\"F\",\"Female\",\"\"))))","v":""},{"$f":"IF('Simplified Loader'!U86=\"Yes\",\"Yes\",IF('Simplified Loader'!U86=\"No\",\"No\",IF('Simplified Loader'!U86=\"Y\",\"Yes\",IF('Simplified Loader'!U86=\"N\",\"No\",\"\"))))","v":""},{"$f":"IF('Simplified Loader'!I86=\"Single\",\"Single\",IF('Simplified Loader'!I86=\"Family\",\"Family\",IF('Simplified Loader'!I86=\"Waive\",\"Family\",IF('Simplified Loader'!I86=\"Single Parent\",\"Family\",IF('Simplified Loader'!I86=\"Couple\",\"Family\",IF('Simplified Loader'!I86=\"In force\",\"Family\",IF('Simplified Loader'!I86=\"Applies\",\"Family\",IF('Simplified Loader'!I86=\"Applicable\",\"Family\",\"\"))))))))","v":""},{"$f":"IF('Simplified Loader'!AC86=\"English\",\"English\",IF('Simplified Loader'!AC86=\"French\",\"French\",IF('Simplified Loader'!AC86=\"E\",\"English\",IF('Simplified Loader'!AC86=\"F\",\"French\",\"\"))))","v":""},{"$f":"IF('Simplified Loader'!AB86=\"Yes\",\"Yes\",IF('Simplified Loader'!AB86=\"No\",\"No\",IF('Simplified Loader'!AB86=\"Y\",\"Yes\",IF('Simplified Loader'!AB86=\"N\",\"No\",\"\"))))","v":""},{"$f":"IF('Simplified Loader'!AD86>0,'Simplified Loader'!AD86,\"\")","v":""},{"$f":"IF('Simplified Loader'!M86>0,'Simplified Loader'!M86,\"\")","v":""},{"$f":"IF('Simplified Loader'!N86>0,'Simplified Loader'!N86,\"\")","v":""},{"$f":"IF('Simplified Loader'!O86>0,'Simplified Loader'!O86,\"\")","v":""},{"$f":"IF('Simplified Loader'!I86=\"Waive\",\"Yes\",\"\")","v":""},{"$f":"IF('Simplified Loader'!I86=\"Waive\",\"Yes\",\"\")","v":""},{"$f":"IF('Simplified Loader'!AE86>0,'Simplified Loader'!AE86,\"\")","v":""},{"$f":"IF('Simplified Loader'!AF86>0,'Simplified Loader'!AF86,\"\")","v":""},{"$f":"IF('Simplified Loader'!AG86>0,'Simplified Loader'!AG86,\"\")","v":""},{"$f":"IF('Simplified Loader'!AH86>0,'Simplified Loader'!AH86,\"\")","v":""},{"$f":"IF('Simplified Loader'!AI86>0,'Simplified Loader'!AI86,\"\")","v":" "},{"$f":"IF('Simplified Loader'!AJ86>0,'Simplified Loader'!AJ86,\"\")","v":" "},{"$f":"IF('Simplified Loader'!W86>0,'Simplified Loader'!W86&\" \",\"\")&IF('Simplified Loader'!V86>0,'Simplified Loader'!V86,\"\")","v":""},null,{"$f":"IF('Simplified Loader'!X86>0,'Simplified Loader'!X86,\"\")","v":""},{"$f":"IF('Simplified Loader'!Y86>0,'Simplified Loader'!Y86,\"\")","v":""},{"$f":"IF('Simplified Loader'!Z86>0,'Simplified Loader'!Z86,\"\")","v":""},{"$f":"IF('Simplified Loader'!AA86>0,'Simplified Loader'!AA86,\"\")","v":""},{"$f":"IF('Simplified Loader'!E86>0,'Simplified Loader'!E86,\"\")","v":""},{"$f":"IF('Simplified Loader'!AK86>0,'Simplified Loader'!AK86,\"\")","v":""},{"$f":"IF('Simplified Loader'!AL86>0,'Simplified Loader'!AL86,\"\")","v":""},{"$f":"IF('Simplified Loader'!AM86>0,'Simplified Loader'!AM86,\"\")","v":""},{"$f":"IF('Simplified Loader'!AN86=\"Male\",\"Male\",IF('Simplified Loader'!AN86=\"Female\",\"Female\",IF('Simplified Loader'!AN86=\"M\",\"Male\",IF('Simplified Loader'!AN86=\"F\",\"Female\",\"\"))))","v":""},{"$f":"IF('Simplified Loader'!AO86=\"Single\",\"Single\",IF('Simplified Loader'!AO86=\"Family\",\"Family\",IF('Simplified Loader'!AO86=\"S\",\"Single\",IF('Simplified Loader'!AO86=\"F\",\"Family\",\"\"))))","v":""},{"$f":"IF('Simplified Loader'!AP86=\"Single\",\"Single\",IF('Simplified Loader'!AP86=\"Family\",\"Family\",IF('Simplified Loader'!AP86=\"S\",\"Single\",IF('Simplified Loader'!AP86=\"F\",\"Family\",\"\"))))","v":""},{"$f":"IF('Simplified Loader'!AQ86>0,'Simplified Loader'!AQ86,\"\")","v":""},{"$f":"IF('Simplified Loader'!AR86=\"Yes\",\"Yes\",IF('Simplified Loader'!AR86=\"No\",\"No\",IF('Simplified Loader'!AR86=\"Y\",\"Yes\",IF('Simplified Loader'!AR86=\"N\",\"No\",\"\"))))","v":""},{"$f":"IF('Simplified Loader'!AS86>0,'Simplified Loader'!AS86,\"\")","v":""},{"$f":"IF('Simplified Loader'!AT86>0,'Simplified Loader'!AT86,\"\")","v":""},{"$f":"IF('Simplified Loader'!AU86>0,'Simplified Loader'!AU86,\"\")","v":""},{"$f":"IF('Simplified Loader'!AV86=\"Male\",\"Male\",IF('Simplified Loader'!AV86=\"Female\",\"Female\",IF('Simplified Loader'!AV86=\"M\",\"Male\",IF('Simplified Loader'!AV86=\"F\",\"Female\",\"\"))))","v":""},{"$f":"IF('Simplified Loader'!AW86=\"Yes\",\"Yes\",IF('Simplified Loader'!AW86=\"No\",\"No\",IF('Simplified Loader'!AW86=\"Y\",\"Yes\",IF('Simplified Loader'!AW86=\"N\",\"No\",\"\"))))","v":""},{"$f":"IF('Simplified Loader'!AX86=\"Yes\",\"Yes\",IF('Simplified Loader'!AX86=\"No\",\"No\",IF('Simplified Loader'!AX86=\"Y\",\"Yes\",IF('Simplified Loader'!AX86=\"N\",\"No\",\"\"))))","v":""},{"$f":"IF('Simplified Loader'!AY86>0,'Simplified Loader'!AY86,\"\")","v":""},{"$f":"IF('Simplified Loader'!AZ86>0,'Simplified Loader'!AZ86,\"\")","v":""},{"$f":"IF('Simplified Loader'!BA86>0,'Simplified Loader'!BA86,\"\")","v":""},{"$f":"IF('Simplified Loader'!BB86=\"Male\",\"Male\",IF('Simplified Loader'!BB86=\"Female\",\"Female\",IF('Simplified Loader'!BB86=\"M\",\"Male\",IF('Simplified Loader'!BB86=\"F\",\"Female\",\"\"))))","v":""},{"$f":"IF('Simplified Loader'!BC86=\"Yes\",\"Yes\",IF('Simplified Loader'!BC86=\"No\",\"No\",IF('Simplified Loader'!BC86=\"Y\",\"Yes\",IF('Simplified Loader'!BC86=\"N\",\"No\",\"\"))))","v":""},{"$f":"IF('Simplified Loader'!BD86=\"Yes\",\"Yes\",IF('Simplified Loader'!BD86=\"No\",\"No\",IF('Simplified Loader'!BD86=\"Y\",\"Yes\",IF('Simplified Loader'!BD86=\"N\",\"No\",\"\"))))","v":""},{"$f":"IF('Simplified Loader'!BE86>0,'Simplified Loader'!BE86,\"\")","v":""},{"$f":"IF('Simplified Loader'!BF86>0,'Simplified Loader'!BF86,\"\")","v":""},{"$f":"IF('Simplified Loader'!BG86>0,'Simplified Loader'!BG86,\"\")","v":""},{"$f":"IF('Simplified Loader'!BH86=\"Male\",\"Male\",IF('Simplified Loader'!BH86=\"Female\",\"Female\",IF('Simplified Loader'!BH86=\"M\",\"Male\",IF('Simplified Loader'!BH86=\"F\",\"Female\",\"\"))))","v":""},{"$f":"IF('Simplified Loader'!BI86=\"Yes\",\"Yes\",IF('Simplified Loader'!BI86=\"No\",\"No\",IF('Simplified Loader'!BI86=\"Y\",\"Yes\",IF('Simplified Loader'!BI86=\"N\",\"No\",\"\"))))","v":""},{"$f":"IF('Simplified Loader'!BJ86=\"Yes\",\"Yes\",IF('Simplified Loader'!BJ86=\"No\",\"No\",IF('Simplified Loader'!BJ86=\"Y\",\"Yes\",IF('Simplified Loader'!BJ86=\"N\",\"No\",\"\"))))","v":""},{"$f":"IF('Simplified Loader'!BK86>0,'Simplified Loader'!BK86,\"\")","v":""},{"$f":"IF('Simplified Loader'!BL86>0,'Simplified Loader'!BL86,\"\")","v":""},{"$f":"IF('Simplified Loader'!BM86>0,'Simplified Loader'!BM86,\"\")","v":""},{"$f":"IF('Simplified Loader'!BN86=\"Male\",\"Male\",IF('Simplified Loader'!BN86=\"Female\",\"Female\",IF('Simplified Loader'!BN86=\"M\",\"Male\",IF('Simplified Loader'!BN86=\"F\",\"Female\",\"\"))))","v":""},{"$f":"IF('Simplified Loader'!BO86=\"Yes\",\"Yes\",IF('Simplified Loader'!BO86=\"No\",\"No\",IF('Simplified Loader'!BO86=\"Y\",\"Yes\",IF('Simplified Loader'!BO86=\"N\",\"No\",\"\"))))","v":""},{"$f":"IF('Simplified Loader'!BP86=\"Yes\",\"Yes\",IF('Simplified Loader'!BP86=\"No\",\"No\",IF('Simplified Loader'!BP86=\"Y\",\"Yes\",IF('Simplified Loader'!BP86=\"N\",\"No\",\"\"))))","v":""},{"$f":"IF('Simplified Loader'!BQ86>0,'Simplified Loader'!BQ86,\"\")","v":""},{"$f":"IF('Simplified Loader'!BR86>0,'Simplified Loader'!BR86,\"\")","v":""},{"$f":"IF('Simplified Loader'!BS86>0,'Simplified Loader'!BS86,\"\")","v":""},{"$f":"IF('Simplified Loader'!BT86=\"Male\",\"Male\",IF('Simplified Loader'!BT86=\"Female\",\"Female\",IF('Simplified Loader'!BT86=\"M\",\"Male\",IF('Simplified Loader'!BT86=\"F\",\"Female\",\"\"))))","v":""},{"$f":"IF('Simplified Loader'!BU86=\"Yes\",\"Yes\",IF('Simplified Loader'!BU86=\"No\",\"No\",IF('Simplified Loader'!BU86=\"Y\",\"Yes\",IF('Simplified Loader'!BU86=\"N\",\"No\",\"\"))))","v":""},{"$f":"IF('Simplified Loader'!BV86=\"Yes\",\"Yes\",IF('Simplified Loader'!BV86=\"No\",\"No\",IF('Simplified Loader'!BV86=\"Y\",\"Yes\",IF('Simplified Loader'!BV86=\"N\",\"No\",\"\"))))","v":""},{"$f":"IF('Simplified Loader'!BW86>0,'Simplified Loader'!BW86,\"\")","v":""},{"$f":"IF('Simplified Loader'!BX86>0,'Simplified Loader'!BX86,\"\")","v":""},{"$f":"IF('Simplified Loader'!BY86>0,'Simplified Loader'!BY86,\"\")","v":""},{"$f":"IF('Simplified Loader'!BZ86=\"Male\",\"Male\",IF('Simplified Loader'!BZ86=\"Female\",\"Female\",IF('Simplified Loader'!BZ86=\"M\",\"Male\",IF('Simplified Loader'!BZ86=\"F\",\"Female\",\"\"))))","v":""},{"$f":"IF('Simplified Loader'!CA86=\"Yes\",\"Yes\",IF('Simplified Loader'!CA86=\"No\",\"No\",IF('Simplified Loader'!CA86=\"Y\",\"Yes\",IF('Simplified Loader'!CA86=\"N\",\"No\",\"\"))))","v":""},{"$f":"IF('Simplified Loader'!CB86=\"Yes\",\"Yes\",IF('Simplified Loader'!CB86=\"No\",\"No\",IF('Simplified Loader'!CB86=\"Y\",\"Yes\",IF('Simplified Loader'!CB86=\"N\",\"No\",\"\"))))","v":""},{"$f":"IF('Simplified Loader'!CH86>0,'Simplified Loader'!CH86,\"\")","v":"    "}]
[{"$f":"IF('Simplified Loader'!A87>0,'Simplified Loader'!A87,\"\")","v":""},{"$f":"IF('Simplified Loader'!B87>0,'Simplified Loader'!B87,\"\")","v":""},{"$f":"IF('Simplified Loader'!C87>0,'Simplified Loader'!C87,\"\")","v":""},{"$f":"IF('Simplified Loader'!D87>0,'Simplified Loader'!D87,\"\")","v":""},{"$f":"IF('Simplified Loader'!P87>0,TEXT('Simplified Loader'!P87,\"000\"),\"\")","v":""},{"$f":"IF('Simplified Loader'!Q87>0,'Simplified Loader'!Q87,\"\")","v":""},{"$f":"IF('Simplified Loader'!R87>0,'Simplified Loader'!R87,\"\")","v":""},{"$f":"IF('Simplified Loader'!F87>0,DATEVALUE(TEXT('Simplified Loader'!F87,\"yyyy-mm-dd\")),\"\")","v":""},{"$f":"IF('Simplified Loader'!L87>0,DATEVALUE(TEXT('Simplified Loader'!L87,\"yyyy-mm-dd\")),\"\")","v":""},{"$f":"IF('Simplified Loader'!Y87>0,'Simplified Loader'!Y87,\"\")","v":""},{"$f":"IF('Simplified Loader'!T87>0,'Simplified Loader'!T87,\"\")","v":""},{"$f":"IF('Simplified Loader'!G87=\"Male\",\"Male\",IF('Simplified Loader'!G87=\"Female\",\"Female\",IF('Simplified Loader'!G87=\"M\",\"Male\",IF('Simplified Loader'!G87=\"F\",\"Female\",\"\"))))","v":""},{"$f":"IF('Simplified Loader'!U87=\"Yes\",\"Yes\",IF('Simplified Loader'!U87=\"No\",\"No\",IF('Simplified Loader'!U87=\"Y\",\"Yes\",IF('Simplified Loader'!U87=\"N\",\"No\",\"\"))))","v":""},{"$f":"IF('Simplified Loader'!I87=\"Single\",\"Single\",IF('Simplified Loader'!I87=\"Family\",\"Family\",IF('Simplified Loader'!I87=\"Waive\",\"Family\",IF('Simplified Loader'!I87=\"Single Parent\",\"Family\",IF('Simplified Loader'!I87=\"Couple\",\"Family\",IF('Simplified Loader'!I87=\"In force\",\"Family\",IF('Simplified Loader'!I87=\"Applies\",\"Family\",IF('Simplified Loader'!I87=\"Applicable\",\"Family\",\"\"))))))))","v":""},{"$f":"IF('Simplified Loader'!AC87=\"English\",\"English\",IF('Simplified Loader'!AC87=\"French\",\"French\",IF('Simplified Loader'!AC87=\"E\",\"English\",IF('Simplified Loader'!AC87=\"F\",\"French\",\"\"))))","v":""},{"$f":"IF('Simplified Loader'!AB87=\"Yes\",\"Yes\",IF('Simplified Loader'!AB87=\"No\",\"No\",IF('Simplified Loader'!AB87=\"Y\",\"Yes\",IF('Simplified Loader'!AB87=\"N\",\"No\",\"\"))))","v":""},{"$f":"IF('Simplified Loader'!AD87>0,'Simplified Loader'!AD87,\"\")","v":""},{"$f":"IF('Simplified Loader'!M87>0,'Simplified Loader'!M87,\"\")","v":""},{"$f":"IF('Simplified Loader'!N87>0,'Simplified Loader'!N87,\"\")","v":""},{"$f":"IF('Simplified Loader'!O87>0,'Simplified Loader'!O87,\"\")","v":""},{"$f":"IF('Simplified Loader'!I87=\"Waive\",\"Yes\",\"\")","v":""},{"$f":"IF('Simplified Loader'!I87=\"Waive\",\"Yes\",\"\")","v":""},{"$f":"IF('Simplified Loader'!AE87>0,'Simplified Loader'!AE87,\"\")","v":""},{"$f":"IF('Simplified Loader'!AF87>0,'Simplified Loader'!AF87,\"\")","v":""},{"$f":"IF('Simplified Loader'!AG87>0,'Simplified Loader'!AG87,\"\")","v":""},{"$f":"IF('Simplified Loader'!AH87>0,'Simplified Loader'!AH87,\"\")","v":""},{"$f":"IF('Simplified Loader'!AI87>0,'Simplified Loader'!AI87,\"\")","v":" "},{"$f":"IF('Simplified Loader'!AJ87>0,'Simplified Loader'!AJ87,\"\")","v":" "},{"$f":"IF('Simplified Loader'!W87>0,'Simplified Loader'!W87&\" \",\"\")&IF('Simplified Loader'!V87>0,'Simplified Loader'!V87,\"\")","v":""},null,{"$f":"IF('Simplified Loader'!X87>0,'Simplified Loader'!X87,\"\")","v":""},{"$f":"IF('Simplified Loader'!Y87>0,'Simplified Loader'!Y87,\"\")","v":""},{"$f":"IF('Simplified Loader'!Z87>0,'Simplified Loader'!Z87,\"\")","v":""},{"$f":"IF('Simplified Loader'!AA87>0,'Simplified Loader'!AA87,\"\")","v":""},{"$f":"IF('Simplified Loader'!E87>0,'Simplified Loader'!E87,\"\")","v":""},{"$f":"IF('Simplified Loader'!AK87>0,'Simplified Loader'!AK87,\"\")","v":""},{"$f":"IF('Simplified Loader'!AL87>0,'Simplified Loader'!AL87,\"\")","v":""},{"$f":"IF('Simplified Loader'!AM87>0,'Simplified Loader'!AM87,\"\")","v":""},{"$f":"IF('Simplified Loader'!AN87=\"Male\",\"Male\",IF('Simplified Loader'!AN87=\"Female\",\"Female\",IF('Simplified Loader'!AN87=\"M\",\"Male\",IF('Simplified Loader'!AN87=\"F\",\"Female\",\"\"))))","v":""},{"$f":"IF('Simplified Loader'!AO87=\"Single\",\"Single\",IF('Simplified Loader'!AO87=\"Family\",\"Family\",IF('Simplified Loader'!AO87=\"S\",\"Single\",IF('Simplified Loader'!AO87=\"F\",\"Family\",\"\"))))","v":""},{"$f":"IF('Simplified Loader'!AP87=\"Single\",\"Single\",IF('Simplified Loader'!AP87=\"Family\",\"Family\",IF('Simplified Loader'!AP87=\"S\",\"Single\",IF('Simplified Loader'!AP87=\"F\",\"Family\",\"\"))))","v":""},{"$f":"IF('Simplified Loader'!AQ87>0,'Simplified Loader'!AQ87,\"\")","v":""},{"$f":"IF('Simplified Loader'!AR87=\"Yes\",\"Yes\",IF('Simplified Loader'!AR87=\"No\",\"No\",IF('Simplified Loader'!AR87=\"Y\",\"Yes\",IF('Simplified Loader'!AR87=\"N\",\"No\",\"\"))))","v":""},{"$f":"IF('Simplified Loader'!AS87>0,'Simplified Loader'!AS87,\"\")","v":""},{"$f":"IF('Simplified Loader'!AT87>0,'Simplified Loader'!AT87,\"\")","v":""},{"$f":"IF('Simplified Loader'!AU87>0,'Simplified Loader'!AU87,\"\")","v":""},{"$f":"IF('Simplified Loader'!AV87=\"Male\",\"Male\",IF('Simplified Loader'!AV87=\"Female\",\"Female\",IF('Simplified Loader'!AV87=\"M\",\"Male\",IF('Simplified Loader'!AV87=\"F\",\"Female\",\"\"))))","v":""},{"$f":"IF('Simplified Loader'!AW87=\"Yes\",\"Yes\",IF('Simplified Loader'!AW87=\"No\",\"No\",IF('Simplified Loader'!AW87=\"Y\",\"Yes\",IF('Simplified Loader'!AW87=\"N\",\"No\",\"\"))))","v":""},{"$f":"IF('Simplified Loader'!AX87=\"Yes\",\"Yes\",IF('Simplified Loader'!AX87=\"No\",\"No\",IF('Simplified Loader'!AX87=\"Y\",\"Yes\",IF('Simplified Loader'!AX87=\"N\",\"No\",\"\"))))","v":""},{"$f":"IF('Simplified Loader'!AY87>0,'Simplified Loader'!AY87,\"\")","v":""},{"$f":"IF('Simplified Loader'!AZ87>0,'Simplified Loader'!AZ87,\"\")","v":""},{"$f":"IF('Simplified Loader'!BA87>0,'Simplified Loader'!BA87,\"\")","v":""},{"$f":"IF('Simplified Loader'!BB87=\"Male\",\"Male\",IF('Simplified Loader'!BB87=\"Female\",\"Female\",IF('Simplified Loader'!BB87=\"M\",\"Male\",IF('Simplified Loader'!BB87=\"F\",\"Female\",\"\"))))","v":""},{"$f":"IF('Simplified Loader'!BC87=\"Yes\",\"Yes\",IF('Simplified Loader'!BC87=\"No\",\"No\",IF('Simplified Loader'!BC87=\"Y\",\"Yes\",IF('Simplified Loader'!BC87=\"N\",\"No\",\"\"))))","v":""},{"$f":"IF('Simplified Loader'!BD87=\"Yes\",\"Yes\",IF('Simplified Loader'!BD87=\"No\",\"No\",IF('Simplified Loader'!BD87=\"Y\",\"Yes\",IF('Simplified Loader'!BD87=\"N\",\"No\",\"\"))))","v":""},{"$f":"IF('Simplified Loader'!BE87>0,'Simplified Loader'!BE87,\"\")","v":""},{"$f":"IF('Simplified Loader'!BF87>0,'Simplified Loader'!BF87,\"\")","v":""},{"$f":"IF('Simplified Loader'!BG87>0,'Simplified Loader'!BG87,\"\")","v":""},{"$f":"IF('Simplified Loader'!BH87=\"Male\",\"Male\",IF('Simplified Loader'!BH87=\"Female\",\"Female\",IF('Simplified Loader'!BH87=\"M\",\"Male\",IF('Simplified Loader'!BH87=\"F\",\"Female\",\"\"))))","v":""},{"$f":"IF('Simplified Loader'!BI87=\"Yes\",\"Yes\",IF('Simplified Loader'!BI87=\"No\",\"No\",IF('Simplified Loader'!BI87=\"Y\",\"Yes\",IF('Simplified Loader'!BI87=\"N\",\"No\",\"\"))))","v":""},{"$f":"IF('Simplified Loader'!BJ87=\"Yes\",\"Yes\",IF('Simplified Loader'!BJ87=\"No\",\"No\",IF('Simplified Loader'!BJ87=\"Y\",\"Yes\",IF('Simplified Loader'!BJ87=\"N\",\"No\",\"\"))))","v":""},{"$f":"IF('Simplified Loader'!BK87>0,'Simplified Loader'!BK87,\"\")","v":""},{"$f":"IF('Simplified Loader'!BL87>0,'Simplified Loader'!BL87,\"\")","v":""},{"$f":"IF('Simplified Loader'!BM87>0,'Simplified Loader'!BM87,\"\")","v":""},{"$f":"IF('Simplified Loader'!BN87=\"Male\",\"Male\",IF('Simplified Loader'!BN87=\"Female\",\"Female\",IF('Simplified Loader'!BN87=\"M\",\"Male\",IF('Simplified Loader'!BN87=\"F\",\"Female\",\"\"))))","v":""},{"$f":"IF('Simplified Loader'!BO87=\"Yes\",\"Yes\",IF('Simplified Loader'!BO87=\"No\",\"No\",IF('Simplified Loader'!BO87=\"Y\",\"Yes\",IF('Simplified Loader'!BO87=\"N\",\"No\",\"\"))))","v":""},{"$f":"IF('Simplified Loader'!BP87=\"Yes\",\"Yes\",IF('Simplified Loader'!BP87=\"No\",\"No\",IF('Simplified Loader'!BP87=\"Y\",\"Yes\",IF('Simplified Loader'!BP87=\"N\",\"No\",\"\"))))","v":""},{"$f":"IF('Simplified Loader'!BQ87>0,'Simplified Loader'!BQ87,\"\")","v":""},{"$f":"IF('Simplified Loader'!BR87>0,'Simplified Loader'!BR87,\"\")","v":""},{"$f":"IF('Simplified Loader'!BS87>0,'Simplified Loader'!BS87,\"\")","v":""},{"$f":"IF('Simplified Loader'!BT87=\"Male\",\"Male\",IF('Simplified Loader'!BT87=\"Female\",\"Female\",IF('Simplified Loader'!BT87=\"M\",\"Male\",IF('Simplified Loader'!BT87=\"F\",\"Female\",\"\"))))","v":""},{"$f":"IF('Simplified Loader'!BU87=\"Yes\",\"Yes\",IF('Simplified Loader'!BU87=\"No\",\"No\",IF('Simplified Loader'!BU87=\"Y\",\"Yes\",IF('Simplified Loader'!BU87=\"N\",\"No\",\"\"))))","v":""},{"$f":"IF('Simplified Loader'!BV87=\"Yes\",\"Yes\",IF('Simplified Loader'!BV87=\"No\",\"No\",IF('Simplified Loader'!BV87=\"Y\",\"Yes\",IF('Simplified Loader'!BV87=\"N\",\"No\",\"\"))))","v":""},{"$f":"IF('Simplified Loader'!BW87>0,'Simplified Loader'!BW87,\"\")","v":""},{"$f":"IF('Simplified Loader'!BX87>0,'Simplified Loader'!BX87,\"\")","v":""},{"$f":"IF('Simplified Loader'!BY87>0,'Simplified Loader'!BY87,\"\")","v":""},{"$f":"IF('Simplified Loader'!BZ87=\"Male\",\"Male\",IF('Simplified Loader'!BZ87=\"Female\",\"Female\",IF('Simplified Loader'!BZ87=\"M\",\"Male\",IF('Simplified Loader'!BZ87=\"F\",\"Female\",\"\"))))","v":""},{"$f":"IF('Simplified Loader'!CA87=\"Yes\",\"Yes\",IF('Simplified Loader'!CA87=\"No\",\"No\",IF('Simplified Loader'!CA87=\"Y\",\"Yes\",IF('Simplified Loader'!CA87=\"N\",\"No\",\"\"))))","v":""},{"$f":"IF('Simplified Loader'!CB87=\"Yes\",\"Yes\",IF('Simplified Loader'!CB87=\"No\",\"No\",IF('Simplified Loader'!CB87=\"Y\",\"Yes\",IF('Simplified Loader'!CB87=\"N\",\"No\",\"\"))))","v":""},{"$f":"IF('Simplified Loader'!CH87>0,'Simplified Loader'!CH87,\"\")","v":"    "}]
[{"$f":"IF('Simplified Loader'!A88>0,'Simplified Loader'!A88,\"\")","v":""},{"$f":"IF('Simplified Loader'!B88>0,'Simplified Loader'!B88,\"\")","v":""},{"$f":"IF('Simplified Loader'!C88>0,'Simplified Loader'!C88,\"\")","v":""},{"$f":"IF('Simplified Loader'!D88>0,'Simplified Loader'!D88,\"\")","v":""},{"$f":"IF('Simplified Loader'!P88>0,TEXT('Simplified Loader'!P88,\"000\"),\"\")","v":""},{"$f":"IF('Simplified Loader'!Q88>0,'Simplified Loader'!Q88,\"\")","v":""},{"$f":"IF('Simplified Loader'!R88>0,'Simplified Loader'!R88,\"\")","v":""},{"$f":"IF('Simplified Loader'!F88>0,DATEVALUE(TEXT('Simplified Loader'!F88,\"yyyy-mm-dd\")),\"\")","v":""},{"$f":"IF('Simplified Loader'!L88>0,DATEVALUE(TEXT('Simplified Loader'!L88,\"yyyy-mm-dd\")),\"\")","v":""},{"$f":"IF('Simplified Loader'!Y88>0,'Simplified Loader'!Y88,\"\")","v":""},{"$f":"IF('Simplified Loader'!T88>0,'Simplified Loader'!T88,\"\")","v":""},{"$f":"IF('Simplified Loader'!G88=\"Male\",\"Male\",IF('Simplified Loader'!G88=\"Female\",\"Female\",IF('Simplified Loader'!G88=\"M\",\"Male\",IF('Simplified Loader'!G88=\"F\",\"Female\",\"\"))))","v":""},{"$f":"IF('Simplified Loader'!U88=\"Yes\",\"Yes\",IF('Simplified Loader'!U88=\"No\",\"No\",IF('Simplified Loader'!U88=\"Y\",\"Yes\",IF('Simplified Loader'!U88=\"N\",\"No\",\"\"))))","v":""},{"$f":"IF('Simplified Loader'!I88=\"Single\",\"Single\",IF('Simplified Loader'!I88=\"Family\",\"Family\",IF('Simplified Loader'!I88=\"Waive\",\"Family\",IF('Simplified Loader'!I88=\"Single Parent\",\"Family\",IF('Simplified Loader'!I88=\"Couple\",\"Family\",IF('Simplified Loader'!I88=\"In force\",\"Family\",IF('Simplified Loader'!I88=\"Applies\",\"Family\",IF('Simplified Loader'!I88=\"Applicable\",\"Family\",\"\"))))))))","v":""},{"$f":"IF('Simplified Loader'!AC88=\"English\",\"English\",IF('Simplified Loader'!AC88=\"French\",\"French\",IF('Simplified Loader'!AC88=\"E\",\"English\",IF('Simplified Loader'!AC88=\"F\",\"French\",\"\"))))","v":""},{"$f":"IF('Simplified Loader'!AB88=\"Yes\",\"Yes\",IF('Simplified Loader'!AB88=\"No\",\"No\",IF('Simplified Loader'!AB88=\"Y\",\"Yes\",IF('Simplified Loader'!AB88=\"N\",\"No\",\"\"))))","v":""},{"$f":"IF('Simplified Loader'!AD88>0,'Simplified Loader'!AD88,\"\")","v":""},{"$f":"IF('Simplified Loader'!M88>0,'Simplified Loader'!M88,\"\")","v":""},{"$f":"IF('Simplified Loader'!N88>0,'Simplified Loader'!N88,\"\")","v":""},{"$f":"IF('Simplified Loader'!O88>0,'Simplified Loader'!O88,\"\")","v":""},{"$f":"IF('Simplified Loader'!I88=\"Waive\",\"Yes\",\"\")","v":""},{"$f":"IF('Simplified Loader'!I88=\"Waive\",\"Yes\",\"\")","v":""},{"$f":"IF('Simplified Loader'!AE88>0,'Simplified Loader'!AE88,\"\")","v":""},{"$f":"IF('Simplified Loader'!AF88>0,'Simplified Loader'!AF88,\"\")","v":""},{"$f":"IF('Simplified Loader'!AG88>0,'Simplified Loader'!AG88,\"\")","v":""},{"$f":"IF('Simplified Loader'!AH88>0,'Simplified Loader'!AH88,\"\")","v":""},{"$f":"IF('Simplified Loader'!AI88>0,'Simplified Loader'!AI88,\"\")","v":" "},{"$f":"IF('Simplified Loader'!AJ88>0,'Simplified Loader'!AJ88,\"\")","v":" "},{"$f":"IF('Simplified Loader'!W88>0,'Simplified Loader'!W88&\" \",\"\")&IF('Simplified Loader'!V88>0,'Simplified Loader'!V88,\"\")","v":""},null,{"$f":"IF('Simplified Loader'!X88>0,'Simplified Loader'!X88,\"\")","v":""},{"$f":"IF('Simplified Loader'!Y88>0,'Simplified Loader'!Y88,\"\")","v":""},{"$f":"IF('Simplified Loader'!Z88>0,'Simplified Loader'!Z88,\"\")","v":""},{"$f":"IF('Simplified Loader'!AA88>0,'Simplified Loader'!AA88,\"\")","v":""},{"$f":"IF('Simplified Loader'!E88>0,'Simplified Loader'!E88,\"\")","v":""},{"$f":"IF('Simplified Loader'!AK88>0,'Simplified Loader'!AK88,\"\")","v":""},{"$f":"IF('Simplified Loader'!AL88>0,'Simplified Loader'!AL88,\"\")","v":""},{"$f":"IF('Simplified Loader'!AM88>0,'Simplified Loader'!AM88,\"\")","v":""},{"$f":"IF('Simplified Loader'!AN88=\"Male\",\"Male\",IF('Simplified Loader'!AN88=\"Female\",\"Female\",IF('Simplified Loader'!AN88=\"M\",\"Male\",IF('Simplified Loader'!AN88=\"F\",\"Female\",\"\"))))","v":""},{"$f":"IF('Simplified Loader'!AO88=\"Single\",\"Single\",IF('Simplified Loader'!AO88=\"Family\",\"Family\",IF('Simplified Loader'!AO88=\"S\",\"Single\",IF('Simplified Loader'!AO88=\"F\",\"Family\",\"\"))))","v":""},{"$f":"IF('Simplified Loader'!AP88=\"Single\",\"Single\",IF('Simplified Loader'!AP88=\"Family\",\"Family\",IF('Simplified Loader'!AP88=\"S\",\"Single\",IF('Simplified Loader'!AP88=\"F\",\"Family\",\"\"))))","v":""},{"$f":"IF('Simplified Loader'!AQ88>0,'Simplified Loader'!AQ88,\"\")","v":""},{"$f":"IF('Simplified Loader'!AR88=\"Yes\",\"Yes\",IF('Simplified Loader'!AR88=\"No\",\"No\",IF('Simplified Loader'!AR88=\"Y\",\"Yes\",IF('Simplified Loader'!AR88=\"N\",\"No\",\"\"))))","v":""},{"$f":"IF('Simplified Loader'!AS88>0,'Simplified Loader'!AS88,\"\")","v":""},{"$f":"IF('Simplified Loader'!AT88>0,'Simplified Loader'!AT88,\"\")","v":""},{"$f":"IF('Simplified Loader'!AU88>0,'Simplified Loader'!AU88,\"\")","v":""},{"$f":"IF('Simplified Loader'!AV88=\"Male\",\"Male\",IF('Simplified Loader'!AV88=\"Female\",\"Female\",IF('Simplified Loader'!AV88=\"M\",\"Male\",IF('Simplified Loader'!AV88=\"F\",\"Female\",\"\"))))","v":""},{"$f":"IF('Simplified Loader'!AW88=\"Yes\",\"Yes\",IF('Simplified Loader'!AW88=\"No\",\"No\",IF('Simplified Loader'!AW88=\"Y\",\"Yes\",IF('Simplified Loader'!AW88=\"N\",\"No\",\"\"))))","v":""},{"$f":"IF('Simplified Loader'!AX88=\"Yes\",\"Yes\",IF('Simplified Loader'!AX88=\"No\",\"No\",IF('Simplified Loader'!AX88=\"Y\",\"Yes\",IF('Simplified Loader'!AX88=\"N\",\"No\",\"\"))))","v":""},{"$f":"IF('Simplified Loader'!AY88>0,'Simplified Loader'!AY88,\"\")","v":""},{"$f":"IF('Simplified Loader'!AZ88>0,'Simplified Loader'!AZ88,\"\")","v":""},{"$f":"IF('Simplified Loader'!BA88>0,'Simplified Loader'!BA88,\"\")","v":""},{"$f":"IF('Simplified Loader'!BB88=\"Male\",\"Male\",IF('Simplified Loader'!BB88=\"Female\",\"Female\",IF('Simplified Loader'!BB88=\"M\",\"Male\",IF('Simplified Loader'!BB88=\"F\",\"Female\",\"\"))))","v":""},{"$f":"IF('Simplified Loader'!BC88=\"Yes\",\"Yes\",IF('Simplified Loader'!BC88=\"No\",\"No\",IF('Simplified Loader'!BC88=\"Y\",\"Yes\",IF('Simplified Loader'!BC88=\"N\",\"No\",\"\"))))","v":""},{"$f":"IF('Simplified Loader'!BD88=\"Yes\",\"Yes\",IF('Simplified Loader'!BD88=\"No\",\"No\",IF('Simplified Loader'!BD88=\"Y\",\"Yes\",IF('Simplified Loader'!BD88=\"N\",\"No\",\"\"))))","v":""},{"$f":"IF('Simplified Loader'!BE88>0,'Simplified Loader'!BE88,\"\")","v":""},{"$f":"IF('Simplified Loader'!BF88>0,'Simplified Loader'!BF88,\"\")","v":""},{"$f":"IF('Simplified Loader'!BG88>0,'Simplified Loader'!BG88,\"\")","v":""},{"$f":"IF('Simplified Loader'!BH88=\"Male\",\"Male\",IF('Simplified Loader'!BH88=\"Female\",\"Female\",IF('Simplified Loader'!BH88=\"M\",\"Male\",IF('Simplified Loader'!BH88=\"F\",\"Female\",\"\"))))","v":""},{"$f":"IF('Simplified Loader'!BI88=\"Yes\",\"Yes\",IF('Simplified Loader'!BI88=\"No\",\"No\",IF('Simplified Loader'!BI88=\"Y\",\"Yes\",IF('Simplified Loader'!BI88=\"N\",\"No\",\"\"))))","v":""},{"$f":"IF('Simplified Loader'!BJ88=\"Yes\",\"Yes\",IF('Simplified Loader'!BJ88=\"No\",\"No\",IF('Simplified Loader'!BJ88=\"Y\",\"Yes\",IF('Simplified Loader'!BJ88=\"N\",\"No\",\"\"))))","v":""},{"$f":"IF('Simplified Loader'!BK88>0,'Simplified Loader'!BK88,\"\")","v":""},{"$f":"IF('Simplified Loader'!BL88>0,'Simplified Loader'!BL88,\"\")","v":""},{"$f":"IF('Simplified Loader'!BM88>0,'Simplified Loader'!BM88,\"\")","v":""},{"$f":"IF('Simplified Loader'!BN88=\"Male\",\"Male\",IF('Simplified Loader'!BN88=\"Female\",\"Female\",IF('Simplified Loader'!BN88=\"M\",\"Male\",IF('Simplified Loader'!BN88=\"F\",\"Female\",\"\"))))","v":""},{"$f":"IF('Simplified Loader'!BO88=\"Yes\",\"Yes\",IF('Simplified Loader'!BO88=\"No\",\"No\",IF('Simplified Loader'!BO88=\"Y\",\"Yes\",IF('Simplified Loader'!BO88=\"N\",\"No\",\"\"))))","v":""},{"$f":"IF('Simplified Loader'!BP88=\"Yes\",\"Yes\",IF('Simplified Loader'!BP88=\"No\",\"No\",IF('Simplified Loader'!BP88=\"Y\",\"Yes\",IF('Simplified Loader'!BP88=\"N\",\"No\",\"\"))))","v":""},{"$f":"IF('Simplified Loader'!BQ88>0,'Simplified Loader'!BQ88,\"\")","v":""},{"$f":"IF('Simplified Loader'!BR88>0,'Simplified Loader'!BR88,\"\")","v":""},{"$f":"IF('Simplified Loader'!BS88>0,'Simplified Loader'!BS88,\"\")","v":""},{"$f":"IF('Simplified Loader'!BT88=\"Male\",\"Male\",IF('Simplified Loader'!BT88=\"Female\",\"Female\",IF('Simplified Loader'!BT88=\"M\",\"Male\",IF('Simplified Loader'!BT88=\"F\",\"Female\",\"\"))))","v":""},{"$f":"IF('Simplified Loader'!BU88=\"Yes\",\"Yes\",IF('Simplified Loader'!BU88=\"No\",\"No\",IF('Simplified Loader'!BU88=\"Y\",\"Yes\",IF('Simplified Loader'!BU88=\"N\",\"No\",\"\"))))","v":""},{"$f":"IF('Simplified Loader'!BV88=\"Yes\",\"Yes\",IF('Simplified Loader'!BV88=\"No\",\"No\",IF('Simplified Loader'!BV88=\"Y\",\"Yes\",IF('Simplified Loader'!BV88=\"N\",\"No\",\"\"))))","v":""},{"$f":"IF('Simplified Loader'!BW88>0,'Simplified Loader'!BW88,\"\")","v":""},{"$f":"IF('Simplified Loader'!BX88>0,'Simplified Loader'!BX88,\"\")","v":""},{"$f":"IF('Simplified Loader'!BY88>0,'Simplified Loader'!BY88,\"\")","v":""},{"$f":"IF('Simplified Loader'!BZ88=\"Male\",\"Male\",IF('Simplified Loader'!BZ88=\"Female\",\"Female\",IF('Simplified Loader'!BZ88=\"M\",\"Male\",IF('Simplified Loader'!BZ88=\"F\",\"Female\",\"\"))))","v":""},{"$f":"IF('Simplified Loader'!CA88=\"Yes\",\"Yes\",IF('Simplified Loader'!CA88=\"No\",\"No\",IF('Simplified Loader'!CA88=\"Y\",\"Yes\",IF('Simplified Loader'!CA88=\"N\",\"No\",\"\"))))","v":""},{"$f":"IF('Simplified Loader'!CB88=\"Yes\",\"Yes\",IF('Simplified Loader'!CB88=\"No\",\"No\",IF('Simplified Loader'!CB88=\"Y\",\"Yes\",IF('Simplified Loader'!CB88=\"N\",\"No\",\"\"))))","v":""},{"$f":"IF('Simplified Loader'!CH88>0,'Simplified Loader'!CH88,\"\")","v":"    "}]
[{"$f":"IF('Simplified Loader'!A89>0,'Simplified Loader'!A89,\"\")","v":""},{"$f":"IF('Simplified Loader'!B89>0,'Simplified Loader'!B89,\"\")","v":""},{"$f":"IF('Simplified Loader'!C89>0,'Simplified Loader'!C89,\"\")","v":""},{"$f":"IF('Simplified Loader'!D89>0,'Simplified Loader'!D89,\"\")","v":""},{"$f":"IF('Simplified Loader'!P89>0,TEXT('Simplified Loader'!P89,\"000\"),\"\")","v":""},{"$f":"IF('Simplified Loader'!Q89>0,'Simplified Loader'!Q89,\"\")","v":""},{"$f":"IF('Simplified Loader'!R89>0,'Simplified Loader'!R89,\"\")","v":""},{"$f":"IF('Simplified Loader'!F89>0,DATEVALUE(TEXT('Simplified Loader'!F89,\"yyyy-mm-dd\")),\"\")","v":""},{"$f":"IF('Simplified Loader'!L89>0,DATEVALUE(TEXT('Simplified Loader'!L89,\"yyyy-mm-dd\")),\"\")","v":""},{"$f":"IF('Simplified Loader'!Y89>0,'Simplified Loader'!Y89,\"\")","v":""},{"$f":"IF('Simplified Loader'!T89>0,'Simplified Loader'!T89,\"\")","v":""},{"$f":"IF('Simplified Loader'!G89=\"Male\",\"Male\",IF('Simplified Loader'!G89=\"Female\",\"Female\",IF('Simplified Loader'!G89=\"M\",\"Male\",IF('Simplified Loader'!G89=\"F\",\"Female\",\"\"))))","v":""},{"$f":"IF('Simplified Loader'!U89=\"Yes\",\"Yes\",IF('Simplified Loader'!U89=\"No\",\"No\",IF('Simplified Loader'!U89=\"Y\",\"Yes\",IF('Simplified Loader'!U89=\"N\",\"No\",\"\"))))","v":""},{"$f":"IF('Simplified Loader'!I89=\"Single\",\"Single\",IF('Simplified Loader'!I89=\"Family\",\"Family\",IF('Simplified Loader'!I89=\"Waive\",\"Family\",IF('Simplified Loader'!I89=\"Single Parent\",\"Family\",IF('Simplified Loader'!I89=\"Couple\",\"Family\",IF('Simplified Loader'!I89=\"In force\",\"Family\",IF('Simplified Loader'!I89=\"Applies\",\"Family\",IF('Simplified Loader'!I89=\"Applicable\",\"Family\",\"\"))))))))","v":""},{"$f":"IF('Simplified Loader'!AC89=\"English\",\"English\",IF('Simplified Loader'!AC89=\"French\",\"French\",IF('Simplified Loader'!AC89=\"E\",\"English\",IF('Simplified Loader'!AC89=\"F\",\"French\",\"\"))))","v":""},{"$f":"IF('Simplified Loader'!AB89=\"Yes\",\"Yes\",IF('Simplified Loader'!AB89=\"No\",\"No\",IF('Simplified Loader'!AB89=\"Y\",\"Yes\",IF('Simplified Loader'!AB89=\"N\",\"No\",\"\"))))","v":""},{"$f":"IF('Simplified Loader'!AD89>0,'Simplified Loader'!AD89,\"\")","v":""},{"$f":"IF('Simplified Loader'!M89>0,'Simplified Loader'!M89,\"\")","v":""},{"$f":"IF('Simplified Loader'!N89>0,'Simplified Loader'!N89,\"\")","v":""},{"$f":"IF('Simplified Loader'!O89>0,'Simplified Loader'!O89,\"\")","v":""},{"$f":"IF('Simplified Loader'!I89=\"Waive\",\"Yes\",\"\")","v":""},{"$f":"IF('Simplified Loader'!I89=\"Waive\",\"Yes\",\"\")","v":""},{"$f":"IF('Simplified Loader'!AE89>0,'Simplified Loader'!AE89,\"\")","v":""},{"$f":"IF('Simplified Loader'!AF89>0,'Simplified Loader'!AF89,\"\")","v":""},{"$f":"IF('Simplified Loader'!AG89>0,'Simplified Loader'!AG89,\"\")","v":""},{"$f":"IF('Simplified Loader'!AH89>0,'Simplified Loader'!AH89,\"\")","v":""},{"$f":"IF('Simplified Loader'!AI89>0,'Simplified Loader'!AI89,\"\")","v":" "},{"$f":"IF('Simplified Loader'!AJ89>0,'Simplified Loader'!AJ89,\"\")","v":" "},{"$f":"IF('Simplified Loader'!W89>0,'Simplified Loader'!W89&\" \",\"\")&IF('Simplified Loader'!V89>0,'Simplified Loader'!V89,\"\")","v":""},null,{"$f":"IF('Simplified Loader'!X89>0,'Simplified Loader'!X89,\"\")","v":""},{"$f":"IF('Simplified Loader'!Y89>0,'Simplified Loader'!Y89,\"\")","v":""},{"$f":"IF('Simplified Loader'!Z89>0,'Simplified Loader'!Z89,\"\")","v":""},{"$f":"IF('Simplified Loader'!AA89>0,'Simplified Loader'!AA89,\"\")","v":""},{"$f":"IF('Simplified Loader'!E89>0,'Simplified Loader'!E89,\"\")","v":""},{"$f":"IF('Simplified Loader'!AK89>0,'Simplified Loader'!AK89,\"\")","v":""},{"$f":"IF('Simplified Loader'!AL89>0,'Simplified Loader'!AL89,\"\")","v":""},{"$f":"IF('Simplified Loader'!AM89>0,'Simplified Loader'!AM89,\"\")","v":""},{"$f":"IF('Simplified Loader'!AN89=\"Male\",\"Male\",IF('Simplified Loader'!AN89=\"Female\",\"Female\",IF('Simplified Loader'!AN89=\"M\",\"Male\",IF('Simplified Loader'!AN89=\"F\",\"Female\",\"\"))))","v":""},{"$f":"IF('Simplified Loader'!AO89=\"Single\",\"Single\",IF('Simplified Loader'!AO89=\"Family\",\"Family\",IF('Simplified Loader'!AO89=\"S\",\"Single\",IF('Simplified Loader'!AO89=\"F\",\"Family\",\"\"))))","v":""},{"$f":"IF('Simplified Loader'!AP89=\"Single\",\"Single\",IF('Simplified Loader'!AP89=\"Family\",\"Family\",IF('Simplified Loader'!AP89=\"S\",\"Single\",IF('Simplified Loader'!AP89=\"F\",\"Family\",\"\"))))","v":""},{"$f":"IF('Simplified Loader'!AQ89>0,'Simplified Loader'!AQ89,\"\")","v":""},{"$f":"IF('Simplified Loader'!AR89=\"Yes\",\"Yes\",IF('Simplified Loader'!AR89=\"No\",\"No\",IF('Simplified Loader'!AR89=\"Y\",\"Yes\",IF('Simplified Loader'!AR89=\"N\",\"No\",\"\"))))","v":""},{"$f":"IF('Simplified Loader'!AS89>0,'Simplified Loader'!AS89,\"\")","v":""},{"$f":"IF('Simplified Loader'!AT89>0,'Simplified Loader'!AT89,\"\")","v":""},{"$f":"IF('Simplified Loader'!AU89>0,'Simplified Loader'!AU89,\"\")","v":""},{"$f":"IF('Simplified Loader'!AV89=\"Male\",\"Male\",IF('Simplified Loader'!AV89=\"Female\",\"Female\",IF('Simplified Loader'!AV89=\"M\",\"Male\",IF('Simplified Loader'!AV89=\"F\",\"Female\",\"\"))))","v":""},{"$f":"IF('Simplified Loader'!AW89=\"Yes\",\"Yes\",IF('Simplified Loader'!AW89=\"No\",\"No\",IF('Simplified Loader'!AW89=\"Y\",\"Yes\",IF('Simplified Loader'!AW89=\"N\",\"No\",\"\"))))","v":""},{"$f":"IF('Simplified Loader'!AX89=\"Yes\",\"Yes\",IF('Simplified Loader'!AX89=\"No\",\"No\",IF('Simplified Loader'!AX89=\"Y\",\"Yes\",IF('Simplified Loader'!AX89=\"N\",\"No\",\"\"))))","v":""},{"$f":"IF('Simplified Loader'!AY89>0,'Simplified Loader'!AY89,\"\")","v":""},{"$f":"IF('Simplified Loader'!AZ89>0,'Simplified Loader'!AZ89,\"\")","v":""},{"$f":"IF('Simplified Loader'!BA89>0,'Simplified Loader'!BA89,\"\")","v":""},{"$f":"IF('Simplified Loader'!BB89=\"Male\",\"Male\",IF('Simplified Loader'!BB89=\"Female\",\"Female\",IF('Simplified Loader'!BB89=\"M\",\"Male\",IF('Simplified Loader'!BB89=\"F\",\"Female\",\"\"))))","v":""},{"$f":"IF('Simplified Loader'!BC89=\"Yes\",\"Yes\",IF('Simplified Loader'!BC89=\"No\",\"No\",IF('Simplified Loader'!BC89=\"Y\",\"Yes\",IF('Simplified Loader'!BC89=\"N\",\"No\",\"\"))))","v":""},{"$f":"IF('Simplified Loader'!BD89=\"Yes\",\"Yes\",IF('Simplified Loader'!BD89=\"No\",\"No\",IF('Simplified Loader'!BD89=\"Y\",\"Yes\",IF('Simplified Loader'!BD89=\"N\",\"No\",\"\"))))","v":""},{"$f":"IF('Simplified Loader'!BE89>0,'Simplified Loader'!BE89,\"\")","v":""},{"$f":"IF('Simplified Loader'!BF89>0,'Simplified Loader'!BF89,\"\")","v":""},{"$f":"IF('Simplified Loader'!BG89>0,'Simplified Loader'!BG89,\"\")","v":""},{"$f":"IF('Simplified Loader'!BH89=\"Male\",\"Male\",IF('Simplified Loader'!BH89=\"Female\",\"Female\",IF('Simplified Loader'!BH89=\"M\",\"Male\",IF('Simplified Loader'!BH89=\"F\",\"Female\",\"\"))))","v":""},{"$f":"IF('Simplified Loader'!BI89=\"Yes\",\"Yes\",IF('Simplified Loader'!BI89=\"No\",\"No\",IF('Simplified Loader'!BI89=\"Y\",\"Yes\",IF('Simplified Loader'!BI89=\"N\",\"No\",\"\"))))","v":""},{"$f":"IF('Simplified Loader'!BJ89=\"Yes\",\"Yes\",IF('Simplified Loader'!BJ89=\"No\",\"No\",IF('Simplified Loader'!BJ89=\"Y\",\"Yes\",IF('Simplified Loader'!BJ89=\"N\",\"No\",\"\"))))","v":""},{"$f":"IF('Simplified Loader'!BK89>0,'Simplified Loader'!BK89,\"\")","v":""},{"$f":"IF('Simplified Loader'!BL89>0,'Simplified Loader'!BL89,\"\")","v":""},{"$f":"IF('Simplified Loader'!BM89>0,'Simplified Loader'!BM89,\"\")","v":""},{"$f":"IF('Simplified Loader'!BN89=\"Male\",\"Male\",IF('Simplified Loader'!BN89=\"Female\",\"Female\",IF('Simplified Loader'!BN89=\"M\",\"Male\",IF('Simplified Loader'!BN89=\"F\",\"Female\",\"\"))))","v":""},{"$f":"IF('Simplified Loader'!BO89=\"Yes\",\"Yes\",IF('Simplified Loader'!BO89=\"No\",\"No\",IF('Simplified Loader'!BO89=\"Y\",\"Yes\",IF('Simplified Loader'!BO89=\"N\",\"No\",\"\"))))","v":""},{"$f":"IF('Simplified Loader'!BP89=\"Yes\",\"Yes\",IF('Simplified Loader'!BP89=\"No\",\"No\",IF('Simplified Loader'!BP89=\"Y\",\"Yes\",IF('Simplified Loader'!BP89=\"N\",\"No\",\"\"))))","v":""},{"$f":"IF('Simplified Loader'!BQ89>0,'Simplified Loader'!BQ89,\"\")","v":""},{"$f":"IF('Simplified Loader'!BR89>0,'Simplified Loader'!BR89,\"\")","v":""},{"$f":"IF('Simplified Loader'!BS89>0,'Simplified Loader'!BS89,\"\")","v":""},{"$f":"IF('Simplified Loader'!BT89=\"Male\",\"Male\",IF('Simplified Loader'!BT89=\"Female\",\"Female\",IF('Simplified Loader'!BT89=\"M\",\"Male\",IF('Simplified Loader'!BT89=\"F\",\"Female\",\"\"))))","v":""},{"$f":"IF('Simplified Loader'!BU89=\"Yes\",\"Yes\",IF('Simplified Loader'!BU89=\"No\",\"No\",IF('Simplified Loader'!BU89=\"Y\",\"Yes\",IF('Simplified Loader'!BU89=\"N\",\"No\",\"\"))))","v":""},{"$f":"IF('Simplified Loader'!BV89=\"Yes\",\"Yes\",IF('Simplified Loader'!BV89=\"No\",\"No\",IF('Simplified Loader'!BV89=\"Y\",\"Yes\",IF('Simplified Loader'!BV89=\"N\",\"No\",\"\"))))","v":""},{"$f":"IF('Simplified Loader'!BW89>0,'Simplified Loader'!BW89,\"\")","v":""},{"$f":"IF('Simplified Loader'!BX89>0,'Simplified Loader'!BX89,\"\")","v":""},{"$f":"IF('Simplified Loader'!BY89>0,'Simplified Loader'!BY89,\"\")","v":""},{"$f":"IF('Simplified Loader'!BZ89=\"Male\",\"Male\",IF('Simplified Loader'!BZ89=\"Female\",\"Female\",IF('Simplified Loader'!BZ89=\"M\",\"Male\",IF('Simplified Loader'!BZ89=\"F\",\"Female\",\"\"))))","v":""},{"$f":"IF('Simplified Loader'!CA89=\"Yes\",\"Yes\",IF('Simplified Loader'!CA89=\"No\",\"No\",IF('Simplified Loader'!CA89=\"Y\",\"Yes\",IF('Simplified Loader'!CA89=\"N\",\"No\",\"\"))))","v":""},{"$f":"IF('Simplified Loader'!CB89=\"Yes\",\"Yes\",IF('Simplified Loader'!CB89=\"No\",\"No\",IF('Simplified Loader'!CB89=\"Y\",\"Yes\",IF('Simplified Loader'!CB89=\"N\",\"No\",\"\"))))","v":""},{"$f":"IF('Simplified Loader'!CH89>0,'Simplified Loader'!CH89,\"\")","v":"    "}]
[{"$f":"IF('Simplified Loader'!A90>0,'Simplified Loader'!A90,\"\")","v":""},{"$f":"IF('Simplified Loader'!B90>0,'Simplified Loader'!B90,\"\")","v":""},{"$f":"IF('Simplified Loader'!C90>0,'Simplified Loader'!C90,\"\")","v":""},{"$f":"IF('Simplified Loader'!D90>0,'Simplified Loader'!D90,\"\")","v":""},{"$f":"IF('Simplified Loader'!P90>0,TEXT('Simplified Loader'!P90,\"000\"),\"\")","v":""},{"$f":"IF('Simplified Loader'!Q90>0,'Simplified Loader'!Q90,\"\")","v":""},{"$f":"IF('Simplified Loader'!R90>0,'Simplified Loader'!R90,\"\")","v":""},{"$f":"IF('Simplified Loader'!F90>0,DATEVALUE(TEXT('Simplified Loader'!F90,\"yyyy-mm-dd\")),\"\")","v":""},{"$f":"IF('Simplified Loader'!L90>0,DATEVALUE(TEXT('Simplified Loader'!L90,\"yyyy-mm-dd\")),\"\")","v":""},{"$f":"IF('Simplified Loader'!Y90>0,'Simplified Loader'!Y90,\"\")","v":""},{"$f":"IF('Simplified Loader'!T90>0,'Simplified Loader'!T90,\"\")","v":""},{"$f":"IF('Simplified Loader'!G90=\"Male\",\"Male\",IF('Simplified Loader'!G90=\"Female\",\"Female\",IF('Simplified Loader'!G90=\"M\",\"Male\",IF('Simplified Loader'!G90=\"F\",\"Female\",\"\"))))","v":""},{"$f":"IF('Simplified Loader'!U90=\"Yes\",\"Yes\",IF('Simplified Loader'!U90=\"No\",\"No\",IF('Simplified Loader'!U90=\"Y\",\"Yes\",IF('Simplified Loader'!U90=\"N\",\"No\",\"\"))))","v":""},{"$f":"IF('Simplified Loader'!I90=\"Single\",\"Single\",IF('Simplified Loader'!I90=\"Family\",\"Family\",IF('Simplified Loader'!I90=\"Waive\",\"Family\",IF('Simplified Loader'!I90=\"Single Parent\",\"Family\",IF('Simplified Loader'!I90=\"Couple\",\"Family\",IF('Simplified Loader'!I90=\"In force\",\"Family\",IF('Simplified Loader'!I90=\"Applies\",\"Family\",IF('Simplified Loader'!I90=\"Applicable\",\"Family\",\"\"))))))))","v":""},{"$f":"IF('Simplified Loader'!AC90=\"English\",\"English\",IF('Simplified Loader'!AC90=\"French\",\"French\",IF('Simplified Loader'!AC90=\"E\",\"English\",IF('Simplified Loader'!AC90=\"F\",\"French\",\"\"))))","v":""},{"$f":"IF('Simplified Loader'!AB90=\"Yes\",\"Yes\",IF('Simplified Loader'!AB90=\"No\",\"No\",IF('Simplified Loader'!AB90=\"Y\",\"Yes\",IF('Simplified Loader'!AB90=\"N\",\"No\",\"\"))))","v":""},{"$f":"IF('Simplified Loader'!AD90>0,'Simplified Loader'!AD90,\"\")","v":""},{"$f":"IF('Simplified Loader'!M90>0,'Simplified Loader'!M90,\"\")","v":""},{"$f":"IF('Simplified Loader'!N90>0,'Simplified Loader'!N90,\"\")","v":""},{"$f":"IF('Simplified Loader'!O90>0,'Simplified Loader'!O90,\"\")","v":""},{"$f":"IF('Simplified Loader'!I90=\"Waive\",\"Yes\",\"\")","v":""},{"$f":"IF('Simplified Loader'!I90=\"Waive\",\"Yes\",\"\")","v":""},{"$f":"IF('Simplified Loader'!AE90>0,'Simplified Loader'!AE90,\"\")","v":""},{"$f":"IF('Simplified Loader'!AF90>0,'Simplified Loader'!AF90,\"\")","v":""},{"$f":"IF('Simplified Loader'!AG90>0,'Simplified Loader'!AG90,\"\")","v":""},{"$f":"IF('Simplified Loader'!AH90>0,'Simplified Loader'!AH90,\"\")","v":""},{"$f":"IF('Simplified Loader'!AI90>0,'Simplified Loader'!AI90,\"\")","v":" "},{"$f":"IF('Simplified Loader'!AJ90>0,'Simplified Loader'!AJ90,\"\")","v":" "},{"$f":"IF('Simplified Loader'!W90>0,'Simplified Loader'!W90&\" \",\"\")&IF('Simplified Loader'!V90>0,'Simplified Loader'!V90,\"\")","v":""},null,{"$f":"IF('Simplified Loader'!X90>0,'Simplified Loader'!X90,\"\")","v":""},{"$f":"IF('Simplified Loader'!Y90>0,'Simplified Loader'!Y90,\"\")","v":""},{"$f":"IF('Simplified Loader'!Z90>0,'Simplified Loader'!Z90,\"\")","v":""},{"$f":"IF('Simplified Loader'!AA90>0,'Simplified Loader'!AA90,\"\")","v":""},{"$f":"IF('Simplified Loader'!E90>0,'Simplified Loader'!E90,\"\")","v":""},{"$f":"IF('Simplified Loader'!AK90>0,'Simplified Loader'!AK90,\"\")","v":""},{"$f":"IF('Simplified Loader'!AL90>0,'Simplified Loader'!AL90,\"\")","v":""},{"$f":"IF('Simplified Loader'!AM90>0,'Simplified Loader'!AM90,\"\")","v":""},{"$f":"IF('Simplified Loader'!AN90=\"Male\",\"Male\",IF('Simplified Loader'!AN90=\"Female\",\"Female\",IF('Simplified Loader'!AN90=\"M\",\"Male\",IF('Simplified Loader'!AN90=\"F\",\"Female\",\"\"))))","v":""},{"$f":"IF('Simplified Loader'!AO90=\"Single\",\"Single\",IF('Simplified Loader'!AO90=\"Family\",\"Family\",IF('Simplified Loader'!AO90=\"S\",\"Single\",IF('Simplified Loader'!AO90=\"F\",\"Family\",\"\"))))","v":""},{"$f":"IF('Simplified Loader'!AP90=\"Single\",\"Single\",IF('Simplified Loader'!AP90=\"Family\",\"Family\",IF('Simplified Loader'!AP90=\"S\",\"Single\",IF('Simplified Loader'!AP90=\"F\",\"Family\",\"\"))))","v":""},{"$f":"IF('Simplified Loader'!AQ90>0,'Simplified Loader'!AQ90,\"\")","v":""},{"$f":"IF('Simplified Loader'!AR90=\"Yes\",\"Yes\",IF('Simplified Loader'!AR90=\"No\",\"No\",IF('Simplified Loader'!AR90=\"Y\",\"Yes\",IF('Simplified Loader'!AR90=\"N\",\"No\",\"\"))))","v":""},{"$f":"IF('Simplified Loader'!AS90>0,'Simplified Loader'!AS90,\"\")","v":""},{"$f":"IF('Simplified Loader'!AT90>0,'Simplified Loader'!AT90,\"\")","v":""},{"$f":"IF('Simplified Loader'!AU90>0,'Simplified Loader'!AU90,\"\")","v":""},{"$f":"IF('Simplified Loader'!AV90=\"Male\",\"Male\",IF('Simplified Loader'!AV90=\"Female\",\"Female\",IF('Simplified Loader'!AV90=\"M\",\"Male\",IF('Simplified Loader'!AV90=\"F\",\"Female\",\"\"))))","v":""},{"$f":"IF('Simplified Loader'!AW90=\"Yes\",\"Yes\",IF('Simplified Loader'!AW90=\"No\",\"No\",IF('Simplified Loader'!AW90=\"Y\",\"Yes\",IF('Simplified Loader'!AW90=\"N\",\"No\",\"\"))))","v":""},{"$f":"IF('Simplified Loader'!AX90=\"Yes\",\"Yes\",IF('Simplified Loader'!AX90=\"No\",\"No\",IF('Simplified Loader'!AX90=\"Y\",\"Yes\",IF('Simplified Loader'!AX90=\"N\",\"No\",\"\"))))","v":""},{"$f":"IF('Simplified Loader'!AY90>0,'Simplified Loader'!AY90,\"\")","v":""},{"$f":"IF('Simplified Loader'!AZ90>0,'Simplified Loader'!AZ90,\"\")","v":""},{"$f":"IF('Simplified Loader'!BA90>0,'Simplified Loader'!BA90,\"\")","v":""},{"$f":"IF('Simplified Loader'!BB90=\"Male\",\"Male\",IF('Simplified Loader'!BB90=\"Female\",\"Female\",IF('Simplified Loader'!BB90=\"M\",\"Male\",IF('Simplified Loader'!BB90=\"F\",\"Female\",\"\"))))","v":""},{"$f":"IF('Simplified Loader'!BC90=\"Yes\",\"Yes\",IF('Simplified Loader'!BC90=\"No\",\"No\",IF('Simplified Loader'!BC90=\"Y\",\"Yes\",IF('Simplified Loader'!BC90=\"N\",\"No\",\"\"))))","v":""},{"$f":"IF('Simplified Loader'!BD90=\"Yes\",\"Yes\",IF('Simplified Loader'!BD90=\"No\",\"No\",IF('Simplified Loader'!BD90=\"Y\",\"Yes\",IF('Simplified Loader'!BD90=\"N\",\"No\",\"\"))))","v":""},{"$f":"IF('Simplified Loader'!BE90>0,'Simplified Loader'!BE90,\"\")","v":""},{"$f":"IF('Simplified Loader'!BF90>0,'Simplified Loader'!BF90,\"\")","v":""},{"$f":"IF('Simplified Loader'!BG90>0,'Simplified Loader'!BG90,\"\")","v":""},{"$f":"IF('Simplified Loader'!BH90=\"Male\",\"Male\",IF('Simplified Loader'!BH90=\"Female\",\"Female\",IF('Simplified Loader'!BH90=\"M\",\"Male\",IF('Simplified Loader'!BH90=\"F\",\"Female\",\"\"))))","v":""},{"$f":"IF('Simplified Loader'!BI90=\"Yes\",\"Yes\",IF('Simplified Loader'!BI90=\"No\",\"No\",IF('Simplified Loader'!BI90=\"Y\",\"Yes\",IF('Simplified Loader'!BI90=\"N\",\"No\",\"\"))))","v":""},{"$f":"IF('Simplified Loader'!BJ90=\"Yes\",\"Yes\",IF('Simplified Loader'!BJ90=\"No\",\"No\",IF('Simplified Loader'!BJ90=\"Y\",\"Yes\",IF('Simplified Loader'!BJ90=\"N\",\"No\",\"\"))))","v":""},{"$f":"IF('Simplified Loader'!BK90>0,'Simplified Loader'!BK90,\"\")","v":""},{"$f":"IF('Simplified Loader'!BL90>0,'Simplified Loader'!BL90,\"\")","v":""},{"$f":"IF('Simplified Loader'!BM90>0,'Simplified Loader'!BM90,\"\")","v":""},{"$f":"IF('Simplified Loader'!BN90=\"Male\",\"Male\",IF('Simplified Loader'!BN90=\"Female\",\"Female\",IF('Simplified Loader'!BN90=\"M\",\"Male\",IF('Simplified Loader'!BN90=\"F\",\"Female\",\"\"))))","v":""},{"$f":"IF('Simplified Loader'!BO90=\"Yes\",\"Yes\",IF('Simplified Loader'!BO90=\"No\",\"No\",IF('Simplified Loader'!BO90=\"Y\",\"Yes\",IF('Simplified Loader'!BO90=\"N\",\"No\",\"\"))))","v":""},{"$f":"IF('Simplified Loader'!BP90=\"Yes\",\"Yes\",IF('Simplified Loader'!BP90=\"No\",\"No\",IF('Simplified Loader'!BP90=\"Y\",\"Yes\",IF('Simplified Loader'!BP90=\"N\",\"No\",\"\"))))","v":""},{"$f":"IF('Simplified Loader'!BQ90>0,'Simplified Loader'!BQ90,\"\")","v":""},{"$f":"IF('Simplified Loader'!BR90>0,'Simplified Loader'!BR90,\"\")","v":""},{"$f":"IF('Simplified Loader'!BS90>0,'Simplified Loader'!BS90,\"\")","v":""},{"$f":"IF('Simplified Loader'!BT90=\"Male\",\"Male\",IF('Simplified Loader'!BT90=\"Female\",\"Female\",IF('Simplified Loader'!BT90=\"M\",\"Male\",IF('Simplified Loader'!BT90=\"F\",\"Female\",\"\"))))","v":""},{"$f":"IF('Simplified Loader'!BU90=\"Yes\",\"Yes\",IF('Simplified Loader'!BU90=\"No\",\"No\",IF('Simplified Loader'!BU90=\"Y\",\"Yes\",IF('Simplified Loader'!BU90=\"N\",\"No\",\"\"))))","v":""},{"$f":"IF('Simplified Loader'!BV90=\"Yes\",\"Yes\",IF('Simplified Loader'!BV90=\"No\",\"No\",IF('Simplified Loader'!BV90=\"Y\",\"Yes\",IF('Simplified Loader'!BV90=\"N\",\"No\",\"\"))))","v":""},{"$f":"IF('Simplified Loader'!BW90>0,'Simplified Loader'!BW90,\"\")","v":""},{"$f":"IF('Simplified Loader'!BX90>0,'Simplified Loader'!BX90,\"\")","v":""},{"$f":"IF('Simplified Loader'!BY90>0,'Simplified Loader'!BY90,\"\")","v":""},{"$f":"IF('Simplified Loader'!BZ90=\"Male\",\"Male\",IF('Simplified Loader'!BZ90=\"Female\",\"Female\",IF('Simplified Loader'!BZ90=\"M\",\"Male\",IF('Simplified Loader'!BZ90=\"F\",\"Female\",\"\"))))","v":""},{"$f":"IF('Simplified Loader'!CA90=\"Yes\",\"Yes\",IF('Simplified Loader'!CA90=\"No\",\"No\",IF('Simplified Loader'!CA90=\"Y\",\"Yes\",IF('Simplified Loader'!CA90=\"N\",\"No\",\"\"))))","v":""},{"$f":"IF('Simplified Loader'!CB90=\"Yes\",\"Yes\",IF('Simplified Loader'!CB90=\"No\",\"No\",IF('Simplified Loader'!CB90=\"Y\",\"Yes\",IF('Simplified Loader'!CB90=\"N\",\"No\",\"\"))))","v":""},{"$f":"IF('Simplified Loader'!CH90>0,'Simplified Loader'!CH90,\"\")","v":"    "}]
[{"$f":"IF('Simplified Loader'!A91>0,'Simplified Loader'!A91,\"\")","v":""},{"$f":"IF('Simplified Loader'!B91>0,'Simplified Loader'!B91,\"\")","v":""},{"$f":"IF('Simplified Loader'!C91>0,'Simplified Loader'!C91,\"\")","v":""},{"$f":"IF('Simplified Loader'!D91>0,'Simplified Loader'!D91,\"\")","v":""},{"$f":"IF('Simplified Loader'!P91>0,TEXT('Simplified Loader'!P91,\"000\"),\"\")","v":""},{"$f":"IF('Simplified Loader'!Q91>0,'Simplified Loader'!Q91,\"\")","v":""},{"$f":"IF('Simplified Loader'!R91>0,'Simplified Loader'!R91,\"\")","v":""},{"$f":"IF('Simplified Loader'!F91>0,DATEVALUE(TEXT('Simplified Loader'!F91,\"yyyy-mm-dd\")),\"\")","v":""},{"$f":"IF('Simplified Loader'!L91>0,DATEVALUE(TEXT('Simplified Loader'!L91,\"yyyy-mm-dd\")),\"\")","v":""},{"$f":"IF('Simplified Loader'!Y91>0,'Simplified Loader'!Y91,\"\")","v":""},{"$f":"IF('Simplified Loader'!T91>0,'Simplified Loader'!T91,\"\")","v":""},{"$f":"IF('Simplified Loader'!G91=\"Male\",\"Male\",IF('Simplified Loader'!G91=\"Female\",\"Female\",IF('Simplified Loader'!G91=\"M\",\"Male\",IF('Simplified Loader'!G91=\"F\",\"Female\",\"\"))))","v":""},{"$f":"IF('Simplified Loader'!U91=\"Yes\",\"Yes\",IF('Simplified Loader'!U91=\"No\",\"No\",IF('Simplified Loader'!U91=\"Y\",\"Yes\",IF('Simplified Loader'!U91=\"N\",\"No\",\"\"))))","v":""},{"$f":"IF('Simplified Loader'!I91=\"Single\",\"Single\",IF('Simplified Loader'!I91=\"Family\",\"Family\",IF('Simplified Loader'!I91=\"Waive\",\"Family\",IF('Simplified Loader'!I91=\"Single Parent\",\"Family\",IF('Simplified Loader'!I91=\"Couple\",\"Family\",IF('Simplified Loader'!I91=\"In force\",\"Family\",IF('Simplified Loader'!I91=\"Applies\",\"Family\",IF('Simplified Loader'!I91=\"Applicable\",\"Family\",\"\"))))))))","v":""},{"$f":"IF('Simplified Loader'!AC91=\"English\",\"English\",IF('Simplified Loader'!AC91=\"French\",\"French\",IF('Simplified Loader'!AC91=\"E\",\"English\",IF('Simplified Loader'!AC91=\"F\",\"French\",\"\"))))","v":""},{"$f":"IF('Simplified Loader'!AB91=\"Yes\",\"Yes\",IF('Simplified Loader'!AB91=\"No\",\"No\",IF('Simplified Loader'!AB91=\"Y\",\"Yes\",IF('Simplified Loader'!AB91=\"N\",\"No\",\"\"))))","v":""},{"$f":"IF('Simplified Loader'!AD91>0,'Simplified Loader'!AD91,\"\")","v":""},{"$f":"IF('Simplified Loader'!M91>0,'Simplified Loader'!M91,\"\")","v":""},{"$f":"IF('Simplified Loader'!N91>0,'Simplified Loader'!N91,\"\")","v":""},{"$f":"IF('Simplified Loader'!O91>0,'Simplified Loader'!O91,\"\")","v":""},{"$f":"IF('Simplified Loader'!I91=\"Waive\",\"Yes\",\"\")","v":""},{"$f":"IF('Simplified Loader'!I91=\"Waive\",\"Yes\",\"\")","v":""},{"$f":"IF('Simplified Loader'!AE91>0,'Simplified Loader'!AE91,\"\")","v":""},{"$f":"IF('Simplified Loader'!AF91>0,'Simplified Loader'!AF91,\"\")","v":""},{"$f":"IF('Simplified Loader'!AG91>0,'Simplified Loader'!AG91,\"\")","v":""},{"$f":"IF('Simplified Loader'!AH91>0,'Simplified Loader'!AH91,\"\")","v":""},{"$f":"IF('Simplified Loader'!AI91>0,'Simplified Loader'!AI91,\"\")","v":" "},{"$f":"IF('Simplified Loader'!AJ91>0,'Simplified Loader'!AJ91,\"\")","v":" "},{"$f":"IF('Simplified Loader'!W91>0,'Simplified Loader'!W91&\" \",\"\")&IF('Simplified Loader'!V91>0,'Simplified Loader'!V91,\"\")","v":""},null,{"$f":"IF('Simplified Loader'!X91>0,'Simplified Loader'!X91,\"\")","v":""},{"$f":"IF('Simplified Loader'!Y91>0,'Simplified Loader'!Y91,\"\")","v":""},{"$f":"IF('Simplified Loader'!Z91>0,'Simplified Loader'!Z91,\"\")","v":""},{"$f":"IF('Simplified Loader'!AA91>0,'Simplified Loader'!AA91,\"\")","v":""},{"$f":"IF('Simplified Loader'!E91>0,'Simplified Loader'!E91,\"\")","v":""},{"$f":"IF('Simplified Loader'!AK91>0,'Simplified Loader'!AK91,\"\")","v":""},{"$f":"IF('Simplified Loader'!AL91>0,'Simplified Loader'!AL91,\"\")","v":""},{"$f":"IF('Simplified Loader'!AM91>0,'Simplified Loader'!AM91,\"\")","v":""},{"$f":"IF('Simplified Loader'!AN91=\"Male\",\"Male\",IF('Simplified Loader'!AN91=\"Female\",\"Female\",IF('Simplified Loader'!AN91=\"M\",\"Male\",IF('Simplified Loader'!AN91=\"F\",\"Female\",\"\"))))","v":""},{"$f":"IF('Simplified Loader'!AO91=\"Single\",\"Single\",IF('Simplified Loader'!AO91=\"Family\",\"Family\",IF('Simplified Loader'!AO91=\"S\",\"Single\",IF('Simplified Loader'!AO91=\"F\",\"Family\",\"\"))))","v":""},{"$f":"IF('Simplified Loader'!AP91=\"Single\",\"Single\",IF('Simplified Loader'!AP91=\"Family\",\"Family\",IF('Simplified Loader'!AP91=\"S\",\"Single\",IF('Simplified Loader'!AP91=\"F\",\"Family\",\"\"))))","v":""},{"$f":"IF('Simplified Loader'!AQ91>0,'Simplified Loader'!AQ91,\"\")","v":""},{"$f":"IF('Simplified Loader'!AR91=\"Yes\",\"Yes\",IF('Simplified Loader'!AR91=\"No\",\"No\",IF('Simplified Loader'!AR91=\"Y\",\"Yes\",IF('Simplified Loader'!AR91=\"N\",\"No\",\"\"))))","v":""},{"$f":"IF('Simplified Loader'!AS91>0,'Simplified Loader'!AS91,\"\")","v":""},{"$f":"IF('Simplified Loader'!AT91>0,'Simplified Loader'!AT91,\"\")","v":""},{"$f":"IF('Simplified Loader'!AU91>0,'Simplified Loader'!AU91,\"\")","v":""},{"$f":"IF('Simplified Loader'!AV91=\"Male\",\"Male\",IF('Simplified Loader'!AV91=\"Female\",\"Female\",IF('Simplified Loader'!AV91=\"M\",\"Male\",IF('Simplified Loader'!AV91=\"F\",\"Female\",\"\"))))","v":""},{"$f":"IF('Simplified Loader'!AW91=\"Yes\",\"Yes\",IF('Simplified Loader'!AW91=\"No\",\"No\",IF('Simplified Loader'!AW91=\"Y\",\"Yes\",IF('Simplified Loader'!AW91=\"N\",\"No\",\"\"))))","v":""},{"$f":"IF('Simplified Loader'!AX91=\"Yes\",\"Yes\",IF('Simplified Loader'!AX91=\"No\",\"No\",IF('Simplified Loader'!AX91=\"Y\",\"Yes\",IF('Simplified Loader'!AX91=\"N\",\"No\",\"\"))))","v":""},{"$f":"IF('Simplified Loader'!AY91>0,'Simplified Loader'!AY91,\"\")","v":""},{"$f":"IF('Simplified Loader'!AZ91>0,'Simplified Loader'!AZ91,\"\")","v":""},{"$f":"IF('Simplified Loader'!BA91>0,'Simplified Loader'!BA91,\"\")","v":""},{"$f":"IF('Simplified Loader'!BB91=\"Male\",\"Male\",IF('Simplified Loader'!BB91=\"Female\",\"Female\",IF('Simplified Loader'!BB91=\"M\",\"Male\",IF('Simplified Loader'!BB91=\"F\",\"Female\",\"\"))))","v":""},{"$f":"IF('Simplified Loader'!BC91=\"Yes\",\"Yes\",IF('Simplified Loader'!BC91=\"No\",\"No\",IF('Simplified Loader'!BC91=\"Y\",\"Yes\",IF('Simplified Loader'!BC91=\"N\",\"No\",\"\"))))","v":""},{"$f":"IF('Simplified Loader'!BD91=\"Yes\",\"Yes\",IF('Simplified Loader'!BD91=\"No\",\"No\",IF('Simplified Loader'!BD91=\"Y\",\"Yes\",IF('Simplified Loader'!BD91=\"N\",\"No\",\"\"))))","v":""},{"$f":"IF('Simplified Loader'!BE91>0,'Simplified Loader'!BE91,\"\")","v":""},{"$f":"IF('Simplified Loader'!BF91>0,'Simplified Loader'!BF91,\"\")","v":""},{"$f":"IF('Simplified Loader'!BG91>0,'Simplified Loader'!BG91,\"\")","v":""},{"$f":"IF('Simplified Loader'!BH91=\"Male\",\"Male\",IF('Simplified Loader'!BH91=\"Female\",\"Female\",IF('Simplified Loader'!BH91=\"M\",\"Male\",IF('Simplified Loader'!BH91=\"F\",\"Female\",\"\"))))","v":""},{"$f":"IF('Simplified Loader'!BI91=\"Yes\",\"Yes\",IF('Simplified Loader'!BI91=\"No\",\"No\",IF('Simplified Loader'!BI91=\"Y\",\"Yes\",IF('Simplified Loader'!BI91=\"N\",\"No\",\"\"))))","v":""},{"$f":"IF('Simplified Loader'!BJ91=\"Yes\",\"Yes\",IF('Simplified Loader'!BJ91=\"No\",\"No\",IF('Simplified Loader'!BJ91=\"Y\",\"Yes\",IF('Simplified Loader'!BJ91=\"N\",\"No\",\"\"))))","v":""},{"$f":"IF('Simplified Loader'!BK91>0,'Simplified Loader'!BK91,\"\")","v":""},{"$f":"IF('Simplified Loader'!BL91>0,'Simplified Loader'!BL91,\"\")","v":""},{"$f":"IF('Simplified Loader'!BM91>0,'Simplified Loader'!BM91,\"\")","v":""},{"$f":"IF('Simplified Loader'!BN91=\"Male\",\"Male\",IF('Simplified Loader'!BN91=\"Female\",\"Female\",IF('Simplified Loader'!BN91=\"M\",\"Male\",IF('Simplified Loader'!BN91=\"F\",\"Female\",\"\"))))","v":""},{"$f":"IF('Simplified Loader'!BO91=\"Yes\",\"Yes\",IF('Simplified Loader'!BO91=\"No\",\"No\",IF('Simplified Loader'!BO91=\"Y\",\"Yes\",IF('Simplified Loader'!BO91=\"N\",\"No\",\"\"))))","v":""},{"$f":"IF('Simplified Loader'!BP91=\"Yes\",\"Yes\",IF('Simplified Loader'!BP91=\"No\",\"No\",IF('Simplified Loader'!BP91=\"Y\",\"Yes\",IF('Simplified Loader'!BP91=\"N\",\"No\",\"\"))))","v":""},{"$f":"IF('Simplified Loader'!BQ91>0,'Simplified Loader'!BQ91,\"\")","v":""},{"$f":"IF('Simplified Loader'!BR91>0,'Simplified Loader'!BR91,\"\")","v":""},{"$f":"IF('Simplified Loader'!BS91>0,'Simplified Loader'!BS91,\"\")","v":""},{"$f":"IF('Simplified Loader'!BT91=\"Male\",\"Male\",IF('Simplified Loader'!BT91=\"Female\",\"Female\",IF('Simplified Loader'!BT91=\"M\",\"Male\",IF('Simplified Loader'!BT91=\"F\",\"Female\",\"\"))))","v":""},{"$f":"IF('Simplified Loader'!BU91=\"Yes\",\"Yes\",IF('Simplified Loader'!BU91=\"No\",\"No\",IF('Simplified Loader'!BU91=\"Y\",\"Yes\",IF('Simplified Loader'!BU91=\"N\",\"No\",\"\"))))","v":""},{"$f":"IF('Simplified Loader'!BV91=\"Yes\",\"Yes\",IF('Simplified Loader'!BV91=\"No\",\"No\",IF('Simplified Loader'!BV91=\"Y\",\"Yes\",IF('Simplified Loader'!BV91=\"N\",\"No\",\"\"))))","v":""},{"$f":"IF('Simplified Loader'!BW91>0,'Simplified Loader'!BW91,\"\")","v":""},{"$f":"IF('Simplified Loader'!BX91>0,'Simplified Loader'!BX91,\"\")","v":""},{"$f":"IF('Simplified Loader'!BY91>0,'Simplified Loader'!BY91,\"\")","v":""},{"$f":"IF('Simplified Loader'!BZ91=\"Male\",\"Male\",IF('Simplified Loader'!BZ91=\"Female\",\"Female\",IF('Simplified Loader'!BZ91=\"M\",\"Male\",IF('Simplified Loader'!BZ91=\"F\",\"Female\",\"\"))))","v":""},{"$f":"IF('Simplified Loader'!CA91=\"Yes\",\"Yes\",IF('Simplified Loader'!CA91=\"No\",\"No\",IF('Simplified Loader'!CA91=\"Y\",\"Yes\",IF('Simplified Loader'!CA91=\"N\",\"No\",\"\"))))","v":""},{"$f":"IF('Simplified Loader'!CB91=\"Yes\",\"Yes\",IF('Simplified Loader'!CB91=\"No\",\"No\",IF('Simplified Loader'!CB91=\"Y\",\"Yes\",IF('Simplified Loader'!CB91=\"N\",\"No\",\"\"))))","v":""},{"$f":"IF('Simplified Loader'!CH91>0,'Simplified Loader'!CH91,\"\")","v":"    "}]
[{"$f":"IF('Simplified Loader'!A92>0,'Simplified Loader'!A92,\"\")","v":""},{"$f":"IF('Simplified Loader'!B92>0,'Simplified Loader'!B92,\"\")","v":""},{"$f":"IF('Simplified Loader'!C92>0,'Simplified Loader'!C92,\"\")","v":""},{"$f":"IF('Simplified Loader'!D92>0,'Simplified Loader'!D92,\"\")","v":""},{"$f":"IF('Simplified Loader'!P92>0,TEXT('Simplified Loader'!P92,\"000\"),\"\")","v":""},{"$f":"IF('Simplified Loader'!Q92>0,'Simplified Loader'!Q92,\"\")","v":""},{"$f":"IF('Simplified Loader'!R92>0,'Simplified Loader'!R92,\"\")","v":""},{"$f":"IF('Simplified Loader'!F92>0,DATEVALUE(TEXT('Simplified Loader'!F92,\"yyyy-mm-dd\")),\"\")","v":""},{"$f":"IF('Simplified Loader'!L92>0,DATEVALUE(TEXT('Simplified Loader'!L92,\"yyyy-mm-dd\")),\"\")","v":""},{"$f":"IF('Simplified Loader'!Y92>0,'Simplified Loader'!Y92,\"\")","v":""},{"$f":"IF('Simplified Loader'!T92>0,'Simplified Loader'!T92,\"\")","v":""},{"$f":"IF('Simplified Loader'!G92=\"Male\",\"Male\",IF('Simplified Loader'!G92=\"Female\",\"Female\",IF('Simplified Loader'!G92=\"M\",\"Male\",IF('Simplified Loader'!G92=\"F\",\"Female\",\"\"))))","v":""},{"$f":"IF('Simplified Loader'!U92=\"Yes\",\"Yes\",IF('Simplified Loader'!U92=\"No\",\"No\",IF('Simplified Loader'!U92=\"Y\",\"Yes\",IF('Simplified Loader'!U92=\"N\",\"No\",\"\"))))","v":""},{"$f":"IF('Simplified Loader'!I92=\"Single\",\"Single\",IF('Simplified Loader'!I92=\"Family\",\"Family\",IF('Simplified Loader'!I92=\"Waive\",\"Family\",IF('Simplified Loader'!I92=\"Single Parent\",\"Family\",IF('Simplified Loader'!I92=\"Couple\",\"Family\",IF('Simplified Loader'!I92=\"In force\",\"Family\",IF('Simplified Loader'!I92=\"Applies\",\"Family\",IF('Simplified Loader'!I92=\"Applicable\",\"Family\",\"\"))))))))","v":""},{"$f":"IF('Simplified Loader'!AC92=\"English\",\"English\",IF('Simplified Loader'!AC92=\"French\",\"French\",IF('Simplified Loader'!AC92=\"E\",\"English\",IF('Simplified Loader'!AC92=\"F\",\"French\",\"\"))))","v":""},{"$f":"IF('Simplified Loader'!AB92=\"Yes\",\"Yes\",IF('Simplified Loader'!AB92=\"No\",\"No\",IF('Simplified Loader'!AB92=\"Y\",\"Yes\",IF('Simplified Loader'!AB92=\"N\",\"No\",\"\"))))","v":""},{"$f":"IF('Simplified Loader'!AD92>0,'Simplified Loader'!AD92,\"\")","v":""},{"$f":"IF('Simplified Loader'!M92>0,'Simplified Loader'!M92,\"\")","v":""},{"$f":"IF('Simplified Loader'!N92>0,'Simplified Loader'!N92,\"\")","v":""},{"$f":"IF('Simplified Loader'!O92>0,'Simplified Loader'!O92,\"\")","v":""},{"$f":"IF('Simplified Loader'!I92=\"Waive\",\"Yes\",\"\")","v":""},{"$f":"IF('Simplified Loader'!I92=\"Waive\",\"Yes\",\"\")","v":""},{"$f":"IF('Simplified Loader'!AE92>0,'Simplified Loader'!AE92,\"\")","v":""},{"$f":"IF('Simplified Loader'!AF92>0,'Simplified Loader'!AF92,\"\")","v":""},{"$f":"IF('Simplified Loader'!AG92>0,'Simplified Loader'!AG92,\"\")","v":""},{"$f":"IF('Simplified Loader'!AH92>0,'Simplified Loader'!AH92,\"\")","v":""},{"$f":"IF('Simplified Loader'!AI92>0,'Simplified Loader'!AI92,\"\")","v":" "},{"$f":"IF('Simplified Loader'!AJ92>0,'Simplified Loader'!AJ92,\"\")","v":" "},{"$f":"IF('Simplified Loader'!W92>0,'Simplified Loader'!W92&\" \",\"\")&IF('Simplified Loader'!V92>0,'Simplified Loader'!V92,\"\")","v":""},null,{"$f":"IF('Simplified Loader'!X92>0,'Simplified Loader'!X92,\"\")","v":""},{"$f":"IF('Simplified Loader'!Y92>0,'Simplified Loader'!Y92,\"\")","v":""},{"$f":"IF('Simplified Loader'!Z92>0,'Simplified Loader'!Z92,\"\")","v":""},{"$f":"IF('Simplified Loader'!AA92>0,'Simplified Loader'!AA92,\"\")","v":""},{"$f":"IF('Simplified Loader'!E92>0,'Simplified Loader'!E92,\"\")","v":""},{"$f":"IF('Simplified Loader'!AK92>0,'Simplified Loader'!AK92,\"\")","v":""},{"$f":"IF('Simplified Loader'!AL92>0,'Simplified Loader'!AL92,\"\")","v":""},{"$f":"IF('Simplified Loader'!AM92>0,'Simplified Loader'!AM92,\"\")","v":""},{"$f":"IF('Simplified Loader'!AN92=\"Male\",\"Male\",IF('Simplified Loader'!AN92=\"Female\",\"Female\",IF('Simplified Loader'!AN92=\"M\",\"Male\",IF('Simplified Loader'!AN92=\"F\",\"Female\",\"\"))))","v":""},{"$f":"IF('Simplified Loader'!AO92=\"Single\",\"Single\",IF('Simplified Loader'!AO92=\"Family\",\"Family\",IF('Simplified Loader'!AO92=\"S\",\"Single\",IF('Simplified Loader'!AO92=\"F\",\"Family\",\"\"))))","v":""},{"$f":"IF('Simplified Loader'!AP92=\"Single\",\"Single\",IF('Simplified Loader'!AP92=\"Family\",\"Family\",IF('Simplified Loader'!AP92=\"S\",\"Single\",IF('Simplified Loader'!AP92=\"F\",\"Family\",\"\"))))","v":""},{"$f":"IF('Simplified Loader'!AQ92>0,'Simplified Loader'!AQ92,\"\")","v":""},{"$f":"IF('Simplified Loader'!AR92=\"Yes\",\"Yes\",IF('Simplified Loader'!AR92=\"No\",\"No\",IF('Simplified Loader'!AR92=\"Y\",\"Yes\",IF('Simplified Loader'!AR92=\"N\",\"No\",\"\"))))","v":""},{"$f":"IF('Simplified Loader'!AS92>0,'Simplified Loader'!AS92,\"\")","v":""},{"$f":"IF('Simplified Loader'!AT92>0,'Simplified Loader'!AT92,\"\")","v":""},{"$f":"IF('Simplified Loader'!AU92>0,'Simplified Loader'!AU92,\"\")","v":""},{"$f":"IF('Simplified Loader'!AV92=\"Male\",\"Male\",IF('Simplified Loader'!AV92=\"Female\",\"Female\",IF('Simplified Loader'!AV92=\"M\",\"Male\",IF('Simplified Loader'!AV92=\"F\",\"Female\",\"\"))))","v":""},{"$f":"IF('Simplified Loader'!AW92=\"Yes\",\"Yes\",IF('Simplified Loader'!AW92=\"No\",\"No\",IF('Simplified Loader'!AW92=\"Y\",\"Yes\",IF('Simplified Loader'!AW92=\"N\",\"No\",\"\"))))","v":""},{"$f":"IF('Simplified Loader'!AX92=\"Yes\",\"Yes\",IF('Simplified Loader'!AX92=\"No\",\"No\",IF('Simplified Loader'!AX92=\"Y\",\"Yes\",IF('Simplified Loader'!AX92=\"N\",\"No\",\"\"))))","v":""},{"$f":"IF('Simplified Loader'!AY92>0,'Simplified Loader'!AY92,\"\")","v":""},{"$f":"IF('Simplified Loader'!AZ92>0,'Simplified Loader'!AZ92,\"\")","v":""},{"$f":"IF('Simplified Loader'!BA92>0,'Simplified Loader'!BA92,\"\")","v":""},{"$f":"IF('Simplified Loader'!BB92=\"Male\",\"Male\",IF('Simplified Loader'!BB92=\"Female\",\"Female\",IF('Simplified Loader'!BB92=\"M\",\"Male\",IF('Simplified Loader'!BB92=\"F\",\"Female\",\"\"))))","v":""},{"$f":"IF('Simplified Loader'!BC92=\"Yes\",\"Yes\",IF('Simplified Loader'!BC92=\"No\",\"No\",IF('Simplified Loader'!BC92=\"Y\",\"Yes\",IF('Simplified Loader'!BC92=\"N\",\"No\",\"\"))))","v":""},{"$f":"IF('Simplified Loader'!BD92=\"Yes\",\"Yes\",IF('Simplified Loader'!BD92=\"No\",\"No\",IF('Simplified Loader'!BD92=\"Y\",\"Yes\",IF('Simplified Loader'!BD92=\"N\",\"No\",\"\"))))","v":""},{"$f":"IF('Simplified Loader'!BE92>0,'Simplified Loader'!BE92,\"\")","v":""},{"$f":"IF('Simplified Loader'!BF92>0,'Simplified Loader'!BF92,\"\")","v":""},{"$f":"IF('Simplified Loader'!BG92>0,'Simplified Loader'!BG92,\"\")","v":""},{"$f":"IF('Simplified Loader'!BH92=\"Male\",\"Male\",IF('Simplified Loader'!BH92=\"Female\",\"Female\",IF('Simplified Loader'!BH92=\"M\",\"Male\",IF('Simplified Loader'!BH92=\"F\",\"Female\",\"\"))))","v":""},{"$f":"IF('Simplified Loader'!BI92=\"Yes\",\"Yes\",IF('Simplified Loader'!BI92=\"No\",\"No\",IF('Simplified Loader'!BI92=\"Y\",\"Yes\",IF('Simplified Loader'!BI92=\"N\",\"No\",\"\"))))","v":""},{"$f":"IF('Simplified Loader'!BJ92=\"Yes\",\"Yes\",IF('Simplified Loader'!BJ92=\"No\",\"No\",IF('Simplified Loader'!BJ92=\"Y\",\"Yes\",IF('Simplified Loader'!BJ92=\"N\",\"No\",\"\"))))","v":""},{"$f":"IF('Simplified Loader'!BK92>0,'Simplified Loader'!BK92,\"\")","v":""},{"$f":"IF('Simplified Loader'!BL92>0,'Simplified Loader'!BL92,\"\")","v":""},{"$f":"IF('Simplified Loader'!BM92>0,'Simplified Loader'!BM92,\"\")","v":""},{"$f":"IF('Simplified Loader'!BN92=\"Male\",\"Male\",IF('Simplified Loader'!BN92=\"Female\",\"Female\",IF('Simplified Loader'!BN92=\"M\",\"Male\",IF('Simplified Loader'!BN92=\"F\",\"Female\",\"\"))))","v":""},{"$f":"IF('Simplified Loader'!BO92=\"Yes\",\"Yes\",IF('Simplified Loader'!BO92=\"No\",\"No\",IF('Simplified Loader'!BO92=\"Y\",\"Yes\",IF('Simplified Loader'!BO92=\"N\",\"No\",\"\"))))","v":""},{"$f":"IF('Simplified Loader'!BP92=\"Yes\",\"Yes\",IF('Simplified Loader'!BP92=\"No\",\"No\",IF('Simplified Loader'!BP92=\"Y\",\"Yes\",IF('Simplified Loader'!BP92=\"N\",\"No\",\"\"))))","v":""},{"$f":"IF('Simplified Loader'!BQ92>0,'Simplified Loader'!BQ92,\"\")","v":""},{"$f":"IF('Simplified Loader'!BR92>0,'Simplified Loader'!BR92,\"\")","v":""},{"$f":"IF('Simplified Loader'!BS92>0,'Simplified Loader'!BS92,\"\")","v":""},{"$f":"IF('Simplified Loader'!BT92=\"Male\",\"Male\",IF('Simplified Loader'!BT92=\"Female\",\"Female\",IF('Simplified Loader'!BT92=\"M\",\"Male\",IF('Simplified Loader'!BT92=\"F\",\"Female\",\"\"))))","v":""},{"$f":"IF('Simplified Loader'!BU92=\"Yes\",\"Yes\",IF('Simplified Loader'!BU92=\"No\",\"No\",IF('Simplified Loader'!BU92=\"Y\",\"Yes\",IF('Simplified Loader'!BU92=\"N\",\"No\",\"\"))))","v":""},{"$f":"IF('Simplified Loader'!BV92=\"Yes\",\"Yes\",IF('Simplified Loader'!BV92=\"No\",\"No\",IF('Simplified Loader'!BV92=\"Y\",\"Yes\",IF('Simplified Loader'!BV92=\"N\",\"No\",\"\"))))","v":""},{"$f":"IF('Simplified Loader'!BW92>0,'Simplified Loader'!BW92,\"\")","v":""},{"$f":"IF('Simplified Loader'!BX92>0,'Simplified Loader'!BX92,\"\")","v":""},{"$f":"IF('Simplified Loader'!BY92>0,'Simplified Loader'!BY92,\"\")","v":""},{"$f":"IF('Simplified Loader'!BZ92=\"Male\",\"Male\",IF('Simplified Loader'!BZ92=\"Female\",\"Female\",IF('Simplified Loader'!BZ92=\"M\",\"Male\",IF('Simplified Loader'!BZ92=\"F\",\"Female\",\"\"))))","v":""},{"$f":"IF('Simplified Loader'!CA92=\"Yes\",\"Yes\",IF('Simplified Loader'!CA92=\"No\",\"No\",IF('Simplified Loader'!CA92=\"Y\",\"Yes\",IF('Simplified Loader'!CA92=\"N\",\"No\",\"\"))))","v":""},{"$f":"IF('Simplified Loader'!CB92=\"Yes\",\"Yes\",IF('Simplified Loader'!CB92=\"No\",\"No\",IF('Simplified Loader'!CB92=\"Y\",\"Yes\",IF('Simplified Loader'!CB92=\"N\",\"No\",\"\"))))","v":""},{"$f":"IF('Simplified Loader'!CH92>0,'Simplified Loader'!CH92,\"\")","v":"    "}]
[{"$f":"IF('Simplified Loader'!A93>0,'Simplified Loader'!A93,\"\")","v":""},{"$f":"IF('Simplified Loader'!B93>0,'Simplified Loader'!B93,\"\")","v":""},{"$f":"IF('Simplified Loader'!C93>0,'Simplified Loader'!C93,\"\")","v":""},{"$f":"IF('Simplified Loader'!D93>0,'Simplified Loader'!D93,\"\")","v":""},{"$f":"IF('Simplified Loader'!P93>0,TEXT('Simplified Loader'!P93,\"000\"),\"\")","v":""},{"$f":"IF('Simplified Loader'!Q93>0,'Simplified Loader'!Q93,\"\")","v":""},{"$f":"IF('Simplified Loader'!R93>0,'Simplified Loader'!R93,\"\")","v":""},{"$f":"IF('Simplified Loader'!F93>0,DATEVALUE(TEXT('Simplified Loader'!F93,\"yyyy-mm-dd\")),\"\")","v":""},{"$f":"IF('Simplified Loader'!L93>0,DATEVALUE(TEXT('Simplified Loader'!L93,\"yyyy-mm-dd\")),\"\")","v":""},{"$f":"IF('Simplified Loader'!Y93>0,'Simplified Loader'!Y93,\"\")","v":""},{"$f":"IF('Simplified Loader'!T93>0,'Simplified Loader'!T93,\"\")","v":""},{"$f":"IF('Simplified Loader'!G93=\"Male\",\"Male\",IF('Simplified Loader'!G93=\"Female\",\"Female\",IF('Simplified Loader'!G93=\"M\",\"Male\",IF('Simplified Loader'!G93=\"F\",\"Female\",\"\"))))","v":""},{"$f":"IF('Simplified Loader'!U93=\"Yes\",\"Yes\",IF('Simplified Loader'!U93=\"No\",\"No\",IF('Simplified Loader'!U93=\"Y\",\"Yes\",IF('Simplified Loader'!U93=\"N\",\"No\",\"\"))))","v":""},{"$f":"IF('Simplified Loader'!I93=\"Single\",\"Single\",IF('Simplified Loader'!I93=\"Family\",\"Family\",IF('Simplified Loader'!I93=\"Waive\",\"Family\",IF('Simplified Loader'!I93=\"Single Parent\",\"Family\",IF('Simplified Loader'!I93=\"Couple\",\"Family\",IF('Simplified Loader'!I93=\"In force\",\"Family\",IF('Simplified Loader'!I93=\"Applies\",\"Family\",IF('Simplified Loader'!I93=\"Applicable\",\"Family\",\"\"))))))))","v":""},{"$f":"IF('Simplified Loader'!AC93=\"English\",\"English\",IF('Simplified Loader'!AC93=\"French\",\"French\",IF('Simplified Loader'!AC93=\"E\",\"English\",IF('Simplified Loader'!AC93=\"F\",\"French\",\"\"))))","v":""},{"$f":"IF('Simplified Loader'!AB93=\"Yes\",\"Yes\",IF('Simplified Loader'!AB93=\"No\",\"No\",IF('Simplified Loader'!AB93=\"Y\",\"Yes\",IF('Simplified Loader'!AB93=\"N\",\"No\",\"\"))))","v":""},{"$f":"IF('Simplified Loader'!AD93>0,'Simplified Loader'!AD93,\"\")","v":""},{"$f":"IF('Simplified Loader'!M93>0,'Simplified Loader'!M93,\"\")","v":""},{"$f":"IF('Simplified Loader'!N93>0,'Simplified Loader'!N93,\"\")","v":""},{"$f":"IF('Simplified Loader'!O93>0,'Simplified Loader'!O93,\"\")","v":""},{"$f":"IF('Simplified Loader'!I93=\"Waive\",\"Yes\",\"\")","v":""},{"$f":"IF('Simplified Loader'!I93=\"Waive\",\"Yes\",\"\")","v":""},{"$f":"IF('Simplified Loader'!AE93>0,'Simplified Loader'!AE93,\"\")","v":""},{"$f":"IF('Simplified Loader'!AF93>0,'Simplified Loader'!AF93,\"\")","v":""},{"$f":"IF('Simplified Loader'!AG93>0,'Simplified Loader'!AG93,\"\")","v":""},{"$f":"IF('Simplified Loader'!AH93>0,'Simplified Loader'!AH93,\"\")","v":""},{"$f":"IF('Simplified Loader'!AI93>0,'Simplified Loader'!AI93,\"\")","v":" "},{"$f":"IF('Simplified Loader'!AJ93>0,'Simplified Loader'!AJ93,\"\")","v":" "},{"$f":"IF('Simplified Loader'!W93>0,'Simplified Loader'!W93&\" \",\"\")&IF('Simplified Loader'!V93>0,'Simplified Loader'!V93,\"\")","v":""},null,{"$f":"IF('Simplified Loader'!X93>0,'Simplified Loader'!X93,\"\")","v":""},{"$f":"IF('Simplified Loader'!Y93>0,'Simplified Loader'!Y93,\"\")","v":""},{"$f":"IF('Simplified Loader'!Z93>0,'Simplified Loader'!Z93,\"\")","v":""},{"$f":"IF('Simplified Loader'!AA93>0,'Simplified Loader'!AA93,\"\")","v":""},{"$f":"IF('Simplified Loader'!E93>0,'Simplified Loader'!E93,\"\")","v":""},{"$f":"IF('Simplified Loader'!AK93>0,'Simplified Loader'!AK93,\"\")","v":""},{"$f":"IF('Simplified Loader'!AL93>0,'Simplified Loader'!AL93,\"\")","v":""},{"$f":"IF('Simplified Loader'!AM93>0,'Simplified Loader'!AM93,\"\")","v":""},{"$f":"IF('Simplified Loader'!AN93=\"Male\",\"Male\",IF('Simplified Loader'!AN93=\"Female\",\"Female\",IF('Simplified Loader'!AN93=\"M\",\"Male\",IF('Simplified Loader'!AN93=\"F\",\"Female\",\"\"))))","v":""},{"$f":"IF('Simplified Loader'!AO93=\"Single\",\"Single\",IF('Simplified Loader'!AO93=\"Family\",\"Family\",IF('Simplified Loader'!AO93=\"S\",\"Single\",IF('Simplified Loader'!AO93=\"F\",\"Family\",\"\"))))","v":""},{"$f":"IF('Simplified Loader'!AP93=\"Single\",\"Single\",IF('Simplified Loader'!AP93=\"Family\",\"Family\",IF('Simplified Loader'!AP93=\"S\",\"Single\",IF('Simplified Loader'!AP93=\"F\",\"Family\",\"\"))))","v":""},{"$f":"IF('Simplified Loader'!AQ93>0,'Simplified Loader'!AQ93,\"\")","v":""},{"$f":"IF('Simplified Loader'!AR93=\"Yes\",\"Yes\",IF('Simplified Loader'!AR93=\"No\",\"No\",IF('Simplified Loader'!AR93=\"Y\",\"Yes\",IF('Simplified Loader'!AR93=\"N\",\"No\",\"\"))))","v":""},{"$f":"IF('Simplified Loader'!AS93>0,'Simplified Loader'!AS93,\"\")","v":""},{"$f":"IF('Simplified Loader'!AT93>0,'Simplified Loader'!AT93,\"\")","v":""},{"$f":"IF('Simplified Loader'!AU93>0,'Simplified Loader'!AU93,\"\")","v":""},{"$f":"IF('Simplified Loader'!AV93=\"Male\",\"Male\",IF('Simplified Loader'!AV93=\"Female\",\"Female\",IF('Simplified Loader'!AV93=\"M\",\"Male\",IF('Simplified Loader'!AV93=\"F\",\"Female\",\"\"))))","v":""},{"$f":"IF('Simplified Loader'!AW93=\"Yes\",\"Yes\",IF('Simplified Loader'!AW93=\"No\",\"No\",IF('Simplified Loader'!AW93=\"Y\",\"Yes\",IF('Simplified Loader'!AW93=\"N\",\"No\",\"\"))))","v":""},{"$f":"IF('Simplified Loader'!AX93=\"Yes\",\"Yes\",IF('Simplified Loader'!AX93=\"No\",\"No\",IF('Simplified Loader'!AX93=\"Y\",\"Yes\",IF('Simplified Loader'!AX93=\"N\",\"No\",\"\"))))","v":""},{"$f":"IF('Simplified Loader'!AY93>0,'Simplified Loader'!AY93,\"\")","v":""},{"$f":"IF('Simplified Loader'!AZ93>0,'Simplified Loader'!AZ93,\"\")","v":""},{"$f":"IF('Simplified Loader'!BA93>0,'Simplified Loader'!BA93,\"\")","v":""},{"$f":"IF('Simplified Loader'!BB93=\"Male\",\"Male\",IF('Simplified Loader'!BB93=\"Female\",\"Female\",IF('Simplified Loader'!BB93=\"M\",\"Male\",IF('Simplified Loader'!BB93=\"F\",\"Female\",\"\"))))","v":""},{"$f":"IF('Simplified Loader'!BC93=\"Yes\",\"Yes\",IF('Simplified Loader'!BC93=\"No\",\"No\",IF('Simplified Loader'!BC93=\"Y\",\"Yes\",IF('Simplified Loader'!BC93=\"N\",\"No\",\"\"))))","v":""},{"$f":"IF('Simplified Loader'!BD93=\"Yes\",\"Yes\",IF('Simplified Loader'!BD93=\"No\",\"No\",IF('Simplified Loader'!BD93=\"Y\",\"Yes\",IF('Simplified Loader'!BD93=\"N\",\"No\",\"\"))))","v":""},{"$f":"IF('Simplified Loader'!BE93>0,'Simplified Loader'!BE93,\"\")","v":""},{"$f":"IF('Simplified Loader'!BF93>0,'Simplified Loader'!BF93,\"\")","v":""},{"$f":"IF('Simplified Loader'!BG93>0,'Simplified Loader'!BG93,\"\")","v":""},{"$f":"IF('Simplified Loader'!BH93=\"Male\",\"Male\",IF('Simplified Loader'!BH93=\"Female\",\"Female\",IF('Simplified Loader'!BH93=\"M\",\"Male\",IF('Simplified Loader'!BH93=\"F\",\"Female\",\"\"))))","v":""},{"$f":"IF('Simplified Loader'!BI93=\"Yes\",\"Yes\",IF('Simplified Loader'!BI93=\"No\",\"No\",IF('Simplified Loader'!BI93=\"Y\",\"Yes\",IF('Simplified Loader'!BI93=\"N\",\"No\",\"\"))))","v":""},{"$f":"IF('Simplified Loader'!BJ93=\"Yes\",\"Yes\",IF('Simplified Loader'!BJ93=\"No\",\"No\",IF('Simplified Loader'!BJ93=\"Y\",\"Yes\",IF('Simplified Loader'!BJ93=\"N\",\"No\",\"\"))))","v":""},{"$f":"IF('Simplified Loader'!BK93>0,'Simplified Loader'!BK93,\"\")","v":""},{"$f":"IF('Simplified Loader'!BL93>0,'Simplified Loader'!BL93,\"\")","v":""},{"$f":"IF('Simplified Loader'!BM93>0,'Simplified Loader'!BM93,\"\")","v":""},{"$f":"IF('Simplified Loader'!BN93=\"Male\",\"Male\",IF('Simplified Loader'!BN93=\"Female\",\"Female\",IF('Simplified Loader'!BN93=\"M\",\"Male\",IF('Simplified Loader'!BN93=\"F\",\"Female\",\"\"))))","v":""},{"$f":"IF('Simplified Loader'!BO93=\"Yes\",\"Yes\",IF('Simplified Loader'!BO93=\"No\",\"No\",IF('Simplified Loader'!BO93=\"Y\",\"Yes\",IF('Simplified Loader'!BO93=\"N\",\"No\",\"\"))))","v":""},{"$f":"IF('Simplified Loader'!BP93=\"Yes\",\"Yes\",IF('Simplified Loader'!BP93=\"No\",\"No\",IF('Simplified Loader'!BP93=\"Y\",\"Yes\",IF('Simplified Loader'!BP93=\"N\",\"No\",\"\"))))","v":""},{"$f":"IF('Simplified Loader'!BQ93>0,'Simplified Loader'!BQ93,\"\")","v":""},{"$f":"IF('Simplified Loader'!BR93>0,'Simplified Loader'!BR93,\"\")","v":""},{"$f":"IF('Simplified Loader'!BS93>0,'Simplified Loader'!BS93,\"\")","v":""},{"$f":"IF('Simplified Loader'!BT93=\"Male\",\"Male\",IF('Simplified Loader'!BT93=\"Female\",\"Female\",IF('Simplified Loader'!BT93=\"M\",\"Male\",IF('Simplified Loader'!BT93=\"F\",\"Female\",\"\"))))","v":""},{"$f":"IF('Simplified Loader'!BU93=\"Yes\",\"Yes\",IF('Simplified Loader'!BU93=\"No\",\"No\",IF('Simplified Loader'!BU93=\"Y\",\"Yes\",IF('Simplified Loader'!BU93=\"N\",\"No\",\"\"))))","v":""},{"$f":"IF('Simplified Loader'!BV93=\"Yes\",\"Yes\",IF('Simplified Loader'!BV93=\"No\",\"No\",IF('Simplified Loader'!BV93=\"Y\",\"Yes\",IF('Simplified Loader'!BV93=\"N\",\"No\",\"\"))))","v":""},{"$f":"IF('Simplified Loader'!BW93>0,'Simplified Loader'!BW93,\"\")","v":""},{"$f":"IF('Simplified Loader'!BX93>0,'Simplified Loader'!BX93,\"\")","v":""},{"$f":"IF('Simplified Loader'!BY93>0,'Simplified Loader'!BY93,\"\")","v":""},{"$f":"IF('Simplified Loader'!BZ93=\"Male\",\"Male\",IF('Simplified Loader'!BZ93=\"Female\",\"Female\",IF('Simplified Loader'!BZ93=\"M\",\"Male\",IF('Simplified Loader'!BZ93=\"F\",\"Female\",\"\"))))","v":""},{"$f":"IF('Simplified Loader'!CA93=\"Yes\",\"Yes\",IF('Simplified Loader'!CA93=\"No\",\"No\",IF('Simplified Loader'!CA93=\"Y\",\"Yes\",IF('Simplified Loader'!CA93=\"N\",\"No\",\"\"))))","v":""},{"$f":"IF('Simplified Loader'!CB93=\"Yes\",\"Yes\",IF('Simplified Loader'!CB93=\"No\",\"No\",IF('Simplified Loader'!CB93=\"Y\",\"Yes\",IF('Simplified Loader'!CB93=\"N\",\"No\",\"\"))))","v":""},{"$f":"IF('Simplified Loader'!CH93>0,'Simplified Loader'!CH93,\"\")","v":"    "}]
[{"$f":"IF('Simplified Loader'!A94>0,'Simplified Loader'!A94,\"\")","v":""},{"$f":"IF('Simplified Loader'!B94>0,'Simplified Loader'!B94,\"\")","v":""},{"$f":"IF('Simplified Loader'!C94>0,'Simplified Loader'!C94,\"\")","v":""},{"$f":"IF('Simplified Loader'!D94>0,'Simplified Loader'!D94,\"\")","v":""},{"$f":"IF('Simplified Loader'!P94>0,TEXT('Simplified Loader'!P94,\"000\"),\"\")","v":""},{"$f":"IF('Simplified Loader'!Q94>0,'Simplified Loader'!Q94,\"\")","v":""},{"$f":"IF('Simplified Loader'!R94>0,'Simplified Loader'!R94,\"\")","v":""},{"$f":"IF('Simplified Loader'!F94>0,DATEVALUE(TEXT('Simplified Loader'!F94,\"yyyy-mm-dd\")),\"\")","v":""},{"$f":"IF('Simplified Loader'!L94>0,DATEVALUE(TEXT('Simplified Loader'!L94,\"yyyy-mm-dd\")),\"\")","v":""},{"$f":"IF('Simplified Loader'!Y94>0,'Simplified Loader'!Y94,\"\")","v":""},{"$f":"IF('Simplified Loader'!T94>0,'Simplified Loader'!T94,\"\")","v":""},{"$f":"IF('Simplified Loader'!G94=\"Male\",\"Male\",IF('Simplified Loader'!G94=\"Female\",\"Female\",IF('Simplified Loader'!G94=\"M\",\"Male\",IF('Simplified Loader'!G94=\"F\",\"Female\",\"\"))))","v":""},{"$f":"IF('Simplified Loader'!U94=\"Yes\",\"Yes\",IF('Simplified Loader'!U94=\"No\",\"No\",IF('Simplified Loader'!U94=\"Y\",\"Yes\",IF('Simplified Loader'!U94=\"N\",\"No\",\"\"))))","v":""},{"$f":"IF('Simplified Loader'!I94=\"Single\",\"Single\",IF('Simplified Loader'!I94=\"Family\",\"Family\",IF('Simplified Loader'!I94=\"Waive\",\"Family\",IF('Simplified Loader'!I94=\"Single Parent\",\"Family\",IF('Simplified Loader'!I94=\"Couple\",\"Family\",IF('Simplified Loader'!I94=\"In force\",\"Family\",IF('Simplified Loader'!I94=\"Applies\",\"Family\",IF('Simplified Loader'!I94=\"Applicable\",\"Family\",\"\"))))))))","v":""},{"$f":"IF('Simplified Loader'!AC94=\"English\",\"English\",IF('Simplified Loader'!AC94=\"French\",\"French\",IF('Simplified Loader'!AC94=\"E\",\"English\",IF('Simplified Loader'!AC94=\"F\",\"French\",\"\"))))","v":""},{"$f":"IF('Simplified Loader'!AB94=\"Yes\",\"Yes\",IF('Simplified Loader'!AB94=\"No\",\"No\",IF('Simplified Loader'!AB94=\"Y\",\"Yes\",IF('Simplified Loader'!AB94=\"N\",\"No\",\"\"))))","v":""},{"$f":"IF('Simplified Loader'!AD94>0,'Simplified Loader'!AD94,\"\")","v":""},{"$f":"IF('Simplified Loader'!M94>0,'Simplified Loader'!M94,\"\")","v":""},{"$f":"IF('Simplified Loader'!N94>0,'Simplified Loader'!N94,\"\")","v":""},{"$f":"IF('Simplified Loader'!O94>0,'Simplified Loader'!O94,\"\")","v":""},{"$f":"IF('Simplified Loader'!I94=\"Waive\",\"Yes\",\"\")","v":""},{"$f":"IF('Simplified Loader'!I94=\"Waive\",\"Yes\",\"\")","v":""},{"$f":"IF('Simplified Loader'!AE94>0,'Simplified Loader'!AE94,\"\")","v":""},{"$f":"IF('Simplified Loader'!AF94>0,'Simplified Loader'!AF94,\"\")","v":""},{"$f":"IF('Simplified Loader'!AG94>0,'Simplified Loader'!AG94,\"\")","v":""},{"$f":"IF('Simplified Loader'!AH94>0,'Simplified Loader'!AH94,\"\")","v":""},{"$f":"IF('Simplified Loader'!AI94>0,'Simplified Loader'!AI94,\"\")","v":" "},{"$f":"IF('Simplified Loader'!AJ94>0,'Simplified Loader'!AJ94,\"\")","v":" "},{"$f":"IF('Simplified Loader'!W94>0,'Simplified Loader'!W94&\" \",\"\")&IF('Simplified Loader'!V94>0,'Simplified Loader'!V94,\"\")","v":""},null,{"$f":"IF('Simplified Loader'!X94>0,'Simplified Loader'!X94,\"\")","v":""},{"$f":"IF('Simplified Loader'!Y94>0,'Simplified Loader'!Y94,\"\")","v":""},{"$f":"IF('Simplified Loader'!Z94>0,'Simplified Loader'!Z94,\"\")","v":""},{"$f":"IF('Simplified Loader'!AA94>0,'Simplified Loader'!AA94,\"\")","v":""},{"$f":"IF('Simplified Loader'!E94>0,'Simplified Loader'!E94,\"\")","v":""},{"$f":"IF('Simplified Loader'!AK94>0,'Simplified Loader'!AK94,\"\")","v":""},{"$f":"IF('Simplified Loader'!AL94>0,'Simplified Loader'!AL94,\"\")","v":""},{"$f":"IF('Simplified Loader'!AM94>0,'Simplified Loader'!AM94,\"\")","v":""},{"$f":"IF('Simplified Loader'!AN94=\"Male\",\"Male\",IF('Simplified Loader'!AN94=\"Female\",\"Female\",IF('Simplified Loader'!AN94=\"M\",\"Male\",IF('Simplified Loader'!AN94=\"F\",\"Female\",\"\"))))","v":""},{"$f":"IF('Simplified Loader'!AO94=\"Single\",\"Single\",IF('Simplified Loader'!AO94=\"Family\",\"Family\",IF('Simplified Loader'!AO94=\"S\",\"Single\",IF('Simplified Loader'!AO94=\"F\",\"Family\",\"\"))))","v":""},{"$f":"IF('Simplified Loader'!AP94=\"Single\",\"Single\",IF('Simplified Loader'!AP94=\"Family\",\"Family\",IF('Simplified Loader'!AP94=\"S\",\"Single\",IF('Simplified Loader'!AP94=\"F\",\"Family\",\"\"))))","v":""},{"$f":"IF('Simplified Loader'!AQ94>0,'Simplified Loader'!AQ94,\"\")","v":""},{"$f":"IF('Simplified Loader'!AR94=\"Yes\",\"Yes\",IF('Simplified Loader'!AR94=\"No\",\"No\",IF('Simplified Loader'!AR94=\"Y\",\"Yes\",IF('Simplified Loader'!AR94=\"N\",\"No\",\"\"))))","v":""},{"$f":"IF('Simplified Loader'!AS94>0,'Simplified Loader'!AS94,\"\")","v":""},{"$f":"IF('Simplified Loader'!AT94>0,'Simplified Loader'!AT94,\"\")","v":""},{"$f":"IF('Simplified Loader'!AU94>0,'Simplified Loader'!AU94,\"\")","v":""},{"$f":"IF('Simplified Loader'!AV94=\"Male\",\"Male\",IF('Simplified Loader'!AV94=\"Female\",\"Female\",IF('Simplified Loader'!AV94=\"M\",\"Male\",IF('Simplified Loader'!AV94=\"F\",\"Female\",\"\"))))","v":""},{"$f":"IF('Simplified Loader'!AW94=\"Yes\",\"Yes\",IF('Simplified Loader'!AW94=\"No\",\"No\",IF('Simplified Loader'!AW94=\"Y\",\"Yes\",IF('Simplified Loader'!AW94=\"N\",\"No\",\"\"))))","v":""},{"$f":"IF('Simplified Loader'!AX94=\"Yes\",\"Yes\",IF('Simplified Loader'!AX94=\"No\",\"No\",IF('Simplified Loader'!AX94=\"Y\",\"Yes\",IF('Simplified Loader'!AX94=\"N\",\"No\",\"\"))))","v":""},{"$f":"IF('Simplified Loader'!AY94>0,'Simplified Loader'!AY94,\"\")","v":""},{"$f":"IF('Simplified Loader'!AZ94>0,'Simplified Loader'!AZ94,\"\")","v":""},{"$f":"IF('Simplified Loader'!BA94>0,'Simplified Loader'!BA94,\"\")","v":""},{"$f":"IF('Simplified Loader'!BB94=\"Male\",\"Male\",IF('Simplified Loader'!BB94=\"Female\",\"Female\",IF('Simplified Loader'!BB94=\"M\",\"Male\",IF('Simplified Loader'!BB94=\"F\",\"Female\",\"\"))))","v":""},{"$f":"IF('Simplified Loader'!BC94=\"Yes\",\"Yes\",IF('Simplified Loader'!BC94=\"No\",\"No\",IF('Simplified Loader'!BC94=\"Y\",\"Yes\",IF('Simplified Loader'!BC94=\"N\",\"No\",\"\"))))","v":""},{"$f":"IF('Simplified Loader'!BD94=\"Yes\",\"Yes\",IF('Simplified Loader'!BD94=\"No\",\"No\",IF('Simplified Loader'!BD94=\"Y\",\"Yes\",IF('Simplified Loader'!BD94=\"N\",\"No\",\"\"))))","v":""},{"$f":"IF('Simplified Loader'!BE94>0,'Simplified Loader'!BE94,\"\")","v":""},{"$f":"IF('Simplified Loader'!BF94>0,'Simplified Loader'!BF94,\"\")","v":""},{"$f":"IF('Simplified Loader'!BG94>0,'Simplified Loader'!BG94,\"\")","v":""},{"$f":"IF('Simplified Loader'!BH94=\"Male\",\"Male\",IF('Simplified Loader'!BH94=\"Female\",\"Female\",IF('Simplified Loader'!BH94=\"M\",\"Male\",IF('Simplified Loader'!BH94=\"F\",\"Female\",\"\"))))","v":""},{"$f":"IF('Simplified Loader'!BI94=\"Yes\",\"Yes\",IF('Simplified Loader'!BI94=\"No\",\"No\",IF('Simplified Loader'!BI94=\"Y\",\"Yes\",IF('Simplified Loader'!BI94=\"N\",\"No\",\"\"))))","v":""},{"$f":"IF('Simplified Loader'!BJ94=\"Yes\",\"Yes\",IF('Simplified Loader'!BJ94=\"No\",\"No\",IF('Simplified Loader'!BJ94=\"Y\",\"Yes\",IF('Simplified Loader'!BJ94=\"N\",\"No\",\"\"))))","v":""},{"$f":"IF('Simplified Loader'!BK94>0,'Simplified Loader'!BK94,\"\")","v":""},{"$f":"IF('Simplified Loader'!BL94>0,'Simplified Loader'!BL94,\"\")","v":""},{"$f":"IF('Simplified Loader'!BM94>0,'Simplified Loader'!BM94,\"\")","v":""},{"$f":"IF('Simplified Loader'!BN94=\"Male\",\"Male\",IF('Simplified Loader'!BN94=\"Female\",\"Female\",IF('Simplified Loader'!BN94=\"M\",\"Male\",IF('Simplified Loader'!BN94=\"F\",\"Female\",\"\"))))","v":""},{"$f":"IF('Simplified Loader'!BO94=\"Yes\",\"Yes\",IF('Simplified Loader'!BO94=\"No\",\"No\",IF('Simplified Loader'!BO94=\"Y\",\"Yes\",IF('Simplified Loader'!BO94=\"N\",\"No\",\"\"))))","v":""},{"$f":"IF('Simplified Loader'!BP94=\"Yes\",\"Yes\",IF('Simplified Loader'!BP94=\"No\",\"No\",IF('Simplified Loader'!BP94=\"Y\",\"Yes\",IF('Simplified Loader'!BP94=\"N\",\"No\",\"\"))))","v":""},{"$f":"IF('Simplified Loader'!BQ94>0,'Simplified Loader'!BQ94,\"\")","v":""},{"$f":"IF('Simplified Loader'!BR94>0,'Simplified Loader'!BR94,\"\")","v":""},{"$f":"IF('Simplified Loader'!BS94>0,'Simplified Loader'!BS94,\"\")","v":""},{"$f":"IF('Simplified Loader'!BT94=\"Male\",\"Male\",IF('Simplified Loader'!BT94=\"Female\",\"Female\",IF('Simplified Loader'!BT94=\"M\",\"Male\",IF('Simplified Loader'!BT94=\"F\",\"Female\",\"\"))))","v":""},{"$f":"IF('Simplified Loader'!BU94=\"Yes\",\"Yes\",IF('Simplified Loader'!BU94=\"No\",\"No\",IF('Simplified Loader'!BU94=\"Y\",\"Yes\",IF('Simplified Loader'!BU94=\"N\",\"No\",\"\"))))","v":""},{"$f":"IF('Simplified Loader'!BV94=\"Yes\",\"Yes\",IF('Simplified Loader'!BV94=\"No\",\"No\",IF('Simplified Loader'!BV94=\"Y\",\"Yes\",IF('Simplified Loader'!BV94=\"N\",\"No\",\"\"))))","v":""},{"$f":"IF('Simplified Loader'!BW94>0,'Simplified Loader'!BW94,\"\")","v":""},{"$f":"IF('Simplified Loader'!BX94>0,'Simplified Loader'!BX94,\"\")","v":""},{"$f":"IF('Simplified Loader'!BY94>0,'Simplified Loader'!BY94,\"\")","v":""},{"$f":"IF('Simplified Loader'!BZ94=\"Male\",\"Male\",IF('Simplified Loader'!BZ94=\"Female\",\"Female\",IF('Simplified Loader'!BZ94=\"M\",\"Male\",IF('Simplified Loader'!BZ94=\"F\",\"Female\",\"\"))))","v":""},{"$f":"IF('Simplified Loader'!CA94=\"Yes\",\"Yes\",IF('Simplified Loader'!CA94=\"No\",\"No\",IF('Simplified Loader'!CA94=\"Y\",\"Yes\",IF('Simplified Loader'!CA94=\"N\",\"No\",\"\"))))","v":""},{"$f":"IF('Simplified Loader'!CB94=\"Yes\",\"Yes\",IF('Simplified Loader'!CB94=\"No\",\"No\",IF('Simplified Loader'!CB94=\"Y\",\"Yes\",IF('Simplified Loader'!CB94=\"N\",\"No\",\"\"))))","v":""},{"$f":"IF('Simplified Loader'!CH94>0,'Simplified Loader'!CH94,\"\")","v":"    "}]
[{"$f":"IF('Simplified Loader'!A95>0,'Simplified Loader'!A95,\"\")","v":""},{"$f":"IF('Simplified Loader'!B95>0,'Simplified Loader'!B95,\"\")","v":""},{"$f":"IF('Simplified Loader'!C95>0,'Simplified Loader'!C95,\"\")","v":""},{"$f":"IF('Simplified Loader'!D95>0,'Simplified Loader'!D95,\"\")","v":""},{"$f":"IF('Simplified Loader'!P95>0,TEXT('Simplified Loader'!P95,\"000\"),\"\")","v":""},{"$f":"IF('Simplified Loader'!Q95>0,'Simplified Loader'!Q95,\"\")","v":""},{"$f":"IF('Simplified Loader'!R95>0,'Simplified Loader'!R95,\"\")","v":""},{"$f":"IF('Simplified Loader'!F95>0,DATEVALUE(TEXT('Simplified Loader'!F95,\"yyyy-mm-dd\")),\"\")","v":""},{"$f":"IF('Simplified Loader'!L95>0,DATEVALUE(TEXT('Simplified Loader'!L95,\"yyyy-mm-dd\")),\"\")","v":""},{"$f":"IF('Simplified Loader'!Y95>0,'Simplified Loader'!Y95,\"\")","v":""},{"$f":"IF('Simplified Loader'!T95>0,'Simplified Loader'!T95,\"\")","v":""},{"$f":"IF('Simplified Loader'!G95=\"Male\",\"Male\",IF('Simplified Loader'!G95=\"Female\",\"Female\",IF('Simplified Loader'!G95=\"M\",\"Male\",IF('Simplified Loader'!G95=\"F\",\"Female\",\"\"))))","v":""},{"$f":"IF('Simplified Loader'!U95=\"Yes\",\"Yes\",IF('Simplified Loader'!U95=\"No\",\"No\",IF('Simplified Loader'!U95=\"Y\",\"Yes\",IF('Simplified Loader'!U95=\"N\",\"No\",\"\"))))","v":""},{"$f":"IF('Simplified Loader'!I95=\"Single\",\"Single\",IF('Simplified Loader'!I95=\"Family\",\"Family\",IF('Simplified Loader'!I95=\"Waive\",\"Family\",IF('Simplified Loader'!I95=\"Single Parent\",\"Family\",IF('Simplified Loader'!I95=\"Couple\",\"Family\",IF('Simplified Loader'!I95=\"In force\",\"Family\",IF('Simplified Loader'!I95=\"Applies\",\"Family\",IF('Simplified Loader'!I95=\"Applicable\",\"Family\",\"\"))))))))","v":""},{"$f":"IF('Simplified Loader'!AC95=\"English\",\"English\",IF('Simplified Loader'!AC95=\"French\",\"French\",IF('Simplified Loader'!AC95=\"E\",\"English\",IF('Simplified Loader'!AC95=\"F\",\"French\",\"\"))))","v":""},{"$f":"IF('Simplified Loader'!AB95=\"Yes\",\"Yes\",IF('Simplified Loader'!AB95=\"No\",\"No\",IF('Simplified Loader'!AB95=\"Y\",\"Yes\",IF('Simplified Loader'!AB95=\"N\",\"No\",\"\"))))","v":""},{"$f":"IF('Simplified Loader'!AD95>0,'Simplified Loader'!AD95,\"\")","v":""},{"$f":"IF('Simplified Loader'!M95>0,'Simplified Loader'!M95,\"\")","v":""},{"$f":"IF('Simplified Loader'!N95>0,'Simplified Loader'!N95,\"\")","v":""},{"$f":"IF('Simplified Loader'!O95>0,'Simplified Loader'!O95,\"\")","v":""},{"$f":"IF('Simplified Loader'!I95=\"Waive\",\"Yes\",\"\")","v":""},{"$f":"IF('Simplified Loader'!I95=\"Waive\",\"Yes\",\"\")","v":""},{"$f":"IF('Simplified Loader'!AE95>0,'Simplified Loader'!AE95,\"\")","v":""},{"$f":"IF('Simplified Loader'!AF95>0,'Simplified Loader'!AF95,\"\")","v":""},{"$f":"IF('Simplified Loader'!AG95>0,'Simplified Loader'!AG95,\"\")","v":""},{"$f":"IF('Simplified Loader'!AH95>0,'Simplified Loader'!AH95,\"\")","v":""},{"$f":"IF('Simplified Loader'!AI95>0,'Simplified Loader'!AI95,\"\")","v":" "},{"$f":"IF('Simplified Loader'!AJ95>0,'Simplified Loader'!AJ95,\"\")","v":" "},{"$f":"IF('Simplified Loader'!W95>0,'Simplified Loader'!W95&\" \",\"\")&IF('Simplified Loader'!V95>0,'Simplified Loader'!V95,\"\")","v":""},null,{"$f":"IF('Simplified Loader'!X95>0,'Simplified Loader'!X95,\"\")","v":""},{"$f":"IF('Simplified Loader'!Y95>0,'Simplified Loader'!Y95,\"\")","v":""},{"$f":"IF('Simplified Loader'!Z95>0,'Simplified Loader'!Z95,\"\")","v":""},{"$f":"IF('Simplified Loader'!AA95>0,'Simplified Loader'!AA95,\"\")","v":""},{"$f":"IF('Simplified Loader'!E95>0,'Simplified Loader'!E95,\"\")","v":""},{"$f":"IF('Simplified Loader'!AK95>0,'Simplified Loader'!AK95,\"\")","v":""},{"$f":"IF('Simplified Loader'!AL95>0,'Simplified Loader'!AL95,\"\")","v":""},{"$f":"IF('Simplified Loader'!AM95>0,'Simplified Loader'!AM95,\"\")","v":""},{"$f":"IF('Simplified Loader'!AN95=\"Male\",\"Male\",IF('Simplified Loader'!AN95=\"Female\",\"Female\",IF('Simplified Loader'!AN95=\"M\",\"Male\",IF('Simplified Loader'!AN95=\"F\",\"Female\",\"\"))))","v":""},{"$f":"IF('Simplified Loader'!AO95=\"Single\",\"Single\",IF('Simplified Loader'!AO95=\"Family\",\"Family\",IF('Simplified Loader'!AO95=\"S\",\"Single\",IF('Simplified Loader'!AO95=\"F\",\"Family\",\"\"))))","v":""},{"$f":"IF('Simplified Loader'!AP95=\"Single\",\"Single\",IF('Simplified Loader'!AP95=\"Family\",\"Family\",IF('Simplified Loader'!AP95=\"S\",\"Single\",IF('Simplified Loader'!AP95=\"F\",\"Family\",\"\"))))","v":""},{"$f":"IF('Simplified Loader'!AQ95>0,'Simplified Loader'!AQ95,\"\")","v":""},{"$f":"IF('Simplified Loader'!AR95=\"Yes\",\"Yes\",IF('Simplified Loader'!AR95=\"No\",\"No\",IF('Simplified Loader'!AR95=\"Y\",\"Yes\",IF('Simplified Loader'!AR95=\"N\",\"No\",\"\"))))","v":""},{"$f":"IF('Simplified Loader'!AS95>0,'Simplified Loader'!AS95,\"\")","v":""},{"$f":"IF('Simplified Loader'!AT95>0,'Simplified Loader'!AT95,\"\")","v":""},{"$f":"IF('Simplified Loader'!AU95>0,'Simplified Loader'!AU95,\"\")","v":""},{"$f":"IF('Simplified Loader'!AV95=\"Male\",\"Male\",IF('Simplified Loader'!AV95=\"Female\",\"Female\",IF('Simplified Loader'!AV95=\"M\",\"Male\",IF('Simplified Loader'!AV95=\"F\",\"Female\",\"\"))))","v":""},{"$f":"IF('Simplified Loader'!AW95=\"Yes\",\"Yes\",IF('Simplified Loader'!AW95=\"No\",\"No\",IF('Simplified Loader'!AW95=\"Y\",\"Yes\",IF('Simplified Loader'!AW95=\"N\",\"No\",\"\"))))","v":""},{"$f":"IF('Simplified Loader'!AX95=\"Yes\",\"Yes\",IF('Simplified Loader'!AX95=\"No\",\"No\",IF('Simplified Loader'!AX95=\"Y\",\"Yes\",IF('Simplified Loader'!AX95=\"N\",\"No\",\"\"))))","v":""},{"$f":"IF('Simplified Loader'!AY95>0,'Simplified Loader'!AY95,\"\")","v":""},{"$f":"IF('Simplified Loader'!AZ95>0,'Simplified Loader'!AZ95,\"\")","v":""},{"$f":"IF('Simplified Loader'!BA95>0,'Simplified Loader'!BA95,\"\")","v":""},{"$f":"IF('Simplified Loader'!BB95=\"Male\",\"Male\",IF('Simplified Loader'!BB95=\"Female\",\"Female\",IF('Simplified Loader'!BB95=\"M\",\"Male\",IF('Simplified Loader'!BB95=\"F\",\"Female\",\"\"))))","v":""},{"$f":"IF('Simplified Loader'!BC95=\"Yes\",\"Yes\",IF('Simplified Loader'!BC95=\"No\",\"No\",IF('Simplified Loader'!BC95=\"Y\",\"Yes\",IF('Simplified Loader'!BC95=\"N\",\"No\",\"\"))))","v":""},{"$f":"IF('Simplified Loader'!BD95=\"Yes\",\"Yes\",IF('Simplified Loader'!BD95=\"No\",\"No\",IF('Simplified Loader'!BD95=\"Y\",\"Yes\",IF('Simplified Loader'!BD95=\"N\",\"No\",\"\"))))","v":""},{"$f":"IF('Simplified Loader'!BE95>0,'Simplified Loader'!BE95,\"\")","v":""},{"$f":"IF('Simplified Loader'!BF95>0,'Simplified Loader'!BF95,\"\")","v":""},{"$f":"IF('Simplified Loader'!BG95>0,'Simplified Loader'!BG95,\"\")","v":""},{"$f":"IF('Simplified Loader'!BH95=\"Male\",\"Male\",IF('Simplified Loader'!BH95=\"Female\",\"Female\",IF('Simplified Loader'!BH95=\"M\",\"Male\",IF('Simplified Loader'!BH95=\"F\",\"Female\",\"\"))))","v":""},{"$f":"IF('Simplified Loader'!BI95=\"Yes\",\"Yes\",IF('Simplified Loader'!BI95=\"No\",\"No\",IF('Simplified Loader'!BI95=\"Y\",\"Yes\",IF('Simplified Loader'!BI95=\"N\",\"No\",\"\"))))","v":""},{"$f":"IF('Simplified Loader'!BJ95=\"Yes\",\"Yes\",IF('Simplified Loader'!BJ95=\"No\",\"No\",IF('Simplified Loader'!BJ95=\"Y\",\"Yes\",IF('Simplified Loader'!BJ95=\"N\",\"No\",\"\"))))","v":""},{"$f":"IF('Simplified Loader'!BK95>0,'Simplified Loader'!BK95,\"\")","v":""},{"$f":"IF('Simplified Loader'!BL95>0,'Simplified Loader'!BL95,\"\")","v":""},{"$f":"IF('Simplified Loader'!BM95>0,'Simplified Loader'!BM95,\"\")","v":""},{"$f":"IF('Simplified Loader'!BN95=\"Male\",\"Male\",IF('Simplified Loader'!BN95=\"Female\",\"Female\",IF('Simplified Loader'!BN95=\"M\",\"Male\",IF('Simplified Loader'!BN95=\"F\",\"Female\",\"\"))))","v":""},{"$f":"IF('Simplified Loader'!BO95=\"Yes\",\"Yes\",IF('Simplified Loader'!BO95=\"No\",\"No\",IF('Simplified Loader'!BO95=\"Y\",\"Yes\",IF('Simplified Loader'!BO95=\"N\",\"No\",\"\"))))","v":""},{"$f":"IF('Simplified Loader'!BP95=\"Yes\",\"Yes\",IF('Simplified Loader'!BP95=\"No\",\"No\",IF('Simplified Loader'!BP95=\"Y\",\"Yes\",IF('Simplified Loader'!BP95=\"N\",\"No\",\"\"))))","v":""},{"$f":"IF('Simplified Loader'!BQ95>0,'Simplified Loader'!BQ95,\"\")","v":""},{"$f":"IF('Simplified Loader'!BR95>0,'Simplified Loader'!BR95,\"\")","v":""},{"$f":"IF('Simplified Loader'!BS95>0,'Simplified Loader'!BS95,\"\")","v":""},{"$f":"IF('Simplified Loader'!BT95=\"Male\",\"Male\",IF('Simplified Loader'!BT95=\"Female\",\"Female\",IF('Simplified Loader'!BT95=\"M\",\"Male\",IF('Simplified Loader'!BT95=\"F\",\"Female\",\"\"))))","v":""},{"$f":"IF('Simplified Loader'!BU95=\"Yes\",\"Yes\",IF('Simplified Loader'!BU95=\"No\",\"No\",IF('Simplified Loader'!BU95=\"Y\",\"Yes\",IF('Simplified Loader'!BU95=\"N\",\"No\",\"\"))))","v":""},{"$f":"IF('Simplified Loader'!BV95=\"Yes\",\"Yes\",IF('Simplified Loader'!BV95=\"No\",\"No\",IF('Simplified Loader'!BV95=\"Y\",\"Yes\",IF('Simplified Loader'!BV95=\"N\",\"No\",\"\"))))","v":""},{"$f":"IF('Simplified Loader'!BW95>0,'Simplified Loader'!BW95,\"\")","v":""},{"$f":"IF('Simplified Loader'!BX95>0,'Simplified Loader'!BX95,\"\")","v":""},{"$f":"IF('Simplified Loader'!BY95>0,'Simplified Loader'!BY95,\"\")","v":""},{"$f":"IF('Simplified Loader'!BZ95=\"Male\",\"Male\",IF('Simplified Loader'!BZ95=\"Female\",\"Female\",IF('Simplified Loader'!BZ95=\"M\",\"Male\",IF('Simplified Loader'!BZ95=\"F\",\"Female\",\"\"))))","v":""},{"$f":"IF('Simplified Loader'!CA95=\"Yes\",\"Yes\",IF('Simplified Loader'!CA95=\"No\",\"No\",IF('Simplified Loader'!CA95=\"Y\",\"Yes\",IF('Simplified Loader'!CA95=\"N\",\"No\",\"\"))))","v":""},{"$f":"IF('Simplified Loader'!CB95=\"Yes\",\"Yes\",IF('Simplified Loader'!CB95=\"No\",\"No\",IF('Simplified Loader'!CB95=\"Y\",\"Yes\",IF('Simplified Loader'!CB95=\"N\",\"No\",\"\"))))","v":""},{"$f":"IF('Simplified Loader'!CH95>0,'Simplified Loader'!CH95,\"\")","v":"    "}]
[{"$f":"IF('Simplified Loader'!A96>0,'Simplified Loader'!A96,\"\")","v":""},{"$f":"IF('Simplified Loader'!B96>0,'Simplified Loader'!B96,\"\")","v":""},{"$f":"IF('Simplified Loader'!C96>0,'Simplified Loader'!C96,\"\")","v":""},{"$f":"IF('Simplified Loader'!D96>0,'Simplified Loader'!D96,\"\")","v":""},{"$f":"IF('Simplified Loader'!P96>0,TEXT('Simplified Loader'!P96,\"000\"),\"\")","v":""},{"$f":"IF('Simplified Loader'!Q96>0,'Simplified Loader'!Q96,\"\")","v":""},{"$f":"IF('Simplified Loader'!R96>0,'Simplified Loader'!R96,\"\")","v":""},{"$f":"IF('Simplified Loader'!F96>0,DATEVALUE(TEXT('Simplified Loader'!F96,\"yyyy-mm-dd\")),\"\")","v":""},{"$f":"IF('Simplified Loader'!L96>0,DATEVALUE(TEXT('Simplified Loader'!L96,\"yyyy-mm-dd\")),\"\")","v":""},{"$f":"IF('Simplified Loader'!Y96>0,'Simplified Loader'!Y96,\"\")","v":""},{"$f":"IF('Simplified Loader'!T96>0,'Simplified Loader'!T96,\"\")","v":""},{"$f":"IF('Simplified Loader'!G96=\"Male\",\"Male\",IF('Simplified Loader'!G96=\"Female\",\"Female\",IF('Simplified Loader'!G96=\"M\",\"Male\",IF('Simplified Loader'!G96=\"F\",\"Female\",\"\"))))","v":""},{"$f":"IF('Simplified Loader'!U96=\"Yes\",\"Yes\",IF('Simplified Loader'!U96=\"No\",\"No\",IF('Simplified Loader'!U96=\"Y\",\"Yes\",IF('Simplified Loader'!U96=\"N\",\"No\",\"\"))))","v":""},{"$f":"IF('Simplified Loader'!I96=\"Single\",\"Single\",IF('Simplified Loader'!I96=\"Family\",\"Family\",IF('Simplified Loader'!I96=\"Waive\",\"Family\",IF('Simplified Loader'!I96=\"Single Parent\",\"Family\",IF('Simplified Loader'!I96=\"Couple\",\"Family\",IF('Simplified Loader'!I96=\"In force\",\"Family\",IF('Simplified Loader'!I96=\"Applies\",\"Family\",IF('Simplified Loader'!I96=\"Applicable\",\"Family\",\"\"))))))))","v":""},{"$f":"IF('Simplified Loader'!AC96=\"English\",\"English\",IF('Simplified Loader'!AC96=\"French\",\"French\",IF('Simplified Loader'!AC96=\"E\",\"English\",IF('Simplified Loader'!AC96=\"F\",\"French\",\"\"))))","v":""},{"$f":"IF('Simplified Loader'!AB96=\"Yes\",\"Yes\",IF('Simplified Loader'!AB96=\"No\",\"No\",IF('Simplified Loader'!AB96=\"Y\",\"Yes\",IF('Simplified Loader'!AB96=\"N\",\"No\",\"\"))))","v":""},{"$f":"IF('Simplified Loader'!AD96>0,'Simplified Loader'!AD96,\"\")","v":""},{"$f":"IF('Simplified Loader'!M96>0,'Simplified Loader'!M96,\"\")","v":""},{"$f":"IF('Simplified Loader'!N96>0,'Simplified Loader'!N96,\"\")","v":""},{"$f":"IF('Simplified Loader'!O96>0,'Simplified Loader'!O96,\"\")","v":""},{"$f":"IF('Simplified Loader'!I96=\"Waive\",\"Yes\",\"\")","v":""},{"$f":"IF('Simplified Loader'!I96=\"Waive\",\"Yes\",\"\")","v":""},{"$f":"IF('Simplified Loader'!AE96>0,'Simplified Loader'!AE96,\"\")","v":""},{"$f":"IF('Simplified Loader'!AF96>0,'Simplified Loader'!AF96,\"\")","v":""},{"$f":"IF('Simplified Loader'!AG96>0,'Simplified Loader'!AG96,\"\")","v":""},{"$f":"IF('Simplified Loader'!AH96>0,'Simplified Loader'!AH96,\"\")","v":""},{"$f":"IF('Simplified Loader'!AI96>0,'Simplified Loader'!AI96,\"\")","v":" "},{"$f":"IF('Simplified Loader'!AJ96>0,'Simplified Loader'!AJ96,\"\")","v":" "},{"$f":"IF('Simplified Loader'!W96>0,'Simplified Loader'!W96&\" \",\"\")&IF('Simplified Loader'!V96>0,'Simplified Loader'!V96,\"\")","v":""},null,{"$f":"IF('Simplified Loader'!X96>0,'Simplified Loader'!X96,\"\")","v":""},{"$f":"IF('Simplified Loader'!Y96>0,'Simplified Loader'!Y96,\"\")","v":""},{"$f":"IF('Simplified Loader'!Z96>0,'Simplified Loader'!Z96,\"\")","v":""},{"$f":"IF('Simplified Loader'!AA96>0,'Simplified Loader'!AA96,\"\")","v":""},{"$f":"IF('Simplified Loader'!E96>0,'Simplified Loader'!E96,\"\")","v":""},{"$f":"IF('Simplified Loader'!AK96>0,'Simplified Loader'!AK96,\"\")","v":""},{"$f":"IF('Simplified Loader'!AL96>0,'Simplified Loader'!AL96,\"\")","v":""},{"$f":"IF('Simplified Loader'!AM96>0,'Simplified Loader'!AM96,\"\")","v":""},{"$f":"IF('Simplified Loader'!AN96=\"Male\",\"Male\",IF('Simplified Loader'!AN96=\"Female\",\"Female\",IF('Simplified Loader'!AN96=\"M\",\"Male\",IF('Simplified Loader'!AN96=\"F\",\"Female\",\"\"))))","v":""},{"$f":"IF('Simplified Loader'!AO96=\"Single\",\"Single\",IF('Simplified Loader'!AO96=\"Family\",\"Family\",IF('Simplified Loader'!AO96=\"S\",\"Single\",IF('Simplified Loader'!AO96=\"F\",\"Family\",\"\"))))","v":""},{"$f":"IF('Simplified Loader'!AP96=\"Single\",\"Single\",IF('Simplified Loader'!AP96=\"Family\",\"Family\",IF('Simplified Loader'!AP96=\"S\",\"Single\",IF('Simplified Loader'!AP96=\"F\",\"Family\",\"\"))))","v":""},{"$f":"IF('Simplified Loader'!AQ96>0,'Simplified Loader'!AQ96,\"\")","v":""},{"$f":"IF('Simplified Loader'!AR96=\"Yes\",\"Yes\",IF('Simplified Loader'!AR96=\"No\",\"No\",IF('Simplified Loader'!AR96=\"Y\",\"Yes\",IF('Simplified Loader'!AR96=\"N\",\"No\",\"\"))))","v":""},{"$f":"IF('Simplified Loader'!AS96>0,'Simplified Loader'!AS96,\"\")","v":""},{"$f":"IF('Simplified Loader'!AT96>0,'Simplified Loader'!AT96,\"\")","v":""},{"$f":"IF('Simplified Loader'!AU96>0,'Simplified Loader'!AU96,\"\")","v":""},{"$f":"IF('Simplified Loader'!AV96=\"Male\",\"Male\",IF('Simplified Loader'!AV96=\"Female\",\"Female\",IF('Simplified Loader'!AV96=\"M\",\"Male\",IF('Simplified Loader'!AV96=\"F\",\"Female\",\"\"))))","v":""},{"$f":"IF('Simplified Loader'!AW96=\"Yes\",\"Yes\",IF('Simplified Loader'!AW96=\"No\",\"No\",IF('Simplified Loader'!AW96=\"Y\",\"Yes\",IF('Simplified Loader'!AW96=\"N\",\"No\",\"\"))))","v":""},{"$f":"IF('Simplified Loader'!AX96=\"Yes\",\"Yes\",IF('Simplified Loader'!AX96=\"No\",\"No\",IF('Simplified Loader'!AX96=\"Y\",\"Yes\",IF('Simplified Loader'!AX96=\"N\",\"No\",\"\"))))","v":""},{"$f":"IF('Simplified Loader'!AY96>0,'Simplified Loader'!AY96,\"\")","v":""},{"$f":"IF('Simplified Loader'!AZ96>0,'Simplified Loader'!AZ96,\"\")","v":""},{"$f":"IF('Simplified Loader'!BA96>0,'Simplified Loader'!BA96,\"\")","v":""},{"$f":"IF('Simplified Loader'!BB96=\"Male\",\"Male\",IF('Simplified Loader'!BB96=\"Female\",\"Female\",IF('Simplified Loader'!BB96=\"M\",\"Male\",IF('Simplified Loader'!BB96=\"F\",\"Female\",\"\"))))","v":""},{"$f":"IF('Simplified Loader'!BC96=\"Yes\",\"Yes\",IF('Simplified Loader'!BC96=\"No\",\"No\",IF('Simplified Loader'!BC96=\"Y\",\"Yes\",IF('Simplified Loader'!BC96=\"N\",\"No\",\"\"))))","v":""},{"$f":"IF('Simplified Loader'!BD96=\"Yes\",\"Yes\",IF('Simplified Loader'!BD96=\"No\",\"No\",IF('Simplified Loader'!BD96=\"Y\",\"Yes\",IF('Simplified Loader'!BD96=\"N\",\"No\",\"\"))))","v":""},{"$f":"IF('Simplified Loader'!BE96>0,'Simplified Loader'!BE96,\"\")","v":""},{"$f":"IF('Simplified Loader'!BF96>0,'Simplified Loader'!BF96,\"\")","v":""},{"$f":"IF('Simplified Loader'!BG96>0,'Simplified Loader'!BG96,\"\")","v":""},{"$f":"IF('Simplified Loader'!BH96=\"Male\",\"Male\",IF('Simplified Loader'!BH96=\"Female\",\"Female\",IF('Simplified Loader'!BH96=\"M\",\"Male\",IF('Simplified Loader'!BH96=\"F\",\"Female\",\"\"))))","v":""},{"$f":"IF('Simplified Loader'!BI96=\"Yes\",\"Yes\",IF('Simplified Loader'!BI96=\"No\",\"No\",IF('Simplified Loader'!BI96=\"Y\",\"Yes\",IF('Simplified Loader'!BI96=\"N\",\"No\",\"\"))))","v":""},{"$f":"IF('Simplified Loader'!BJ96=\"Yes\",\"Yes\",IF('Simplified Loader'!BJ96=\"No\",\"No\",IF('Simplified Loader'!BJ96=\"Y\",\"Yes\",IF('Simplified Loader'!BJ96=\"N\",\"No\",\"\"))))","v":""},{"$f":"IF('Simplified Loader'!BK96>0,'Simplified Loader'!BK96,\"\")","v":""},{"$f":"IF('Simplified Loader'!BL96>0,'Simplified Loader'!BL96,\"\")","v":""},{"$f":"IF('Simplified Loader'!BM96>0,'Simplified Loader'!BM96,\"\")","v":""},{"$f":"IF('Simplified Loader'!BN96=\"Male\",\"Male\",IF('Simplified Loader'!BN96=\"Female\",\"Female\",IF('Simplified Loader'!BN96=\"M\",\"Male\",IF('Simplified Loader'!BN96=\"F\",\"Female\",\"\"))))","v":""},{"$f":"IF('Simplified Loader'!BO96=\"Yes\",\"Yes\",IF('Simplified Loader'!BO96=\"No\",\"No\",IF('Simplified Loader'!BO96=\"Y\",\"Yes\",IF('Simplified Loader'!BO96=\"N\",\"No\",\"\"))))","v":""},{"$f":"IF('Simplified Loader'!BP96=\"Yes\",\"Yes\",IF('Simplified Loader'!BP96=\"No\",\"No\",IF('Simplified Loader'!BP96=\"Y\",\"Yes\",IF('Simplified Loader'!BP96=\"N\",\"No\",\"\"))))","v":""},{"$f":"IF('Simplified Loader'!BQ96>0,'Simplified Loader'!BQ96,\"\")","v":""},{"$f":"IF('Simplified Loader'!BR96>0,'Simplified Loader'!BR96,\"\")","v":""},{"$f":"IF('Simplified Loader'!BS96>0,'Simplified Loader'!BS96,\"\")","v":""},{"$f":"IF('Simplified Loader'!BT96=\"Male\",\"Male\",IF('Simplified Loader'!BT96=\"Female\",\"Female\",IF('Simplified Loader'!BT96=\"M\",\"Male\",IF('Simplified Loader'!BT96=\"F\",\"Female\",\"\"))))","v":""},{"$f":"IF('Simplified Loader'!BU96=\"Yes\",\"Yes\",IF('Simplified Loader'!BU96=\"No\",\"No\",IF('Simplified Loader'!BU96=\"Y\",\"Yes\",IF('Simplified Loader'!BU96=\"N\",\"No\",\"\"))))","v":""},{"$f":"IF('Simplified Loader'!BV96=\"Yes\",\"Yes\",IF('Simplified Loader'!BV96=\"No\",\"No\",IF('Simplified Loader'!BV96=\"Y\",\"Yes\",IF('Simplified Loader'!BV96=\"N\",\"No\",\"\"))))","v":""},{"$f":"IF('Simplified Loader'!BW96>0,'Simplified Loader'!BW96,\"\")","v":""},{"$f":"IF('Simplified Loader'!BX96>0,'Simplified Loader'!BX96,\"\")","v":""},{"$f":"IF('Simplified Loader'!BY96>0,'Simplified Loader'!BY96,\"\")","v":""},{"$f":"IF('Simplified Loader'!BZ96=\"Male\",\"Male\",IF('Simplified Loader'!BZ96=\"Female\",\"Female\",IF('Simplified Loader'!BZ96=\"M\",\"Male\",IF('Simplified Loader'!BZ96=\"F\",\"Female\",\"\"))))","v":""},{"$f":"IF('Simplified Loader'!CA96=\"Yes\",\"Yes\",IF('Simplified Loader'!CA96=\"No\",\"No\",IF('Simplified Loader'!CA96=\"Y\",\"Yes\",IF('Simplified Loader'!CA96=\"N\",\"No\",\"\"))))","v":""},{"$f":"IF('Simplified Loader'!CB96=\"Yes\",\"Yes\",IF('Simplified Loader'!CB96=\"No\",\"No\",IF('Simplified Loader'!CB96=\"Y\",\"Yes\",IF('Simplified Loader'!CB96=\"N\",\"No\",\"\"))))","v":""},{"$f":"IF('Simplified Loader'!CH96>0,'Simplified Loader'!CH96,\"\")","v":"    "}]
[{"$f":"IF('Simplified Loader'!A97>0,'Simplified Loader'!A97,\"\")","v":""},{"$f":"IF('Simplified Loader'!B97>0,'Simplified Loader'!B97,\"\")","v":""},{"$f":"IF('Simplified Loader'!C97>0,'Simplified Loader'!C97,\"\")","v":""},{"$f":"IF('Simplified Loader'!D97>0,'Simplified Loader'!D97,\"\")","v":""},{"$f":"IF('Simplified Loader'!P97>0,TEXT('Simplified Loader'!P97,\"000\"),\"\")","v":""},{"$f":"IF('Simplified Loader'!Q97>0,'Simplified Loader'!Q97,\"\")","v":""},{"$f":"IF('Simplified Loader'!R97>0,'Simplified Loader'!R97,\"\")","v":""},{"$f":"IF('Simplified Loader'!F97>0,DATEVALUE(TEXT('Simplified Loader'!F97,\"yyyy-mm-dd\")),\"\")","v":""},{"$f":"IF('Simplified Loader'!L97>0,DATEVALUE(TEXT('Simplified Loader'!L97,\"yyyy-mm-dd\")),\"\")","v":""},{"$f":"IF('Simplified Loader'!Y97>0,'Simplified Loader'!Y97,\"\")","v":""},{"$f":"IF('Simplified Loader'!T97>0,'Simplified Loader'!T97,\"\")","v":""},{"$f":"IF('Simplified Loader'!G97=\"Male\",\"Male\",IF('Simplified Loader'!G97=\"Female\",\"Female\",IF('Simplified Loader'!G97=\"M\",\"Male\",IF('Simplified Loader'!G97=\"F\",\"Female\",\"\"))))","v":""},{"$f":"IF('Simplified Loader'!U97=\"Yes\",\"Yes\",IF('Simplified Loader'!U97=\"No\",\"No\",IF('Simplified Loader'!U97=\"Y\",\"Yes\",IF('Simplified Loader'!U97=\"N\",\"No\",\"\"))))","v":""},{"$f":"IF('Simplified Loader'!I97=\"Single\",\"Single\",IF('Simplified Loader'!I97=\"Family\",\"Family\",IF('Simplified Loader'!I97=\"Waive\",\"Family\",IF('Simplified Loader'!I97=\"Single Parent\",\"Family\",IF('Simplified Loader'!I97=\"Couple\",\"Family\",IF('Simplified Loader'!I97=\"In force\",\"Family\",IF('Simplified Loader'!I97=\"Applies\",\"Family\",IF('Simplified Loader'!I97=\"Applicable\",\"Family\",\"\"))))))))","v":""},{"$f":"IF('Simplified Loader'!AC97=\"English\",\"English\",IF('Simplified Loader'!AC97=\"French\",\"French\",IF('Simplified Loader'!AC97=\"E\",\"English\",IF('Simplified Loader'!AC97=\"F\",\"French\",\"\"))))","v":""},{"$f":"IF('Simplified Loader'!AB97=\"Yes\",\"Yes\",IF('Simplified Loader'!AB97=\"No\",\"No\",IF('Simplified Loader'!AB97=\"Y\",\"Yes\",IF('Simplified Loader'!AB97=\"N\",\"No\",\"\"))))","v":""},{"$f":"IF('Simplified Loader'!AD97>0,'Simplified Loader'!AD97,\"\")","v":""},{"$f":"IF('Simplified Loader'!M97>0,'Simplified Loader'!M97,\"\")","v":""},{"$f":"IF('Simplified Loader'!N97>0,'Simplified Loader'!N97,\"\")","v":""},{"$f":"IF('Simplified Loader'!O97>0,'Simplified Loader'!O97,\"\")","v":""},{"$f":"IF('Simplified Loader'!I97=\"Waive\",\"Yes\",\"\")","v":""},{"$f":"IF('Simplified Loader'!I97=\"Waive\",\"Yes\",\"\")","v":""},{"$f":"IF('Simplified Loader'!AE97>0,'Simplified Loader'!AE97,\"\")","v":""},{"$f":"IF('Simplified Loader'!AF97>0,'Simplified Loader'!AF97,\"\")","v":""},{"$f":"IF('Simplified Loader'!AG97>0,'Simplified Loader'!AG97,\"\")","v":""},{"$f":"IF('Simplified Loader'!AH97>0,'Simplified Loader'!AH97,\"\")","v":""},{"$f":"IF('Simplified Loader'!AI97>0,'Simplified Loader'!AI97,\"\")","v":" "},{"$f":"IF('Simplified Loader'!AJ97>0,'Simplified Loader'!AJ97,\"\")","v":" "},{"$f":"IF('Simplified Loader'!W97>0,'Simplified Loader'!W97&\" \",\"\")&IF('Simplified Loader'!V97>0,'Simplified Loader'!V97,\"\")","v":""},null,{"$f":"IF('Simplified Loader'!X97>0,'Simplified Loader'!X97,\"\")","v":""},{"$f":"IF('Simplified Loader'!Y97>0,'Simplified Loader'!Y97,\"\")","v":""},{"$f":"IF('Simplified Loader'!Z97>0,'Simplified Loader'!Z97,\"\")","v":""},{"$f":"IF('Simplified Loader'!AA97>0,'Simplified Loader'!AA97,\"\")","v":""},{"$f":"IF('Simplified Loader'!E97>0,'Simplified Loader'!E97,\"\")","v":""},{"$f":"IF('Simplified Loader'!AK97>0,'Simplified Loader'!AK97,\"\")","v":""},{"$f":"IF('Simplified Loader'!AL97>0,'Simplified Loader'!AL97,\"\")","v":""},{"$f":"IF('Simplified Loader'!AM97>0,'Simplified Loader'!AM97,\"\")","v":""},{"$f":"IF('Simplified Loader'!AN97=\"Male\",\"Male\",IF('Simplified Loader'!AN97=\"Female\",\"Female\",IF('Simplified Loader'!AN97=\"M\",\"Male\",IF('Simplified Loader'!AN97=\"F\",\"Female\",\"\"))))","v":""},{"$f":"IF('Simplified Loader'!AO97=\"Single\",\"Single\",IF('Simplified Loader'!AO97=\"Family\",\"Family\",IF('Simplified Loader'!AO97=\"S\",\"Single\",IF('Simplified Loader'!AO97=\"F\",\"Family\",\"\"))))","v":""},{"$f":"IF('Simplified Loader'!AP97=\"Single\",\"Single\",IF('Simplified Loader'!AP97=\"Family\",\"Family\",IF('Simplified Loader'!AP97=\"S\",\"Single\",IF('Simplified Loader'!AP97=\"F\",\"Family\",\"\"))))","v":""},{"$f":"IF('Simplified Loader'!AQ97>0,'Simplified Loader'!AQ97,\"\")","v":""},{"$f":"IF('Simplified Loader'!AR97=\"Yes\",\"Yes\",IF('Simplified Loader'!AR97=\"No\",\"No\",IF('Simplified Loader'!AR97=\"Y\",\"Yes\",IF('Simplified Loader'!AR97=\"N\",\"No\",\"\"))))","v":""},{"$f":"IF('Simplified Loader'!AS97>0,'Simplified Loader'!AS97,\"\")","v":""},{"$f":"IF('Simplified Loader'!AT97>0,'Simplified Loader'!AT97,\"\")","v":""},{"$f":"IF('Simplified Loader'!AU97>0,'Simplified Loader'!AU97,\"\")","v":""},{"$f":"IF('Simplified Loader'!AV97=\"Male\",\"Male\",IF('Simplified Loader'!AV97=\"Female\",\"Female\",IF('Simplified Loader'!AV97=\"M\",\"Male\",IF('Simplified Loader'!AV97=\"F\",\"Female\",\"\"))))","v":""},{"$f":"IF('Simplified Loader'!AW97=\"Yes\",\"Yes\",IF('Simplified Loader'!AW97=\"No\",\"No\",IF('Simplified Loader'!AW97=\"Y\",\"Yes\",IF('Simplified Loader'!AW97=\"N\",\"No\",\"\"))))","v":""},{"$f":"IF('Simplified Loader'!AX97=\"Yes\",\"Yes\",IF('Simplified Loader'!AX97=\"No\",\"No\",IF('Simplified Loader'!AX97=\"Y\",\"Yes\",IF('Simplified Loader'!AX97=\"N\",\"No\",\"\"))))","v":""},{"$f":"IF('Simplified Loader'!AY97>0,'Simplified Loader'!AY97,\"\")","v":""},{"$f":"IF('Simplified Loader'!AZ97>0,'Simplified Loader'!AZ97,\"\")","v":""},{"$f":"IF('Simplified Loader'!BA97>0,'Simplified Loader'!BA97,\"\")","v":""},{"$f":"IF('Simplified Loader'!BB97=\"Male\",\"Male\",IF('Simplified Loader'!BB97=\"Female\",\"Female\",IF('Simplified Loader'!BB97=\"M\",\"Male\",IF('Simplified Loader'!BB97=\"F\",\"Female\",\"\"))))","v":""},{"$f":"IF('Simplified Loader'!BC97=\"Yes\",\"Yes\",IF('Simplified Loader'!BC97=\"No\",\"No\",IF('Simplified Loader'!BC97=\"Y\",\"Yes\",IF('Simplified Loader'!BC97=\"N\",\"No\",\"\"))))","v":""},{"$f":"IF('Simplified Loader'!BD97=\"Yes\",\"Yes\",IF('Simplified Loader'!BD97=\"No\",\"No\",IF('Simplified Loader'!BD97=\"Y\",\"Yes\",IF('Simplified Loader'!BD97=\"N\",\"No\",\"\"))))","v":""},{"$f":"IF('Simplified Loader'!BE97>0,'Simplified Loader'!BE97,\"\")","v":""},{"$f":"IF('Simplified Loader'!BF97>0,'Simplified Loader'!BF97,\"\")","v":""},{"$f":"IF('Simplified Loader'!BG97>0,'Simplified Loader'!BG97,\"\")","v":""},{"$f":"IF('Simplified Loader'!BH97=\"Male\",\"Male\",IF('Simplified Loader'!BH97=\"Female\",\"Female\",IF('Simplified Loader'!BH97=\"M\",\"Male\",IF('Simplified Loader'!BH97=\"F\",\"Female\",\"\"))))","v":""},{"$f":"IF('Simplified Loader'!BI97=\"Yes\",\"Yes\",IF('Simplified Loader'!BI97=\"No\",\"No\",IF('Simplified Loader'!BI97=\"Y\",\"Yes\",IF('Simplified Loader'!BI97=\"N\",\"No\",\"\"))))","v":""},{"$f":"IF('Simplified Loader'!BJ97=\"Yes\",\"Yes\",IF('Simplified Loader'!BJ97=\"No\",\"No\",IF('Simplified Loader'!BJ97=\"Y\",\"Yes\",IF('Simplified Loader'!BJ97=\"N\",\"No\",\"\"))))","v":""},{"$f":"IF('Simplified Loader'!BK97>0,'Simplified Loader'!BK97,\"\")","v":""},{"$f":"IF('Simplified Loader'!BL97>0,'Simplified Loader'!BL97,\"\")","v":""},{"$f":"IF('Simplified Loader'!BM97>0,'Simplified Loader'!BM97,\"\")","v":""},{"$f":"IF('Simplified Loader'!BN97=\"Male\",\"Male\",IF('Simplified Loader'!BN97=\"Female\",\"Female\",IF('Simplified Loader'!BN97=\"M\",\"Male\",IF('Simplified Loader'!BN97=\"F\",\"Female\",\"\"))))","v":""},{"$f":"IF('Simplified Loader'!BO97=\"Yes\",\"Yes\",IF('Simplified Loader'!BO97=\"No\",\"No\",IF('Simplified Loader'!BO97=\"Y\",\"Yes\",IF('Simplified Loader'!BO97=\"N\",\"No\",\"\"))))","v":""},{"$f":"IF('Simplified Loader'!BP97=\"Yes\",\"Yes\",IF('Simplified Loader'!BP97=\"No\",\"No\",IF('Simplified Loader'!BP97=\"Y\",\"Yes\",IF('Simplified Loader'!BP97=\"N\",\"No\",\"\"))))","v":""},{"$f":"IF('Simplified Loader'!BQ97>0,'Simplified Loader'!BQ97,\"\")","v":""},{"$f":"IF('Simplified Loader'!BR97>0,'Simplified Loader'!BR97,\"\")","v":""},{"$f":"IF('Simplified Loader'!BS97>0,'Simplified Loader'!BS97,\"\")","v":""},{"$f":"IF('Simplified Loader'!BT97=\"Male\",\"Male\",IF('Simplified Loader'!BT97=\"Female\",\"Female\",IF('Simplified Loader'!BT97=\"M\",\"Male\",IF('Simplified Loader'!BT97=\"F\",\"Female\",\"\"))))","v":""},{"$f":"IF('Simplified Loader'!BU97=\"Yes\",\"Yes\",IF('Simplified Loader'!BU97=\"No\",\"No\",IF('Simplified Loader'!BU97=\"Y\",\"Yes\",IF('Simplified Loader'!BU97=\"N\",\"No\",\"\"))))","v":""},{"$f":"IF('Simplified Loader'!BV97=\"Yes\",\"Yes\",IF('Simplified Loader'!BV97=\"No\",\"No\",IF('Simplified Loader'!BV97=\"Y\",\"Yes\",IF('Simplified Loader'!BV97=\"N\",\"No\",\"\"))))","v":""},{"$f":"IF('Simplified Loader'!BW97>0,'Simplified Loader'!BW97,\"\")","v":""},{"$f":"IF('Simplified Loader'!BX97>0,'Simplified Loader'!BX97,\"\")","v":""},{"$f":"IF('Simplified Loader'!BY97>0,'Simplified Loader'!BY97,\"\")","v":""},{"$f":"IF('Simplified Loader'!BZ97=\"Male\",\"Male\",IF('Simplified Loader'!BZ97=\"Female\",\"Female\",IF('Simplified Loader'!BZ97=\"M\",\"Male\",IF('Simplified Loader'!BZ97=\"F\",\"Female\",\"\"))))","v":""},{"$f":"IF('Simplified Loader'!CA97=\"Yes\",\"Yes\",IF('Simplified Loader'!CA97=\"No\",\"No\",IF('Simplified Loader'!CA97=\"Y\",\"Yes\",IF('Simplified Loader'!CA97=\"N\",\"No\",\"\"))))","v":""},{"$f":"IF('Simplified Loader'!CB97=\"Yes\",\"Yes\",IF('Simplified Loader'!CB97=\"No\",\"No\",IF('Simplified Loader'!CB97=\"Y\",\"Yes\",IF('Simplified Loader'!CB97=\"N\",\"No\",\"\"))))","v":""},{"$f":"IF('Simplified Loader'!CH97>0,'Simplified Loader'!CH97,\"\")","v":"    "}]
[{"$f":"IF('Simplified Loader'!A98>0,'Simplified Loader'!A98,\"\")","v":""},{"$f":"IF('Simplified Loader'!B98>0,'Simplified Loader'!B98,\"\")","v":""},{"$f":"IF('Simplified Loader'!C98>0,'Simplified Loader'!C98,\"\")","v":""},{"$f":"IF('Simplified Loader'!D98>0,'Simplified Loader'!D98,\"\")","v":""},{"$f":"IF('Simplified Loader'!P98>0,TEXT('Simplified Loader'!P98,\"000\"),\"\")","v":""},{"$f":"IF('Simplified Loader'!Q98>0,'Simplified Loader'!Q98,\"\")","v":""},{"$f":"IF('Simplified Loader'!R98>0,'Simplified Loader'!R98,\"\")","v":""},{"$f":"IF('Simplified Loader'!F98>0,DATEVALUE(TEXT('Simplified Loader'!F98,\"yyyy-mm-dd\")),\"\")","v":""},{"$f":"IF('Simplified Loader'!L98>0,DATEVALUE(TEXT('Simplified Loader'!L98,\"yyyy-mm-dd\")),\"\")","v":""},{"$f":"IF('Simplified Loader'!Y98>0,'Simplified Loader'!Y98,\"\")","v":""},{"$f":"IF('Simplified Loader'!T98>0,'Simplified Loader'!T98,\"\")","v":""},{"$f":"IF('Simplified Loader'!G98=\"Male\",\"Male\",IF('Simplified Loader'!G98=\"Female\",\"Female\",IF('Simplified Loader'!G98=\"M\",\"Male\",IF('Simplified Loader'!G98=\"F\",\"Female\",\"\"))))","v":""},{"$f":"IF('Simplified Loader'!U98=\"Yes\",\"Yes\",IF('Simplified Loader'!U98=\"No\",\"No\",IF('Simplified Loader'!U98=\"Y\",\"Yes\",IF('Simplified Loader'!U98=\"N\",\"No\",\"\"))))","v":""},{"$f":"IF('Simplified Loader'!I98=\"Single\",\"Single\",IF('Simplified Loader'!I98=\"Family\",\"Family\",IF('Simplified Loader'!I98=\"Waive\",\"Family\",IF('Simplified Loader'!I98=\"Single Parent\",\"Family\",IF('Simplified Loader'!I98=\"Couple\",\"Family\",IF('Simplified Loader'!I98=\"In force\",\"Family\",IF('Simplified Loader'!I98=\"Applies\",\"Family\",IF('Simplified Loader'!I98=\"Applicable\",\"Family\",\"\"))))))))","v":""},{"$f":"IF('Simplified Loader'!AC98=\"English\",\"English\",IF('Simplified Loader'!AC98=\"French\",\"French\",IF('Simplified Loader'!AC98=\"E\",\"English\",IF('Simplified Loader'!AC98=\"F\",\"French\",\"\"))))","v":""},{"$f":"IF('Simplified Loader'!AB98=\"Yes\",\"Yes\",IF('Simplified Loader'!AB98=\"No\",\"No\",IF('Simplified Loader'!AB98=\"Y\",\"Yes\",IF('Simplified Loader'!AB98=\"N\",\"No\",\"\"))))","v":""},{"$f":"IF('Simplified Loader'!AD98>0,'Simplified Loader'!AD98,\"\")","v":""},{"$f":"IF('Simplified Loader'!M98>0,'Simplified Loader'!M98,\"\")","v":""},{"$f":"IF('Simplified Loader'!N98>0,'Simplified Loader'!N98,\"\")","v":""},{"$f":"IF('Simplified Loader'!O98>0,'Simplified Loader'!O98,\"\")","v":""},{"$f":"IF('Simplified Loader'!I98=\"Waive\",\"Yes\",\"\")","v":""},{"$f":"IF('Simplified Loader'!I98=\"Waive\",\"Yes\",\"\")","v":""},{"$f":"IF('Simplified Loader'!AE98>0,'Simplified Loader'!AE98,\"\")","v":""},{"$f":"IF('Simplified Loader'!AF98>0,'Simplified Loader'!AF98,\"\")","v":""},{"$f":"IF('Simplified Loader'!AG98>0,'Simplified Loader'!AG98,\"\")","v":""},{"$f":"IF('Simplified Loader'!AH98>0,'Simplified Loader'!AH98,\"\")","v":""},{"$f":"IF('Simplified Loader'!AI98>0,'Simplified Loader'!AI98,\"\")","v":" "},{"$f":"IF('Simplified Loader'!AJ98>0,'Simplified Loader'!AJ98,\"\")","v":" "},{"$f":"IF('Simplified Loader'!W98>0,'Simplified Loader'!W98&\" \",\"\")&IF('Simplified Loader'!V98>0,'Simplified Loader'!V98,\"\")","v":""},null,{"$f":"IF('Simplified Loader'!X98>0,'Simplified Loader'!X98,\"\")","v":""},{"$f":"IF('Simplified Loader'!Y98>0,'Simplified Loader'!Y98,\"\")","v":""},{"$f":"IF('Simplified Loader'!Z98>0,'Simplified Loader'!Z98,\"\")","v":""},{"$f":"IF('Simplified Loader'!AA98>0,'Simplified Loader'!AA98,\"\")","v":""},{"$f":"IF('Simplified Loader'!E98>0,'Simplified Loader'!E98,\"\")","v":""},{"$f":"IF('Simplified Loader'!AK98>0,'Simplified Loader'!AK98,\"\")","v":""},{"$f":"IF('Simplified Loader'!AL98>0,'Simplified Loader'!AL98,\"\")","v":""},{"$f":"IF('Simplified Loader'!AM98>0,'Simplified Loader'!AM98,\"\")","v":""},{"$f":"IF('Simplified Loader'!AN98=\"Male\",\"Male\",IF('Simplified Loader'!AN98=\"Female\",\"Female\",IF('Simplified Loader'!AN98=\"M\",\"Male\",IF('Simplified Loader'!AN98=\"F\",\"Female\",\"\"))))","v":""},{"$f":"IF('Simplified Loader'!AO98=\"Single\",\"Single\",IF('Simplified Loader'!AO98=\"Family\",\"Family\",IF('Simplified Loader'!AO98=\"S\",\"Single\",IF('Simplified Loader'!AO98=\"F\",\"Family\",\"\"))))","v":""},{"$f":"IF('Simplified Loader'!AP98=\"Single\",\"Single\",IF('Simplified Loader'!AP98=\"Family\",\"Family\",IF('Simplified Loader'!AP98=\"S\",\"Single\",IF('Simplified Loader'!AP98=\"F\",\"Family\",\"\"))))","v":""},{"$f":"IF('Simplified Loader'!AQ98>0,'Simplified Loader'!AQ98,\"\")","v":""},{"$f":"IF('Simplified Loader'!AR98=\"Yes\",\"Yes\",IF('Simplified Loader'!AR98=\"No\",\"No\",IF('Simplified Loader'!AR98=\"Y\",\"Yes\",IF('Simplified Loader'!AR98=\"N\",\"No\",\"\"))))","v":""},{"$f":"IF('Simplified Loader'!AS98>0,'Simplified Loader'!AS98,\"\")","v":""},{"$f":"IF('Simplified Loader'!AT98>0,'Simplified Loader'!AT98,\"\")","v":""},{"$f":"IF('Simplified Loader'!AU98>0,'Simplified Loader'!AU98,\"\")","v":""},{"$f":"IF('Simplified Loader'!AV98=\"Male\",\"Male\",IF('Simplified Loader'!AV98=\"Female\",\"Female\",IF('Simplified Loader'!AV98=\"M\",\"Male\",IF('Simplified Loader'!AV98=\"F\",\"Female\",\"\"))))","v":""},{"$f":"IF('Simplified Loader'!AW98=\"Yes\",\"Yes\",IF('Simplified Loader'!AW98=\"No\",\"No\",IF('Simplified Loader'!AW98=\"Y\",\"Yes\",IF('Simplified Loader'!AW98=\"N\",\"No\",\"\"))))","v":""},{"$f":"IF('Simplified Loader'!AX98=\"Yes\",\"Yes\",IF('Simplified Loader'!AX98=\"No\",\"No\",IF('Simplified Loader'!AX98=\"Y\",\"Yes\",IF('Simplified Loader'!AX98=\"N\",\"No\",\"\"))))","v":""},{"$f":"IF('Simplified Loader'!AY98>0,'Simplified Loader'!AY98,\"\")","v":""},{"$f":"IF('Simplified Loader'!AZ98>0,'Simplified Loader'!AZ98,\"\")","v":""},{"$f":"IF('Simplified Loader'!BA98>0,'Simplified Loader'!BA98,\"\")","v":""},{"$f":"IF('Simplified Loader'!BB98=\"Male\",\"Male\",IF('Simplified Loader'!BB98=\"Female\",\"Female\",IF('Simplified Loader'!BB98=\"M\",\"Male\",IF('Simplified Loader'!BB98=\"F\",\"Female\",\"\"))))","v":""},{"$f":"IF('Simplified Loader'!BC98=\"Yes\",\"Yes\",IF('Simplified Loader'!BC98=\"No\",\"No\",IF('Simplified Loader'!BC98=\"Y\",\"Yes\",IF('Simplified Loader'!BC98=\"N\",\"No\",\"\"))))","v":""},{"$f":"IF('Simplified Loader'!BD98=\"Yes\",\"Yes\",IF('Simplified Loader'!BD98=\"No\",\"No\",IF('Simplified Loader'!BD98=\"Y\",\"Yes\",IF('Simplified Loader'!BD98=\"N\",\"No\",\"\"))))","v":""},{"$f":"IF('Simplified Loader'!BE98>0,'Simplified Loader'!BE98,\"\")","v":""},{"$f":"IF('Simplified Loader'!BF98>0,'Simplified Loader'!BF98,\"\")","v":""},{"$f":"IF('Simplified Loader'!BG98>0,'Simplified Loader'!BG98,\"\")","v":""},{"$f":"IF('Simplified Loader'!BH98=\"Male\",\"Male\",IF('Simplified Loader'!BH98=\"Female\",\"Female\",IF('Simplified Loader'!BH98=\"M\",\"Male\",IF('Simplified Loader'!BH98=\"F\",\"Female\",\"\"))))","v":""},{"$f":"IF('Simplified Loader'!BI98=\"Yes\",\"Yes\",IF('Simplified Loader'!BI98=\"No\",\"No\",IF('Simplified Loader'!BI98=\"Y\",\"Yes\",IF('Simplified Loader'!BI98=\"N\",\"No\",\"\"))))","v":""},{"$f":"IF('Simplified Loader'!BJ98=\"Yes\",\"Yes\",IF('Simplified Loader'!BJ98=\"No\",\"No\",IF('Simplified Loader'!BJ98=\"Y\",\"Yes\",IF('Simplified Loader'!BJ98=\"N\",\"No\",\"\"))))","v":""},{"$f":"IF('Simplified Loader'!BK98>0,'Simplified Loader'!BK98,\"\")","v":""},{"$f":"IF('Simplified Loader'!BL98>0,'Simplified Loader'!BL98,\"\")","v":""},{"$f":"IF('Simplified Loader'!BM98>0,'Simplified Loader'!BM98,\"\")","v":""},{"$f":"IF('Simplified Loader'!BN98=\"Male\",\"Male\",IF('Simplified Loader'!BN98=\"Female\",\"Female\",IF('Simplified Loader'!BN98=\"M\",\"Male\",IF('Simplified Loader'!BN98=\"F\",\"Female\",\"\"))))","v":""},{"$f":"IF('Simplified Loader'!BO98=\"Yes\",\"Yes\",IF('Simplified Loader'!BO98=\"No\",\"No\",IF('Simplified Loader'!BO98=\"Y\",\"Yes\",IF('Simplified Loader'!BO98=\"N\",\"No\",\"\"))))","v":""},{"$f":"IF('Simplified Loader'!BP98=\"Yes\",\"Yes\",IF('Simplified Loader'!BP98=\"No\",\"No\",IF('Simplified Loader'!BP98=\"Y\",\"Yes\",IF('Simplified Loader'!BP98=\"N\",\"No\",\"\"))))","v":""},{"$f":"IF('Simplified Loader'!BQ98>0,'Simplified Loader'!BQ98,\"\")","v":""},{"$f":"IF('Simplified Loader'!BR98>0,'Simplified Loader'!BR98,\"\")","v":""},{"$f":"IF('Simplified Loader'!BS98>0,'Simplified Loader'!BS98,\"\")","v":""},{"$f":"IF('Simplified Loader'!BT98=\"Male\",\"Male\",IF('Simplified Loader'!BT98=\"Female\",\"Female\",IF('Simplified Loader'!BT98=\"M\",\"Male\",IF('Simplified Loader'!BT98=\"F\",\"Female\",\"\"))))","v":""},{"$f":"IF('Simplified Loader'!BU98=\"Yes\",\"Yes\",IF('Simplified Loader'!BU98=\"No\",\"No\",IF('Simplified Loader'!BU98=\"Y\",\"Yes\",IF('Simplified Loader'!BU98=\"N\",\"No\",\"\"))))","v":""},{"$f":"IF('Simplified Loader'!BV98=\"Yes\",\"Yes\",IF('Simplified Loader'!BV98=\"No\",\"No\",IF('Simplified Loader'!BV98=\"Y\",\"Yes\",IF('Simplified Loader'!BV98=\"N\",\"No\",\"\"))))","v":""},{"$f":"IF('Simplified Loader'!BW98>0,'Simplified Loader'!BW98,\"\")","v":""},{"$f":"IF('Simplified Loader'!BX98>0,'Simplified Loader'!BX98,\"\")","v":""},{"$f":"IF('Simplified Loader'!BY98>0,'Simplified Loader'!BY98,\"\")","v":""},{"$f":"IF('Simplified Loader'!BZ98=\"Male\",\"Male\",IF('Simplified Loader'!BZ98=\"Female\",\"Female\",IF('Simplified Loader'!BZ98=\"M\",\"Male\",IF('Simplified Loader'!BZ98=\"F\",\"Female\",\"\"))))","v":""},{"$f":"IF('Simplified Loader'!CA98=\"Yes\",\"Yes\",IF('Simplified Loader'!CA98=\"No\",\"No\",IF('Simplified Loader'!CA98=\"Y\",\"Yes\",IF('Simplified Loader'!CA98=\"N\",\"No\",\"\"))))","v":""},{"$f":"IF('Simplified Loader'!CB98=\"Yes\",\"Yes\",IF('Simplified Loader'!CB98=\"No\",\"No\",IF('Simplified Loader'!CB98=\"Y\",\"Yes\",IF('Simplified Loader'!CB98=\"N\",\"No\",\"\"))))","v":""},{"$f":"IF('Simplified Loader'!CH98>0,'Simplified Loader'!CH98,\"\")","v":"    "}]
[{"$f":"IF('Simplified Loader'!A99>0,'Simplified Loader'!A99,\"\")","v":""},{"$f":"IF('Simplified Loader'!B99>0,'Simplified Loader'!B99,\"\")","v":""},{"$f":"IF('Simplified Loader'!C99>0,'Simplified Loader'!C99,\"\")","v":""},{"$f":"IF('Simplified Loader'!D99>0,'Simplified Loader'!D99,\"\")","v":""},{"$f":"IF('Simplified Loader'!P99>0,TEXT('Simplified Loader'!P99,\"000\"),\"\")","v":""},{"$f":"IF('Simplified Loader'!Q99>0,'Simplified Loader'!Q99,\"\")","v":""},{"$f":"IF('Simplified Loader'!R99>0,'Simplified Loader'!R99,\"\")","v":""},{"$f":"IF('Simplified Loader'!F99>0,DATEVALUE(TEXT('Simplified Loader'!F99,\"yyyy-mm-dd\")),\"\")","v":""},{"$f":"IF('Simplified Loader'!L99>0,DATEVALUE(TEXT('Simplified Loader'!L99,\"yyyy-mm-dd\")),\"\")","v":""},{"$f":"IF('Simplified Loader'!Y99>0,'Simplified Loader'!Y99,\"\")","v":""},{"$f":"IF('Simplified Loader'!T99>0,'Simplified Loader'!T99,\"\")","v":""},{"$f":"IF('Simplified Loader'!G99=\"Male\",\"Male\",IF('Simplified Loader'!G99=\"Female\",\"Female\",IF('Simplified Loader'!G99=\"M\",\"Male\",IF('Simplified Loader'!G99=\"F\",\"Female\",\"\"))))","v":""},{"$f":"IF('Simplified Loader'!U99=\"Yes\",\"Yes\",IF('Simplified Loader'!U99=\"No\",\"No\",IF('Simplified Loader'!U99=\"Y\",\"Yes\",IF('Simplified Loader'!U99=\"N\",\"No\",\"\"))))","v":""},{"$f":"IF('Simplified Loader'!I99=\"Single\",\"Single\",IF('Simplified Loader'!I99=\"Family\",\"Family\",IF('Simplified Loader'!I99=\"Waive\",\"Family\",IF('Simplified Loader'!I99=\"Single Parent\",\"Family\",IF('Simplified Loader'!I99=\"Couple\",\"Family\",IF('Simplified Loader'!I99=\"In force\",\"Family\",IF('Simplified Loader'!I99=\"Applies\",\"Family\",IF('Simplified Loader'!I99=\"Applicable\",\"Family\",\"\"))))))))","v":""},{"$f":"IF('Simplified Loader'!AC99=\"English\",\"English\",IF('Simplified Loader'!AC99=\"French\",\"French\",IF('Simplified Loader'!AC99=\"E\",\"English\",IF('Simplified Loader'!AC99=\"F\",\"French\",\"\"))))","v":""},{"$f":"IF('Simplified Loader'!AB99=\"Yes\",\"Yes\",IF('Simplified Loader'!AB99=\"No\",\"No\",IF('Simplified Loader'!AB99=\"Y\",\"Yes\",IF('Simplified Loader'!AB99=\"N\",\"No\",\"\"))))","v":""},{"$f":"IF('Simplified Loader'!AD99>0,'Simplified Loader'!AD99,\"\")","v":""},{"$f":"IF('Simplified Loader'!M99>0,'Simplified Loader'!M99,\"\")","v":""},{"$f":"IF('Simplified Loader'!N99>0,'Simplified Loader'!N99,\"\")","v":""},{"$f":"IF('Simplified Loader'!O99>0,'Simplified Loader'!O99,\"\")","v":""},{"$f":"IF('Simplified Loader'!I99=\"Waive\",\"Yes\",\"\")","v":""},{"$f":"IF('Simplified Loader'!I99=\"Waive\",\"Yes\",\"\")","v":""},{"$f":"IF('Simplified Loader'!AE99>0,'Simplified Loader'!AE99,\"\")","v":""},{"$f":"IF('Simplified Loader'!AF99>0,'Simplified Loader'!AF99,\"\")","v":""},{"$f":"IF('Simplified Loader'!AG99>0,'Simplified Loader'!AG99,\"\")","v":""},{"$f":"IF('Simplified Loader'!AH99>0,'Simplified Loader'!AH99,\"\")","v":""},{"$f":"IF('Simplified Loader'!AI99>0,'Simplified Loader'!AI99,\"\")","v":" "},{"$f":"IF('Simplified Loader'!AJ99>0,'Simplified Loader'!AJ99,\"\")","v":" "},{"$f":"IF('Simplified Loader'!W99>0,'Simplified Loader'!W99&\" \",\"\")&IF('Simplified Loader'!V99>0,'Simplified Loader'!V99,\"\")","v":""},null,{"$f":"IF('Simplified Loader'!X99>0,'Simplified Loader'!X99,\"\")","v":""},{"$f":"IF('Simplified Loader'!Y99>0,'Simplified Loader'!Y99,\"\")","v":""},{"$f":"IF('Simplified Loader'!Z99>0,'Simplified Loader'!Z99,\"\")","v":""},{"$f":"IF('Simplified Loader'!AA99>0,'Simplified Loader'!AA99,\"\")","v":""},{"$f":"IF('Simplified Loader'!E99>0,'Simplified Loader'!E99,\"\")","v":""},{"$f":"IF('Simplified Loader'!AK99>0,'Simplified Loader'!AK99,\"\")","v":""},{"$f":"IF('Simplified Loader'!AL99>0,'Simplified Loader'!AL99,\"\")","v":""},{"$f":"IF('Simplified Loader'!AM99>0,'Simplified Loader'!AM99,\"\")","v":""},{"$f":"IF('Simplified Loader'!AN99=\"Male\",\"Male\",IF('Simplified Loader'!AN99=\"Female\",\"Female\",IF('Simplified Loader'!AN99=\"M\",\"Male\",IF('Simplified Loader'!AN99=\"F\",\"Female\",\"\"))))","v":""},{"$f":"IF('Simplified Loader'!AO99=\"Single\",\"Single\",IF('Simplified Loader'!AO99=\"Family\",\"Family\",IF('Simplified Loader'!AO99=\"S\",\"Single\",IF('Simplified Loader'!AO99=\"F\",\"Family\",\"\"))))","v":""},{"$f":"IF('Simplified Loader'!AP99=\"Single\",\"Single\",IF('Simplified Loader'!AP99=\"Family\",\"Family\",IF('Simplified Loader'!AP99=\"S\",\"Single\",IF('Simplified Loader'!AP99=\"F\",\"Family\",\"\"))))","v":""},{"$f":"IF('Simplified Loader'!AQ99>0,'Simplified Loader'!AQ99,\"\")","v":""},{"$f":"IF('Simplified Loader'!AR99=\"Yes\",\"Yes\",IF('Simplified Loader'!AR99=\"No\",\"No\",IF('Simplified Loader'!AR99=\"Y\",\"Yes\",IF('Simplified Loader'!AR99=\"N\",\"No\",\"\"))))","v":""},{"$f":"IF('Simplified Loader'!AS99>0,'Simplified Loader'!AS99,\"\")","v":""},{"$f":"IF('Simplified Loader'!AT99>0,'Simplified Loader'!AT99,\"\")","v":""},{"$f":"IF('Simplified Loader'!AU99>0,'Simplified Loader'!AU99,\"\")","v":""},{"$f":"IF('Simplified Loader'!AV99=\"Male\",\"Male\",IF('Simplified Loader'!AV99=\"Female\",\"Female\",IF('Simplified Loader'!AV99=\"M\",\"Male\",IF('Simplified Loader'!AV99=\"F\",\"Female\",\"\"))))","v":""},{"$f":"IF('Simplified Loader'!AW99=\"Yes\",\"Yes\",IF('Simplified Loader'!AW99=\"No\",\"No\",IF('Simplified Loader'!AW99=\"Y\",\"Yes\",IF('Simplified Loader'!AW99=\"N\",\"No\",\"\"))))","v":""},{"$f":"IF('Simplified Loader'!AX99=\"Yes\",\"Yes\",IF('Simplified Loader'!AX99=\"No\",\"No\",IF('Simplified Loader'!AX99=\"Y\",\"Yes\",IF('Simplified Loader'!AX99=\"N\",\"No\",\"\"))))","v":""},{"$f":"IF('Simplified Loader'!AY99>0,'Simplified Loader'!AY99,\"\")","v":""},{"$f":"IF('Simplified Loader'!AZ99>0,'Simplified Loader'!AZ99,\"\")","v":""},{"$f":"IF('Simplified Loader'!BA99>0,'Simplified Loader'!BA99,\"\")","v":""},{"$f":"IF('Simplified Loader'!BB99=\"Male\",\"Male\",IF('Simplified Loader'!BB99=\"Female\",\"Female\",IF('Simplified Loader'!BB99=\"M\",\"Male\",IF('Simplified Loader'!BB99=\"F\",\"Female\",\"\"))))","v":""},{"$f":"IF('Simplified Loader'!BC99=\"Yes\",\"Yes\",IF('Simplified Loader'!BC99=\"No\",\"No\",IF('Simplified Loader'!BC99=\"Y\",\"Yes\",IF('Simplified Loader'!BC99=\"N\",\"No\",\"\"))))","v":""},{"$f":"IF('Simplified Loader'!BD99=\"Yes\",\"Yes\",IF('Simplified Loader'!BD99=\"No\",\"No\",IF('Simplified Loader'!BD99=\"Y\",\"Yes\",IF('Simplified Loader'!BD99=\"N\",\"No\",\"\"))))","v":""},{"$f":"IF('Simplified Loader'!BE99>0,'Simplified Loader'!BE99,\"\")","v":""},{"$f":"IF('Simplified Loader'!BF99>0,'Simplified Loader'!BF99,\"\")","v":""},{"$f":"IF('Simplified Loader'!BG99>0,'Simplified Loader'!BG99,\"\")","v":""},{"$f":"IF('Simplified Loader'!BH99=\"Male\",\"Male\",IF('Simplified Loader'!BH99=\"Female\",\"Female\",IF('Simplified Loader'!BH99=\"M\",\"Male\",IF('Simplified Loader'!BH99=\"F\",\"Female\",\"\"))))","v":""},{"$f":"IF('Simplified Loader'!BI99=\"Yes\",\"Yes\",IF('Simplified Loader'!BI99=\"No\",\"No\",IF('Simplified Loader'!BI99=\"Y\",\"Yes\",IF('Simplified Loader'!BI99=\"N\",\"No\",\"\"))))","v":""},{"$f":"IF('Simplified Loader'!BJ99=\"Yes\",\"Yes\",IF('Simplified Loader'!BJ99=\"No\",\"No\",IF('Simplified Loader'!BJ99=\"Y\",\"Yes\",IF('Simplified Loader'!BJ99=\"N\",\"No\",\"\"))))","v":""},{"$f":"IF('Simplified Loader'!BK99>0,'Simplified Loader'!BK99,\"\")","v":""},{"$f":"IF('Simplified Loader'!BL99>0,'Simplified Loader'!BL99,\"\")","v":""},{"$f":"IF('Simplified Loader'!BM99>0,'Simplified Loader'!BM99,\"\")","v":""},{"$f":"IF('Simplified Loader'!BN99=\"Male\",\"Male\",IF('Simplified Loader'!BN99=\"Female\",\"Female\",IF('Simplified Loader'!BN99=\"M\",\"Male\",IF('Simplified Loader'!BN99=\"F\",\"Female\",\"\"))))","v":""},{"$f":"IF('Simplified Loader'!BO99=\"Yes\",\"Yes\",IF('Simplified Loader'!BO99=\"No\",\"No\",IF('Simplified Loader'!BO99=\"Y\",\"Yes\",IF('Simplified Loader'!BO99=\"N\",\"No\",\"\"))))","v":""},{"$f":"IF('Simplified Loader'!BP99=\"Yes\",\"Yes\",IF('Simplified Loader'!BP99=\"No\",\"No\",IF('Simplified Loader'!BP99=\"Y\",\"Yes\",IF('Simplified Loader'!BP99=\"N\",\"No\",\"\"))))","v":""},{"$f":"IF('Simplified Loader'!BQ99>0,'Simplified Loader'!BQ99,\"\")","v":""},{"$f":"IF('Simplified Loader'!BR99>0,'Simplified Loader'!BR99,\"\")","v":""},{"$f":"IF('Simplified Loader'!BS99>0,'Simplified Loader'!BS99,\"\")","v":""},{"$f":"IF('Simplified Loader'!BT99=\"Male\",\"Male\",IF('Simplified Loader'!BT99=\"Female\",\"Female\",IF('Simplified Loader'!BT99=\"M\",\"Male\",IF('Simplified Loader'!BT99=\"F\",\"Female\",\"\"))))","v":""},{"$f":"IF('Simplified Loader'!BU99=\"Yes\",\"Yes\",IF('Simplified Loader'!BU99=\"No\",\"No\",IF('Simplified Loader'!BU99=\"Y\",\"Yes\",IF('Simplified Loader'!BU99=\"N\",\"No\",\"\"))))","v":""},{"$f":"IF('Simplified Loader'!BV99=\"Yes\",\"Yes\",IF('Simplified Loader'!BV99=\"No\",\"No\",IF('Simplified Loader'!BV99=\"Y\",\"Yes\",IF('Simplified Loader'!BV99=\"N\",\"No\",\"\"))))","v":""},{"$f":"IF('Simplified Loader'!BW99>0,'Simplified Loader'!BW99,\"\")","v":""},{"$f":"IF('Simplified Loader'!BX99>0,'Simplified Loader'!BX99,\"\")","v":""},{"$f":"IF('Simplified Loader'!BY99>0,'Simplified Loader'!BY99,\"\")","v":""},{"$f":"IF('Simplified Loader'!BZ99=\"Male\",\"Male\",IF('Simplified Loader'!BZ99=\"Female\",\"Female\",IF('Simplified Loader'!BZ99=\"M\",\"Male\",IF('Simplified Loader'!BZ99=\"F\",\"Female\",\"\"))))","v":""},{"$f":"IF('Simplified Loader'!CA99=\"Yes\",\"Yes\",IF('Simplified Loader'!CA99=\"No\",\"No\",IF('Simplified Loader'!CA99=\"Y\",\"Yes\",IF('Simplified Loader'!CA99=\"N\",\"No\",\"\"))))","v":""},{"$f":"IF('Simplified Loader'!CB99=\"Yes\",\"Yes\",IF('Simplified Loader'!CB99=\"No\",\"No\",IF('Simplified Loader'!CB99=\"Y\",\"Yes\",IF('Simplified Loader'!CB99=\"N\",\"No\",\"\"))))","v":""},{"$f":"IF('Simplified Loader'!CH99>0,'Simplified Loader'!CH99,\"\")","v":"    "}]
[{"$f":"IF('Simplified Loader'!A100>0,'Simplified Loader'!A100,\"\")","v":""},{"$f":"IF('Simplified Loader'!B100>0,'Simplified Loader'!B100,\"\")","v":""},{"$f":"IF('Simplified Loader'!C100>0,'Simplified Loader'!C100,\"\")","v":""},{"$f":"IF('Simplified Loader'!D100>0,'Simplified Loader'!D100,\"\")","v":""},{"$f":"IF('Simplified Loader'!P100>0,TEXT('Simplified Loader'!P100,\"000\"),\"\")","v":""},{"$f":"IF('Simplified Loader'!Q100>0,'Simplified Loader'!Q100,\"\")","v":""},{"$f":"IF('Simplified Loader'!R100>0,'Simplified Loader'!R100,\"\")","v":""},{"$f":"IF('Simplified Loader'!F100>0,DATEVALUE(TEXT('Simplified Loader'!F100,\"yyyy-mm-dd\")),\"\")","v":""},{"$f":"IF('Simplified Loader'!L100>0,DATEVALUE(TEXT('Simplified Loader'!L100,\"yyyy-mm-dd\")),\"\")","v":""},{"$f":"IF('Simplified Loader'!Y100>0,'Simplified Loader'!Y100,\"\")","v":""},{"$f":"IF('Simplified Loader'!T100>0,'Simplified Loader'!T100,\"\")","v":""},{"$f":"IF('Simplified Loader'!G100=\"Male\",\"Male\",IF('Simplified Loader'!G100=\"Female\",\"Female\",IF('Simplified Loader'!G100=\"M\",\"Male\",IF('Simplified Loader'!G100=\"F\",\"Female\",\"\"))))","v":""},{"$f":"IF('Simplified Loader'!U100=\"Yes\",\"Yes\",IF('Simplified Loader'!U100=\"No\",\"No\",IF('Simplified Loader'!U100=\"Y\",\"Yes\",IF('Simplified Loader'!U100=\"N\",\"No\",\"\"))))","v":""},{"$f":"IF('Simplified Loader'!I100=\"Single\",\"Single\",IF('Simplified Loader'!I100=\"Family\",\"Family\",IF('Simplified Loader'!I100=\"Waive\",\"Family\",IF('Simplified Loader'!I100=\"Single Parent\",\"Family\",IF('Simplified Loader'!I100=\"Couple\",\"Family\",IF('Simplified Loader'!I100=\"In force\",\"Family\",IF('Simplified Loader'!I100=\"Applies\",\"Family\",IF('Simplified Loader'!I100=\"Applicable\",\"Family\",\"\"))))))))","v":""},{"$f":"IF('Simplified Loader'!AC100=\"English\",\"English\",IF('Simplified Loader'!AC100=\"French\",\"French\",IF('Simplified Loader'!AC100=\"E\",\"English\",IF('Simplified Loader'!AC100=\"F\",\"French\",\"\"))))","v":""},{"$f":"IF('Simplified Loader'!AB100=\"Yes\",\"Yes\",IF('Simplified Loader'!AB100=\"No\",\"No\",IF('Simplified Loader'!AB100=\"Y\",\"Yes\",IF('Simplified Loader'!AB100=\"N\",\"No\",\"\"))))","v":""},{"$f":"IF('Simplified Loader'!AD100>0,'Simplified Loader'!AD100,\"\")","v":""},{"$f":"IF('Simplified Loader'!M100>0,'Simplified Loader'!M100,\"\")","v":""},{"$f":"IF('Simplified Loader'!N100>0,'Simplified Loader'!N100,\"\")","v":""},{"$f":"IF('Simplified Loader'!O100>0,'Simplified Loader'!O100,\"\")","v":""},{"$f":"IF('Simplified Loader'!I100=\"Waive\",\"Yes\",\"\")","v":""},{"$f":"IF('Simplified Loader'!I100=\"Waive\",\"Yes\",\"\")","v":""},{"$f":"IF('Simplified Loader'!AE100>0,'Simplified Loader'!AE100,\"\")","v":""},{"$f":"IF('Simplified Loader'!AF100>0,'Simplified Loader'!AF100,\"\")","v":""},{"$f":"IF('Simplified Loader'!AG100>0,'Simplified Loader'!AG100,\"\")","v":""},{"$f":"IF('Simplified Loader'!AH100>0,'Simplified Loader'!AH100,\"\")","v":""},{"$f":"IF('Simplified Loader'!AI100>0,'Simplified Loader'!AI100,\"\")","v":" "},{"$f":"IF('Simplified Loader'!AJ100>0,'Simplified Loader'!AJ100,\"\")","v":" "},{"$f":"IF('Simplified Loader'!W100>0,'Simplified Loader'!W100&\" \",\"\")&IF('Simplified Loader'!V100>0,'Simplified Loader'!V100,\"\")","v":""},null,{"$f":"IF('Simplified Loader'!X100>0,'Simplified Loader'!X100,\"\")","v":""},{"$f":"IF('Simplified Loader'!Y100>0,'Simplified Loader'!Y100,\"\")","v":""},{"$f":"IF('Simplified Loader'!Z100>0,'Simplified Loader'!Z100,\"\")","v":""},{"$f":"IF('Simplified Loader'!AA100>0,'Simplified Loader'!AA100,\"\")","v":""},{"$f":"IF('Simplified Loader'!E100>0,'Simplified Loader'!E100,\"\")","v":""},{"$f":"IF('Simplified Loader'!AK100>0,'Simplified Loader'!AK100,\"\")","v":""},{"$f":"IF('Simplified Loader'!AL100>0,'Simplified Loader'!AL100,\"\")","v":""},{"$f":"IF('Simplified Loader'!AM100>0,'Simplified Loader'!AM100,\"\")","v":""},{"$f":"IF('Simplified Loader'!AN100=\"Male\",\"Male\",IF('Simplified Loader'!AN100=\"Female\",\"Female\",IF('Simplified Loader'!AN100=\"M\",\"Male\",IF('Simplified Loader'!AN100=\"F\",\"Female\",\"\"))))","v":""},{"$f":"IF('Simplified Loader'!AO100=\"Single\",\"Single\",IF('Simplified Loader'!AO100=\"Family\",\"Family\",IF('Simplified Loader'!AO100=\"S\",\"Single\",IF('Simplified Loader'!AO100=\"F\",\"Family\",\"\"))))","v":""},{"$f":"IF('Simplified Loader'!AP100=\"Single\",\"Single\",IF('Simplified Loader'!AP100=\"Family\",\"Family\",IF('Simplified Loader'!AP100=\"S\",\"Single\",IF('Simplified Loader'!AP100=\"F\",\"Family\",\"\"))))","v":""},{"$f":"IF('Simplified Loader'!AQ100>0,'Simplified Loader'!AQ100,\"\")","v":""},{"$f":"IF('Simplified Loader'!AR100=\"Yes\",\"Yes\",IF('Simplified Loader'!AR100=\"No\",\"No\",IF('Simplified Loader'!AR100=\"Y\",\"Yes\",IF('Simplified Loader'!AR100=\"N\",\"No\",\"\"))))","v":""},{"$f":"IF('Simplified Loader'!AS100>0,'Simplified Loader'!AS100,\"\")","v":""},{"$f":"IF('Simplified Loader'!AT100>0,'Simplified Loader'!AT100,\"\")","v":""},{"$f":"IF('Simplified Loader'!AU100>0,'Simplified Loader'!AU100,\"\")","v":""},{"$f":"IF('Simplified Loader'!AV100=\"Male\",\"Male\",IF('Simplified Loader'!AV100=\"Female\",\"Female\",IF('Simplified Loader'!AV100=\"M\",\"Male\",IF('Simplified Loader'!AV100=\"F\",\"Female\",\"\"))))","v":""},{"$f":"IF('Simplified Loader'!AW100=\"Yes\",\"Yes\",IF('Simplified Loader'!AW100=\"No\",\"No\",IF('Simplified Loader'!AW100=\"Y\",\"Yes\",IF('Simplified Loader'!AW100=\"N\",\"No\",\"\"))))","v":""},{"$f":"IF('Simplified Loader'!AX100=\"Yes\",\"Yes\",IF('Simplified Loader'!AX100=\"No\",\"No\",IF('Simplified Loader'!AX100=\"Y\",\"Yes\",IF('Simplified Loader'!AX100=\"N\",\"No\",\"\"))))","v":""},{"$f":"IF('Simplified Loader'!AY100>0,'Simplified Loader'!AY100,\"\")","v":""},{"$f":"IF('Simplified Loader'!AZ100>0,'Simplified Loader'!AZ100,\"\")","v":""},{"$f":"IF('Simplified Loader'!BA100>0,'Simplified Loader'!BA100,\"\")","v":""},{"$f":"IF('Simplified Loader'!BB100=\"Male\",\"Male\",IF('Simplified Loader'!BB100=\"Female\",\"Female\",IF('Simplified Loader'!BB100=\"M\",\"Male\",IF('Simplified Loader'!BB100=\"F\",\"Female\",\"\"))))","v":""},{"$f":"IF('Simplified Loader'!BC100=\"Yes\",\"Yes\",IF('Simplified Loader'!BC100=\"No\",\"No\",IF('Simplified Loader'!BC100=\"Y\",\"Yes\",IF('Simplified Loader'!BC100=\"N\",\"No\",\"\"))))","v":""},{"$f":"IF('Simplified Loader'!BD100=\"Yes\",\"Yes\",IF('Simplified Loader'!BD100=\"No\",\"No\",IF('Simplified Loader'!BD100=\"Y\",\"Yes\",IF('Simplified Loader'!BD100=\"N\",\"No\",\"\"))))","v":""},{"$f":"IF('Simplified Loader'!BE100>0,'Simplified Loader'!BE100,\"\")","v":""},{"$f":"IF('Simplified Loader'!BF100>0,'Simplified Loader'!BF100,\"\")","v":""},{"$f":"IF('Simplified Loader'!BG100>0,'Simplified Loader'!BG100,\"\")","v":""},{"$f":"IF('Simplified Loader'!BH100=\"Male\",\"Male\",IF('Simplified Loader'!BH100=\"Female\",\"Female\",IF('Simplified Loader'!BH100=\"M\",\"Male\",IF('Simplified Loader'!BH100=\"F\",\"Female\",\"\"))))","v":""},{"$f":"IF('Simplified Loader'!BI100=\"Yes\",\"Yes\",IF('Simplified Loader'!BI100=\"No\",\"No\",IF('Simplified Loader'!BI100=\"Y\",\"Yes\",IF('Simplified Loader'!BI100=\"N\",\"No\",\"\"))))","v":""},{"$f":"IF('Simplified Loader'!BJ100=\"Yes\",\"Yes\",IF('Simplified Loader'!BJ100=\"No\",\"No\",IF('Simplified Loader'!BJ100=\"Y\",\"Yes\",IF('Simplified Loader'!BJ100=\"N\",\"No\",\"\"))))","v":""},{"$f":"IF('Simplified Loader'!BK100>0,'Simplified Loader'!BK100,\"\")","v":""},{"$f":"IF('Simplified Loader'!BL100>0,'Simplified Loader'!BL100,\"\")","v":""},{"$f":"IF('Simplified Loader'!BM100>0,'Simplified Loader'!BM100,\"\")","v":""},{"$f":"IF('Simplified Loader'!BN100=\"Male\",\"Male\",IF('Simplified Loader'!BN100=\"Female\",\"Female\",IF('Simplified Loader'!BN100=\"M\",\"Male\",IF('Simplified Loader'!BN100=\"F\",\"Female\",\"\"))))","v":""},{"$f":"IF('Simplified Loader'!BO100=\"Yes\",\"Yes\",IF('Simplified Loader'!BO100=\"No\",\"No\",IF('Simplified Loader'!BO100=\"Y\",\"Yes\",IF('Simplified Loader'!BO100=\"N\",\"No\",\"\"))))","v":""},{"$f":"IF('Simplified Loader'!BP100=\"Yes\",\"Yes\",IF('Simplified Loader'!BP100=\"No\",\"No\",IF('Simplified Loader'!BP100=\"Y\",\"Yes\",IF('Simplified Loader'!BP100=\"N\",\"No\",\"\"))))","v":""},{"$f":"IF('Simplified Loader'!BQ100>0,'Simplified Loader'!BQ100,\"\")","v":""},{"$f":"IF('Simplified Loader'!BR100>0,'Simplified Loader'!BR100,\"\")","v":""},{"$f":"IF('Simplified Loader'!BS100>0,'Simplified Loader'!BS100,\"\")","v":""},{"$f":"IF('Simplified Loader'!BT100=\"Male\",\"Male\",IF('Simplified Loader'!BT100=\"Female\",\"Female\",IF('Simplified Loader'!BT100=\"M\",\"Male\",IF('Simplified Loader'!BT100=\"F\",\"Female\",\"\"))))","v":""},{"$f":"IF('Simplified Loader'!BU100=\"Yes\",\"Yes\",IF('Simplified Loader'!BU100=\"No\",\"No\",IF('Simplified Loader'!BU100=\"Y\",\"Yes\",IF('Simplified Loader'!BU100=\"N\",\"No\",\"\"))))","v":""},{"$f":"IF('Simplified Loader'!BV100=\"Yes\",\"Yes\",IF('Simplified Loader'!BV100=\"No\",\"No\",IF('Simplified Loader'!BV100=\"Y\",\"Yes\",IF('Simplified Loader'!BV100=\"N\",\"No\",\"\"))))","v":""},{"$f":"IF('Simplified Loader'!BW100>0,'Simplified Loader'!BW100,\"\")","v":""},{"$f":"IF('Simplified Loader'!BX100>0,'Simplified Loader'!BX100,\"\")","v":""},{"$f":"IF('Simplified Loader'!BY100>0,'Simplified Loader'!BY100,\"\")","v":""},{"$f":"IF('Simplified Loader'!BZ100=\"Male\",\"Male\",IF('Simplified Loader'!BZ100=\"Female\",\"Female\",IF('Simplified Loader'!BZ100=\"M\",\"Male\",IF('Simplified Loader'!BZ100=\"F\",\"Female\",\"\"))))","v":""},{"$f":"IF('Simplified Loader'!CA100=\"Yes\",\"Yes\",IF('Simplified Loader'!CA100=\"No\",\"No\",IF('Simplified Loader'!CA100=\"Y\",\"Yes\",IF('Simplified Loader'!CA100=\"N\",\"No\",\"\"))))","v":""},{"$f":"IF('Simplified Loader'!CB100=\"Yes\",\"Yes\",IF('Simplified Loader'!CB100=\"No\",\"No\",IF('Simplified Loader'!CB100=\"Y\",\"Yes\",IF('Simplified Loader'!CB100=\"N\",\"No\",\"\"))))","v":""},{"$f":"IF('Simplified Loader'!CH100>0,'Simplified Loader'!CH100,\"\")","v":"    "}]
[{"$f":"IF('Simplified Loader'!A101>0,'Simplified Loader'!A101,\"\")","v":""},{"$f":"IF('Simplified Loader'!B101>0,'Simplified Loader'!B101,\"\")","v":""},{"$f":"IF('Simplified Loader'!C101>0,'Simplified Loader'!C101,\"\")","v":""},{"$f":"IF('Simplified Loader'!D101>0,'Simplified Loader'!D101,\"\")","v":""},{"$f":"IF('Simplified Loader'!P101>0,TEXT('Simplified Loader'!P101,\"000\"),\"\")","v":""},{"$f":"IF('Simplified Loader'!Q101>0,'Simplified Loader'!Q101,\"\")","v":""},{"$f":"IF('Simplified Loader'!R101>0,'Simplified Loader'!R101,\"\")","v":""},{"$f":"IF('Simplified Loader'!F101>0,DATEVALUE(TEXT('Simplified Loader'!F101,\"yyyy-mm-dd\")),\"\")","v":""},{"$f":"IF('Simplified Loader'!L101>0,DATEVALUE(TEXT('Simplified Loader'!L101,\"yyyy-mm-dd\")),\"\")","v":""},{"$f":"IF('Simplified Loader'!Y101>0,'Simplified Loader'!Y101,\"\")","v":""},{"$f":"IF('Simplified Loader'!T101>0,'Simplified Loader'!T101,\"\")","v":""},{"$f":"IF('Simplified Loader'!G101=\"Male\",\"Male\",IF('Simplified Loader'!G101=\"Female\",\"Female\",IF('Simplified Loader'!G101=\"M\",\"Male\",IF('Simplified Loader'!G101=\"F\",\"Female\",\"\"))))","v":""},{"$f":"IF('Simplified Loader'!U101=\"Yes\",\"Yes\",IF('Simplified Loader'!U101=\"No\",\"No\",IF('Simplified Loader'!U101=\"Y\",\"Yes\",IF('Simplified Loader'!U101=\"N\",\"No\",\"\"))))","v":""},{"$f":"IF('Simplified Loader'!I101=\"Single\",\"Single\",IF('Simplified Loader'!I101=\"Family\",\"Family\",IF('Simplified Loader'!I101=\"Waive\",\"Family\",IF('Simplified Loader'!I101=\"Single Parent\",\"Family\",IF('Simplified Loader'!I101=\"Couple\",\"Family\",IF('Simplified Loader'!I101=\"In force\",\"Family\",IF('Simplified Loader'!I101=\"Applies\",\"Family\",IF('Simplified Loader'!I101=\"Applicable\",\"Family\",\"\"))))))))","v":""},{"$f":"IF('Simplified Loader'!AC101=\"English\",\"English\",IF('Simplified Loader'!AC101=\"French\",\"French\",IF('Simplified Loader'!AC101=\"E\",\"English\",IF('Simplified Loader'!AC101=\"F\",\"French\",\"\"))))","v":""},{"$f":"IF('Simplified Loader'!AB101=\"Yes\",\"Yes\",IF('Simplified Loader'!AB101=\"No\",\"No\",IF('Simplified Loader'!AB101=\"Y\",\"Yes\",IF('Simplified Loader'!AB101=\"N\",\"No\",\"\"))))","v":""},{"$f":"IF('Simplified Loader'!AD101>0,'Simplified Loader'!AD101,\"\")","v":""},{"$f":"IF('Simplified Loader'!M101>0,'Simplified Loader'!M101,\"\")","v":""},{"$f":"IF('Simplified Loader'!N101>0,'Simplified Loader'!N101,\"\")","v":""},{"$f":"IF('Simplified Loader'!O101>0,'Simplified Loader'!O101,\"\")","v":""},{"$f":"IF('Simplified Loader'!I101=\"Waive\",\"Yes\",\"\")","v":""},{"$f":"IF('Simplified Loader'!I101=\"Waive\",\"Yes\",\"\")","v":""},{"$f":"IF('Simplified Loader'!AE101>0,'Simplified Loader'!AE101,\"\")","v":""},{"$f":"IF('Simplified Loader'!AF101>0,'Simplified Loader'!AF101,\"\")","v":""},{"$f":"IF('Simplified Loader'!AG101>0,'Simplified Loader'!AG101,\"\")","v":""},{"$f":"IF('Simplified Loader'!AH101>0,'Simplified Loader'!AH101,\"\")","v":""},{"$f":"IF('Simplified Loader'!AI101>0,'Simplified Loader'!AI101,\"\")","v":" "},{"$f":"IF('Simplified Loader'!AJ101>0,'Simplified Loader'!AJ101,\"\")","v":" "},{"$f":"IF('Simplified Loader'!W101>0,'Simplified Loader'!W101&\" \",\"\")&IF('Simplified Loader'!V101>0,'Simplified Loader'!V101,\"\")","v":""},null,{"$f":"IF('Simplified Loader'!X101>0,'Simplified Loader'!X101,\"\")","v":""},{"$f":"IF('Simplified Loader'!Y101>0,'Simplified Loader'!Y101,\"\")","v":""},{"$f":"IF('Simplified Loader'!Z101>0,'Simplified Loader'!Z101,\"\")","v":""},{"$f":"IF('Simplified Loader'!AA101>0,'Simplified Loader'!AA101,\"\")","v":""},{"$f":"IF('Simplified Loader'!E101>0,'Simplified Loader'!E101,\"\")","v":""},{"$f":"IF('Simplified Loader'!AK101>0,'Simplified Loader'!AK101,\"\")","v":""},{"$f":"IF('Simplified Loader'!AL101>0,'Simplified Loader'!AL101,\"\")","v":""},{"$f":"IF('Simplified Loader'!AM101>0,'Simplified Loader'!AM101,\"\")","v":""},{"$f":"IF('Simplified Loader'!AN101=\"Male\",\"Male\",IF('Simplified Loader'!AN101=\"Female\",\"Female\",IF('Simplified Loader'!AN101=\"M\",\"Male\",IF('Simplified Loader'!AN101=\"F\",\"Female\",\"\"))))","v":""},{"$f":"IF('Simplified Loader'!AO101=\"Single\",\"Single\",IF('Simplified Loader'!AO101=\"Family\",\"Family\",IF('Simplified Loader'!AO101=\"S\",\"Single\",IF('Simplified Loader'!AO101=\"F\",\"Family\",\"\"))))","v":""},{"$f":"IF('Simplified Loader'!AP101=\"Single\",\"Single\",IF('Simplified Loader'!AP101=\"Family\",\"Family\",IF('Simplified Loader'!AP101=\"S\",\"Single\",IF('Simplified Loader'!AP101=\"F\",\"Family\",\"\"))))","v":""},{"$f":"IF('Simplified Loader'!AQ101>0,'Simplified Loader'!AQ101,\"\")","v":""},{"$f":"IF('Simplified Loader'!AR101=\"Yes\",\"Yes\",IF('Simplified Loader'!AR101=\"No\",\"No\",IF('Simplified Loader'!AR101=\"Y\",\"Yes\",IF('Simplified Loader'!AR101=\"N\",\"No\",\"\"))))","v":""},{"$f":"IF('Simplified Loader'!AS101>0,'Simplified Loader'!AS101,\"\")","v":""},{"$f":"IF('Simplified Loader'!AT101>0,'Simplified Loader'!AT101,\"\")","v":""},{"$f":"IF('Simplified Loader'!AU101>0,'Simplified Loader'!AU101,\"\")","v":""},{"$f":"IF('Simplified Loader'!AV101=\"Male\",\"Male\",IF('Simplified Loader'!AV101=\"Female\",\"Female\",IF('Simplified Loader'!AV101=\"M\",\"Male\",IF('Simplified Loader'!AV101=\"F\",\"Female\",\"\"))))","v":""},{"$f":"IF('Simplified Loader'!AW101=\"Yes\",\"Yes\",IF('Simplified Loader'!AW101=\"No\",\"No\",IF('Simplified Loader'!AW101=\"Y\",\"Yes\",IF('Simplified Loader'!AW101=\"N\",\"No\",\"\"))))","v":""},{"$f":"IF('Simplified Loader'!AX101=\"Yes\",\"Yes\",IF('Simplified Loader'!AX101=\"No\",\"No\",IF('Simplified Loader'!AX101=\"Y\",\"Yes\",IF('Simplified Loader'!AX101=\"N\",\"No\",\"\"))))","v":""},{"$f":"IF('Simplified Loader'!AY101>0,'Simplified Loader'!AY101,\"\")","v":""},{"$f":"IF('Simplified Loader'!AZ101>0,'Simplified Loader'!AZ101,\"\")","v":""},{"$f":"IF('Simplified Loader'!BA101>0,'Simplified Loader'!BA101,\"\")","v":""},{"$f":"IF('Simplified Loader'!BB101=\"Male\",\"Male\",IF('Simplified Loader'!BB101=\"Female\",\"Female\",IF('Simplified Loader'!BB101=\"M\",\"Male\",IF('Simplified Loader'!BB101=\"F\",\"Female\",\"\"))))","v":""},{"$f":"IF('Simplified Loader'!BC101=\"Yes\",\"Yes\",IF('Simplified Loader'!BC101=\"No\",\"No\",IF('Simplified Loader'!BC101=\"Y\",\"Yes\",IF('Simplified Loader'!BC101=\"N\",\"No\",\"\"))))","v":""},{"$f":"IF('Simplified Loader'!BD101=\"Yes\",\"Yes\",IF('Simplified Loader'!BD101=\"No\",\"No\",IF('Simplified Loader'!BD101=\"Y\",\"Yes\",IF('Simplified Loader'!BD101=\"N\",\"No\",\"\"))))","v":""},{"$f":"IF('Simplified Loader'!BE101>0,'Simplified Loader'!BE101,\"\")","v":""},{"$f":"IF('Simplified Loader'!BF101>0,'Simplified Loader'!BF101,\"\")","v":""},{"$f":"IF('Simplified Loader'!BG101>0,'Simplified Loader'!BG101,\"\")","v":""},{"$f":"IF('Simplified Loader'!BH101=\"Male\",\"Male\",IF('Simplified Loader'!BH101=\"Female\",\"Female\",IF('Simplified Loader'!BH101=\"M\",\"Male\",IF('Simplified Loader'!BH101=\"F\",\"Female\",\"\"))))","v":""},{"$f":"IF('Simplified Loader'!BI101=\"Yes\",\"Yes\",IF('Simplified Loader'!BI101=\"No\",\"No\",IF('Simplified Loader'!BI101=\"Y\",\"Yes\",IF('Simplified Loader'!BI101=\"N\",\"No\",\"\"))))","v":""},{"$f":"IF('Simplified Loader'!BJ101=\"Yes\",\"Yes\",IF('Simplified Loader'!BJ101=\"No\",\"No\",IF('Simplified Loader'!BJ101=\"Y\",\"Yes\",IF('Simplified Loader'!BJ101=\"N\",\"No\",\"\"))))","v":""},{"$f":"IF('Simplified Loader'!BK101>0,'Simplified Loader'!BK101,\"\")","v":""},{"$f":"IF('Simplified Loader'!BL101>0,'Simplified Loader'!BL101,\"\")","v":""},{"$f":"IF('Simplified Loader'!BM101>0,'Simplified Loader'!BM101,\"\")","v":""},{"$f":"IF('Simplified Loader'!BN101=\"Male\",\"Male\",IF('Simplified Loader'!BN101=\"Female\",\"Female\",IF('Simplified Loader'!BN101=\"M\",\"Male\",IF('Simplified Loader'!BN101=\"F\",\"Female\",\"\"))))","v":""},{"$f":"IF('Simplified Loader'!BO101=\"Yes\",\"Yes\",IF('Simplified Loader'!BO101=\"No\",\"No\",IF('Simplified Loader'!BO101=\"Y\",\"Yes\",IF('Simplified Loader'!BO101=\"N\",\"No\",\"\"))))","v":""},{"$f":"IF('Simplified Loader'!BP101=\"Yes\",\"Yes\",IF('Simplified Loader'!BP101=\"No\",\"No\",IF('Simplified Loader'!BP101=\"Y\",\"Yes\",IF('Simplified Loader'!BP101=\"N\",\"No\",\"\"))))","v":""},{"$f":"IF('Simplified Loader'!BQ101>0,'Simplified Loader'!BQ101,\"\")","v":""},{"$f":"IF('Simplified Loader'!BR101>0,'Simplified Loader'!BR101,\"\")","v":""},{"$f":"IF('Simplified Loader'!BS101>0,'Simplified Loader'!BS101,\"\")","v":""},{"$f":"IF('Simplified Loader'!BT101=\"Male\",\"Male\",IF('Simplified Loader'!BT101=\"Female\",\"Female\",IF('Simplified Loader'!BT101=\"M\",\"Male\",IF('Simplified Loader'!BT101=\"F\",\"Female\",\"\"))))","v":""},{"$f":"IF('Simplified Loader'!BU101=\"Yes\",\"Yes\",IF('Simplified Loader'!BU101=\"No\",\"No\",IF('Simplified Loader'!BU101=\"Y\",\"Yes\",IF('Simplified Loader'!BU101=\"N\",\"No\",\"\"))))","v":""},{"$f":"IF('Simplified Loader'!BV101=\"Yes\",\"Yes\",IF('Simplified Loader'!BV101=\"No\",\"No\",IF('Simplified Loader'!BV101=\"Y\",\"Yes\",IF('Simplified Loader'!BV101=\"N\",\"No\",\"\"))))","v":""},{"$f":"IF('Simplified Loader'!BW101>0,'Simplified Loader'!BW101,\"\")","v":""},{"$f":"IF('Simplified Loader'!BX101>0,'Simplified Loader'!BX101,\"\")","v":""},{"$f":"IF('Simplified Loader'!BY101>0,'Simplified Loader'!BY101,\"\")","v":""},{"$f":"IF('Simplified Loader'!BZ101=\"Male\",\"Male\",IF('Simplified Loader'!BZ101=\"Female\",\"Female\",IF('Simplified Loader'!BZ101=\"M\",\"Male\",IF('Simplified Loader'!BZ101=\"F\",\"Female\",\"\"))))","v":""},{"$f":"IF('Simplified Loader'!CA101=\"Yes\",\"Yes\",IF('Simplified Loader'!CA101=\"No\",\"No\",IF('Simplified Loader'!CA101=\"Y\",\"Yes\",IF('Simplified Loader'!CA101=\"N\",\"No\",\"\"))))","v":""},{"$f":"IF('Simplified Loader'!CB101=\"Yes\",\"Yes\",IF('Simplified Loader'!CB101=\"No\",\"No\",IF('Simplified Loader'!CB101=\"Y\",\"Yes\",IF('Simplified Loader'!CB101=\"N\",\"No\",\"\"))))","v":""},{"$f":"IF('Simplified Loader'!CH101>0,'Simplified Loader'!CH101,\"\")","v":"    "}]
[{"$f":"IF('Simplified Loader'!A102>0,'Simplified Loader'!A102,\"\")","v":""},{"$f":"IF('Simplified Loader'!B102>0,'Simplified Loader'!B102,\"\")","v":""},{"$f":"IF('Simplified Loader'!C102>0,'Simplified Loader'!C102,\"\")","v":""},{"$f":"IF('Simplified Loader'!D102>0,'Simplified Loader'!D102,\"\")","v":""},{"$f":"IF('Simplified Loader'!P102>0,TEXT('Simplified Loader'!P102,\"000\"),\"\")","v":""},{"$f":"IF('Simplified Loader'!Q102>0,'Simplified Loader'!Q102,\"\")","v":""},{"$f":"IF('Simplified Loader'!R102>0,'Simplified Loader'!R102,\"\")","v":""},{"$f":"IF('Simplified Loader'!F102>0,DATEVALUE(TEXT('Simplified Loader'!F102,\"yyyy-mm-dd\")),\"\")","v":""},{"$f":"IF('Simplified Loader'!L102>0,DATEVALUE(TEXT('Simplified Loader'!L102,\"yyyy-mm-dd\")),\"\")","v":""},{"$f":"IF('Simplified Loader'!Y102>0,'Simplified Loader'!Y102,\"\")","v":""},{"$f":"IF('Simplified Loader'!T102>0,'Simplified Loader'!T102,\"\")","v":""},{"$f":"IF('Simplified Loader'!G102=\"Male\",\"Male\",IF('Simplified Loader'!G102=\"Female\",\"Female\",IF('Simplified Loader'!G102=\"M\",\"Male\",IF('Simplified Loader'!G102=\"F\",\"Female\",\"\"))))","v":""},{"$f":"IF('Simplified Loader'!U102=\"Yes\",\"Yes\",IF('Simplified Loader'!U102=\"No\",\"No\",IF('Simplified Loader'!U102=\"Y\",\"Yes\",IF('Simplified Loader'!U102=\"N\",\"No\",\"\"))))","v":""},{"$f":"IF('Simplified Loader'!I102=\"Single\",\"Single\",IF('Simplified Loader'!I102=\"Family\",\"Family\",IF('Simplified Loader'!I102=\"Waive\",\"Family\",IF('Simplified Loader'!I102=\"Single Parent\",\"Family\",IF('Simplified Loader'!I102=\"Couple\",\"Family\",IF('Simplified Loader'!I102=\"In force\",\"Family\",IF('Simplified Loader'!I102=\"Applies\",\"Family\",IF('Simplified Loader'!I102=\"Applicable\",\"Family\",\"\"))))))))","v":""},{"$f":"IF('Simplified Loader'!AC102=\"English\",\"English\",IF('Simplified Loader'!AC102=\"French\",\"French\",IF('Simplified Loader'!AC102=\"E\",\"English\",IF('Simplified Loader'!AC102=\"F\",\"French\",\"\"))))","v":""},{"$f":"IF('Simplified Loader'!AB102=\"Yes\",\"Yes\",IF('Simplified Loader'!AB102=\"No\",\"No\",IF('Simplified Loader'!AB102=\"Y\",\"Yes\",IF('Simplified Loader'!AB102=\"N\",\"No\",\"\"))))","v":""},{"$f":"IF('Simplified Loader'!AD102>0,'Simplified Loader'!AD102,\"\")","v":""},{"$f":"IF('Simplified Loader'!M102>0,'Simplified Loader'!M102,\"\")","v":""},{"$f":"IF('Simplified Loader'!N102>0,'Simplified Loader'!N102,\"\")","v":""},{"$f":"IF('Simplified Loader'!O102>0,'Simplified Loader'!O102,\"\")","v":""},{"$f":"IF('Simplified Loader'!I102=\"Waive\",\"Yes\",\"\")","v":""},{"$f":"IF('Simplified Loader'!I102=\"Waive\",\"Yes\",\"\")","v":""},{"$f":"IF('Simplified Loader'!AE102>0,'Simplified Loader'!AE102,\"\")","v":""},{"$f":"IF('Simplified Loader'!AF102>0,'Simplified Loader'!AF102,\"\")","v":""},{"$f":"IF('Simplified Loader'!AG102>0,'Simplified Loader'!AG102,\"\")","v":""},{"$f":"IF('Simplified Loader'!AH102>0,'Simplified Loader'!AH102,\"\")","v":""},{"$f":"IF('Simplified Loader'!AI102>0,'Simplified Loader'!AI102,\"\")","v":" "},{"$f":"IF('Simplified Loader'!AJ102>0,'Simplified Loader'!AJ102,\"\")","v":" "},{"$f":"IF('Simplified Loader'!W102>0,'Simplified Loader'!W102&\" \",\"\")&IF('Simplified Loader'!V102>0,'Simplified Loader'!V102,\"\")","v":""},null,{"$f":"IF('Simplified Loader'!X102>0,'Simplified Loader'!X102,\"\")","v":""},{"$f":"IF('Simplified Loader'!Y102>0,'Simplified Loader'!Y102,\"\")","v":""},{"$f":"IF('Simplified Loader'!Z102>0,'Simplified Loader'!Z102,\"\")","v":""},{"$f":"IF('Simplified Loader'!AA102>0,'Simplified Loader'!AA102,\"\")","v":""},{"$f":"IF('Simplified Loader'!E102>0,'Simplified Loader'!E102,\"\")","v":""},{"$f":"IF('Simplified Loader'!AK102>0,'Simplified Loader'!AK102,\"\")","v":""},{"$f":"IF('Simplified Loader'!AL102>0,'Simplified Loader'!AL102,\"\")","v":""},{"$f":"IF('Simplified Loader'!AM102>0,'Simplified Loader'!AM102,\"\")","v":""},{"$f":"IF('Simplified Loader'!AN102=\"Male\",\"Male\",IF('Simplified Loader'!AN102=\"Female\",\"Female\",IF('Simplified Loader'!AN102=\"M\",\"Male\",IF('Simplified Loader'!AN102=\"F\",\"Female\",\"\"))))","v":""},{"$f":"IF('Simplified Loader'!AO102=\"Single\",\"Single\",IF('Simplified Loader'!AO102=\"Family\",\"Family\",IF('Simplified Loader'!AO102=\"S\",\"Single\",IF('Simplified Loader'!AO102=\"F\",\"Family\",\"\"))))","v":""},{"$f":"IF('Simplified Loader'!AP102=\"Single\",\"Single\",IF('Simplified Loader'!AP102=\"Family\",\"Family\",IF('Simplified Loader'!AP102=\"S\",\"Single\",IF('Simplified Loader'!AP102=\"F\",\"Family\",\"\"))))","v":""},{"$f":"IF('Simplified Loader'!AQ102>0,'Simplified Loader'!AQ102,\"\")","v":""},{"$f":"IF('Simplified Loader'!AR102=\"Yes\",\"Yes\",IF('Simplified Loader'!AR102=\"No\",\"No\",IF('Simplified Loader'!AR102=\"Y\",\"Yes\",IF('Simplified Loader'!AR102=\"N\",\"No\",\"\"))))","v":""},{"$f":"IF('Simplified Loader'!AS102>0,'Simplified Loader'!AS102,\"\")","v":""},{"$f":"IF('Simplified Loader'!AT102>0,'Simplified Loader'!AT102,\"\")","v":""},{"$f":"IF('Simplified Loader'!AU102>0,'Simplified Loader'!AU102,\"\")","v":""},{"$f":"IF('Simplified Loader'!AV102=\"Male\",\"Male\",IF('Simplified Loader'!AV102=\"Female\",\"Female\",IF('Simplified Loader'!AV102=\"M\",\"Male\",IF('Simplified Loader'!AV102=\"F\",\"Female\",\"\"))))","v":""},{"$f":"IF('Simplified Loader'!AW102=\"Yes\",\"Yes\",IF('Simplified Loader'!AW102=\"No\",\"No\",IF('Simplified Loader'!AW102=\"Y\",\"Yes\",IF('Simplified Loader'!AW102=\"N\",\"No\",\"\"))))","v":""},{"$f":"IF('Simplified Loader'!AX102=\"Yes\",\"Yes\",IF('Simplified Loader'!AX102=\"No\",\"No\",IF('Simplified Loader'!AX102=\"Y\",\"Yes\",IF('Simplified Loader'!AX102=\"N\",\"No\",\"\"))))","v":""},{"$f":"IF('Simplified Loader'!AY102>0,'Simplified Loader'!AY102,\"\")","v":""},{"$f":"IF('Simplified Loader'!AZ102>0,'Simplified Loader'!AZ102,\"\")","v":""},{"$f":"IF('Simplified Loader'!BA102>0,'Simplified Loader'!BA102,\"\")","v":""},{"$f":"IF('Simplified Loader'!BB102=\"Male\",\"Male\",IF('Simplified Loader'!BB102=\"Female\",\"Female\",IF('Simplified Loader'!BB102=\"M\",\"Male\",IF('Simplified Loader'!BB102=\"F\",\"Female\",\"\"))))","v":""},{"$f":"IF('Simplified Loader'!BC102=\"Yes\",\"Yes\",IF('Simplified Loader'!BC102=\"No\",\"No\",IF('Simplified Loader'!BC102=\"Y\",\"Yes\",IF('Simplified Loader'!BC102=\"N\",\"No\",\"\"))))","v":""},{"$f":"IF('Simplified Loader'!BD102=\"Yes\",\"Yes\",IF('Simplified Loader'!BD102=\"No\",\"No\",IF('Simplified Loader'!BD102=\"Y\",\"Yes\",IF('Simplified Loader'!BD102=\"N\",\"No\",\"\"))))","v":""},{"$f":"IF('Simplified Loader'!BE102>0,'Simplified Loader'!BE102,\"\")","v":""},{"$f":"IF('Simplified Loader'!BF102>0,'Simplified Loader'!BF102,\"\")","v":""},{"$f":"IF('Simplified Loader'!BG102>0,'Simplified Loader'!BG102,\"\")","v":""},{"$f":"IF('Simplified Loader'!BH102=\"Male\",\"Male\",IF('Simplified Loader'!BH102=\"Female\",\"Female\",IF('Simplified Loader'!BH102=\"M\",\"Male\",IF('Simplified Loader'!BH102=\"F\",\"Female\",\"\"))))","v":""},{"$f":"IF('Simplified Loader'!BI102=\"Yes\",\"Yes\",IF('Simplified Loader'!BI102=\"No\",\"No\",IF('Simplified Loader'!BI102=\"Y\",\"Yes\",IF('Simplified Loader'!BI102=\"N\",\"No\",\"\"))))","v":""},{"$f":"IF('Simplified Loader'!BJ102=\"Yes\",\"Yes\",IF('Simplified Loader'!BJ102=\"No\",\"No\",IF('Simplified Loader'!BJ102=\"Y\",\"Yes\",IF('Simplified Loader'!BJ102=\"N\",\"No\",\"\"))))","v":""},{"$f":"IF('Simplified Loader'!BK102>0,'Simplified Loader'!BK102,\"\")","v":""},{"$f":"IF('Simplified Loader'!BL102>0,'Simplified Loader'!BL102,\"\")","v":""},{"$f":"IF('Simplified Loader'!BM102>0,'Simplified Loader'!BM102,\"\")","v":""},{"$f":"IF('Simplified Loader'!BN102=\"Male\",\"Male\",IF('Simplified Loader'!BN102=\"Female\",\"Female\",IF('Simplified Loader'!BN102=\"M\",\"Male\",IF('Simplified Loader'!BN102=\"F\",\"Female\",\"\"))))","v":""},{"$f":"IF('Simplified Loader'!BO102=\"Yes\",\"Yes\",IF('Simplified Loader'!BO102=\"No\",\"No\",IF('Simplified Loader'!BO102=\"Y\",\"Yes\",IF('Simplified Loader'!BO102=\"N\",\"No\",\"\"))))","v":""},{"$f":"IF('Simplified Loader'!BP102=\"Yes\",\"Yes\",IF('Simplified Loader'!BP102=\"No\",\"No\",IF('Simplified Loader'!BP102=\"Y\",\"Yes\",IF('Simplified Loader'!BP102=\"N\",\"No\",\"\"))))","v":""},{"$f":"IF('Simplified Loader'!BQ102>0,'Simplified Loader'!BQ102,\"\")","v":""},{"$f":"IF('Simplified Loader'!BR102>0,'Simplified Loader'!BR102,\"\")","v":""},{"$f":"IF('Simplified Loader'!BS102>0,'Simplified Loader'!BS102,\"\")","v":""},{"$f":"IF('Simplified Loader'!BT102=\"Male\",\"Male\",IF('Simplified Loader'!BT102=\"Female\",\"Female\",IF('Simplified Loader'!BT102=\"M\",\"Male\",IF('Simplified Loader'!BT102=\"F\",\"Female\",\"\"))))","v":""},{"$f":"IF('Simplified Loader'!BU102=\"Yes\",\"Yes\",IF('Simplified Loader'!BU102=\"No\",\"No\",IF('Simplified Loader'!BU102=\"Y\",\"Yes\",IF('Simplified Loader'!BU102=\"N\",\"No\",\"\"))))","v":""},{"$f":"IF('Simplified Loader'!BV102=\"Yes\",\"Yes\",IF('Simplified Loader'!BV102=\"No\",\"No\",IF('Simplified Loader'!BV102=\"Y\",\"Yes\",IF('Simplified Loader'!BV102=\"N\",\"No\",\"\"))))","v":""},{"$f":"IF('Simplified Loader'!BW102>0,'Simplified Loader'!BW102,\"\")","v":""},{"$f":"IF('Simplified Loader'!BX102>0,'Simplified Loader'!BX102,\"\")","v":""},{"$f":"IF('Simplified Loader'!BY102>0,'Simplified Loader'!BY102,\"\")","v":""},{"$f":"IF('Simplified Loader'!BZ102=\"Male\",\"Male\",IF('Simplified Loader'!BZ102=\"Female\",\"Female\",IF('Simplified Loader'!BZ102=\"M\",\"Male\",IF('Simplified Loader'!BZ102=\"F\",\"Female\",\"\"))))","v":""},{"$f":"IF('Simplified Loader'!CA102=\"Yes\",\"Yes\",IF('Simplified Loader'!CA102=\"No\",\"No\",IF('Simplified Loader'!CA102=\"Y\",\"Yes\",IF('Simplified Loader'!CA102=\"N\",\"No\",\"\"))))","v":""},{"$f":"IF('Simplified Loader'!CB102=\"Yes\",\"Yes\",IF('Simplified Loader'!CB102=\"No\",\"No\",IF('Simplified Loader'!CB102=\"Y\",\"Yes\",IF('Simplified Loader'!CB102=\"N\",\"No\",\"\"))))","v":""},{"$f":"IF('Simplified Loader'!CH102>0,'Simplified Loader'!CH102,\"\")","v":"    "}]
[{"$f":"IF('Simplified Loader'!A103>0,'Simplified Loader'!A103,\"\")","v":""},{"$f":"IF('Simplified Loader'!B103>0,'Simplified Loader'!B103,\"\")","v":""},{"$f":"IF('Simplified Loader'!C103>0,'Simplified Loader'!C103,\"\")","v":""},{"$f":"IF('Simplified Loader'!D103>0,'Simplified Loader'!D103,\"\")","v":""},{"$f":"IF('Simplified Loader'!P103>0,TEXT('Simplified Loader'!P103,\"000\"),\"\")","v":""},{"$f":"IF('Simplified Loader'!Q103>0,'Simplified Loader'!Q103,\"\")","v":""},{"$f":"IF('Simplified Loader'!R103>0,'Simplified Loader'!R103,\"\")","v":""},{"$f":"IF('Simplified Loader'!F103>0,DATEVALUE(TEXT('Simplified Loader'!F103,\"yyyy-mm-dd\")),\"\")","v":""},{"$f":"IF('Simplified Loader'!L103>0,DATEVALUE(TEXT('Simplified Loader'!L103,\"yyyy-mm-dd\")),\"\")","v":""},{"$f":"IF('Simplified Loader'!Y103>0,'Simplified Loader'!Y103,\"\")","v":""},{"$f":"IF('Simplified Loader'!T103>0,'Simplified Loader'!T103,\"\")","v":""},{"$f":"IF('Simplified Loader'!G103=\"Male\",\"Male\",IF('Simplified Loader'!G103=\"Female\",\"Female\",IF('Simplified Loader'!G103=\"M\",\"Male\",IF('Simplified Loader'!G103=\"F\",\"Female\",\"\"))))","v":""},{"$f":"IF('Simplified Loader'!U103=\"Yes\",\"Yes\",IF('Simplified Loader'!U103=\"No\",\"No\",IF('Simplified Loader'!U103=\"Y\",\"Yes\",IF('Simplified Loader'!U103=\"N\",\"No\",\"\"))))","v":""},{"$f":"IF('Simplified Loader'!I103=\"Single\",\"Single\",IF('Simplified Loader'!I103=\"Family\",\"Family\",IF('Simplified Loader'!I103=\"Waive\",\"Family\",IF('Simplified Loader'!I103=\"Single Parent\",\"Family\",IF('Simplified Loader'!I103=\"Couple\",\"Family\",IF('Simplified Loader'!I103=\"In force\",\"Family\",IF('Simplified Loader'!I103=\"Applies\",\"Family\",IF('Simplified Loader'!I103=\"Applicable\",\"Family\",\"\"))))))))","v":""},{"$f":"IF('Simplified Loader'!AC103=\"English\",\"English\",IF('Simplified Loader'!AC103=\"French\",\"French\",IF('Simplified Loader'!AC103=\"E\",\"English\",IF('Simplified Loader'!AC103=\"F\",\"French\",\"\"))))","v":""},{"$f":"IF('Simplified Loader'!AB103=\"Yes\",\"Yes\",IF('Simplified Loader'!AB103=\"No\",\"No\",IF('Simplified Loader'!AB103=\"Y\",\"Yes\",IF('Simplified Loader'!AB103=\"N\",\"No\",\"\"))))","v":""},{"$f":"IF('Simplified Loader'!AD103>0,'Simplified Loader'!AD103,\"\")","v":""},{"$f":"IF('Simplified Loader'!M103>0,'Simplified Loader'!M103,\"\")","v":""},{"$f":"IF('Simplified Loader'!N103>0,'Simplified Loader'!N103,\"\")","v":""},{"$f":"IF('Simplified Loader'!O103>0,'Simplified Loader'!O103,\"\")","v":""},{"$f":"IF('Simplified Loader'!I103=\"Waive\",\"Yes\",\"\")","v":""},{"$f":"IF('Simplified Loader'!I103=\"Waive\",\"Yes\",\"\")","v":""},{"$f":"IF('Simplified Loader'!AE103>0,'Simplified Loader'!AE103,\"\")","v":""},{"$f":"IF('Simplified Loader'!AF103>0,'Simplified Loader'!AF103,\"\")","v":""},{"$f":"IF('Simplified Loader'!AG103>0,'Simplified Loader'!AG103,\"\")","v":""},{"$f":"IF('Simplified Loader'!AH103>0,'Simplified Loader'!AH103,\"\")","v":""},{"$f":"IF('Simplified Loader'!AI103>0,'Simplified Loader'!AI103,\"\")","v":" "},{"$f":"IF('Simplified Loader'!AJ103>0,'Simplified Loader'!AJ103,\"\")","v":" "},{"$f":"IF('Simplified Loader'!W103>0,'Simplified Loader'!W103&\" \",\"\")&IF('Simplified Loader'!V103>0,'Simplified Loader'!V103,\"\")","v":""},null,{"$f":"IF('Simplified Loader'!X103>0,'Simplified Loader'!X103,\"\")","v":""},{"$f":"IF('Simplified Loader'!Y103>0,'Simplified Loader'!Y103,\"\")","v":""},{"$f":"IF('Simplified Loader'!Z103>0,'Simplified Loader'!Z103,\"\")","v":""},{"$f":"IF('Simplified Loader'!AA103>0,'Simplified Loader'!AA103,\"\")","v":""},{"$f":"IF('Simplified Loader'!E103>0,'Simplified Loader'!E103,\"\")","v":""},{"$f":"IF('Simplified Loader'!AK103>0,'Simplified Loader'!AK103,\"\")","v":""},{"$f":"IF('Simplified Loader'!AL103>0,'Simplified Loader'!AL103,\"\")","v":""},{"$f":"IF('Simplified Loader'!AM103>0,'Simplified Loader'!AM103,\"\")","v":""},{"$f":"IF('Simplified Loader'!AN103=\"Male\",\"Male\",IF('Simplified Loader'!AN103=\"Female\",\"Female\",IF('Simplified Loader'!AN103=\"M\",\"Male\",IF('Simplified Loader'!AN103=\"F\",\"Female\",\"\"))))","v":""},{"$f":"IF('Simplified Loader'!AO103=\"Single\",\"Single\",IF('Simplified Loader'!AO103=\"Family\",\"Family\",IF('Simplified Loader'!AO103=\"S\",\"Single\",IF('Simplified Loader'!AO103=\"F\",\"Family\",\"\"))))","v":""},{"$f":"IF('Simplified Loader'!AP103=\"Single\",\"Single\",IF('Simplified Loader'!AP103=\"Family\",\"Family\",IF('Simplified Loader'!AP103=\"S\",\"Single\",IF('Simplified Loader'!AP103=\"F\",\"Family\",\"\"))))","v":""},{"$f":"IF('Simplified Loader'!AQ103>0,'Simplified Loader'!AQ103,\"\")","v":""},{"$f":"IF('Simplified Loader'!AR103=\"Yes\",\"Yes\",IF('Simplified Loader'!AR103=\"No\",\"No\",IF('Simplified Loader'!AR103=\"Y\",\"Yes\",IF('Simplified Loader'!AR103=\"N\",\"No\",\"\"))))","v":""},{"$f":"IF('Simplified Loader'!AS103>0,'Simplified Loader'!AS103,\"\")","v":""},{"$f":"IF('Simplified Loader'!AT103>0,'Simplified Loader'!AT103,\"\")","v":""},{"$f":"IF('Simplified Loader'!AU103>0,'Simplified Loader'!AU103,\"\")","v":""},{"$f":"IF('Simplified Loader'!AV103=\"Male\",\"Male\",IF('Simplified Loader'!AV103=\"Female\",\"Female\",IF('Simplified Loader'!AV103=\"M\",\"Male\",IF('Simplified Loader'!AV103=\"F\",\"Female\",\"\"))))","v":""},{"$f":"IF('Simplified Loader'!AW103=\"Yes\",\"Yes\",IF('Simplified Loader'!AW103=\"No\",\"No\",IF('Simplified Loader'!AW103=\"Y\",\"Yes\",IF('Simplified Loader'!AW103=\"N\",\"No\",\"\"))))","v":""},{"$f":"IF('Simplified Loader'!AX103=\"Yes\",\"Yes\",IF('Simplified Loader'!AX103=\"No\",\"No\",IF('Simplified Loader'!AX103=\"Y\",\"Yes\",IF('Simplified Loader'!AX103=\"N\",\"No\",\"\"))))","v":""},{"$f":"IF('Simplified Loader'!AY103>0,'Simplified Loader'!AY103,\"\")","v":""},{"$f":"IF('Simplified Loader'!AZ103>0,'Simplified Loader'!AZ103,\"\")","v":""},{"$f":"IF('Simplified Loader'!BA103>0,'Simplified Loader'!BA103,\"\")","v":""},{"$f":"IF('Simplified Loader'!BB103=\"Male\",\"Male\",IF('Simplified Loader'!BB103=\"Female\",\"Female\",IF('Simplified Loader'!BB103=\"M\",\"Male\",IF('Simplified Loader'!BB103=\"F\",\"Female\",\"\"))))","v":""},{"$f":"IF('Simplified Loader'!BC103=\"Yes\",\"Yes\",IF('Simplified Loader'!BC103=\"No\",\"No\",IF('Simplified Loader'!BC103=\"Y\",\"Yes\",IF('Simplified Loader'!BC103=\"N\",\"No\",\"\"))))","v":""},{"$f":"IF('Simplified Loader'!BD103=\"Yes\",\"Yes\",IF('Simplified Loader'!BD103=\"No\",\"No\",IF('Simplified Loader'!BD103=\"Y\",\"Yes\",IF('Simplified Loader'!BD103=\"N\",\"No\",\"\"))))","v":""},{"$f":"IF('Simplified Loader'!BE103>0,'Simplified Loader'!BE103,\"\")","v":""},{"$f":"IF('Simplified Loader'!BF103>0,'Simplified Loader'!BF103,\"\")","v":""},{"$f":"IF('Simplified Loader'!BG103>0,'Simplified Loader'!BG103,\"\")","v":""},{"$f":"IF('Simplified Loader'!BH103=\"Male\",\"Male\",IF('Simplified Loader'!BH103=\"Female\",\"Female\",IF('Simplified Loader'!BH103=\"M\",\"Male\",IF('Simplified Loader'!BH103=\"F\",\"Female\",\"\"))))","v":""},{"$f":"IF('Simplified Loader'!BI103=\"Yes\",\"Yes\",IF('Simplified Loader'!BI103=\"No\",\"No\",IF('Simplified Loader'!BI103=\"Y\",\"Yes\",IF('Simplified Loader'!BI103=\"N\",\"No\",\"\"))))","v":""},{"$f":"IF('Simplified Loader'!BJ103=\"Yes\",\"Yes\",IF('Simplified Loader'!BJ103=\"No\",\"No\",IF('Simplified Loader'!BJ103=\"Y\",\"Yes\",IF('Simplified Loader'!BJ103=\"N\",\"No\",\"\"))))","v":""},{"$f":"IF('Simplified Loader'!BK103>0,'Simplified Loader'!BK103,\"\")","v":""},{"$f":"IF('Simplified Loader'!BL103>0,'Simplified Loader'!BL103,\"\")","v":""},{"$f":"IF('Simplified Loader'!BM103>0,'Simplified Loader'!BM103,\"\")","v":""},{"$f":"IF('Simplified Loader'!BN103=\"Male\",\"Male\",IF('Simplified Loader'!BN103=\"Female\",\"Female\",IF('Simplified Loader'!BN103=\"M\",\"Male\",IF('Simplified Loader'!BN103=\"F\",\"Female\",\"\"))))","v":""},{"$f":"IF('Simplified Loader'!BO103=\"Yes\",\"Yes\",IF('Simplified Loader'!BO103=\"No\",\"No\",IF('Simplified Loader'!BO103=\"Y\",\"Yes\",IF('Simplified Loader'!BO103=\"N\",\"No\",\"\"))))","v":""},{"$f":"IF('Simplified Loader'!BP103=\"Yes\",\"Yes\",IF('Simplified Loader'!BP103=\"No\",\"No\",IF('Simplified Loader'!BP103=\"Y\",\"Yes\",IF('Simplified Loader'!BP103=\"N\",\"No\",\"\"))))","v":""},{"$f":"IF('Simplified Loader'!BQ103>0,'Simplified Loader'!BQ103,\"\")","v":""},{"$f":"IF('Simplified Loader'!BR103>0,'Simplified Loader'!BR103,\"\")","v":""},{"$f":"IF('Simplified Loader'!BS103>0,'Simplified Loader'!BS103,\"\")","v":""},{"$f":"IF('Simplified Loader'!BT103=\"Male\",\"Male\",IF('Simplified Loader'!BT103=\"Female\",\"Female\",IF('Simplified Loader'!BT103=\"M\",\"Male\",IF('Simplified Loader'!BT103=\"F\",\"Female\",\"\"))))","v":""},{"$f":"IF('Simplified Loader'!BU103=\"Yes\",\"Yes\",IF('Simplified Loader'!BU103=\"No\",\"No\",IF('Simplified Loader'!BU103=\"Y\",\"Yes\",IF('Simplified Loader'!BU103=\"N\",\"No\",\"\"))))","v":""},{"$f":"IF('Simplified Loader'!BV103=\"Yes\",\"Yes\",IF('Simplified Loader'!BV103=\"No\",\"No\",IF('Simplified Loader'!BV103=\"Y\",\"Yes\",IF('Simplified Loader'!BV103=\"N\",\"No\",\"\"))))","v":""},{"$f":"IF('Simplified Loader'!BW103>0,'Simplified Loader'!BW103,\"\")","v":""},{"$f":"IF('Simplified Loader'!BX103>0,'Simplified Loader'!BX103,\"\")","v":""},{"$f":"IF('Simplified Loader'!BY103>0,'Simplified Loader'!BY103,\"\")","v":""},{"$f":"IF('Simplified Loader'!BZ103=\"Male\",\"Male\",IF('Simplified Loader'!BZ103=\"Female\",\"Female\",IF('Simplified Loader'!BZ103=\"M\",\"Male\",IF('Simplified Loader'!BZ103=\"F\",\"Female\",\"\"))))","v":""},{"$f":"IF('Simplified Loader'!CA103=\"Yes\",\"Yes\",IF('Simplified Loader'!CA103=\"No\",\"No\",IF('Simplified Loader'!CA103=\"Y\",\"Yes\",IF('Simplified Loader'!CA103=\"N\",\"No\",\"\"))))","v":""},{"$f":"IF('Simplified Loader'!CB103=\"Yes\",\"Yes\",IF('Simplified Loader'!CB103=\"No\",\"No\",IF('Simplified Loader'!CB103=\"Y\",\"Yes\",IF('Simplified Loader'!CB103=\"N\",\"No\",\"\"))))","v":""},{"$f":"IF('Simplified Loader'!CH103>0,'Simplified Loader'!CH103,\"\")","v":"    "}]
[{"$f":"IF('Simplified Loader'!A104>0,'Simplified Loader'!A104,\"\")","v":""},{"$f":"IF('Simplified Loader'!B104>0,'Simplified Loader'!B104,\"\")","v":""},{"$f":"IF('Simplified Loader'!C104>0,'Simplified Loader'!C104,\"\")","v":""},{"$f":"IF('Simplified Loader'!D104>0,'Simplified Loader'!D104,\"\")","v":""},{"$f":"IF('Simplified Loader'!P104>0,TEXT('Simplified Loader'!P104,\"000\"),\"\")","v":""},{"$f":"IF('Simplified Loader'!Q104>0,'Simplified Loader'!Q104,\"\")","v":""},{"$f":"IF('Simplified Loader'!R104>0,'Simplified Loader'!R104,\"\")","v":""},{"$f":"IF('Simplified Loader'!F104>0,DATEVALUE(TEXT('Simplified Loader'!F104,\"yyyy-mm-dd\")),\"\")","v":""},{"$f":"IF('Simplified Loader'!L104>0,DATEVALUE(TEXT('Simplified Loader'!L104,\"yyyy-mm-dd\")),\"\")","v":""},{"$f":"IF('Simplified Loader'!Y104>0,'Simplified Loader'!Y104,\"\")","v":""},{"$f":"IF('Simplified Loader'!T104>0,'Simplified Loader'!T104,\"\")","v":""},{"$f":"IF('Simplified Loader'!G104=\"Male\",\"Male\",IF('Simplified Loader'!G104=\"Female\",\"Female\",IF('Simplified Loader'!G104=\"M\",\"Male\",IF('Simplified Loader'!G104=\"F\",\"Female\",\"\"))))","v":""},{"$f":"IF('Simplified Loader'!U104=\"Yes\",\"Yes\",IF('Simplified Loader'!U104=\"No\",\"No\",IF('Simplified Loader'!U104=\"Y\",\"Yes\",IF('Simplified Loader'!U104=\"N\",\"No\",\"\"))))","v":""},{"$f":"IF('Simplified Loader'!I104=\"Single\",\"Single\",IF('Simplified Loader'!I104=\"Family\",\"Family\",IF('Simplified Loader'!I104=\"Waive\",\"Family\",IF('Simplified Loader'!I104=\"Single Parent\",\"Family\",IF('Simplified Loader'!I104=\"Couple\",\"Family\",IF('Simplified Loader'!I104=\"In force\",\"Family\",IF('Simplified Loader'!I104=\"Applies\",\"Family\",IF('Simplified Loader'!I104=\"Applicable\",\"Family\",\"\"))))))))","v":""},{"$f":"IF('Simplified Loader'!AC104=\"English\",\"English\",IF('Simplified Loader'!AC104=\"French\",\"French\",IF('Simplified Loader'!AC104=\"E\",\"English\",IF('Simplified Loader'!AC104=\"F\",\"French\",\"\"))))","v":""},{"$f":"IF('Simplified Loader'!AB104=\"Yes\",\"Yes\",IF('Simplified Loader'!AB104=\"No\",\"No\",IF('Simplified Loader'!AB104=\"Y\",\"Yes\",IF('Simplified Loader'!AB104=\"N\",\"No\",\"\"))))","v":""},{"$f":"IF('Simplified Loader'!AD104>0,'Simplified Loader'!AD104,\"\")","v":""},{"$f":"IF('Simplified Loader'!M104>0,'Simplified Loader'!M104,\"\")","v":""},{"$f":"IF('Simplified Loader'!N104>0,'Simplified Loader'!N104,\"\")","v":""},{"$f":"IF('Simplified Loader'!O104>0,'Simplified Loader'!O104,\"\")","v":""},{"$f":"IF('Simplified Loader'!I104=\"Waive\",\"Yes\",\"\")","v":""},{"$f":"IF('Simplified Loader'!I104=\"Waive\",\"Yes\",\"\")","v":""},{"$f":"IF('Simplified Loader'!AE104>0,'Simplified Loader'!AE104,\"\")","v":""},{"$f":"IF('Simplified Loader'!AF104>0,'Simplified Loader'!AF104,\"\")","v":""},{"$f":"IF('Simplified Loader'!AG104>0,'Simplified Loader'!AG104,\"\")","v":""},{"$f":"IF('Simplified Loader'!AH104>0,'Simplified Loader'!AH104,\"\")","v":""},{"$f":"IF('Simplified Loader'!AI104>0,'Simplified Loader'!AI104,\"\")","v":" "},{"$f":"IF('Simplified Loader'!AJ104>0,'Simplified Loader'!AJ104,\"\")","v":" "},{"$f":"IF('Simplified Loader'!W104>0,'Simplified Loader'!W104&\" \",\"\")&IF('Simplified Loader'!V104>0,'Simplified Loader'!V104,\"\")","v":""},null,{"$f":"IF('Simplified Loader'!X104>0,'Simplified Loader'!X104,\"\")","v":""},{"$f":"IF('Simplified Loader'!Y104>0,'Simplified Loader'!Y104,\"\")","v":""},{"$f":"IF('Simplified Loader'!Z104>0,'Simplified Loader'!Z104,\"\")","v":""},{"$f":"IF('Simplified Loader'!AA104>0,'Simplified Loader'!AA104,\"\")","v":""},{"$f":"IF('Simplified Loader'!E104>0,'Simplified Loader'!E104,\"\")","v":""},{"$f":"IF('Simplified Loader'!AK104>0,'Simplified Loader'!AK104,\"\")","v":""},{"$f":"IF('Simplified Loader'!AL104>0,'Simplified Loader'!AL104,\"\")","v":""},{"$f":"IF('Simplified Loader'!AM104>0,'Simplified Loader'!AM104,\"\")","v":""},{"$f":"IF('Simplified Loader'!AN104=\"Male\",\"Male\",IF('Simplified Loader'!AN104=\"Female\",\"Female\",IF('Simplified Loader'!AN104=\"M\",\"Male\",IF('Simplified Loader'!AN104=\"F\",\"Female\",\"\"))))","v":""},{"$f":"IF('Simplified Loader'!AO104=\"Single\",\"Single\",IF('Simplified Loader'!AO104=\"Family\",\"Family\",IF('Simplified Loader'!AO104=\"S\",\"Single\",IF('Simplified Loader'!AO104=\"F\",\"Family\",\"\"))))","v":""},{"$f":"IF('Simplified Loader'!AP104=\"Single\",\"Single\",IF('Simplified Loader'!AP104=\"Family\",\"Family\",IF('Simplified Loader'!AP104=\"S\",\"Single\",IF('Simplified Loader'!AP104=\"F\",\"Family\",\"\"))))","v":""},{"$f":"IF('Simplified Loader'!AQ104>0,'Simplified Loader'!AQ104,\"\")","v":""},{"$f":"IF('Simplified Loader'!AR104=\"Yes\",\"Yes\",IF('Simplified Loader'!AR104=\"No\",\"No\",IF('Simplified Loader'!AR104=\"Y\",\"Yes\",IF('Simplified Loader'!AR104=\"N\",\"No\",\"\"))))","v":""},{"$f":"IF('Simplified Loader'!AS104>0,'Simplified Loader'!AS104,\"\")","v":""},{"$f":"IF('Simplified Loader'!AT104>0,'Simplified Loader'!AT104,\"\")","v":""},{"$f":"IF('Simplified Loader'!AU104>0,'Simplified Loader'!AU104,\"\")","v":""},{"$f":"IF('Simplified Loader'!AV104=\"Male\",\"Male\",IF('Simplified Loader'!AV104=\"Female\",\"Female\",IF('Simplified Loader'!AV104=\"M\",\"Male\",IF('Simplified Loader'!AV104=\"F\",\"Female\",\"\"))))","v":""},{"$f":"IF('Simplified Loader'!AW104=\"Yes\",\"Yes\",IF('Simplified Loader'!AW104=\"No\",\"No\",IF('Simplified Loader'!AW104=\"Y\",\"Yes\",IF('Simplified Loader'!AW104=\"N\",\"No\",\"\"))))","v":""},{"$f":"IF('Simplified Loader'!AX104=\"Yes\",\"Yes\",IF('Simplified Loader'!AX104=\"No\",\"No\",IF('Simplified Loader'!AX104=\"Y\",\"Yes\",IF('Simplified Loader'!AX104=\"N\",\"No\",\"\"))))","v":""},{"$f":"IF('Simplified Loader'!AY104>0,'Simplified Loader'!AY104,\"\")","v":""},{"$f":"IF('Simplified Loader'!AZ104>0,'Simplified Loader'!AZ104,\"\")","v":""},{"$f":"IF('Simplified Loader'!BA104>0,'Simplified Loader'!BA104,\"\")","v":""},{"$f":"IF('Simplified Loader'!BB104=\"Male\",\"Male\",IF('Simplified Loader'!BB104=\"Female\",\"Female\",IF('Simplified Loader'!BB104=\"M\",\"Male\",IF('Simplified Loader'!BB104=\"F\",\"Female\",\"\"))))","v":""},{"$f":"IF('Simplified Loader'!BC104=\"Yes\",\"Yes\",IF('Simplified Loader'!BC104=\"No\",\"No\",IF('Simplified Loader'!BC104=\"Y\",\"Yes\",IF('Simplified Loader'!BC104=\"N\",\"No\",\"\"))))","v":""},{"$f":"IF('Simplified Loader'!BD104=\"Yes\",\"Yes\",IF('Simplified Loader'!BD104=\"No\",\"No\",IF('Simplified Loader'!BD104=\"Y\",\"Yes\",IF('Simplified Loader'!BD104=\"N\",\"No\",\"\"))))","v":""},{"$f":"IF('Simplified Loader'!BE104>0,'Simplified Loader'!BE104,\"\")","v":""},{"$f":"IF('Simplified Loader'!BF104>0,'Simplified Loader'!BF104,\"\")","v":""},{"$f":"IF('Simplified Loader'!BG104>0,'Simplified Loader'!BG104,\"\")","v":""},{"$f":"IF('Simplified Loader'!BH104=\"Male\",\"Male\",IF('Simplified Loader'!BH104=\"Female\",\"Female\",IF('Simplified Loader'!BH104=\"M\",\"Male\",IF('Simplified Loader'!BH104=\"F\",\"Female\",\"\"))))","v":""},{"$f":"IF('Simplified Loader'!BI104=\"Yes\",\"Yes\",IF('Simplified Loader'!BI104=\"No\",\"No\",IF('Simplified Loader'!BI104=\"Y\",\"Yes\",IF('Simplified Loader'!BI104=\"N\",\"No\",\"\"))))","v":""},{"$f":"IF('Simplified Loader'!BJ104=\"Yes\",\"Yes\",IF('Simplified Loader'!BJ104=\"No\",\"No\",IF('Simplified Loader'!BJ104=\"Y\",\"Yes\",IF('Simplified Loader'!BJ104=\"N\",\"No\",\"\"))))","v":""},{"$f":"IF('Simplified Loader'!BK104>0,'Simplified Loader'!BK104,\"\")","v":""},{"$f":"IF('Simplified Loader'!BL104>0,'Simplified Loader'!BL104,\"\")","v":""},{"$f":"IF('Simplified Loader'!BM104>0,'Simplified Loader'!BM104,\"\")","v":""},{"$f":"IF('Simplified Loader'!BN104=\"Male\",\"Male\",IF('Simplified Loader'!BN104=\"Female\",\"Female\",IF('Simplified Loader'!BN104=\"M\",\"Male\",IF('Simplified Loader'!BN104=\"F\",\"Female\",\"\"))))","v":""},{"$f":"IF('Simplified Loader'!BO104=\"Yes\",\"Yes\",IF('Simplified Loader'!BO104=\"No\",\"No\",IF('Simplified Loader'!BO104=\"Y\",\"Yes\",IF('Simplified Loader'!BO104=\"N\",\"No\",\"\"))))","v":""},{"$f":"IF('Simplified Loader'!BP104=\"Yes\",\"Yes\",IF('Simplified Loader'!BP104=\"No\",\"No\",IF('Simplified Loader'!BP104=\"Y\",\"Yes\",IF('Simplified Loader'!BP104=\"N\",\"No\",\"\"))))","v":""},{"$f":"IF('Simplified Loader'!BQ104>0,'Simplified Loader'!BQ104,\"\")","v":""},{"$f":"IF('Simplified Loader'!BR104>0,'Simplified Loader'!BR104,\"\")","v":""},{"$f":"IF('Simplified Loader'!BS104>0,'Simplified Loader'!BS104,\"\")","v":""},{"$f":"IF('Simplified Loader'!BT104=\"Male\",\"Male\",IF('Simplified Loader'!BT104=\"Female\",\"Female\",IF('Simplified Loader'!BT104=\"M\",\"Male\",IF('Simplified Loader'!BT104=\"F\",\"Female\",\"\"))))","v":""},{"$f":"IF('Simplified Loader'!BU104=\"Yes\",\"Yes\",IF('Simplified Loader'!BU104=\"No\",\"No\",IF('Simplified Loader'!BU104=\"Y\",\"Yes\",IF('Simplified Loader'!BU104=\"N\",\"No\",\"\"))))","v":""},{"$f":"IF('Simplified Loader'!BV104=\"Yes\",\"Yes\",IF('Simplified Loader'!BV104=\"No\",\"No\",IF('Simplified Loader'!BV104=\"Y\",\"Yes\",IF('Simplified Loader'!BV104=\"N\",\"No\",\"\"))))","v":""},{"$f":"IF('Simplified Loader'!BW104>0,'Simplified Loader'!BW104,\"\")","v":""},{"$f":"IF('Simplified Loader'!BX104>0,'Simplified Loader'!BX104,\"\")","v":""},{"$f":"IF('Simplified Loader'!BY104>0,'Simplified Loader'!BY104,\"\")","v":""},{"$f":"IF('Simplified Loader'!BZ104=\"Male\",\"Male\",IF('Simplified Loader'!BZ104=\"Female\",\"Female\",IF('Simplified Loader'!BZ104=\"M\",\"Male\",IF('Simplified Loader'!BZ104=\"F\",\"Female\",\"\"))))","v":""},{"$f":"IF('Simplified Loader'!CA104=\"Yes\",\"Yes\",IF('Simplified Loader'!CA104=\"No\",\"No\",IF('Simplified Loader'!CA104=\"Y\",\"Yes\",IF('Simplified Loader'!CA104=\"N\",\"No\",\"\"))))","v":""},{"$f":"IF('Simplified Loader'!CB104=\"Yes\",\"Yes\",IF('Simplified Loader'!CB104=\"No\",\"No\",IF('Simplified Loader'!CB104=\"Y\",\"Yes\",IF('Simplified Loader'!CB104=\"N\",\"No\",\"\"))))","v":""},{"$f":"IF('Simplified Loader'!CH104>0,'Simplified Loader'!CH104,\"\")","v":"    "}]
[{"$f":"IF('Simplified Loader'!A105>0,'Simplified Loader'!A105,\"\")","v":""},{"$f":"IF('Simplified Loader'!B105>0,'Simplified Loader'!B105,\"\")","v":""},{"$f":"IF('Simplified Loader'!C105>0,'Simplified Loader'!C105,\"\")","v":""},{"$f":"IF('Simplified Loader'!D105>0,'Simplified Loader'!D105,\"\")","v":""},{"$f":"IF('Simplified Loader'!P105>0,TEXT('Simplified Loader'!P105,\"000\"),\"\")","v":""},{"$f":"IF('Simplified Loader'!Q105>0,'Simplified Loader'!Q105,\"\")","v":""},{"$f":"IF('Simplified Loader'!R105>0,'Simplified Loader'!R105,\"\")","v":""},{"$f":"IF('Simplified Loader'!F105>0,DATEVALUE(TEXT('Simplified Loader'!F105,\"yyyy-mm-dd\")),\"\")","v":""},{"$f":"IF('Simplified Loader'!L105>0,DATEVALUE(TEXT('Simplified Loader'!L105,\"yyyy-mm-dd\")),\"\")","v":""},{"$f":"IF('Simplified Loader'!Y105>0,'Simplified Loader'!Y105,\"\")","v":""},{"$f":"IF('Simplified Loader'!T105>0,'Simplified Loader'!T105,\"\")","v":""},{"$f":"IF('Simplified Loader'!G105=\"Male\",\"Male\",IF('Simplified Loader'!G105=\"Female\",\"Female\",IF('Simplified Loader'!G105=\"M\",\"Male\",IF('Simplified Loader'!G105=\"F\",\"Female\",\"\"))))","v":""},{"$f":"IF('Simplified Loader'!U105=\"Yes\",\"Yes\",IF('Simplified Loader'!U105=\"No\",\"No\",IF('Simplified Loader'!U105=\"Y\",\"Yes\",IF('Simplified Loader'!U105=\"N\",\"No\",\"\"))))","v":""},{"$f":"IF('Simplified Loader'!I105=\"Single\",\"Single\",IF('Simplified Loader'!I105=\"Family\",\"Family\",IF('Simplified Loader'!I105=\"Waive\",\"Family\",IF('Simplified Loader'!I105=\"Single Parent\",\"Family\",IF('Simplified Loader'!I105=\"Couple\",\"Family\",IF('Simplified Loader'!I105=\"In force\",\"Family\",IF('Simplified Loader'!I105=\"Applies\",\"Family\",IF('Simplified Loader'!I105=\"Applicable\",\"Family\",\"\"))))))))","v":""},{"$f":"IF('Simplified Loader'!AC105=\"English\",\"English\",IF('Simplified Loader'!AC105=\"French\",\"French\",IF('Simplified Loader'!AC105=\"E\",\"English\",IF('Simplified Loader'!AC105=\"F\",\"French\",\"\"))))","v":""},{"$f":"IF('Simplified Loader'!AB105=\"Yes\",\"Yes\",IF('Simplified Loader'!AB105=\"No\",\"No\",IF('Simplified Loader'!AB105=\"Y\",\"Yes\",IF('Simplified Loader'!AB105=\"N\",\"No\",\"\"))))","v":""},{"$f":"IF('Simplified Loader'!AD105>0,'Simplified Loader'!AD105,\"\")","v":""},{"$f":"IF('Simplified Loader'!M105>0,'Simplified Loader'!M105,\"\")","v":""},{"$f":"IF('Simplified Loader'!N105>0,'Simplified Loader'!N105,\"\")","v":""},{"$f":"IF('Simplified Loader'!O105>0,'Simplified Loader'!O105,\"\")","v":""},{"$f":"IF('Simplified Loader'!I105=\"Waive\",\"Yes\",\"\")","v":""},{"$f":"IF('Simplified Loader'!I105=\"Waive\",\"Yes\",\"\")","v":""},{"$f":"IF('Simplified Loader'!AE105>0,'Simplified Loader'!AE105,\"\")","v":""},{"$f":"IF('Simplified Loader'!AF105>0,'Simplified Loader'!AF105,\"\")","v":""},{"$f":"IF('Simplified Loader'!AG105>0,'Simplified Loader'!AG105,\"\")","v":""},{"$f":"IF('Simplified Loader'!AH105>0,'Simplified Loader'!AH105,\"\")","v":""},{"$f":"IF('Simplified Loader'!AI105>0,'Simplified Loader'!AI105,\"\")","v":" "},{"$f":"IF('Simplified Loader'!AJ105>0,'Simplified Loader'!AJ105,\"\")","v":" "},{"$f":"IF('Simplified Loader'!W105>0,'Simplified Loader'!W105&\" \",\"\")&IF('Simplified Loader'!V105>0,'Simplified Loader'!V105,\"\")","v":""},null,{"$f":"IF('Simplified Loader'!X105>0,'Simplified Loader'!X105,\"\")","v":""},{"$f":"IF('Simplified Loader'!Y105>0,'Simplified Loader'!Y105,\"\")","v":""},{"$f":"IF('Simplified Loader'!Z105>0,'Simplified Loader'!Z105,\"\")","v":""},{"$f":"IF('Simplified Loader'!AA105>0,'Simplified Loader'!AA105,\"\")","v":""},{"$f":"IF('Simplified Loader'!E105>0,'Simplified Loader'!E105,\"\")","v":""},{"$f":"IF('Simplified Loader'!AK105>0,'Simplified Loader'!AK105,\"\")","v":""},{"$f":"IF('Simplified Loader'!AL105>0,'Simplified Loader'!AL105,\"\")","v":""},{"$f":"IF('Simplified Loader'!AM105>0,'Simplified Loader'!AM105,\"\")","v":""},{"$f":"IF('Simplified Loader'!AN105=\"Male\",\"Male\",IF('Simplified Loader'!AN105=\"Female\",\"Female\",IF('Simplified Loader'!AN105=\"M\",\"Male\",IF('Simplified Loader'!AN105=\"F\",\"Female\",\"\"))))","v":""},{"$f":"IF('Simplified Loader'!AO105=\"Single\",\"Single\",IF('Simplified Loader'!AO105=\"Family\",\"Family\",IF('Simplified Loader'!AO105=\"S\",\"Single\",IF('Simplified Loader'!AO105=\"F\",\"Family\",\"\"))))","v":""},{"$f":"IF('Simplified Loader'!AP105=\"Single\",\"Single\",IF('Simplified Loader'!AP105=\"Family\",\"Family\",IF('Simplified Loader'!AP105=\"S\",\"Single\",IF('Simplified Loader'!AP105=\"F\",\"Family\",\"\"))))","v":""},{"$f":"IF('Simplified Loader'!AQ105>0,'Simplified Loader'!AQ105,\"\")","v":""},{"$f":"IF('Simplified Loader'!AR105=\"Yes\",\"Yes\",IF('Simplified Loader'!AR105=\"No\",\"No\",IF('Simplified Loader'!AR105=\"Y\",\"Yes\",IF('Simplified Loader'!AR105=\"N\",\"No\",\"\"))))","v":""},{"$f":"IF('Simplified Loader'!AS105>0,'Simplified Loader'!AS105,\"\")","v":""},{"$f":"IF('Simplified Loader'!AT105>0,'Simplified Loader'!AT105,\"\")","v":""},{"$f":"IF('Simplified Loader'!AU105>0,'Simplified Loader'!AU105,\"\")","v":""},{"$f":"IF('Simplified Loader'!AV105=\"Male\",\"Male\",IF('Simplified Loader'!AV105=\"Female\",\"Female\",IF('Simplified Loader'!AV105=\"M\",\"Male\",IF('Simplified Loader'!AV105=\"F\",\"Female\",\"\"))))","v":""},{"$f":"IF('Simplified Loader'!AW105=\"Yes\",\"Yes\",IF('Simplified Loader'!AW105=\"No\",\"No\",IF('Simplified Loader'!AW105=\"Y\",\"Yes\",IF('Simplified Loader'!AW105=\"N\",\"No\",\"\"))))","v":""},{"$f":"IF('Simplified Loader'!AX105=\"Yes\",\"Yes\",IF('Simplified Loader'!AX105=\"No\",\"No\",IF('Simplified Loader'!AX105=\"Y\",\"Yes\",IF('Simplified Loader'!AX105=\"N\",\"No\",\"\"))))","v":""},{"$f":"IF('Simplified Loader'!AY105>0,'Simplified Loader'!AY105,\"\")","v":""},{"$f":"IF('Simplified Loader'!AZ105>0,'Simplified Loader'!AZ105,\"\")","v":""},{"$f":"IF('Simplified Loader'!BA105>0,'Simplified Loader'!BA105,\"\")","v":""},{"$f":"IF('Simplified Loader'!BB105=\"Male\",\"Male\",IF('Simplified Loader'!BB105=\"Female\",\"Female\",IF('Simplified Loader'!BB105=\"M\",\"Male\",IF('Simplified Loader'!BB105=\"F\",\"Female\",\"\"))))","v":""},{"$f":"IF('Simplified Loader'!BC105=\"Yes\",\"Yes\",IF('Simplified Loader'!BC105=\"No\",\"No\",IF('Simplified Loader'!BC105=\"Y\",\"Yes\",IF('Simplified Loader'!BC105=\"N\",\"No\",\"\"))))","v":""},{"$f":"IF('Simplified Loader'!BD105=\"Yes\",\"Yes\",IF('Simplified Loader'!BD105=\"No\",\"No\",IF('Simplified Loader'!BD105=\"Y\",\"Yes\",IF('Simplified Loader'!BD105=\"N\",\"No\",\"\"))))","v":""},{"$f":"IF('Simplified Loader'!BE105>0,'Simplified Loader'!BE105,\"\")","v":""},{"$f":"IF('Simplified Loader'!BF105>0,'Simplified Loader'!BF105,\"\")","v":""},{"$f":"IF('Simplified Loader'!BG105>0,'Simplified Loader'!BG105,\"\")","v":""},{"$f":"IF('Simplified Loader'!BH105=\"Male\",\"Male\",IF('Simplified Loader'!BH105=\"Female\",\"Female\",IF('Simplified Loader'!BH105=\"M\",\"Male\",IF('Simplified Loader'!BH105=\"F\",\"Female\",\"\"))))","v":""},{"$f":"IF('Simplified Loader'!BI105=\"Yes\",\"Yes\",IF('Simplified Loader'!BI105=\"No\",\"No\",IF('Simplified Loader'!BI105=\"Y\",\"Yes\",IF('Simplified Loader'!BI105=\"N\",\"No\",\"\"))))","v":""},{"$f":"IF('Simplified Loader'!BJ105=\"Yes\",\"Yes\",IF('Simplified Loader'!BJ105=\"No\",\"No\",IF('Simplified Loader'!BJ105=\"Y\",\"Yes\",IF('Simplified Loader'!BJ105=\"N\",\"No\",\"\"))))","v":""},{"$f":"IF('Simplified Loader'!BK105>0,'Simplified Loader'!BK105,\"\")","v":""},{"$f":"IF('Simplified Loader'!BL105>0,'Simplified Loader'!BL105,\"\")","v":""},{"$f":"IF('Simplified Loader'!BM105>0,'Simplified Loader'!BM105,\"\")","v":""},{"$f":"IF('Simplified Loader'!BN105=\"Male\",\"Male\",IF('Simplified Loader'!BN105=\"Female\",\"Female\",IF('Simplified Loader'!BN105=\"M\",\"Male\",IF('Simplified Loader'!BN105=\"F\",\"Female\",\"\"))))","v":""},{"$f":"IF('Simplified Loader'!BO105=\"Yes\",\"Yes\",IF('Simplified Loader'!BO105=\"No\",\"No\",IF('Simplified Loader'!BO105=\"Y\",\"Yes\",IF('Simplified Loader'!BO105=\"N\",\"No\",\"\"))))","v":""},{"$f":"IF('Simplified Loader'!BP105=\"Yes\",\"Yes\",IF('Simplified Loader'!BP105=\"No\",\"No\",IF('Simplified Loader'!BP105=\"Y\",\"Yes\",IF('Simplified Loader'!BP105=\"N\",\"No\",\"\"))))","v":""},{"$f":"IF('Simplified Loader'!BQ105>0,'Simplified Loader'!BQ105,\"\")","v":""},{"$f":"IF('Simplified Loader'!BR105>0,'Simplified Loader'!BR105,\"\")","v":""},{"$f":"IF('Simplified Loader'!BS105>0,'Simplified Loader'!BS105,\"\")","v":""},{"$f":"IF('Simplified Loader'!BT105=\"Male\",\"Male\",IF('Simplified Loader'!BT105=\"Female\",\"Female\",IF('Simplified Loader'!BT105=\"M\",\"Male\",IF('Simplified Loader'!BT105=\"F\",\"Female\",\"\"))))","v":""},{"$f":"IF('Simplified Loader'!BU105=\"Yes\",\"Yes\",IF('Simplified Loader'!BU105=\"No\",\"No\",IF('Simplified Loader'!BU105=\"Y\",\"Yes\",IF('Simplified Loader'!BU105=\"N\",\"No\",\"\"))))","v":""},{"$f":"IF('Simplified Loader'!BV105=\"Yes\",\"Yes\",IF('Simplified Loader'!BV105=\"No\",\"No\",IF('Simplified Loader'!BV105=\"Y\",\"Yes\",IF('Simplified Loader'!BV105=\"N\",\"No\",\"\"))))","v":""},{"$f":"IF('Simplified Loader'!BW105>0,'Simplified Loader'!BW105,\"\")","v":""},{"$f":"IF('Simplified Loader'!BX105>0,'Simplified Loader'!BX105,\"\")","v":""},{"$f":"IF('Simplified Loader'!BY105>0,'Simplified Loader'!BY105,\"\")","v":""},{"$f":"IF('Simplified Loader'!BZ105=\"Male\",\"Male\",IF('Simplified Loader'!BZ105=\"Female\",\"Female\",IF('Simplified Loader'!BZ105=\"M\",\"Male\",IF('Simplified Loader'!BZ105=\"F\",\"Female\",\"\"))))","v":""},{"$f":"IF('Simplified Loader'!CA105=\"Yes\",\"Yes\",IF('Simplified Loader'!CA105=\"No\",\"No\",IF('Simplified Loader'!CA105=\"Y\",\"Yes\",IF('Simplified Loader'!CA105=\"N\",\"No\",\"\"))))","v":""},{"$f":"IF('Simplified Loader'!CB105=\"Yes\",\"Yes\",IF('Simplified Loader'!CB105=\"No\",\"No\",IF('Simplified Loader'!CB105=\"Y\",\"Yes\",IF('Simplified Loader'!CB105=\"N\",\"No\",\"\"))))","v":""},{"$f":"IF('Simplified Loader'!CH105>0,'Simplified Loader'!CH105,\"\")","v":"    "}]
[{"$f":"IF('Simplified Loader'!A106>0,'Simplified Loader'!A106,\"\")","v":""},{"$f":"IF('Simplified Loader'!B106>0,'Simplified Loader'!B106,\"\")","v":""},{"$f":"IF('Simplified Loader'!C106>0,'Simplified Loader'!C106,\"\")","v":""},{"$f":"IF('Simplified Loader'!D106>0,'Simplified Loader'!D106,\"\")","v":""},{"$f":"IF('Simplified Loader'!P106>0,TEXT('Simplified Loader'!P106,\"000\"),\"\")","v":""},{"$f":"IF('Simplified Loader'!Q106>0,'Simplified Loader'!Q106,\"\")","v":""},{"$f":"IF('Simplified Loader'!R106>0,'Simplified Loader'!R106,\"\")","v":""},{"$f":"IF('Simplified Loader'!F106>0,DATEVALUE(TEXT('Simplified Loader'!F106,\"yyyy-mm-dd\")),\"\")","v":""},{"$f":"IF('Simplified Loader'!L106>0,DATEVALUE(TEXT('Simplified Loader'!L106,\"yyyy-mm-dd\")),\"\")","v":""},{"$f":"IF('Simplified Loader'!Y106>0,'Simplified Loader'!Y106,\"\")","v":""},{"$f":"IF('Simplified Loader'!T106>0,'Simplified Loader'!T106,\"\")","v":""},{"$f":"IF('Simplified Loader'!G106=\"Male\",\"Male\",IF('Simplified Loader'!G106=\"Female\",\"Female\",IF('Simplified Loader'!G106=\"M\",\"Male\",IF('Simplified Loader'!G106=\"F\",\"Female\",\"\"))))","v":""},{"$f":"IF('Simplified Loader'!U106=\"Yes\",\"Yes\",IF('Simplified Loader'!U106=\"No\",\"No\",IF('Simplified Loader'!U106=\"Y\",\"Yes\",IF('Simplified Loader'!U106=\"N\",\"No\",\"\"))))","v":""},{"$f":"IF('Simplified Loader'!I106=\"Single\",\"Single\",IF('Simplified Loader'!I106=\"Family\",\"Family\",IF('Simplified Loader'!I106=\"Waive\",\"Family\",IF('Simplified Loader'!I106=\"Single Parent\",\"Family\",IF('Simplified Loader'!I106=\"Couple\",\"Family\",IF('Simplified Loader'!I106=\"In force\",\"Family\",IF('Simplified Loader'!I106=\"Applies\",\"Family\",IF('Simplified Loader'!I106=\"Applicable\",\"Family\",\"\"))))))))","v":""},{"$f":"IF('Simplified Loader'!AC106=\"English\",\"English\",IF('Simplified Loader'!AC106=\"French\",\"French\",IF('Simplified Loader'!AC106=\"E\",\"English\",IF('Simplified Loader'!AC106=\"F\",\"French\",\"\"))))","v":""},{"$f":"IF('Simplified Loader'!AB106=\"Yes\",\"Yes\",IF('Simplified Loader'!AB106=\"No\",\"No\",IF('Simplified Loader'!AB106=\"Y\",\"Yes\",IF('Simplified Loader'!AB106=\"N\",\"No\",\"\"))))","v":""},{"$f":"IF('Simplified Loader'!AD106>0,'Simplified Loader'!AD106,\"\")","v":""},{"$f":"IF('Simplified Loader'!M106>0,'Simplified Loader'!M106,\"\")","v":""},{"$f":"IF('Simplified Loader'!N106>0,'Simplified Loader'!N106,\"\")","v":""},{"$f":"IF('Simplified Loader'!O106>0,'Simplified Loader'!O106,\"\")","v":""},{"$f":"IF('Simplified Loader'!I106=\"Waive\",\"Yes\",\"\")","v":""},{"$f":"IF('Simplified Loader'!I106=\"Waive\",\"Yes\",\"\")","v":""},{"$f":"IF('Simplified Loader'!AE106>0,'Simplified Loader'!AE106,\"\")","v":""},{"$f":"IF('Simplified Loader'!AF106>0,'Simplified Loader'!AF106,\"\")","v":""},{"$f":"IF('Simplified Loader'!AG106>0,'Simplified Loader'!AG106,\"\")","v":""},{"$f":"IF('Simplified Loader'!AH106>0,'Simplified Loader'!AH106,\"\")","v":""},{"$f":"IF('Simplified Loader'!AI106>0,'Simplified Loader'!AI106,\"\")","v":" "},{"$f":"IF('Simplified Loader'!AJ106>0,'Simplified Loader'!AJ106,\"\")","v":" "},{"$f":"IF('Simplified Loader'!W106>0,'Simplified Loader'!W106&\" \",\"\")&IF('Simplified Loader'!V106>0,'Simplified Loader'!V106,\"\")","v":""},null,{"$f":"IF('Simplified Loader'!X106>0,'Simplified Loader'!X106,\"\")","v":""},{"$f":"IF('Simplified Loader'!Y106>0,'Simplified Loader'!Y106,\"\")","v":""},{"$f":"IF('Simplified Loader'!Z106>0,'Simplified Loader'!Z106,\"\")","v":""},{"$f":"IF('Simplified Loader'!AA106>0,'Simplified Loader'!AA106,\"\")","v":""},{"$f":"IF('Simplified Loader'!E106>0,'Simplified Loader'!E106,\"\")","v":""},{"$f":"IF('Simplified Loader'!AK106>0,'Simplified Loader'!AK106,\"\")","v":""},{"$f":"IF('Simplified Loader'!AL106>0,'Simplified Loader'!AL106,\"\")","v":""},{"$f":"IF('Simplified Loader'!AM106>0,'Simplified Loader'!AM106,\"\")","v":""},{"$f":"IF('Simplified Loader'!AN106=\"Male\",\"Male\",IF('Simplified Loader'!AN106=\"Female\",\"Female\",IF('Simplified Loader'!AN106=\"M\",\"Male\",IF('Simplified Loader'!AN106=\"F\",\"Female\",\"\"))))","v":""},{"$f":"IF('Simplified Loader'!AO106=\"Single\",\"Single\",IF('Simplified Loader'!AO106=\"Family\",\"Family\",IF('Simplified Loader'!AO106=\"S\",\"Single\",IF('Simplified Loader'!AO106=\"F\",\"Family\",\"\"))))","v":""},{"$f":"IF('Simplified Loader'!AP106=\"Single\",\"Single\",IF('Simplified Loader'!AP106=\"Family\",\"Family\",IF('Simplified Loader'!AP106=\"S\",\"Single\",IF('Simplified Loader'!AP106=\"F\",\"Family\",\"\"))))","v":""},{"$f":"IF('Simplified Loader'!AQ106>0,'Simplified Loader'!AQ106,\"\")","v":""},{"$f":"IF('Simplified Loader'!AR106=\"Yes\",\"Yes\",IF('Simplified Loader'!AR106=\"No\",\"No\",IF('Simplified Loader'!AR106=\"Y\",\"Yes\",IF('Simplified Loader'!AR106=\"N\",\"No\",\"\"))))","v":""},{"$f":"IF('Simplified Loader'!AS106>0,'Simplified Loader'!AS106,\"\")","v":""},{"$f":"IF('Simplified Loader'!AT106>0,'Simplified Loader'!AT106,\"\")","v":""},{"$f":"IF('Simplified Loader'!AU106>0,'Simplified Loader'!AU106,\"\")","v":""},{"$f":"IF('Simplified Loader'!AV106=\"Male\",\"Male\",IF('Simplified Loader'!AV106=\"Female\",\"Female\",IF('Simplified Loader'!AV106=\"M\",\"Male\",IF('Simplified Loader'!AV106=\"F\",\"Female\",\"\"))))","v":""},{"$f":"IF('Simplified Loader'!AW106=\"Yes\",\"Yes\",IF('Simplified Loader'!AW106=\"No\",\"No\",IF('Simplified Loader'!AW106=\"Y\",\"Yes\",IF('Simplified Loader'!AW106=\"N\",\"No\",\"\"))))","v":""},{"$f":"IF('Simplified Loader'!AX106=\"Yes\",\"Yes\",IF('Simplified Loader'!AX106=\"No\",\"No\",IF('Simplified Loader'!AX106=\"Y\",\"Yes\",IF('Simplified Loader'!AX106=\"N\",\"No\",\"\"))))","v":""},{"$f":"IF('Simplified Loader'!AY106>0,'Simplified Loader'!AY106,\"\")","v":""},{"$f":"IF('Simplified Loader'!AZ106>0,'Simplified Loader'!AZ106,\"\")","v":""},{"$f":"IF('Simplified Loader'!BA106>0,'Simplified Loader'!BA106,\"\")","v":""},{"$f":"IF('Simplified Loader'!BB106=\"Male\",\"Male\",IF('Simplified Loader'!BB106=\"Female\",\"Female\",IF('Simplified Loader'!BB106=\"M\",\"Male\",IF('Simplified Loader'!BB106=\"F\",\"Female\",\"\"))))","v":""},{"$f":"IF('Simplified Loader'!BC106=\"Yes\",\"Yes\",IF('Simplified Loader'!BC106=\"No\",\"No\",IF('Simplified Loader'!BC106=\"Y\",\"Yes\",IF('Simplified Loader'!BC106=\"N\",\"No\",\"\"))))","v":""},{"$f":"IF('Simplified Loader'!BD106=\"Yes\",\"Yes\",IF('Simplified Loader'!BD106=\"No\",\"No\",IF('Simplified Loader'!BD106=\"Y\",\"Yes\",IF('Simplified Loader'!BD106=\"N\",\"No\",\"\"))))","v":""},{"$f":"IF('Simplified Loader'!BE106>0,'Simplified Loader'!BE106,\"\")","v":""},{"$f":"IF('Simplified Loader'!BF106>0,'Simplified Loader'!BF106,\"\")","v":""},{"$f":"IF('Simplified Loader'!BG106>0,'Simplified Loader'!BG106,\"\")","v":""},{"$f":"IF('Simplified Loader'!BH106=\"Male\",\"Male\",IF('Simplified Loader'!BH106=\"Female\",\"Female\",IF('Simplified Loader'!BH106=\"M\",\"Male\",IF('Simplified Loader'!BH106=\"F\",\"Female\",\"\"))))","v":""},{"$f":"IF('Simplified Loader'!BI106=\"Yes\",\"Yes\",IF('Simplified Loader'!BI106=\"No\",\"No\",IF('Simplified Loader'!BI106=\"Y\",\"Yes\",IF('Simplified Loader'!BI106=\"N\",\"No\",\"\"))))","v":""},{"$f":"IF('Simplified Loader'!BJ106=\"Yes\",\"Yes\",IF('Simplified Loader'!BJ106=\"No\",\"No\",IF('Simplified Loader'!BJ106=\"Y\",\"Yes\",IF('Simplified Loader'!BJ106=\"N\",\"No\",\"\"))))","v":""},{"$f":"IF('Simplified Loader'!BK106>0,'Simplified Loader'!BK106,\"\")","v":""},{"$f":"IF('Simplified Loader'!BL106>0,'Simplified Loader'!BL106,\"\")","v":""},{"$f":"IF('Simplified Loader'!BM106>0,'Simplified Loader'!BM106,\"\")","v":""},{"$f":"IF('Simplified Loader'!BN106=\"Male\",\"Male\",IF('Simplified Loader'!BN106=\"Female\",\"Female\",IF('Simplified Loader'!BN106=\"M\",\"Male\",IF('Simplified Loader'!BN106=\"F\",\"Female\",\"\"))))","v":""},{"$f":"IF('Simplified Loader'!BO106=\"Yes\",\"Yes\",IF('Simplified Loader'!BO106=\"No\",\"No\",IF('Simplified Loader'!BO106=\"Y\",\"Yes\",IF('Simplified Loader'!BO106=\"N\",\"No\",\"\"))))","v":""},{"$f":"IF('Simplified Loader'!BP106=\"Yes\",\"Yes\",IF('Simplified Loader'!BP106=\"No\",\"No\",IF('Simplified Loader'!BP106=\"Y\",\"Yes\",IF('Simplified Loader'!BP106=\"N\",\"No\",\"\"))))","v":""},{"$f":"IF('Simplified Loader'!BQ106>0,'Simplified Loader'!BQ106,\"\")","v":""},{"$f":"IF('Simplified Loader'!BR106>0,'Simplified Loader'!BR106,\"\")","v":""},{"$f":"IF('Simplified Loader'!BS106>0,'Simplified Loader'!BS106,\"\")","v":""},{"$f":"IF('Simplified Loader'!BT106=\"Male\",\"Male\",IF('Simplified Loader'!BT106=\"Female\",\"Female\",IF('Simplified Loader'!BT106=\"M\",\"Male\",IF('Simplified Loader'!BT106=\"F\",\"Female\",\"\"))))","v":""},{"$f":"IF('Simplified Loader'!BU106=\"Yes\",\"Yes\",IF('Simplified Loader'!BU106=\"No\",\"No\",IF('Simplified Loader'!BU106=\"Y\",\"Yes\",IF('Simplified Loader'!BU106=\"N\",\"No\",\"\"))))","v":""},{"$f":"IF('Simplified Loader'!BV106=\"Yes\",\"Yes\",IF('Simplified Loader'!BV106=\"No\",\"No\",IF('Simplified Loader'!BV106=\"Y\",\"Yes\",IF('Simplified Loader'!BV106=\"N\",\"No\",\"\"))))","v":""},{"$f":"IF('Simplified Loader'!BW106>0,'Simplified Loader'!BW106,\"\")","v":""},{"$f":"IF('Simplified Loader'!BX106>0,'Simplified Loader'!BX106,\"\")","v":""},{"$f":"IF('Simplified Loader'!BY106>0,'Simplified Loader'!BY106,\"\")","v":""},{"$f":"IF('Simplified Loader'!BZ106=\"Male\",\"Male\",IF('Simplified Loader'!BZ106=\"Female\",\"Female\",IF('Simplified Loader'!BZ106=\"M\",\"Male\",IF('Simplified Loader'!BZ106=\"F\",\"Female\",\"\"))))","v":""},{"$f":"IF('Simplified Loader'!CA106=\"Yes\",\"Yes\",IF('Simplified Loader'!CA106=\"No\",\"No\",IF('Simplified Loader'!CA106=\"Y\",\"Yes\",IF('Simplified Loader'!CA106=\"N\",\"No\",\"\"))))","v":""},{"$f":"IF('Simplified Loader'!CB106=\"Yes\",\"Yes\",IF('Simplified Loader'!CB106=\"No\",\"No\",IF('Simplified Loader'!CB106=\"Y\",\"Yes\",IF('Simplified Loader'!CB106=\"N\",\"No\",\"\"))))","v":""},{"$f":"IF('Simplified Loader'!CH106>0,'Simplified Loader'!CH106,\"\")","v":"    "}]
[null,null,null,null,null,null,null,null,null,{"$f":"IF('Simplified Loader'!Y107>0,'Simplified Loader'!Y107,\"\")","v":""},null,null,null,{"$f":"IF('Simplified Loader'!I107=\"Single\",\"Single\",IF('Simplified Loader'!I107=\"Family\",\"Family\",IF('Simplified Loader'!I107=\"Waive\",\"Family\",IF('Simplified Loader'!I107=\"Single Parent\",\"Family\",IF('Simplified Loader'!I107=\"Couple\",\"Family\",IF('Simplified Loader'!I107=\"In force\",\"Family\",IF('Simplified Loader'!I107=\"Applies\",\"Family\",IF('Simplified Loader'!I107=\"Applicable\",\"Family\",\"\"))))))))","v":""},null,null,null,null,null,null,null,{"$f":"IF('Simplified Loader'!I107=\"Waive\",\"Yes\",\"\")","v":""},null,null,null,null,{"$f":"IF('Simplified Loader'!AI107>0,'Simplified Loader'!AI107,\"\")","v":""},{"$f":"IF('Simplified Loader'!AJ107>0,'Simplified Loader'!AJ107,\"\")","v":""}]
[null,null,null,null,null,null,null,null,null,{"$f":"IF('Simplified Loader'!Y108>0,'Simplified Loader'!Y108,\"\")","v":""},null,null,null,{"$f":"IF('Simplified Loader'!I108=\"Single\",\"Single\",IF('Simplified Loader'!I108=\"Family\",\"Family\",IF('Simplified Loader'!I108=\"Waive\",\"Family\",IF('Simplified Loader'!I108=\"Single Parent\",\"Family\",IF('Simplified Loader'!I108=\"Couple\",\"Family\",IF('Simplified Loader'!I108=\"In force\",\"Family\",IF('Simplified Loader'!I108=\"Applies\",\"Family\",IF('Simplified Loader'!I108=\"Applicable\",\"Family\",\"\"))))))))","v":""},null,null,null,null,null,null,null,{"$f":"IF('Simplified Loader'!I108=\"Waive\",\"Yes\",\"\")","v":""},null,null,null,null,{"$f":"IF('Simplified Loader'!AI108>0,'Simplified Loader'!AI108,\"\")","v":""},{"$f":"IF('Simplified Loader'!AJ108>0,'Simplified Loader'!AJ108,\"\")","v":""}]
[null,null,null,null,null,null,null,null,null,{"$f":"IF('Simplified Loader'!Y109>0,'Simplified Loader'!Y109,\"\")","v":""},null,null,null,{"$f":"IF('Simplified Loader'!I109=\"Single\",\"Single\",IF('Simplified Loader'!I109=\"Family\",\"Family\",IF('Simplified Loader'!I109=\"Waive\",\"Family\",IF('Simplified Loader'!I109=\"Single Parent\",\"Family\",IF('Simplified Loader'!I109=\"Couple\",\"Family\",IF('Simplified Loader'!I109=\"In force\",\"Family\",IF('Simplified Loader'!I109=\"Applies\",\"Family\",IF('Simplified Loader'!I109=\"Applicable\",\"Family\",\"\"))))))))","v":""},null,null,null,null,null,null,null,{"$f":"IF('Simplified Loader'!I109=\"Waive\",\"Yes\",\"\")","v":""},null,null,null,null,{"$f":"IF('Simplified Loader'!AI109>0,'Simplified Loader'!AI109,\"\")","v":""},{"$f":"IF('Simplified Loader'!AJ109>0,'Simplified Loader'!AJ109,\"\")","v":""}]
[null,null,null,null,null,null,null,null,null,{"$f":"IF('Simplified Loader'!Y110>0,'Simplified Loader'!Y110,\"\")","v":""},null,null,null,{"$f":"IF('Simplified Loader'!I110=\"Single\",\"Single\",IF('Simplified Loader'!I110=\"Family\",\"Family\",IF('Simplified Loader'!I110=\"Waive\",\"Family\",IF('Simplified Loader'!I110=\"Single Parent\",\"Family\",IF('Simplified Loader'!I110=\"Couple\",\"Family\",IF('Simplified Loader'!I110=\"In force\",\"Family\",IF('Simplified Loader'!I110=\"Applies\",\"Family\",IF('Simplified Loader'!I110=\"Applicable\",\"Family\",\"\"))))))))","v":""},null,null,null,null,null,null,null,{"$f":"IF('Simplified Loader'!I110=\"Waive\",\"Yes\",\"\")","v":""},null,null,null,null,{"$f":"IF('Simplified Loader'!AI110>0,'Simplified Loader'!AI110,\"\")","v":""},{"$f":"IF('Simplified Loader'!AJ110>0,'Simplified Loader'!AJ110,\"\")","v":""}]
[null,null,null,null,null,null,null,null,null,{"$f":"IF('Simplified Loader'!Y111>0,'Simplified Loader'!Y111,\"\")","v":""},null,null,null,{"$f":"IF('Simplified Loader'!I111=\"Single\",\"Single\",IF('Simplified Loader'!I111=\"Family\",\"Family\",IF('Simplified Loader'!I111=\"Waive\",\"Family\",IF('Simplified Loader'!I111=\"Single Parent\",\"Family\",IF('Simplified Loader'!I111=\"Couple\",\"Family\",IF('Simplified Loader'!I111=\"In force\",\"Family\",IF('Simplified Loader'!I111=\"Applies\",\"Family\",IF('Simplified Loader'!I111=\"Applicable\",\"Family\",\"\"))))))))","v":""},null,null,null,null,null,null,null,{"$f":"IF('Simplified Loader'!I111=\"Waive\",\"Yes\",\"\")","v":""}]
[null,null,null,null,null,null,null,null,null,{"$f":"IF('Simplified Loader'!Y112>0,'Simplified Loader'!Y112,\"\")","v":""},null,null,null,{"$f":"IF('Simplified Loader'!I112=\"Single\",\"Single\",IF('Simplified Loader'!I112=\"Family\",\"Family\",IF('Simplified Loader'!I112=\"Waive\",\"Family\",IF('Simplified Loader'!I112=\"Single Parent\",\"Family\",IF('Simplified Loader'!I112=\"Couple\",\"Family\",IF('Simplified Loader'!I112=\"In force\",\"Family\",IF('Simplified Loader'!I112=\"Applies\",\"Family\",IF('Simplified Loader'!I112=\"Applicable\",\"Family\",\"\"))))))))","v":""},null,null,null,null,null,null,null,{"$f":"IF('Simplified Loader'!I112=\"Waive\",\"Yes\",\"\")","v":""}]
[null,null,null,null,null,null,null,null,null,{"$f":"IF('Simplified Loader'!Y113>0,'Simplified Loader'!Y113,\"\")","v":""},null,null,null,{"$f":"IF('Simplified Loader'!I113=\"Single\",\"Single\",IF('Simplified Loader'!I113=\"Family\",\"Family\",IF('Simplified Loader'!I113=\"Waive\",\"Family\",IF('Simplified Loader'!I113=\"Single Parent\",\"Family\",IF('Simplified Loader'!I113=\"Couple\",\"Family\",IF('Simplified Loader'!I113=\"In force\",\"Family\",IF('Simplified Loader'!I113=\"Applies\",\"Family\",IF('Simplified Loader'!I113=\"Applicable\",\"Family\",\"\"))))))))","v":""},null,null,null,null,null,null,null,{"$f":"IF('Simplified Loader'!I113=\"Waive\",\"Yes\",\"\")","v":""}]
[null,null,null,null,null,null,null,null,null,null,null,null,null,{"$f":"IF('Simplified Loader'!I114=\"Single\",\"Single\",IF('Simplified Loader'!I114=\"Family\",\"Family\",IF('Simplified Loader'!I114=\"Waive\",\"Family\",IF('Simplified Loader'!I114=\"Single Parent\",\"Family\",IF('Simplified Loader'!I114=\"Couple\",\"Family\",IF('Simplified Loader'!I114=\"In force\",\"Family\",IF('Simplified Loader'!I114=\"Applies\",\"Family\",IF('Simplified Loader'!I114=\"Applicable\",\"Family\",\"\"))))))))","v":""},null,null,null,null,null,null,null,{"$f":"IF('Simplified Loader'!I114=\"Waive\",\"Yes\",\"\")","v":""}]
[null,null,null,null,null,null,null,null,null,null,null,null,null,{"$f":"IF('Simplified Loader'!I115=\"Single\",\"Single\",IF('Simplified Loader'!I115=\"Family\",\"Family\",IF('Simplified Loader'!I115=\"Waive\",\"Family\",IF('Simplified Loader'!I115=\"Single Parent\",\"Family\",IF('Simplified Loader'!I115=\"Couple\",\"Family\",IF('Simplified Loader'!I115=\"In force\",\"Family\",IF('Simplified Loader'!I115=\"Applies\",\"Family\",IF('Simplified Loader'!I115=\"Applicable\",\"Family\",\"\"))))))))","v":""},null,null,null,null,null,null,null,{"$f":"IF('Simplified Loader'!I115=\"Waive\",\"Yes\",\"\")","v":""}]
[null,null,null,null,null,null,null,null,null,null,null,null,null,{"$f":"IF('Simplified Loader'!I116=\"Single\",\"Single\",IF('Simplified Loader'!I116=\"Family\",\"Family\",IF('Simplified Loader'!I116=\"Waive\",\"Family\",IF('Simplified Loader'!I116=\"Single Parent\",\"Family\",IF('Simplified Loader'!I116=\"Couple\",\"Family\",IF('Simplified Loader'!I116=\"In force\",\"Family\",IF('Simplified Loader'!I116=\"Applies\",\"Family\",IF('Simplified Loader'!I116=\"Applicable\",\"Family\",\"\"))))))))","v":""},null,null,null,null,null,null,null,{"$f":"IF('Simplified Loader'!I116=\"Waive\",\"Yes\",\"\")","v":""}]
[null,null,null,null,null,null,null,null,null,null,null,null,null,{"$f":"IF('Simplified Loader'!I117=\"Single\",\"Single\",IF('Simplified Loader'!I117=\"Family\",\"Family\",IF('Simplified Loader'!I117=\"Waive\",\"Family\",IF('Simplified Loader'!I117=\"Single Parent\",\"Family\",IF('Simplified Loader'!I117=\"Couple\",\"Family\",IF('Simplified Loader'!I117=\"In force\",\"Family\",IF('Simplified Loader'!I117=\"Applies\",\"Family\",IF('Simplified Loader'!I117=\"Applicable\",\"Family\",\"\"))))))))","v":""},null,null,null,null,null,null,null,{"$f":"IF('Simplified Loader'!I117=\"Waive\",\"Yes\",\"\")","v":""}]
[null,null,null,null,null,null,null,null,null,null,null,null,null,{"$f":"IF('Simplified Loader'!I118=\"Single\",\"Single\",IF('Simplified Loader'!I118=\"Family\",\"Family\",IF('Simplified Loader'!I118=\"Waive\",\"Family\",IF('Simplified Loader'!I118=\"Single Parent\",\"Family\",IF('Simplified Loader'!I118=\"Couple\",\"Family\",IF('Simplified Loader'!I118=\"In force\",\"Family\",IF('Simplified Loader'!I118=\"Applies\",\"Family\",IF('Simplified Loader'!I118=\"Applicable\",\"Family\",\"\"))))))))","v":""},null,null,null,null,null,null,null,{"$f":"IF('Simplified Loader'!I118=\"Waive\",\"Yes\",\"\")","v":""}]
[null,null,null,null,null,null,null,null,null,null,null,null,null,{"$f":"IF('Simplified Loader'!I119=\"Single\",\"Single\",IF('Simplified Loader'!I119=\"Family\",\"Family\",IF('Simplified Loader'!I119=\"Waive\",\"Family\",IF('Simplified Loader'!I119=\"Single Parent\",\"Family\",IF('Simplified Loader'!I119=\"Couple\",\"Family\",IF('Simplified Loader'!I119=\"In force\",\"Family\",IF('Simplified Loader'!I119=\"Applies\",\"Family\",IF('Simplified Loader'!I119=\"Applicable\",\"Family\",\"\"))))))))","v":""},null,null,null,null,null,null,null,{"$f":"IF('Simplified Loader'!I119=\"Waive\",\"Yes\",\"\")","v":""}]
[null,null,null,null,null,null,null,null,null,null,null,null,null,{"$f":"IF('Simplified Loader'!I120=\"Single\",\"Single\",IF('Simplified Loader'!I120=\"Family\",\"Family\",IF('Simplified Loader'!I120=\"Waive\",\"Family\",IF('Simplified Loader'!I120=\"Single Parent\",\"Family\",IF('Simplified Loader'!I120=\"Couple\",\"Family\",IF('Simplified Loader'!I120=\"In force\",\"Family\",IF('Simplified Loader'!I120=\"Applies\",\"Family\",IF('Simplified Loader'!I120=\"Applicable\",\"Family\",\"\"))))))))","v":""},null,null,null,null,null,null,null,{"$f":"IF('Simplified Loader'!I120=\"Waive\",\"Yes\",\"\")","v":""}]
[null,null,null,null,null,null,null,null,null,null,null,null,null,{"$f":"IF('Simplified Loader'!I121=\"Single\",\"Single\",IF('Simplified Loader'!I121=\"Family\",\"Family\",IF('Simplified Loader'!I121=\"Waive\",\"Family\",IF('Simplified Loader'!I121=\"Single Parent\",\"Family\",IF('Simplified Loader'!I121=\"Couple\",\"Family\",IF('Simplified Loader'!I121=\"In force\",\"Family\",IF('Simplified Loader'!I121=\"Applies\",\"Family\",IF('Simplified Loader'!I121=\"Applicable\",\"Family\",\"\"))))))))","v":""},null,null,null,null,null,null,null,{"$f":"IF('Simplified Loader'!I121=\"Waive\",\"Yes\",\"\")","v":""}]
[null,null,null,null,null,null,null,null,null,null,null,null,null,{"$f":"IF('Simplified Loader'!I122=\"Single\",\"Single\",IF('Simplified Loader'!I122=\"Family\",\"Family\",IF('Simplified Loader'!I122=\"Waive\",\"Family\",IF('Simplified Loader'!I122=\"Single Parent\",\"Family\",IF('Simplified Loader'!I122=\"Couple\",\"Family\",IF('Simplified Loader'!I122=\"In force\",\"Family\",IF('Simplified Loader'!I122=\"Applies\",\"Family\",IF('Simplified Loader'!I122=\"Applicable\",\"Family\",\"\"))))))))","v":""},null,null,null,null,null,null,null,{"$f":"IF('Simplified Loader'!I122=\"Waive\",\"Yes\",\"\")","v":""}]
[null,null,null,null,null,null,null,null,null,null,null,null,null,{"$f":"IF('Simplified Loader'!I123=\"Single\",\"Single\",IF('Simplified Loader'!I123=\"Family\",\"Family\",IF('Simplified Loader'!I123=\"Waive\",\"Family\",IF('Simplified Loader'!I123=\"Single Parent\",\"Family\",IF('Simplified Loader'!I123=\"Couple\",\"Family\",IF('Simplified Loader'!I123=\"In force\",\"Family\",IF('Simplified Loader'!I123=\"Applies\",\"Family\",IF('Simplified Loader'!I123=\"Applicable\",\"Family\",\"\"))))))))","v":""},null,null,null,null,null,null,null,{"$f":"IF('Simplified Loader'!I123=\"Waive\",\"Yes\",\"\")","v":""}]
[null,null,null,null,null,null,null,null,null,null,null,null,null,{"$f":"IF('Simplified Loader'!I124=\"Single\",\"Single\",IF('Simplified Loader'!I124=\"Family\",\"Family\",IF('Simplified Loader'!I124=\"Waive\",\"Family\",IF('Simplified Loader'!I124=\"Single Parent\",\"Family\",IF('Simplified Loader'!I124=\"Couple\",\"Family\",IF('Simplified Loader'!I124=\"In force\",\"Family\",IF('Simplified Loader'!I124=\"Applies\",\"Family\",IF('Simplified Loader'!I124=\"Applicable\",\"Family\",\"\"))))))))","v":""},null,null,null,null,null,null,null,{"$f":"IF('Simplified Loader'!I124=\"Waive\",\"Yes\",\"\")","v":""}]
[null,null,null,null,null,null,null,null,null,null,null,null,null,{"$f":"IF('Simplified Loader'!I125=\"Single\",\"Single\",IF('Simplified Loader'!I125=\"Family\",\"Family\",IF('Simplified Loader'!I125=\"Waive\",\"Family\",IF('Simplified Loader'!I125=\"Single Parent\",\"Family\",IF('Simplified Loader'!I125=\"Couple\",\"Family\",IF('Simplified Loader'!I125=\"In force\",\"Family\",IF('Simplified Loader'!I125=\"Applies\",\"Family\",IF('Simplified Loader'!I125=\"Applicable\",\"Family\",\"\"))))))))","v":""},null,null,null,null,null,null,null,{"$f":"IF('Simplified Loader'!I125=\"Waive\",\"Yes\",\"\")","v":""}]
[null,null,null,null,null,null,null,null,null,null,null,null,null,{"$f":"IF('Simplified Loader'!I126=\"Single\",\"Single\",IF('Simplified Loader'!I126=\"Family\",\"Family\",IF('Simplified Loader'!I126=\"Waive\",\"Family\",IF('Simplified Loader'!I126=\"Single Parent\",\"Family\",IF('Simplified Loader'!I126=\"Couple\",\"Family\",IF('Simplified Loader'!I126=\"In force\",\"Family\",IF('Simplified Loader'!I126=\"Applies\",\"Family\",IF('Simplified Loader'!I126=\"Applicable\",\"Family\",\"\"))))))))","v":""},null,null,null,null,null,null,null,{"$f":"IF('Simplified Loader'!I126=\"Waive\",\"Yes\",\"\")","v":""}]
[null,null,null,null,null,null,null,null,null,null,null,null,null,{"$f":"IF('Simplified Loader'!I127=\"Single\",\"Single\",IF('Simplified Loader'!I127=\"Family\",\"Family\",IF('Simplified Loader'!I127=\"Waive\",\"Family\",IF('Simplified Loader'!I127=\"Single Parent\",\"Family\",IF('Simplified Loader'!I127=\"Couple\",\"Family\",IF('Simplified Loader'!I127=\"In force\",\"Family\",IF('Simplified Loader'!I127=\"Applies\",\"Family\",IF('Simplified Loader'!I127=\"Applicable\",\"Family\",\"\"))))))))","v":""},null,null,null,null,null,null,null,{"$f":"IF('Simplified Loader'!I127=\"Waive\",\"Yes\",\"\")","v":""}]
[null,null,null,null,null,null,null,null,null,null,null,null,null,{"$f":"IF('Simplified Loader'!I128=\"Single\",\"Single\",IF('Simplified Loader'!I128=\"Family\",\"Family\",IF('Simplified Loader'!I128=\"Waive\",\"Family\",IF('Simplified Loader'!I128=\"Single Parent\",\"Family\",IF('Simplified Loader'!I128=\"Couple\",\"Family\",IF('Simplified Loader'!I128=\"In force\",\"Family\",IF('Simplified Loader'!I128=\"Applies\",\"Family\",IF('Simplified Loader'!I128=\"Applicable\",\"Family\",\"\"))))))))","v":""},null,null,null,null,null,null,null,{"$f":"IF('Simplified Loader'!I128=\"Waive\",\"Yes\",\"\")","v":""}]
[null,null,null,null,null,null,null,null,null,null,null,null,null,{"$f":"IF('Simplified Loader'!I129=\"Single\",\"Single\",IF('Simplified Loader'!I129=\"Family\",\"Family\",IF('Simplified Loader'!I129=\"Waive\",\"Family\",IF('Simplified Loader'!I129=\"Single Parent\",\"Family\",IF('Simplified Loader'!I129=\"Couple\",\"Family\",IF('Simplified Loader'!I129=\"In force\",\"Family\",IF('Simplified Loader'!I129=\"Applies\",\"Family\",IF('Simplified Loader'!I129=\"Applicable\",\"Family\",\"\"))))))))","v":""},null,null,null,null,null,null,null,{"$f":"IF('Simplified Loader'!I129=\"Waive\",\"Yes\",\"\")","v":""}]
[null,null,null,null,null,null,null,null,null,null,null,null,null,{"$f":"IF('Simplified Loader'!I130=\"Single\",\"Single\",IF('Simplified Loader'!I130=\"Family\",\"Family\",IF('Simplified Loader'!I130=\"Waive\",\"Family\",IF('Simplified Loader'!I130=\"Single Parent\",\"Family\",IF('Simplified Loader'!I130=\"Couple\",\"Family\",IF('Simplified Loader'!I130=\"In force\",\"Family\",IF('Simplified Loader'!I130=\"Applies\",\"Family\",IF('Simplified Loader'!I130=\"Applicable\",\"Family\",\"\"))))))))","v":""},null,null,null,null,null,null,null,{"$f":"IF('Simplified Loader'!I130=\"Waive\",\"Yes\",\"\")","v":""}]
[null,null,null,null,null,null,null,null,null,null,null,null,null,{"$f":"IF('Simplified Loader'!I131=\"Single\",\"Single\",IF('Simplified Loader'!I131=\"Family\",\"Family\",IF('Simplified Loader'!I131=\"Waive\",\"Family\",IF('Simplified Loader'!I131=\"Single Parent\",\"Family\",IF('Simplified Loader'!I131=\"Couple\",\"Family\",IF('Simplified Loader'!I131=\"In force\",\"Family\",IF('Simplified Loader'!I131=\"Applies\",\"Family\",IF('Simplified Loader'!I131=\"Applicable\",\"Family\",\"\"))))))))","v":""},null,null,null,null,null,null,null,{"$f":"IF('Simplified Loader'!I131=\"Waive\",\"Yes\",\"\")","v":""}]
[null,null,null,null,null,null,null,null,null,null,null,null,null,{"$f":"IF('Simplified Loader'!I132=\"Single\",\"Single\",IF('Simplified Loader'!I132=\"Family\",\"Family\",IF('Simplified Loader'!I132=\"Waive\",\"Family\",IF('Simplified Loader'!I132=\"Single Parent\",\"Family\",IF('Simplified Loader'!I132=\"Couple\",\"Family\",IF('Simplified Loader'!I132=\"In force\",\"Family\",IF('Simplified Loader'!I132=\"Applies\",\"Family\",IF('Simplified Loader'!I132=\"Applicable\",\"Family\",\"\"))))))))","v":""},null,null,null,null,null,null,null,{"$f":"IF('Simplified Loader'!I132=\"Waive\",\"Yes\",\"\")","v":""}]
[null,null,null,null,null,null,null,null,null,null,null,null,null,{"$f":"IF('Simplified Loader'!I133=\"Single\",\"Single\",IF('Simplified Loader'!I133=\"Family\",\"Family\",IF('Simplified Loader'!I133=\"Waive\",\"Family\",IF('Simplified Loader'!I133=\"Single Parent\",\"Family\",IF('Simplified Loader'!I133=\"Couple\",\"Family\",IF('Simplified Loader'!I133=\"In force\",\"Family\",IF('Simplified Loader'!I133=\"Applies\",\"Family\",IF('Simplified Loader'!I133=\"Applicable\",\"Family\",\"\"))))))))","v":""},null,null,null,null,null,null,null,{"$f":"IF('Simplified Loader'!I133=\"Waive\",\"Yes\",\"\")","v":""}]
[null,null,null,null,null,null,null,null,null,null,null,null,null,{"$f":"IF('Simplified Loader'!I134=\"Single\",\"Single\",IF('Simplified Loader'!I134=\"Family\",\"Family\",IF('Simplified Loader'!I134=\"Waive\",\"Family\",IF('Simplified Loader'!I134=\"Single Parent\",\"Family\",IF('Simplified Loader'!I134=\"Couple\",\"Family\",IF('Simplified Loader'!I134=\"In force\",\"Family\",IF('Simplified Loader'!I134=\"Applies\",\"Family\",IF('Simplified Loader'!I134=\"Applicable\",\"Family\",\"\"))))))))","v":""},null,null,null,null,null,null,null,{"$f":"IF('Simplified Loader'!I134=\"Waive\",\"Yes\",\"\")","v":""}]
[null,null,null,null,null,null,null,null,null,null,null,null,null,{"$f":"IF('Simplified Loader'!I135=\"Single\",\"Single\",IF('Simplified Loader'!I135=\"Family\",\"Family\",IF('Simplified Loader'!I135=\"Waive\",\"Family\",IF('Simplified Loader'!I135=\"Single Parent\",\"Family\",IF('Simplified Loader'!I135=\"Couple\",\"Family\",IF('Simplified Loader'!I135=\"In force\",\"Family\",IF('Simplified Loader'!I135=\"Applies\",\"Family\",IF('Simplified Loader'!I135=\"Applicable\",\"Family\",\"\"))))))))","v":""},null,null,null,null,null,null,null,{"$f":"IF('Simplified Loader'!I135=\"Waive\",\"Yes\",\"\")","v":""}]
[null,null,null,null,null,null,null,null,null,null,null,null,null,{"$f":"IF('Simplified Loader'!I136=\"Single\",\"Single\",IF('Simplified Loader'!I136=\"Family\",\"Family\",IF('Simplified Loader'!I136=\"Waive\",\"Family\",IF('Simplified Loader'!I136=\"Single Parent\",\"Family\",IF('Simplified Loader'!I136=\"Couple\",\"Family\",IF('Simplified Loader'!I136=\"In force\",\"Family\",IF('Simplified Loader'!I136=\"Applies\",\"Family\",IF('Simplified Loader'!I136=\"Applicable\",\"Family\",\"\"))))))))","v":""},null,null,null,null,null,null,null,{"$f":"IF('Simplified Loader'!I136=\"Waive\",\"Yes\",\"\")","v":""}]
[null,null,null,null,null,null,null,null,null,null,null,null,null,{"$f":"IF('Simplified Loader'!I137=\"Single\",\"Single\",IF('Simplified Loader'!I137=\"Family\",\"Family\",IF('Simplified Loader'!I137=\"Waive\",\"Family\",IF('Simplified Loader'!I137=\"Single Parent\",\"Family\",IF('Simplified Loader'!I137=\"Couple\",\"Family\",IF('Simplified Loader'!I137=\"In force\",\"Family\",IF('Simplified Loader'!I137=\"Applies\",\"Family\",IF('Simplified Loader'!I137=\"Applicable\",\"Family\",\"\"))))))))","v":""},null,null,null,null,null,null,null,{"$f":"IF('Simplified Loader'!I137=\"Waive\",\"Yes\",\"\")","v":""}]
[null,null,null,null,null,null,null,null,null,null,null,null,null,{"$f":"IF('Simplified Loader'!I138=\"Single\",\"Single\",IF('Simplified Loader'!I138=\"Family\",\"Family\",IF('Simplified Loader'!I138=\"Waive\",\"Family\",IF('Simplified Loader'!I138=\"Single Parent\",\"Family\",IF('Simplified Loader'!I138=\"Couple\",\"Family\",IF('Simplified Loader'!I138=\"In force\",\"Family\",IF('Simplified Loader'!I138=\"Applies\",\"Family\",IF('Simplified Loader'!I138=\"Applicable\",\"Family\",\"\"))))))))","v":""},null,null,null,null,null,null,null,{"$f":"IF('Simplified Loader'!I138=\"Waive\",\"Yes\",\"\")","v":""}]
[null,null,null,null,null,null,null,null,null,null,null,null,null,{"$f":"IF('Simplified Loader'!I139=\"Single\",\"Single\",IF('Simplified Loader'!I139=\"Family\",\"Family\",IF('Simplified Loader'!I139=\"Waive\",\"Family\",IF('Simplified Loader'!I139=\"Single Parent\",\"Family\",IF('Simplified Loader'!I139=\"Couple\",\"Family\",IF('Simplified Loader'!I139=\"In force\",\"Family\",IF('Simplified Loader'!I139=\"Applies\",\"Family\",IF('Simplified Loader'!I139=\"Applicable\",\"Family\",\"\"))))))))","v":""},null,null,null,null,null,null,null,{"$f":"IF('Simplified Loader'!I139=\"Waive\",\"Yes\",\"\")","v":""}]
[null,null,null,null,null,null,null,null,null,null,null,null,null,{"$f":"IF('Simplified Loader'!I140=\"Single\",\"Single\",IF('Simplified Loader'!I140=\"Family\",\"Family\",IF('Simplified Loader'!I140=\"Waive\",\"Family\",IF('Simplified Loader'!I140=\"Single Parent\",\"Family\",IF('Simplified Loader'!I140=\"Couple\",\"Family\",IF('Simplified Loader'!I140=\"In force\",\"Family\",IF('Simplified Loader'!I140=\"Applies\",\"Family\",IF('Simplified Loader'!I140=\"Applicable\",\"Family\",\"\"))))))))","v":""},null,null,null,null,null,null,null,{"$f":"IF('Simplified Loader'!I140=\"Waive\",\"Yes\",\"\")","v":""}]
[null,null,null,null,null,null,null,null,null,null,null,null,null,{"$f":"IF('Simplified Loader'!I141=\"Single\",\"Single\",IF('Simplified Loader'!I141=\"Family\",\"Family\",IF('Simplified Loader'!I141=\"Waive\",\"Family\",IF('Simplified Loader'!I141=\"Single Parent\",\"Family\",IF('Simplified Loader'!I141=\"Couple\",\"Family\",IF('Simplified Loader'!I141=\"In force\",\"Family\",IF('Simplified Loader'!I141=\"Applies\",\"Family\",IF('Simplified Loader'!I141=\"Applicable\",\"Family\",\"\"))))))))","v":""},null,null,null,null,null,null,null,{"$f":"IF('Simplified Loader'!I141=\"Waive\",\"Yes\",\"\")","v":""}]
[null,null,null,null,null,null,null,null,null,null,null,null,null,{"$f":"IF('Simplified Loader'!I142=\"Single\",\"Single\",IF('Simplified Loader'!I142=\"Family\",\"Family\",IF('Simplified Loader'!I142=\"Waive\",\"Family\",IF('Simplified Loader'!I142=\"Single Parent\",\"Family\",IF('Simplified Loader'!I142=\"Couple\",\"Family\",IF('Simplified Loader'!I142=\"In force\",\"Family\",IF('Simplified Loader'!I142=\"Applies\",\"Family\",IF('Simplified Loader'!I142=\"Applicable\",\"Family\",\"\"))))))))","v":""},null,null,null,null,null,null,null,{"$f":"IF('Simplified Loader'!I142=\"Waive\",\"Yes\",\"\")","v":""}]
[null,null,null,null,null,null,null,null,null,null,null,null,null,{"$f":"IF('Simplified Loader'!I143=\"Single\",\"Single\",IF('Simplified Loader'!I143=\"Family\",\"Family\",IF('Simplified Loader'!I143=\"Waive\",\"Family\",IF('Simplified Loader'!I143=\"Single Parent\",\"Family\",IF('Simplified Loader'!I143=\"Couple\",\"Family\",IF('Simplified Loader'!I143=\"In force\",\"Family\",IF('Simplified Loader'!I143=\"Applies\",\"Family\",IF('Simplified Loader'!I143=\"Applicable\",\"Family\",\"\"))))))))","v":""},null,null,null,null,null,null,null,{"$f":"IF('Simplified Loader'!I143=\"Waive\",\"Yes\",\"\")","v":""}]
[null,null,null,null,null,null,null,null,null,null,null,null,null,{"$f":"IF('Simplified Loader'!I144=\"Single\",\"Single\",IF('Simplified Loader'!I144=\"Family\",\"Family\",IF('Simplified Loader'!I144=\"Waive\",\"Family\",IF('Simplified Loader'!I144=\"Single Parent\",\"Family\",IF('Simplified Loader'!I144=\"Couple\",\"Family\",IF('Simplified Loader'!I144=\"In force\",\"Family\",IF('Simplified Loader'!I144=\"Applies\",\"Family\",IF('Simplified Loader'!I144=\"Applicable\",\"Family\",\"\"))))))))","v":""},null,null,null,null,null,null,null,{"$f":"IF('Simplified Loader'!I144=\"Waive\",\"Yes\",\"\")","v":""}]
[null,null,null,null,null,null,null,null,null,null,null,null,null,{"$f":"IF('Simplified Loader'!I145=\"Single\",\"Single\",IF('Simplified Loader'!I145=\"Family\",\"Family\",IF('Simplified Loader'!I145=\"Waive\",\"Family\",IF('Simplified Loader'!I145=\"Single Parent\",\"Family\",IF('Simplified Loader'!I145=\"Couple\",\"Family\",IF('Simplified Loader'!I145=\"In force\",\"Family\",IF('Simplified Loader'!I145=\"Applies\",\"Family\",IF('Simplified Loader'!I145=\"Applicable\",\"Family\",\"\"))))))))","v":""},null,null,null,null,null,null,null,{"$f":"IF('Simplified Loader'!I145=\"Waive\",\"Yes\",\"\")","v":""}]
[null,null,null,null,null,null,null,null,null,null,null,null,null,{"$f":"IF('Simplified Loader'!I146=\"Single\",\"Single\",IF('Simplified Loader'!I146=\"Family\",\"Family\",IF('Simplified Loader'!I146=\"Waive\",\"Family\",IF('Simplified Loader'!I146=\"Single Parent\",\"Family\",IF('Simplified Loader'!I146=\"Couple\",\"Family\",IF('Simplified Loader'!I146=\"In force\",\"Family\",IF('Simplified Loader'!I146=\"Applies\",\"Family\",IF('Simplified Loader'!I146=\"Applicable\",\"Family\",\"\"))))))))","v":""},null,null,null,null,null,null,null,{"$f":"IF('Simplified Loader'!I146=\"Waive\",\"Yes\",\"\")","v":""}]
[null,null,null,null,null,null,null,null,null,null,null,null,null,{"$f":"IF('Simplified Loader'!I147=\"Single\",\"Single\",IF('Simplified Loader'!I147=\"Family\",\"Family\",IF('Simplified Loader'!I147=\"Waive\",\"Family\",IF('Simplified Loader'!I147=\"Single Parent\",\"Family\",IF('Simplified Loader'!I147=\"Couple\",\"Family\",IF('Simplified Loader'!I147=\"In force\",\"Family\",IF('Simplified Loader'!I147=\"Applies\",\"Family\",IF('Simplified Loader'!I147=\"Applicable\",\"Family\",\"\"))))))))","v":""},null,null,null,null,null,null,null,{"$f":"IF('Simplified Loader'!I147=\"Waive\",\"Yes\",\"\")","v":""}]
[null,null,null,null,null,null,null,null,null,null,null,null,null,{"$f":"IF('Simplified Loader'!I148=\"Single\",\"Single\",IF('Simplified Loader'!I148=\"Family\",\"Family\",IF('Simplified Loader'!I148=\"Waive\",\"Family\",IF('Simplified Loader'!I148=\"Single Parent\",\"Family\",IF('Simplified Loader'!I148=\"Couple\",\"Family\",IF('Simplified Loader'!I148=\"In force\",\"Family\",IF('Simplified Loader'!I148=\"Applies\",\"Family\",IF('Simplified Loader'!I148=\"Applicable\",\"Family\",\"\"))))))))","v":""},null,null,null,null,null,null,null,{"$f":"IF('Simplified Loader'!I148=\"Waive\",\"Yes\",\"\")","v":""}]
[null,null,null,null,null,null,null,null,null,null,null,null,null,{"$f":"IF('Simplified Loader'!I149=\"Single\",\"Single\",IF('Simplified Loader'!I149=\"Family\",\"Family\",IF('Simplified Loader'!I149=\"Waive\",\"Family\",IF('Simplified Loader'!I149=\"Single Parent\",\"Family\",IF('Simplified Loader'!I149=\"Couple\",\"Family\",IF('Simplified Loader'!I149=\"In force\",\"Family\",IF('Simplified Loader'!I149=\"Applies\",\"Family\",IF('Simplified Loader'!I149=\"Applicable\",\"Family\",\"\"))))))))","v":""},null,null,null,null,null,null,null,{"$f":"IF('Simplified Loader'!I149=\"Waive\",\"Yes\",\"\")","v":""}]
[null,null,null,null,null,null,null,null,null,null,null,null,null,{"$f":"IF('Simplified Loader'!I150=\"Single\",\"Single\",IF('Simplified Loader'!I150=\"Family\",\"Family\",IF('Simplified Loader'!I150=\"Waive\",\"Family\",IF('Simplified Loader'!I150=\"Single Parent\",\"Family\",IF('Simplified Loader'!I150=\"Couple\",\"Family\",IF('Simplified Loader'!I150=\"In force\",\"Family\",IF('Simplified Loader'!I150=\"Applies\",\"Family\",IF('Simplified Loader'!I150=\"Applicable\",\"Family\",\"\"))))))))","v":""},null,null,null,null,null,null,null,{"$f":"IF('Simplified Loader'!I150=\"Waive\",\"Yes\",\"\")","v":""}]
[null,null,null,null,null,null,null,null,null,null,null,null,null,{"$f":"IF('Simplified Loader'!I151=\"Single\",\"Single\",IF('Simplified Loader'!I151=\"Family\",\"Family\",IF('Simplified Loader'!I151=\"Waive\",\"Family\",IF('Simplified Loader'!I151=\"Single Parent\",\"Family\",IF('Simplified Loader'!I151=\"Couple\",\"Family\",IF('Simplified Loader'!I151=\"In force\",\"Family\",IF('Simplified Loader'!I151=\"Applies\",\"Family\",IF('Simplified Loader'!I151=\"Applicable\",\"Family\",\"\"))))))))","v":""},null,null,null,null,null,null,null,{"$f":"IF('Simplified Loader'!I151=\"Waive\",\"Yes\",\"\")","v":""}]
[null,null,null,null,null,null,null,null,null,null,null,null,null,{"$f":"IF('Simplified Loader'!I152=\"Single\",\"Single\",IF('Simplified Loader'!I152=\"Family\",\"Family\",IF('Simplified Loader'!I152=\"Waive\",\"Family\",IF('Simplified Loader'!I152=\"Single Parent\",\"Family\",IF('Simplified Loader'!I152=\"Couple\",\"Family\",IF('Simplified Loader'!I152=\"In force\",\"Family\",IF('Simplified Loader'!I152=\"Applies\",\"Family\",IF('Simplified Loader'!I152=\"Applicable\",\"Family\",\"\"))))))))","v":""},null,null,null,null,null,null,null,{"$f":"IF('Simplified Loader'!I152=\"Waive\",\"Yes\",\"\")","v":""}]
[null,null,null,null,null,null,null,null,null,null,null,null,null,{"$f":"IF('Simplified Loader'!I153=\"Single\",\"Single\",IF('Simplified Loader'!I153=\"Family\",\"Family\",IF('Simplified Loader'!I153=\"Waive\",\"Family\",IF('Simplified Loader'!I153=\"Single Parent\",\"Family\",IF('Simplified Loader'!I153=\"Couple\",\"Family\",IF('Simplified Loader'!I153=\"In force\",\"Family\",IF('Simplified Loader'!I153=\"Applies\",\"Family\",IF('Simplified Loader'!I153=\"Applicable\",\"Family\",\"\"))))))))","v":""},null,null,null,null,null,null,null,{"$f":"IF('Simplified Loader'!I153=\"Waive\",\"Yes\",\"\")","v":""}]
[null,null,null,null,null,null,null,null,null,null,null,null,null,{"$f":"IF('Simplified Loader'!I154=\"Single\",\"Single\",IF('Simplified Loader'!I154=\"Family\",\"Family\",IF('Simplified Loader'!I154=\"Waive\",\"Family\",IF('Simplified Loader'!I154=\"Single Parent\",\"Family\",IF('Simplified Loader'!I154=\"Couple\",\"Family\",IF('Simplified Loader'!I154=\"In force\",\"Family\",IF('Simplified Loader'!I154=\"Applies\",\"Family\",IF('Simplified Loader'!I154=\"Applicable\",\"Family\",\"\"))))))))","v":""},null,null,null,null,null,null,null,{"$f":"IF('Simplified Loader'!I154=\"Waive\",\"Yes\",\"\")","v":""}]
[null,null,null,null,null,null,null,null,null,null,null,null,null,{"$f":"IF('Simplified Loader'!I155=\"Single\",\"Single\",IF('Simplified Loader'!I155=\"Family\",\"Family\",IF('Simplified Loader'!I155=\"Waive\",\"Family\",IF('Simplified Loader'!I155=\"Single Parent\",\"Family\",IF('Simplified Loader'!I155=\"Couple\",\"Family\",IF('Simplified Loader'!I155=\"In force\",\"Family\",IF('Simplified Loader'!I155=\"Applies\",\"Family\",IF('Simplified Loader'!I155=\"Applicable\",\"Family\",\"\"))))))))","v":""},null,null,null,null,null,null,null,{"$f":"IF('Simplified Loader'!I155=\"Waive\",\"Yes\",\"\")","v":""}]
[null,null,null,null,null,null,null,null,null,null,null,null,null,{"$f":"IF('Simplified Loader'!I156=\"Single\",\"Single\",IF('Simplified Loader'!I156=\"Family\",\"Family\",IF('Simplified Loader'!I156=\"Waive\",\"Family\",IF('Simplified Loader'!I156=\"Single Parent\",\"Family\",IF('Simplified Loader'!I156=\"Couple\",\"Family\",IF('Simplified Loader'!I156=\"In force\",\"Family\",IF('Simplified Loader'!I156=\"Applies\",\"Family\",IF('Simplified Loader'!I156=\"Applicable\",\"Family\",\"\"))))))))","v":""},null,null,null,null,null,null,null,{"$f":"IF('Simplified Loader'!I156=\"Waive\",\"Yes\",\"\")","v":""}]
[null,null,null,null,null,null,null,null,null,null,null,null,null,{"$f":"IF('Simplified Loader'!I157=\"Single\",\"Single\",IF('Simplified Loader'!I157=\"Family\",\"Family\",IF('Simplified Loader'!I157=\"Waive\",\"Family\",IF('Simplified Loader'!I157=\"Single Parent\",\"Family\",IF('Simplified Loader'!I157=\"Couple\",\"Family\",IF('Simplified Loader'!I157=\"In force\",\"Family\",IF('Simplified Loader'!I157=\"Applies\",\"Family\",IF('Simplified Loader'!I157=\"Applicable\",\"Family\",\"\"))))))))","v":""},null,null,null,null,null,null,null,{"$f":"IF('Simplified Loader'!I157=\"Waive\",\"Yes\",\"\")","v":""}]
[null,null,null,null,null,null,null,null,null,null,null,null,null,{"$f":"IF('Simplified Loader'!I158=\"Single\",\"Single\",IF('Simplified Loader'!I158=\"Family\",\"Family\",IF('Simplified Loader'!I158=\"Waive\",\"Family\",IF('Simplified Loader'!I158=\"Single Parent\",\"Family\",IF('Simplified Loader'!I158=\"Couple\",\"Family\",IF('Simplified Loader'!I158=\"In force\",\"Family\",IF('Simplified Loader'!I158=\"Applies\",\"Family\",IF('Simplified Loader'!I158=\"Applicable\",\"Family\",\"\"))))))))","v":""},null,null,null,null,null,null,null,{"$f":"IF('Simplified Loader'!I158=\"Waive\",\"Yes\",\"\")","v":""}]
[null,null,null,null,null,null,null,null,null,null,null,null,null,{"$f":"IF('Simplified Loader'!I159=\"Single\",\"Single\",IF('Simplified Loader'!I159=\"Family\",\"Family\",IF('Simplified Loader'!I159=\"Waive\",\"Family\",IF('Simplified Loader'!I159=\"Single Parent\",\"Family\",IF('Simplified Loader'!I159=\"Couple\",\"Family\",IF('Simplified Loader'!I159=\"In force\",\"Family\",IF('Simplified Loader'!I159=\"Applies\",\"Family\",IF('Simplified Loader'!I159=\"Applicable\",\"Family\",\"\"))))))))","v":""},null,null,null,null,null,null,null,{"$f":"IF('Simplified Loader'!I159=\"Waive\",\"Yes\",\"\")","v":""}]
[null,null,null,null,null,null,null,null,null,null,null,null,null,{"$f":"IF('Simplified Loader'!I160=\"Single\",\"Single\",IF('Simplified Loader'!I160=\"Family\",\"Family\",IF('Simplified Loader'!I160=\"Waive\",\"Family\",IF('Simplified Loader'!I160=\"Single Parent\",\"Family\",IF('Simplified Loader'!I160=\"Couple\",\"Family\",IF('Simplified Loader'!I160=\"In force\",\"Family\",IF('Simplified Loader'!I160=\"Applies\",\"Family\",IF('Simplified Loader'!I160=\"Applicable\",\"Family\",\"\"))))))))","v":""},null,null,null,null,null,null,null,{"$f":"IF('Simplified Loader'!I160=\"Waive\",\"Yes\",\"\")","v":""}]
[null,null,null,null,null,null,null,null,null,null,null,null,null,{"$f":"IF('Simplified Loader'!I161=\"Single\",\"Single\",IF('Simplified Loader'!I161=\"Family\",\"Family\",IF('Simplified Loader'!I161=\"Waive\",\"Family\",IF('Simplified Loader'!I161=\"Single Parent\",\"Family\",IF('Simplified Loader'!I161=\"Couple\",\"Family\",IF('Simplified Loader'!I161=\"In force\",\"Family\",IF('Simplified Loader'!I161=\"Applies\",\"Family\",IF('Simplified Loader'!I161=\"Applicable\",\"Family\",\"\"))))))))","v":""},null,null,null,null,null,null,null,{"$f":"IF('Simplified Loader'!I161=\"Waive\",\"Yes\",\"\")","v":""}]
[null,null,null,null,null,null,null,null,null,null,null,null,null,{"$f":"IF('Simplified Loader'!I162=\"Single\",\"Single\",IF('Simplified Loader'!I162=\"Family\",\"Family\",IF('Simplified Loader'!I162=\"Waive\",\"Family\",IF('Simplified Loader'!I162=\"Single Parent\",\"Family\",IF('Simplified Loader'!I162=\"Couple\",\"Family\",IF('Simplified Loader'!I162=\"In force\",\"Family\",IF('Simplified Loader'!I162=\"Applies\",\"Family\",IF('Simplified Loader'!I162=\"Applicable\",\"Family\",\"\"))))))))","v":""},null,null,null,null,null,null,null,{"$f":"IF('Simplified Loader'!I162=\"Waive\",\"Yes\",\"\")","v":""}]
[null,null,null,null,null,null,null,null,null,null,null,null,null,{"$f":"IF('Simplified Loader'!I163=\"Single\",\"Single\",IF('Simplified Loader'!I163=\"Family\",\"Family\",IF('Simplified Loader'!I163=\"Waive\",\"Family\",IF('Simplified Loader'!I163=\"Single Parent\",\"Family\",IF('Simplified Loader'!I163=\"Couple\",\"Family\",IF('Simplified Loader'!I163=\"In force\",\"Family\",IF('Simplified Loader'!I163=\"Applies\",\"Family\",IF('Simplified Loader'!I163=\"Applicable\",\"Family\",\"\"))))))))","v":""},null,null,null,null,null,null,null,{"$f":"IF('Simplified Loader'!I163=\"Waive\",\"Yes\",\"\")","v":""}]
[null,null,null,null,null,null,null,null,null,null,null,null,null,{"$f":"IF('Simplified Loader'!I164=\"Single\",\"Single\",IF('Simplified Loader'!I164=\"Family\",\"Family\",IF('Simplified Loader'!I164=\"Waive\",\"Family\",IF('Simplified Loader'!I164=\"Single Parent\",\"Family\",IF('Simplified Loader'!I164=\"Couple\",\"Family\",IF('Simplified Loader'!I164=\"In force\",\"Family\",IF('Simplified Loader'!I164=\"Applies\",\"Family\",IF('Simplified Loader'!I164=\"Applicable\",\"Family\",\"\"))))))))","v":""},null,null,null,null,null,null,null,{"$f":"IF('Simplified Loader'!I164=\"Waive\",\"Yes\",\"\")","v":""}]
[null,null,null,null,null,null,null,null,null,null,null,null,null,{"$f":"IF('Simplified Loader'!I165=\"Single\",\"Single\",IF('Simplified Loader'!I165=\"Family\",\"Family\",IF('Simplified Loader'!I165=\"Waive\",\"Family\",IF('Simplified Loader'!I165=\"Single Parent\",\"Family\",IF('Simplified Loader'!I165=\"Couple\",\"Family\",IF('Simplified Loader'!I165=\"In force\",\"Family\",IF('Simplified Loader'!I165=\"Applies\",\"Family\",IF('Simplified Loader'!I165=\"Applicable\",\"Family\",\"\"))))))))","v":""},null,null,null,null,null,null,null,{"$f":"IF('Simplified Loader'!I165=\"Waive\",\"Yes\",\"\")","v":""}]
[null,null,null,null,null,null,null,null,null,null,null,null,null,{"$f":"IF('Simplified Loader'!I166=\"Single\",\"Single\",IF('Simplified Loader'!I166=\"Family\",\"Family\",IF('Simplified Loader'!I166=\"Waive\",\"Family\",IF('Simplified Loader'!I166=\"Single Parent\",\"Family\",IF('Simplified Loader'!I166=\"Couple\",\"Family\",IF('Simplified Loader'!I166=\"In force\",\"Family\",IF('Simplified Loader'!I166=\"Applies\",\"Family\",IF('Simplified Loader'!I166=\"Applicable\",\"Family\",\"\"))))))))","v":""},null,null,null,null,null,null,null,{"$f":"IF('Simplified Loader'!I166=\"Waive\",\"Yes\",\"\")","v":""}]
[null,null,null,null,null,null,null,null,null,null,null,null,null,{"$f":"IF('Simplified Loader'!I167=\"Single\",\"Single\",IF('Simplified Loader'!I167=\"Family\",\"Family\",IF('Simplified Loader'!I167=\"Waive\",\"Family\",IF('Simplified Loader'!I167=\"Single Parent\",\"Family\",IF('Simplified Loader'!I167=\"Couple\",\"Family\",IF('Simplified Loader'!I167=\"In force\",\"Family\",IF('Simplified Loader'!I167=\"Applies\",\"Family\",IF('Simplified Loader'!I167=\"Applicable\",\"Family\",\"\"))))))))","v":""},null,null,null,null,null,null,null,{"$f":"IF('Simplified Loader'!I167=\"Waive\",\"Yes\",\"\")","v":""}]
[null,null,null,null,null,null,null,null,null,null,null,null,null,{"$f":"IF('Simplified Loader'!I168=\"Single\",\"Single\",IF('Simplified Loader'!I168=\"Family\",\"Family\",IF('Simplified Loader'!I168=\"Waive\",\"Family\",IF('Simplified Loader'!I168=\"Single Parent\",\"Family\",IF('Simplified Loader'!I168=\"Couple\",\"Family\",IF('Simplified Loader'!I168=\"In force\",\"Family\",IF('Simplified Loader'!I168=\"Applies\",\"Family\",IF('Simplified Loader'!I168=\"Applicable\",\"Family\",\"\"))))))))","v":""},null,null,null,null,null,null,null,{"$f":"IF('Simplified Loader'!I168=\"Waive\",\"Yes\",\"\")","v":""}]
[null,null,null,null,null,null,null,null,null,null,null,null,null,{"$f":"IF('Simplified Loader'!I169=\"Single\",\"Single\",IF('Simplified Loader'!I169=\"Family\",\"Family\",IF('Simplified Loader'!I169=\"Waive\",\"Family\",IF('Simplified Loader'!I169=\"Single Parent\",\"Family\",IF('Simplified Loader'!I169=\"Couple\",\"Family\",IF('Simplified Loader'!I169=\"In force\",\"Family\",IF('Simplified Loader'!I169=\"Applies\",\"Family\",IF('Simplified Loader'!I169=\"Applicable\",\"Family\",\"\"))))))))","v":""},null,null,null,null,null,null,null,{"$f":"IF('Simplified Loader'!I169=\"Waive\",\"Yes\",\"\")","v":""}]
[null,null,null,null,null,null,null,null,null,null,null,null,null,{"$f":"IF('Simplified Loader'!I170=\"Single\",\"Single\",IF('Simplified Loader'!I170=\"Family\",\"Family\",IF('Simplified Loader'!I170=\"Waive\",\"Family\",IF('Simplified Loader'!I170=\"Single Parent\",\"Family\",IF('Simplified Loader'!I170=\"Couple\",\"Family\",IF('Simplified Loader'!I170=\"In force\",\"Family\",IF('Simplified Loader'!I170=\"Applies\",\"Family\",IF('Simplified Loader'!I170=\"Applicable\",\"Family\",\"\"))))))))","v":""},null,null,null,null,null,null,null,{"$f":"IF('Simplified Loader'!I170=\"Waive\",\"Yes\",\"\")","v":""}]
[null,null,null,null,null,null,null,null,null,null,null,null,null,{"$f":"IF('Simplified Loader'!I171=\"Single\",\"Single\",IF('Simplified Loader'!I171=\"Family\",\"Family\",IF('Simplified Loader'!I171=\"Waive\",\"Family\",IF('Simplified Loader'!I171=\"Monoparental\",\"Family\",IF('Simplified Loader'!I171=\"Couple\",\"Family\",IF('Simplified Loader'!I171=\"In force\",\"Family\",IF('Simplified Loader'!I171=\"Applies\",\"Family\",IF('Simplified Loader'!I171=\"Applicable\",\"Family\",\"\"))))))))","v":""},null,null,null,null,null,null,null,{"$f":"IF('Simplified Loader'!I171=\"Waive\",\"Yes\",\"\")","v":""}]
[null,null,null,null,null,null,null,null,null,null,null,null,null,{"$f":"IF('Simplified Loader'!I172=\"Single\",\"Single\",IF('Simplified Loader'!I172=\"Family\",\"Family\",IF('Simplified Loader'!I172=\"Waive\",\"Family\",IF('Simplified Loader'!I172=\"Monoparental\",\"Family\",IF('Simplified Loader'!I172=\"Couple\",\"Family\",IF('Simplified Loader'!I172=\"In force\",\"Family\",IF('Simplified Loader'!I172=\"Applies\",\"Family\",IF('Simplified Loader'!I172=\"Applicable\",\"Family\",\"\"))))))))","v":""},null,null,null,null,null,null,null,{"$f":"IF('Simplified Loader'!I172=\"Waive\",\"Yes\",\"\")","v":""}]
[null,null,null,null,null,null,null,null,null,null,null,null,null,{"$f":"IF('Simplified Loader'!I173=\"Single\",\"Single\",IF('Simplified Loader'!I173=\"Family\",\"Family\",IF('Simplified Loader'!I173=\"Waive\",\"Family\",IF('Simplified Loader'!I173=\"Monoparental\",\"Family\",IF('Simplified Loader'!I173=\"Couple\",\"Family\",IF('Simplified Loader'!I173=\"In force\",\"Family\",IF('Simplified Loader'!I173=\"Applies\",\"Family\",IF('Simplified Loader'!I173=\"Applicable\",\"Family\",\"\"))))))))","v":""},null,null,null,null,null,null,null,{"$f":"IF('Simplified Loader'!I173=\"Waive\",\"Yes\",\"\")","v":""}]
[null,null,null,null,null,null,null,null,null,null,null,null,null,{"$f":"IF('Simplified Loader'!I174=\"Single\",\"Single\",IF('Simplified Loader'!I174=\"Family\",\"Family\",IF('Simplified Loader'!I174=\"Waive\",\"Family\",IF('Simplified Loader'!I174=\"Monoparental\",\"Family\",IF('Simplified Loader'!I174=\"Couple\",\"Family\",IF('Simplified Loader'!I174=\"In force\",\"Family\",IF('Simplified Loader'!I174=\"Applies\",\"Family\",IF('Simplified Loader'!I174=\"Applicable\",\"Family\",\"\"))))))))","v":""},null,null,null,null,null,null,null,{"$f":"IF('Simplified Loader'!I174=\"Waive\",\"Yes\",\"\")","v":""}]
[null,null,null,null,null,null,null,null,null,null,null,null,null,{"$f":"IF('Simplified Loader'!I175=\"Single\",\"Single\",IF('Simplified Loader'!I175=\"Family\",\"Family\",IF('Simplified Loader'!I175=\"Waive\",\"Family\",IF('Simplified Loader'!I175=\"Monoparental\",\"Family\",IF('Simplified Loader'!I175=\"Couple\",\"Family\",IF('Simplified Loader'!I175=\"In force\",\"Family\",IF('Simplified Loader'!I175=\"Applies\",\"Family\",IF('Simplified Loader'!I175=\"Applicable\",\"Family\",\"\"))))))))","v":""},null,null,null,null,null,null,null,{"$f":"IF('Simplified Loader'!I175=\"Waive\",\"Yes\",\"\")","v":""}]
[null,null,null,null,null,null,null,null,null,null,null,null,null,{"$f":"IF('Simplified Loader'!I176=\"Single\",\"Single\",IF('Simplified Loader'!I176=\"Family\",\"Family\",IF('Simplified Loader'!I176=\"Waive\",\"Family\",IF('Simplified Loader'!I176=\"Monoparental\",\"Family\",IF('Simplified Loader'!I176=\"Couple\",\"Family\",IF('Simplified Loader'!I176=\"In force\",\"Family\",IF('Simplified Loader'!I176=\"Applies\",\"Family\",IF('Simplified Loader'!I176=\"Applicable\",\"Family\",\"\"))))))))","v":""},null,null,null,null,null,null,null,{"$f":"IF('Simplified Loader'!I176=\"Waive\",\"Yes\",\"\")","v":""}]
[null,null,null,null,null,null,null,null,null,null,null,null,null,{"$f":"IF('Simplified Loader'!I177=\"Single\",\"Single\",IF('Simplified Loader'!I177=\"Family\",\"Family\",IF('Simplified Loader'!I177=\"Waive\",\"Family\",IF('Simplified Loader'!I177=\"Monoparental\",\"Family\",IF('Simplified Loader'!I177=\"Couple\",\"Family\",IF('Simplified Loader'!I177=\"In force\",\"Family\",IF('Simplified Loader'!I177=\"Applies\",\"Family\",IF('Simplified Loader'!I177=\"Applicable\",\"Family\",\"\"))))))))","v":""},null,null,null,null,null,null,null,{"$f":"IF('Simplified Loader'!I177=\"Waive\",\"Yes\",\"\")","v":""}]
[null,null,null,null,null,null,null,null,null,null,null,null,null,{"$f":"IF('Simplified Loader'!I178=\"Single\",\"Single\",IF('Simplified Loader'!I178=\"Family\",\"Family\",IF('Simplified Loader'!I178=\"Waive\",\"Family\",IF('Simplified Loader'!I178=\"Monoparental\",\"Family\",IF('Simplified Loader'!I178=\"Couple\",\"Family\",IF('Simplified Loader'!I178=\"In force\",\"Family\",IF('Simplified Loader'!I178=\"Applies\",\"Family\",IF('Simplified Loader'!I178=\"Applicable\",\"Family\",\"\"))))))))","v":""},null,null,null,null,null,null,null,{"$f":"IF('Simplified Loader'!I178=\"Waive\",\"Yes\",\"\")","v":""}]
[null,null,null,null,null,null,null,null,null,null,null,null,null,{"$f":"IF('Simplified Loader'!I179=\"Single\",\"Single\",IF('Simplified Loader'!I179=\"Family\",\"Family\",IF('Simplified Loader'!I179=\"Waive\",\"Family\",IF('Simplified Loader'!I179=\"Monoparental\",\"Family\",IF('Simplified Loader'!I179=\"Couple\",\"Family\",IF('Simplified Loader'!I179=\"In force\",\"Family\",IF('Simplified Loader'!I179=\"Applies\",\"Family\",IF('Simplified Loader'!I179=\"Applicable\",\"Family\",\"\"))))))))","v":""},null,null,null,null,null,null,null,{"$f":"IF('Simplified Loader'!I179=\"Waive\",\"Yes\",\"\")","v":""}]
[null,null,null,null,null,null,null,null,null,null,null,null,null,{"$f":"IF('Simplified Loader'!I180=\"Single\",\"Single\",IF('Simplified Loader'!I180=\"Family\",\"Family\",IF('Simplified Loader'!I180=\"Waive\",\"Family\",IF('Simplified Loader'!I180=\"Monoparental\",\"Family\",IF('Simplified Loader'!I180=\"Couple\",\"Family\",IF('Simplified Loader'!I180=\"In force\",\"Family\",IF('Simplified Loader'!I180=\"Applies\",\"Family\",IF('Simplified Loader'!I180=\"Applicable\",\"Family\",\"\"))))))))","v":""},null,null,null,null,null,null,null,{"$f":"IF('Simplified Loader'!I180=\"Waive\",\"Yes\",\"\")","v":""}]
[null,null,null,null,null,null,null,null,null,null,null,null,null,{"$f":"IF('Simplified Loader'!I181=\"Single\",\"Single\",IF('Simplified Loader'!I181=\"Family\",\"Family\",IF('Simplified Loader'!I181=\"Waive\",\"Family\",IF('Simplified Loader'!I181=\"Monoparental\",\"Family\",IF('Simplified Loader'!I181=\"Couple\",\"Family\",IF('Simplified Loader'!I181=\"In force\",\"Family\",IF('Simplified Loader'!I181=\"Applies\",\"Family\",IF('Simplified Loader'!I181=\"Applicable\",\"Family\",\"\"))))))))","v":""},null,null,null,null,null,null,null,{"$f":"IF('Simplified Loader'!I181=\"Waive\",\"Yes\",\"\")","v":""}]
[null,null,null,null,null,null,null,null,null,null,null,null,null,{"$f":"IF('Simplified Loader'!I182=\"Single\",\"Single\",IF('Simplified Loader'!I182=\"Family\",\"Family\",IF('Simplified Loader'!I182=\"Waive\",\"Family\",IF('Simplified Loader'!I182=\"Monoparental\",\"Family\",IF('Simplified Loader'!I182=\"Couple\",\"Family\",IF('Simplified Loader'!I182=\"In force\",\"Family\",IF('Simplified Loader'!I182=\"Applies\",\"Family\",IF('Simplified Loader'!I182=\"Applicable\",\"Family\",\"\"))))))))","v":""},null,null,null,null,null,null,null,{"$f":"IF('Simplified Loader'!I182=\"Waive\",\"Yes\",\"\")","v":""}]
[null,null,null,null,null,null,null,null,null,null,null,null,null,{"$f":"IF('Simplified Loader'!I183=\"Single\",\"Single\",IF('Simplified Loader'!I183=\"Family\",\"Family\",IF('Simplified Loader'!I183=\"Waive\",\"Family\",IF('Simplified Loader'!I183=\"Monoparental\",\"Family\",IF('Simplified Loader'!I183=\"Couple\",\"Family\",IF('Simplified Loader'!I183=\"In force\",\"Family\",IF('Simplified Loader'!I183=\"Applies\",\"Family\",IF('Simplified Loader'!I183=\"Applicable\",\"Family\",\"\"))))))))","v":""},null,null,null,null,null,null,null,{"$f":"IF('Simplified Loader'!I183=\"Waive\",\"Yes\",\"\")","v":""}]
[null,null,null,null,null,null,null,null,null,null,null,null,null,{"$f":"IF('Simplified Loader'!I184=\"Single\",\"Single\",IF('Simplified Loader'!I184=\"Family\",\"Family\",IF('Simplified Loader'!I184=\"Waive\",\"Family\",IF('Simplified Loader'!I184=\"Monoparental\",\"Family\",IF('Simplified Loader'!I184=\"Couple\",\"Family\",IF('Simplified Loader'!I184=\"In force\",\"Family\",IF('Simplified Loader'!I184=\"Applies\",\"Family\",IF('Simplified Loader'!I184=\"Applicable\",\"Family\",\"\"))))))))","v":""},null,null,null,null,null,null,null,{"$f":"IF('Simplified Loader'!I184=\"Waive\",\"Yes\",\"\")","v":""}]
[null,null,null,null,null,null,null,null,null,null,null,null,null,{"$f":"IF('Simplified Loader'!I185=\"Single\",\"Single\",IF('Simplified Loader'!I185=\"Family\",\"Family\",IF('Simplified Loader'!I185=\"Waive\",\"Family\",IF('Simplified Loader'!I185=\"Monoparental\",\"Family\",IF('Simplified Loader'!I185=\"Couple\",\"Family\",IF('Simplified Loader'!I185=\"In force\",\"Family\",IF('Simplified Loader'!I185=\"Applies\",\"Family\",IF('Simplified Loader'!I185=\"Applicable\",\"Family\",\"\"))))))))","v":""},null,null,null,null,null,null,null,{"$f":"IF('Simplified Loader'!I185=\"Waive\",\"Yes\",\"\")","v":""}]
[null,null,null,null,null,null,null,null,null,null,null,null,null,{"$f":"IF('Simplified Loader'!I186=\"Single\",\"Single\",IF('Simplified Loader'!I186=\"Family\",\"Family\",IF('Simplified Loader'!I186=\"Waive\",\"Family\",IF('Simplified Loader'!I186=\"Monoparental\",\"Family\",IF('Simplified Loader'!I186=\"Couple\",\"Family\",IF('Simplified Loader'!I186=\"In force\",\"Family\",IF('Simplified Loader'!I186=\"Applies\",\"Family\",IF('Simplified Loader'!I186=\"Applicable\",\"Family\",\"\"))))))))","v":""},null,null,null,null,null,null,null,{"$f":"IF('Simplified Loader'!I186=\"Waive\",\"Yes\",\"\")","v":""}]
[null,null,null,null,null,null,null,null,null,null,null,null,null,{"$f":"IF('Simplified Loader'!I187=\"Single\",\"Single\",IF('Simplified Loader'!I187=\"Family\",\"Family\",IF('Simplified Loader'!I187=\"Waive\",\"Family\",IF('Simplified Loader'!I187=\"Monoparental\",\"Family\",IF('Simplified Loader'!I187=\"Couple\",\"Family\",IF('Simplified Loader'!I187=\"In force\",\"Family\",IF('Simplified Loader'!I187=\"Applies\",\"Family\",IF('Simplified Loader'!I187=\"Applicable\",\"Family\",\"\"))))))))","v":""},null,null,null,null,null,null,null,{"$f":"IF('Simplified Loader'!I187=\"Waive\",\"Yes\",\"\")","v":""}]
[null,null,null,null,null,null,null,null,null,null,null,null,null,{"$f":"IF('Simplified Loader'!I188=\"Single\",\"Single\",IF('Simplified Loader'!I188=\"Family\",\"Family\",IF('Simplified Loader'!I188=\"Waive\",\"Family\",IF('Simplified Loader'!I188=\"Monoparental\",\"Family\",IF('Simplified Loader'!I188=\"Couple\",\"Family\",IF('Simplified Loader'!I188=\"In force\",\"Family\",IF('Simplified Loader'!I188=\"Applies\",\"Family\",IF('Simplified Loader'!I188=\"Applicable\",\"Family\",\"\"))))))))","v":""},null,null,null,null,null,null,null,{"$f":"IF('Simplified Loader'!I188=\"Waive\",\"Yes\",\"\")","v":""}]
[null,null,null,null,null,null,null,null,null,null,null,null,null,{"$f":"IF('Simplified Loader'!I189=\"Single\",\"Single\",IF('Simplified Loader'!I189=\"Family\",\"Family\",IF('Simplified Loader'!I189=\"Waive\",\"Family\",IF('Simplified Loader'!I189=\"Monoparental\",\"Family\",IF('Simplified Loader'!I189=\"Couple\",\"Family\",IF('Simplified Loader'!I189=\"In force\",\"Family\",IF('Simplified Loader'!I189=\"Applies\",\"Family\",IF('Simplified Loader'!I189=\"Applicable\",\"Family\",\"\"))))))))","v":""},null,null,null,null,null,null,null,{"$f":"IF('Simplified Loader'!I189=\"Waive\",\"Yes\",\"\")","v":""}]
[null,null,null,null,null,null,null,null,null,null,null,null,null,{"$f":"IF('Simplified Loader'!I190=\"Single\",\"Single\",IF('Simplified Loader'!I190=\"Family\",\"Family\",IF('Simplified Loader'!I190=\"Waive\",\"Family\",IF('Simplified Loader'!I190=\"Monoparental\",\"Family\",IF('Simplified Loader'!I190=\"Couple\",\"Family\",IF('Simplified Loader'!I190=\"In force\",\"Family\",IF('Simplified Loader'!I190=\"Applies\",\"Family\",IF('Simplified Loader'!I190=\"Applicable\",\"Family\",\"\"))))))))","v":""},null,null,null,null,null,null,null,{"$f":"IF('Simplified Loader'!I190=\"Waive\",\"Yes\",\"\")","v":""}]
[null,null,null,null,null,null,null,null,null,null,null,null,null,{"$f":"IF('Simplified Loader'!I191=\"Single\",\"Single\",IF('Simplified Loader'!I191=\"Family\",\"Family\",IF('Simplified Loader'!I191=\"Waive\",\"Family\",IF('Simplified Loader'!I191=\"Monoparental\",\"Family\",IF('Simplified Loader'!I191=\"Couple\",\"Family\",IF('Simplified Loader'!I191=\"In force\",\"Family\",IF('Simplified Loader'!I191=\"Applies\",\"Family\",IF('Simplified Loader'!I191=\"Applicable\",\"Family\",\"\"))))))))","v":""},null,null,null,null,null,null,null,{"$f":"IF('Simplified Loader'!I191=\"Waive\",\"Yes\",\"\")","v":""}]
[null,null,null,null,null,null,null,null,null,null,null,null,null,{"$f":"IF('Simplified Loader'!I192=\"Single\",\"Single\",IF('Simplified Loader'!I192=\"Family\",\"Family\",IF('Simplified Loader'!I192=\"Waive\",\"Family\",IF('Simplified Loader'!I192=\"Monoparental\",\"Family\",IF('Simplified Loader'!I192=\"Couple\",\"Family\",IF('Simplified Loader'!I192=\"In force\",\"Family\",IF('Simplified Loader'!I192=\"Applies\",\"Family\",IF('Simplified Loader'!I192=\"Applicable\",\"Family\",\"\"))))))))","v":""},null,null,null,null,null,null,null,{"$f":"IF('Simplified Loader'!I192=\"Waive\",\"Yes\",\"\")","v":""}]
[null,null,null,null,null,null,null,null,null,null,null,null,null,{"$f":"IF('Simplified Loader'!I193=\"Single\",\"Single\",IF('Simplified Loader'!I193=\"Family\",\"Family\",IF('Simplified Loader'!I193=\"Waive\",\"Family\",IF('Simplified Loader'!I193=\"Monoparental\",\"Family\",IF('Simplified Loader'!I193=\"Couple\",\"Family\",IF('Simplified Loader'!I193=\"In force\",\"Family\",IF('Simplified Loader'!I193=\"Applies\",\"Family\",IF('Simplified Loader'!I193=\"Applicable\",\"Family\",\"\"))))))))","v":""},null,null,null,null,null,null,null,{"$f":"IF('Simplified Loader'!I193=\"Waive\",\"Yes\",\"\")","v":""}]
[null,null,null,null,null,null,null,null,null,null,null,null,null,{"$f":"IF('Simplified Loader'!I194=\"Single\",\"Single\",IF('Simplified Loader'!I194=\"Family\",\"Family\",IF('Simplified Loader'!I194=\"Waive\",\"Family\",IF('Simplified Loader'!I194=\"Monoparental\",\"Family\",IF('Simplified Loader'!I194=\"Couple\",\"Family\",IF('Simplified Loader'!I194=\"In force\",\"Family\",IF('Simplified Loader'!I194=\"Applies\",\"Family\",IF('Simplified Loader'!I194=\"Applicable\",\"Family\",\"\"))))))))","v":""},null,null,null,null,null,null,null,{"$f":"IF('Simplified Loader'!I194=\"Waive\",\"Yes\",\"\")","v":""}]
[null,null,null,null,null,null,null,null,null,null,null,null,null,{"$f":"IF('Simplified Loader'!I195=\"Single\",\"Single\",IF('Simplified Loader'!I195=\"Family\",\"Family\",IF('Simplified Loader'!I195=\"Waive\",\"Family\",IF('Simplified Loader'!I195=\"Monoparental\",\"Family\",IF('Simplified Loader'!I195=\"Couple\",\"Family\",IF('Simplified Loader'!I195=\"In force\",\"Family\",IF('Simplified Loader'!I195=\"Applies\",\"Family\",IF('Simplified Loader'!I195=\"Applicable\",\"Family\",\"\"))))))))","v":""},null,null,null,null,null,null,null,{"$f":"IF('Simplified Loader'!I195=\"Waive\",\"Yes\",\"\")","v":""}]
[null,null,null,null,null,null,null,null,null,null,null,null,null,{"$f":"IF('Simplified Loader'!I196=\"Single\",\"Single\",IF('Simplified Loader'!I196=\"Family\",\"Family\",IF('Simplified Loader'!I196=\"Waive\",\"Family\",IF('Simplified Loader'!I196=\"Monoparental\",\"Family\",IF('Simplified Loader'!I196=\"Couple\",\"Family\",IF('Simplified Loader'!I196=\"In force\",\"Family\",IF('Simplified Loader'!I196=\"Applies\",\"Family\",IF('Simplified Loader'!I196=\"Applicable\",\"Family\",\"\"))))))))","v":""},null,null,null,null,null,null,null,{"$f":"IF('Simplified Loader'!I196=\"Waive\",\"Yes\",\"\")","v":""}]
[null,null,null,null,null,null,null,null,null,null,null,null,null,{"$f":"IF('Simplified Loader'!I197=\"Single\",\"Single\",IF('Simplified Loader'!I197=\"Family\",\"Family\",IF('Simplified Loader'!I197=\"Waive\",\"Family\",IF('Simplified Loader'!I197=\"Monoparental\",\"Family\",IF('Simplified Loader'!I197=\"Couple\",\"Family\",IF('Simplified Loader'!I197=\"In force\",\"Family\",IF('Simplified Loader'!I197=\"Applies\",\"Family\",IF('Simplified Loader'!I197=\"Applicable\",\"Family\",\"\"))))))))","v":""},null,null,null,null,null,null,null,{"$f":"IF('Simplified Loader'!I197=\"Waive\",\"Yes\",\"\")","v":""}]
[null,null,null,null,null,null,null,null,null,null,null,null,null,{"$f":"IF('Simplified Loader'!I198=\"Single\",\"Single\",IF('Simplified Loader'!I198=\"Family\",\"Family\",IF('Simplified Loader'!I198=\"Waive\",\"Family\",IF('Simplified Loader'!I198=\"Monoparental\",\"Family\",IF('Simplified Loader'!I198=\"Couple\",\"Family\",IF('Simplified Loader'!I198=\"In force\",\"Family\",IF('Simplified Loader'!I198=\"Applies\",\"Family\",IF('Simplified Loader'!I198=\"Applicable\",\"Family\",\"\"))))))))","v":""},null,null,null,null,null,null,null,{"$f":"IF('Simplified Loader'!I198=\"Waive\",\"Yes\",\"\")","v":""}]
[null,null,null,null,null,null,null,null,null,null,null,null,null,{"$f":"IF('Simplified Loader'!I199=\"Single\",\"Single\",IF('Simplified Loader'!I199=\"Family\",\"Family\",IF('Simplified Loader'!I199=\"Waive\",\"Family\",IF('Simplified Loader'!I199=\"Monoparental\",\"Family\",IF('Simplified Loader'!I199=\"Couple\",\"Family\",IF('Simplified Loader'!I199=\"In force\",\"Family\",IF('Simplified Loader'!I199=\"Applies\",\"Family\",IF('Simplified Loader'!I199=\"Applicable\",\"Family\",\"\"))))))))","v":""},null,null,null,null,null,null,null,{"$f":"IF('Simplified Loader'!I199=\"Waive\",\"Yes\",\"\")","v":""}]
[null,null,null,null,null,null,null,null,null,null,null,null,null,{"$f":"IF('Simplified Loader'!I200=\"Single\",\"Single\",IF('Simplified Loader'!I200=\"Family\",\"Family\",IF('Simplified Loader'!I200=\"Waive\",\"Family\",IF('Simplified Loader'!I200=\"Monoparental\",\"Family\",IF('Simplified Loader'!I200=\"Couple\",\"Family\",IF('Simplified Loader'!I200=\"In force\",\"Family\",IF('Simplified Loader'!I200=\"Applies\",\"Family\",IF('Simplified Loader'!I200=\"Applicable\",\"Family\",\"\"))))))))","v":""},null,null,null,null,null,null,null,{"$f":"IF('Simplified Loader'!I200=\"Waive\",\"Yes\",\"\")","v":""}]
[null,null,null,null,null,null,null,null,null,null,null,null,null,{"$f":"IF('Simplified Loader'!I201=\"Single\",\"Single\",IF('Simplified Loader'!I201=\"Family\",\"Family\",IF('Simplified Loader'!I201=\"Waive\",\"Family\",IF('Simplified Loader'!I201=\"Monoparental\",\"Family\",IF('Simplified Loader'!I201=\"Couple\",\"Family\",IF('Simplified Loader'!I201=\"In force\",\"Family\",IF('Simplified Loader'!I201=\"Applies\",\"Family\",IF('Simplified Loader'!I201=\"Applicable\",\"Family\",\"\"))))))))","v":""},null,null,null,null,null,null,null,{"$f":"IF('Simplified Loader'!I201=\"Waive\",\"Yes\",\"\")","v":""}]
[null,null,null,null,null,null,null,null,null,null,null,null,null,{"$f":"IF('Simplified Loader'!I202=\"Single\",\"Single\",IF('Simplified Loader'!I202=\"Family\",\"Family\",IF('Simplified Loader'!I202=\"Waive\",\"Family\",IF('Simplified Loader'!I202=\"Monoparental\",\"Family\",IF('Simplified Loader'!I202=\"Couple\",\"Family\",IF('Simplified Loader'!I202=\"In force\",\"Family\",IF('Simplified Loader'!I202=\"Applies\",\"Family\",IF('Simplified Loader'!I202=\"Applicable\",\"Family\",\"\"))))))))","v":""},null,null,null,null,null,null,null,{"$f":"IF('Simplified Loader'!I202=\"Waive\",\"Yes\",\"\")","v":""}]
[null,null,null,null,null,null,null,null,null,null,null,null,null,{"$f":"IF('Simplified Loader'!I203=\"Single\",\"Single\",IF('Simplified Loader'!I203=\"Family\",\"Family\",IF('Simplified Loader'!I203=\"Waive\",\"Family\",IF('Simplified Loader'!I203=\"Monoparental\",\"Family\",IF('Simplified Loader'!I203=\"Couple\",\"Family\",IF('Simplified Loader'!I203=\"In force\",\"Family\",IF('Simplified Loader'!I203=\"Applies\",\"Family\",IF('Simplified Loader'!I203=\"Applicable\",\"Family\",\"\"))))))))","v":""},null,null,null,null,null,null,null,{"$f":"IF('Simplified Loader'!I203=\"Waive\",\"Yes\",\"\")","v":""}]
[null,null,null,null,null,null,null,null,null,null,null,null,null,{"$f":"IF('Simplified Loader'!I204=\"Single\",\"Single\",IF('Simplified Loader'!I204=\"Family\",\"Family\",IF('Simplified Loader'!I204=\"Waive\",\"Family\",IF('Simplified Loader'!I204=\"Monoparental\",\"Family\",IF('Simplified Loader'!I204=\"Couple\",\"Family\",IF('Simplified Loader'!I204=\"In force\",\"Family\",IF('Simplified Loader'!I204=\"Applies\",\"Family\",IF('Simplified Loader'!I204=\"Applicable\",\"Family\",\"\"))))))))","v":""},null,null,null,null,null,null,null,{"$f":"IF('Simplified Loader'!I204=\"Waive\",\"Yes\",\"\")","v":""}]
[null,null,null,null,null,null,null,null,null,null,null,null,null,{"$f":"IF('Simplified Loader'!I205=\"Single\",\"Single\",IF('Simplified Loader'!I205=\"Family\",\"Family\",IF('Simplified Loader'!I205=\"Waive\",\"Family\",IF('Simplified Loader'!I205=\"Monoparental\",\"Family\",IF('Simplified Loader'!I205=\"Couple\",\"Family\",IF('Simplified Loader'!I205=\"In force\",\"Family\",IF('Simplified Loader'!I205=\"Applies\",\"Family\",IF('Simplified Loader'!I205=\"Applicable\",\"Family\",\"\"))))))))","v":""},null,null,null,null,null,null,null,{"$f":"IF('Simplified Loader'!I205=\"Waive\",\"Yes\",\"\")","v":""}]
[null,null,null,null,null,null,null,null,null,null,null,null,null,{"$f":"IF('Simplified Loader'!I206=\"Single\",\"Single\",IF('Simplified Loader'!I206=\"Family\",\"Family\",IF('Simplified Loader'!I206=\"Waive\",\"Family\",IF('Simplified Loader'!I206=\"Monoparental\",\"Family\",IF('Simplified Loader'!I206=\"Couple\",\"Family\",IF('Simplified Loader'!I206=\"In force\",\"Family\",IF('Simplified Loader'!I206=\"Applies\",\"Family\",IF('Simplified Loader'!I206=\"Applicable\",\"Family\",\"\"))))))))","v":""},null,null,null,null,null,null,null,{"$f":"IF('Simplified Loader'!I206=\"Waive\",\"Yes\",\"\")","v":""}]
[null,null,null,null,null,null,null,null,null,null,null,null,null,{"$f":"IF('Simplified Loader'!I207=\"Single\",\"Single\",IF('Simplified Loader'!I207=\"Family\",\"Family\",IF('Simplified Loader'!I207=\"Waive\",\"Family\",IF('Simplified Loader'!I207=\"Monoparental\",\"Family\",IF('Simplified Loader'!I207=\"Couple\",\"Family\",IF('Simplified Loader'!I207=\"In force\",\"Family\",IF('Simplified Loader'!I207=\"Applies\",\"Family\",IF('Simplified Loader'!I207=\"Applicable\",\"Family\",\"\"))))))))","v":""},null,null,null,null,null,null,null,{"$f":"IF('Simplified Loader'!I207=\"Waive\",\"Yes\",\"\")","v":""}]
[null,null,null,null,null,null,null,null,null,null,null,null,null,{"$f":"IF('Simplified Loader'!I208=\"Single\",\"Single\",IF('Simplified Loader'!I208=\"Family\",\"Family\",IF('Simplified Loader'!I208=\"Waive\",\"Family\",IF('Simplified Loader'!I208=\"Monoparental\",\"Family\",IF('Simplified Loader'!I208=\"Couple\",\"Family\",IF('Simplified Loader'!I208=\"In force\",\"Family\",IF('Simplified Loader'!I208=\"Applies\",\"Family\",IF('Simplified Loader'!I208=\"Applicable\",\"Family\",\"\"))))))))","v":""},null,null,null,null,null,null,null,{"$f":"IF('Simplified Loader'!I208=\"Waive\",\"Yes\",\"\")","v":""}]
[null,null,null,null,null,null,null,null,null,null,null,null,null,{"$f":"IF('Simplified Loader'!I209=\"Single\",\"Single\",IF('Simplified Loader'!I209=\"Family\",\"Family\",IF('Simplified Loader'!I209=\"Waive\",\"Family\",IF('Simplified Loader'!I209=\"Monoparental\",\"Family\",IF('Simplified Loader'!I209=\"Couple\",\"Family\",IF('Simplified Loader'!I209=\"In force\",\"Family\",IF('Simplified Loader'!I209=\"Applies\",\"Family\",IF('Simplified Loader'!I209=\"Applicable\",\"Family\",\"\"))))))))","v":""},null,null,null,null,null,null,null,{"$f":"IF('Simplified Loader'!I209=\"Waive\",\"Yes\",\"\")","v":""}]
[null,null,null,null,null,null,null,null,null,null,null,null,null,{"$f":"IF('Simplified Loader'!I210=\"Single\",\"Single\",IF('Simplified Loader'!I210=\"Family\",\"Family\",IF('Simplified Loader'!I210=\"Waive\",\"Family\",IF('Simplified Loader'!I210=\"Monoparental\",\"Family\",IF('Simplified Loader'!I210=\"Couple\",\"Family\",IF('Simplified Loader'!I210=\"In force\",\"Family\",IF('Simplified Loader'!I210=\"Applies\",\"Family\",IF('Simplified Loader'!I210=\"Applicable\",\"Family\",\"\"))))))))","v":""},null,null,null,null,null,null,null,{"$f":"IF('Simplified Loader'!I210=\"Waive\",\"Yes\",\"\")","v":""}]
[null,null,null,null,null,null,null,null,null,null,null,null,null,{"$f":"IF('Simplified Loader'!I211=\"Single\",\"Single\",IF('Simplified Loader'!I211=\"Family\",\"Family\",IF('Simplified Loader'!I211=\"Waive\",\"Family\",IF('Simplified Loader'!I211=\"Monoparental\",\"Family\",IF('Simplified Loader'!I211=\"Couple\",\"Family\",IF('Simplified Loader'!I211=\"In force\",\"Family\",IF('Simplified Loader'!I211=\"Applies\",\"Family\",IF('Simplified Loader'!I211=\"Applicable\",\"Family\",\"\"))))))))","v":""},null,null,null,null,null,null,null,{"$f":"IF('Simplified Loader'!I211=\"Waive\",\"Yes\",\"\")","v":""}]
[null,null,null,null,null,null,null,null,null,null,null,null,null,{"$f":"IF('Simplified Loader'!I212=\"Single\",\"Single\",IF('Simplified Loader'!I212=\"Family\",\"Family\",IF('Simplified Loader'!I212=\"Waive\",\"Family\",IF('Simplified Loader'!I212=\"Monoparental\",\"Family\",IF('Simplified Loader'!I212=\"Couple\",\"Family\",IF('Simplified Loader'!I212=\"In force\",\"Family\",IF('Simplified Loader'!I212=\"Applies\",\"Family\",IF('Simplified Loader'!I212=\"Applicable\",\"Family\",\"\"))))))))","v":""},null,null,null,null,null,null,null,{"$f":"IF('Simplified Loader'!I212=\"Waive\",\"Yes\",\"\")","v":""}]
[null,null,null,null,null,null,null,null,null,null,null,null,null,{"$f":"IF('Simplified Loader'!I213=\"Single\",\"Single\",IF('Simplified Loader'!I213=\"Family\",\"Family\",IF('Simplified Loader'!I213=\"Waive\",\"Family\",IF('Simplified Loader'!I213=\"Monoparental\",\"Family\",IF('Simplified Loader'!I213=\"Couple\",\"Family\",IF('Simplified Loader'!I213=\"In force\",\"Family\",IF('Simplified Loader'!I213=\"Applies\",\"Family\",IF('Simplified Loader'!I213=\"Applicable\",\"Family\",\"\"))))))))","v":""},null,null,null,null,null,null,null,{"$f":"IF('Simplified Loader'!I213=\"Waive\",\"Yes\",\"\")","v":""}]
[null,null,null,null,null,null,null,null,null,null,null,null,null,{"$f":"IF('Simplified Loader'!I214=\"Single\",\"Single\",IF('Simplified Loader'!I214=\"Family\",\"Family\",IF('Simplified Loader'!I214=\"Waive\",\"Family\",IF('Simplified Loader'!I214=\"Monoparental\",\"Family\",IF('Simplified Loader'!I214=\"Couple\",\"Family\",IF('Simplified Loader'!I214=\"In force\",\"Family\",IF('Simplified Loader'!I214=\"Applies\",\"Family\",IF('Simplified Loader'!I214=\"Applicable\",\"Family\",\"\"))))))))","v":""},null,null,null,null,null,null,null,{"$f":"IF('Simplified Loader'!I214=\"Waive\",\"Yes\",\"\")","v":""}]
[null,null,null,null,null,null,null,null,null,null,null,null,null,{"$f":"IF('Simplified Loader'!I215=\"Single\",\"Single\",IF('Simplified Loader'!I215=\"Family\",\"Family\",IF('Simplified Loader'!I215=\"Waive\",\"Family\",IF('Simplified Loader'!I215=\"Monoparental\",\"Family\",IF('Simplified Loader'!I215=\"Couple\",\"Family\",IF('Simplified Loader'!I215=\"In force\",\"Family\",IF('Simplified Loader'!I215=\"Applies\",\"Family\",IF('Simplified Loader'!I215=\"Applicable\",\"Family\",\"\"))))))))","v":""},null,null,null,null,null,null,null,{"$f":"IF('Simplified Loader'!I215=\"Waive\",\"Yes\",\"\")","v":""}]
[null,null,null,null,null,null,null,null,null,null,null,null,null,{"$f":"IF('Simplified Loader'!I216=\"Single\",\"Single\",IF('Simplified Loader'!I216=\"Family\",\"Family\",IF('Simplified Loader'!I216=\"Waive\",\"Family\",IF('Simplified Loader'!I216=\"Monoparental\",\"Family\",IF('Simplified Loader'!I216=\"Couple\",\"Family\",IF('Simplified Loader'!I216=\"In force\",\"Family\",IF('Simplified Loader'!I216=\"Applies\",\"Family\",IF('Simplified Loader'!I216=\"Applicable\",\"Family\",\"\"))))))))","v":""},null,null,null,null,null,null,null,{"$f":"IF('Simplified Loader'!I216=\"Waive\",\"Yes\",\"\")","v":""}]
[null,null,null,null,null,null,null,null,null,null,null,null,null,{"$f":"IF('Simplified Loader'!I217=\"Single\",\"Single\",IF('Simplified Loader'!I217=\"Family\",\"Family\",IF('Simplified Loader'!I217=\"Waive\",\"Family\",IF('Simplified Loader'!I217=\"Monoparental\",\"Family\",IF('Simplified Loader'!I217=\"Couple\",\"Family\",IF('Simplified Loader'!I217=\"In force\",\"Family\",IF('Simplified Loader'!I217=\"Applies\",\"Family\",IF('Simplified Loader'!I217=\"Applicable\",\"Family\",\"\"))))))))","v":""},null,null,null,null,null,null,null,{"$f":"IF('Simplified Loader'!I217=\"Waive\",\"Yes\",\"\")","v":""}]
[null,null,null,null,null,null,null,null,null,null,null,null,null,{"$f":"IF('Simplified Loader'!I218=\"Single\",\"Single\",IF('Simplified Loader'!I218=\"Family\",\"Family\",IF('Simplified Loader'!I218=\"Waive\",\"Family\",IF('Simplified Loader'!I218=\"Monoparental\",\"Family\",IF('Simplified Loader'!I218=\"Couple\",\"Family\",IF('Simplified Loader'!I218=\"In force\",\"Family\",IF('Simplified Loader'!I218=\"Applies\",\"Family\",IF('Simplified Loader'!I218=\"Applicable\",\"Family\",\"\"))))))))","v":""},null,null,null,null,null,null,null,{"$f":"IF('Simplified Loader'!I218=\"Waive\",\"Yes\",\"\")","v":""}]
[null,null,null,null,null,null,null,null,null,null,null,null,null,{"$f":"IF('Simplified Loader'!I219=\"Single\",\"Single\",IF('Simplified Loader'!I219=\"Family\",\"Family\",IF('Simplified Loader'!I219=\"Waive\",\"Family\",IF('Simplified Loader'!I219=\"Monoparental\",\"Family\",IF('Simplified Loader'!I219=\"Couple\",\"Family\",IF('Simplified Loader'!I219=\"In force\",\"Family\",IF('Simplified Loader'!I219=\"Applies\",\"Family\",IF('Simplified Loader'!I219=\"Applicable\",\"Family\",\"\"))))))))","v":""},null,null,null,null,null,null,null,{"$f":"IF('Simplified Loader'!I219=\"Waive\",\"Yes\",\"\")","v":""}]
[null,null,null,null,null,null,null,null,null,null,null,null,null,{"$f":"IF('Simplified Loader'!I220=\"Single\",\"Single\",IF('Simplified Loader'!I220=\"Family\",\"Family\",IF('Simplified Loader'!I220=\"Waive\",\"Family\",IF('Simplified Loader'!I220=\"Monoparental\",\"Family\",IF('Simplified Loader'!I220=\"Couple\",\"Family\",IF('Simplified Loader'!I220=\"In force\",\"Family\",IF('Simplified Loader'!I220=\"Applies\",\"Family\",IF('Simplified Loader'!I220=\"Applicable\",\"Family\",\"\"))))))))","v":""},null,null,null,null,null,null,null,{"$f":"IF('Simplified Loader'!I220=\"Waive\",\"Yes\",\"\")","v":""}]
[null,null,null,null,null,null,null,null,null,null,null,null,null,{"$f":"IF('Simplified Loader'!I221=\"Single\",\"Single\",IF('Simplified Loader'!I221=\"Family\",\"Family\",IF('Simplified Loader'!I221=\"Waive\",\"Family\",IF('Simplified Loader'!I221=\"Monoparental\",\"Family\",IF('Simplified Loader'!I221=\"Couple\",\"Family\",IF('Simplified Loader'!I221=\"In force\",\"Family\",IF('Simplified Loader'!I221=\"Applies\",\"Family\",IF('Simplified Loader'!I221=\"Applicable\",\"Family\",\"\"))))))))","v":""},null,null,null,null,null,null,null,{"$f":"IF('Simplified Loader'!I221=\"Waive\",\"Yes\",\"\")","v":""}]
[null,null,null,null,null,null,null,null,null,null,null,null,null,{"$f":"IF('Simplified Loader'!I222=\"Single\",\"Single\",IF('Simplified Loader'!I222=\"Family\",\"Family\",IF('Simplified Loader'!I222=\"Waive\",\"Family\",IF('Simplified Loader'!I222=\"Monoparental\",\"Family\",IF('Simplified Loader'!I222=\"Couple\",\"Family\",IF('Simplified Loader'!I222=\"In force\",\"Family\",IF('Simplified Loader'!I222=\"Applies\",\"Family\",IF('Simplified Loader'!I222=\"Applicable\",\"Family\",\"\"))))))))","v":""},null,null,null,null,null,null,null,{"$f":"IF('Simplified Loader'!I222=\"Waive\",\"Yes\",\"\")","v":""}]
[null,null,null,null,null,null,null,null,null,null,null,null,null,{"$f":"IF('Simplified Loader'!I223=\"Single\",\"Single\",IF('Simplified Loader'!I223=\"Family\",\"Family\",IF('Simplified Loader'!I223=\"Waive\",\"Family\",IF('Simplified Loader'!I223=\"Monoparental\",\"Family\",IF('Simplified Loader'!I223=\"Couple\",\"Family\",IF('Simplified Loader'!I223=\"In force\",\"Family\",IF('Simplified Loader'!I223=\"Applies\",\"Family\",IF('Simplified Loader'!I223=\"Applicable\",\"Family\",\"\"))))))))","v":""},null,null,null,null,null,null,null,{"$f":"IF('Simplified Loader'!I223=\"Waive\",\"Yes\",\"\")","v":""}]
[null,null,null,null,null,null,null,null,null,null,null,null,null,{"$f":"IF('Simplified Loader'!I224=\"Single\",\"Single\",IF('Simplified Loader'!I224=\"Family\",\"Family\",IF('Simplified Loader'!I224=\"Waive\",\"Family\",IF('Simplified Loader'!I224=\"Monoparental\",\"Family\",IF('Simplified Loader'!I224=\"Couple\",\"Family\",IF('Simplified Loader'!I224=\"In force\",\"Family\",IF('Simplified Loader'!I224=\"Applies\",\"Family\",IF('Simplified Loader'!I224=\"Applicable\",\"Family\",\"\"))))))))","v":""},null,null,null,null,null,null,null,{"$f":"IF('Simplified Loader'!I224=\"Waive\",\"Yes\",\"\")","v":""}]
[null,null,null,null,null,null,null,null,null,null,null,null,null,{"$f":"IF('Simplified Loader'!I225=\"Single\",\"Single\",IF('Simplified Loader'!I225=\"Family\",\"Family\",IF('Simplified Loader'!I225=\"Waive\",\"Family\",IF('Simplified Loader'!I225=\"Monoparental\",\"Family\",IF('Simplified Loader'!I225=\"Couple\",\"Family\",IF('Simplified Loader'!I225=\"In force\",\"Family\",IF('Simplified Loader'!I225=\"Applies\",\"Family\",IF('Simplified Loader'!I225=\"Applicable\",\"Family\",\"\"))))))))","v":""},null,null,null,null,null,null,null,{"$f":"IF('Simplified Loader'!I225=\"Waive\",\"Yes\",\"\")","v":""}]
[null,null,null,null,null,null,null,null,null,null,null,null,null,{"$f":"IF('Simplified Loader'!I226=\"Single\",\"Single\",IF('Simplified Loader'!I226=\"Family\",\"Family\",IF('Simplified Loader'!I226=\"Waive\",\"Family\",IF('Simplified Loader'!I226=\"Monoparental\",\"Family\",IF('Simplified Loader'!I226=\"Couple\",\"Family\",IF('Simplified Loader'!I226=\"In force\",\"Family\",IF('Simplified Loader'!I226=\"Applies\",\"Family\",IF('Simplified Loader'!I226=\"Applicable\",\"Family\",\"\"))))))))","v":""},null,null,null,null,null,null,null,{"$f":"IF('Simplified Loader'!I226=\"Waive\",\"Yes\",\"\")","v":""}]
[null,null,null,null,null,null,null,null,null,null,null,null,null,{"$f":"IF('Simplified Loader'!I227=\"Single\",\"Single\",IF('Simplified Loader'!I227=\"Family\",\"Family\",IF('Simplified Loader'!I227=\"Waive\",\"Family\",IF('Simplified Loader'!I227=\"Monoparental\",\"Family\",IF('Simplified Loader'!I227=\"Couple\",\"Family\",IF('Simplified Loader'!I227=\"In force\",\"Family\",IF('Simplified Loader'!I227=\"Applies\",\"Family\",IF('Simplified Loader'!I227=\"Applicable\",\"Family\",\"\"))))))))","v":""},null,null,null,null,null,null,null,{"$f":"IF('Simplified Loader'!I227=\"Waive\",\"Yes\",\"\")","v":""}]
[null,null,null,null,null,null,null,null,null,null,null,null,null,{"$f":"IF('Simplified Loader'!I228=\"Single\",\"Single\",IF('Simplified Loader'!I228=\"Family\",\"Family\",IF('Simplified Loader'!I228=\"Waive\",\"Family\",IF('Simplified Loader'!I228=\"Monoparental\",\"Family\",IF('Simplified Loader'!I228=\"Couple\",\"Family\",IF('Simplified Loader'!I228=\"In force\",\"Family\",IF('Simplified Loader'!I228=\"Applies\",\"Family\",IF('Simplified Loader'!I228=\"Applicable\",\"Family\",\"\"))))))))","v":""},null,null,null,null,null,null,null,{"$f":"IF('Simplified Loader'!I228=\"Waive\",\"Yes\",\"\")","v":""}]
[null,null,null,null,null,null,null,null,null,null,null,null,null,{"$f":"IF('Simplified Loader'!I229=\"Single\",\"Single\",IF('Simplified Loader'!I229=\"Family\",\"Family\",IF('Simplified Loader'!I229=\"Waive\",\"Family\",IF('Simplified Loader'!I229=\"Monoparental\",\"Family\",IF('Simplified Loader'!I229=\"Couple\",\"Family\",IF('Simplified Loader'!I229=\"In force\",\"Family\",IF('Simplified Loader'!I229=\"Applies\",\"Family\",IF('Simplified Loader'!I229=\"Applicable\",\"Family\",\"\"))))))))","v":""},null,null,null,null,null,null,null,{"$f":"IF('Simplified Loader'!I229=\"Waive\",\"Yes\",\"\")","v":""}]
[null,null,null,null,null,null,null,null,null,null,null,null,null,{"$f":"IF('Simplified Loader'!I230=\"Single\",\"Single\",IF('Simplified Loader'!I230=\"Family\",\"Family\",IF('Simplified Loader'!I230=\"Waive\",\"Family\",IF('Simplified Loader'!I230=\"Monoparental\",\"Family\",IF('Simplified Loader'!I230=\"Couple\",\"Family\",IF('Simplified Loader'!I230=\"In force\",\"Family\",IF('Simplified Loader'!I230=\"Applies\",\"Family\",IF('Simplified Loader'!I230=\"Applicable\",\"Family\",\"\"))))))))","v":""},null,null,null,null,null,null,null,{"$f":"IF('Simplified Loader'!I230=\"Waive\",\"Yes\",\"\")","v":""}]
[null,null,null,null,null,null,null,null,null,null,null,null,null,{"$f":"IF('Simplified Loader'!I231=\"Single\",\"Single\",IF('Simplified Loader'!I231=\"Family\",\"Family\",IF('Simplified Loader'!I231=\"Waive\",\"Family\",IF('Simplified Loader'!I231=\"Monoparental\",\"Family\",IF('Simplified Loader'!I231=\"Couple\",\"Family\",IF('Simplified Loader'!I231=\"In force\",\"Family\",IF('Simplified Loader'!I231=\"Applies\",\"Family\",IF('Simplified Loader'!I231=\"Applicable\",\"Family\",\"\"))))))))","v":""},null,null,null,null,null,null,null,{"$f":"IF('Simplified Loader'!I231=\"Waive\",\"Yes\",\"\")","v":""}]
[null,null,null,null,null,null,null,null,null,null,null,null,null,{"$f":"IF('Simplified Loader'!I232=\"Single\",\"Single\",IF('Simplified Loader'!I232=\"Family\",\"Family\",IF('Simplified Loader'!I232=\"Waive\",\"Family\",IF('Simplified Loader'!I232=\"Monoparental\",\"Family\",IF('Simplified Loader'!I232=\"Couple\",\"Family\",IF('Simplified Loader'!I232=\"In force\",\"Family\",IF('Simplified Loader'!I232=\"Applies\",\"Family\",IF('Simplified Loader'!I232=\"Applicable\",\"Family\",\"\"))))))))","v":""},null,null,null,null,null,null,null,{"$f":"IF('Simplified Loader'!I232=\"Waive\",\"Yes\",\"\")","v":""}]
[null,null,null,null,null,null,null,null,null,null,null,null,null,{"$f":"IF('Simplified Loader'!I233=\"Single\",\"Single\",IF('Simplified Loader'!I233=\"Family\",\"Family\",IF('Simplified Loader'!I233=\"Waive\",\"Family\",IF('Simplified Loader'!I233=\"Monoparental\",\"Family\",IF('Simplified Loader'!I233=\"Couple\",\"Family\",IF('Simplified Loader'!I233=\"In force\",\"Family\",IF('Simplified Loader'!I233=\"Applies\",\"Family\",IF('Simplified Loader'!I233=\"Applicable\",\"Family\",\"\"))))))))","v":""},null,null,null,null,null,null,null,{"$f":"IF('Simplified Loader'!I233=\"Waive\",\"Yes\",\"\")","v":""}]
[null,null,null,null,null,null,null,null,null,null,null,null,null,{"$f":"IF('Simplified Loader'!I234=\"Single\",\"Single\",IF('Simplified Loader'!I234=\"Family\",\"Family\",IF('Simplified Loader'!I234=\"Waive\",\"Family\",IF('Simplified Loader'!I234=\"Monoparental\",\"Family\",IF('Simplified Loader'!I234=\"Couple\",\"Family\",IF('Simplified Loader'!I234=\"In force\",\"Family\",IF('Simplified Loader'!I234=\"Applies\",\"Family\",IF('Simplified Loader'!I234=\"Applicable\",\"Family\",\"\"))))))))","v":""},null,null,null,null,null,null,null,{"$f":"IF('Simplified Loader'!I234=\"Waive\",\"Yes\",\"\")","v":""}]
[null,null,null,null,null,null,null,null,null,null,null,null,null,{"$f":"IF('Simplified Loader'!I235=\"Single\",\"Single\",IF('Simplified Loader'!I235=\"Family\",\"Family\",IF('Simplified Loader'!I235=\"Waive\",\"Family\",IF('Simplified Loader'!I235=\"Monoparental\",\"Family\",IF('Simplified Loader'!I235=\"Couple\",\"Family\",IF('Simplified Loader'!I235=\"In force\",\"Family\",IF('Simplified Loader'!I235=\"Applies\",\"Family\",IF('Simplified Loader'!I235=\"Applicable\",\"Family\",\"\"))))))))","v":""},null,null,null,null,null,null,null,{"$f":"IF('Simplified Loader'!I235=\"Waive\",\"Yes\",\"\")","v":""}]
[null,null,null,null,null,null,null,null,null,null,null,null,null,{"$f":"IF('Simplified Loader'!I236=\"Single\",\"Single\",IF('Simplified Loader'!I236=\"Family\",\"Family\",IF('Simplified Loader'!I236=\"Waive\",\"Family\",IF('Simplified Loader'!I236=\"Monoparental\",\"Family\",IF('Simplified Loader'!I236=\"Couple\",\"Family\",IF('Simplified Loader'!I236=\"In force\",\"Family\",IF('Simplified Loader'!I236=\"Applies\",\"Family\",IF('Simplified Loader'!I236=\"Applicable\",\"Family\",\"\"))))))))","v":""},null,null,null,null,null,null,null,{"$f":"IF('Simplified Loader'!I236=\"Waive\",\"Yes\",\"\")","v":""}]
[null,null,null,null,null,null,null,null,null,null,null,null,null,{"$f":"IF('Simplified Loader'!I237=\"Single\",\"Single\",IF('Simplified Loader'!I237=\"Family\",\"Family\",IF('Simplified Loader'!I237=\"Waive\",\"Family\",IF('Simplified Loader'!I237=\"Monoparental\",\"Family\",IF('Simplified Loader'!I237=\"Couple\",\"Family\",IF('Simplified Loader'!I237=\"In force\",\"Family\",IF('Simplified Loader'!I237=\"Applies\",\"Family\",IF('Simplified Loader'!I237=\"Applicable\",\"Family\",\"\"))))))))","v":""},null,null,null,null,null,null,null,{"$f":"IF('Simplified Loader'!I237=\"Waive\",\"Yes\",\"\")","v":""}]
[null,null,null,null,null,null,null,null,null,null,null,null,null,{"$f":"IF('Simplified Loader'!I238=\"Single\",\"Single\",IF('Simplified Loader'!I238=\"Family\",\"Family\",IF('Simplified Loader'!I238=\"Waive\",\"Family\",IF('Simplified Loader'!I238=\"Monoparental\",\"Family\",IF('Simplified Loader'!I238=\"Couple\",\"Family\",IF('Simplified Loader'!I238=\"In force\",\"Family\",IF('Simplified Loader'!I238=\"Applies\",\"Family\",IF('Simplified Loader'!I238=\"Applicable\",\"Family\",\"\"))))))))","v":""},null,null,null,null,null,null,null,{"$f":"IF('Simplified Loader'!I238=\"Waive\",\"Yes\",\"\")","v":""}]
[null,null,null,null,null,null,null,null,null,null,null,null,null,{"$f":"IF('Simplified Loader'!I239=\"Single\",\"Single\",IF('Simplified Loader'!I239=\"Family\",\"Family\",IF('Simplified Loader'!I239=\"Waive\",\"Family\",IF('Simplified Loader'!I239=\"Monoparental\",\"Family\",IF('Simplified Loader'!I239=\"Couple\",\"Family\",IF('Simplified Loader'!I239=\"In force\",\"Family\",IF('Simplified Loader'!I239=\"Applies\",\"Family\",IF('Simplified Loader'!I239=\"Applicable\",\"Family\",\"\"))))))))","v":""},null,null,null,null,null,null,null,{"$f":"IF('Simplified Loader'!I239=\"Waive\",\"Yes\",\"\")","v":""}]
[null,null,null,null,null,null,null,null,null,null,null,null,null,{"$f":"IF('Simplified Loader'!I240=\"Single\",\"Single\",IF('Simplified Loader'!I240=\"Family\",\"Family\",IF('Simplified Loader'!I240=\"Waive\",\"Family\",IF('Simplified Loader'!I240=\"Monoparental\",\"Family\",IF('Simplified Loader'!I240=\"Couple\",\"Family\",IF('Simplified Loader'!I240=\"In force\",\"Family\",IF('Simplified Loader'!I240=\"Applies\",\"Family\",IF('Simplified Loader'!I240=\"Applicable\",\"Family\",\"\"))))))))","v":""},null,null,null,null,null,null,null,{"$f":"IF('Simplified Loader'!I240=\"Waive\",\"Yes\",\"\")","v":""}]
[null,null,null,null,null,null,null,null,null,null,null,null,null,{"$f":"IF('Simplified Loader'!I241=\"Single\",\"Single\",IF('Simplified Loader'!I241=\"Family\",\"Family\",IF('Simplified Loader'!I241=\"Waive\",\"Family\",IF('Simplified Loader'!I241=\"Monoparental\",\"Family\",IF('Simplified Loader'!I241=\"Couple\",\"Family\",IF('Simplified Loader'!I241=\"In force\",\"Family\",IF('Simplified Loader'!I241=\"Applies\",\"Family\",IF('Simplified Loader'!I241=\"Applicable\",\"Family\",\"\"))))))))","v":""},null,null,null,null,null,null,null,{"$f":"IF('Simplified Loader'!I241=\"Waive\",\"Yes\",\"\")","v":""}]
[null,null,null,null,null,null,null,null,null,null,null,null,null,{"$f":"IF('Simplified Loader'!I242=\"Single\",\"Single\",IF('Simplified Loader'!I242=\"Family\",\"Family\",IF('Simplified Loader'!I242=\"Waive\",\"Family\",IF('Simplified Loader'!I242=\"Monoparental\",\"Family\",IF('Simplified Loader'!I242=\"Couple\",\"Family\",IF('Simplified Loader'!I242=\"In force\",\"Family\",IF('Simplified Loader'!I242=\"Applies\",\"Family\",IF('Simplified Loader'!I242=\"Applicable\",\"Family\",\"\"))))))))","v":""},null,null,null,null,null,null,null,{"$f":"IF('Simplified Loader'!I242=\"Waive\",\"Yes\",\"\")","v":""}]
[null,null,null,null,null,null,null,null,null,null,null,null,null,{"$f":"IF('Simplified Loader'!I243=\"Single\",\"Single\",IF('Simplified Loader'!I243=\"Family\",\"Family\",IF('Simplified Loader'!I243=\"Waive\",\"Family\",IF('Simplified Loader'!I243=\"Monoparental\",\"Family\",IF('Simplified Loader'!I243=\"Couple\",\"Family\",IF('Simplified Loader'!I243=\"In force\",\"Family\",IF('Simplified Loader'!I243=\"Applies\",\"Family\",IF('Simplified Loader'!I243=\"Applicable\",\"Family\",\"\"))))))))","v":""},null,null,null,null,null,null,null,{"$f":"IF('Simplified Loader'!I243=\"Waive\",\"Yes\",\"\")","v":""}]
[null,null,null,null,null,null,null,null,null,null,null,null,null,{"$f":"IF('Simplified Loader'!I244=\"Single\",\"Single\",IF('Simplified Loader'!I244=\"Family\",\"Family\",IF('Simplified Loader'!I244=\"Waive\",\"Family\",IF('Simplified Loader'!I244=\"Monoparental\",\"Family\",IF('Simplified Loader'!I244=\"Couple\",\"Family\",IF('Simplified Loader'!I244=\"In force\",\"Family\",IF('Simplified Loader'!I244=\"Applies\",\"Family\",IF('Simplified Loader'!I244=\"Applicable\",\"Family\",\"\"))))))))","v":""},null,null,null,null,null,null,null,{"$f":"IF('Simplified Loader'!I244=\"Waive\",\"Yes\",\"\")","v":""}]
[null,null,null,null,null,null,null,null,null,null,null,null,null,{"$f":"IF('Simplified Loader'!I245=\"Single\",\"Single\",IF('Simplified Loader'!I245=\"Family\",\"Family\",IF('Simplified Loader'!I245=\"Waive\",\"Family\",IF('Simplified Loader'!I245=\"Monoparental\",\"Family\",IF('Simplified Loader'!I245=\"Couple\",\"Family\",IF('Simplified Loader'!I245=\"In force\",\"Family\",IF('Simplified Loader'!I245=\"Applies\",\"Family\",IF('Simplified Loader'!I245=\"Applicable\",\"Family\",\"\"))))))))","v":""},null,null,null,null,null,null,null,{"$f":"IF('Simplified Loader'!I245=\"Waive\",\"Yes\",\"\")","v":""}]
[null,null,null,null,null,null,null,null,null,null,null,null,null,{"$f":"IF('Simplified Loader'!I246=\"Single\",\"Single\",IF('Simplified Loader'!I246=\"Family\",\"Family\",IF('Simplified Loader'!I246=\"Waive\",\"Family\",IF('Simplified Loader'!I246=\"Monoparental\",\"Family\",IF('Simplified Loader'!I246=\"Couple\",\"Family\",IF('Simplified Loader'!I246=\"In force\",\"Family\",IF('Simplified Loader'!I246=\"Applies\",\"Family\",IF('Simplified Loader'!I246=\"Applicable\",\"Family\",\"\"))))))))","v":""},null,null,null,null,null,null,null,{"$f":"IF('Simplified Loader'!I246=\"Waive\",\"Yes\",\"\")","v":""}]
[null,null,null,null,null,null,null,null,null,null,null,null,null,{"$f":"IF('Simplified Loader'!I247=\"Single\",\"Single\",IF('Simplified Loader'!I247=\"Family\",\"Family\",IF('Simplified Loader'!I247=\"Waive\",\"Family\",IF('Simplified Loader'!I247=\"Monoparental\",\"Family\",IF('Simplified Loader'!I247=\"Couple\",\"Family\",IF('Simplified Loader'!I247=\"In force\",\"Family\",IF('Simplified Loader'!I247=\"Applies\",\"Family\",IF('Simplified Loader'!I247=\"Applicable\",\"Family\",\"\"))))))))","v":""},null,null,null,null,null,null,null,{"$f":"IF('Simplified Loader'!I247=\"Waive\",\"Yes\",\"\")","v":""}]
[null,null,null,null,null,null,null,null,null,null,null,null,null,{"$f":"IF('Simplified Loader'!I248=\"Single\",\"Single\",IF('Simplified Loader'!I248=\"Family\",\"Family\",IF('Simplified Loader'!I248=\"Waive\",\"Family\",IF('Simplified Loader'!I248=\"Monoparental\",\"Family\",IF('Simplified Loader'!I248=\"Couple\",\"Family\",IF('Simplified Loader'!I248=\"In force\",\"Family\",IF('Simplified Loader'!I248=\"Applies\",\"Family\",IF('Simplified Loader'!I248=\"Applicable\",\"Family\",\"\"))))))))","v":""},null,null,null,null,null,null,null,{"$f":"IF('Simplified Loader'!I248=\"Waive\",\"Yes\",\"\")","v":""}]
[null,null,null,null,null,null,null,null,null,null,null,null,null,{"$f":"IF('Simplified Loader'!I249=\"Single\",\"Single\",IF('Simplified Loader'!I249=\"Family\",\"Family\",IF('Simplified Loader'!I249=\"Waive\",\"Family\",IF('Simplified Loader'!I249=\"Monoparental\",\"Family\",IF('Simplified Loader'!I249=\"Couple\",\"Family\",IF('Simplified Loader'!I249=\"In force\",\"Family\",IF('Simplified Loader'!I249=\"Applies\",\"Family\",IF('Simplified Loader'!I249=\"Applicable\",\"Family\",\"\"))))))))","v":""},null,null,null,null,null,null,null,{"$f":"IF('Simplified Loader'!I249=\"Waive\",\"Yes\",\"\")","v":""}]
[null,null,null,null,null,null,null,null,null,null,null,null,null,{"$f":"IF('Simplified Loader'!I250=\"Single\",\"Single\",IF('Simplified Loader'!I250=\"Family\",\"Family\",IF('Simplified Loader'!I250=\"Waive\",\"Family\",IF('Simplified Loader'!I250=\"Monoparental\",\"Family\",IF('Simplified Loader'!I250=\"Couple\",\"Family\",IF('Simplified Loader'!I250=\"In force\",\"Family\",IF('Simplified Loader'!I250=\"Applies\",\"Family\",IF('Simplified Loader'!I250=\"Applicable\",\"Family\",\"\"))))))))","v":""},null,null,null,null,null,null,null,{"$f":"IF('Simplified Loader'!I250=\"Waive\",\"Yes\",\"\")","v":""}]
[null,null,null,null,null,null,null,null,null,null,null,null,null,{"$f":"IF('Simplified Loader'!I251=\"Single\",\"Single\",IF('Simplified Loader'!I251=\"Family\",\"Family\",IF('Simplified Loader'!I251=\"Waive\",\"Family\",IF('Simplified Loader'!I251=\"Monoparental\",\"Family\",IF('Simplified Loader'!I251=\"Couple\",\"Family\",IF('Simplified Loader'!I251=\"In force\",\"Family\",IF('Simplified Loader'!I251=\"Applies\",\"Family\",IF('Simplified Loader'!I251=\"Applicable\",\"Family\",\"\"))))))))","v":""},null,null,null,null,null,null,null,{"$f":"IF('Simplified Loader'!I251=\"Waive\",\"Yes\",\"\")","v":""}]
[null,null,null,null,null,null,null,null,null,null,null,null,null,{"$f":"IF('Simplified Loader'!I252=\"Single\",\"Single\",IF('Simplified Loader'!I252=\"Family\",\"Family\",IF('Simplified Loader'!I252=\"Waive\",\"Family\",IF('Simplified Loader'!I252=\"Monoparental\",\"Family\",IF('Simplified Loader'!I252=\"Couple\",\"Family\",IF('Simplified Loader'!I252=\"In force\",\"Family\",IF('Simplified Loader'!I252=\"Applies\",\"Family\",IF('Simplified Loader'!I252=\"Applicable\",\"Family\",\"\"))))))))","v":""},null,null,null,null,null,null,null,{"$f":"IF('Simplified Loader'!I252=\"Waive\",\"Yes\",\"\")","v":""}]
[null,null,null,null,null,null,null,null,null,null,null,null,null,{"$f":"IF('Simplified Loader'!I253=\"Single\",\"Single\",IF('Simplified Loader'!I253=\"Family\",\"Family\",IF('Simplified Loader'!I253=\"Waive\",\"Family\",IF('Simplified Loader'!I253=\"Monoparental\",\"Family\",IF('Simplified Loader'!I253=\"Couple\",\"Family\",IF('Simplified Loader'!I253=\"In force\",\"Family\",IF('Simplified Loader'!I253=\"Applies\",\"Family\",IF('Simplified Loader'!I253=\"Applicable\",\"Family\",\"\"))))))))","v":""},null,null,null,null,null,null,null,{"$f":"IF('Simplified Loader'!I253=\"Waive\",\"Yes\",\"\")","v":""}]
[null,null,null,null,null,null,null,null,null,null,null,null,null,{"$f":"IF('Simplified Loader'!I254=\"Single\",\"Single\",IF('Simplified Loader'!I254=\"Family\",\"Family\",IF('Simplified Loader'!I254=\"Waive\",\"Family\",IF('Simplified Loader'!I254=\"Monoparental\",\"Family\",IF('Simplified Loader'!I254=\"Couple\",\"Family\",IF('Simplified Loader'!I254=\"In force\",\"Family\",IF('Simplified Loader'!I254=\"Applies\",\"Family\",IF('Simplified Loader'!I254=\"Applicable\",\"Family\",\"\"))))))))","v":""},null,null,null,null,null,null,null,{"$f":"IF('Simplified Loader'!I254=\"Waive\",\"Yes\",\"\")","v":""}]
[null,null,null,null,null,null,null,null,null,null,null,null,null,{"$f":"IF('Simplified Loader'!I255=\"Single\",\"Single\",IF('Simplified Loader'!I255=\"Family\",\"Family\",IF('Simplified Loader'!I255=\"Waive\",\"Family\",IF('Simplified Loader'!I255=\"Monoparental\",\"Family\",IF('Simplified Loader'!I255=\"Couple\",\"Family\",IF('Simplified Loader'!I255=\"In force\",\"Family\",IF('Simplified Loader'!I255=\"Applies\",\"Family\",IF('Simplified Loader'!I255=\"Applicable\",\"Family\",\"\"))))))))","v":""},null,null,null,null,null,null,null,{"$f":"IF('Simplified Loader'!I255=\"Waive\",\"Yes\",\"\")","v":""}]
[null,null,null,null,null,null,null,null,null,null,null,null,null,{"$f":"IF('Simplified Loader'!I256=\"Single\",\"Single\",IF('Simplified Loader'!I256=\"Family\",\"Family\",IF('Simplified Loader'!I256=\"Waive\",\"Family\",IF('Simplified Loader'!I256=\"Monoparental\",\"Family\",IF('Simplified Loader'!I256=\"Couple\",\"Family\",IF('Simplified Loader'!I256=\"In force\",\"Family\",IF('Simplified Loader'!I256=\"Applies\",\"Family\",IF('Simplified Loader'!I256=\"Applicable\",\"Family\",\"\"))))))))","v":""},null,null,null,null,null,null,null,{"$f":"IF('Simplified Loader'!I256=\"Waive\",\"Yes\",\"\")","v":""}]
[null,null,null,null,null,null,null,null,null,null,null,null,null,{"$f":"IF('Simplified Loader'!I257=\"Single\",\"Single\",IF('Simplified Loader'!I257=\"Family\",\"Family\",IF('Simplified Loader'!I257=\"Waive\",\"Family\",IF('Simplified Loader'!I257=\"Monoparental\",\"Family\",IF('Simplified Loader'!I257=\"Couple\",\"Family\",IF('Simplified Loader'!I257=\"In force\",\"Family\",IF('Simplified Loader'!I257=\"Applies\",\"Family\",IF('Simplified Loader'!I257=\"Applicable\",\"Family\",\"\"))))))))","v":""},null,null,null,null,null,null,null,{"$f":"IF('Simplified Loader'!I257=\"Waive\",\"Yes\",\"\")","v":""}]
[null,null,null,null,null,null,null,null,null,null,null,null,null,{"$f":"IF('Simplified Loader'!I258=\"Single\",\"Single\",IF('Simplified Loader'!I258=\"Family\",\"Family\",IF('Simplified Loader'!I258=\"Waive\",\"Family\",IF('Simplified Loader'!I258=\"Monoparental\",\"Family\",IF('Simplified Loader'!I258=\"Couple\",\"Family\",IF('Simplified Loader'!I258=\"In force\",\"Family\",IF('Simplified Loader'!I258=\"Applies\",\"Family\",IF('Simplified Loader'!I258=\"Applicable\",\"Family\",\"\"))))))))","v":""},null,null,null,null,null,null,null,{"$f":"IF('Simplified Loader'!I258=\"Waive\",\"Yes\",\"\")","v":""}]
[null,null,null,null,null,null,null,null,null,null,null,null,null,{"$f":"IF('Simplified Loader'!I259=\"Single\",\"Single\",IF('Simplified Loader'!I259=\"Family\",\"Family\",IF('Simplified Loader'!I259=\"Waive\",\"Family\",IF('Simplified Loader'!I259=\"Monoparental\",\"Family\",IF('Simplified Loader'!I259=\"Couple\",\"Family\",IF('Simplified Loader'!I259=\"In force\",\"Family\",IF('Simplified Loader'!I259=\"Applies\",\"Family\",IF('Simplified Loader'!I259=\"Applicable\",\"Family\",\"\"))))))))","v":""},null,null,null,null,null,null,null,{"$f":"IF('Simplified Loader'!I259=\"Waive\",\"Yes\",\"\")","v":""}]
[null,null,null,null,null,null,null,null,null,null,null,null,null,{"$f":"IF('Simplified Loader'!I260=\"Single\",\"Single\",IF('Simplified Loader'!I260=\"Family\",\"Family\",IF('Simplified Loader'!I260=\"Waive\",\"Family\",IF('Simplified Loader'!I260=\"Monoparental\",\"Family\",IF('Simplified Loader'!I260=\"Couple\",\"Family\",IF('Simplified Loader'!I260=\"In force\",\"Family\",IF('Simplified Loader'!I260=\"Applies\",\"Family\",IF('Simplified Loader'!I260=\"Applicable\",\"Family\",\"\"))))))))","v":""},null,null,null,null,null,null,null,{"$f":"IF('Simplified Loader'!I260=\"Waive\",\"Yes\",\"\")","v":""}]
[null,null,null,null,null,null,null,null,null,null,null,null,null,{"$f":"IF('Simplified Loader'!I261=\"Single\",\"Single\",IF('Simplified Loader'!I261=\"Family\",\"Family\",IF('Simplified Loader'!I261=\"Waive\",\"Family\",IF('Simplified Loader'!I261=\"Monoparental\",\"Family\",IF('Simplified Loader'!I261=\"Couple\",\"Family\",IF('Simplified Loader'!I261=\"In force\",\"Family\",IF('Simplified Loader'!I261=\"Applies\",\"Family\",IF('Simplified Loader'!I261=\"Applicable\",\"Family\",\"\"))))))))","v":""},null,null,null,null,null,null,null,{"$f":"IF('Simplified Loader'!I261=\"Waive\",\"Yes\",\"\")","v":""}]
[null,null,null,null,null,null,null,null,null,null,null,null,null,{"$f":"IF('Simplified Loader'!I262=\"Single\",\"Single\",IF('Simplified Loader'!I262=\"Family\",\"Family\",IF('Simplified Loader'!I262=\"Waive\",\"Family\",IF('Simplified Loader'!I262=\"Monoparental\",\"Family\",IF('Simplified Loader'!I262=\"Couple\",\"Family\",IF('Simplified Loader'!I262=\"In force\",\"Family\",IF('Simplified Loader'!I262=\"Applies\",\"Family\",IF('Simplified Loader'!I262=\"Applicable\",\"Family\",\"\"))))))))","v":""},null,null,null,null,null,null,null,{"$f":"IF('Simplified Loader'!I262=\"Waive\",\"Yes\",\"\")","v":""}]
[null,null,null,null,null,null,null,null,null,null,null,null,null,{"$f":"IF('Simplified Loader'!I263=\"Single\",\"Single\",IF('Simplified Loader'!I263=\"Family\",\"Family\",IF('Simplified Loader'!I263=\"Waive\",\"Family\",IF('Simplified Loader'!I263=\"Monoparental\",\"Family\",IF('Simplified Loader'!I263=\"Couple\",\"Family\",IF('Simplified Loader'!I263=\"In force\",\"Family\",IF('Simplified Loader'!I263=\"Applies\",\"Family\",IF('Simplified Loader'!I263=\"Applicable\",\"Family\",\"\"))))))))","v":""},null,null,null,null,null,null,null,{"$f":"IF('Simplified Loader'!I263=\"Waive\",\"Yes\",\"\")","v":""}]
[null,null,null,null,null,null,null,null,null,null,null,null,null,{"$f":"IF('Simplified Loader'!I264=\"Single\",\"Single\",IF('Simplified Loader'!I264=\"Family\",\"Family\",IF('Simplified Loader'!I264=\"Waive\",\"Family\",IF('Simplified Loader'!I264=\"Monoparental\",\"Family\",IF('Simplified Loader'!I264=\"Couple\",\"Family\",IF('Simplified Loader'!I264=\"In force\",\"Family\",IF('Simplified Loader'!I264=\"Applies\",\"Family\",IF('Simplified Loader'!I264=\"Applicable\",\"Family\",\"\"))))))))","v":""},null,null,null,null,null,null,null,{"$f":"IF('Simplified Loader'!I264=\"Waive\",\"Yes\",\"\")","v":""}]
[null,null,null,null,null,null,null,null,null,null,null,null,null,{"$f":"IF('Simplified Loader'!I265=\"Single\",\"Single\",IF('Simplified Loader'!I265=\"Family\",\"Family\",IF('Simplified Loader'!I265=\"Waive\",\"Family\",IF('Simplified Loader'!I265=\"Monoparental\",\"Family\",IF('Simplified Loader'!I265=\"Couple\",\"Family\",IF('Simplified Loader'!I265=\"In force\",\"Family\",IF('Simplified Loader'!I265=\"Applies\",\"Family\",IF('Simplified Loader'!I265=\"Applicable\",\"Family\",\"\"))))))))","v":""},null,null,null,null,null,null,null,{"$f":"IF('Simplified Loader'!I265=\"Waive\",\"Yes\",\"\")","v":""}]
[null,null,null,null,null,null,null,null,null,null,null,null,null,{"$f":"IF('Simplified Loader'!I266=\"Single\",\"Single\",IF('Simplified Loader'!I266=\"Family\",\"Family\",IF('Simplified Loader'!I266=\"Waive\",\"Family\",IF('Simplified Loader'!I266=\"Monoparental\",\"Family\",IF('Simplified Loader'!I266=\"Couple\",\"Family\",IF('Simplified Loader'!I266=\"In force\",\"Family\",IF('Simplified Loader'!I266=\"Applies\",\"Family\",IF('Simplified Loader'!I266=\"Applicable\",\"Family\",\"\"))))))))","v":""},null,null,null,null,null,null,null,{"$f":"IF('Simplified Loader'!I266=\"Waive\",\"Yes\",\"\")","v":""}]
[null,null,null,null,null,null,null,null,null,null,null,null,null,{"$f":"IF('Simplified Loader'!I267=\"Single\",\"Single\",IF('Simplified Loader'!I267=\"Family\",\"Family\",IF('Simplified Loader'!I267=\"Waive\",\"Family\",IF('Simplified Loader'!I267=\"Monoparental\",\"Family\",IF('Simplified Loader'!I267=\"Couple\",\"Family\",IF('Simplified Loader'!I267=\"In force\",\"Family\",IF('Simplified Loader'!I267=\"Applies\",\"Family\",IF('Simplified Loader'!I267=\"Applicable\",\"Family\",\"\"))))))))","v":""},null,null,null,null,null,null,null,{"$f":"IF('Simplified Loader'!I267=\"Waive\",\"Yes\",\"\")","v":""}]
[null,null,null,null,null,null,null,null,null,null,null,null,null,{"$f":"IF('Simplified Loader'!I268=\"Single\",\"Single\",IF('Simplified Loader'!I268=\"Family\",\"Family\",IF('Simplified Loader'!I268=\"Waive\",\"Family\",IF('Simplified Loader'!I268=\"Monoparental\",\"Family\",IF('Simplified Loader'!I268=\"Couple\",\"Family\",IF('Simplified Loader'!I268=\"In force\",\"Family\",IF('Simplified Loader'!I268=\"Applies\",\"Family\",IF('Simplified Loader'!I268=\"Applicable\",\"Family\",\"\"))))))))","v":""},null,null,null,null,null,null,null,{"$f":"IF('Simplified Loader'!I268=\"Waive\",\"Yes\",\"\")","v":""}]
[null,null,null,null,null,null,null,null,null,null,null,null,null,{"$f":"IF('Simplified Loader'!I269=\"Single\",\"Single\",IF('Simplified Loader'!I269=\"Family\",\"Family\",IF('Simplified Loader'!I269=\"Waive\",\"Family\",IF('Simplified Loader'!I269=\"Monoparental\",\"Family\",IF('Simplified Loader'!I269=\"Couple\",\"Family\",IF('Simplified Loader'!I269=\"In force\",\"Family\",IF('Simplified Loader'!I269=\"Applies\",\"Family\",IF('Simplified Loader'!I269=\"Applicable\",\"Family\",\"\"))))))))","v":""},null,null,null,null,null,null,null,{"$f":"IF('Simplified Loader'!I269=\"Waive\",\"Yes\",\"\")","v":""}]
[null,null,null,null,null,null,null,null,null,null,null,null,null,{"$f":"IF('Simplified Loader'!I270=\"Single\",\"Single\",IF('Simplified Loader'!I270=\"Family\",\"Family\",IF('Simplified Loader'!I270=\"Waive\",\"Family\",IF('Simplified Loader'!I270=\"Monoparental\",\"Family\",IF('Simplified Loader'!I270=\"Couple\",\"Family\",IF('Simplified Loader'!I270=\"In force\",\"Family\",IF('Simplified Loader'!I270=\"Applies\",\"Family\",IF('Simplified Loader'!I270=\"Applicable\",\"Family\",\"\"))))))))","v":""},null,null,null,null,null,null,null,{"$f":"IF('Simplified Loader'!I270=\"Waive\",\"Yes\",\"\")","v":""}]
[null,null,null,null,null,null,null,null,null,null,null,null,null,{"$f":"IF('Simplified Loader'!I271=\"Single\",\"Single\",IF('Simplified Loader'!I271=\"Family\",\"Family\",IF('Simplified Loader'!I271=\"Waive\",\"Family\",IF('Simplified Loader'!I271=\"Monoparental\",\"Family\",IF('Simplified Loader'!I271=\"Couple\",\"Family\",IF('Simplified Loader'!I271=\"In force\",\"Family\",IF('Simplified Loader'!I271=\"Applies\",\"Family\",IF('Simplified Loader'!I271=\"Applicable\",\"Family\",\"\"))))))))","v":""},null,null,null,null,null,null,null,{"$f":"IF('Simplified Loader'!I271=\"Waive\",\"Yes\",\"\")","v":""}]
[null,null,null,null,null,null,null,null,null,null,null,null,null,{"$f":"IF('Simplified Loader'!I272=\"Single\",\"Single\",IF('Simplified Loader'!I272=\"Family\",\"Family\",IF('Simplified Loader'!I272=\"Waive\",\"Family\",IF('Simplified Loader'!I272=\"Monoparental\",\"Family\",IF('Simplified Loader'!I272=\"Couple\",\"Family\",IF('Simplified Loader'!I272=\"In force\",\"Family\",IF('Simplified Loader'!I272=\"Applies\",\"Family\",IF('Simplified Loader'!I272=\"Applicable\",\"Family\",\"\"))))))))","v":""},null,null,null,null,null,null,null,{"$f":"IF('Simplified Loader'!I272=\"Waive\",\"Yes\",\"\")","v":""}]
[null,null,null,null,null,null,null,null,null,null,null,null,null,{"$f":"IF('Simplified Loader'!I273=\"Single\",\"Single\",IF('Simplified Loader'!I273=\"Family\",\"Family\",IF('Simplified Loader'!I273=\"Waive\",\"Family\",IF('Simplified Loader'!I273=\"Monoparental\",\"Family\",IF('Simplified Loader'!I273=\"Couple\",\"Family\",IF('Simplified Loader'!I273=\"In force\",\"Family\",IF('Simplified Loader'!I273=\"Applies\",\"Family\",IF('Simplified Loader'!I273=\"Applicable\",\"Family\",\"\"))))))))","v":""},null,null,null,null,null,null,null,{"$f":"IF('Simplified Loader'!I273=\"Waive\",\"Yes\",\"\")","v":""}]
[null,null,null,null,null,null,null,null,null,null,null,null,null,{"$f":"IF('Simplified Loader'!I274=\"Single\",\"Single\",IF('Simplified Loader'!I274=\"Family\",\"Family\",IF('Simplified Loader'!I274=\"Waive\",\"Family\",IF('Simplified Loader'!I274=\"Monoparental\",\"Family\",IF('Simplified Loader'!I274=\"Couple\",\"Family\",IF('Simplified Loader'!I274=\"In force\",\"Family\",IF('Simplified Loader'!I274=\"Applies\",\"Family\",IF('Simplified Loader'!I274=\"Applicable\",\"Family\",\"\"))))))))","v":""},null,null,null,null,null,null,null,{"$f":"IF('Simplified Loader'!I274=\"Waive\",\"Yes\",\"\")","v":""}]
[null,null,null,null,null,null,null,null,null,null,null,null,null,{"$f":"IF('Simplified Loader'!I275=\"Single\",\"Single\",IF('Simplified Loader'!I275=\"Family\",\"Family\",IF('Simplified Loader'!I275=\"Waive\",\"Family\",IF('Simplified Loader'!I275=\"Monoparental\",\"Family\",IF('Simplified Loader'!I275=\"Couple\",\"Family\",IF('Simplified Loader'!I275=\"In force\",\"Family\",IF('Simplified Loader'!I275=\"Applies\",\"Family\",IF('Simplified Loader'!I275=\"Applicable\",\"Family\",\"\"))))))))","v":""},null,null,null,null,null,null,null,{"$f":"IF('Simplified Loader'!I275=\"Waive\",\"Yes\",\"\")","v":""}]
[null,null,null,null,null,null,null,null,null,null,null,null,null,{"$f":"IF('Simplified Loader'!I276=\"Single\",\"Single\",IF('Simplified Loader'!I276=\"Family\",\"Family\",IF('Simplified Loader'!I276=\"Waive\",\"Family\",IF('Simplified Loader'!I276=\"Monoparental\",\"Family\",IF('Simplified Loader'!I276=\"Couple\",\"Family\",IF('Simplified Loader'!I276=\"In force\",\"Family\",IF('Simplified Loader'!I276=\"Applies\",\"Family\",IF('Simplified Loader'!I276=\"Applicable\",\"Family\",\"\"))))))))","v":""},null,null,null,null,null,null,null,{"$f":"IF('Simplified Loader'!I276=\"Waive\",\"Yes\",\"\")","v":""}]
[null,null,null,null,null,null,null,null,null,null,null,null,null,{"$f":"IF('Simplified Loader'!I277=\"Single\",\"Single\",IF('Simplified Loader'!I277=\"Family\",\"Family\",IF('Simplified Loader'!I277=\"Waive\",\"Family\",IF('Simplified Loader'!I277=\"Monoparental\",\"Family\",IF('Simplified Loader'!I277=\"Couple\",\"Family\",IF('Simplified Loader'!I277=\"In force\",\"Family\",IF('Simplified Loader'!I277=\"Applies\",\"Family\",IF('Simplified Loader'!I277=\"Applicable\",\"Family\",\"\"))))))))","v":""},null,null,null,null,null,null,null,{"$f":"IF('Simplified Loader'!I277=\"Waive\",\"Yes\",\"\")","v":""}]
[null,null,null,null,null,null,null,null,null,null,null,null,null,{"$f":"IF('Simplified Loader'!I278=\"Single\",\"Single\",IF('Simplified Loader'!I278=\"Family\",\"Family\",IF('Simplified Loader'!I278=\"Waive\",\"Family\",IF('Simplified Loader'!I278=\"Monoparental\",\"Family\",IF('Simplified Loader'!I278=\"Couple\",\"Family\",IF('Simplified Loader'!I278=\"In force\",\"Family\",IF('Simplified Loader'!I278=\"Applies\",\"Family\",IF('Simplified Loader'!I278=\"Applicable\",\"Family\",\"\"))))))))","v":""},null,null,null,null,null,null,null,{"$f":"IF('Simplified Loader'!I278=\"Waive\",\"Yes\",\"\")","v":""}]
[null,null,null,null,null,null,null,null,null,null,null,null,null,{"$f":"IF('Simplified Loader'!I279=\"Single\",\"Single\",IF('Simplified Loader'!I279=\"Family\",\"Family\",IF('Simplified Loader'!I279=\"Waive\",\"Family\",IF('Simplified Loader'!I279=\"Monoparental\",\"Family\",IF('Simplified Loader'!I279=\"Couple\",\"Family\",IF('Simplified Loader'!I279=\"In force\",\"Family\",IF('Simplified Loader'!I279=\"Applies\",\"Family\",IF('Simplified Loader'!I279=\"Applicable\",\"Family\",\"\"))))))))","v":""},null,null,null,null,null,null,null,{"$f":"IF('Simplified Loader'!I279=\"Waive\",\"Yes\",\"\")","v":""}]
[null,null,null,null,null,null,null,null,null,null,null,null,null,{"$f":"IF('Simplified Loader'!I280=\"Single\",\"Single\",IF('Simplified Loader'!I280=\"Family\",\"Family\",IF('Simplified Loader'!I280=\"Waive\",\"Family\",IF('Simplified Loader'!I280=\"Monoparental\",\"Family\",IF('Simplified Loader'!I280=\"Couple\",\"Family\",IF('Simplified Loader'!I280=\"In force\",\"Family\",IF('Simplified Loader'!I280=\"Applies\",\"Family\",IF('Simplified Loader'!I280=\"Applicable\",\"Family\",\"\"))))))))","v":""},null,null,null,null,null,null,null,{"$f":"IF('Simplified Loader'!I280=\"Waive\",\"Yes\",\"\")","v":""}]
[null,null,null,null,null,null,null,null,null,null,null,null,null,{"$f":"IF('Simplified Loader'!I281=\"Single\",\"Single\",IF('Simplified Loader'!I281=\"Family\",\"Family\",IF('Simplified Loader'!I281=\"Waive\",\"Family\",IF('Simplified Loader'!I281=\"Monoparental\",\"Family\",IF('Simplified Loader'!I281=\"Couple\",\"Family\",IF('Simplified Loader'!I281=\"In force\",\"Family\",IF('Simplified Loader'!I281=\"Applies\",\"Family\",IF('Simplified Loader'!I281=\"Applicable\",\"Family\",\"\"))))))))","v":""},null,null,null,null,null,null,null,{"$f":"IF('Simplified Loader'!I281=\"Waive\",\"Yes\",\"\")","v":""}]
[null,null,null,null,null,null,null,null,null,null,null,null,null,{"$f":"IF('Simplified Loader'!I282=\"Single\",\"Single\",IF('Simplified Loader'!I282=\"Family\",\"Family\",IF('Simplified Loader'!I282=\"Waive\",\"Family\",IF('Simplified Loader'!I282=\"Monoparental\",\"Family\",IF('Simplified Loader'!I282=\"Couple\",\"Family\",IF('Simplified Loader'!I282=\"In force\",\"Family\",IF('Simplified Loader'!I282=\"Applies\",\"Family\",IF('Simplified Loader'!I282=\"Applicable\",\"Family\",\"\"))))))))","v":""},null,null,null,null,null,null,null,{"$f":"IF('Simplified Loader'!I282=\"Waive\",\"Yes\",\"\")","v":""}]
[null,null,null,null,null,null,null,null,null,null,null,null,null,{"$f":"IF('Simplified Loader'!I283=\"Single\",\"Single\",IF('Simplified Loader'!I283=\"Family\",\"Family\",IF('Simplified Loader'!I283=\"Waive\",\"Family\",IF('Simplified Loader'!I283=\"Monoparental\",\"Family\",IF('Simplified Loader'!I283=\"Couple\",\"Family\",IF('Simplified Loader'!I283=\"In force\",\"Family\",IF('Simplified Loader'!I283=\"Applies\",\"Family\",IF('Simplified Loader'!I283=\"Applicable\",\"Family\",\"\"))))))))","v":""},null,null,null,null,null,null,null,{"$f":"IF('Simplified Loader'!I283=\"Waive\",\"Yes\",\"\")","v":""}]
[null,null,null,null,null,null,null,null,null,null,null,null,null,{"$f":"IF('Simplified Loader'!I284=\"Single\",\"Single\",IF('Simplified Loader'!I284=\"Family\",\"Family\",IF('Simplified Loader'!I284=\"Waive\",\"Family\",IF('Simplified Loader'!I284=\"Monoparental\",\"Family\",IF('Simplified Loader'!I284=\"Couple\",\"Family\",IF('Simplified Loader'!I284=\"In force\",\"Family\",IF('Simplified Loader'!I284=\"Applies\",\"Family\",IF('Simplified Loader'!I284=\"Applicable\",\"Family\",\"\"))))))))","v":""},null,null,null,null,null,null,null,{"$f":"IF('Simplified Loader'!I284=\"Waive\",\"Yes\",\"\")","v":""}]
[null,null,null,null,null,null,null,null,null,null,null,null,null,{"$f":"IF('Simplified Loader'!I285=\"Single\",\"Single\",IF('Simplified Loader'!I285=\"Family\",\"Family\",IF('Simplified Loader'!I285=\"Waive\",\"Family\",IF('Simplified Loader'!I285=\"Monoparental\",\"Family\",IF('Simplified Loader'!I285=\"Couple\",\"Family\",IF('Simplified Loader'!I285=\"In force\",\"Family\",IF('Simplified Loader'!I285=\"Applies\",\"Family\",IF('Simplified Loader'!I285=\"Applicable\",\"Family\",\"\"))))))))","v":""},null,null,null,null,null,null,null,{"$f":"IF('Simplified Loader'!I285=\"Waive\",\"Yes\",\"\")","v":""}]
[null,null,null,null,null,null,null,null,null,null,null,null,null,{"$f":"IF('Simplified Loader'!I286=\"Single\",\"Single\",IF('Simplified Loader'!I286=\"Family\",\"Family\",IF('Simplified Loader'!I286=\"Waive\",\"Family\",IF('Simplified Loader'!I286=\"Monoparental\",\"Family\",IF('Simplified Loader'!I286=\"Couple\",\"Family\",IF('Simplified Loader'!I286=\"In force\",\"Family\",IF('Simplified Loader'!I286=\"Applies\",\"Family\",IF('Simplified Loader'!I286=\"Applicable\",\"Family\",\"\"))))))))","v":""},null,null,null,null,null,null,null,{"$f":"IF('Simplified Loader'!I286=\"Waive\",\"Yes\",\"\")","v":""}]
[null,null,null,null,null,null,null,null,null,null,null,null,null,{"$f":"IF('Simplified Loader'!I287=\"Single\",\"Single\",IF('Simplified Loader'!I287=\"Family\",\"Family\",IF('Simplified Loader'!I287=\"Waive\",\"Family\",IF('Simplified Loader'!I287=\"Monoparental\",\"Family\",IF('Simplified Loader'!I287=\"Couple\",\"Family\",IF('Simplified Loader'!I287=\"In force\",\"Family\",IF('Simplified Loader'!I287=\"Applies\",\"Family\",IF('Simplified Loader'!I287=\"Applicable\",\"Family\",\"\"))))))))","v":""},null,null,null,null,null,null,null,{"$f":"IF('Simplified Loader'!I287=\"Waive\",\"Yes\",\"\")","v":""}]
[null,null,null,null,null,null,null,null,null,null,null,null,null,{"$f":"IF('Simplified Loader'!I288=\"Single\",\"Single\",IF('Simplified Loader'!I288=\"Family\",\"Family\",IF('Simplified Loader'!I288=\"Waive\",\"Family\",IF('Simplified Loader'!I288=\"Monoparental\",\"Family\",IF('Simplified Loader'!I288=\"Couple\",\"Family\",IF('Simplified Loader'!I288=\"In force\",\"Family\",IF('Simplified Loader'!I288=\"Applies\",\"Family\",IF('Simplified Loader'!I288=\"Applicable\",\"Family\",\"\"))))))))","v":""},null,null,null,null,null,null,null,{"$f":"IF('Simplified Loader'!I288=\"Waive\",\"Yes\",\"\")","v":""}]
[null,null,null,null,null,null,null,null,null,null,null,null,null,{"$f":"IF('Simplified Loader'!I289=\"Single\",\"Single\",IF('Simplified Loader'!I289=\"Family\",\"Family\",IF('Simplified Loader'!I289=\"Waive\",\"Family\",IF('Simplified Loader'!I289=\"Monoparental\",\"Family\",IF('Simplified Loader'!I289=\"Couple\",\"Family\",IF('Simplified Loader'!I289=\"In force\",\"Family\",IF('Simplified Loader'!I289=\"Applies\",\"Family\",IF('Simplified Loader'!I289=\"Applicable\",\"Family\",\"\"))))))))","v":""},null,null,null,null,null,null,null,{"$f":"IF('Simplified Loader'!I289=\"Waive\",\"Yes\",\"\")","v":""}]
[null,null,null,null,null,null,null,null,null,null,null,null,null,{"$f":"IF('Simplified Loader'!I290=\"Single\",\"Single\",IF('Simplified Loader'!I290=\"Family\",\"Family\",IF('Simplified Loader'!I290=\"Waive\",\"Family\",IF('Simplified Loader'!I290=\"Monoparental\",\"Family\",IF('Simplified Loader'!I290=\"Couple\",\"Family\",IF('Simplified Loader'!I290=\"In force\",\"Family\",IF('Simplified Loader'!I290=\"Applies\",\"Family\",IF('Simplified Loader'!I290=\"Applicable\",\"Family\",\"\"))))))))","v":""},null,null,null,null,null,null,null,{"$f":"IF('Simplified Loader'!I290=\"Waive\",\"Yes\",\"\")","v":""}]
[null,null,null,null,null,null,null,null,null,null,null,null,null,{"$f":"IF('Simplified Loader'!I291=\"Single\",\"Single\",IF('Simplified Loader'!I291=\"Family\",\"Family\",IF('Simplified Loader'!I291=\"Waive\",\"Family\",IF('Simplified Loader'!I291=\"Monoparental\",\"Family\",IF('Simplified Loader'!I291=\"Couple\",\"Family\",IF('Simplified Loader'!I291=\"In force\",\"Family\",IF('Simplified Loader'!I291=\"Applies\",\"Family\",IF('Simplified Loader'!I291=\"Applicable\",\"Family\",\"\"))))))))","v":""},null,null,null,null,null,null,null,{"$f":"IF('Simplified Loader'!I291=\"Waive\",\"Yes\",\"\")","v":""}]
[null,null,null,null,null,null,null,null,null,null,null,null,null,{"$f":"IF('Simplified Loader'!I292=\"Single\",\"Single\",IF('Simplified Loader'!I292=\"Family\",\"Family\",IF('Simplified Loader'!I292=\"Waive\",\"Family\",IF('Simplified Loader'!I292=\"Monoparental\",\"Family\",IF('Simplified Loader'!I292=\"Couple\",\"Family\",IF('Simplified Loader'!I292=\"In force\",\"Family\",IF('Simplified Loader'!I292=\"Applies\",\"Family\",IF('Simplified Loader'!I292=\"Applicable\",\"Family\",\"\"))))))))","v":""},null,null,null,null,null,null,null,{"$f":"IF('Simplified Loader'!I292=\"Waive\",\"Yes\",\"\")","v":""}]
[null,null,null,null,null,null,null,null,null,null,null,null,null,{"$f":"IF('Simplified Loader'!I293=\"Single\",\"Single\",IF('Simplified Loader'!I293=\"Family\",\"Family\",IF('Simplified Loader'!I293=\"Waive\",\"Family\",IF('Simplified Loader'!I293=\"Monoparental\",\"Family\",IF('Simplified Loader'!I293=\"Couple\",\"Family\",IF('Simplified Loader'!I293=\"In force\",\"Family\",IF('Simplified Loader'!I293=\"Applies\",\"Family\",IF('Simplified Loader'!I293=\"Applicable\",\"Family\",\"\"))))))))","v":""},null,null,null,null,null,null,null,{"$f":"IF('Simplified Loader'!I293=\"Waive\",\"Yes\",\"\")","v":""}]
[null,null,null,null,null,null,null,null,null,null,null,null,null,{"$f":"IF('Simplified Loader'!I294=\"Single\",\"Single\",IF('Simplified Loader'!I294=\"Family\",\"Family\",IF('Simplified Loader'!I294=\"Waive\",\"Family\",IF('Simplified Loader'!I294=\"Monoparental\",\"Family\",IF('Simplified Loader'!I294=\"Couple\",\"Family\",IF('Simplified Loader'!I294=\"In force\",\"Family\",IF('Simplified Loader'!I294=\"Applies\",\"Family\",IF('Simplified Loader'!I294=\"Applicable\",\"Family\",\"\"))))))))","v":""},null,null,null,null,null,null,null,{"$f":"IF('Simplified Loader'!I294=\"Waive\",\"Yes\",\"\")","v":""}]
[null,null,null,null,null,null,null,null,null,null,null,null,null,{"$f":"IF('Simplified Loader'!I295=\"Single\",\"Single\",IF('Simplified Loader'!I295=\"Family\",\"Family\",IF('Simplified Loader'!I295=\"Waive\",\"Family\",IF('Simplified Loader'!I295=\"Monoparental\",\"Family\",IF('Simplified Loader'!I295=\"Couple\",\"Family\",IF('Simplified Loader'!I295=\"In force\",\"Family\",IF('Simplified Loader'!I295=\"Applies\",\"Family\",IF('Simplified Loader'!I295=\"Applicable\",\"Family\",\"\"))))))))","v":""},null,null,null,null,null,null,null,{"$f":"IF('Simplified Loader'!I295=\"Waive\",\"Yes\",\"\")","v":""}]
[null,null,null,null,null,null,null,null,null,null,null,null,null,{"$f":"IF('Simplified Loader'!I296=\"Single\",\"Single\",IF('Simplified Loader'!I296=\"Family\",\"Family\",IF('Simplified Loader'!I296=\"Waive\",\"Family\",IF('Simplified Loader'!I296=\"Monoparental\",\"Family\",IF('Simplified Loader'!I296=\"Couple\",\"Family\",IF('Simplified Loader'!I296=\"In force\",\"Family\",IF('Simplified Loader'!I296=\"Applies\",\"Family\",IF('Simplified Loader'!I296=\"Applicable\",\"Family\",\"\"))))))))","v":""},null,null,null,null,null,null,null,{"$f":"IF('Simplified Loader'!I296=\"Waive\",\"Yes\",\"\")","v":""}]
[null,null,null,null,null,null,null,null,null,null,null,null,null,{"$f":"IF('Simplified Loader'!I297=\"Single\",\"Single\",IF('Simplified Loader'!I297=\"Family\",\"Family\",IF('Simplified Loader'!I297=\"Waive\",\"Family\",IF('Simplified Loader'!I297=\"Monoparental\",\"Family\",IF('Simplified Loader'!I297=\"Couple\",\"Family\",IF('Simplified Loader'!I297=\"In force\",\"Family\",IF('Simplified Loader'!I297=\"Applies\",\"Family\",IF('Simplified Loader'!I297=\"Applicable\",\"Family\",\"\"))))))))","v":""},null,null,null,null,null,null,null,{"$f":"IF('Simplified Loader'!I297=\"Waive\",\"Yes\",\"\")","v":""}]
[null,null,null,null,null,null,null,null,null,null,null,null,null,{"$f":"IF('Simplified Loader'!I298=\"Single\",\"Single\",IF('Simplified Loader'!I298=\"Family\",\"Family\",IF('Simplified Loader'!I298=\"Waive\",\"Family\",IF('Simplified Loader'!I298=\"Monoparental\",\"Family\",IF('Simplified Loader'!I298=\"Couple\",\"Family\",IF('Simplified Loader'!I298=\"In force\",\"Family\",IF('Simplified Loader'!I298=\"Applies\",\"Family\",IF('Simplified Loader'!I298=\"Applicable\",\"Family\",\"\"))))))))","v":""},null,null,null,null,null,null,null,{"$f":"IF('Simplified Loader'!I298=\"Waive\",\"Yes\",\"\")","v":""}]
[null,null,null,null,null,null,null,null,null,null,null,null,null,{"$f":"IF('Simplified Loader'!I299=\"Single\",\"Single\",IF('Simplified Loader'!I299=\"Family\",\"Family\",IF('Simplified Loader'!I299=\"Waive\",\"Family\",IF('Simplified Loader'!I299=\"Monoparental\",\"Family\",IF('Simplified Loader'!I299=\"Couple\",\"Family\",IF('Simplified Loader'!I299=\"In force\",\"Family\",IF('Simplified Loader'!I299=\"Applies\",\"Family\",IF('Simplified Loader'!I299=\"Applicable\",\"Family\",\"\"))))))))","v":""},null,null,null,null,null,null,null,{"$f":"IF('Simplified Loader'!I299=\"Waive\",\"Yes\",\"\")","v":""}]
[null,null,null,null,null,null,null,null,null,null,null,null,null,{"$f":"IF('Simplified Loader'!I300=\"Single\",\"Single\",IF('Simplified Loader'!I300=\"Family\",\"Family\",IF('Simplified Loader'!I300=\"Waive\",\"Family\",IF('Simplified Loader'!I300=\"Monoparental\",\"Family\",IF('Simplified Loader'!I300=\"Couple\",\"Family\",IF('Simplified Loader'!I300=\"In force\",\"Family\",IF('Simplified Loader'!I300=\"Applies\",\"Family\",IF('Simplified Loader'!I300=\"Applicable\",\"Family\",\"\"))))))))","v":""},null,null,null,null,null,null,null,{"$f":"IF('Simplified Loader'!I300=\"Waive\",\"Yes\",\"\")","v":""}]
[null,null,null,null,null,null,null,null,null,null,null,null,null,{"$f":"IF('Simplified Loader'!I301=\"Single\",\"Single\",IF('Simplified Loader'!I301=\"Family\",\"Family\",IF('Simplified Loader'!I301=\"Waive\",\"Family\",IF('Simplified Loader'!I301=\"Monoparental\",\"Family\",IF('Simplified Loader'!I301=\"Couple\",\"Family\",IF('Simplified Loader'!I301=\"In force\",\"Family\",IF('Simplified Loader'!I301=\"Applies\",\"Family\",IF('Simplified Loader'!I301=\"Applicable\",\"Family\",\"\"))))))))","v":""},null,null,null,null,null,null,null,{"$f":"IF('Simplified Loader'!I301=\"Waive\",\"Yes\",\"\")","v":""}]
[null,null,null,null,null,null,null,null,null,null,null,null,null,{"$f":"IF('Simplified Loader'!I302=\"Single\",\"Single\",IF('Simplified Loader'!I302=\"Family\",\"Family\",IF('Simplified Loader'!I302=\"Waive\",\"Family\",IF('Simplified Loader'!I302=\"Monoparental\",\"Family\",IF('Simplified Loader'!I302=\"Couple\",\"Family\",IF('Simplified Loader'!I302=\"In force\",\"Family\",IF('Simplified Loader'!I302=\"Applies\",\"Family\",IF('Simplified Loader'!I302=\"Applicable\",\"Family\",\"\"))))))))","v":""},null,null,null,null,null,null,null,{"$f":"IF('Simplified Loader'!I302=\"Waive\",\"Yes\",\"\")","v":""}]
[null,null,null,null,null,null,null,null,null,null,null,null,null,{"$f":"IF('Simplified Loader'!I303=\"Single\",\"Single\",IF('Simplified Loader'!I303=\"Family\",\"Family\",IF('Simplified Loader'!I303=\"Waive\",\"Family\",IF('Simplified Loader'!I303=\"Monoparental\",\"Family\",IF('Simplified Loader'!I303=\"Couple\",\"Family\",IF('Simplified Loader'!I303=\"In force\",\"Family\",IF('Simplified Loader'!I303=\"Applies\",\"Family\",IF('Simplified Loader'!I303=\"Applicable\",\"Family\",\"\"))))))))","v":""},null,null,null,null,null,null,null,{"$f":"IF('Simplified Loader'!I303=\"Waive\",\"Yes\",\"\")","v":""}]
[null,null,null,null,null,null,null,null,null,null,null,null,null,{"$f":"IF('Simplified Loader'!I304=\"Single\",\"Single\",IF('Simplified Loader'!I304=\"Family\",\"Family\",IF('Simplified Loader'!I304=\"Waive\",\"Family\",IF('Simplified Loader'!I304=\"Monoparental\",\"Family\",IF('Simplified Loader'!I304=\"Couple\",\"Family\",IF('Simplified Loader'!I304=\"In force\",\"Family\",IF('Simplified Loader'!I304=\"Applies\",\"Family\",IF('Simplified Loader'!I304=\"Applicable\",\"Family\",\"\"))))))))","v":""},null,null,null,null,null,null,null,{"$f":"IF('Simplified Loader'!I304=\"Waive\",\"Yes\",\"\")","v":""}]
[null,null,null,null,null,null,null,null,null,null,null,null,null,{"$f":"IF('Simplified Loader'!I305=\"Single\",\"Single\",IF('Simplified Loader'!I305=\"Family\",\"Family\",IF('Simplified Loader'!I305=\"Waive\",\"Family\",IF('Simplified Loader'!I305=\"Monoparental\",\"Family\",IF('Simplified Loader'!I305=\"Couple\",\"Family\",IF('Simplified Loader'!I305=\"In force\",\"Family\",IF('Simplified Loader'!I305=\"Applies\",\"Family\",IF('Simplified Loader'!I305=\"Applicable\",\"Family\",\"\"))))))))","v":""},null,null,null,null,null,null,null,{"$f":"IF('Simplified Loader'!I305=\"Waive\",\"Yes\",\"\")","v":""}]
[null,null,null,null,null,null,null,null,null,null,null,null,null,{"$f":"IF('Simplified Loader'!I306=\"Single\",\"Single\",IF('Simplified Loader'!I306=\"Family\",\"Family\",IF('Simplified Loader'!I306=\"Waive\",\"Family\",IF('Simplified Loader'!I306=\"Monoparental\",\"Family\",IF('Simplified Loader'!I306=\"Couple\",\"Family\",IF('Simplified Loader'!I306=\"In force\",\"Family\",IF('Simplified Loader'!I306=\"Applies\",\"Family\",IF('Simplified Loader'!I306=\"Applicable\",\"Family\",\"\"))))))))","v":""},null,null,null,null,null,null,null,{"$f":"IF('Simplified Loader'!I306=\"Waive\",\"Yes\",\"\")","v":""}]
[null,null,null,null,null,null,null,null,null,null,null,null,null,{"$f":"IF('Simplified Loader'!I307=\"Single\",\"Single\",IF('Simplified Loader'!I307=\"Family\",\"Family\",IF('Simplified Loader'!I307=\"Waive\",\"Family\",IF('Simplified Loader'!I307=\"Monoparental\",\"Family\",IF('Simplified Loader'!I307=\"Couple\",\"Family\",IF('Simplified Loader'!I307=\"In force\",\"Family\",IF('Simplified Loader'!I307=\"Applies\",\"Family\",IF('Simplified Loader'!I307=\"Applicable\",\"Family\",\"\"))))))))","v":""},null,null,null,null,null,null,null,{"$f":"IF('Simplified Loader'!I307=\"Waive\",\"Yes\",\"\")","v":""}]
[null,null,null,null,null,null,null,null,null,null,null,null,null,{"$f":"IF('Simplified Loader'!I308=\"Single\",\"Single\",IF('Simplified Loader'!I308=\"Family\",\"Family\",IF('Simplified Loader'!I308=\"Waive\",\"Family\",IF('Simplified Loader'!I308=\"Monoparental\",\"Family\",IF('Simplified Loader'!I308=\"Couple\",\"Family\",IF('Simplified Loader'!I308=\"In force\",\"Family\",IF('Simplified Loader'!I308=\"Applies\",\"Family\",IF('Simplified Loader'!I308=\"Applicable\",\"Family\",\"\"))))))))","v":""},null,null,null,null,null,null,null,{"$f":"IF('Simplified Loader'!I308=\"Waive\",\"Yes\",\"\")","v":""}]
[null,null,null,null,null,null,null,null,null,null,null,null,null,{"$f":"IF('Simplified Loader'!I309=\"Single\",\"Single\",IF('Simplified Loader'!I309=\"Family\",\"Family\",IF('Simplified Loader'!I309=\"Waive\",\"Family\",IF('Simplified Loader'!I309=\"Monoparental\",\"Family\",IF('Simplified Loader'!I309=\"Couple\",\"Family\",IF('Simplified Loader'!I309=\"In force\",\"Family\",IF('Simplified Loader'!I309=\"Applies\",\"Family\",IF('Simplified Loader'!I309=\"Applicable\",\"Family\",\"\"))))))))","v":""},null,null,null,null,null,null,null,{"$f":"IF('Simplified Loader'!I309=\"Waive\",\"Yes\",\"\")","v":""}]
[null,null,null,null,null,null,null,null,null,null,null,null,null,{"$f":"IF('Simplified Loader'!I310=\"Single\",\"Single\",IF('Simplified Loader'!I310=\"Family\",\"Family\",IF('Simplified Loader'!I310=\"Waive\",\"Family\",IF('Simplified Loader'!I310=\"Monoparental\",\"Family\",IF('Simplified Loader'!I310=\"Couple\",\"Family\",IF('Simplified Loader'!I310=\"In force\",\"Family\",IF('Simplified Loader'!I310=\"Applies\",\"Family\",IF('Simplified Loader'!I310=\"Applicable\",\"Family\",\"\"))))))))","v":""},null,null,null,null,null,null,null,{"$f":"IF('Simplified Loader'!I310=\"Waive\",\"Yes\",\"\")","v":""}]
[null,null,null,null,null,null,null,null,null,null,null,null,null,{"$f":"IF('Simplified Loader'!I311=\"Single\",\"Single\",IF('Simplified Loader'!I311=\"Family\",\"Family\",IF('Simplified Loader'!I311=\"Waive\",\"Family\",IF('Simplified Loader'!I311=\"Monoparental\",\"Family\",IF('Simplified Loader'!I311=\"Couple\",\"Family\",IF('Simplified Loader'!I311=\"In force\",\"Family\",IF('Simplified Loader'!I311=\"Applies\",\"Family\",IF('Simplified Loader'!I311=\"Applicable\",\"Family\",\"\"))))))))","v":""},null,null,null,null,null,null,null,{"$f":"IF('Simplified Loader'!I311=\"Waive\",\"Yes\",\"\")","v":""}]
[null,null,null,null,null,null,null,null,null,null,null,null,null,{"$f":"IF('Simplified Loader'!I312=\"Single\",\"Single\",IF('Simplified Loader'!I312=\"Family\",\"Family\",IF('Simplified Loader'!I312=\"Waive\",\"Family\",IF('Simplified Loader'!I312=\"Monoparental\",\"Family\",IF('Simplified Loader'!I312=\"Couple\",\"Family\",IF('Simplified Loader'!I312=\"In force\",\"Family\",IF('Simplified Loader'!I312=\"Applies\",\"Family\",IF('Simplified Loader'!I312=\"Applicable\",\"Family\",\"\"))))))))","v":""},null,null,null,null,null,null,null,{"$f":"IF('Simplified Loader'!I312=\"Waive\",\"Yes\",\"\")","v":""}]
[null,null,null,null,null,null,null,null,null,null,null,null,null,{"$f":"IF('Simplified Loader'!I313=\"Single\",\"Single\",IF('Simplified Loader'!I313=\"Family\",\"Family\",IF('Simplified Loader'!I313=\"Waive\",\"Family\",IF('Simplified Loader'!I313=\"Monoparental\",\"Family\",IF('Simplified Loader'!I313=\"Couple\",\"Family\",IF('Simplified Loader'!I313=\"In force\",\"Family\",IF('Simplified Loader'!I313=\"Applies\",\"Family\",IF('Simplified Loader'!I313=\"Applicable\",\"Family\",\"\"))))))))","v":""},null,null,null,null,null,null,null,{"$f":"IF('Simplified Loader'!I313=\"Waive\",\"Yes\",\"\")","v":""}]
[null,null,null,null,null,null,null,null,null,null,null,null,null,{"$f":"IF('Simplified Loader'!I314=\"Single\",\"Single\",IF('Simplified Loader'!I314=\"Family\",\"Family\",IF('Simplified Loader'!I314=\"Waive\",\"Family\",IF('Simplified Loader'!I314=\"Monoparental\",\"Family\",IF('Simplified Loader'!I314=\"Couple\",\"Family\",IF('Simplified Loader'!I314=\"In force\",\"Family\",IF('Simplified Loader'!I314=\"Applies\",\"Family\",IF('Simplified Loader'!I314=\"Applicable\",\"Family\",\"\"))))))))","v":""},null,null,null,null,null,null,null,{"$f":"IF('Simplified Loader'!I314=\"Waive\",\"Yes\",\"\")","v":""}]
[null,null,null,null,null,null,null,null,null,null,null,null,null,{"$f":"IF('Simplified Loader'!I315=\"Single\",\"Single\",IF('Simplified Loader'!I315=\"Family\",\"Family\",IF('Simplified Loader'!I315=\"Waive\",\"Family\",IF('Simplified Loader'!I315=\"Monoparental\",\"Family\",IF('Simplified Loader'!I315=\"Couple\",\"Family\",IF('Simplified Loader'!I315=\"In force\",\"Family\",IF('Simplified Loader'!I315=\"Applies\",\"Family\",IF('Simplified Loader'!I315=\"Applicable\",\"Family\",\"\"))))))))","v":""},null,null,null,null,null,null,null,{"$f":"IF('Simplified Loader'!I315=\"Waive\",\"Yes\",\"\")","v":""}]
[null,null,null,null,null,null,null,null,null,null,null,null,null,{"$f":"IF('Simplified Loader'!I316=\"Single\",\"Single\",IF('Simplified Loader'!I316=\"Family\",\"Family\",IF('Simplified Loader'!I316=\"Waive\",\"Family\",IF('Simplified Loader'!I316=\"Monoparental\",\"Family\",IF('Simplified Loader'!I316=\"Couple\",\"Family\",IF('Simplified Loader'!I316=\"In force\",\"Family\",IF('Simplified Loader'!I316=\"Applies\",\"Family\",IF('Simplified Loader'!I316=\"Applicable\",\"Family\",\"\"))))))))","v":""},null,null,null,null,null,null,null,{"$f":"IF('Simplified Loader'!I316=\"Waive\",\"Yes\",\"\")","v":""}]
[null,null,null,null,null,null,null,null,null,null,null,null,null,{"$f":"IF('Simplified Loader'!I317=\"Single\",\"Single\",IF('Simplified Loader'!I317=\"Family\",\"Family\",IF('Simplified Loader'!I317=\"Waive\",\"Family\",IF('Simplified Loader'!I317=\"Monoparental\",\"Family\",IF('Simplified Loader'!I317=\"Couple\",\"Family\",IF('Simplified Loader'!I317=\"In force\",\"Family\",IF('Simplified Loader'!I317=\"Applies\",\"Family\",IF('Simplified Loader'!I317=\"Applicable\",\"Family\",\"\"))))))))","v":""},null,null,null,null,null,null,null,{"$f":"IF('Simplified Loader'!I317=\"Waive\",\"Yes\",\"\")","v":""}]
[null,null,null,null,null,null,null,null,null,null,null,null,null,{"$f":"IF('Simplified Loader'!I318=\"Single\",\"Single\",IF('Simplified Loader'!I318=\"Family\",\"Family\",IF('Simplified Loader'!I318=\"Waive\",\"Family\",IF('Simplified Loader'!I318=\"Monoparental\",\"Family\",IF('Simplified Loader'!I318=\"Couple\",\"Family\",IF('Simplified Loader'!I318=\"In force\",\"Family\",IF('Simplified Loader'!I318=\"Applies\",\"Family\",IF('Simplified Loader'!I318=\"Applicable\",\"Family\",\"\"))))))))","v":""},null,null,null,null,null,null,null,{"$f":"IF('Simplified Loader'!I318=\"Waive\",\"Yes\",\"\")","v":""}]
[null,null,null,null,null,null,null,null,null,null,null,null,null,{"$f":"IF('Simplified Loader'!I319=\"Single\",\"Single\",IF('Simplified Loader'!I319=\"Family\",\"Family\",IF('Simplified Loader'!I319=\"Waive\",\"Family\",IF('Simplified Loader'!I319=\"Monoparental\",\"Family\",IF('Simplified Loader'!I319=\"Couple\",\"Family\",IF('Simplified Loader'!I319=\"In force\",\"Family\",IF('Simplified Loader'!I319=\"Applies\",\"Family\",IF('Simplified Loader'!I319=\"Applicable\",\"Family\",\"\"))))))))","v":""},null,null,null,null,null,null,null,{"$f":"IF('Simplified Loader'!I319=\"Waive\",\"Yes\",\"\")","v":""}]
[null,null,null,null,null,null,null,null,null,null,null,null,null,{"$f":"IF('Simplified Loader'!I320=\"Single\",\"Single\",IF('Simplified Loader'!I320=\"Family\",\"Family\",IF('Simplified Loader'!I320=\"Waive\",\"Family\",IF('Simplified Loader'!I320=\"Monoparental\",\"Family\",IF('Simplified Loader'!I320=\"Couple\",\"Family\",IF('Simplified Loader'!I320=\"In force\",\"Family\",IF('Simplified Loader'!I320=\"Applies\",\"Family\",IF('Simplified Loader'!I320=\"Applicable\",\"Family\",\"\"))))))))","v":""},null,null,null,null,null,null,null,{"$f":"IF('Simplified Loader'!I320=\"Waive\",\"Yes\",\"\")","v":""}]
[null,null,null,null,null,null,null,null,null,null,null,null,null,{"$f":"IF('Simplified Loader'!I321=\"Single\",\"Single\",IF('Simplified Loader'!I321=\"Family\",\"Family\",IF('Simplified Loader'!I321=\"Waive\",\"Family\",IF('Simplified Loader'!I321=\"Monoparental\",\"Family\",IF('Simplified Loader'!I321=\"Couple\",\"Family\",IF('Simplified Loader'!I321=\"In force\",\"Family\",IF('Simplified Loader'!I321=\"Applies\",\"Family\",IF('Simplified Loader'!I321=\"Applicable\",\"Family\",\"\"))))))))","v":""},null,null,null,null,null,null,null,{"$f":"IF('Simplified Loader'!I321=\"Waive\",\"Yes\",\"\")","v":""}]
[null,null,null,null,null,null,null,null,null,null,null,null,null,{"$f":"IF('Simplified Loader'!I322=\"Single\",\"Single\",IF('Simplified Loader'!I322=\"Family\",\"Family\",IF('Simplified Loader'!I322=\"Waive\",\"Family\",IF('Simplified Loader'!I322=\"Monoparental\",\"Family\",IF('Simplified Loader'!I322=\"Couple\",\"Family\",IF('Simplified Loader'!I322=\"In force\",\"Family\",IF('Simplified Loader'!I322=\"Applies\",\"Family\",IF('Simplified Loader'!I322=\"Applicable\",\"Family\",\"\"))))))))","v":""},null,null,null,null,null,null,null,{"$f":"IF('Simplified Loader'!I322=\"Waive\",\"Yes\",\"\")","v":""}]
[null,null,null,null,null,null,null,null,null,null,null,null,null,{"$f":"IF('Simplified Loader'!I323=\"Single\",\"Single\",IF('Simplified Loader'!I323=\"Family\",\"Family\",IF('Simplified Loader'!I323=\"Waive\",\"Family\",IF('Simplified Loader'!I323=\"Monoparental\",\"Family\",IF('Simplified Loader'!I323=\"Couple\",\"Family\",IF('Simplified Loader'!I323=\"In force\",\"Family\",IF('Simplified Loader'!I323=\"Applies\",\"Family\",IF('Simplified Loader'!I323=\"Applicable\",\"Family\",\"\"))))))))","v":""},null,null,null,null,null,null,null,{"$f":"IF('Simplified Loader'!I323=\"Waive\",\"Yes\",\"\")","v":""}]
[null,null,null,null,null,null,null,null,null,null,null,null,null,{"$f":"IF('Simplified Loader'!I324=\"Single\",\"Single\",IF('Simplified Loader'!I324=\"Family\",\"Family\",IF('Simplified Loader'!I324=\"Waive\",\"Family\",IF('Simplified Loader'!I324=\"Monoparental\",\"Family\",IF('Simplified Loader'!I324=\"Couple\",\"Family\",IF('Simplified Loader'!I324=\"In force\",\"Family\",IF('Simplified Loader'!I324=\"Applies\",\"Family\",IF('Simplified Loader'!I324=\"Applicable\",\"Family\",\"\"))))))))","v":""},null,null,null,null,null,null,null,{"$f":"IF('Simplified Loader'!I324=\"Waive\",\"Yes\",\"\")","v":""}]
[null,null,null,null,null,null,null,null,null,null,null,null,null,{"$f":"IF('Simplified Loader'!I325=\"Single\",\"Single\",IF('Simplified Loader'!I325=\"Family\",\"Family\",IF('Simplified Loader'!I325=\"Waive\",\"Family\",IF('Simplified Loader'!I325=\"Monoparental\",\"Family\",IF('Simplified Loader'!I325=\"Couple\",\"Family\",IF('Simplified Loader'!I325=\"In force\",\"Family\",IF('Simplified Loader'!I325=\"Applies\",\"Family\",IF('Simplified Loader'!I325=\"Applicable\",\"Family\",\"\"))))))))","v":""},null,null,null,null,null,null,null,{"$f":"IF('Simplified Loader'!I325=\"Waive\",\"Yes\",\"\")","v":""}]
[null,null,null,null,null,null,null,null,null,null,null,null,null,{"$f":"IF('Simplified Loader'!I326=\"Single\",\"Single\",IF('Simplified Loader'!I326=\"Family\",\"Family\",IF('Simplified Loader'!I326=\"Waive\",\"Family\",IF('Simplified Loader'!I326=\"Monoparental\",\"Family\",IF('Simplified Loader'!I326=\"Couple\",\"Family\",IF('Simplified Loader'!I326=\"In force\",\"Family\",IF('Simplified Loader'!I326=\"Applies\",\"Family\",IF('Simplified Loader'!I326=\"Applicable\",\"Family\",\"\"))))))))","v":""},null,null,null,null,null,null,null,{"$f":"IF('Simplified Loader'!I326=\"Waive\",\"Yes\",\"\")","v":""}]
[null,null,null,null,null,null,null,null,null,null,null,null,null,{"$f":"IF('Simplified Loader'!I327=\"Single\",\"Single\",IF('Simplified Loader'!I327=\"Family\",\"Family\",IF('Simplified Loader'!I327=\"Waive\",\"Family\",IF('Simplified Loader'!I327=\"Monoparental\",\"Family\",IF('Simplified Loader'!I327=\"Couple\",\"Family\",IF('Simplified Loader'!I327=\"In force\",\"Family\",IF('Simplified Loader'!I327=\"Applies\",\"Family\",IF('Simplified Loader'!I327=\"Applicable\",\"Family\",\"\"))))))))","v":""},null,null,null,null,null,null,null,{"$f":"IF('Simplified Loader'!I327=\"Waive\",\"Yes\",\"\")","v":""}]
[null,null,null,null,null,null,null,null,null,null,null,null,null,{"$f":"IF('Simplified Loader'!I328=\"Single\",\"Single\",IF('Simplified Loader'!I328=\"Family\",\"Family\",IF('Simplified Loader'!I328=\"Waive\",\"Family\",IF('Simplified Loader'!I328=\"Monoparental\",\"Family\",IF('Simplified Loader'!I328=\"Couple\",\"Family\",IF('Simplified Loader'!I328=\"In force\",\"Family\",IF('Simplified Loader'!I328=\"Applies\",\"Family\",IF('Simplified Loader'!I328=\"Applicable\",\"Family\",\"\"))))))))","v":""},null,null,null,null,null,null,null,{"$f":"IF('Simplified Loader'!I328=\"Waive\",\"Yes\",\"\")","v":""}]
[null,null,null,null,null,null,null,null,null,null,null,null,null,{"$f":"IF('Simplified Loader'!I329=\"Single\",\"Single\",IF('Simplified Loader'!I329=\"Family\",\"Family\",IF('Simplified Loader'!I329=\"Waive\",\"Family\",IF('Simplified Loader'!I329=\"Monoparental\",\"Family\",IF('Simplified Loader'!I329=\"Couple\",\"Family\",IF('Simplified Loader'!I329=\"In force\",\"Family\",IF('Simplified Loader'!I329=\"Applies\",\"Family\",IF('Simplified Loader'!I329=\"Applicable\",\"Family\",\"\"))))))))","v":""},null,null,null,null,null,null,null,{"$f":"IF('Simplified Loader'!I329=\"Waive\",\"Yes\",\"\")","v":""}]
[null,null,null,null,null,null,null,null,null,null,null,null,null,{"$f":"IF('Simplified Loader'!I330=\"Single\",\"Single\",IF('Simplified Loader'!I330=\"Family\",\"Family\",IF('Simplified Loader'!I330=\"Waive\",\"Family\",IF('Simplified Loader'!I330=\"Monoparental\",\"Family\",IF('Simplified Loader'!I330=\"Couple\",\"Family\",IF('Simplified Loader'!I330=\"In force\",\"Family\",IF('Simplified Loader'!I330=\"Applies\",\"Family\",IF('Simplified Loader'!I330=\"Applicable\",\"Family\",\"\"))))))))","v":""},null,null,null,null,null,null,null,{"$f":"IF('Simplified Loader'!I330=\"Waive\",\"Yes\",\"\")","v":""}]
[null,null,null,null,null,null,null,null,null,null,null,null,null,{"$f":"IF('Simplified Loader'!I331=\"Single\",\"Single\",IF('Simplified Loader'!I331=\"Family\",\"Family\",IF('Simplified Loader'!I331=\"Waive\",\"Family\",IF('Simplified Loader'!I331=\"Monoparental\",\"Family\",IF('Simplified Loader'!I331=\"Couple\",\"Family\",IF('Simplified Loader'!I331=\"In force\",\"Family\",IF('Simplified Loader'!I331=\"Applies\",\"Family\",IF('Simplified Loader'!I331=\"Applicable\",\"Family\",\"\"))))))))","v":""},null,null,null,null,null,null,null,{"$f":"IF('Simplified Loader'!I331=\"Waive\",\"Yes\",\"\")","v":""}]
[null,null,null,null,null,null,null,null,null,null,null,null,null,{"$f":"IF('Simplified Loader'!I332=\"Single\",\"Single\",IF('Simplified Loader'!I332=\"Family\",\"Family\",IF('Simplified Loader'!I332=\"Waive\",\"Family\",IF('Simplified Loader'!I332=\"Monoparental\",\"Family\",IF('Simplified Loader'!I332=\"Couple\",\"Family\",IF('Simplified Loader'!I332=\"In force\",\"Family\",IF('Simplified Loader'!I332=\"Applies\",\"Family\",IF('Simplified Loader'!I332=\"Applicable\",\"Family\",\"\"))))))))","v":""},null,null,null,null,null,null,null,{"$f":"IF('Simplified Loader'!I332=\"Waive\",\"Yes\",\"\")","v":""}]
[null,null,null,null,null,null,null,null,null,null,null,null,null,{"$f":"IF('Simplified Loader'!I333=\"Single\",\"Single\",IF('Simplified Loader'!I333=\"Family\",\"Family\",IF('Simplified Loader'!I333=\"Waive\",\"Family\",IF('Simplified Loader'!I333=\"Monoparental\",\"Family\",IF('Simplified Loader'!I333=\"Couple\",\"Family\",IF('Simplified Loader'!I333=\"In force\",\"Family\",IF('Simplified Loader'!I333=\"Applies\",\"Family\",IF('Simplified Loader'!I333=\"Applicable\",\"Family\",\"\"))))))))","v":""},null,null,null,null,null,null,null,{"$f":"IF('Simplified Loader'!I333=\"Waive\",\"Yes\",\"\")","v":""}]
[null,null,null,null,null,null,null,null,null,null,null,null,null,{"$f":"IF('Simplified Loader'!I334=\"Single\",\"Single\",IF('Simplified Loader'!I334=\"Family\",\"Family\",IF('Simplified Loader'!I334=\"Waive\",\"Family\",IF('Simplified Loader'!I334=\"Monoparental\",\"Family\",IF('Simplified Loader'!I334=\"Couple\",\"Family\",IF('Simplified Loader'!I334=\"In force\",\"Family\",IF('Simplified Loader'!I334=\"Applies\",\"Family\",IF('Simplified Loader'!I334=\"Applicable\",\"Family\",\"\"))))))))","v":""},null,null,null,null,null,null,null,{"$f":"IF('Simplified Loader'!I334=\"Waive\",\"Yes\",\"\")","v":""}]
[null,null,null,null,null,null,null,null,null,null,null,null,null,{"$f":"IF('Simplified Loader'!I335=\"Single\",\"Single\",IF('Simplified Loader'!I335=\"Family\",\"Family\",IF('Simplified Loader'!I335=\"Waive\",\"Family\",IF('Simplified Loader'!I335=\"Monoparental\",\"Family\",IF('Simplified Loader'!I335=\"Couple\",\"Family\",IF('Simplified Loader'!I335=\"In force\",\"Family\",IF('Simplified Loader'!I335=\"Applies\",\"Family\",IF('Simplified Loader'!I335=\"Applicable\",\"Family\",\"\"))))))))","v":""},null,null,null,null,null,null,null,{"$f":"IF('Simplified Loader'!I335=\"Waive\",\"Yes\",\"\")","v":""}]
[null,null,null,null,null,null,null,null,null,null,null,null,null,{"$f":"IF('Simplified Loader'!I336=\"Single\",\"Single\",IF('Simplified Loader'!I336=\"Family\",\"Family\",IF('Simplified Loader'!I336=\"Waive\",\"Family\",IF('Simplified Loader'!I336=\"Monoparental\",\"Family\",IF('Simplified Loader'!I336=\"Couple\",\"Family\",IF('Simplified Loader'!I336=\"In force\",\"Family\",IF('Simplified Loader'!I336=\"Applies\",\"Family\",IF('Simplified Loader'!I336=\"Applicable\",\"Family\",\"\"))))))))","v":""},null,null,null,null,null,null,null,{"$f":"IF('Simplified Loader'!I336=\"Waive\",\"Yes\",\"\")","v":""}]
[null,null,null,null,null,null,null,null,null,null,null,null,null,{"$f":"IF('Simplified Loader'!I337=\"Single\",\"Single\",IF('Simplified Loader'!I337=\"Family\",\"Family\",IF('Simplified Loader'!I337=\"Waive\",\"Family\",IF('Simplified Loader'!I337=\"Monoparental\",\"Family\",IF('Simplified Loader'!I337=\"Couple\",\"Family\",IF('Simplified Loader'!I337=\"In force\",\"Family\",IF('Simplified Loader'!I337=\"Applies\",\"Family\",IF('Simplified Loader'!I337=\"Applicable\",\"Family\",\"\"))))))))","v":""},null,null,null,null,null,null,null,{"$f":"IF('Simplified Loader'!I337=\"Waive\",\"Yes\",\"\")","v":""}]
[null,null,null,null,null,null,null,null,null,null,null,null,null,{"$f":"IF('Simplified Loader'!I338=\"Single\",\"Single\",IF('Simplified Loader'!I338=\"Family\",\"Family\",IF('Simplified Loader'!I338=\"Waive\",\"Family\",IF('Simplified Loader'!I338=\"Monoparental\",\"Family\",IF('Simplified Loader'!I338=\"Couple\",\"Family\",IF('Simplified Loader'!I338=\"In force\",\"Family\",IF('Simplified Loader'!I338=\"Applies\",\"Family\",IF('Simplified Loader'!I338=\"Applicable\",\"Family\",\"\"))))))))","v":""},null,null,null,null,null,null,null,{"$f":"IF('Simplified Loader'!I338=\"Waive\",\"Yes\",\"\")","v":""}]
[null,null,null,null,null,null,null,null,null,null,null,null,null,{"$f":"IF('Simplified Loader'!I339=\"Single\",\"Single\",IF('Simplified Loader'!I339=\"Family\",\"Family\",IF('Simplified Loader'!I339=\"Waive\",\"Family\",IF('Simplified Loader'!I339=\"Monoparental\",\"Family\",IF('Simplified Loader'!I339=\"Couple\",\"Family\",IF('Simplified Loader'!I339=\"In force\",\"Family\",IF('Simplified Loader'!I339=\"Applies\",\"Family\",IF('Simplified Loader'!I339=\"Applicable\",\"Family\",\"\"))))))))","v":""},null,null,null,null,null,null,null,{"$f":"IF('Simplified Loader'!I339=\"Waive\",\"Yes\",\"\")","v":""}]
[null,null,null,null,null,null,null,null,null,null,null,null,null,{"$f":"IF('Simplified Loader'!I340=\"Single\",\"Single\",IF('Simplified Loader'!I340=\"Family\",\"Family\",IF('Simplified Loader'!I340=\"Waive\",\"Family\",IF('Simplified Loader'!I340=\"Monoparental\",\"Family\",IF('Simplified Loader'!I340=\"Couple\",\"Family\",IF('Simplified Loader'!I340=\"In force\",\"Family\",IF('Simplified Loader'!I340=\"Applies\",\"Family\",IF('Simplified Loader'!I340=\"Applicable\",\"Family\",\"\"))))))))","v":""},null,null,null,null,null,null,null,{"$f":"IF('Simplified Loader'!I340=\"Waive\",\"Yes\",\"\")","v":""}]
[null,null,null,null,null,null,null,null,null,null,null,null,null,{"$f":"IF('Simplified Loader'!I341=\"Single\",\"Single\",IF('Simplified Loader'!I341=\"Family\",\"Family\",IF('Simplified Loader'!I341=\"Waive\",\"Family\",IF('Simplified Loader'!I341=\"Monoparental\",\"Family\",IF('Simplified Loader'!I341=\"Couple\",\"Family\",IF('Simplified Loader'!I341=\"In force\",\"Family\",IF('Simplified Loader'!I341=\"Applies\",\"Family\",IF('Simplified Loader'!I341=\"Applicable\",\"Family\",\"\"))))))))","v":""},null,null,null,null,null,null,null,{"$f":"IF('Simplified Loader'!I341=\"Waive\",\"Yes\",\"\")","v":""}]
[null,null,null,null,null,null,null,null,null,null,null,null,null,{"$f":"IF('Simplified Loader'!I342=\"Single\",\"Single\",IF('Simplified Loader'!I342=\"Family\",\"Family\",IF('Simplified Loader'!I342=\"Waive\",\"Family\",IF('Simplified Loader'!I342=\"Monoparental\",\"Family\",IF('Simplified Loader'!I342=\"Couple\",\"Family\",IF('Simplified Loader'!I342=\"In force\",\"Family\",IF('Simplified Loader'!I342=\"Applies\",\"Family\",IF('Simplified Loader'!I342=\"Applicable\",\"Family\",\"\"))))))))","v":""},null,null,null,null,null,null,null,{"$f":"IF('Simplified Loader'!I342=\"Waive\",\"Yes\",\"\")","v":""}]
[null,null,null,null,null,null,null,null,null,null,null,null,null,{"$f":"IF('Simplified Loader'!I343=\"Single\",\"Single\",IF('Simplified Loader'!I343=\"Family\",\"Family\",IF('Simplified Loader'!I343=\"Waive\",\"Family\",IF('Simplified Loader'!I343=\"Monoparental\",\"Family\",IF('Simplified Loader'!I343=\"Couple\",\"Family\",IF('Simplified Loader'!I343=\"In force\",\"Family\",IF('Simplified Loader'!I343=\"Applies\",\"Family\",IF('Simplified Loader'!I343=\"Applicable\",\"Family\",\"\"))))))))","v":""},null,null,null,null,null,null,null,{"$f":"IF('Simplified Loader'!I343=\"Waive\",\"Yes\",\"\")","v":""}]
[null,null,null,null,null,null,null,null,null,null,null,null,null,{"$f":"IF('Simplified Loader'!I344=\"Single\",\"Single\",IF('Simplified Loader'!I344=\"Family\",\"Family\",IF('Simplified Loader'!I344=\"Waive\",\"Family\",IF('Simplified Loader'!I344=\"Monoparental\",\"Family\",IF('Simplified Loader'!I344=\"Couple\",\"Family\",IF('Simplified Loader'!I344=\"In force\",\"Family\",IF('Simplified Loader'!I344=\"Applies\",\"Family\",IF('Simplified Loader'!I344=\"Applicable\",\"Family\",\"\"))))))))","v":""},null,null,null,null,null,null,null,{"$f":"IF('Simplified Loader'!I344=\"Waive\",\"Yes\",\"\")","v":""}]
[null,null,null,null,null,null,null,null,null,null,null,null,null,{"$f":"IF('Simplified Loader'!I345=\"Single\",\"Single\",IF('Simplified Loader'!I345=\"Family\",\"Family\",IF('Simplified Loader'!I345=\"Waive\",\"Family\",IF('Simplified Loader'!I345=\"Monoparental\",\"Family\",IF('Simplified Loader'!I345=\"Couple\",\"Family\",IF('Simplified Loader'!I345=\"In force\",\"Family\",IF('Simplified Loader'!I345=\"Applies\",\"Family\",IF('Simplified Loader'!I345=\"Applicable\",\"Family\",\"\"))))))))","v":""},null,null,null,null,null,null,null,{"$f":"IF('Simplified Loader'!I345=\"Waive\",\"Yes\",\"\")","v":""}]
[null,null,null,null,null,null,null,null,null,null,null,null,null,{"$f":"IF('Simplified Loader'!I346=\"Single\",\"Single\",IF('Simplified Loader'!I346=\"Family\",\"Family\",IF('Simplified Loader'!I346=\"Waive\",\"Family\",IF('Simplified Loader'!I346=\"Monoparental\",\"Family\",IF('Simplified Loader'!I346=\"Couple\",\"Family\",IF('Simplified Loader'!I346=\"In force\",\"Family\",IF('Simplified Loader'!I346=\"Applies\",\"Family\",IF('Simplified Loader'!I346=\"Applicable\",\"Family\",\"\"))))))))","v":""},null,null,null,null,null,null,null,{"$f":"IF('Simplified Loader'!I346=\"Waive\",\"Yes\",\"\")","v":""}]
[null,null,null,null,null,null,null,null,null,null,null,null,null,{"$f":"IF('Simplified Loader'!I347=\"Single\",\"Single\",IF('Simplified Loader'!I347=\"Family\",\"Family\",IF('Simplified Loader'!I347=\"Waive\",\"Family\",IF('Simplified Loader'!I347=\"Monoparental\",\"Family\",IF('Simplified Loader'!I347=\"Couple\",\"Family\",IF('Simplified Loader'!I347=\"In force\",\"Family\",IF('Simplified Loader'!I347=\"Applies\",\"Family\",IF('Simplified Loader'!I347=\"Applicable\",\"Family\",\"\"))))))))","v":""},null,null,null,null,null,null,null,{"$f":"IF('Simplified Loader'!I347=\"Waive\",\"Yes\",\"\")","v":""}]
[null,null,null,null,null,null,null,null,null,null,null,null,null,{"$f":"IF('Simplified Loader'!I348=\"Single\",\"Single\",IF('Simplified Loader'!I348=\"Family\",\"Family\",IF('Simplified Loader'!I348=\"Waive\",\"Family\",IF('Simplified Loader'!I348=\"Monoparental\",\"Family\",IF('Simplified Loader'!I348=\"Couple\",\"Family\",IF('Simplified Loader'!I348=\"In force\",\"Family\",IF('Simplified Loader'!I348=\"Applies\",\"Family\",IF('Simplified Loader'!I348=\"Applicable\",\"Family\",\"\"))))))))","v":""}]
[null,null,null,null,null,null,null,null,null,null,null,null,null,{"$f":"IF('Simplified Loader'!I349=\"Single\",\"Single\",IF('Simplified Loader'!I349=\"Family\",\"Family\",IF('Simplified Loader'!I349=\"Waive\",\"Family\",IF('Simplified Loader'!I349=\"Monoparental\",\"Family\",IF('Simplified Loader'!I349=\"Couple\",\"Family\",IF('Simplified Loader'!I349=\"In force\",\"Family\",IF('Simplified Loader'!I349=\"Applies\",\"Family\",IF('Simplified Loader'!I349=\"Applicable\",\"Family\",\"\"))))))))","v":""}]
[null,null,null,null,null,null,null,null,null,null,null,null,null,{"$f":"IF('Simplified Loader'!I350=\"Single\",\"Single\",IF('Simplified Loader'!I350=\"Family\",\"Family\",IF('Simplified Loader'!I350=\"Waiver\",\"Family\",IF('Simplified Loader'!I350=\"Monoparental\",\"Family\",IF('Simplified Loader'!I350=\"Couple\",\"Family\",IF('Simplified Loader'!I350=\"In force\",\"Family\",IF('Simplified Loader'!I350=\"Applies\",\"Family\",IF('Simplified Loader'!I350=\"Applicable\",\"Family\",\"\"))))))))","v":""}]
[null,null,null,null,null,null,null,null,null,null,null,null,null,{"$f":"IF('Simplified Loader'!I351=\"Single\",\"Single\",IF('Simplified Loader'!I351=\"Family\",\"Family\",IF('Simplified Loader'!I351=\"Waiver\",\"Family\",IF('Simplified Loader'!I351=\"Monoparental\",\"Family\",IF('Simplified Loader'!I351=\"Couple\",\"Family\",IF('Simplified Loader'!I351=\"In force\",\"Family\",IF('Simplified Loader'!I351=\"Applies\",\"Family\",IF('Simplified Loader'!I351=\"Applicable\",\"Family\",\"\"))))))))","v":""}]
[null,null,null,null,null,null,null,null,null,null,null,null,null,{"$f":"IF('Simplified Loader'!I352=\"Single\",\"Single\",IF('Simplified Loader'!I352=\"Family\",\"Family\",IF('Simplified Loader'!I352=\"Waiver\",\"Family\",IF('Simplified Loader'!I352=\"Monoparental\",\"Family\",IF('Simplified Loader'!I352=\"Couple\",\"Family\",IF('Simplified Loader'!I352=\"In force\",\"Family\",IF('Simplified Loader'!I352=\"Applies\",\"Family\",IF('Simplified Loader'!I352=\"Applicable\",\"Family\",\"\"))))))))","v":""}]
[null,null,null,null,null,null,null,null,null,null,null,null,null,{"$f":"IF('Simplified Loader'!I353=\"Single\",\"Single\",IF('Simplified Loader'!I353=\"Family\",\"Family\",IF('Simplified Loader'!I353=\"Waiver\",\"Family\",IF('Simplified Loader'!I353=\"Monoparental\",\"Family\",IF('Simplified Loader'!I353=\"Couple\",\"Family\",IF('Simplified Loader'!I353=\"In force\",\"Family\",IF('Simplified Loader'!I353=\"Applies\",\"Family\",IF('Simplified Loader'!I353=\"Applicable\",\"Family\",\"\"))))))))","v":""}]
[null,null,null,null,null,null,null,null,null,null,null,null,null,{"$f":"IF('Simplified Loader'!I354=\"Single\",\"Single\",IF('Simplified Loader'!I354=\"Family\",\"Family\",IF('Simplified Loader'!I354=\"Waiver\",\"Family\",IF('Simplified Loader'!I354=\"Monoparental\",\"Family\",IF('Simplified Loader'!I354=\"Couple\",\"Family\",IF('Simplified Loader'!I354=\"In force\",\"Family\",IF('Simplified Loader'!I354=\"Applies\",\"Family\",IF('Simplified Loader'!I354=\"Applicable\",\"Family\",\"\"))))))))","v":""}]
[null,null,null,null,null,null,null,null,null,null,null,null,null,{"$f":"IF('Simplified Loader'!I355=\"Single\",\"Single\",IF('Simplified Loader'!I355=\"Family\",\"Family\",IF('Simplified Loader'!I355=\"Waiver\",\"Family\",IF('Simplified Loader'!I355=\"Monoparental\",\"Family\",IF('Simplified Loader'!I355=\"Couple\",\"Family\",IF('Simplified Loader'!I355=\"In force\",\"Family\",IF('Simplified Loader'!I355=\"Applies\",\"Family\",IF('Simplified Loader'!I355=\"Applicable\",\"Family\",\"\"))))))))","v":""}]

{"sheet":"OASIS Manual Adjustments","index":3,"n_rows":101,"n_cols":8,"rows_kept":101,"cut":false,"hidden":true,"merged":[[2,5,2,6]]}
[]
[]
[null,null,null,null,null,"OASIS Manual Adjustment(s) to make:"]
[null,"Member ID","First Name","Last Name","Dependent Status indicated on Simplified Loader","EHC Coverage Selection","Dental Coverage Selection","Monthly HSA Allotment\n(if different between members)"]
[null,{"$f":"IF('Simplified Loader'!A10>0,'Simplified Loader'!A10,\"\")","v":""},{"$f":"IF('Simplified Loader'!B10>0,'Simplified Loader'!B10,\"\")","v":""},{"$f":"IF('Simplified Loader'!D10>0,'Simplified Loader'!D10,\"\")","v":""},{"$f":"IF('Simplified Loader (FOR COPY)'!N4>0,'Simplified Loader (FOR COPY)'!N4,\"\")","v":""},{"$f":"IF(AND('Simplified Loader (FOR COPY)'!N4=\"Family\",'Simplified Loader'!I10=\"Single\"),\"Single\",IF('Simplified Loader'!I10=\"Single Parent\",\"Single + more\",IF('Simplified Loader'!I10=\"Couple\",\"Couple\",\"\")))","v":""},{"$f":"IF(AND('Simplified Loader (FOR COPY)'!N4=\"Family\",'Simplified Loader'!J10=\"Single\"),\"Single\",IF('Simplified Loader'!J10=\"Monoparental\",\"Monoparental\",IF('Simplified Loader'!J10=\"Couple\",\"Couple\",\"\")))","v":""},{"$f":"IF('Simplified Loader'!CI10>0,'Simplified Loader'!CI10,\"\")","v":""}]
[null,{"$f":"IF('Simplified Loader'!A11>0,'Simplified Loader'!A11,\"\")","v":""},{"$f":"IF('Simplified Loader'!B11>0,'Simplified Loader'!B11,\"\")","v":""},{"$f":"IF('Simplified Loader'!D11>0,'Simplified Loader'!D11,\"\")","v":""},{"$f":"IF('Simplified Loader (FOR COPY)'!N5>0,'Simplified Loader (FOR COPY)'!N5,\"\")","v":""},{"$f":"IF(AND('Simplified Loader (FOR COPY)'!N5=\"Family\",'Simplified Loader'!I11=\"Single\"),\"Single\",IF('Simplified Loader'!I11=\"Single Parent\",\"Single + more\",IF('Simplified Loader'!I11=\"Couple\",\"Couple\",\"\")))","v":""},{"$f":"IF(AND('Simplified Loader (FOR COPY)'!N5=\"Family\",'Simplified Loader'!J11=\"Single\"),\"Single\",IF('Simplified Loader'!J11=\"Monoparental\",\"Monoparental\",IF('Simplified Loader'!J11=\"Couple\",\"Couple\",\"\")))","v":""},{"$f":"IF('Simplified Loader'!CI11>0,'Simplified Loader'!CI11,\"\")","v":""}]
[null,{"$f":"IF('Simplified Loader'!A12>0,'Simplified Loader'!A12,\"\")","v":""},{"$f":"IF('Simplified Loader'!B12>0,'Simplified Loader'!B12,\"\")","v":""},{"$f":"IF('Simplified Loader'!D12>0,'Simplified Loader'!D12,\"\")","v":""},{"$f":"IF('Simplified Loader (FOR COPY)'!N6>0,'Simplified Loader (FOR COPY)'!N6,\"\")","v":""},{"$f":"IF(AND('Simplified Loader (FOR COPY)'!N6=\"Family\",'Simplified Loader'!I12=\"Single\"),\"Single\",IF('Simplified Loader'!I12=\"Single Parent\",\"Single + more\",IF('Simplified Loader'!I12=\"Couple\",\"Couple\",\"\")))","v":""},{"$f":"IF(AND('Simplified Loader (FOR COPY)'!N6=\"Family\",'Simplified Loader'!J12=\"Single\"),\"Single\",IF('Simplified Loader'!J12=\"Monoparental\",\"Monoparental\",IF('Simplified Loader'!J12=\"Couple\",\"Couple\",\"\")))","v":""},{"$f":"IF('Simplified Loader'!CI12>0,'Simplified Loader'!CI12,\"\")","v":""}]
[null,{"$f":"IF('Simplified Loader'!A13>0,'Simplified Loader'!A13,\"\")","v":""},{"$f":"IF('Simplified Loader'!B13>0,'Simplified Loader'!B13,\"\")","v":""},{"$f":"IF('Simplified Loader'!D13>0,'Simplified Loader'!D13,\"\")","v":""},{"$f":"IF('Simplified Loader (FOR COPY)'!N7>0,'Simplified Loader (FOR COPY)'!N7,\"\")","v":""},{"$f":"IF(AND('Simplified Loader (FOR COPY)'!N7=\"Family\",'Simplified Loader'!I13=\"Single\"),\"Single\",IF('Simplified Loader'!I13=\"Single Parent\",\"Single + more\",IF('Simplified Loader'!I13=\"Couple\",\"Couple\",\"\")))","v":""},{"$f":"IF(AND('Simplified Loader (FOR COPY)'!N7=\"Family\",'Simplified Loader'!J13=\"Single\"),\"Single\",IF('Simplified Loader'!J13=\"Monoparental\",\"Monoparental\",IF('Simplified Loader'!J13=\"Couple\",\"Couple\",\"\")))","v":""},{"$f":"IF('Simplified Loader'!CI13>0,'Simplified Loader'!CI13,\"\")","v":""}]
[null,{"$f":"IF('Simplified Loader'!A14>0,'Simplified Loader'!A14,\"\")","v":""},{"$f":"IF('Simplified Loader'!B14>0,'Simplified Loader'!B14,\"\")","v":""},{"$f":"IF('Simplified Loader'!D14>0,'Simplified Loader'!D14,\"\")","v":""},{"$f":"IF('Simplified Loader (FOR COPY)'!N8>0,'Simplified Loader (FOR COPY)'!N8,\"\")","v":""},{"$f":"IF(AND('Simplified Loader (FOR COPY)'!N8=\"Family\",'Simplified Loader'!I14=\"Single\"),\"Single\",IF('Simplified Loader'!I14=\"Single Parent\",\"Single + more\",IF('Simplified Loader'!I14=\"Couple\",\"Couple\",\"\")))","v":""},{"$f":"IF(AND('Simplified Loader (FOR COPY)'!N8=\"Family\",'Simplified Loader'!J14=\"Single\"),\"Single\",IF('Simplified Loader'!J14=\"Monoparental\",\"Monoparental\",IF('Simplified Loader'!J14=\"Couple\",\"Couple\",\"\")))","v":""},{"$f":"IF('Simplified Loader'!CI14>0,'Simplified Loader'!CI14,\"\")","v":""}]
[null,{"$f":"IF('Simplified Loader'!A15>0,'Simplified Loader'!A15,\"\")","v":""},{"$f":"IF('Simplified Loader'!B15>0,'Simplified Loader'!B15,\"\")","v":""},{"$f":"IF('Simplified Loader'!D15>0,'Simplified Loader'!D15,\"\")","v":""},{"$f":"IF('Simplified Loader (FOR COPY)'!N9>0,'Simplified Loader (FOR COPY)'!N9,\"\")","v":""},{"$f":"IF(AND('Simplified Loader (FOR COPY)'!N9=\"Family\",'Simplified Loader'!I15=\"Single\"),\"Single\",IF('Simplified Loader'!I15=\"Single Parent\",\"Single + more\",IF('Simplified Loader'!I15=\"Couple\",\"Couple\",\"\")))","v":""},{"$f":"IF(AND('Simplified Loader (FOR COPY)'!N9=\"Family\",'Simplified Loader'!J15=\"Single\"),\"Single\",IF('Simplified Loader'!J15=\"Monoparental\",\"Monoparental\",IF('Simplified Loader'!J15=\"Couple\",\"Couple\",\"\")))","v":""},{"$f":"IF('Simplified Loader'!CI15>0,'Simplified Loader'!CI15,\"\")","v":""}]
[null,{"$f":"IF('Simplified Loader'!A16>0,'Simplified Loader'!A16,\"\")","v":""},{"$f":"IF('Simplified Loader'!B16>0,'Simplified Loader'!B16,\"\")","v":""},{"$f":"IF('Simplified Loader'!D16>0,'Simplified Loader'!D16,\"\")","v":""},{"$f":"IF('Simplified Loader (FOR COPY)'!N10>0,'Simplified Loader (FOR COPY)'!N10,\"\")","v":""},{"$f":"IF(AND('Simplified Loader (FOR COPY)'!N10=\"Family\",'Simplified Loader'!I16=\"Single\"),\"Single\",IF('Simplified Loader'!I16=\"Single Parent\",\"Single + more\",IF('Simplified Loader'!I16=\"Couple\",\"Couple\",\"\")))","v":""},{"$f":"IF(AND('Simplified Loader (FOR COPY)'!N10=\"Family\",'Simplified Loader'!J16=\"Single\"),\"Single\",IF('Simplified Loader'!J16=\"Monoparental\",\"Monoparental\",IF('Simplified Loader'!J16=\"Couple\",\"Couple\",\"\")))","v":""},{"$f":"IF('Simplified Loader'!CI16>0,'Simplified Loader'!CI16,\"\")","v":""}]
[null,{"$f":"IF('Simplified Loader'!A17>0,'Simplified Loader'!A17,\"\")","v":""},{"$f":"IF('Simplified Loader'!B17>0,'Simplified Loader'!B17,\"\")","v":""},{"$f":"IF('Simplified Loader'!D17>0,'Simplified Loader'!D17,\"\")","v":""},{"$f":"IF('Simplified Loader (FOR COPY)'!N11>0,'Simplified Loader (FOR COPY)'!N11,\"\")","v":""},{"$f":"IF(AND('Simplified Loader (FOR COPY)'!N11=\"Family\",'Simplified Loader'!I17=\"Single\"),\"Single\",IF('Simplified Loader'!I17=\"Single Parent\",\"Single + more\",IF('Simplified Loader'!I17=\"Couple\",\"Couple\",\"\")))","v":""},{"$f":"IF(AND('Simplified Loader (FOR COPY)'!N11=\"Family\",'Simplified Loader'!J17=\"Single\"),\"Single\",IF('Simplified Loader'!J17=\"Monoparental\",\"Monoparental\",IF('Simplified Loader'!J17=\"Couple\",\"Couple\",\"\")))","v":""},{"$f":"IF('Simplified Loader'!CI17>0,'Simplified Loader'!CI17,\"\")","v":""}]
[null,{"$f":"IF('Simplified Loader'!A18>0,'Simplified Loader'!A18,\"\")","v":""},{"$f":"IF('Simplified Loader'!B18>0,'Simplified Loader'!B18,\"\")","v":""},{"$f":"IF('Simplified Loader'!D18>0,'Simplified Loader'!D18,\"\")","v":""},{"$f":"IF('Simplified Loader (FOR COPY)'!N12>0,'Simplified Loader (FOR COPY)'!N12,\"\")","v":""},{"$f":"IF(AND('Simplified Loader (FOR COPY)'!N12=\"Family\",'Simplified Loader'!I18=\"Single\"),\"Single\",IF('Simplified Loader'!I18=\"Single Parent\",\"Single + more\",IF('Simplified Loader'!I18=\"Couple\",\"Couple\",\"\")))","v":""},{"$f":"IF(AND('Simplified Loader (FOR COPY)'!N12=\"Family\",'Simplified Loader'!J18=\"Single\"),\"Single\",IF('Simplified Loader'!J18=\"Monoparental\",\"Monoparental\",IF('Simplified Loader'!J18=\"Couple\",\"Couple\",\"\")))","v":""},{"$f":"IF('Simplified Loader'!CI18>0,'Simplified Loader'!CI18,\"\")","v":""}]
[null,{"$f":"IF('Simplified Loader'!A19>0,'Simplified Loader'!A19,\"\")","v":""},{"$f":"IF('Simplified Loader'!B19>0,'Simplified Loader'!B19,\"\")","v":""},{"$f":"IF('Simplified Loader'!D19>0,'Simplified Loader'!D19,\"\")","v":""},{"$f":"IF('Simplified Loader (FOR COPY)'!N13>0,'Simplified Loader (FOR COPY)'!N13,\"\")","v":""},{"$f":"IF(AND('Simplified Loader (FOR COPY)'!N13=\"Family\",'Simplified Loader'!I19=\"Single\"),\"Single\",IF('Simplified Loader'!I19=\"Single Parent\",\"Single + more\",IF('Simplified Loader'!I19=\"Couple\",\"Couple\",\"\")))","v":""},{"$f":"IF(AND('Simplified Loader (FOR COPY)'!N13=\"Family\",'Simplified Loader'!J19=\"Single\"),\"Single\",IF('Simplified Loader'!J19=\"Monoparental\",\"Monoparental\",IF('Simplified Loader'!J19=\"Couple\",\"Couple\",\"\")))","v":""},{"$f":"IF('Simplified Loader'!CI19>0,'Simplified Loader'!CI19,\"\")","v":""}]
[null,{"$f":"IF('Simplified Loader'!A20>0,'Simplified Loader'!A20,\"\")","v":""},{"$f":"IF('Simplified Loader'!B20>0,'Simplified Loader'!B20,\"\")","v":""},{"$f":"IF('Simplified Loader'!D20>0,'Simplified Loader'!D20,\"\")","v":""},{"$f":"IF('Simplified Loader (FOR COPY)'!N14>0,'Simplified Loader (FOR COPY)'!N14,\"\")","v":""},{"$f":"IF(AND('Simplified Loader (FOR COPY)'!N14=\"Family\",'Simplified Loader'!I20=\"Single\"),\"Single\",IF('Simplified Loader'!I20=\"Single Parent\",\"Single + more\",IF('Simplified Loader'!I20=\"Couple\",\"Couple\",\"\")))","v":""},{"$f":"IF(AND('Simplified Loader (FOR COPY)'!N14=\"Family\",'Simplified Loader'!J20=\"Single\"),\"Single\",IF('Simplified Loader'!J20=\"Monoparental\",\"Monoparental\",IF('Simplified Loader'!J20=\"Couple\",\"Couple\",\"\")))","v":""},{"$f":"IF('Simplified Loader'!CI20>0,'Simplified Loader'!CI20,\"\")","v":""}]
[null,{"$f":"IF('Simplified Loader'!A21>0,'Simplified Loader'!A21,\"\")","v":""},{"$f":"IF('Simplified Loader'!B21>0,'Simplified Loader'!B21,\"\")","v":""},{"$f":"IF('Simplified Loader'!D21>0,'Simplified Loader'!D21,\"\")","v":""},{"$f":"IF('Simplified Loader (FOR COPY)'!N15>0,'Simplified Loader (FOR COPY)'!N15,\"\")","v":""},{"$f":"IF(AND('Simplified Loader (FOR COPY)'!N15=\"Family\",'Simplified Loader'!I21=\"Single\"),\"Single\",IF('Simplified Loader'!I21=\"Single Parent\",\"Single + more\",IF('Simplified Loader'!I21=\"Couple\",\"Couple\",\"\")))","v":""},{"$f":"IF(AND('Simplified Loader (FOR COPY)'!N15=\"Family\",'Simplified Loader'!J21=\"Single\"),\"Single\",IF('Simplified Loader'!J21=\"Monoparental\",\"Monoparental\",IF('Simplified Loader'!J21=\"Couple\",\"Couple\",\"\")))","v":""},{"$f":"IF('Simplified Loader'!CI21>0,'Simplified Loader'!CI21,\"\")","v":""}]
[null,{"$f":"IF('Simplified Loader'!A22>0,'Simplified Loader'!A22,\"\")","v":""},{"$f":"IF('Simplified Loader'!B22>0,'Simplified Loader'!B22,\"\")","v":""},{"$f":"IF('Simplified Loader'!D22>0,'Simplified Loader'!D22,\"\")","v":""},{"$f":"IF('Simplified Loader (FOR COPY)'!N16>0,'Simplified Loader (FOR COPY)'!N16,\"\")","v":""},{"$f":"IF(AND('Simplified Loader (FOR COPY)'!N16=\"Family\",'Simplified Loader'!I22=\"Single\"),\"Single\",IF('Simplified Loader'!I22=\"Single Parent\",\"Single + more\",IF('Simplified Loader'!I22=\"Couple\",\"Couple\",\"\")))","v":""},{"$f":"IF(AND('Simplified Loader (FOR COPY)'!N16=\"Family\",'Simplified Loader'!J22=\"Single\"),\"Single\",IF('Simplified Loader'!J22=\"Monoparental\",\"Monoparental\",IF('Simplified Loader'!J22=\"Couple\",\"Couple\",\"\")))","v":""},{"$f":"IF('Simplified Loader'!CI22>0,'Simplified Loader'!CI22,\"\")","v":""}]
[null,{"$f":"IF('Simplified Loader'!A23>0,'Simplified Loader'!A23,\"\")","v":""},{"$f":"IF('Simplified Loader'!B23>0,'Simplified Loader'!B23,\"\")","v":""},{"$f":"IF('Simplified Loader'!D23>0,'Simplified Loader'!D23,\"\")","v":""},{"$f":"IF('Simplified Loader (FOR COPY)'!N17>0,'Simplified Loader (FOR COPY)'!N17,\"\")","v":""},{"$f":"IF(AND('Simplified Loader (FOR COPY)'!N17=\"Family\",'Simplified Loader'!I23=\"Single\"),\"Single\",IF('Simplified Loader'!I23=\"Single Parent\",\"Single + more\",IF('Simplified Loader'!I23=\"Couple\",\"Couple\",\"\")))","v":""},{"$f":"IF(AND('Simplified Loader (FOR COPY)'!N17=\"Family\",'Simplified Loader'!J23=\"Single\"),\"Single\",IF('Simplified Loader'!J23=\"Monoparental\",\"Monoparental\",IF('Simplified Loader'!J23=\"Couple\",\"Couple\",\"\")))","v":""},{"$f":"IF('Simplified Loader'!CI23>0,'Simplified Loader'!CI23,\"\")","v":""}]
[null,{"$f":"IF('Simplified Loader'!A24>0,'Simplified Loader'!A24,\"\")","v":""},{"$f":"IF('Simplified Loader'!B24>0,'Simplified Loader'!B24,\"\")","v":""},{"$f":"IF('Simplified Loader'!D24>0,'Simplified Loader'!D24,\"\")","v":""},{"$f":"IF('Simplified Loader (FOR COPY)'!N18>0,'Simplified Loader (FOR COPY)'!N18,\"\")","v":""},{"$f":"IF(AND('Simplified Loader (FOR COPY)'!N18=\"Family\",'Simplified Loader'!I24=\"Single\"),\"Single\",IF('Simplified Loader'!I24=\"Single Parent\",\"Single + more\",IF('Simplified Loader'!I24=\"Couple\",\"Couple\",\"\")))","v":""},{"$f":"IF(AND('Simplified Loader (FOR COPY)'!N18=\"Family\",'Simplified Loader'!J24=\"Single\"),\"Single\",IF('Simplified Loader'!J24=\"Monoparental\",\"Monoparental\",IF('Simplified Loader'!J24=\"Couple\",\"Couple\",\"\")))","v":""},{"$f":"IF('Simplified Loader'!CI24>0,'Simplified Loader'!CI24,\"\")","v":""}]
[null,{"$f":"IF('Simplified Loader'!A25>0,'Simplified Loader'!A25,\"\")","v":""},{"$f":"IF('Simplified Loader'!B25>0,'Simplified Loader'!B25,\"\")","v":""},{"$f":"IF('Simplified Loader'!D25>0,'Simplified Loader'!D25,\"\")","v":""},{"$f":"IF('Simplified Loader (FOR COPY)'!N19>0,'Simplified Loader (FOR COPY)'!N19,\"\")","v":""},{"$f":"IF(AND('Simplified Loader (FOR COPY)'!N19=\"Family\",'Simplified Loader'!I25=\"Single\"),\"Single\",IF('Simplified Loader'!I25=\"Single Parent\",\"Single + more\",IF('Simplified Loader'!I25=\"Couple\",\"Couple\",\"\")))","v":""},{"$f":"IF(AND('Simplified Loader (FOR COPY)'!N19=\"Family\",'Simplified Loader'!J25=\"Single\"),\"Single\",IF('Simplified Loader'!J25=\"Monoparental\",\"Monoparental\",IF('Simplified Loader'!J25=\"Couple\",\"Couple\",\"\")))","v":""},{"$f":"IF('Simplified Loader'!CI25>0,'Simplified Loader'!CI25,\"\")","v":""}]
[null,{"$f":"IF('Simplified Loader'!A26>0,'Simplified Loader'!A26,\"\")","v":""},{"$f":"IF('Simplified Loader'!B26>0,'Simplified Loader'!B26,\"\")","v":""},{"$f":"IF('Simplified Loader'!D26>0,'Simplified Loader'!D26,\"\")","v":""},{"$f":"IF('Simplified Loader (FOR COPY)'!N20>0,'Simplified Loader (FOR COPY)'!N20,\"\")","v":""},{"$f":"IF(AND('Simplified Loader (FOR COPY)'!N20=\"Family\",'Simplified Loader'!I26=\"Single\"),\"Single\",IF('Simplified Loader'!I26=\"Single Parent\",\"Single + more\",IF('Simplified Loader'!I26=\"Couple\",\"Couple\",\"\")))","v":""},{"$f":"IF(AND('Simplified Loader (FOR COPY)'!N20=\"Family\",'Simplified Loader'!J26=\"Single\"),\"Single\",IF('Simplified Loader'!J26=\"Monoparental\",\"Monoparental\",IF('Simplified Loader'!J26=\"Couple\",\"Couple\",\"\")))","v":""},{"$f":"IF('Simplified Loader'!CI26>0,'Simplified Loader'!CI26,\"\")","v":""}]
[null,{"$f":"IF('Simplified Loader'!A27>0,'Simplified Loader'!A27,\"\")","v":""},{"$f":"IF('Simplified Loader'!B27>0,'Simplified Loader'!B27,\"\")","v":""},{"$f":"IF('Simplified Loader'!D27>0,'Simplified Loader'!D27,\"\")","v":""},{"$f":"IF('Simplified Loader (FOR COPY)'!N21>0,'Simplified Loader (FOR COPY)'!N21,\"\")","v":""},{"$f":"IF(AND('Simplified Loader (FOR COPY)'!N21=\"Family\",'Simplified Loader'!I27=\"Single\"),\"Single\",IF('Simplified Loader'!I27=\"Single Parent\",\"Single + more\",IF('Simplified Loader'!I27=\"Couple\",\"Couple\",\"\")))","v":""},{"$f":"IF(AND('Simplified Loader (FOR COPY)'!N21=\"Family\",'Simplified Loader'!J27=\"Single\"),\"Single\",IF('Simplified Loader'!J27=\"Monoparental\",\"Monoparental\",IF('Simplified Loader'!J27=\"Couple\",\"Couple\",\"\")))","v":""},{"$f":"IF('Simplified Loader'!CI27>0,'Simplified Loader'!CI27,\"\")","v":""}]
[null,{"$f":"IF('Simplified Loader'!A28>0,'Simplified Loader'!A28,\"\")","v":""},{"$f":"IF('Simplified Loader'!B28>0,'Simplified Loader'!B28,\"\")","v":""},{"$f":"IF('Simplified Loader'!D28>0,'Simplified Loader'!D28,\"\")","v":""},{"$f":"IF('Simplified Loader (FOR COPY)'!N22>0,'Simplified Loader (FOR COPY)'!N22,\"\")","v":""},{"$f":"IF(AND('Simplified Loader (FOR COPY)'!N22=\"Family\",'Simplified Loader'!I28=\"Single\"),\"Single\",IF('Simplified Loader'!I28=\"Single Parent\",\"Single + more\",IF('Simplified Loader'!I28=\"Couple\",\"Couple\",\"\")))","v":""},{"$f":"IF(AND('Simplified Loader (FOR COPY)'!N22=\"Family\",'Simplified Loader'!J28=\"Single\"),\"Single\",IF('Simplified Loader'!J28=\"Monoparental\",\"Monoparental\",IF('Simplified Loader'!J28=\"Couple\",\"Couple\",\"\")))","v":""},{"$f":"IF('Simplified Loader'!CI28>0,'Simplified Loader'!CI28,\"\")","v":""}]
[null,{"$f":"IF('Simplified Loader'!A29>0,'Simplified Loader'!A29,\"\")","v":""},{"$f":"IF('Simplified Loader'!B29>0,'Simplified Loader'!B29,\"\")","v":""},{"$f":"IF('Simplified Loader'!D29>0,'Simplified Loader'!D29,\"\")","v":""},{"$f":"IF('Simplified Loader (FOR COPY)'!N23>0,'Simplified Loader (FOR COPY)'!N23,\"\")","v":""},{"$f":"IF(AND('Simplified Loader (FOR COPY)'!N23=\"Family\",'Simplified Loader'!I29=\"Single\"),\"Single\",IF('Simplified Loader'!I29=\"Single Parent\",\"Single + more\",IF('Simplified Loader'!I29=\"Couple\",\"Couple\",\"\")))","v":""},{"$f":"IF(AND('Simplified Loader (FOR COPY)'!N23=\"Family\",'Simplified Loader'!J29=\"Single\"),\"Single\",IF('Simplified Loader'!J29=\"Monoparental\",\"Monoparental\",IF('Simplified Loader'!J29=\"Couple\",\"Couple\",\"\")))","v":""},{"$f":"IF('Simplified Loader'!CI29>0,'Simplified Loader'!CI29,\"\")","v":""}]
[null,{"$f":"IF('Simplified Loader'!A30>0,'Simplified Loader'!A30,\"\")","v":""},{"$f":"IF('Simplified Loader'!B30>0,'Simplified Loader'!B30,\"\")","v":""},{"$f":"IF('Simplified Loader'!D30>0,'Simplified Loader'!D30,\"\")","v":""},{"$f":"IF('Simplified Loader (FOR COPY)'!N24>0,'Simplified Loader (FOR COPY)'!N24,\"\")","v":""},{"$f":"IF(AND('Simplified Loader (FOR COPY)'!N24=\"Family\",'Simplified Loader'!I30=\"Single\"),\"Single\",IF('Simplified Loader'!I30=\"Single Parent\",\"Single + more\",IF('Simplified Loader'!I30=\"Couple\",\"Couple\",\"\")))","v":""},{"$f":"IF(AND('Simplified Loader (FOR COPY)'!N24=\"Family\",'Simplified Loader'!J30=\"Single\"),\"Single\",IF('Simplified Loader'!J30=\"Monoparental\",\"Monoparental\",IF('Simplified Loader'!J30=\"Couple\",\"Couple\",\"\")))","v":""},{"$f":"IF('Simplified Loader'!CI30>0,'Simplified Loader'!CI30,\"\")","v":""}]
[null,{"$f":"IF('Simplified Loader'!A31>0,'Simplified Loader'!A31,\"\")","v":""},{"$f":"IF('Simplified Loader'!B31>0,'Simplified Loader'!B31,\"\")","v":""},{"$f":"IF('Simplified Loader'!D31>0,'Simplified Loader'!D31,\"\")","v":""},{"$f":"IF('Simplified Loader (FOR COPY)'!N25>0,'Simplified Loader (FOR COPY)'!N25,\"\")","v":""},{"$f":"IF(AND('Simplified Loader (FOR COPY)'!N25=\"Family\",'Simplified Loader'!I31=\"Single\"),\"Single\",IF('Simplified Loader'!I31=\"Single Parent\",\"Single + more\",IF('Simplified Loader'!I31=\"Couple\",\"Couple\",\"\")))","v":""},{"$f":"IF(AND('Simplified Loader (FOR COPY)'!N25=\"Family\",'Simplified Loader'!J31=\"Single\"),\"Single\",IF('Simplified Loader'!J31=\"Monoparental\",\"Monoparental\",IF('Simplified Loader'!J31=\"Couple\",\"Couple\",\"\")))","v":""},{"$f":"IF('Simplified Loader'!CI31>0,'Simplified Loader'!CI31,\"\")","v":""}]
[null,{"$f":"IF('Simplified Loader'!A32>0,'Simplified Loader'!A32,\"\")","v":""},{"$f":"IF('Simplified Loader'!B32>0,'Simplified Loader'!B32,\"\")","v":""},{"$f":"IF('Simplified Loader'!D32>0,'Simplified Loader'!D32,\"\")","v":""},{"$f":"IF('Simplified Loader (FOR COPY)'!N26>0,'Simplified Loader (FOR COPY)'!N26,\"\")","v":""},{"$f":"IF(AND('Simplified Loader (FOR COPY)'!N26=\"Family\",'Simplified Loader'!I32=\"Single\"),\"Single\",IF('Simplified Loader'!I32=\"Single Parent\",\"Single + more\",IF('Simplified Loader'!I32=\"Couple\",\"Couple\",\"\")))","v":""},{"$f":"IF(AND('Simplified Loader (FOR COPY)'!N26=\"Family\",'Simplified Loader'!J32=\"Single\"),\"Single\",IF('Simplified Loader'!J32=\"Monoparental\",\"Monoparental\",IF('Simplified Loader'!J32=\"Couple\",\"Couple\",\"\")))","v":""},{"$f":"IF('Simplified Loader'!CI32>0,'Simplified Loader'!CI32,\"\")","v":""}]
[null,{"$f":"IF('Simplified Loader'!A33>0,'Simplified Loader'!A33,\"\")","v":""},{"$f":"IF('Simplified Loader'!B33>0,'Simplified Loader'!B33,\"\")","v":""},{"$f":"IF('Simplified Loader'!D33>0,'Simplified Loader'!D33,\"\")","v":""},{"$f":"IF('Simplified Loader (FOR COPY)'!N27>0,'Simplified Loader (FOR COPY)'!N27,\"\")","v":""},{"$f":"IF(AND('Simplified Loader (FOR COPY)'!N27=\"Family\",'Simplified Loader'!I33=\"Single\"),\"Single\",IF('Simplified Loader'!I33=\"Single Parent\",\"Single + more\",IF('Simplified Loader'!I33=\"Couple\",\"Couple\",\"\")))","v":""},{"$f":"IF(AND('Simplified Loader (FOR COPY)'!N27=\"Family\",'Simplified Loader'!J33=\"Single\"),\"Single\",IF('Simplified Loader'!J33=\"Monoparental\",\"Monoparental\",IF('Simplified Loader'!J33=\"Couple\",\"Couple\",\"\")))","v":""},{"$f":"IF('Simplified Loader'!CI33>0,'Simplified Loader'!CI33,\"\")","v":""}]
[null,{"$f":"IF('Simplified Loader'!A34>0,'Simplified Loader'!A34,\"\")","v":""},{"$f":"IF('Simplified Loader'!B34>0,'Simplified Loader'!B34,\"\")","v":""},{"$f":"IF('Simplified Loader'!D34>0,'Simplified Loader'!D34,\"\")","v":""},{"$f":"IF('Simplified Loader (FOR COPY)'!N28>0,'Simplified Loader (FOR COPY)'!N28,\"\")","v":""},{"$f":"IF(AND('Simplified Loader (FOR COPY)'!N28=\"Family\",'Simplified Loader'!I34=\"Single\"),\"Single\",IF('Simplified Loader'!I34=\"Single Parent\",\"Single + more\",IF('Simplified Loader'!I34=\"Couple\",\"Couple\",\"\")))","v":""},{"$f":"IF(AND('Simplified Loader (FOR COPY)'!N28=\"Family\",'Simplified Loader'!J34=\"Single\"),\"Single\",IF('Simplified Loader'!J34=\"Monoparental\",\"Monoparental\",IF('Simplified Loader'!J34=\"Couple\",\"Couple\",\"\")))","v":""},{"$f":"IF('Simplified Loader'!CI34>0,'Simplified Loader'!CI34,\"\")","v":""}]
[null,{"$f":"IF('Simplified Loader'!A35>0,'Simplified Loader'!A35,\"\")","v":""},{"$f":"IF('Simplified Loader'!B35>0,'Simplified Loader'!B35,\"\")","v":""},{"$f":"IF('Simplified Loader'!D35>0,'Simplified Loader'!D35,\"\")","v":""},{"$f":"IF('Simplified Loader (FOR COPY)'!N29>0,'Simplified Loader (FOR COPY)'!N29,\"\")","v":""},{"$f":"IF(AND('Simplified Loader (FOR COPY)'!N29=\"Family\",'Simplified Loader'!I35=\"Single\"),\"Single\",IF('Simplified Loader'!I35=\"Single Parent\",\"Single + more\",IF('Simplified Loader'!I35=\"Couple\",\"Couple\",\"\")))","v":""},{"$f":"IF(AND('Simplified Loader (FOR COPY)'!N29=\"Family\",'Simplified Loader'!J35=\"Single\"),\"Single\",IF('Simplified Loader'!J35=\"Monoparental\",\"Monoparental\",IF('Simplified Loader'!J35=\"Couple\",\"Couple\",\"\")))","v":""},{"$f":"IF('Simplified Loader'!CI35>0,'Simplified Loader'!CI35,\"\")","v":""}]
[null,{"$f":"IF('Simplified Loader'!A36>0,'Simplified Loader'!A36,\"\")","v":""},{"$f":"IF('Simplified Loader'!B36>0,'Simplified Loader'!B36,\"\")","v":""},{"$f":"IF('Simplified Loader'!D36>0,'Simplified Loader'!D36,\"\")","v":""},{"$f":"IF('Simplified Loader (FOR COPY)'!N30>0,'Simplified Loader (FOR COPY)'!N30,\"\")","v":""},{"$f":"IF(AND('Simplified Loader (FOR COPY)'!N30=\"Family\",'Simplified Loader'!I36=\"Single\"),\"Single\",IF('Simplified Loader'!I36=\"Single Parent\",\"Single + more\",IF('Simplified Loader'!I36=\"Couple\",\"Couple\",\"\")))","v":""},{"$f":"IF(AND('Simplified Loader (FOR COPY)'!N30=\"Family\",'Simplified Loader'!J36=\"Single\"),\"Single\",IF('Simplified Loader'!J36=\"Monoparental\",\"Monoparental\",IF('Simplified Loader'!J36=\"Couple\",\"Couple\",\"\")))","v":""},{"$f":"IF('Simplified Loader'!CI36>0,'Simplified Loader'!CI36,\"\")","v":""}]
[null,{"$f":"IF('Simplified Loader'!A37>0,'Simplified Loader'!A37,\"\")","v":""},{"$f":"IF('Simplified Loader'!B37>0,'Simplified Loader'!B37,\"\")","v":""},{"$f":"IF('Simplified Loader'!D37>0,'Simplified Loader'!D37,\"\")","v":""},{"$f":"IF('Simplified Loader (FOR COPY)'!N31>0,'Simplified Loader (FOR COPY)'!N31,\"\")","v":""},{"$f":"IF(AND('Simplified Loader (FOR COPY)'!N31=\"Family\",'Simplified Loader'!I37=\"Single\"),\"Single\",IF('Simplified Loader'!I37=\"Single Parent\",\"Single + more\",IF('Simplified Loader'!I37=\"Couple\",\"Couple\",\"\")))","v":""},{"$f":"IF(AND('Simplified Loader (FOR COPY)'!N31=\"Family\",'Simplified Loader'!J37=\"Single\"),\"Single\",IF('Simplified Loader'!J37=\"Monoparental\",\"Monoparental\",IF('Simplified Loader'!J37=\"Couple\",\"Couple\",\"\")))","v":""},{"$f":"IF('Simplified Loader'!CI37>0,'Simplified Loader'!CI37,\"\")","v":""}]
[null,{"$f":"IF('Simplified Loader'!A38>0,'Simplified Loader'!A38,\"\")","v":""},{"$f":"IF('Simplified Loader'!B38>0,'Simplified Loader'!B38,\"\")","v":""},{"$f":"IF('Simplified Loader'!D38>0,'Simplified Loader'!D38,\"\")","v":""},{"$f":"IF('Simplified Loader (FOR COPY)'!N32>0,'Simplified Loader (FOR COPY)'!N32,\"\")","v":""},{"$f":"IF(AND('Simplified Loader (FOR COPY)'!N32=\"Family\",'Simplified Loader'!I38=\"Single\"),\"Single\",IF('Simplified Loader'!I38=\"Single Parent\",\"Single + more\",IF('Simplified Loader'!I38=\"Couple\",\"Couple\",\"\")))","v":""},{"$f":"IF(AND('Simplified Loader (FOR COPY)'!N32=\"Family\",'Simplified Loader'!J38=\"Single\"),\"Single\",IF('Simplified Loader'!J38=\"Monoparental\",\"Monoparental\",IF('Simplified Loader'!J38=\"Couple\",\"Couple\",\"\")))","v":""},{"$f":"IF('Simplified Loader'!CI38>0,'Simplified Loader'!CI38,\"\")","v":""}]
[null,{"$f":"IF('Simplified Loader'!A39>0,'Simplified Loader'!A39,\"\")","v":""},{"$f":"IF('Simplified Loader'!B39>0,'Simplified Loader'!B39,\"\")","v":""},{"$f":"IF('Simplified Loader'!D39>0,'Simplified Loader'!D39,\"\")","v":""},{"$f":"IF('Simplified Loader (FOR COPY)'!N33>0,'Simplified Loader (FOR COPY)'!N33,\"\")","v":""},{"$f":"IF(AND('Simplified Loader (FOR COPY)'!N33=\"Family\",'Simplified Loader'!I39=\"Single\"),\"Single\",IF('Simplified Loader'!I39=\"Single Parent\",\"Single + more\",IF('Simplified Loader'!I39=\"Couple\",\"Couple\",\"\")))","v":""},{"$f":"IF(AND('Simplified Loader (FOR COPY)'!N33=\"Family\",'Simplified Loader'!J39=\"Single\"),\"Single\",IF('Simplified Loader'!J39=\"Monoparental\",\"Monoparental\",IF('Simplified Loader'!J39=\"Couple\",\"Couple\",\"\")))","v":""},{"$f":"IF('Simplified Loader'!CI39>0,'Simplified Loader'!CI39,\"\")","v":""}]
[null,{"$f":"IF('Simplified Loader'!A40>0,'Simplified Loader'!A40,\"\")","v":""},{"$f":"IF('Simplified Loader'!B40>0,'Simplified Loader'!B40,\"\")","v":""},{"$f":"IF('Simplified Loader'!D40>0,'Simplified Loader'!D40,\"\")","v":""},{"$f":"IF('Simplified Loader (FOR COPY)'!N34>0,'Simplified Loader (FOR COPY)'!N34,\"\")","v":""},{"$f":"IF(AND('Simplified Loader (FOR COPY)'!N34=\"Family\",'Simplified Loader'!I40=\"Single\"),\"Single\",IF('Simplified Loader'!I40=\"Single Parent\",\"Single + more\",IF('Simplified Loader'!I40=\"Couple\",\"Couple\",\"\")))","v":""},{"$f":"IF(AND('Simplified Loader (FOR COPY)'!N34=\"Family\",'Simplified Loader'!J40=\"Single\"),\"Single\",IF('Simplified Loader'!J40=\"Monoparental\",\"Monoparental\",IF('Simplified Loader'!J40=\"Couple\",\"Couple\",\"\")))","v":""},{"$f":"IF('Simplified Loader'!CI40>0,'Simplified Loader'!CI40,\"\")","v":""}]
[null,{"$f":"IF('Simplified Loader'!A41>0,'Simplified Loader'!A41,\"\")","v":""},{"$f":"IF('Simplified Loader'!B41>0,'Simplified Loader'!B41,\"\")","v":""},{"$f":"IF('Simplified Loader'!D41>0,'Simplified Loader'!D41,\"\")","v":""},{"$f":"IF('Simplified Loader (FOR COPY)'!N35>0,'Simplified Loader (FOR COPY)'!N35,\"\")","v":""},{"$f":"IF(AND('Simplified Loader (FOR COPY)'!N35=\"Family\",'Simplified Loader'!I41=\"Single\"),\"Single\",IF('Simplified Loader'!I41=\"Single Parent\",\"Single + more\",IF('Simplified Loader'!I41=\"Couple\",\"Couple\",\"\")))","v":""},{"$f":"IF(AND('Simplified Loader (FOR COPY)'!N35=\"Family\",'Simplified Loader'!J41=\"Single\"),\"Single\",IF('Simplified Loader'!J41=\"Monoparental\",\"Monoparental\",IF('Simplified Loader'!J41=\"Couple\",\"Couple\",\"\")))","v":""},{"$f":"IF('Simplified Loader'!CI41>0,'Simplified Loader'!CI41,\"\")","v":""}]
[null,{"$f":"IF('Simplified Loader'!A42>0,'Simplified Loader'!A42,\"\")","v":""},{"$f":"IF('Simplified Loader'!B42>0,'Simplified Loader'!B42,\"\")","v":""},{"$f":"IF('Simplified Loader'!D42>0,'Simplified Loader'!D42,\"\")","v":""},{"$f":"IF('Simplified Loader (FOR COPY)'!N36>0,'Simplified Loader (FOR COPY)'!N36,\"\")","v":""},{"$f":"IF(AND('Simplified Loader (FOR COPY)'!N36=\"Family\",'Simplified Loader'!I42=\"Single\"),\"Single\",IF('Simplified Loader'!I42=\"Single Parent\",\"Single + more\",IF('Simplified Loader'!I42=\"Couple\",\"Couple\",\"\")))","v":""},{"$f":"IF(AND('Simplified Loader (FOR COPY)'!N36=\"Family\",'Simplified Loader'!J42=\"Single\"),\"Single\",IF('Simplified Loader'!J42=\"Monoparental\",\"Monoparental\",IF('Simplified Loader'!J42=\"Couple\",\"Couple\",\"\")))","v":""},{"$f":"IF('Simplified Loader'!CI42>0,'Simplified Loader'!CI42,\"\")","v":""}]
[null,{"$f":"IF('Simplified Loader'!A43>0,'Simplified Loader'!A43,\"\")","v":""},{"$f":"IF('Simplified Loader'!B43>0,'Simplified Loader'!B43,\"\")","v":""},{"$f":"IF('Simplified Loader'!D43>0,'Simplified Loader'!D43,\"\")","v":""},{"$f":"IF('Simplified Loader (FOR COPY)'!N37>0,'Simplified Loader (FOR COPY)'!N37,\"\")","v":""},{"$f":"IF(AND('Simplified Loader (FOR COPY)'!N37=\"Family\",'Simplified Loader'!I43=\"Single\"),\"Single\",IF('Simplified Loader'!I43=\"Single Parent\",\"Single + more\",IF('Simplified Loader'!I43=\"Couple\",\"Couple\",\"\")))","v":""},{"$f":"IF(AND('Simplified Loader (FOR COPY)'!N37=\"Family\",'Simplified Loader'!J43=\"Single\"),\"Single\",IF('Simplified Loader'!J43=\"Monoparental\",\"Monoparental\",IF('Simplified Loader'!J43=\"Couple\",\"Couple\",\"\")))","v":""},{"$f":"IF('Simplified Loader'!CI43>0,'Simplified Loader'!CI43,\"\")","v":""}]
[null,{"$f":"IF('Simplified Loader'!A44>0,'Simplified Loader'!A44,\"\")","v":""},{"$f":"IF('Simplified Loader'!B44>0,'Simplified Loader'!B44,\"\")","v":""},{"$f":"IF('Simplified Loader'!D44>0,'Simplified Loader'!D44,\"\")","v":""},{"$f":"IF('Simplified Loader (FOR COPY)'!N38>0,'Simplified Loader (FOR COPY)'!N38,\"\")","v":""},{"$f":"IF(AND('Simplified Loader (FOR COPY)'!N38=\"Family\",'Simplified Loader'!I44=\"Single\"),\"Single\",IF('Simplified Loader'!I44=\"Single Parent\",\"Single + more\",IF('Simplified Loader'!I44=\"Couple\",\"Couple\",\"\")))","v":""},{"$f":"IF(AND('Simplified Loader (FOR COPY)'!N38=\"Family\",'Simplified Loader'!J44=\"Single\"),\"Single\",IF('Simplified Loader'!J44=\"Monoparental\",\"Monoparental\",IF('Simplified Loader'!J44=\"Couple\",\"Couple\",\"\")))","v":""},{"$f":"IF('Simplified Loader'!CI44>0,'Simplified Loader'!CI44,\"\")","v":""}]
[null,{"$f":"IF('Simplified Loader'!A45>0,'Simplified Loader'!A45,\"\")","v":""},{"$f":"IF('Simplified Loader'!B45>0,'Simplified Loader'!B45,\"\")","v":""},{"$f":"IF('Simplified Loader'!D45>0,'Simplified Loader'!D45,\"\")","v":""},{"$f":"IF('Simplified Loader (FOR COPY)'!N39>0,'Simplified Loader (FOR COPY)'!N39,\"\")","v":""},{"$f":"IF(AND('Simplified Loader (FOR COPY)'!N39=\"Family\",'Simplified Loader'!I45=\"Single\"),\"Single\",IF('Simplified Loader'!I45=\"Single Parent\",\"Single + more\",IF('Simplified Loader'!I45=\"Couple\",\"Couple\",\"\")))","v":""},{"$f":"IF(AND('Simplified Loader (FOR COPY)'!N39=\"Family\",'Simplified Loader'!J45=\"Single\"),\"Single\",IF('Simplified Loader'!J45=\"Monoparental\",\"Monoparental\",IF('Simplified Loader'!J45=\"Couple\",\"Couple\",\"\")))","v":""},{"$f":"IF('Simplified Loader'!CI45>0,'Simplified Loader'!CI45,\"\")","v":""}]
[null,{"$f":"IF('Simplified Loader'!A46>0,'Simplified Loader'!A46,\"\")","v":""},{"$f":"IF('Simplified Loader'!B46>0,'Simplified Loader'!B46,\"\")","v":""},{"$f":"IF('Simplified Loader'!D46>0,'Simplified Loader'!D46,\"\")","v":""},{"$f":"IF('Simplified Loader (FOR COPY)'!N40>0,'Simplified Loader (FOR COPY)'!N40,\"\")","v":""},{"$f":"IF(AND('Simplified Loader (FOR COPY)'!N40=\"Family\",'Simplified Loader'!I46=\"Single\"),\"Single\",IF('Simplified Loader'!I46=\"Single Parent\",\"Single + more\",IF('Simplified Loader'!I46=\"Couple\",\"Couple\",\"\")))","v":""},{"$f":"IF(AND('Simplified Loader (FOR COPY)'!N40=\"Family\",'Simplified Loader'!J46=\"Single\"),\"Single\",IF('Simplified Loader'!J46=\"Monoparental\",\"Monoparental\",IF('Simplified Loader'!J46=\"Couple\",\"Couple\",\"\")))","v":""},{"$f":"IF('Simplified Loader'!CI46>0,'Simplified Loader'!CI46,\"\")","v":""}]
[null,{"$f":"IF('Simplified Loader'!A47>0,'Simplified Loader'!A47,\"\")","v":""},{"$f":"IF('Simplified Loader'!B47>0,'Simplified Loader'!B47,\"\")","v":""},{"$f":"IF('Simplified Loader'!D47>0,'Simplified Loader'!D47,\"\")","v":""},{"$f":"IF('Simplified Loader (FOR COPY)'!N41>0,'Simplified Loader (FOR COPY)'!N41,\"\")","v":""},{"$f":"IF(AND('Simplified Loader (FOR COPY)'!N41=\"Family\",'Simplified Loader'!I47=\"Single\"),\"Single\",IF('Simplified Loader'!I47=\"Single Parent\",\"Single + more\",IF('Simplified Loader'!I47=\"Couple\",\"Couple\",\"\")))","v":""},{"$f":"IF(AND('Simplified Loader (FOR COPY)'!N41=\"Family\",'Simplified Loader'!J47=\"Single\"),\"Single\",IF('Simplified Loader'!J47=\"Monoparental\",\"Monoparental\",IF('Simplified Loader'!J47=\"Couple\",\"Couple\",\"\")))","v":""},{"$f":"IF('Simplified Loader'!CI47>0,'Simplified Loader'!CI47,\"\")","v":""}]
[null,{"$f":"IF('Simplified Loader'!A48>0,'Simplified Loader'!A48,\"\")","v":""},{"$f":"IF('Simplified Loader'!B48>0,'Simplified Loader'!B48,\"\")","v":""},{"$f":"IF('Simplified Loader'!D48>0,'Simplified Loader'!D48,\"\")","v":""},{"$f":"IF('Simplified Loader (FOR COPY)'!N42>0,'Simplified Loader (FOR COPY)'!N42,\"\")","v":""},{"$f":"IF(AND('Simplified Loader (FOR COPY)'!N42=\"Family\",'Simplified Loader'!I48=\"Single\"),\"Single\",IF('Simplified Loader'!I48=\"Single Parent\",\"Single + more\",IF('Simplified Loader'!I48=\"Couple\",\"Couple\",\"\")))","v":""},{"$f":"IF(AND('Simplified Loader (FOR COPY)'!N42=\"Family\",'Simplified Loader'!J48=\"Single\"),\"Single\",IF('Simplified Loader'!J48=\"Monoparental\",\"Monoparental\",IF('Simplified Loader'!J48=\"Couple\",\"Couple\",\"\")))","v":""},{"$f":"IF('Simplified Loader'!CI48>0,'Simplified Loader'!CI48,\"\")","v":""}]
[null,{"$f":"IF('Simplified Loader'!A49>0,'Simplified Loader'!A49,\"\")","v":""},{"$f":"IF('Simplified Loader'!B49>0,'Simplified Loader'!B49,\"\")","v":""},{"$f":"IF('Simplified Loader'!D49>0,'Simplified Loader'!D49,\"\")","v":""},{"$f":"IF('Simplified Loader (FOR COPY)'!N43>0,'Simplified Loader (FOR COPY)'!N43,\"\")","v":""},{"$f":"IF(AND('Simplified Loader (FOR COPY)'!N43=\"Family\",'Simplified Loader'!I49=\"Single\"),\"Single\",IF('Simplified Loader'!I49=\"Single Parent\",\"Single + more\",IF('Simplified Loader'!I49=\"Couple\",\"Couple\",\"\")))","v":""},{"$f":"IF(AND('Simplified Loader (FOR COPY)'!N43=\"Family\",'Simplified Loader'!J49=\"Single\"),\"Single\",IF('Simplified Loader'!J49=\"Monoparental\",\"Monoparental\",IF('Simplified Loader'!J49=\"Couple\",\"Couple\",\"\")))","v":""},{"$f":"IF('Simplified Loader'!CI49>0,'Simplified Loader'!CI49,\"\")","v":""}]
[null,{"$f":"IF('Simplified Loader'!A50>0,'Simplified Loader'!A50,\"\")","v":""},{"$f":"IF('Simplified Loader'!B50>0,'Simplified Loader'!B50,\"\")","v":""},{"$f":"IF('Simplified Loader'!D50>0,'Simplified Loader'!D50,\"\")","v":""},{"$f":"IF('Simplified Loader (FOR COPY)'!N44>0,'Simplified Loader (FOR COPY)'!N44,\"\")","v":""},{"$f":"IF(AND('Simplified Loader (FOR COPY)'!N44=\"Family\",'Simplified Loader'!I50=\"Single\"),\"Single\",IF('Simplified Loader'!I50=\"Single Parent\",\"Single + more\",IF('Simplified Loader'!I50=\"Couple\",\"Couple\",\"\")))","v":""},{"$f":"IF(AND('Simplified Loader (FOR COPY)'!N44=\"Family\",'Simplified Loader'!J50=\"Single\"),\"Single\",IF('Simplified Loader'!J50=\"Monoparental\",\"Monoparental\",IF('Simplified Loader'!J50=\"Couple\",\"Couple\",\"\")))","v":""},{"$f":"IF('Simplified Loader'!CI50>0,'Simplified Loader'!CI50,\"\")","v":""}]
[null,{"$f":"IF('Simplified Loader'!A51>0,'Simplified Loader'!A51,\"\")","v":""},{"$f":"IF('Simplified Loader'!B51>0,'Simplified Loader'!B51,\"\")","v":""},{"$f":"IF('Simplified Loader'!D51>0,'Simplified Loader'!D51,\"\")","v":""},{"$f":"IF('Simplified Loader (FOR COPY)'!N45>0,'Simplified Loader (FOR COPY)'!N45,\"\")","v":""},{"$f":"IF(AND('Simplified Loader (FOR COPY)'!N45=\"Family\",'Simplified Loader'!I51=\"Single\"),\"Single\",IF('Simplified Loader'!I51=\"Single Parent\",\"Single + more\",IF('Simplified Loader'!I51=\"Couple\",\"Couple\",\"\")))","v":""},{"$f":"IF(AND('Simplified Loader (FOR COPY)'!N45=\"Family\",'Simplified Loader'!J51=\"Single\"),\"Single\",IF('Simplified Loader'!J51=\"Monoparental\",\"Monoparental\",IF('Simplified Loader'!J51=\"Couple\",\"Couple\",\"\")))","v":""},{"$f":"IF('Simplified Loader'!CI51>0,'Simplified Loader'!CI51,\"\")","v":""}]
[null,{"$f":"IF('Simplified Loader'!A52>0,'Simplified Loader'!A52,\"\")","v":""},{"$f":"IF('Simplified Loader'!B52>0,'Simplified Loader'!B52,\"\")","v":""},{"$f":"IF('Simplified Loader'!D52>0,'Simplified Loader'!D52,\"\")","v":""},{"$f":"IF('Simplified Loader (FOR COPY)'!N46>0,'Simplified Loader (FOR COPY)'!N46,\"\")","v":""},{"$f":"IF(AND('Simplified Loader (FOR COPY)'!N46=\"Family\",'Simplified Loader'!I52=\"Single\"),\"Single\",IF('Simplified Loader'!I52=\"Single Parent\",\"Single + more\",IF('Simplified Loader'!I52=\"Couple\",\"Couple\",\"\")))","v":""},{"$f":"IF(AND('Simplified Loader (FOR COPY)'!N46=\"Family\",'Simplified Loader'!J52=\"Single\"),\"Single\",IF('Simplified Loader'!J52=\"Monoparental\",\"Monoparental\",IF('Simplified Loader'!J52=\"Couple\",\"Couple\",\"\")))","v":""},{"$f":"IF('Simplified Loader'!CI52>0,'Simplified Loader'!CI52,\"\")","v":""}]
[null,{"$f":"IF('Simplified Loader'!A53>0,'Simplified Loader'!A53,\"\")","v":""},{"$f":"IF('Simplified Loader'!B53>0,'Simplified Loader'!B53,\"\")","v":""},{"$f":"IF('Simplified Loader'!D53>0,'Simplified Loader'!D53,\"\")","v":""},{"$f":"IF('Simplified Loader (FOR COPY)'!N47>0,'Simplified Loader (FOR COPY)'!N47,\"\")","v":""},{"$f":"IF(AND('Simplified Loader (FOR COPY)'!N47=\"Family\",'Simplified Loader'!I53=\"Single\"),\"Single\",IF('Simplified Loader'!I53=\"Single Parent\",\"Single + more\",IF('Simplified Loader'!I53=\"Couple\",\"Couple\",\"\")))","v":""},{"$f":"IF(AND('Simplified Loader (FOR COPY)'!N47=\"Family\",'Simplified Loader'!J53=\"Single\"),\"Single\",IF('Simplified Loader'!J53=\"Monoparental\",\"Monoparental\",IF('Simplified Loader'!J53=\"Couple\",\"Couple\",\"\")))","v":""},{"$f":"IF('Simplified Loader'!CI53>0,'Simplified Loader'!CI53,\"\")","v":""}]
[null,{"$f":"IF('Simplified Loader'!A54>0,'Simplified Loader'!A54,\"\")","v":""},{"$f":"IF('Simplified Loader'!B54>0,'Simplified Loader'!B54,\"\")","v":""},{"$f":"IF('Simplified Loader'!D54>0,'Simplified Loader'!D54,\"\")","v":""},{"$f":"IF('Simplified Loader (FOR COPY)'!N48>0,'Simplified Loader (FOR COPY)'!N48,\"\")","v":""},{"$f":"IF(AND('Simplified Loader (FOR COPY)'!N48=\"Family\",'Simplified Loader'!I54=\"Single\"),\"Single\",IF('Simplified Loader'!I54=\"Single Parent\",\"Single + more\",IF('Simplified Loader'!I54=\"Couple\",\"Couple\",\"\")))","v":""},{"$f":"IF(AND('Simplified Loader (FOR COPY)'!N48=\"Family\",'Simplified Loader'!J54=\"Single\"),\"Single\",IF('Simplified Loader'!J54=\"Monoparental\",\"Monoparental\",IF('Simplified Loader'!J54=\"Couple\",\"Couple\",\"\")))","v":""},{"$f":"IF('Simplified Loader'!CI54>0,'Simplified Loader'!CI54,\"\")","v":""}]
[null,{"$f":"IF('Simplified Loader'!A55>0,'Simplified Loader'!A55,\"\")","v":""},{"$f":"IF('Simplified Loader'!B55>0,'Simplified Loader'!B55,\"\")","v":""},{"$f":"IF('Simplified Loader'!D55>0,'Simplified Loader'!D55,\"\")","v":""},{"$f":"IF('Simplified Loader (FOR COPY)'!N49>0,'Simplified Loader (FOR COPY)'!N49,\"\")","v":""},{"$f":"IF(AND('Simplified Loader (FOR COPY)'!N49=\"Family\",'Simplified Loader'!I55=\"Single\"),\"Single\",IF('Simplified Loader'!I55=\"Single Parent\",\"Single + more\",IF('Simplified Loader'!I55=\"Couple\",\"Couple\",\"\")))","v":""},{"$f":"IF(AND('Simplified Loader (FOR COPY)'!N49=\"Family\",'Simplified Loader'!J55=\"Single\"),\"Single\",IF('Simplified Loader'!J55=\"Monoparental\",\"Monoparental\",IF('Simplified Loader'!J55=\"Couple\",\"Couple\",\"\")))","v":""},{"$f":"IF('Simplified Loader'!CI55>0,'Simplified Loader'!CI55,\"\")","v":""}]
[null,{"$f":"IF('Simplified Loader'!A56>0,'Simplified Loader'!A56,\"\")","v":""},{"$f":"IF('Simplified Loader'!B56>0,'Simplified Loader'!B56,\"\")","v":""},{"$f":"IF('Simplified Loader'!D56>0,'Simplified Loader'!D56,\"\")","v":""},{"$f":"IF('Simplified Loader (FOR COPY)'!N50>0,'Simplified Loader (FOR COPY)'!N50,\"\")","v":""},{"$f":"IF(AND('Simplified Loader (FOR COPY)'!N50=\"Family\",'Simplified Loader'!I56=\"Single\"),\"Single\",IF('Simplified Loader'!I56=\"Single Parent\",\"Single + more\",IF('Simplified Loader'!I56=\"Couple\",\"Couple\",\"\")))","v":""},{"$f":"IF(AND('Simplified Loader (FOR COPY)'!N50=\"Family\",'Simplified Loader'!J56=\"Single\"),\"Single\",IF('Simplified Loader'!J56=\"Monoparental\",\"Monoparental\",IF('Simplified Loader'!J56=\"Couple\",\"Couple\",\"\")))","v":""},{"$f":"IF('Simplified Loader'!CI56>0,'Simplified Loader'!CI56,\"\")","v":""}]
[null,{"$f":"IF('Simplified Loader'!A57>0,'Simplified Loader'!A57,\"\")","v":""},{"$f":"IF('Simplified Loader'!B57>0,'Simplified Loader'!B57,\"\")","v":""},{"$f":"IF('Simplified Loader'!D57>0,'Simplified Loader'!D57,\"\")","v":""},{"$f":"IF('Simplified Loader (FOR COPY)'!N51>0,'Simplified Loader (FOR COPY)'!N51,\"\")","v":""},{"$f":"IF(AND('Simplified Loader (FOR COPY)'!N51=\"Family\",'Simplified Loader'!I57=\"Single\"),\"Single\",IF('Simplified Loader'!I57=\"Single Parent\",\"Single + more\",IF('Simplified Loader'!I57=\"Couple\",\"Couple\",\"\")))","v":""},{"$f":"IF(AND('Simplified Loader (FOR COPY)'!N51=\"Family\",'Simplified Loader'!J57=\"Single\"),\"Single\",IF('Simplified Loader'!J57=\"Monoparental\",\"Monoparental\",IF('Simplified Loader'!J57=\"Couple\",\"Couple\",\"\")))","v":""},{"$f":"IF('Simplified Loader'!CI57>0,'Simplified Loader'!CI57,\"\")","v":""}]
[null,{"$f":"IF('Simplified Loader'!A58>0,'Simplified Loader'!A58,\"\")","v":""},{"$f":"IF('Simplified Loader'!B58>0,'Simplified Loader'!B58,\"\")","v":""},{"$f":"IF('Simplified Loader'!D58>0,'Simplified Loader'!D58,\"\")","v":""},{"$f":"IF('Simplified Loader (FOR COPY)'!N52>0,'Simplified Loader (FOR COPY)'!N52,\"\")","v":""},{"$f":"IF(AND('Simplified Loader (FOR COPY)'!N52=\"Family\",'Simplified Loader'!I58=\"Single\"),\"Single\",IF('Simplified Loader'!I58=\"Single Parent\",\"Single + more\",IF('Simplified Loader'!I58=\"Couple\",\"Couple\",\"\")))","v":""},{"$f":"IF(AND('Simplified Loader (FOR COPY)'!N52=\"Family\",'Simplified Loader'!J58=\"Single\"),\"Single\",IF('Simplified Loader'!J58=\"Monoparental\",\"Monoparental\",IF('Simplified Loader'!J58=\"Couple\",\"Couple\",\"\")))","v":""},{"$f":"IF('Simplified Loader'!CI58>0,'Simplified Loader'!CI58,\"\")","v":""}]
[null,{"$f":"IF('Simplified Loader'!A59>0,'Simplified Loader'!A59,\"\")","v":""},{"$f":"IF('Simplified Loader'!B59>0,'Simplified Loader'!B59,\"\")","v":""},{"$f":"IF('Simplified Loader'!D59>0,'Simplified Loader'!D59,\"\")","v":""},{"$f":"IF('Simplified Loader (FOR COPY)'!N53>0,'Simplified Loader (FOR COPY)'!N53,\"\")","v":""},{"$f":"IF(AND('Simplified Loader (FOR COPY)'!N53=\"Family\",'Simplified Loader'!I59=\"Single\"),\"Single\",IF('Simplified Loader'!I59=\"Single Parent\",\"Single + more\",IF('Simplified Loader'!I59=\"Couple\",\"Couple\",\"\")))","v":""},{"$f":"IF(AND('Simplified Loader (FOR COPY)'!N53=\"Family\",'Simplified Loader'!J59=\"Single\"),\"Single\",IF('Simplified Loader'!J59=\"Monoparental\",\"Monoparental\",IF('Simplified Loader'!J59=\"Couple\",\"Couple\",\"\")))","v":""},{"$f":"IF('Simplified Loader'!CI59>0,'Simplified Loader'!CI59,\"\")","v":""}]
[null,{"$f":"IF('Simplified Loader'!A60>0,'Simplified Loader'!A60,\"\")","v":""},{"$f":"IF('Simplified Loader'!B60>0,'Simplified Loader'!B60,\"\")","v":""},{"$f":"IF('Simplified Loader'!D60>0,'Simplified Loader'!D60,\"\")","v":""},{"$f":"IF('Simplified Loader (FOR COPY)'!N54>0,'Simplified Loader (FOR COPY)'!N54,\"\")","v":""},{"$f":"IF(AND('Simplified Loader (FOR COPY)'!N54=\"Family\",'Simplified Loader'!I60=\"Single\"),\"Single\",IF('Simplified Loader'!I60=\"Single Parent\",\"Single + more\",IF('Simplified Loader'!I60=\"Couple\",\"Couple\",\"\")))","v":""},{"$f":"IF(AND('Simplified Loader (FOR COPY)'!N54=\"Family\",'Simplified Loader'!J60=\"Single\"),\"Single\",IF('Simplified Loader'!J60=\"Monoparental\",\"Monoparental\",IF('Simplified Loader'!J60=\"Couple\",\"Couple\",\"\")))","v":""},{"$f":"IF('Simplified Loader'!CI60>0,'Simplified Loader'!CI60,\"\")","v":""}]
[null,{"$f":"IF('Simplified Loader'!A61>0,'Simplified Loader'!A61,\"\")","v":""},{"$f":"IF('Simplified Loader'!B61>0,'Simplified Loader'!B61,\"\")","v":""},{"$f":"IF('Simplified Loader'!D61>0,'Simplified Loader'!D61,\"\")","v":""},{"$f":"IF('Simplified Loader (FOR COPY)'!N55>0,'Simplified Loader (FOR COPY)'!N55,\"\")","v":""},{"$f":"IF(AND('Simplified Loader (FOR COPY)'!N55=\"Family\",'Simplified Loader'!I61=\"Single\"),\"Single\",IF('Simplified Loader'!I61=\"Single Parent\",\"Single + more\",IF('Simplified Loader'!I61=\"Couple\",\"Couple\",\"\")))","v":""},{"$f":"IF(AND('Simplified Loader (FOR COPY)'!N55=\"Family\",'Simplified Loader'!J61=\"Single\"),\"Single\",IF('Simplified Loader'!J61=\"Monoparental\",\"Monoparental\",IF('Simplified Loader'!J61=\"Couple\",\"Couple\",\"\")))","v":""},{"$f":"IF('Simplified Loader'!CI61>0,'Simplified Loader'!CI61,\"\")","v":""}]
[null,{"$f":"IF('Simplified Loader'!A62>0,'Simplified Loader'!A62,\"\")","v":""},{"$f":"IF('Simplified Loader'!B62>0,'Simplified Loader'!B62,\"\")","v":""},{"$f":"IF('Simplified Loader'!D62>0,'Simplified Loader'!D62,\"\")","v":""},{"$f":"IF('Simplified Loader (FOR COPY)'!N56>0,'Simplified Loader (FOR COPY)'!N56,\"\")","v":""},{"$f":"IF(AND('Simplified Loader (FOR COPY)'!N56=\"Family\",'Simplified Loader'!I62=\"Single\"),\"Single\",IF('Simplified Loader'!I62=\"Single Parent\",\"Single + more\",IF('Simplified Loader'!I62=\"Couple\",\"Couple\",\"\")))","v":""},{"$f":"IF(AND('Simplified Loader (FOR COPY)'!N56=\"Family\",'Simplified Loader'!J62=\"Single\"),\"Single\",IF('Simplified Loader'!J62=\"Monoparental\",\"Monoparental\",IF('Simplified Loader'!J62=\"Couple\",\"Couple\",\"\")))","v":""},{"$f":"IF('Simplified Loader'!CI62>0,'Simplified Loader'!CI62,\"\")","v":""}]
[null,{"$f":"IF('Simplified Loader'!A63>0,'Simplified Loader'!A63,\"\")","v":""},{"$f":"IF('Simplified Loader'!B63>0,'Simplified Loader'!B63,\"\")","v":""},{"$f":"IF('Simplified Loader'!D63>0,'Simplified Loader'!D63,\"\")","v":""},{"$f":"IF('Simplified Loader (FOR COPY)'!N57>0,'Simplified Loader (FOR COPY)'!N57,\"\")","v":""},{"$f":"IF(AND('Simplified Loader (FOR COPY)'!N57=\"Family\",'Simplified Loader'!I63=\"Single\"),\"Single\",IF('Simplified Loader'!I63=\"Single Parent\",\"Single + more\",IF('Simplified Loader'!I63=\"Couple\",\"Couple\",\"\")))","v":""},{"$f":"IF(AND('Simplified Loader (FOR COPY)'!N57=\"Family\",'Simplified Loader'!J63=\"Single\"),\"Single\",IF('Simplified Loader'!J63=\"Monoparental\",\"Monoparental\",IF('Simplified Loader'!J63=\"Couple\",\"Couple\",\"\")))","v":""},{"$f":"IF('Simplified Loader'!CI63>0,'Simplified Loader'!CI63,\"\")","v":""}]
[null,{"$f":"IF('Simplified Loader'!A64>0,'Simplified Loader'!A64,\"\")","v":""},{"$f":"IF('Simplified Loader'!B64>0,'Simplified Loader'!B64,\"\")","v":""},{"$f":"IF('Simplified Loader'!D64>0,'Simplified Loader'!D64,\"\")","v":""},{"$f":"IF('Simplified Loader (FOR COPY)'!N58>0,'Simplified Loader (FOR COPY)'!N58,\"\")","v":""},{"$f":"IF(AND('Simplified Loader (FOR COPY)'!N58=\"Family\",'Simplified Loader'!I64=\"Single\"),\"Single\",IF('Simplified Loader'!I64=\"Single Parent\",\"Single + more\",IF('Simplified Loader'!I64=\"Couple\",\"Couple\",\"\")))","v":""},{"$f":"IF(AND('Simplified Loader (FOR COPY)'!N58=\"Family\",'Simplified Loader'!J64=\"Single\"),\"Single\",IF('Simplified Loader'!J64=\"Monoparental\",\"Monoparental\",IF('Simplified Loader'!J64=\"Couple\",\"Couple\",\"\")))","v":""},{"$f":"IF('Simplified Loader'!CI64>0,'Simplified Loader'!CI64,\"\")","v":""}]
[null,{"$f":"IF('Simplified Loader'!A65>0,'Simplified Loader'!A65,\"\")","v":""},{"$f":"IF('Simplified Loader'!B65>0,'Simplified Loader'!B65,\"\")","v":""},{"$f":"IF('Simplified Loader'!D65>0,'Simplified Loader'!D65,\"\")","v":""},{"$f":"IF('Simplified Loader (FOR COPY)'!N59>0,'Simplified Loader (FOR COPY)'!N59,\"\")","v":""},{"$f":"IF(AND('Simplified Loader (FOR COPY)'!N59=\"Family\",'Simplified Loader'!I65=\"Single\"),\"Single\",IF('Simplified Loader'!I65=\"Single Parent\",\"Single + more\",IF('Simplified Loader'!I65=\"Couple\",\"Couple\",\"\")))","v":""},{"$f":"IF(AND('Simplified Loader (FOR COPY)'!N59=\"Family\",'Simplified Loader'!J65=\"Single\"),\"Single\",IF('Simplified Loader'!J65=\"Monoparental\",\"Monoparental\",IF('Simplified Loader'!J65=\"Couple\",\"Couple\",\"\")))","v":""},{"$f":"IF('Simplified Loader'!CI65>0,'Simplified Loader'!CI65,\"\")","v":""}]
[null,{"$f":"IF('Simplified Loader'!A66>0,'Simplified Loader'!A66,\"\")","v":""},{"$f":"IF('Simplified Loader'!B66>0,'Simplified Loader'!B66,\"\")","v":""},{"$f":"IF('Simplified Loader'!D66>0,'Simplified Loader'!D66,\"\")","v":""},{"$f":"IF('Simplified Loader (FOR COPY)'!N60>0,'Simplified Loader (FOR COPY)'!N60,\"\")","v":""},{"$f":"IF(AND('Simplified Loader (FOR COPY)'!N60=\"Family\",'Simplified Loader'!I66=\"Single\"),\"Single\",IF('Simplified Loader'!I66=\"Single Parent\",\"Single + more\",IF('Simplified Loader'!I66=\"Couple\",\"Couple\",\"\")))","v":""},{"$f":"IF(AND('Simplified Loader (FOR COPY)'!N60=\"Family\",'Simplified Loader'!J66=\"Single\"),\"Single\",IF('Simplified Loader'!J66=\"Monoparental\",\"Monoparental\",IF('Simplified Loader'!J66=\"Couple\",\"Couple\",\"\")))","v":""},{"$f":"IF('Simplified Loader'!CI66>0,'Simplified Loader'!CI66,\"\")","v":""}]
[null,{"$f":"IF('Simplified Loader'!A67>0,'Simplified Loader'!A67,\"\")","v":""},{"$f":"IF('Simplified Loader'!B67>0,'Simplified Loader'!B67,\"\")","v":""},{"$f":"IF('Simplified Loader'!D67>0,'Simplified Loader'!D67,\"\")","v":""},{"$f":"IF('Simplified Loader (FOR COPY)'!N61>0,'Simplified Loader (FOR COPY)'!N61,\"\")","v":""},{"$f":"IF(AND('Simplified Loader (FOR COPY)'!N61=\"Family\",'Simplified Loader'!I67=\"Single\"),\"Single\",IF('Simplified Loader'!I67=\"Single Parent\",\"Single + more\",IF('Simplified Loader'!I67=\"Couple\",\"Couple\",\"\")))","v":""},{"$f":"IF(AND('Simplified Loader (FOR COPY)'!N61=\"Family\",'Simplified Loader'!J67=\"Single\"),\"Single\",IF('Simplified Loader'!J67=\"Monoparental\",\"Monoparental\",IF('Simplified Loader'!J67=\"Couple\",\"Couple\",\"\")))","v":""},{"$f":"IF('Simplified Loader'!CI67>0,'Simplified Loader'!CI67,\"\")","v":""}]
[null,{"$f":"IF('Simplified Loader'!A68>0,'Simplified Loader'!A68,\"\")","v":""},{"$f":"IF('Simplified Loader'!B68>0,'Simplified Loader'!B68,\"\")","v":""},{"$f":"IF('Simplified Loader'!D68>0,'Simplified Loader'!D68,\"\")","v":""},{"$f":"IF('Simplified Loader (FOR COPY)'!N62>0,'Simplified Loader (FOR COPY)'!N62,\"\")","v":""},{"$f":"IF(AND('Simplified Loader (FOR COPY)'!N62=\"Family\",'Simplified Loader'!I68=\"Single\"),\"Single\",IF('Simplified Loader'!I68=\"Single Parent\",\"Single + more\",IF('Simplified Loader'!I68=\"Couple\",\"Couple\",\"\")))","v":""},{"$f":"IF(AND('Simplified Loader (FOR COPY)'!N62=\"Family\",'Simplified Loader'!J68=\"Single\"),\"Single\",IF('Simplified Loader'!J68=\"Monoparental\",\"Monoparental\",IF('Simplified Loader'!J68=\"Couple\",\"Couple\",\"\")))","v":""},{"$f":"IF('Simplified Loader'!CI68>0,'Simplified Loader'!CI68,\"\")","v":""}]
[null,{"$f":"IF('Simplified Loader'!A69>0,'Simplified Loader'!A69,\"\")","v":""},{"$f":"IF('Simplified Loader'!B69>0,'Simplified Loader'!B69,\"\")","v":""},{"$f":"IF('Simplified Loader'!D69>0,'Simplified Loader'!D69,\"\")","v":""},{"$f":"IF('Simplified Loader (FOR COPY)'!N63>0,'Simplified Loader (FOR COPY)'!N63,\"\")","v":""},{"$f":"IF(AND('Simplified Loader (FOR COPY)'!N63=\"Family\",'Simplified Loader'!I69=\"Single\"),\"Single\",IF('Simplified Loader'!I69=\"Single Parent\",\"Single + more\",IF('Simplified Loader'!I69=\"Couple\",\"Couple\",\"\")))","v":""},{"$f":"IF(AND('Simplified Loader (FOR COPY)'!N63=\"Family\",'Simplified Loader'!J69=\"Single\"),\"Single\",IF('Simplified Loader'!J69=\"Monoparental\",\"Monoparental\",IF('Simplified Loader'!J69=\"Couple\",\"Couple\",\"\")))","v":""},{"$f":"IF('Simplified Loader'!CI69>0,'Simplified Loader'!CI69,\"\")","v":""}]
[null,{"$f":"IF('Simplified Loader'!A70>0,'Simplified Loader'!A70,\"\")","v":""},{"$f":"IF('Simplified Loader'!B70>0,'Simplified Loader'!B70,\"\")","v":""},{"$f":"IF('Simplified Loader'!D70>0,'Simplified Loader'!D70,\"\")","v":""},{"$f":"IF('Simplified Loader (FOR COPY)'!N64>0,'Simplified Loader (FOR COPY)'!N64,\"\")","v":""},{"$f":"IF(AND('Simplified Loader (FOR COPY)'!N64=\"Family\",'Simplified Loader'!I70=\"Single\"),\"Single\",IF('Simplified Loader'!I70=\"Single Parent\",\"Single + more\",IF('Simplified Loader'!I70=\"Couple\",\"Couple\",\"\")))","v":""},{"$f":"IF(AND('Simplified Loader (FOR COPY)'!N64=\"Family\",'Simplified Loader'!J70=\"Single\"),\"Single\",IF('Simplified Loader'!J70=\"Monoparental\",\"Monoparental\",IF('Simplified Loader'!J70=\"Couple\",\"Couple\",\"\")))","v":""},{"$f":"IF('Simplified Loader'!CI70>0,'Simplified Loader'!CI70,\"\")","v":""}]
[null,{"$f":"IF('Simplified Loader'!A71>0,'Simplified Loader'!A71,\"\")","v":""},{"$f":"IF('Simplified Loader'!B71>0,'Simplified Loader'!B71,\"\")","v":""},{"$f":"IF('Simplified Loader'!D71>0,'Simplified Loader'!D71,\"\")","v":""},{"$f":"IF('Simplified Loader (FOR COPY)'!N65>0,'Simplified Loader (FOR COPY)'!N65,\"\")","v":""},{"$f":"IF(AND('Simplified Loader (FOR COPY)'!N65=\"Family\",'Simplified Loader'!I71=\"Single\"),\"Single\",IF('Simplified Loader'!I71=\"Single Parent\",\"Single + more\",IF('Simplified Loader'!I71=\"Couple\",\"Couple\",\"\")))","v":""},{"$f":"IF(AND('Simplified Loader (FOR COPY)'!N65=\"Family\",'Simplified Loader'!J71=\"Single\"),\"Single\",IF('Simplified Loader'!J71=\"Monoparental\",\"Monoparental\",IF('Simplified Loader'!J71=\"Couple\",\"Couple\",\"\")))","v":""},{"$f":"IF('Simplified Loader'!CI71>0,'Simplified Loader'!CI71,\"\")","v":""}]
[null,{"$f":"IF('Simplified Loader'!A72>0,'Simplified Loader'!A72,\"\")","v":""},{"$f":"IF('Simplified Loader'!B72>0,'Simplified Loader'!B72,\"\")","v":""},{"$f":"IF('Simplified Loader'!D72>0,'Simplified Loader'!D72,\"\")","v":""},{"$f":"IF('Simplified Loader (FOR COPY)'!N66>0,'Simplified Loader (FOR COPY)'!N66,\"\")","v":""},{"$f":"IF(AND('Simplified Loader (FOR COPY)'!N66=\"Family\",'Simplified Loader'!I72=\"Single\"),\"Single\",IF('Simplified Loader'!I72=\"Single Parent\",\"Single + more\",IF('Simplified Loader'!I72=\"Couple\",\"Couple\",\"\")))","v":""},{"$f":"IF(AND('Simplified Loader (FOR COPY)'!N66=\"Family\",'Simplified Loader'!J72=\"Single\"),\"Single\",IF('Simplified Loader'!J72=\"Monoparental\",\"Monoparental\",IF('Simplified Loader'!J72=\"Couple\",\"Couple\",\"\")))","v":""},{"$f":"IF('Simplified Loader'!CI72>0,'Simplified Loader'!CI72,\"\")","v":""}]
[null,{"$f":"IF('Simplified Loader'!A73>0,'Simplified Loader'!A73,\"\")","v":""},{"$f":"IF('Simplified Loader'!B73>0,'Simplified Loader'!B73,\"\")","v":""},{"$f":"IF('Simplified Loader'!D73>0,'Simplified Loader'!D73,\"\")","v":""},{"$f":"IF('Simplified Loader (FOR COPY)'!N67>0,'Simplified Loader (FOR COPY)'!N67,\"\")","v":""},{"$f":"IF(AND('Simplified Loader (FOR COPY)'!N67=\"Family\",'Simplified Loader'!I73=\"Single\"),\"Single\",IF('Simplified Loader'!I73=\"Single Parent\",\"Single + more\",IF('Simplified Loader'!I73=\"Couple\",\"Couple\",\"\")))","v":""},{"$f":"IF(AND('Simplified Loader (FOR COPY)'!N67=\"Family\",'Simplified Loader'!J73=\"Single\"),\"Single\",IF('Simplified Loader'!J73=\"Monoparental\",\"Monoparental\",IF('Simplified Loader'!J73=\"Couple\",\"Couple\",\"\")))","v":""},{"$f":"IF('Simplified Loader'!CI73>0,'Simplified Loader'!CI73,\"\")","v":""}]
[null,{"$f":"IF('Simplified Loader'!A74>0,'Simplified Loader'!A74,\"\")","v":""},{"$f":"IF('Simplified Loader'!B74>0,'Simplified Loader'!B74,\"\")","v":""},{"$f":"IF('Simplified Loader'!D74>0,'Simplified Loader'!D74,\"\")","v":""},{"$f":"IF('Simplified Loader (FOR COPY)'!N68>0,'Simplified Loader (FOR COPY)'!N68,\"\")","v":""},{"$f":"IF(AND('Simplified Loader (FOR COPY)'!N68=\"Family\",'Simplified Loader'!I74=\"Single\"),\"Single\",IF('Simplified Loader'!I74=\"Single Parent\",\"Single + more\",IF('Simplified Loader'!I74=\"Couple\",\"Couple\",\"\")))","v":""},{"$f":"IF(AND('Simplified Loader (FOR COPY)'!N68=\"Family\",'Simplified Loader'!J74=\"Single\"),\"Single\",IF('Simplified Loader'!J74=\"Monoparental\",\"Monoparental\",IF('Simplified Loader'!J74=\"Couple\",\"Couple\",\"\")))","v":""},{"$f":"IF('Simplified Loader'!CI74>0,'Simplified Loader'!CI74,\"\")","v":""}]
[null,{"$f":"IF('Simplified Loader'!A75>0,'Simplified Loader'!A75,\"\")","v":""},{"$f":"IF('Simplified Loader'!B75>0,'Simplified Loader'!B75,\"\")","v":""},{"$f":"IF('Simplified Loader'!D75>0,'Simplified Loader'!D75,\"\")","v":""},{"$f":"IF('Simplified Loader (FOR COPY)'!N69>0,'Simplified Loader (FOR COPY)'!N69,\"\")","v":""},{"$f":"IF(AND('Simplified Loader (FOR COPY)'!N69=\"Family\",'Simplified Loader'!I75=\"Single\"),\"Single\",IF('Simplified Loader'!I75=\"Single Parent\",\"Single + more\",IF('Simplified Loader'!I75=\"Couple\",\"Couple\",\"\")))","v":""},{"$f":"IF(AND('Simplified Loader (FOR COPY)'!N69=\"Family\",'Simplified Loader'!J75=\"Single\"),\"Single\",IF('Simplified Loader'!J75=\"Monoparental\",\"Monoparental\",IF('Simplified Loader'!J75=\"Couple\",\"Couple\",\"\")))","v":""},{"$f":"IF('Simplified Loader'!CI75>0,'Simplified Loader'!CI75,\"\")","v":""}]
[null,{"$f":"IF('Simplified Loader'!A76>0,'Simplified Loader'!A76,\"\")","v":""},{"$f":"IF('Simplified Loader'!B76>0,'Simplified Loader'!B76,\"\")","v":""},{"$f":"IF('Simplified Loader'!D76>0,'Simplified Loader'!D76,\"\")","v":""},{"$f":"IF('Simplified Loader (FOR COPY)'!N70>0,'Simplified Loader (FOR COPY)'!N70,\"\")","v":""},{"$f":"IF(AND('Simplified Loader (FOR COPY)'!N70=\"Family\",'Simplified Loader'!I76=\"Single\"),\"Single\",IF('Simplified Loader'!I76=\"Single Parent\",\"Single + more\",IF('Simplified Loader'!I76=\"Couple\",\"Couple\",\"\")))","v":""},{"$f":"IF(AND('Simplified Loader (FOR COPY)'!N70=\"Family\",'Simplified Loader'!J76=\"Single\"),\"Single\",IF('Simplified Loader'!J76=\"Monoparental\",\"Monoparental\",IF('Simplified Loader'!J76=\"Couple\",\"Couple\",\"\")))","v":""},{"$f":"IF('Simplified Loader'!CI76>0,'Simplified Loader'!CI76,\"\")","v":""}]
[null,{"$f":"IF('Simplified Loader'!A77>0,'Simplified Loader'!A77,\"\")","v":""},{"$f":"IF('Simplified Loader'!B77>0,'Simplified Loader'!B77,\"\")","v":""},{"$f":"IF('Simplified Loader'!D77>0,'Simplified Loader'!D77,\"\")","v":""},{"$f":"IF('Simplified Loader (FOR COPY)'!N71>0,'Simplified Loader (FOR COPY)'!N71,\"\")","v":""},{"$f":"IF(AND('Simplified Loader (FOR COPY)'!N71=\"Family\",'Simplified Loader'!I77=\"Single\"),\"Single\",IF('Simplified Loader'!I77=\"Single Parent\",\"Single + more\",IF('Simplified Loader'!I77=\"Couple\",\"Couple\",\"\")))","v":""},{"$f":"IF(AND('Simplified Loader (FOR COPY)'!N71=\"Family\",'Simplified Loader'!J77=\"Single\"),\"Single\",IF('Simplified Loader'!J77=\"Monoparental\",\"Monoparental\",IF('Simplified Loader'!J77=\"Couple\",\"Couple\",\"\")))","v":""},{"$f":"IF('Simplified Loader'!CI77>0,'Simplified Loader'!CI77,\"\")","v":""}]
[null,{"$f":"IF('Simplified Loader'!A78>0,'Simplified Loader'!A78,\"\")","v":""},{"$f":"IF('Simplified Loader'!B78>0,'Simplified Loader'!B78,\"\")","v":""},{"$f":"IF('Simplified Loader'!D78>0,'Simplified Loader'!D78,\"\")","v":""},{"$f":"IF('Simplified Loader (FOR COPY)'!N72>0,'Simplified Loader (FOR COPY)'!N72,\"\")","v":""},{"$f":"IF(AND('Simplified Loader (FOR COPY)'!N72=\"Family\",'Simplified Loader'!I78=\"Single\"),\"Single\",IF('Simplified Loader'!I78=\"Single Parent\",\"Single + more\",IF('Simplified Loader'!I78=\"Couple\",\"Couple\",\"\")))","v":""},{"$f":"IF(AND('Simplified Loader (FOR COPY)'!N72=\"Family\",'Simplified Loader'!J78=\"Single\"),\"Single\",IF('Simplified Loader'!J78=\"Monoparental\",\"Monoparental\",IF('Simplified Loader'!J78=\"Couple\",\"Couple\",\"\")))","v":""},{"$f":"IF('Simplified Loader'!CI78>0,'Simplified Loader'!CI78,\"\")","v":""}]
[null,{"$f":"IF('Simplified Loader'!A79>0,'Simplified Loader'!A79,\"\")","v":""},{"$f":"IF('Simplified Loader'!B79>0,'Simplified Loader'!B79,\"\")","v":""},{"$f":"IF('Simplified Loader'!D79>0,'Simplified Loader'!D79,\"\")","v":""},{"$f":"IF('Simplified Loader (FOR COPY)'!N73>0,'Simplified Loader (FOR COPY)'!N73,\"\")","v":""},{"$f":"IF(AND('Simplified Loader (FOR COPY)'!N73=\"Family\",'Simplified Loader'!I79=\"Single\"),\"Single\",IF('Simplified Loader'!I79=\"Single Parent\",\"Single + more\",IF('Simplified Loader'!I79=\"Couple\",\"Couple\",\"\")))","v":""},{"$f":"IF(AND('Simplified Loader (FOR COPY)'!N73=\"Family\",'Simplified Loader'!J79=\"Single\"),\"Single\",IF('Simplified Loader'!J79=\"Monoparental\",\"Monoparental\",IF('Simplified Loader'!J79=\"Couple\",\"Couple\",\"\")))","v":""},{"$f":"IF('Simplified Loader'!CI79>0,'Simplified Loader'!CI79,\"\")","v":""}]
[null,{"$f":"IF('Simplified Loader'!A80>0,'Simplified Loader'!A80,\"\")","v":""},{"$f":"IF('Simplified Loader'!B80>0,'Simplified Loader'!B80,\"\")","v":""},{"$f":"IF('Simplified Loader'!D80>0,'Simplified Loader'!D80,\"\")","v":""},{"$f":"IF('Simplified Loader (FOR COPY)'!N74>0,'Simplified Loader (FOR COPY)'!N74,\"\")","v":""},{"$f":"IF(AND('Simplified Loader (FOR COPY)'!N74=\"Family\",'Simplified Loader'!I80=\"Single\"),\"Single\",IF('Simplified Loader'!I80=\"Single Parent\",\"Single + more\",IF('Simplified Loader'!I80=\"Couple\",\"Couple\",\"\")))","v":""},{"$f":"IF(AND('Simplified Loader (FOR COPY)'!N74=\"Family\",'Simplified Loader'!J80=\"Single\"),\"Single\",IF('Simplified Loader'!J80=\"Monoparental\",\"Monoparental\",IF('Simplified Loader'!J80=\"Couple\",\"Couple\",\"\")))","v":""},{"$f":"IF('Simplified Loader'!CI80>0,'Simplified Loader'!CI80,\"\")","v":""}]
[null,{"$f":"IF('Simplified Loader'!A81>0,'Simplified Loader'!A81,\"\")","v":""},{"$f":"IF('Simplified Loader'!B81>0,'Simplified Loader'!B81,\"\")","v":""},{"$f":"IF('Simplified Loader'!D81>0,'Simplified Loader'!D81,\"\")","v":""},{"$f":"IF('Simplified Loader (FOR COPY)'!N75>0,'Simplified Loader (FOR COPY)'!N75,\"\")","v":""},{"$f":"IF(AND('Simplified Loader (FOR COPY)'!N75=\"Family\",'Simplified Loader'!I81=\"Single\"),\"Single\",IF('Simplified Loader'!I81=\"Single Parent\",\"Single + more\",IF('Simplified Loader'!I81=\"Couple\",\"Couple\",\"\")))","v":""},{"$f":"IF(AND('Simplified Loader (FOR COPY)'!N75=\"Family\",'Simplified Loader'!J81=\"Single\"),\"Single\",IF('Simplified Loader'!J81=\"Monoparental\",\"Monoparental\",IF('Simplified Loader'!J81=\"Couple\",\"Couple\",\"\")))","v":""},{"$f":"IF('Simplified Loader'!CI81>0,'Simplified Loader'!CI81,\"\")","v":""}]
[null,{"$f":"IF('Simplified Loader'!A82>0,'Simplified Loader'!A82,\"\")","v":""},{"$f":"IF('Simplified Loader'!B82>0,'Simplified Loader'!B82,\"\")","v":""},{"$f":"IF('Simplified Loader'!D82>0,'Simplified Loader'!D82,\"\")","v":""},{"$f":"IF('Simplified Loader (FOR COPY)'!N76>0,'Simplified Loader (FOR COPY)'!N76,\"\")","v":""},{"$f":"IF(AND('Simplified Loader (FOR COPY)'!N76=\"Family\",'Simplified Loader'!I82=\"Single\"),\"Single\",IF('Simplified Loader'!I82=\"Single Parent\",\"Single + more\",IF('Simplified Loader'!I82=\"Couple\",\"Couple\",\"\")))","v":""},{"$f":"IF(AND('Simplified Loader (FOR COPY)'!N76=\"Family\",'Simplified Loader'!J82=\"Single\"),\"Single\",IF('Simplified Loader'!J82=\"Monoparental\",\"Monoparental\",IF('Simplified Loader'!J82=\"Couple\",\"Couple\",\"\")))","v":""},{"$f":"IF('Simplified Loader'!CI82>0,'Simplified Loader'!CI82,\"\")","v":""}]
[null,{"$f":"IF('Simplified Loader'!A83>0,'Simplified Loader'!A83,\"\")","v":""},{"$f":"IF('Simplified Loader'!B83>0,'Simplified Loader'!B83,\"\")","v":""},{"$f":"IF('Simplified Loader'!D83>0,'Simplified Loader'!D83,\"\")","v":""},{"$f":"IF('Simplified Loader (FOR COPY)'!N77>0,'Simplified Loader (FOR COPY)'!N77,\"\")","v":""},{"$f":"IF(AND('Simplified Loader (FOR COPY)'!N77=\"Family\",'Simplified Loader'!I83=\"Single\"),\"Single\",IF('Simplified Loader'!I83=\"Single Parent\",\"Single + more\",IF('Simplified Loader'!I83=\"Couple\",\"Couple\",\"\")))","v":""},{"$f":"IF(AND('Simplified Loader (FOR COPY)'!N77=\"Family\",'Simplified Loader'!J83=\"Single\"),\"Single\",IF('Simplified Loader'!J83=\"Monoparental\",\"Monoparental\",IF('Simplified Loader'!J83=\"Couple\",\"Couple\",\"\")))","v":""},{"$f":"IF('Simplified Loader'!CI83>0,'Simplified Loader'!CI83,\"\")","v":""}]
[null,{"$f":"IF('Simplified Loader'!A84>0,'Simplified Loader'!A84,\"\")","v":""},{"$f":"IF('Simplified Loader'!B84>0,'Simplified Loader'!B84,\"\")","v":""},{"$f":"IF('Simplified Loader'!D84>0,'Simplified Loader'!D84,\"\")","v":""},{"$f":"IF('Simplified Loader (FOR COPY)'!N78>0,'Simplified Loader (FOR COPY)'!N78,\"\")","v":""},{"$f":"IF(AND('Simplified Loader (FOR COPY)'!N78=\"Family\",'Simplified Loader'!I84=\"Single\"),\"Single\",IF('Simplified Loader'!I84=\"Single Parent\",\"Single + more\",IF('Simplified Loader'!I84=\"Couple\",\"Couple\",\"\")))","v":""},{"$f":"IF(AND('Simplified Loader (FOR COPY)'!N78=\"Family\",'Simplified Loader'!J84=\"Single\"),\"Single\",IF('Simplified Loader'!J84=\"Monoparental\",\"Monoparental\",IF('Simplified Loader'!J84=\"Couple\",\"Couple\",\"\")))","v":""},{"$f":"IF('Simplified Loader'!CI84>0,'Simplified Loader'!CI84,\"\")","v":""}]
[null,{"$f":"IF('Simplified Loader'!A85>0,'Simplified Loader'!A85,\"\")","v":""},{"$f":"IF('Simplified Loader'!B85>0,'Simplified Loader'!B85,\"\")","v":""},{"$f":"IF('Simplified Loader'!D85>0,'Simplified Loader'!D85,\"\")","v":""},{"$f":"IF('Simplified Loader (FOR COPY)'!N79>0,'Simplified Loader (FOR COPY)'!N79,\"\")","v":""},{"$f":"IF(AND('Simplified Loader (FOR COPY)'!N79=\"Family\",'Simplified Loader'!I85=\"Single\"),\"Single\",IF('Simplified Loader'!I85=\"Single Parent\",\"Single + more\",IF('Simplified Loader'!I85=\"Couple\",\"Couple\",\"\")))","v":""},{"$f":"IF(AND('Simplified Loader (FOR COPY)'!N79=\"Family\",'Simplified Loader'!J85=\"Single\"),\"Single\",IF('Simplified Loader'!J85=\"Monoparental\",\"Monoparental\",IF('Simplified Loader'!J85=\"Couple\",\"Couple\",\"\")))","v":""},{"$f":"IF('Simplified Loader'!CI85>0,'Simplified Loader'!CI85,\"\")","v":""}]
[null,{"$f":"IF('Simplified Loader'!A86>0,'Simplified Loader'!A86,\"\")","v":""},{"$f":"IF('Simplified Loader'!B86>0,'Simplified Loader'!B86,\"\")","v":""},{"$f":"IF('Simplified Loader'!D86>0,'Simplified Loader'!D86,\"\")","v":""},{"$f":"IF('Simplified Loader (FOR COPY)'!N80>0,'Simplified Loader (FOR COPY)'!N80,\"\")","v":""},{"$f":"IF(AND('Simplified Loader (FOR COPY)'!N80=\"Family\",'Simplified Loader'!I86=\"Single\"),\"Single\",IF('Simplified Loader'!I86=\"Single Parent\",\"Single + more\",IF('Simplified Loader'!I86=\"Couple\",\"Couple\",\"\")))","v":""},{"$f":"IF(AND('Simplified Loader (FOR COPY)'!N80=\"Family\",'Simplified Loader'!J86=\"Single\"),\"Single\",IF('Simplified Loader'!J86=\"Monoparental\",\"Monoparental\",IF('Simplified Loader'!J86=\"Couple\",\"Couple\",\"\")))","v":""},{"$f":"IF('Simplified Loader'!CI86>0,'Simplified Loader'!CI86,\"\")","v":""}]
[null,{"$f":"IF('Simplified Loader'!A87>0,'Simplified Loader'!A87,\"\")","v":""},{"$f":"IF('Simplified Loader'!B87>0,'Simplified Loader'!B87,\"\")","v":""},{"$f":"IF('Simplified Loader'!D87>0,'Simplified Loader'!D87,\"\")","v":""},{"$f":"IF('Simplified Loader (FOR COPY)'!N81>0,'Simplified Loader (FOR COPY)'!N81,\"\")","v":""},{"$f":"IF(AND('Simplified Loader (FOR COPY)'!N81=\"Family\",'Simplified Loader'!I87=\"Single\"),\"Single\",IF('Simplified Loader'!I87=\"Single Parent\",\"Single + more\",IF('Simplified Loader'!I87=\"Couple\",\"Couple\",\"\")))","v":""},{"$f":"IF(AND('Simplified Loader (FOR COPY)'!N81=\"Family\",'Simplified Loader'!J87=\"Single\"),\"Single\",IF('Simplified Loader'!J87=\"Monoparental\",\"Monoparental\",IF('Simplified Loader'!J87=\"Couple\",\"Couple\",\"\")))","v":""},{"$f":"IF('Simplified Loader'!CI87>0,'Simplified Loader'!CI87,\"\")","v":""}]
[null,{"$f":"IF('Simplified Loader'!A88>0,'Simplified Loader'!A88,\"\")","v":""},{"$f":"IF('Simplified Loader'!B88>0,'Simplified Loader'!B88,\"\")","v":""},{"$f":"IF('Simplified Loader'!D88>0,'Simplified Loader'!D88,\"\")","v":""},{"$f":"IF('Simplified Loader (FOR COPY)'!N82>0,'Simplified Loader (FOR COPY)'!N82,\"\")","v":""},{"$f":"IF(AND('Simplified Loader (FOR COPY)'!N82=\"Family\",'Simplified Loader'!I88=\"Single\"),\"Single\",IF('Simplified Loader'!I88=\"Single Parent\",\"Single + more\",IF('Simplified Loader'!I88=\"Couple\",\"Couple\",\"\")))","v":""},{"$f":"IF(AND('Simplified Loader (FOR COPY)'!N82=\"Family\",'Simplified Loader'!J88=\"Single\"),\"Single\",IF('Simplified Loader'!J88=\"Monoparental\",\"Monoparental\",IF('Simplified Loader'!J88=\"Couple\",\"Couple\",\"\")))","v":""},{"$f":"IF('Simplified Loader'!CI88>0,'Simplified Loader'!CI88,\"\")","v":""}]
[null,{"$f":"IF('Simplified Loader'!A89>0,'Simplified Loader'!A89,\"\")","v":""},{"$f":"IF('Simplified Loader'!B89>0,'Simplified Loader'!B89,\"\")","v":""},{"$f":"IF('Simplified Loader'!D89>0,'Simplified Loader'!D89,\"\")","v":""},{"$f":"IF('Simplified Loader (FOR COPY)'!N83>0,'Simplified Loader (FOR COPY)'!N83,\"\")","v":""},{"$f":"IF(AND('Simplified Loader (FOR COPY)'!N83=\"Family\",'Simplified Loader'!I89=\"Single\"),\"Single\",IF('Simplified Loader'!I89=\"Single Parent\",\"Single + more\",IF('Simplified Loader'!I89=\"Couple\",\"Couple\",\"\")))","v":""},{"$f":"IF(AND('Simplified Loader (FOR COPY)'!N83=\"Family\",'Simplified Loader'!J89=\"Single\"),\"Single\",IF('Simplified Loader'!J89=\"Monoparental\",\"Monoparental\",IF('Simplified Loader'!J89=\"Couple\",\"Couple\",\"\")))","v":""},{"$f":"IF('Simplified Loader'!CI89>0,'Simplified Loader'!CI89,\"\")","v":""}]
[null,{"$f":"IF('Simplified Loader'!A90>0,'Simplified Loader'!A90,\"\")","v":""},{"$f":"IF('Simplified Loader'!B90>0,'Simplified Loader'!B90,\"\")","v":""},{"$f":"IF('Simplified Loader'!D90>0,'Simplified Loader'!D90,\"\")","v":""},{"$f":"IF('Simplified Loader (FOR COPY)'!N84>0,'Simplified Loader (FOR COPY)'!N84,\"\")","v":""},{"$f":"IF(AND('Simplified Loader (FOR COPY)'!N84=\"Family\",'Simplified Loader'!I90=\"Single\"),\"Single\",IF('Simplified Loader'!I90=\"Single Parent\",\"Single + more\",IF('Simplified Loader'!I90=\"Couple\",\"Couple\",\"\")))","v":""},{"$f":"IF(AND('Simplified Loader (FOR COPY)'!N84=\"Family\",'Simplified Loader'!J90=\"Single\"),\"Single\",IF('Simplified Loader'!J90=\"Monoparental\",\"Monoparental\",IF('Simplified Loader'!J90=\"Couple\",\"Couple\",\"\")))","v":""},{"$f":"IF('Simplified Loader'!CI90>0,'Simplified Loader'!CI90,\"\")","v":""}]
[null,{"$f":"IF('Simplified Loader'!A91>0,'Simplified Loader'!A91,\"\")","v":""},{"$f":"IF('Simplified Loader'!B91>0,'Simplified Loader'!B91,\"\")","v":""},{"$f":"IF('Simplified Loader'!D91>0,'Simplified Loader'!D91,\"\")","v":""},{"$f":"IF('Simplified Loader (FOR COPY)'!N85>0,'Simplified Loader (FOR COPY)'!N85,\"\")","v":""},{"$f":"IF(AND('Simplified Loader (FOR COPY)'!N85=\"Family\",'Simplified Loader'!I91=\"Single\"),\"Single\",IF('Simplified Loader'!I91=\"Single Parent\",\"Single + more\",IF('Simplified Loader'!I91=\"Couple\",\"Couple\",\"\")))","v":""},{"$f":"IF(AND('Simplified Loader (FOR COPY)'!N85=\"Family\",'Simplified Loader'!J91=\"Single\"),\"Single\",IF('Simplified Loader'!J91=\"Monoparental\",\"Monoparental\",IF('Simplified Loader'!J91=\"Couple\",\"Couple\",\"\")))","v":""},{"$f":"IF('Simplified Loader'!CI91>0,'Simplified Loader'!CI91,\"\")","v":""}]
[null,{"$f":"IF('Simplified Loader'!A92>0,'Simplified Loader'!A92,\"\")","v":""},{"$f":"IF('Simplified Loader'!B92>0,'Simplified Loader'!B92,\"\")","v":""},{"$f":"IF('Simplified Loader'!D92>0,'Simplified Loader'!D92,\"\")","v":""},{"$f":"IF('Simplified Loader (FOR COPY)'!N86>0,'Simplified Loader (FOR COPY)'!N86,\"\")","v":""},{"$f":"IF(AND('Simplified Loader (FOR COPY)'!N86=\"Family\",'Simplified Loader'!I92=\"Single\"),\"Single\",IF('Simplified Loader'!I92=\"Single Parent\",\"Single + more\",IF('Simplified Loader'!I92=\"Couple\",\"Couple\",\"\")))","v":""},{"$f":"IF(AND('Simplified Loader (FOR COPY)'!N86=\"Family\",'Simplified Loader'!J92=\"Single\"),\"Single\",IF('Simplified Loader'!J92=\"Monoparental\",\"Monoparental\",IF('Simplified Loader'!J92=\"Couple\",\"Couple\",\"\")))","v":""},{"$f":"IF('Simplified Loader'!CI92>0,'Simplified Loader'!CI92,\"\")","v":""}]
[null,{"$f":"IF('Simplified Loader'!A93>0,'Simplified Loader'!A93,\"\")","v":""},{"$f":"IF('Simplified Loader'!B93>0,'Simplified Loader'!B93,\"\")","v":""},{"$f":"IF('Simplified Loader'!D93>0,'Simplified Loader'!D93,\"\")","v":""},{"$f":"IF('Simplified Loader (FOR COPY)'!N87>0,'Simplified Loader (FOR COPY)'!N87,\"\")","v":""},{"$f":"IF(AND('Simplified Loader (FOR COPY)'!N87=\"Family\",'Simplified Loader'!I93=\"Single\"),\"Single\",IF('Simplified Loader'!I93=\"Single Parent\",\"Single + more\",IF('Simplified Loader'!I93=\"Couple\",\"Couple\",\"\")))","v":""},{"$f":"IF(AND('Simplified Loader (FOR COPY)'!N87=\"Family\",'Simplified Loader'!J93=\"Single\"),\"Single\",IF('Simplified Loader'!J93=\"Monoparental\",\"Monoparental\",IF('Simplified Loader'!J93=\"Couple\",\"Couple\",\"\")))","v":""},{"$f":"IF('Simplified Loader'!CI93>0,'Simplified Loader'!CI93,\"\")","v":""}]
[null,{"$f":"IF('Simplified Loader'!A94>0,'Simplified Loader'!A94,\"\")","v":""},{"$f":"IF('Simplified Loader'!B94>0,'Simplified Loader'!B94,\"\")","v":""},{"$f":"IF('Simplified Loader'!D94>0,'Simplified Loader'!D94,\"\")","v":""},{"$f":"IF('Simplified Loader (FOR COPY)'!N88>0,'Simplified Loader (FOR COPY)'!N88,\"\")","v":""},{"$f":"IF(AND('Simplified Loader (FOR COPY)'!N88=\"Family\",'Simplified Loader'!I94=\"Single\"),\"Single\",IF('Simplified Loader'!I94=\"Single Parent\",\"Single + more\",IF('Simplified Loader'!I94=\"Couple\",\"Couple\",\"\")))","v":""},{"$f":"IF(AND('Simplified Loader (FOR COPY)'!N88=\"Family\",'Simplified Loader'!J94=\"Single\"),\"Single\",IF('Simplified Loader'!J94=\"Monoparental\",\"Monoparental\",IF('Simplified Loader'!J94=\"Couple\",\"Couple\",\"\")))","v":""},{"$f":"IF('Simplified Loader'!CI94>0,'Simplified Loader'!CI94,\"\")","v":""}]
[null,{"$f":"IF('Simplified Loader'!A95>0,'Simplified Loader'!A95,\"\")","v":""},{"$f":"IF('Simplified Loader'!B95>0,'Simplified Loader'!B95,\"\")","v":""},{"$f":"IF('Simplified Loader'!D95>0,'Simplified Loader'!D95,\"\")","v":""},{"$f":"IF('Simplified Loader (FOR COPY)'!N89>0,'Simplified Loader (FOR COPY)'!N89,\"\")","v":""},{"$f":"IF(AND('Simplified Loader (FOR COPY)'!N89=\"Family\",'Simplified Loader'!I95=\"Single\"),\"Single\",IF('Simplified Loader'!I95=\"Single Parent\",\"Single + more\",IF('Simplified Loader'!I95=\"Couple\",\"Couple\",\"\")))","v":""},{"$f":"IF(AND('Simplified Loader (FOR COPY)'!N89=\"Family\",'Simplified Loader'!J95=\"Single\"),\"Single\",IF('Simplified Loader'!J95=\"Monoparental\",\"Monoparental\",IF('Simplified Loader'!J95=\"Couple\",\"Couple\",\"\")))","v":""},{"$f":"IF('Simplified Loader'!CI95>0,'Simplified Loader'!CI95,\"\")","v":""}]
[null,{"$f":"IF('Simplified Loader'!A96>0,'Simplified Loader'!A96,\"\")","v":""},{"$f":"IF('Simplified Loader'!B96>0,'Simplified Loader'!B96,\"\")","v":""},{"$f":"IF('Simplified Loader'!D96>0,'Simplified Loader'!D96,\"\")","v":""},{"$f":"IF('Simplified Loader (FOR COPY)'!N90>0,'Simplified Loader (FOR COPY)'!N90,\"\")","v":""},{"$f":"IF(AND('Simplified Loader (FOR COPY)'!N90=\"Family\",'Simplified Loader'!I96=\"Single\"),\"Single\",IF('Simplified Loader'!I96=\"Single Parent\",\"Single + more\",IF('Simplified Loader'!I96=\"Couple\",\"Couple\",\"\")))","v":""},{"$f":"IF(AND('Simplified Loader (FOR COPY)'!N90=\"Family\",'Simplified Loader'!J96=\"Single\"),\"Single\",IF('Simplified Loader'!J96=\"Monoparental\",\"Monoparental\",IF('Simplified Loader'!J96=\"Couple\",\"Couple\",\"\")))","v":""},{"$f":"IF('Simplified Loader'!CI96>0,'Simplified Loader'!CI96,\"\")","v":""}]
[null,{"$f":"IF('Simplified Loader'!A97>0,'Simplified Loader'!A97,\"\")","v":""},{"$f":"IF('Simplified Loader'!B97>0,'Simplified Loader'!B97,\"\")","v":""},{"$f":"IF('Simplified Loader'!D97>0,'Simplified Loader'!D97,\"\")","v":""},{"$f":"IF('Simplified Loader (FOR COPY)'!N91>0,'Simplified Loader (FOR COPY)'!N91,\"\")","v":""},{"$f":"IF(AND('Simplified Loader (FOR COPY)'!N91=\"Family\",'Simplified Loader'!I97=\"Single\"),\"Single\",IF('Simplified Loader'!I97=\"Single Parent\",\"Single + more\",IF('Simplified Loader'!I97=\"Couple\",\"Couple\",\"\")))","v":""},{"$f":"IF(AND('Simplified Loader (FOR COPY)'!N91=\"Family\",'Simplified Loader'!J97=\"Single\"),\"Single\",IF('Simplified Loader'!J97=\"Monoparental\",\"Monoparental\",IF('Simplified Loader'!J97=\"Couple\",\"Couple\",\"\")))","v":""},{"$f":"IF('Simplified Loader'!CI97>0,'Simplified Loader'!CI97,\"\")","v":""}]
[null,{"$f":"IF('Simplified Loader'!A98>0,'Simplified Loader'!A98,\"\")","v":""},{"$f":"IF('Simplified Loader'!B98>0,'Simplified Loader'!B98,\"\")","v":""},{"$f":"IF('Simplified Loader'!D98>0,'Simplified Loader'!D98,\"\")","v":""},{"$f":"IF('Simplified Loader (FOR COPY)'!N92>0,'Simplified Loader (FOR COPY)'!N92,\"\")","v":""},{"$f":"IF(AND('Simplified Loader (FOR COPY)'!N92=\"Family\",'Simplified Loader'!I98=\"Single\"),\"Single\",IF('Simplified Loader'!I98=\"Single Parent\",\"Single + more\",IF('Simplified Loader'!I98=\"Couple\",\"Couple\",\"\")))","v":""},{"$f":"IF(AND('Simplified Loader (FOR COPY)'!N92=\"Family\",'Simplified Loader'!J98=\"Single\"),\"Single\",IF('Simplified Loader'!J98=\"Monoparental\",\"Monoparental\",IF('Simplified Loader'!J98=\"Couple\",\"Couple\",\"\")))","v":""},{"$f":"IF('Simplified Loader'!CI98>0,'Simplified Loader'!CI98,\"\")","v":""}]
[null,{"$f":"IF('Simplified Loader'!A99>0,'Simplified Loader'!A99,\"\")","v":""},{"$f":"IF('Simplified Loader'!B99>0,'Simplified Loader'!B99,\"\")","v":""},{"$f":"IF('Simplified Loader'!D99>0,'Simplified Loader'!D99,\"\")","v":""},{"$f":"IF('Simplified Loader (FOR COPY)'!N93>0,'Simplified Loader (FOR COPY)'!N93,\"\")","v":""},{"$f":"IF(AND('Simplified Loader (FOR COPY)'!N93=\"Family\",'Simplified Loader'!I99=\"Single\"),\"Single\",IF('Simplified Loader'!I99=\"Single Parent\",\"Single + more\",IF('Simplified Loader'!I99=\"Couple\",\"Couple\",\"\")))","v":""},{"$f":"IF(AND('Simplified Loader (FOR COPY)'!N93=\"Family\",'Simplified Loader'!J99=\"Single\"),\"Single\",IF('Simplified Loader'!J99=\"Monoparental\",\"Monoparental\",IF('Simplified Loader'!J99=\"Couple\",\"Couple\",\"\")))","v":""},{"$f":"IF('Simplified Loader'!CI99>0,'Simplified Loader'!CI99,\"\")","v":""}]
[null,{"$f":"IF('Simplified Loader'!A100>0,'Simplified Loader'!A100,\"\")","v":""},{"$f":"IF('Simplified Loader'!B100>0,'Simplified Loader'!B100,\"\")","v":""},{"$f":"IF('Simplified Loader'!D100>0,'Simplified Loader'!D100,\"\")","v":""},{"$f":"IF('Simplified Loader (FOR COPY)'!N94>0,'Simplified Loader (FOR COPY)'!N94,\"\")","v":""},{"$f":"IF(AND('Simplified Loader (FOR COPY)'!N94=\"Family\",'Simplified Loader'!I100=\"Single\"),\"Single\",IF('Simplified Loader'!I100=\"Single Parent\",\"Single + more\",IF('Simplified Loader'!I100=\"Couple\",\"Couple\",\"\")))","v":""},{"$f":"IF(AND('Simplified Loader (FOR COPY)'!N94=\"Family\",'Simplified Loader'!J100=\"Single\"),\"Single\",IF('Simplified Loader'!J100=\"Monoparental\",\"Monoparental\",IF('Simplified Loader'!J100=\"Couple\",\"Couple\",\"\")))","v":""},{"$f":"IF('Simplified Loader'!CI100>0,'Simplified Loader'!CI100,\"\")","v":""}]
[null,{"$f":"IF('Simplified Loader'!A101>0,'Simplified Loader'!A101,\"\")","v":""},{"$f":"IF('Simplified Loader'!B101>0,'Simplified Loader'!B101,\"\")","v":""},{"$f":"IF('Simplified Loader'!D101>0,'Simplified Loader'!D101,\"\")","v":""},{"$f":"IF('Simplified Loader (FOR COPY)'!N95>0,'Simplified Loader (FOR COPY)'!N95,\"\")","v":""},{"$f":"IF(AND('Simplified Loader (FOR COPY)'!N95=\"Family\",'Simplified Loader'!I101=\"Single\"),\"Single\",IF('Simplified Loader'!I101=\"Single Parent\",\"Single + more\",IF('Simplified Loader'!I101=\"Couple\",\"Couple\",\"\")))","v":""},{"$f":"IF(AND('Simplified Loader (FOR COPY)'!N95=\"Family\",'Simplified Loader'!J101=\"Single\"),\"Single\",IF('Simplified Loader'!J101=\"Monoparental\",\"Monoparental\",IF('Simplified Loader'!J101=\"Couple\",\"Couple\",\"\")))","v":""},{"$f":"IF('Simplified Loader'!CI101>0,'Simplified Loader'!CI101,\"\")","v":""}]
[null,{"$f":"IF('Simplified Loader'!A102>0,'Simplified Loader'!A102,\"\")","v":""},{"$f":"IF('Simplified Loader'!B102>0,'Simplified Loader'!B102,\"\")","v":""},{"$f":"IF('Simplified Loader'!D102>0,'Simplified Loader'!D102,\"\")","v":""},{"$f":"IF('Simplified Loader (FOR COPY)'!N96>0,'Simplified Loader (FOR COPY)'!N96,\"\")","v":""},{"$f":"IF(AND('Simplified Loader (FOR COPY)'!N96=\"Family\",'Simplified Loader'!I102=\"Single\"),\"Single\",IF('Simplified Loader'!I102=\"Single Parent\",\"Single + more\",IF('Simplified Loader'!I102=\"Couple\",\"Couple\",\"\")))","v":""},{"$f":"IF(AND('Simplified Loader (FOR COPY)'!N96=\"Family\",'Simplified Loader'!J102=\"Single\"),\"Single\",IF('Simplified Loader'!J102=\"Monoparental\",\"Monoparental\",IF('Simplified Loader'!J102=\"Couple\",\"Couple\",\"\")))","v":""},{"$f":"IF('Simplified Loader'!CI102>0,'Simplified Loader'!CI102,\"\")","v":""}]
[null,{"$f":"IF('Simplified Loader'!A103>0,'Simplified Loader'!A103,\"\")","v":""},{"$f":"IF('Simplified Loader'!B103>0,'Simplified Loader'!B103,\"\")","v":""},{"$f":"IF('Simplified Loader'!D103>0,'Simplified Loader'!D103,\"\")","v":""},{"$f":"IF('Simplified Loader (FOR COPY)'!N97>0,'Simplified Loader (FOR COPY)'!N97,\"\")","v":""},{"$f":"IF(AND('Simplified Loader (FOR COPY)'!N97=\"Family\",'Simplified Loader'!I103=\"Single\"),\"Single\",IF('Simplified Loader'!I103=\"Single Parent\",\"Single + more\",IF('Simplified Loader'!I103=\"Couple\",\"Couple\",\"\")))","v":""},{"$f":"IF(AND('Simplified Loader (FOR COPY)'!N97=\"Family\",'Simplified Loader'!J103=\"Single\"),\"Single\",IF('Simplified Loader'!J103=\"Monoparental\",\"Monoparental\",IF('Simplified Loader'!J103=\"Couple\",\"Couple\",\"\")))","v":""},{"$f":"IF('Simplified Loader'!CI103>0,'Simplified Loader'!CI103,\"\")","v":""}]
[null,{"$f":"IF('Simplified Loader'!A104>0,'Simplified Loader'!A104,\"\")","v":""},{"$f":"IF('Simplified Loader'!B104>0,'Simplified Loader'!B104,\"\")","v":""},{"$f":"IF('Simplified Loader'!D104>0,'Simplified Loader'!D104,\"\")","v":""},{"$f":"IF('Simplified Loader (FOR COPY)'!N98>0,'Simplified Loader (FOR COPY)'!N98,\"\")","v":""},{"$f":"IF(AND('Simplified Loader (FOR COPY)'!N98=\"Family\",'Simplified Loader'!I104=\"Single\"),\"Single\",IF('Simplified Loader'!I104=\"Single Parent\",\"Single + more\",IF('Simplified Loader'!I104=\"Couple\",\"Couple\",\"\")))","v":""},{"$f":"IF(AND('Simplified Loader (FOR COPY)'!N98=\"Family\",'Simplified Loader'!J104=\"Single\"),\"Single\",IF('Simplified Loader'!J104=\"Monoparental\",\"Monoparental\",IF('Simplified Loader'!J104=\"Couple\",\"Couple\",\"\")))","v":""},{"$f":"IF('Simplified Loader'!CI104>0,'Simplified Loader'!CI104,\"\")","v":""}]
[null,{"$f":"IF('Simplified Loader'!A105>0,'Simplified Loader'!A105,\"\")","v":""},{"$f":"IF('Simplified Loader'!B105>0,'Simplified Loader'!B105,\"\")","v":""},{"$f":"IF('Simplified Loader'!D105>0,'Simplified Loader'!D105,\"\")","v":""},{"$f":"IF('Simplified Loader (FOR COPY)'!N99>0,'Simplified Loader (FOR COPY)'!N99,\"\")","v":""},{"$f":"IF(AND('Simplified Loader (FOR COPY)'!N99=\"Family\",'Simplified Loader'!I105=\"Single\"),\"Single\",IF('Simplified Loader'!I105=\"Single Parent\",\"Single + more\",IF('Simplified Loader'!I105=\"Couple\",\"Couple\",\"\")))","v":""},{"$f":"IF(AND('Simplified Loader (FOR COPY)'!N99=\"Family\",'Simplified Loader'!J105=\"Single\"),\"Single\",IF('Simplified Loader'!J105=\"Monoparental\",\"Monoparental\",IF('Simplified Loader'!J105=\"Couple\",\"Couple\",\"\")))","v":""},{"$f":"IF('Simplified Loader'!CI105>0,'Simplified Loader'!CI105,\"\")","v":""}]
[null,{"$f":"IF('Simplified Loader'!A106>0,'Simplified Loader'!A106,\"\")","v":""},{"$f":"IF('Simplified Loader'!B106>0,'Simplified Loader'!B106,\"\")","v":""},{"$f":"IF('Simplified Loader'!D106>0,'Simplified Loader'!D106,\"\")","v":""},{"$f":"IF('Simplified Loader (FOR COPY)'!N100>0,'Simplified Loader (FOR COPY)'!N100,\"\")","v":""},{"$f":"IF(AND('Simplified Loader (FOR COPY)'!N100=\"Family\",'Simplified Loader'!I106=\"Single\"),\"Single\",IF('Simplified Loader'!I106=\"Single Parent\",\"Single + more\",IF('Simplified Loader'!I106=\"Couple\",\"Couple\",\"\")))","v":""},{"$f":"IF(AND('Simplified Loader (FOR COPY)'!N100=\"Family\",'Simplified Loader'!J106=\"Single\"),\"Single\",IF('Simplified Loader'!J106=\"Monoparental\",\"Monoparental\",IF('Simplified Loader'!J106=\"Couple\",\"Couple\",\"\")))","v":""},{"$f":"IF('Simplified Loader'!CI106>0,'Simplified Loader'!CI106,\"\")","v":""}]