{"text_format":"1","workbook":"xlsx","n_sheets":4,"sheets":["Info","Outil Recensement","Simplified Loader (FOR COPY)","OASIS Manual Adjustments"],"not_rendered":{"charts":0,"images":9,"macros":1,"external_links":0,"defined_names":0,"comments":0,"pivot_tables":0},"unopened":[],"bounds":{"document_bytes":16777216,"sheet_cells":100000,"rows_first":2000,"rows_last":500,"rows_between":2000,"halvings":0,"cell_chars":16384,"cell_head_chars":4096},"cells_cut":0,"cells_raw":0,"read":"whole","date_system":"1900"}

{"sheet":"Info","index":0,"n_rows":17,"n_cols":4,"rows_kept":17,"cut":false,"hidden":false,"merged":[[2,1,2,3],[5,3,8,3]]}
["VERSION 3 (F)"]
[]
[null,"TRUCS ET ASTUCES!"]
[]
[null,"Entrée de données",null,"Copier/Coller des données existantes"]
[null,"Les données sur les participants comme les noms, dates, provinces, sexes, langues, salaires et sélections de couverture peuvent être pris en charge, à condition qu'ils soient dans un format compatible avec l'outil de recensement.\n\nSi le format des données n'est pas conforme, le champ deviendra rouge\n\nConcernant les courriels, la cellule deviendra jaune si la même information est entrée plus d'une fois. Chaque participant doit fournir son propre courriel personnel.",null,"\nLes données copiées d'un autre document doivent être collées en utilisant l'option Coller des valeurs"]
[]
[null,"Séparer le contenu d'une colonne de format « Nom, Prénom »\nen colonnes séparées pour pouvoir les copier/coller"]
[null,"\n1. Sélectionnez la cellule ou la colonne qui contient le texte à fractionner."]
[null,"2. Cliquez sur Données > Convertir :"]
[null,"3. Cette commande démarre l’Assistant Conversion. Cliquez sur Délimité > Suivant."]
[null,"4. Cochez Virgule et Espace si votre texte est fractionné de cette façon (ex. Dupont, Jean avec une virgule est un espace entre les noms). Vous pouvez afficher un aperçu de vos données dans la fenêtre Aperçu des données :"]
[null,"5. Cliquez sur Suivant."]
[null,"6. Cliquez sur le bouton         à droite de la zone Destination pour réduire la boîte de dialogue."]
[null,"7. Sélectionnez les cellules dans votre classeur où vous voulez coller vos données fractionnées :"]
[null,"8. Cliquez sur le bouton         pour développer la boîte de dialogue, puis cliquez sur Terminer :"]
[null,"Source:  support.office.com"]

{"sheet":"Outil Recensement","index":1,"n_rows":106,"n_cols":87,"rows_kept":106,"cut":false,"hidden":false,"merged":[[4,19,5,19],[4,20,5,20],[4,21,4,26],[4,17,5,17],[6,8,7,8],[4,8,5,8],[4,12,4,14],[4,15,5,15],[4,16,5,16],[4,18,5,18],[6,15,7,15],[6,16,7,16],[6,18,7,18],[6,19,7,19],[4,41,5,41],[4,28,5,28],[4,27,5,27],[4,31,5,31],[4,32,5,32],[4,36,5,36],[4,37,5,37],[4,38,5,38],[0,0,0,1],[0,30,0,32],[0,80,0,84],[4,0,5,0],[4,1,5,1],[4,2,5,2],[4,3,5,3],[4,4,5,4],[4,5,5,5],[4,6,5,6],[4,7,5,7],[4,10,5,10],[4,30,5,30],[4,11,5,11],[4,39,5,39],[4,40,5,40],[1,0,1,1],[1,3,1,4],[6,0,7,0],[6,14,7,14],[7,1,7,5],[2,0,2,5],[3,0,3,5],[6,27,7,27],[6,28,7,28],[6,12,7,12],[6,11,7,11],[6,6,7,6],[6,10,7,10],[6,21,7,21],[6,13,7,13],[6,22,7,22],[6,23,7,23],[6,24,7,24],[6,25,7,25]]}
["Company Name:",null,null,null,null,null,null,null,null,null,null,null,null,null,null,null,null,null,null,null,null,null,null,null,null,null,null,null,null,"Hidden","Banking Information\n(Optional)",null,null,"Hidden","Hidden","Hidden",null,null,null,null,null,null,null,null,null,null,null,null,null,null,null,null,null,null,null,null,null,null,null,null,null,null,null,null,null,null,null,null,null,null,null,null,null,null,null,null,null,null,null,null,"Beneficiary Information:\n\nPlease note that Sun Life will assist with the loading of this information for administration purposes only. It is important for you to understand that the beneficiary designation form is a legal document. The original form, signed in ink, must be produced in the event of a life claim and it will be your responsibility to review and determine that you have the signed designation in your files."]
["Nom de la compagnie :"]
["Note :\n1) Tous les employés dont il est question dans ce fichier recevront un courriel les invitant à s'inscrire en ligne.  \n2) S'il y a une liste déroulante, utilisez-la. "]
["IMPORTANT: SVP cliquez sur Activer la modification avant de commencer\n                     Si vous collez des données, svp utiliser l'option Coller des valeurs seulement"]
["Numéro de participant","Prénom","Middle Initial","Nom de famille","Adresse courriel\n(différente pour chaque participant)","Date de naissance","Sexe","Does member have any dependents?","Couverture demandée - Frais médicaux et\nFrais dentaires",null,"Profession","Date d'embauche","Salaire",null,null,"\nUnité de facturation /  Emplacement Facultatif","Catégorie de garantie\nFacultatif","Plan","Province of Residence","Province d'emploi","Smoker Status","Résidence du participant",null,null,null,null,null,"Statut d'autochtone - Exonération d'impôt?","Langue du participant","Salary Type 1","Institution Number","Transit Number","Account Number","Type","Address Type","Addressee","Spouse First Name","Spouse Last Name","Spouse Date Of Birth","Spouse Gender","Extended Health Care COB","Dental Care COB","Other Carrier Name","Spouse Smoker Status","Child 1 First Name","Child 1 Last Name","Child 1 Date Of Birth","Child 1 Gender","Student Flag 1","Disabled Status 1","Child 2 First Name","Child 2 Last Name","Child 2 Date Of Birth","Child 2 Gender","Student Flag 2","Disabled Status 2","Child 3 First Name","Child 3 Last Name","Child 3 Date Of Birth","Child 3 Gender","Student Flag 3","Disabled Status 3","Child 4 First Name","Child 4 Last Name","Child 4 Date Of Birth","Child 4 Gender","Student Flag 4","Disabled Status 4","Child 5 First Name","Child 5 Last Name","Child 5 Date Of Birth","Child 5 Gender","Student Flag 5","Disabled Status 5","Child 6 First Name","Child 6 Last Name","Child 6 Date Of Birth","Child 6 Gender","Student Flag 6","Disabled Status 6","Beneficiary Nomination","Revocable (if legal spouse - married or civil union)?\n(QC residents only)","Contingent Beneficiary","Revocable (if legal spouse - married or civil union)?\n(QC residents only)","Trustee for minor beneficiaries\n(Non-QC residents only)","Beneficiary Information","Health Spending Account Monthly allotment\n(if different between members)"]
[null,null,null,null,null,null,null,null,null,"Dental Care Coverage Selection",null,null,"Périodicité du salaire","Montant","Heures par semaine ",null,null,null,null,null,null,"Adresse (numéro et rue)","Unité","Ville","Province","Code postal","Pays"]
["Facultatif : Section à remplir si vous attribuez ce numéro. Laissez-la en blanc si la Sun Life attribue le numéro.","Prénom légal\n\nPeut inclure des traits d'union","This is an optional field.\n\nEnter member's middle initial","Nom de famille légal\n\nPeut inclure des traits d'union","Nous avons besoin de l'adresse courriel du participant pour lui envoyer une invitation à s'inscrire.\n\nChaque participant doit avoir une adresse courriel différente.\n","aaaa-mm-jj","Choisissez une option dans la liste déroulante.","Select member's dependent status from dropdown:\n- If member has dependents, select \"Yes\"\n- If member does not have dependents, select \"No\"","Individuelle - couverture pour le participant uniquement\nFamiliale - couverture pour le participant et les personnes à sa charge       \nRefus - le participant peut renoncer à la garantie Frais médicaux et à la garantie Frais dentaires, s'il bénéficie d'une couverture au titre du régime de garanties collectives de son conjoint\n\nSi ces garanties sont offertes :\nCouple - couverture pour le participant et son conjoint\nParent seul - couverture pour le participant et ses enfants \n\n\nIf Offered:\nCouple: coverage for member & spouse\nSingle Parent: coverage for member & children ",null,"Entrez la profession du participant","aaaa-mm-jj\n\nUne date d'embauche future est acceptable.  ","Choisissez une option dans la liste déroulante","Entrez le salaire du participant","\nFacultatif : Requis seulement pour les employés horaires.\n\nEntrez le nombre moyen d'heures par semaine.","\nFacultatif : Requis seulement pour les unités de facturation distinctes.\n\n\n\nChoisissez une option dans la liste déroulante.","\nFacultatif : Requis seulement pour les catégories distinctes. \n\n\n\nChoisissez une option dans la liste déroulante.",null,"\n\n\n\n\n\nSelect from dropdown","\nChoisissez une option dans la liste déroulante",null,"Entrez l'adresse municipale du participant.","Facultatif : Entrez le numéro du bureau, de l'unité ou de l'appartement du participant.","Entrez la ville du participant.","Entrez la province de résidence du participant.\n\nChoisissez une option dans la liste déroulante.","Entrez le code postal du participant.","Entrez le pays résidence du participant.","Entrez la situation du participant quant à l'exonération d'impôt.\n\nChoisissez une option dans la liste déroulante.","Choisissez une option dans la liste déroulante","Format: \n'A1A 1A1'  (including the space)",null,"Enter member's tax exempt status \n\n\n\n\nSelect from dropdown","Select from dropdown"]
[null,"ATTENTION: \nPlease pay attention to accuracy and spelling.   \nInformation will be used by the member to authenticate themselves and enrol.",null,null,null,null,null,null,null,null,null,null,null,null,null,null,null,null,null,null,null,null,null,null,null,null,"Entrez le pays résidence du participant."]
["ex. : 1234567890","ex. : Jean","ex: H","ex. : Robert","ex. : jean.robert@gmail.com","aaaa-mm-jj","Homme / Femme","Yes/No","ex. : Familiale","ex: Single","ex. : Comptable","(aaaa-mm-jj)","ex. : Annuelle","ex. : 50000","ex. : 40","ex. : 001","ex. : A","A","ex: ON","ex. : QC","Yes/No","ex. : 123, Toute rue","ex. : 7A","ex. : 123 Toute ville","ex. : QC","ex. : H1H 2H3","ex. : Canada","Oui / Non","Français /  Anglais","Actual Earnings","ex: 123","ex: 12345","ex: 1234567890","Direct Claims Payments","Home","John Smith","ex: Jane","ex: Smith","(YYYY/MM/DD)","Male/Female","Single/Family","Single/Family","ex: Insure Inc.","Yes/No","ex: Jason","ex: Smith","(YYYY/MM/DD)","Male/Female","Yes/No","Yes/No","ex: Jennifer","ex: Smith","(YYYY/MM/DD)","Female/Male","Yes/No","Yes/No","ex: Jim","ex: Smith","(YYYY/MM/DD)","Male/Female","Yes/No","Yes/No","ex: Janet","ex: Smith","(YYYY/MM/DD)","Female/Male","Yes/No","Yes/No","ex: Jasmine","ex: Smith","(YYYY/MM/DD)","Female/Male","Yes/No","Yes/No","ex: Jack","ex: Smith","(YYYY/MM/DD)","Male/Female","Yes/No","Yes/No","ex: Jane Smith - Spouse 100%","ex: Revocable","ex: Jason Smith - Son 50%, Jennifer Smith - Daughter 50%","ex: Revocable","ex: Sarah Parker",null,"ex: $125"]
[null,null,null,null,null,null,null,null,null,null,null,null,null,null,null,null,null,null,null,null,null,null,null,null,null,null,null,null,null,{"$f":"IF(N10>0,\"Actual Earnings\",\"\")","v":""},null,null,null,null,{"$f":"IF(V10>0, \"Home\",\" \")","v":" "},{"$f":"B10&\" \"&D10","v":" "}]
[null,null,null,null,null,null,null,null,null,null,null,null,null,null,null,null,null,null,null,null,null,null,null,null,null,null,{"$f":"IF(Y11>0,\"Canada\",\"\")","v":""},null,null,{"$f":"IF(N11>0,\"Actual Earnings\",\"\")","v":""},null,null,null,null,{"$f":"IF(V11>0, \"Home\",\" \")","v":" "},{"$f":"B11&\" \"&D11","v":" "}]
[null,null,null,null,null,null,null,null,null,null,null,null,null,null,null,null,null,null,null,null,null,null,null,null,null,null,"",null,null,"",null,null,null,null,{"$f":"IF(V12>0, \"Home\",\" \")","v":" "},{"$f":"B12&\" \"&D12","v":" "}]
[null,null,null,null,null,null,null,null,null,null,null,null,null,null,null,null,null,null,null,null,null,null,null,null,null,null,"",null,null,{"$f":"IF(N13>0,\"Actual Earnings\",\"\")","v":""},null,null,null,null,{"$f":"IF(V13>0, \"Home\",\" \")","v":" "},{"$f":"B13&\" \"&D13","v":" "}]
[null,null,null,null,null,null,null,null,null,null,null,null,null,null,null,null,null,null,null,null,null,null,null,null,null,null,"",null,null,"",null,null,null,null," ",{"$f":"B14&\" \"&D14","v":" "}]
[null,null,null,null,null,null,null,null,null,null,null,null,null,null,null,null,null,null,null,null,null,null,null,null,null,null,"",null,null,"",null,null,null,null," "," "]
[null,null,null,null,null,null,null,null,null,null,null,null,null,null,null,null,null,null,null,null,null,null,null,null,null,null,"",null,null,{"$f":"IF(N16>0,\"Actual Earnings\",\"\")","v":""},null,null,null,null,{"$f":"IF(V16>0, \"Home\",\" \")","v":" "},{"$f":"B16&\" \"&D16","v":" "}]
[null,null,null,null,null,null,null,null,null,null,null,null,null,null,null,null,null,null,null,null,null,null,null,null,null,null,"",null,null,"",null,null,null,null," "," "]
[null,null,null,null,null,null,null,null,null,null,null,null,null,null,null,null,null,null,null,null,null,null,null,null,null,null,"",null,null,"",null,null,null,null," "," "]
[null,null,null,null,null,null,null,null,null,null,null,null,null,null,null,null,null,null,null,null,null,null,null,null,null,null,"",null,null,"",null,null,null,null," ",{"$f":"B19&\" \"&D19","v":" "}]
[null,null,null,null,null,null,null,null,null,null,null,null,null,null,null,null,null,null,null,null,null,null,null,null,null,null,"",null,null,"",null,null,null,null," "," "]
[null,null,null,null,null,null,null,null,null,null,null,null,null,null,null,null,null,null,null,null,null,null,null,null,null,null,"",null,null,"",null,null,null,null," "," "]
[null,null,null,null,null,null,null,null,null,null,null,null,null,null,null,null,null,null,null,null,null,null,null,null,null,null,"",null,null,"",null,null,null,null," "," "]
[null,null,null,null,null,null,null,null,null,null,null,null,null,null,null,null,null,null,null,null,null,null,null,null,null,null,"",null,null,"",null,null,null,null," "," "]
[null,null,null,null,null,null,null,null,null,null,null,null,null,null,null,null,null,null,null,null,null,null,null,null,null,null,"",null,null,"",null,null,null,null," "," "]
[null,null,null,null,null,null,null,null,null,null,null,null,null,null,null,null,null,null,null,null,null,null,null,null,null,null,"",null,null,"",null,null,null,null," "," "]
[null,null,null,null,null,null,null,null,null,null,null,null,null,null,null,null,null,null,null,null,null,null,null,null,null,null,"",null,null,"",null,null,null,null," "," "]
[null,null,null,null,null,null,null,null,null,null,null,null,null,null,null,null,null,null,null,null,null,null,null,null,null,null,"",null,null,"",null,null,null,null," "," "]
[null,null,null,null,null,null,null,null,null,null,null,null,null,null,null,null,null,null,null,null,null,null,null,null,null,null,"",null,null,"",null,null,null,null," "," "]
[null,null,null,null,null,null,null,null,null,null,null,null,null,null,null,null,null,null,null,null,null,null,null,null,null,null,"",null,null,"",null,null,null,null," "," "]
[null,null,null,null,null,null,null,null,null,null,null,null,null,null,null,null,null,null,null,null,null,null,null,null,null,null,"",null,null,"",null,null,null,null," "," "]
[null,null,null,null,null,null,null,null,null,null,null,null,null,null,null,null,null,null,null,null,null,null,null,null,null,null,"",null,null,"",null,null,null,null," "," "]
[null,null,null,null,null,null,null,null,null,null,null,null,null,null,null,null,null,null,null,null,null,null,null,null,null,null,"",null,null,"",null,null,null,{"$f":"IF(AG32>0,\"Direct Claims Payments\",\"\")","v":""}," "," ",null,null,null,null,null,null,null,null,null,null,null,null,null,null,null,null,null,null,null,null,null,null,null,null,null,null,null,null,null,null,null,null,null,null,null,null,null,null,null,null,null,null,null,null,null,null,null,null,null,{"$f":"CC32&\" \"&IF(S32=\"QC\",IF(CD32=\"Revocable\",\"(revocable)\",IF(CD32=\"Irrevocable\",\"(irrevocable)\",IF(CD32=\"\",\"\",\"\"))),\"\")&\" \"&IF(CE32>0,CHAR(10)&\"Contingent(s): \"&CE32,\"\")&\" \"&IF(S32=\"QC\",IF(CF32=\"Revocable\",\"(revocable)\",IF(CF32=\"Irrevocable\",\"(irrevocable)\",IF(CF32=\"\",\"\",\"\"))),\"\")&\" \"&IF(CG32>0,CHAR(10)&\"Trustee (minor): \"&CG32,\"\")","v":"    "}]
[null,null,null,null,null,null,null,null,null,null,null,null,null,null,null,null,null,null,null,null,null,null,null,null,null,null,"",null,null,"",null,null,null,""," "," ",null,null,null,null,null,null,null,null,null,null,null,null,null,null,null,null,null,null,null,null,null,null,null,null,null,null,null,null,null,null,null,null,null,null,null,null,null,null,null,null,null,null,null,null,null,null,null,null,null,"    "]
[null,null,null,null,null,null,null,null,null,null,null,null,null,null,null,null,null,null,null,null,null,null,null,null,null,null,"",null,null,"",null,null,null,""," "," ",null,null,null,null,null,null,null,null,null,null,null,null,null,null,null,null,null,null,null,null,null,null,null,null,null,null,null,null,null,null,null,null,null,null,null,null,null,null,null,null,null,null,null,null,null,null,null,null,null,"    "]
[null,null,null,null,null,null,null,null,null,null,null,null,null,null,null,null,null,null,null,null,null,null,null,null,null,null,"",null,null,"",null,null,null,""," "," ",null,null,null,null,null,null,null,null,null,null,null,null,null,null,null,null,null,null,null,null,null,null,null,null,null,null,null,null,null,null,null,null,null,null,null,null,null,null,null,null,null,null,null,null,null,null,null,null,null,"    "]
[null,null,null,null,null,null,null,null,null,null,null,null,null,null,null,null,null,null,null,null,null,null,null,null,null,null,"",null,null,"",null,null,null,""," "," ",null,null,null,null,null,null,null,null,null,null,null,null,null,null,null,null,null,null,null,null,null,null,null,null,null,null,null,null,null,null,null,null,null,null,null,null,null,null,null,null,null,null,null,null,null,null,null,null,null,"    "]
[null,null,null,null,null,null,null,null,null,null,null,null,null,null,null,null,null,null,null,null,null,null,null,null,null,null,"",null,null,"",null,null,null,""," "," ",null,null,null,null,null,null,null,null,null,null,null,null,null,null,null,null,null,null,null,null,null,null,null,null,null,null,null,null,null,null,null,null,null,null,null,null,null,null,null,null,null,null,null,null,null,null,null,null,null,"    "]
[null,null,null,null,null,null,null,null,null,null,null,null,null,null,null,null,null,null,null,null,null,null,null,null,null,null,"",null,null,"",null,null,null,""," "," ",null,null,null,null,null,null,null,null,null,null,null,null,null,null,null,null,null,null,null,null,null,null,null,null,null,null,null,null,null,null,null,null,null,null,null,null,null,null,null,null,null,null,null,null,null,null,null,null,null,"    "]
[null,null,null,null,null,null,null,null,null,null,null,null,null,null,null,null,null,null,null,null,null,null,null,null,null,null,"",null,null,"",null,null,null,""," "," ",null,null,null,null,null,null,null,null,null,null,null,null,null,null,null,null,null,null,null,null,null,null,null,null,null,null,null,null,null,null,null,null,null,null,null,null,null,null,null,null,null,null,null,null,null,null,null,null,null,"    "]
[null,null,null,null,null,null,null,null,null,null,null,null,null,null,null,null,null,null,null,null,null,null,null,null,null,null,"",null,null,"",null,null,null,""," "," ",null,null,null,null,null,null,null,null,null,null,null,null,null,null,null,null,null,null,null,null,null,null,null,null,null,null,null,null,null,null,null,null,null,null,null,null,null,null,null,null,null,null,null,null,null,null,null,null,null,"    "]
[null,null,null,null,null,null,null,null,null,null,null,null,null,null,null,null,null,null,null,null,null,null,null,null,null,null,"",null,null,"",null,null,null,""," "," ",null,null,null,null,null,null,null,null,null,null,null,null,null,null,null,null,null,null,null,null,null,null,null,null,null,null,null,null,null,null,null,null,null,null,null,null,null,null,null,null,null,null,null,null,null,null,null,null,null,"    "]
[null,null,null,null,null,null,null,null,null,null,null,null,null,null,null,null,null,null,null,null,null,null,null,null,null,null,"",null,null,{"$f":"IF(N42>0,\"Actual Earnings\",\"\")","v":""},null,null,null,""," ",{"$f":"B42&\" \"&D42","v":" "},null,null,null,null,null,null,null,null,null,null,null,null,null,null,null,null,null,null,null,null,null,null,null,null,null,null,null,null,null,null,null,null,null,null,null,null,null,null,null,null,null,null,null,null,null,null,null,null,null,{"$f":"CC42&\" \"&IF(S42=\"QC\",IF(CD42=\"Revocable\",\"(revocable)\",IF(CD42=\"Irrevocable\",\"(irrevocable)\",IF(CD42=\"\",\"\",\"\"))),\"\")&\" \"&IF(CE42>0,CHAR(10)&\"Contingent(s): \"&CE42,\"\")&\" \"&IF(S42=\"QC\",IF(CF42=\"Revocable\",\"(revocable)\",IF(CF42=\"Irrevocable\",\"(irrevocable)\",IF(CF42=\"\",\"\",\"\"))),\"\")&\" \"&IF(CG42>0,CHAR(10)&\"Trustee (minor): \"&CG42,\"\")","v":"    "}]
[null,null,null,null,null,null,null,null,null,null,null,null,null,null,null,null,null,null,null,null,null,null,null,null,null,null,"",null,null,"",null,null,null,""," "," ",null,null,null,null,null,null,null,null,null,null,null,null,null,null,null,null,null,null,null,null,null,null,null,null,null,null,null,null,null,null,null,null,null,null,null,null,null,null,null,null,null,null,null,null,null,null,null,null,null,"    "]
[null,null,null,null,null,null,null,null,null,null,null,null,null,null,null,null,null,null,null,null,null,null,null,null,null,null,"",null,null,"",null,null,null,""," "," ",null,null,null,null,null,null,null,null,null,null,null,null,null,null,null,null,null,null,null,null,null,null,null,null,null,null,null,null,null,null,null,null,null,null,null,null,null,null,null,null,null,null,null,null,null,null,null,null,null,"    "]
[null,null,null,null,null,null,null,null,null,null,null,null,null,null,null,null,null,null,null,null,null,null,null,null,null,null,"",null,null,"",null,null,null,""," "," ",null,null,null,null,null,null,null,null,null,null,null,null,null,null,null,null,null,null,null,null,null,null,null,null,null,null,null,null,null,null,null,null,null,null,null,null,null,null,null,null,null,null,null,null,null,null,null,null,null,"    "]
[null,null,null,null,null,null,null,null,null,null,null,null,null,null,null,null,null,null,null,null,null,null,null,null,null,null,"",null,null,"",null,null,null,""," "," ",null,null,null,null,null,null,null,null,null,null,null,null,null,null,null,null,null,null,null,null,null,null,null,null,null,null,null,null,null,null,null,null,null,null,null,null,null,null,null,null,null,null,null,null,null,null,null,null,null,"    "]
[null,null,null,null,null,null,null,null,null,null,null,null,null,null,null,null,null,null,null,null,null,null,null,null,null,null,"",null,null,"",null,null,null,""," "," ",null,null,null,null,null,null,null,null,null,null,null,null,null,null,null,null,null,null,null,null,null,null,null,null,null,null,null,null,null,null,null,null,null,null,null,null,null,null,null,null,null,null,null,null,null,null,null,null,null,"    "]
[null,null,null,null,null,null,null,null,null,null,null,null,null,null,null,null,null,null,null,null,null,null,null,null,null,null,"",null,null,"",null,null,null,""," "," ",null,null,null,null,null,null,null,null,null,null,null,null,null,null,null,null,null,null,null,null,null,null,null,null,null,null,null,null,null,null,null,null,null,null,null,null,null,null,null,null,null,null,null,null,null,null,null,null,null,"    "]
[null,null,null,null,null,null,null,null,null,null,null,null,null,null,null,null,null,null,null,null,null,null,null,null,null,null,"",null,null,"",null,null,null,""," "," ",null,null,null,null,null,null,null,null,null,null,null,null,null,null,null,null,null,null,null,null,null,null,null,null,null,null,null,null,null,null,null,null,null,null,null,null,null,null,null,null,null,null,null,null,null,null,null,null,null,"    "]
[null,null,null,null,null,null,null,null,null,null,null,null,null,null,null,null,null,null,null,null,null,null,null,null,null,null,"",null,null,"",null,null,null,""," "," ",null,null,null,null,null,null,null,null,null,null,null,null,null,null,null,null,null,null,null,null,null,null,null,null,null,null,null,null,null,null,null,null,null,null,null,null,null,null,null,null,null,null,null,null,null,null,null,null,null,"    "]
[null,null,null,null,null,null,null,null,null,null,null,null,null,null,null,null,null,null,null,null,null,null,null,null,null,null,"",null,null,"",null,null,null,""," "," ",null,null,null,null,null,null,null,null,null,null,null,null,null,null,null,null,null,null,null,null,null,null,null,null,null,null,null,null,null,null,null,null,null,null,null,null,null,null,null,null,null,null,null,null,null,null,null,null,null,"    "]
[null,null,null,null,null,null,null,null,null,null,null,null,null,null,null,null,null,null,null,null,null,null,null,null,null,null,"",null,null,"",null,null,null,""," "," ",null,null,null,null,null,null,null,null,null,null,null,null,null,null,null,null,null,null,null,null,null,null,null,null,null,null,null,null,null,null,null,null,null,null,null,null,null,null,null,null,null,null,null,null,null,null,null,null,null,"    "]
[null,null,null,null,null,null,null,null,null,null,null,null,null,null,null,null,null,null,null,null,null,null,null,null,null,null,"",null,null,"",null,null,null,""," "," ",null,null,null,null,null,null,null,null,null,null,null,null,null,null,null,null,null,null,null,null,null,null,null,null,null,null,null,null,null,null,null,null,null,null,null,null,null,null,null,null,null,null,null,null,null,null,null,null,null,"    "]
[null,null,null,null,null,null,null,null,null,null,null,null,null,null,null,null,null,null,null,null,null,null,null,null,null,null,"",null,null,"",null,null,null,""," "," ",null,null,null,null,null,null,null,null,null,null,null,null,null,null,null,null,null,null,null,null,null,null,null,null,null,null,null,null,null,null,null,null,null,null,null,null,null,null,null,null,null,null,null,null,null,null,null,null,null,"    "]
[null,null,null,null,null,null,null,null,null,null,null,null,null,null,null,null,null,null,null,null,null,null,null,null,null,null,"",null,null,"",null,null,null,""," "," ",null,null,null,null,null,null,null,null,null,null,null,null,null,null,null,null,null,null,null,null,null,null,null,null,null,null,null,null,null,null,null,null,null,null,null,null,null,null,null,null,null,null,null,null,null,null,null,null,null,"    "]
[null,null,null,null,null,null,null,null,null,null,null,null,null,null,null,null,null,null,null,null,null,null,null,null,null,null,"",null,null,"",null,null,null,""," "," ",null,null,null,null,null,null,null,null,null,null,null,null,null,null,null,null,null,null,null,null,null,null,null,null,null,null,null,null,null,null,null,null,null,null,null,null,null,null,null,null,null,null,null,null,null,null,null,null,null,"    "]
[null,null,null,null,null,null,null,null,null,null,null,null,null,null,null,null,null,null,null,null,null,null,null,null,null,null,"",null,null,"",null,null,null,""," "," ",null,null,null,null,null,null,null,null,null,null,null,null,null,null,null,null,null,null,null,null,null,null,null,null,null,null,null,null,null,null,null,null,null,null,null,null,null,null,null,null,null,null,null,null,null,null,null,null,null,"    "]
[null,null,null,null,null,null,null,null,null,null,null,null,null,null,null,null,null,null,null,null,null,null,null,null,null,null,"",null,null,"",null,null,null,""," "," ",null,null,null,null,null,null,null,null,null,null,null,null,null,null,null,null,null,null,null,null,null,null,null,null,null,null,null,null,null,null,null,null,null,null,null,null,null,null,null,null,null,null,null,null,null,null,null,null,null,"    "]
[null,null,null,null,null,null,null,null,null,null,null,null,null,null,null,null,null,null,null,null,null,null,null,null,null,null,"",null,null,"",null,null,null,""," "," ",null,null,null,null,null,null,null,null,null,null,null,null,null,null,null,null,null,null,null,null,null,null,null,null,null,null,null,null,null,null,null,null,null,null,null,null,null,null,null,null,null,null,null,null,null,null,null,null,null,"    "]
[null,null,null,null,null,null,null,null,null,null,null,null,null,null,null,null,null,null,null,null,null,null,null,null,null,null,"",null,null,"",null,null,null,""," "," ",null,null,null,null,null,null,null,null,null,null,null,null,null,null,null,null,null,null,null,null,null,null,null,null,null,null,null,null,null,null,null,null,null,null,null,null,null,null,null,null,null,null,null,null,null,null,null,null,null,"    "]
[null,null,null,null,null,null,null,null,null,null,null,null,null,null,null,null,null,null,null,null,null,null,null,null,null,null,"",null,null,"",null,null,null,""," "," ",null,null,null,null,null,null,null,null,null,null,null,null,null,null,null,null,null,null,null,null,null,null,null,null,null,null,null,null,null,null,null,null,null,null,null,null,null,null,null,null,null,null,null,null,null,null,null,null,null,"    "]
[null,null,null,null,null,null,null,null,null,null,null,null,null,null,null,null,null,null,null,null,null,null,null,null,null,null,"",null,null,"",null,null,null,""," "," ",null,null,null,null,null,null,null,null,null,null,null,null,null,null,null,null,null,null,null,null,null,null,null,null,null,null,null,null,null,null,null,null,null,null,null,null,null,null,null,null,null,null,null,null,null,null,null,null,null,"    "]
[null,null,null,null,null,null,null,null,null,null,null,null,null,null,null,null,null,null,null,null,null,null,null,null,null,null,"",null,null,"",null,null,null,""," "," ",null,null,null,null,null,null,null,null,null,null,null,null,null,null,null,null,null,null,null,null,null,null,null,null,null,null,null,null,null,null,null,null,null,null,null,null,null,null,null,null,null,null,null,null,null,null,null,null,null,"    "]
[null,null,null,null,null,null,null,null,null,null,null,null,null,null,null,null,null,null,null,null,null,null,null,null,null,null,"",null,null,"",null,null,null,""," "," ",null,null,null,null,null,null,null,null,null,null,null,null,null,null,null,null,null,null,null,null,null,null,null,null,null,null,null,null,null,null,null,null,null,null,null,null,null,null,null,null,null,null,null,null,null,null,null,null,null,"    "]
[null,null,null,null,null,null,null,null,null,null,null,null,null,null,null,null,null,null,null,null,null,null,null,null,null,null,"",null,null,"",null,null,null,""," "," ",null,null,null,null,null,null,null,null,null,null,null,null,null,null,null,null,null,null,null,null,null,null,null,null,null,null,null,null,null,null,null,null,null,null,null,null,null,null,null,null,null,null,null,null,null,null,null,null,null,"    "]
[null,null,null,null,null,null,null,null,null,null,null,null,null,null,null,null,null,null,null,null,null,null,null,null,null,null,"",null,null,"",null,null,null,""," "," ",null,null,null,null,null,null,null,null,null,null,null,null,null,null,null,null,null,null,null,null,null,null,null,null,null,null,null,null,null,null,null,null,null,null,null,null,null,null,null,null,null,null,null,null,null,null,null,null,null,"    "]
[null,null,null,null,null,null,null,null,null,null,null,null,null,null,null,null,null,null,null,null,null,null,null,null,null,null,"",null,null,"",null,null,null,""," "," ",null,null,null,null,null,null,null,null,null,null,null,null,null,null,null,null,null,null,null,null,null,null,null,null,null,null,null,null,null,null,null,null,null,null,null,null,null,null,null,null,null,null,null,null,null,null,null,null,null,"    "]
[null,null,null,null,null,null,null,null,null,null,null,null,null,null,null,null,null,null,null,null,null,null,null,null,null,null,"",null,null,"",null,null,null,""," "," ",null,null,null,null,null,null,null,null,null,null,null,null,null,null,null,null,null,null,null,null,null,null,null,null,null,null,null,null,null,null,null,null,null,null,null,null,null,null,null,null,null,null,null,null,null,null,null,null,null,"    "]
[null,null,null,null,null,null,null,null,null,null,null,null,null,null,null,null,null,null,null,null,null,null,null,null,null,null,"",null,null,"",null,null,null,""," "," ",null,null,null,null,null,null,null,null,null,null,null,null,null,null,null,null,null,null,null,null,null,null,null,null,null,null,null,null,null,null,null,null,null,null,null,null,null,null,null,null,null,null,null,null,null,null,null,null,null,"    "]
[null,null,null,null,null,null,null,null,null,null,null,null,null,null,null,null,null,null,null,null,null,null,null,null,null,null,"",null,null,"",null,null,null,""," "," ",null,null,null,null,null,null,null,null,null,null,null,null,null,null,null,null,null,null,null,null,null,null,null,null,null,null,null,null,null,null,null,null,null,null,null,null,null,null,null,null,null,null,null,null,null,null,null,null,null,"    "]
[null,null,null,null,null,null,null,null,null,null,null,null,null,null,null,null,null,null,null,null,null,null,null,null,null,null,"",null,null,"",null,null,null,""," "," ",null,null,null,null,null,null,null,null,null,null,null,null,null,null,null,null,null,null,null,null,null,null,null,null,null,null,null,null,null,null,null,null,null,null,null,null,null,null,null,null,null,null,null,null,null,null,null,null,null,"    "]
[null,null,null,null,null,null,null,null,null,null,null,null,null,null,null,null,null,null,null,null,null,null,null,null,null,null,"",null,null,"",null,null,null,""," "," ",null,null,null,null,null,null,null,null,null,null,null,null,null,null,null,null,null,null,null,null,null,null,null,null,null,null,null,null,null,null,null,null,null,null,null,null,null,null,null,null,null,null,null,null,null,null,null,null,null,"    "]
[null,null,null,null,null,null,null,null,null,null,null,null,null,null,null,null,null,null,null,null,null,null,null,null,null,null,"",null,null,"",null,null,null,""," "," ",null,null,null,null,null,null,null,null,null,null,null,null,null,null,null,null,null,null,null,null,null,null,null,null,null,null,null,null,null,null,null,null,null,null,null,null,null,null,null,null,null,null,null,null,null,null,null,null,null,"    "]
[null,null,null,null,null,null,null,null,null,null,null,null,null,null,null,null,null,null,null,null,null,null,null,null,null,null,"",null,null,{"$f":"IF(N74>0,\"Actual Earnings\",\"\")","v":""},null,null,null,""," ",{"$f":"B74&\" \"&D74","v":" "},null,null,null,null,null,null,null,null,null,null,null,null,null,null,null,null,null,null,null,null,null,null,null,null,null,null,null,null,null,null,null,null,null,null,null,null,null,null,null,null,null,null,null,null,null,null,null,null,null,{"$f":"CC74&\" \"&IF(S74=\"QC\",IF(CD74=\"Revocable\",\"(revocable)\",IF(CD74=\"Irrevocable\",\"(irrevocable)\",IF(CD74=\"\",\"\",\"\"))),\"\")&\" \"&IF(CE74>0,CHAR(10)&\"Contingent(s): \"&CE74,\"\")&\" \"&IF(S74=\"QC\",IF(CF74=\"Revocable\",\"(revocable)\",IF(CF74=\"Irrevocable\",\"(irrevocable)\",IF(CF74=\"\",\"\",\"\"))),\"\")&\" \"&IF(CG74>0,CHAR(10)&\"Trustee (minor): \"&CG74,\"\")","v":"    "}]
[null,null,null,null,null,null,null,null,null,null,null,null,null,null,null,null,null,null,null,null,null,null,null,null,null,null,{"$f":"IF(Y75>0,\"Canada\",\"\")","v":""},null,null,"",null,null,null,{"$f":"IF(AG75>0,\"Direct Claims Payments\",\"\")","v":""},{"$f":"IF(V75>0, \"Home\",\" \")","v":" "}," ",null,null,null,null,null,null,null,null,null,null,null,null,null,null,null,null,null,null,null,null,null,null,null,null,null,null,null,null,null,null,null,null,null,null,null,null,null,null,null,null,null,null,null,null,null,null,null,null,null,"    "]
[null,null,null,null,null,null,null,null,null,null,null,null,null,null,null,null,null,null,null,null,null,null,null,null,null,null,"",null,null,"",null,null,null,""," "," ",null,null,null,null,null,null,null,null,null,null,null,null,null,null,null,null,null,null,null,null,null,null,null,null,null,null,null,null,null,null,null,null,null,null,null,null,null,null,null,null,null,null,null,null,null,null,null,null,null,"    "]
[null,null,null,null,null,null,null,null,null,null,null,null,null,null,null,null,null,null,null,null,null,null,null,null,null,null,"",null,null,"",null,null,null,""," "," ",null,null,null,null,null,null,null,null,null,null,null,null,null,null,null,null,null,null,null,null,null,null,null,null,null,null,null,null,null,null,null,null,null,null,null,null,null,null,null,null,null,null,null,null,null,null,null,null,null,"    "]
[null,null,null,null,null,null,null,null,null,null,null,null,null,null,null,null,null,null,null,null,null,null,null,null,null,null,"",null,null,"",null,null,null,""," "," ",null,null,null,null,null,null,null,null,null,null,null,null,null,null,null,null,null,null,null,null,null,null,null,null,null,null,null,null,null,null,null,null,null,null,null,null,null,null,null,null,null,null,null,null,null,null,null,null,null,"    "]
[null,null,null,null,null,null,null,null,null,null,null,null,null,null,null,null,null,null,null,null,null,null,null,null,null,null,"",null,null,"",null,null,null,""," "," ",null,null,null,null,null,null,null,null,null,null,null,null,null,null,null,null,null,null,null,null,null,null,null,null,null,null,null,null,null,null,null,null,null,null,null,null,null,null,null,null,null,null,null,null,null,null,null,null,null,"    "]
[null,null,null,null,null,null,null,null,null,null,null,null,null,null,null,null,null,null,null,null,null,null,null,null,null,null,"",null,null,"",null,null,null,""," "," ",null,null,null,null,null,null,null,null,null,null,null,null,null,null,null,null,null,null,null,null,null,null,null,null,null,null,null,null,null,null,null,null,null,null,null,null,null,null,null,null,null,null,null,null,null,null,null,null,null,"    "]
[null,null,null,null,null,null,null,null,null,null,null,null,null,null,null,null,null,null,null,null,null,null,null,null,null,null,"",null,null,"",null,null,null,""," "," ",null,null,null,null,null,null,null,null,null,null,null,null,null,null,null,null,null,null,null,null,null,null,null,null,null,null,null,null,null,null,null,null,null,null,null,null,null,null,null,null,null,null,null,null,null,null,null,null,null,"    "]
[null,null,null,null,null,null,null,null,null,null,null,null,null,null,null,null,null,null,null,null,null,null,null,null,null,null,"",null,null,"",null,null,null,""," "," ",null,null,null,null,null,null,null,null,null,null,null,null,null,null,null,null,null,null,null,null,null,null,null,null,null,null,null,null,null,null,null,null,null,null,null,null,null,null,null,null,null,null,null,null,null,null,null,null,null,"    "]
[null,null,null,null,null,null,null,null,null,null,null,null,null,null,null,null,null,null,null,null,null,null,null,null,null,null,"",null,null,"",null,null,null,""," "," ",null,null,null,null,null,null,null,null,null,null,null,null,null,null,null,null,null,null,null,null,null,null,null,null,null,null,null,null,null,null,null,null,null,null,null,null,null,null,null,null,null,null,null,null,null,null,null,null,null,"    "]
[null,null,null,null,null,null,null,null,null,null,null,null,null,null,null,null,null,null,null,null,null,null,null,null,null,null,"",null,null,"",null,null,null,""," "," ",null,null,null,null,null,null,null,null,null,null,null,null,null,null,null,null,null,null,null,null,null,null,null,null,null,null,null,null,null,null,null,null,null,null,null,null,null,null,null,null,null,null,null,null,null,null,null,null,null,"    "]
[null,null,null,null,null,null,null,null,null,null,null,null,null,null,null,null,null,null,null,null,null,null,null,null,null,null,"",null,null,"",null,null,null,""," "," ",null,null,null,null,null,null,null,null,null,null,null,null,null,null,null,null,null,null,null,null,null,null,null,null,null,null,null,null,null,null,null,null,null,null,null,null,null,null,null,null,null,null,null,null,null,null,null,null,null,"    "]
[null,null,null,null,null,null,null,null,null,null,null,null,null,null,null,null,null,null,null,null,null,null,null,null,null,null,"",null,null,"",null,null,null,""," "," ",null,null,null,null,null,null,null,null,null,null,null,null,null,null,null,null,null,null,null,null,null,null,null,null,null,null,null,null,null,null,null,null,null,null,null,null,null,null,null,null,null,null,null,null,null,null,null,null,null,"    "]
[null,null,null,null,null,null,null,null,null,null,null,null,null,null,null,null,null,null,null,null,null,null,null,null,null,null,"",null,null,"",null,null,null,""," "," ",null,null,null,null,null,null,null,null,null,null,null,null,null,null,null,null,null,null,null,null,null,null,null,null,null,null,null,null,null,null,null,null,null,null,null,null,null,null,null,null,null,null,null,null,null,null,null,null,null,"    "]
[null,null,null,null,null,null,null,null,null,null,null,null,null,null,null,null,null,null,null,null,null,null,null,null,null,null,"",null,null,"",null,null,null,""," "," ",null,null,null,null,null,null,null,null,null,null,null,null,null,null,null,null,null,null,null,null,null,null,null,null,null,null,null,null,null,null,null,null,null,null,null,null,null,null,null,null,null,null,null,null,null,null,null,null,null,"    "]
[null,null,null,null,null,null,null,null,null,null,null,null,null,null,null,null,null,null,null,null,null,null,null,null,null,null,"",null,null,"",null,null,null,""," "," ",null,null,null,null,null,null,null,null,null,null,null,null,null,null,null,null,null,null,null,null,null,null,null,null,null,null,null,null,null,null,null,null,null,null,null,null,null,null,null,null,null,null,null,null,null,null,null,null,null,"    "]
[null,null,null,null,null,null,null,null,null,null,null,null,null,null,null,null,null,null,null,null,null,null,null,null,null,null,"",null,null,"",null,null,null,""," "," ",null,null,null,null,null,null,null,null,null,null,null,null,null,null,null,null,null,null,null,null,null,null,null,null,null,null,null,null,null,null,null,null,null,null,null,null,null,null,null,null,null,null,null,null,null,null,null,null,null,"    "]
[null,null,null,null,null,null,null,null,null,null,null,null,null,null,null,null,null,null,null,null,null,null,null,null,null,null,"",null,null,"",null,null,null,""," "," ",null,null,null,null,null,null,null,null,null,null,null,null,null,null,null,null,null,null,null,null,null,null,null,null,null,null,null,null,null,null,null,null,null,null,null,null,null,null,null,null,null,null,null,null,null,null,null,null,null,"    "]
[null,null,null,null,null,null,null,null,null,null,null,null,null,null,null,null,null,null,null,null,null,null,null,null,null,null,"",null,null,"",null,null,null,""," "," ",null,null,null,null,null,null,null,null,null,null,null,null,null,null,null,null,null,null,null,null,null,null,null,null,null,null,null,null,null,null,null,null,null,null,null,null,null,null,null,null,null,null,null,null,null,null,null,null,null,"    "]
[null,null,null,null,null,null,null,null,null,null,null,null,null,null,null,null,null,null,null,null,null,null,null,null,null,null,"",null,null,"",null,null,null,""," "," ",null,null,null,null,null,null,null,null,null,null,null,null,null,null,null,null,null,null,null,null,null,null,null,null,null,null,null,null,null,null,null,null,null,null,null,null,null,null,null,null,null,null,null,null,null,null,null,null,null,"    "]
[null,null,null,null,null,null,null,null,null,null,null,null,null,null,null,null,null,null,null,null,null,null,null,null,null,null,"",null,null,"",null,null,null,""," "," ",null,null,null,null,null,null,null,null,null,null,null,null,null,null,null,null,null,null,null,null,null,null,null,null,null,null,null,null,null,null,null,null,null,null,null,null,null,null,null,null,null,null,null,null,null,null,null,null,null,"    "]
[null,null,null,null,null,null,null,null,null,null,null,null,null,null,null,null,null,null,null,null,null,null,null,null,null,null,"",null,null,"",null,null,null,""," "," ",null,null,null,null,null,null,null,null,null,null,null,null,null,null,null,null,null,null,null,null,null,null,null,null,null,null,null,null,null,null,null,null,null,null,null,null,null,null,null,null,null,null,null,null,null,null,null,null,null,"    "]
[null,null,null,null,null,null,null,null,null,null,null,null,null,null,null,null,null,null,null,null,null,null,null,null,null,null,"",null,null,"",null,null,null,""," "," ",null,null,null,null,null,null,null,null,null,null,null,null,null,null,null,null,null,null,null,null,null,null,null,null,null,null,null,null,null,null,null,null,null,null,null,null,null,null,null,null,null,null,null,null,null,null,null,null,null,"    "]
[null,null,null,null,null,null,null,null,null,null,null,null,null,null,null,null,null,null,null,null,null,null,null,null,null,null,"",null,null,"",null,null,null,""," "," ",null,null,null,null,null,null,null,null,null,null,null,null,null,null,null,null,null,null,null,null,null,null,null,null,null,null,null,null,null,null,null,null,null,null,null,null,null,null,null,null,null,null,null,null,null,null,null,null,null,"    "]
[null,null,null,null,null,null,null,null,null,null,null,null,null,null,null,null,null,null,null,null,null,null,null,null,null,null,"",null,null,"",null,null,null,""," "," ",null,null,null,null,null,null,null,null,null,null,null,null,null,null,null,null,null,null,null,null,null,null,null,null,null,null,null,null,null,null,null,null,null,null,null,null,null,null,null,null,null,null,null,null,null,null,null,null,null,"    "]
[null,null,null,null,null,null,null,null,null,null,null,null,null,null,null,null,null,null,null,null,null,null,null,null,null,null,"",null,null,"",null,null,null,""," "," ",null,null,null,null,null,null,null,null,null,null,null,null,null,null,null,null,null,null,null,null,null,null,null,null,null,null,null,null,null,null,null,null,null,null,null,null,null,null,null,null,null,null,null,null,null,null,null,null,null,"    "]
[null,null,null,null,null,null,null,null,null,null,null,null,null,null,null,null,null,null,null,null,null,null,null,null,null,null,"",null,null,"",null,null,null,""," "," ",null,null,null,null,null,null,null,null,null,null,null,null,null,null,null,null,null,null,null,null,null,null,null,null,null,null,null,null,null,null,null,null,null,null,null,null,null,null,null,null,null,null,null,null,null,null,null,null,null,"    "]
[null,null,null,null,null,null,null,null,null,null,null,null,null,null,null,null,null,null,null,null,null,null,null,null,null,null,"",null,null,"",null,null,null,""," "," ",null,null,null,null,null,null,null,null,null,null,null,null,null,null,null,null,null,null,null,null,null,null,null,null,null,null,null,null,null,null,null,null,null,null,null,null,null,null,null,null,null,null,null,null,null,null,null,null,null,"    "]
[null,null,null,null,null,null,null,null,null,null,null,null,null,null,null,null,null,null,null,null,null,null,null,null,null,null,"",null,null,"",null,null,null,""," "," ",null,null,null,null,null,null,null,null,null,null,null,null,null,null,null,null,null,null,null,null,null,null,null,null,null,null,null,null,null,null,null,null,null,null,null,null,null,null,null,null,null,null,null,null,null,null,null,null,null,"    "]
[null,null,null,null,null,null,null,null,null,null,null,null,null,null,null,null,null,null,null,null,null,null,null,null,null,null,"",null,null,"",null,null,null,""," "," ",null,null,null,null,null,null,null,null,null,null,null,null,null,null,null,null,null,null,null,null,null,null,null,null,null,null,null,null,null,null,null,null,null,null,null,null,null,null,null,null,null,null,null,null,null,null,null,null,null,"    "]
[null,null,null,null,null,null,null,null,null,null,null,null,null,null,null,null,null,null,null,null,null,null,null,null,null,null,"",null,null,"",null,null,null,""," "," ",null,null,null,null,null,null,null,null,null,null,null,null,null,null,null,null,null,null,null,null,null,null,null,null,null,null,null,null,null,null,null,null,null,null,null,null,null,null,null,null,null,null,null,null,null,null,null,null,null,"    "]
[null,null,null,null,null,null,null,null,null,null,null,null,null,null,null,null,null,null,null,null,null,null,null,null,null,null,"",null,null,"",null,null,null,""," "," ",null,null,null,null,null,null,null,null,null,null,null,null,null,null,null,null,null,null,null,null,null,null,null,null,null,null,null,null,null,null,null,null,null,null,null,null,null,null,null,null,null,null,null,null,null,null,null,null,null,"    "]
[null,null,null,null,null,null,null,null,null,null,null,null,null,null,null,null,null,null,null,null,null,null,null,null,null,null,"",null,null,"",null,null,null,""," "," ",null,null,null,null,null,null,null,null,null,null,null,null,null,null,null,null,null,null,null,null,null,null,null,null,null,null,null,null,null,null,null,null,null,null,null,null,null,null,null,null,null,null,null,null,null,null,null,null,null,{"$f":"CC106&\" \"&IF(S106=\"QC\",IF(CD106=\"Revocable\",\"(revocable)\",IF(CD106=\"Irrevocable\",\"(irrevocable)\",IF(CD106=\"\",\"\",\"\"))),\"\")&\" \"&IF(CE106>0,CHAR(10)&\"Contingent(s): \"&CE106,\"\")&\" \"&IF(S106=\"QC\",IF(CF106=\"Revocable\",\"(revocable)\",IF(CF106=\"Irrevocable\",\"(irrevocable)\",IF(CF106=\"\",\"\",\"\"))),\"\")&\" \"&IF(CG106>0,CHAR(10)&\"Trustee (minor): \"&CG106,\"\")","v":"    "}]

{"sheet":"Simplified Loader (FOR COPY)","index":2,"n_rows":899,"n_cols":80,"rows_kept":899,"cut":false,"hidden":true,"merged":[[0,0,0,1],[0,22,0,24],[0,2,0,3],[0,4,0,5],[0,6,0,7]]}
["Company Name:",null,{"$f":"IF('Outil Recensement'!C1:R1>0,'Outil Recensement'!C1:R1,\"\")","v":""},null,null,null,null,null,null,null,null,null,null,null,null,null,"Hidden",null,null,null,null,null,"Banking Information",null,null,"Hidden","Hidden","Hidden"]
["ex: 1234567890","ex: John","H","ex: Smith","ex: 001","ex: A","A","(YYYY-MM-DD)","(YYYY-MM-DD)","ex: ON","ex: ON","Male/Female","Yes/No","Single/Family","English/French","Yes/No","Actual Earnings","ex: Annually","ex: 50000","ex: 40","Yes/No","Yes/No","ex: 123","ex: 12345","ex: 1234567890","Direct Claims Payments","Home","John Smith","ex: 123 Any St.","ex: 7A","ex: Any Town","ex: ON","ex: A1B 2C3","ex: Canada","ex: john.smith@hotmail.com","ex: Jane","ex: Smith","(YYYY/MM/DD)","Male/Female","Single/Family","Single/Family","ex: Insure Inc.","Yes/No","ex: Jason","ex: Smith","(YYYY/MM/DD)","Male/Female","Yes/No","Yes/No","ex: Jane","ex: Smith","(YYYY/MM/DD)","Female/Male","Yes/No","Yes/No","ex: Jim","ex: Smith","(YYYY/MM/DD)","Male/Female","Yes/No","Yes/No","ex: Janet","ex: Smith","(YYYY/MM/DD)","Female/Male","Yes/No","Yes/No","ex: Jasmine","ex: Smith","(YYYY/MM/DD)","Female/Male","Yes/No","Yes/No","ex: Jack","ex: Smith","(YYYY/MM/DD)","Male/Female","Yes/No","Yes/No","ex: Jane Smith - Spouse 100%"]
["Member ID","First Name","Middle Initial","Last Name","Location ","Class","Plan","Birth Date","Employment Date","Residence Code","Work Residence Code","Gender","Smoker Status","Dependent Status","Member Language","Tax exempted","Salary Type 1","Salary Basis 1","Salary Amount 1 ","Hours Per Week 1","EHC Refusal","Dental Refusal","Institution Number","Transit Number","Account Number","Type","Address Type","Addressee","Street Address","Suite","City","Province/State","Postal/Zip Code","Country","Email address","Spouse First Name","Spouse Last Name","Spouse Date Of Birth","Spouse Gender","EHC COB","Dental COB","Other Carrier Name","Spouse Smoker Status","Child 1 First Name","Child 1 Last Name","Child 1 Date Of Birth","Child 1 Gender","Student Flag 1","Disabled Status 1","Child 2 First Name","Child 2 Last Name","Child 2 Date Of Birth","Child 2 Gender","Student Flag 2","Disabled Status 2","Child 3 First Name","Child 3 Last Name","Child 3 Date Of Birth","Child 3 Gender","Student Flag 3","Disabled Status 3","Child 4 First Name","Child 4 Last Name","Child 4 Date Of Birth","Child 4 Gender","Student Flag 4","Disabled Status 4","Child 5 First Name","Child 5 Last Name","Child 5 Date Of Birth","Child 5 Gender","Student Flag 5","Disabled Status 5","Child 6 First Name","Child 6 Last Name","Child 6 Date Of Birth","Child 6 Gender","Student Flag 6","Disabled Status 6","Beneficiary Information"]
[{"$f":"IF('Outil Recensement'!A10>0,'Outil Recensement'!A10,\"\")","v":""},{"$f":"IF('Outil Recensement'!B10>0,'Outil Recensement'!B10,\"\")","v":""},{"$f":"IF('Outil Recensement'!C10>0,'Outil Recensement'!C10,\"\")","v":""},{"$f":"IF('Outil Recensement'!D10>0,'Outil Recensement'!D10,\"\")","v":""},{"$f":"IF('Outil Recensement'!P10>0,TEXT('Outil Recensement'!P10,\"000\"),\"\")","v":""},{"$f":"IF('Outil Recensement'!Q10>0,'Outil Recensement'!Q10,\"\")","v":""},{"$f":"IF('Outil Recensement'!R10>0,'Outil Recensement'!R10,\"\")","v":""},{"$f":"IF('Outil Recensement'!F10>0,DATEVALUE(TEXT('Outil Recensement'!F10,\"yyyy-mm-dd\")),\"\")","v":""},{"$f":"IF('Outil Recensement'!L10>0,DATEVALUE(TEXT('Outil Recensement'!L10,\"yyyy-mm-dd\")),\"\")","v":""},{"$f":"IF('Outil Recensement'!Y10>0,'Outil Recensement'!Y10,\"\")","v":""},{"$f":"IF('Outil Recensement'!T10>0,'Outil Recensement'!T10,\"\")","v":""},{"$f":"IF('Outil Recensement'!G10=\"Homme\",\"Male\",IF('Outil Recensement'!G10=\"Femme\",\"Female\",IF('Outil Recensement'!G10=\"H\",\"Male\",IF('Outil Recensement'!G10=\"F\",\"Female\",\"\"))))","v":""},{"$f":"IF('Outil Recensement'!U10=\"Yes\",\"Yes\",IF('Outil Recensement'!U10=\"No\",\"No\",IF('Outil Recensement'!U10=\"Y\",\"Yes\",IF('Outil Recensement'!U10=\"N\",\"No\",\"\"))))","v":""},{"$f":"IF('Outil Recensement'!I10=\"Individuelle\",\"Single\",IF('Outil Recensement'!I10=\"Familiale\",\"Family\",IF('Outil Recensement'!I10=\"Refus\",\"Family\",IF('Outil Recensement'!I10=\"Parent seul\",\"Family\",IF('Outil Recensement'!I10=\"Couple\",\"Family\",IF('Outil Recensement'!I10=\"In force\",\"Family\",IF('Outil Recensement'!I10=\"Applies\",\"Family\",IF('Outil Recensement'!I10=\"Applicable\",\"Family\",\"\"))))))))","v":""},{"$f":"IF('Outil Recensement'!AC10=\"Anglais\",\"English\",IF('Outil Recensement'!AC10=\"Français\",\"French\",IF('Outil Recensement'!AC10=\"A\",\"English\",IF('Outil Recensement'!AC10=\"F\",\"French\",\"\"))))","v":""},{"$f":"IF('Outil Recensement'!AB10=\"Oui\",\"Yes\",IF('Outil Recensement'!AB10=\"Non\",\"No\",IF('Outil Recensement'!AB10=\"O\",\"Yes\",IF('Outil Recensement'!AB10=\"N\",\"No\",\"\"))))","v":""},{"$f":"IF('Outil Recensement'!AD10>0,'Outil Recensement'!AD10,\"\")","v":""},{"$f":"IF('Outil Recensement'!M10=\"Annuel\",\"Annually\",IF('Outil Recensement'!M10=\"Mensuel\",\"Monthly\",IF('Outil Recensement'!M10=\"Bihebdomadaire\",\"Biweekly\",IF('Outil Recensement'!M10=\"Hebdomadaire\",\"Weekly\",IF('Outil Recensement'!M10=\"Horaire\",\"Hourly\",IF('Outil Recensement'!M10=\"Semi-mensuel\",\"Semi-monthly\",IF('Outil Recensement'!M10=\"Applies\",\"Annual\",IF('Outil Recensement'!M10=\"Applicable\",\"Annual\",\"\"))))))))","v":""},{"$f":"IF('Outil Recensement'!N10>0,'Outil Recensement'!N10,\"\")","v":""},{"$f":"IF('Outil Recensement'!O10>0,'Outil Recensement'!O10,\"\")","v":""},{"$f":"IF('Outil Recensement'!I10=\"Refus\",\"Yes\",\"\")","v":""},{"$f":"IF('Outil Recensement'!I10=\"Refus\",\"Yes\",\"\")","v":""},{"$f":"IF('Outil Recensement'!AE10>0,'Outil Recensement'!AE10,\"\")","v":""},{"$f":"IF('Outil Recensement'!AF10>0,'Outil Recensement'!AF10,\"\")","v":""},{"$f":"IF('Outil Recensement'!AG10>0,'Outil Recensement'!AG10,\"\")","v":""},{"$f":"IF('Outil Recensement'!AH10>0,'Outil Recensement'!AH10,\"\")","v":""},{"$f":"IF('Outil Recensement'!AI10>0,'Outil Recensement'!AI10,\"\")","v":" "},{"$f":"IF('Outil Recensement'!AJ10>0,'Outil Recensement'!AJ10,\"\")","v":" "},{"$f":"IF('Outil Recensement'!W10>0,'Outil Recensement'!W10&\" \",\"\")&IF('Outil Recensement'!V10>0,'Outil Recensement'!V10,\"\")","v":""},null,{"$f":"IF('Outil Recensement'!X10>0,'Outil Recensement'!X10,\"\")","v":""},{"$f":"IF('Outil Recensement'!Y10>0,'Outil Recensement'!Y10,\"\")","v":""},{"$f":"IF('Outil Recensement'!Z10>0,'Outil Recensement'!Z10,\"\")","v":""},{"$f":"IF('Outil Recensement'!AA10>0,'Outil Recensement'!AA10,\"\")","v":""},{"$f":"IF('Outil Recensement'!E10>0,'Outil Recensement'!E10,\"\")","v":""},{"$f":"IF('Outil Recensement'!AK10>0,'Outil Recensement'!AK10,\"\")","v":""},{"$f":"IF('Outil Recensement'!AL10>0,'Outil Recensement'!AL10,\"\")","v":""},{"$f":"IF('Outil Recensement'!AM10>0,'Outil Recensement'!AM10,\"\")","v":""},{"$f":"IF('Outil Recensement'!AN10=\"Male\",\"Male\",IF('Outil Recensement'!AN10=\"Female\",\"Female\",IF('Outil Recensement'!AN10=\"M\",\"Male\",IF('Outil Recensement'!AN10=\"F\",\"Female\",\"\"))))","v":""},{"$f":"IF('Outil Recensement'!AO10=\"Single\",\"Single\",IF('Outil Recensement'!AO10=\"Family\",\"Family\",IF('Outil Recensement'!AO10=\"S\",\"Single\",IF('Outil Recensement'!AO10=\"F\",\"Family\",\"\"))))","v":""},{"$f":"IF('Outil Recensement'!AP10=\"Single\",\"Single\",IF('Outil Recensement'!AP10=\"Family\",\"Family\",IF('Outil Recensement'!AP10=\"S\",\"Single\",IF('Outil Recensement'!AP10=\"F\",\"Family\",\"\"))))","v":""},{"$f":"IF('Outil Recensement'!AQ10>0,'Outil Recensement'!AQ10,\"\")","v":""},{"$f":"IF('Outil Recensement'!AR10=\"Yes\",\"Yes\",IF('Outil Recensement'!AR10=\"No\",\"No\",IF('Outil Recensement'!AR10=\"Y\",\"Yes\",IF('Outil Recensement'!AR10=\"N\",\"No\",\"\"))))","v":""},{"$f":"IF('Outil Recensement'!AS10>0,'Outil Recensement'!AS10,\"\")","v":""},{"$f":"IF('Outil Recensement'!AT10>0,'Outil Recensement'!AT10,\"\")","v":""},{"$f":"IF('Outil Recensement'!AU10>0,'Outil Recensement'!AU10,\"\")","v":""},{"$f":"IF('Outil Recensement'!AV10=\"Male\",\"Male\",IF('Outil Recensement'!AV10=\"Female\",\"Female\",IF('Outil Recensement'!AV10=\"M\",\"Male\",IF('Outil Recensement'!AV10=\"F\",\"Female\",\"\"))))","v":""},{"$f":"IF('Outil Recensement'!AW10=\"Yes\",\"Yes\",IF('Outil Recensement'!AW10=\"No\",\"No\",IF('Outil Recensement'!AW10=\"Y\",\"Yes\",IF('Outil Recensement'!AW10=\"N\",\"No\",\"\"))))","v":""},{"$f":"IF('Outil Recensement'!AX10=\"Yes\",\"Yes\",IF('Outil Recensement'!AX10=\"No\",\"No\",IF('Outil Recensement'!AX10=\"Y\",\"Yes\",IF('Outil Recensement'!AX10=\"N\",\"No\",\"\"))))","v":""},{"$f":"IF('Outil Recensement'!AY10>0,'Outil Recensement'!AY10,\"\")","v":""},{"$f":"IF('Outil Recensement'!AZ10>0,'Outil Recensement'!AZ10,\"\")","v":""},{"$f":"IF('Outil Recensement'!BA10>0,'Outil Recensement'!BA10,\"\")","v":""},{"$f":"IF('Outil Recensement'!BB10=\"Male\",\"Male\",IF('Outil Recensement'!BB10=\"Female\",\"Female\",IF('Outil Recensement'!BB10=\"M\",\"Male\",IF('Outil Recensement'!BB10=\"F\",\"Female\",\"\"))))","v":""},{"$f":"IF('Outil Recensement'!BC10=\"Yes\",\"Yes\",IF('Outil Recensement'!BC10=\"No\",\"No\",IF('Outil Recensement'!BC10=\"Y\",\"Yes\",IF('Outil Recensement'!BC10=\"N\",\"No\",\"\"))))","v":""},{"$f":"IF('Outil Recensement'!BD10=\"Yes\",\"Yes\",IF('Outil Recensement'!BD10=\"No\",\"No\",IF('Outil Recensement'!BD10=\"Y\",\"Yes\",IF('Outil Recensement'!BD10=\"N\",\"No\",\"\"))))","v":""},{"$f":"IF('Outil Recensement'!BE10>0,'Outil Recensement'!BE10,\"\")","v":""},{"$f":"IF('Outil Recensement'!BF10>0,'Outil Recensement'!BF10,\"\")","v":""},{"$f":"IF('Outil Recensement'!BG10>0,'Outil Recensement'!BG10,\"\")","v":""},{"$f":"IF('Outil Recensement'!BH10=\"Male\",\"Male\",IF('Outil Recensement'!BH10=\"Female\",\"Female\",IF('Outil Recensement'!BH10=\"M\",\"Male\",IF('Outil Recensement'!BH10=\"F\",\"Female\",\"\"))))","v":""},{"$f":"IF('Outil Recensement'!BI10=\"Yes\",\"Yes\",IF('Outil Recensement'!BI10=\"No\",\"No\",IF('Outil Recensement'!BI10=\"Y\",\"Yes\",IF('Outil Recensement'!BI10=\"N\",\"No\",\"\"))))","v":""},{"$f":"IF('Outil Recensement'!BJ10=\"Yes\",\"Yes\",IF('Outil Recensement'!BJ10=\"No\",\"No\",IF('Outil Recensement'!BJ10=\"Y\",\"Yes\",IF('Outil Recensement'!BJ10=\"N\",\"No\",\"\"))))","v":""},{"$f":"IF('Outil Recensement'!BK10>0,'Outil Recensement'!BK10,\"\")","v":""},{"$f":"IF('Outil Recensement'!BL10>0,'Outil Recensement'!BL10,\"\")","v":""},{"$f":"IF('Outil Recensement'!BM10>0,'Outil Recensement'!BM10,\"\")","v":""},{"$f":"IF('Outil Recensement'!BN10=\"Male\",\"Male\",IF('Outil Recensement'!BN10=\"Female\",\"Female\",IF('Outil Recensement'!BN10=\"M\",\"Male\",IF('Outil Recensement'!BN10=\"F\",\"Female\",\"\"))))","v":""},{"$f":"IF('Outil Recensement'!BO10=\"Yes\",\"Yes\",IF('Outil Recensement'!BO10=\"No\",\"No\",IF('Outil Recensement'!BO10=\"Y\",\"Yes\",IF('Outil Recensement'!BO10=\"N\",\"No\",\"\"))))","v":""},{"$f":"IF('Outil Recensement'!BP10=\"Yes\",\"Yes\",IF('Outil Recensement'!BP10=\"No\",\"No\",IF('Outil Recensement'!BP10=\"Y\",\"Yes\",IF('Outil Recensement'!BP10=\"N\",\"No\",\"\"))))","v":""},{"$f":"IF('Outil Recensement'!BQ10>0,'Outil Recensement'!BQ10,\"\")","v":""},{"$f":"IF('Outil Recensement'!BR10>0,'Outil Recensement'!BR10,\"\")","v":""},{"$f":"IF('Outil Recensement'!BS10>0,'Outil Recensement'!BS10,\"\")","v":""},{"$f":"IF('Outil Recensement'!BT10=\"Male\",\"Male\",IF('Outil Recensement'!BT10=\"Female\",\"Female\",IF('Outil Recensement'!BT10=\"M\",\"Male\",IF('Outil Recensement'!BT10=\"F\",\"Female\",\"\"))))","v":""},{"$f":"IF('Outil Recensement'!BU10=\"Yes\",\"Yes\",IF('Outil Recensement'!BU10=\"No\",\"No\",IF('Outil Recensement'!BU10=\"Y\",\"Yes\",IF('Outil Recensement'!BU10=\"N\",\"No\",\"\"))))","v":""},{"$f":"IF('Outil Recensement'!BV10=\"Yes\",\"Yes\",IF('Outil Recensement'!BV10=\"No\",\"No\",IF('Outil Recensement'!BV10=\"Y\",\"Yes\",IF('Outil Recensement'!BV10=\"N\",\"No\",\"\"))))","v":""},{"$f":"IF('Outil Recensement'!BW10>0,'Outil Recensement'!BW10,\"\")","v":""},{"$f":"IF('Outil Recensement'!BX10>0,'Outil Recensement'!BX10,\"\")","v":""},{"$f":"IF('Outil Recensement'!BY10>0,'Outil Recensement'!BY10,\"\")","v":""},{"$f":"IF('Outil Recensement'!BZ10=\"Male\",\"Male\",IF('Outil Recensement'!BZ10=\"Female\",\"Female\",IF('Outil Recensement'!BZ10=\"M\",\"Male\",IF('Outil Recensement'!BZ10=\"F\",\"Female\",\"\"))))","v":""},{"$f":"IF('Outil Recensement'!CA10=\"Yes\",\"Yes\",IF('Outil Recensement'!CA10=\"No\",\"No\",IF('Outil Recensement'!CA10=\"Y\",\"Yes\",IF('Outil Recensement'!CA10=\"N\",\"No\",\"\"))))","v":""},{"$f":"IF('Outil Recensement'!CB10=\"Yes\",\"Yes\",IF('Outil Recensement'!CB10=\"No\",\"No\",IF('Outil Recensement'!CB10=\"Y\",\"Yes\",IF('Outil Recensement'!CB10=\"N\",\"No\",\"\"))))","v":""},{"$f":"IF('Outil Recensement'!CH10>0,'Outil Recensement'!CH10,\"\")","v":""}]
[{"$f":"IF('Outil Recensement'!A11>0,'Outil Recensement'!A11,\"\")","v":""},{"$f":"IF('Outil Recensement'!B11>0,'Outil Recensement'!B11,\"\")","v":""},{"$f":"IF('Outil Recensement'!C11>0,'Outil Recensement'!C11,\"\")","v":""},{"$f":"IF('Outil Recensement'!D11>0,'Outil Recensement'!D11,\"\")","v":""},{"$f":"IF('Outil Recensement'!P11>0,TEXT('Outil Recensement'!P11,\"000\"),\"\")","v":""},{"$f":"IF('Outil Recensement'!Q11>0,'Outil Recensement'!Q11,\"\")","v":""},{"$f":"IF('Outil Recensement'!R11>0,'Outil Recensement'!R11,\"\")","v":""},{"$f":"IF('Outil Recensement'!F11>0,DATEVALUE(TEXT('Outil Recensement'!F11,\"yyyy-mm-dd\")),\"\")","v":""},{"$f":"IF('Outil Recensement'!L11>0,DATEVALUE(TEXT('Outil Recensement'!L11,\"yyyy-mm-dd\")),\"\")","v":""},{"$f":"IF('Outil Recensement'!Y11>0,'Outil Recensement'!Y11,\"\")","v":""},{"$f":"IF('Outil Recensement'!T11>0,'Outil Recensement'!T11,\"\")","v":""},{"$f":"IF('Outil Recensement'!G11=\"Homme\",\"Male\",IF('Outil Recensement'!G11=\"Femme\",\"Female\",IF('Outil Recensement'!G11=\"H\",\"Male\",IF('Outil Recensement'!G11=\"F\",\"Female\",\"\"))))","v":""},{"$f":"IF('Outil Recensement'!U11=\"Yes\",\"Yes\",IF('Outil Recensement'!U11=\"No\",\"No\",IF('Outil Recensement'!U11=\"Y\",\"Yes\",IF('Outil Recensement'!U11=\"N\",\"No\",\"\"))))","v":""},{"$f":"IF('Outil Recensement'!I11=\"Individuelle\",\"Single\",IF('Outil Recensement'!I11=\"Familiale\",\"Family\",IF('Outil Recensement'!I11=\"Refus\",\"Family\",IF('Outil Recensement'!I11=\"Parent seul\",\"Family\",IF('Outil Recensement'!I11=\"Couple\",\"Family\",IF('Outil Recensement'!I11=\"In force\",\"Family\",IF('Outil Recensement'!I11=\"Applies\",\"Family\",IF('Outil Recensement'!I11=\"Applicable\",\"Family\",\"\"))))))))","v":""},{"$f":"IF('Outil Recensement'!AC11=\"Anglais\",\"English\",IF('Outil Recensement'!AC11=\"Français\",\"French\",IF('Outil Recensement'!AC11=\"A\",\"English\",IF('Outil Recensement'!AC11=\"F\",\"French\",\"\"))))","v":""},{"$f":"IF('Outil Recensement'!AB11=\"Oui\",\"Yes\",IF('Outil Recensement'!AB11=\"Non\",\"No\",IF('Outil Recensement'!AB11=\"O\",\"Yes\",IF('Outil Recensement'!AB11=\"N\",\"No\",\"\"))))","v":""},{"$f":"IF('Outil Recensement'!AD11>0,'Outil Recensement'!AD11,\"\")","v":""},{"$f":"IF('Outil Recensement'!M11=\"Annuel\",\"Annually\",IF('Outil Recensement'!M11=\"Mensuel\",\"Monthly\",IF('Outil Recensement'!M11=\"Bihebdomadaire\",\"Biweekly\",IF('Outil Recensement'!M11=\"Hebdomadaire\",\"Weekly\",IF('Outil Recensement'!M11=\"Horaire\",\"Hourly\",IF('Outil Recensement'!M11=\"Semi-mensuel\",\"Semi-monthly\",IF('Outil Recensement'!M11=\"Applies\",\"Annual\",IF('Outil Recensement'!M11=\"Applicable\",\"Annual\",\"\"))))))))","v":""},{"$f":"IF('Outil Recensement'!N11>0,'Outil Recensement'!N11,\"\")","v":""},{"$f":"IF('Outil Recensement'!O11>0,'Outil Recensement'!O11,\"\")","v":""},{"$f":"IF('Outil Recensement'!I11=\"Refus\",\"Yes\",\"\")","v":""},{"$f":"IF('Outil Recensement'!I11=\"Refus\",\"Yes\",\"\")","v":""},{"$f":"IF('Outil Recensement'!AE11>0,'Outil Recensement'!AE11,\"\")","v":""},{"$f":"IF('Outil Recensement'!AF11>0,'Outil Recensement'!AF11,\"\")","v":""},{"$f":"IF('Outil Recensement'!AG11>0,'Outil Recensement'!AG11,\"\")","v":""},{"$f":"IF('Outil Recensement'!AH11>0,'Outil Recensement'!AH11,\"\")","v":""},{"$f":"IF('Outil Recensement'!AI11>0,'Outil Recensement'!AI11,\"\")","v":" "},{"$f":"IF('Outil Recensement'!AJ11>0,'Outil Recensement'!AJ11,\"\")","v":" "},{"$f":"IF('Outil Recensement'!W11>0,'Outil Recensement'!W11&\" \",\"\")&IF('Outil Recensement'!V11>0,'Outil Recensement'!V11,\"\")","v":""},null,{"$f":"IF('Outil Recensement'!X11>0,'Outil Recensement'!X11,\"\")","v":""},{"$f":"IF('Outil Recensement'!Y11>0,'Outil Recensement'!Y11,\"\")","v":""},{"$f":"IF('Outil Recensement'!Z11>0,'Outil Recensement'!Z11,\"\")","v":""},{"$f":"IF('Outil Recensement'!AA11>0,'Outil Recensement'!AA11,\"\")","v":""},{"$f":"IF('Outil Recensement'!E11>0,'Outil Recensement'!E11,\"\")","v":""},{"$f":"IF('Outil Recensement'!AK11>0,'Outil Recensement'!AK11,\"\")","v":""},{"$f":"IF('Outil Recensement'!AL11>0,'Outil Recensement'!AL11,\"\")","v":""},{"$f":"IF('Outil Recensement'!AM11>0,'Outil Recensement'!AM11,\"\")","v":""},{"$f":"IF('Outil Recensement'!AN11=\"Male\",\"Male\",IF('Outil Recensement'!AN11=\"Female\",\"Female\",IF('Outil Recensement'!AN11=\"M\",\"Male\",IF('Outil Recensement'!AN11=\"F\",\"Female\",\"\"))))","v":""},{"$f":"IF('Outil Recensement'!AO11=\"Single\",\"Single\",IF('Outil Recensement'!AO11=\"Family\",\"Family\",IF('Outil Recensement'!AO11=\"S\",\"Single\",IF('Outil Recensement'!AO11=\"F\",\"Family\",\"\"))))","v":""},{"$f":"IF('Outil Recensement'!AP11=\"Single\",\"Single\",IF('Outil Recensement'!AP11=\"Family\",\"Family\",IF('Outil Recensement'!AP11=\"S\",\"Single\",IF('Outil Recensement'!AP11=\"F\",\"Family\",\"\"))))","v":""},{"$f":"IF('Outil Recensement'!AQ11>0,'Outil Recensement'!AQ11,\"\")","v":""},{"$f":"IF('Outil Recensement'!AR11=\"Yes\",\"Yes\",IF('Outil Recensement'!AR11=\"No\",\"No\",IF('Outil Recensement'!AR11=\"Y\",\"Yes\",IF('Outil Recensement'!AR11=\"N\",\"No\",\"\"))))","v":""},{"$f":"IF('Outil Recensement'!AS11>0,'Outil Recensement'!AS11,\"\")","v":""},{"$f":"IF('Outil Recensement'!AT11>0,'Outil Recensement'!AT11,\"\")","v":""},{"$f":"IF('Outil Recensement'!AU11>0,'Outil Recensement'!AU11,\"\")","v":""},{"$f":"IF('Outil Recensement'!AV11=\"Male\",\"Male\",IF('Outil Recensement'!AV11=\"Female\",\"Female\",IF('Outil Recensement'!AV11=\"M\",\"Male\",IF('Outil Recensement'!AV11=\"F\",\"Female\",\"\"))))","v":""},{"$f":"IF('Outil Recensement'!AW11=\"Yes\",\"Yes\",IF('Outil Recensement'!AW11=\"No\",\"No\",IF('Outil Recensement'!AW11=\"Y\",\"Yes\",IF('Outil Recensement'!AW11=\"N\",\"No\",\"\"))))","v":""},{"$f":"IF('Outil Recensement'!AX11=\"Yes\",\"Yes\",IF('Outil Recensement'!AX11=\"No\",\"No\",IF('Outil Recensement'!AX11=\"Y\",\"Yes\",IF('Outil Recensement'!AX11=\"N\",\"No\",\"\"))))","v":""},{"$f":"IF('Outil Recensement'!AY11>0,'Outil Recensement'!AY11,\"\")","v":""},{"$f":"IF('Outil Recensement'!AZ11>0,'Outil Recensement'!AZ11,\"\")","v":""},{"$f":"IF('Outil Recensement'!BA11>0,'Outil Recensement'!BA11,\"\")","v":""},{"$f":"IF('Outil Recensement'!BB11=\"Male\",\"Male\",IF('Outil Recensement'!BB11=\"Female\",\"Female\",IF('Outil Recensement'!BB11=\"M\",\"Male\",IF('Outil Recensement'!BB11=\"F\",\"Female\",\"\"))))","v":""},{"$f":"IF('Outil Recensement'!BC11=\"Yes\",\"Yes\",IF('Outil Recensement'!BC11=\"No\",\"No\",IF('Outil Recensement'!BC11=\"Y\",\"Yes\",IF('Outil Recensement'!BC11=\"N\",\"No\",\"\"))))","v":""},{"$f":"IF('Outil Recensement'!BD11=\"Yes\",\"Yes\",IF('Outil Recensement'!BD11=\"No\",\"No\",IF('Outil Recensement'!BD11=\"Y\",\"Yes\",IF('Outil Recensement'!BD11=\"N\",\"No\",\"\"))))","v":""},{"$f":"IF('Outil Recensement'!BE11>0,'Outil Recensement'!BE11,\"\")","v":""},{"$f":"IF('Outil Recensement'!BF11>0,'Outil Recensement'!BF11,\"\")","v":""},{"$f":"IF('Outil Recensement'!BG11>0,'Outil Recensement'!BG11,\"\")","v":""},{"$f":"IF('Outil Recensement'!BH11=\"Male\",\"Male\",IF('Outil Recensement'!BH11=\"Female\",\"Female\",IF('Outil Recensement'!BH11=\"M\",\"Male\",IF('Outil Recensement'!BH11=\"F\",\"Female\",\"\"))))","v":""},{"$f":"IF('Outil Recensement'!BI11=\"Yes\",\"Yes\",IF('Outil Recensement'!BI11=\"No\",\"No\",IF('Outil Recensement'!BI11=\"Y\",\"Yes\",IF('Outil Recensement'!BI11=\"N\",\"No\",\"\"))))","v":""},{"$f":"IF('Outil Recensement'!BJ11=\"Yes\",\"Yes\",IF('Outil Recensement'!BJ11=\"No\",\"No\",IF('Outil Recensement'!BJ11=\"Y\",\"Yes\",IF('Outil Recensement'!BJ11=\"N\",\"No\",\"\"))))","v":""},{"$f":"IF('Outil Recensement'!BK11>0,'Outil Recensement'!BK11,\"\")","v":""},{"$f":"IF('Outil Recensement'!BL11>0,'Outil Recensement'!BL11,\"\")","v":""},{"$f":"IF('Outil Recensement'!BM11>0,'Outil Recensement'!BM11,\"\")","v":""},{"$f":"IF('Outil Recensement'!BN11=\"Male\",\"Male\",IF('Outil Recensement'!BN11=\"Female\",\"Female\",IF('Outil Recensement'!BN11=\"M\",\"Male\",IF('Outil Recensement'!BN11=\"F\",\"Female\",\"\"))))","v":""},{"$f":"IF('Outil Recensement'!BO11=\"Yes\",\"Yes\",IF('Outil Recensement'!BO11=\"No\",\"No\",IF('Outil Recensement'!BO11=\"Y\",\"Yes\",IF('Outil Recensement'!BO11=\"N\",\"No\",\"\"))))","v":""},{"$f":"IF('Outil Recensement'!BP11=\"Yes\",\"Yes\",IF('Outil Recensement'!BP11=\"No\",\"No\",IF('Outil Recensement'!BP11=\"Y\",\"Yes\",IF('Outil Recensement'!BP11=\"N\",\"No\",\"\"))))","v":""},{"$f":"IF('Outil Recensement'!BQ11>0,'Outil Recensement'!BQ11,\"\")","v":""},{"$f":"IF('Outil Recensement'!BR11>0,'Outil Recensement'!BR11,\"\")","v":""},{"$f":"IF('Outil Recensement'!BS11>0,'Outil Recensement'!BS11,\"\")","v":""},{"$f":"IF('Outil Recensement'!BT11=\"Male\",\"Male\",IF('Outil Recensement'!BT11=\"Female\",\"Female\",IF('Outil Recensement'!BT11=\"M\",\"Male\",IF('Outil Recensement'!BT11=\"F\",\"Female\",\"\"))))","v":""},{"$f":"IF('Outil Recensement'!BU11=\"Yes\",\"Yes\",IF('Outil Recensement'!BU11=\"No\",\"No\",IF('Outil Recensement'!BU11=\"Y\",\"Yes\",IF('Outil Recensement'!BU11=\"N\",\"No\",\"\"))))","v":""},{"$f":"IF('Outil Recensement'!BV11=\"Yes\",\"Yes\",IF('Outil Recensement'!BV11=\"No\",\"No\",IF('Outil Recensement'!BV11=\"Y\",\"Yes\",IF('Outil Recensement'!BV11=\"N\",\"No\",\"\"))))","v":""},{"$f":"IF('Outil Recensement'!BW11>0,'Outil Recensement'!BW11,\"\")","v":""},{"$f":"IF('Outil Recensement'!BX11>0,'Outil Recensement'!BX11,\"\")","v":""},{"$f":"IF('Outil Recensement'!BY11>0,'Outil Recensement'!BY11,\"\")","v":""},{"$f":"IF('Outil Recensement'!BZ11=\"Male\",\"Male\",IF('Outil Recensement'!BZ11=\"Female\",\"Female\",IF('Outil Recensement'!BZ11=\"M\",\"Male\",IF('Outil Recensement'!BZ11=\"F\",\"Female\",\"\"))))","v":""},{"$f":"IF('Outil Recensement'!CA11=\"Yes\",\"Yes\",IF('Outil Recensement'!CA11=\"No\",\"No\",IF('Outil Recensement'!CA11=\"Y\",\"Yes\",IF('Outil Recensement'!CA11=\"N\",\"No\",\"\"))))","v":""},{"$f":"IF('Outil Recensement'!CB11=\"Yes\",\"Yes\",IF('Outil Recensement'!CB11=\"No\",\"No\",IF('Outil Recensement'!CB11=\"Y\",\"Yes\",IF('Outil Recensement'!CB11=\"N\",\"No\",\"\"))))","v":""},{"$f":"IF('Outil Recensement'!CH11>0,'Outil Recensement'!CH11,\"\")","v":""}]
[{"$f":"IF('Outil Recensement'!A12>0,'Outil Recensement'!A12,\"\")","v":""},{"$f":"IF('Outil Recensement'!B12>0,'Outil Recensement'!B12,\"\")","v":""},{"$f":"IF('Outil Recensement'!C12>0,'Outil Recensement'!C12,\"\")","v":""},{"$f":"IF('Outil Recensement'!D12>0,'Outil Recensement'!D12,\"\")","v":""},{"$f":"IF('Outil Recensement'!P12>0,TEXT('Outil Recensement'!P12,\"000\"),\"\")","v":""},{"$f":"IF('Outil Recensement'!Q12>0,'Outil Recensement'!Q12,\"\")","v":""},{"$f":"IF('Outil Recensement'!R12>0,'Outil Recensement'!R12,\"\")","v":""},{"$f":"IF('Outil Recensement'!F12>0,DATEVALUE(TEXT('Outil Recensement'!F12,\"yyyy-mm-dd\")),\"\")","v":""},{"$f":"IF('Outil Recensement'!L12>0,DATEVALUE(TEXT('Outil Recensement'!L12,\"yyyy-mm-dd\")),\"\")","v":""},{"$f":"IF('Outil Recensement'!Y12>0,'Outil Recensement'!Y12,\"\")","v":""},{"$f":"IF('Outil Recensement'!T12>0,'Outil Recensement'!T12,\"\")","v":""},{"$f":"IF('Outil Recensement'!G12=\"Homme\",\"Male\",IF('Outil Recensement'!G12=\"Femme\",\"Female\",IF('Outil Recensement'!G12=\"H\",\"Male\",IF('Outil Recensement'!G12=\"F\",\"Female\",\"\"))))","v":""},{"$f":"IF('Outil Recensement'!U12=\"Yes\",\"Yes\",IF('Outil Recensement'!U12=\"No\",\"No\",IF('Outil Recensement'!U12=\"Y\",\"Yes\",IF('Outil Recensement'!U12=\"N\",\"No\",\"\"))))","v":""},{"$f":"IF('Outil Recensement'!I12=\"Individuelle\",\"Single\",IF('Outil Recensement'!I12=\"Familiale\",\"Family\",IF('Outil Recensement'!I12=\"Refus\",\"Family\",IF('Outil Recensement'!I12=\"Parent seul\",\"Family\",IF('Outil Recensement'!I12=\"Couple\",\"Family\",IF('Outil Recensement'!I12=\"In force\",\"Family\",IF('Outil Recensement'!I12=\"Applies\",\"Family\",IF('Outil Recensement'!I12=\"Applicable\",\"Family\",\"\"))))))))","v":""},{"$f":"IF('Outil Recensement'!AC12=\"Anglais\",\"English\",IF('Outil Recensement'!AC12=\"Français\",\"French\",IF('Outil Recensement'!AC12=\"A\",\"English\",IF('Outil Recensement'!AC12=\"F\",\"French\",\"\"))))","v":""},{"$f":"IF('Outil Recensement'!AB12=\"Oui\",\"Yes\",IF('Outil Recensement'!AB12=\"Non\",\"No\",IF('Outil Recensement'!AB12=\"O\",\"Yes\",IF('Outil Recensement'!AB12=\"N\",\"No\",\"\"))))","v":""},{"$f":"IF('Outil Recensement'!AD12>0,'Outil Recensement'!AD12,\"\")","v":""},{"$f":"IF('Outil Recensement'!M12=\"Annuel\",\"Annually\",IF('Outil Recensement'!M12=\"Mensuel\",\"Monthly\",IF('Outil Recensement'!M12=\"Bihebdomadaire\",\"Biweekly\",IF('Outil Recensement'!M12=\"Hebdomadaire\",\"Weekly\",IF('Outil Recensement'!M12=\"Horaire\",\"Hourly\",IF('Outil Recensement'!M12=\"Semi-mensuel\",\"Semi-monthly\",IF('Outil Recensement'!M12=\"Applies\",\"Annual\",IF('Outil Recensement'!M12=\"Applicable\",\"Annual\",\"\"))))))))","v":""},{"$f":"IF('Outil Recensement'!N12>0,'Outil Recensement'!N12,\"\")","v":""},{"$f":"IF('Outil Recensement'!O12>0,'Outil Recensement'!O12,\"\")","v":""},{"$f":"IF('Outil Recensement'!I12=\"Refus\",\"Yes\",\"\")","v":""},{"$f":"IF('Outil Recensement'!I12=\"Refus\",\"Yes\",\"\")","v":""},{"$f":"IF('Outil Recensement'!AE12>0,'Outil Recensement'!AE12,\"\")","v":""},{"$f":"IF('Outil Recensement'!AF12>0,'Outil Recensement'!AF12,\"\")","v":""},{"$f":"IF('Outil Recensement'!AG12>0,'Outil Recensement'!AG12,\"\")","v":""},{"$f":"IF('Outil Recensement'!AH12>0,'Outil Recensement'!AH12,\"\")","v":""},{"$f":"IF('Outil Recensement'!AI12>0,'Outil Recensement'!AI12,\"\")","v":" "},{"$f":"IF('Outil Recensement'!AJ12>0,'Outil Recensement'!AJ12,\"\")","v":" "},{"$f":"IF('Outil Recensement'!W12>0,'Outil Recensement'!W12&\" \",\"\")&IF('Outil Recensement'!V12>0,'Outil Recensement'!V12,\"\")","v":""},null,{"$f":"IF('Outil Recensement'!X12>0,'Outil Recensement'!X12,\"\")","v":""},{"$f":"IF('Outil Recensement'!Y12>0,'Outil Recensement'!Y12,\"\")","v":""},{"$f":"IF('Outil Recensement'!Z12>0,'Outil Recensement'!Z12,\"\")","v":""},{"$f":"IF('Outil Recensement'!AA12>0,'Outil Recensement'!AA12,\"\")","v":""},{"$f":"IF('Outil Recensement'!E12>0,'Outil Recensement'!E12,\"\")","v":""},{"$f":"IF('Outil Recensement'!AK12>0,'Outil Recensement'!AK12,\"\")","v":""},{"$f":"IF('Outil Recensement'!AL12>0,'Outil Recensement'!AL12,\"\")","v":""},{"$f":"IF('Outil Recensement'!AM12>0,'Outil Recensement'!AM12,\"\")","v":""},{"$f":"IF('Outil Recensement'!AN12=\"Male\",\"Male\",IF('Outil Recensement'!AN12=\"Female\",\"Female\",IF('Outil Recensement'!AN12=\"M\",\"Male\",IF('Outil Recensement'!AN12=\"F\",\"Female\",\"\"))))","v":""},{"$f":"IF('Outil Recensement'!AO12=\"Single\",\"Single\",IF('Outil Recensement'!AO12=\"Family\",\"Family\",IF('Outil Recensement'!AO12=\"S\",\"Single\",IF('Outil Recensement'!AO12=\"F\",\"Family\",\"\"))))","v":""},{"$f":"IF('Outil Recensement'!AP12=\"Single\",\"Single\",IF('Outil Recensement'!AP12=\"Family\",\"Family\",IF('Outil Recensement'!AP12=\"S\",\"Single\",IF('Outil Recensement'!AP12=\"F\",\"Family\",\"\"))))","v":""},{"$f":"IF('Outil Recensement'!AQ12>0,'Outil Recensement'!AQ12,\"\")","v":""},{"$f":"IF('Outil Recensement'!AR12=\"Yes\",\"Yes\",IF('Outil Recensement'!AR12=\"No\",\"No\",IF('Outil Recensement'!AR12=\"Y\",\"Yes\",IF('Outil Recensement'!AR12=\"N\",\"No\",\"\"))))","v":""},{"$f":"IF('Outil Recensement'!AS12>0,'Outil Recensement'!AS12,\"\")","v":""},{"$f":"IF('Outil Recensement'!AT12>0,'Outil Recensement'!AT12,\"\")","v":""},{"$f":"IF('Outil Recensement'!AU12>0,'Outil Recensement'!AU12,\"\")","v":""},{"$f":"IF('Outil Recensement'!AV12=\"Male\",\"Male\",IF('Outil Recensement'!AV12=\"Female\",\"Female\",IF('Outil Recensement'!AV12=\"M\",\"Male\",IF('Outil Recensement'!AV12=\"F\",\"Female\",\"\"))))","v":""},{"$f":"IF('Outil Recensement'!AW12=\"Yes\",\"Yes\",IF('Outil Recensement'!AW12=\"No\",\"No\",IF('Outil Recensement'!AW12=\"Y\",\"Yes\",IF('Outil Recensement'!AW12=\"N\",\"No\",\"\"))))","v":""},{"$f":"IF('Outil Recensement'!AX12=\"Yes\",\"Yes\",IF('Outil Recensement'!AX12=\"No\",\"No\",IF('Outil Recensement'!AX12=\"Y\",\"Yes\",IF('Outil Recensement'!AX12=\"N\",\"No\",\"\"))))","v":""},{"$f":"IF('Outil Recensement'!AY12>0,'Outil Recensement'!AY12,\"\")","v":""},{"$f":"IF('Outil Recensement'!AZ12>0,'Outil Recensement'!AZ12,\"\")","v":""},{"$f":"IF('Outil Recensement'!BA12>0,'Outil Recensement'!BA12,\"\")","v":""},{"$f":"IF('Outil Recensement'!BB12=\"Male\",\"Male\",IF('Outil Recensement'!BB12=\"Female\",\"Female\",IF('Outil Recensement'!BB12=\"M\",\"Male\",IF('Outil Recensement'!BB12=\"F\",\"Female\",\"\"))))","v":""},{"$f":"IF('Outil Recensement'!BC12=\"Yes\",\"Yes\",IF('Outil Recensement'!BC12=\"No\",\"No\",IF('Outil Recensement'!BC12=\"Y\",\"Yes\",IF('Outil Recensement'!BC12=\"N\",\"No\",\"\"))))","v":""},{"$f":"IF('Outil Recensement'!BD12=\"Yes\",\"Yes\",IF('Outil Recensement'!BD12=\"No\",\"No\",IF('Outil Recensement'!BD12=\"Y\",\"Yes\",IF('Outil Recensement'!BD12=\"N\",\"No\",\"\"))))","v":""},{"$f":"IF('Outil Recensement'!BE12>0,'Outil Recensement'!BE12,\"\")","v":""},{"$f":"IF('Outil Recensement'!BF12>0,'Outil Recensement'!BF12,\"\")","v":""},{"$f":"IF('Outil Recensement'!BG12>0,'Outil Recensement'!BG12,\"\")","v":""},{"$f":"IF('Outil Recensement'!BH12=\"Male\",\"Male\",IF('Outil Recensement'!BH12=\"Female\",\"Female\",IF('Outil Recensement'!BH12=\"M\",\"Male\",IF('Outil Recensement'!BH12=\"F\",\"Female\",\"\"))))","v":""},{"$f":"IF('Outil Recensement'!BI12=\"Yes\",\"Yes\",IF('Outil Recensement'!BI12=\"No\",\"No\",IF('Outil Recensement'!BI12=\"Y\",\"Yes\",IF('Outil Recensement'!BI12=\"N\",\"No\",\"\"))))","v":""},{"$f":"IF('Outil Recensement'!BJ12=\"Yes\",\"Yes\",IF('Outil Recensement'!BJ12=\"No\",\"No\",IF('Outil Recensement'!BJ12=\"Y\",\"Yes\",IF('Outil Recensement'!BJ12=\"N\",\"No\",\"\"))))","v":""},{"$f":"IF('Outil Recensement'!BK12>0,'Outil Recensement'!BK12,\"\")","v":""},{"$f":"IF('Outil Recensement'!BL12>0,'Outil Recensement'!BL12,\"\")","v":""},{"$f":"IF('Outil Recensement'!BM12>0,'Outil Recensement'!BM12,\"\")","v":""},{"$f":"IF('Outil Recensement'!BN12=\"Male\",\"Male\",IF('Outil Recensement'!BN12=\"Female\",\"Female\",IF('Outil Recensement'!BN12=\"M\",\"Male\",IF('Outil Recensement'!BN12=\"F\",\"Female\",\"\"))))","v":""},{"$f":"IF('Outil Recensement'!BO12=\"Yes\",\"Yes\",IF('Outil Recensement'!BO12=\"No\",\"No\",IF('Outil Recensement'!BO12=\"Y\",\"Yes\",IF('Outil Recensement'!BO12=\"N\",\"No\",\"\"))))","v":""},{"$f":"IF('Outil Recensement'!BP12=\"Yes\",\"Yes\",IF('Outil Recensement'!BP12=\"No\",\"No\",IF('Outil Recensement'!BP12=\"Y\",\"Yes\",IF('Outil Recensement'!BP12=\"N\",\"No\",\"\"))))","v":""},{"$f":"IF('Outil Recensement'!BQ12>0,'Outil Recensement'!BQ12,\"\")","v":""},{"$f":"IF('Outil Recensement'!BR12>0,'Outil Recensement'!BR12,\"\")","v":""},{"$f":"IF('Outil Recensement'!BS12>0,'Outil Recensement'!BS12,\"\")","v":""},{"$f":"IF('Outil Recensement'!BT12=\"Male\",\"Male\",IF('Outil Recensement'!BT12=\"Female\",\"Female\",IF('Outil Recensement'!BT12=\"M\",\"Male\",IF('Outil Recensement'!BT12=\"F\",\"Female\",\"\"))))","v":""},{"$f":"IF('Outil Recensement'!BU12=\"Yes\",\"Yes\",IF('Outil Recensement'!BU12=\"No\",\"No\",IF('Outil Recensement'!BU12=\"Y\",\"Yes\",IF('Outil Recensement'!BU12=\"N\",\"No\",\"\"))))","v":""},{"$f":"IF('Outil Recensement'!BV12=\"Yes\",\"Yes\",IF('Outil Recensement'!BV12=\"No\",\"No\",IF('Outil Recensement'!BV12=\"Y\",\"Yes\",IF('Outil Recensement'!BV12=\"N\",\"No\",\"\"))))","v":""},{"$f":"IF('Outil Recensement'!BW12>0,'Outil Recensement'!BW12,\"\")","v":""},{"$f":"IF('Outil Recensement'!BX12>0,'Outil Recensement'!BX12,\"\")","v":""},{"$f":"IF('Outil Recensement'!BY12>0,'Outil Recensement'!BY12,\"\")","v":""},{"$f":"IF('Outil Recensement'!BZ12=\"Male\",\"Male\",IF('Outil Recensement'!BZ12=\"Female\",\"Female\",IF('Outil Recensement'!BZ12=\"M\",\"Male\",IF('Outil Recensement'!BZ12=\"F\",\"Female\",\"\"))))","v":""},{"$f":"IF('Outil Recensement'!CA12=\"Yes\",\"Yes\",IF('Outil Recensement'!CA12=\"No\",\"No\",IF('Outil Recensement'!CA12=\"Y\",\"Yes\",IF('Outil Recensement'!CA12=\"N\",\"No\",\"\"))))","v":""},{"$f":"IF('Outil Recensement'!CB12=\"Yes\",\"Yes\",IF('Outil Recensement'!CB12=\"No\",\"No\",IF('Outil Recensement'!CB12=\"Y\",\"Yes\",IF('Outil Recensement'!CB12=\"N\",\"No\",\"\"))))","v":""},{"$f":"IF('Outil Recensement'!CH12>0,'Outil Recensement'!CH12,\"\")","v":""}]
[{"$f":"IF('Outil Recensement'!A13>0,'Outil Recensement'!A13,\"\")","v":""},{"$f":"IF('Outil Recensement'!B13>0,'Outil Recensement'!B13,\"\")","v":""},{"$f":"IF('Outil Recensement'!C13>0,'Outil Recensement'!C13,\"\")","v":""},{"$f":"IF('Outil Recensement'!D13>0,'Outil Recensement'!D13,\"\")","v":""},{"$f":"IF('Outil Recensement'!P13>0,TEXT('Outil Recensement'!P13,\"000\"),\"\")","v":""},{"$f":"IF('Outil Recensement'!Q13>0,'Outil Recensement'!Q13,\"\")","v":""},{"$f":"IF('Outil Recensement'!R13>0,'Outil Recensement'!R13,\"\")","v":""},{"$f":"IF('Outil Recensement'!F13>0,DATEVALUE(TEXT('Outil Recensement'!F13,\"yyyy-mm-dd\")),\"\")","v":""},{"$f":"IF('Outil Recensement'!L13>0,DATEVALUE(TEXT('Outil Recensement'!L13,\"yyyy-mm-dd\")),\"\")","v":""},{"$f":"IF('Outil Recensement'!Y13>0,'Outil Recensement'!Y13,\"\")","v":""},{"$f":"IF('Outil Recensement'!T13>0,'Outil Recensement'!T13,\"\")","v":""},{"$f":"IF('Outil Recensement'!G13=\"Homme\",\"Male\",IF('Outil Recensement'!G13=\"Femme\",\"Female\",IF('Outil Recensement'!G13=\"H\",\"Male\",IF('Outil Recensement'!G13=\"F\",\"Female\",\"\"))))","v":""},{"$f":"IF('Outil Recensement'!U13=\"Yes\",\"Yes\",IF('Outil Recensement'!U13=\"No\",\"No\",IF('Outil Recensement'!U13=\"Y\",\"Yes\",IF('Outil Recensement'!U13=\"N\",\"No\",\"\"))))","v":""},{"$f":"IF('Outil Recensement'!I13=\"Individuelle\",\"Single\",IF('Outil Recensement'!I13=\"Familiale\",\"Family\",IF('Outil Recensement'!I13=\"Refus\",\"Family\",IF('Outil Recensement'!I13=\"Parent seul\",\"Family\",IF('Outil Recensement'!I13=\"Couple\",\"Family\",IF('Outil Recensement'!I13=\"In force\",\"Family\",IF('Outil Recensement'!I13=\"Applies\",\"Family\",IF('Outil Recensement'!I13=\"Applicable\",\"Family\",\"\"))))))))","v":""},{"$f":"IF('Outil Recensement'!AC13=\"Anglais\",\"English\",IF('Outil Recensement'!AC13=\"Français\",\"French\",IF('Outil Recensement'!AC13=\"A\",\"English\",IF('Outil Recensement'!AC13=\"F\",\"French\",\"\"))))","v":""},{"$f":"IF('Outil Recensement'!AB13=\"Oui\",\"Yes\",IF('Outil Recensement'!AB13=\"Non\",\"No\",IF('Outil Recensement'!AB13=\"O\",\"Yes\",IF('Outil Recensement'!AB13=\"N\",\"No\",\"\"))))","v":""},{"$f":"IF('Outil Recensement'!AD13>0,'Outil Recensement'!AD13,\"\")","v":""},{"$f":"IF('Outil Recensement'!M13=\"Annuel\",\"Annually\",IF('Outil Recensement'!M13=\"Mensuel\",\"Monthly\",IF('Outil Recensement'!M13=\"Bihebdomadaire\",\"Biweekly\",IF('Outil Recensement'!M13=\"Hebdomadaire\",\"Weekly\",IF('Outil Recensement'!M13=\"Horaire\",\"Hourly\",IF('Outil Recensement'!M13=\"Semi-mensuel\",\"Semi-monthly\",IF('Outil Recensement'!M13=\"Applies\",\"Annual\",IF('Outil Recensement'!M13=\"Applicable\",\"Annual\",\"\"))))))))","v":""},{"$f":"IF('Outil Recensement'!N13>0,'Outil Recensement'!N13,\"\")","v":""},{"$f":"IF('Outil Recensement'!O13>0,'Outil Recensement'!O13,\"\")","v":""},{"$f":"IF('Outil Recensement'!I13=\"Refus\",\"Yes\",\"\")","v":""},{"$f":"IF('Outil Recensement'!I13=\"Refus\",\"Yes\",\"\")","v":""},{"$f":"IF('Outil Recensement'!AE13>0,'Outil Recensement'!AE13,\"\")","v":""},{"$f":"IF('Outil Recensement'!AF13>0,'Outil Recensement'!AF13,\"\")","v":""},{"$f":"IF('Outil Recensement'!AG13>0,'Outil Recensement'!AG13,\"\")","v":""},{"$f":"IF('Outil Recensement'!AH13>0,'Outil Recensement'!AH13,\"\")","v":""},{"$f":"IF('Outil Recensement'!AI13>0,'Outil Recensement'!AI13,\"\")","v":" "},{"$f":"IF('Outil Recensement'!AJ13>0,'Outil Recensement'!AJ13,\"\")","v":" "},{"$f":"IF('Outil Recensement'!W13>0,'Outil Recensement'!W13&\" \",\"\")&IF('Outil Recensement'!V13>0,'Outil Recensement'!V13,\"\")","v":""},null,{"$f":"IF('Outil Recensement'!X13>0,'Outil Recensement'!X13,\"\")","v":""},{"$f":"IF('Outil Recensement'!Y13>0,'Outil Recensement'!Y13,\"\")","v":""},{"$f":"IF('Outil Recensement'!Z13>0,'Outil Recensement'!Z13,\"\")","v":""},{"$f":"IF('Outil Recensement'!AA13>0,'Outil Recensement'!AA13,\"\")","v":""},{"$f":"IF('Outil Recensement'!E13>0,'Outil Recensement'!E13,\"\")","v":""},{"$f":"IF('Outil Recensement'!AK13>0,'Outil Recensement'!AK13,\"\")","v":""},{"$f":"IF('Outil Recensement'!AL13>0,'Outil Recensement'!AL13,\"\")","v":""},{"$f":"IF('Outil Recensement'!AM13>0,'Outil Recensement'!AM13,\"\")","v":""},{"$f":"IF('Outil Recensement'!AN13=\"Male\",\"Male\",IF('Outil Recensement'!AN13=\"Female\",\"Female\",IF('Outil Recensement'!AN13=\"M\",\"Male\",IF('Outil Recensement'!AN13=\"F\",\"Female\",\"\"))))","v":""},{"$f":"IF('Outil Recensement'!AO13=\"Single\",\"Single\",IF('Outil Recensement'!AO13=\"Family\",\"Family\",IF('Outil Recensement'!AO13=\"S\",\"Single\",IF('Outil Recensement'!AO13=\"F\",\"Family\",\"\"))))","v":""},{"$f":"IF('Outil Recensement'!AP13=\"Single\",\"Single\",IF('Outil Recensement'!AP13=\"Family\",\"Family\",IF('Outil Recensement'!AP13=\"S\",\"Single\",IF('Outil Recensement'!AP13=\"F\",\"Family\",\"\"))))","v":""},{"$f":"IF('Outil Recensement'!AQ13>0,'Outil Recensement'!AQ13,\"\")","v":""},{"$f":"IF('Outil Recensement'!AR13=\"Yes\",\"Yes\",IF('Outil Recensement'!AR13=\"No\",\"No\",IF('Outil Recensement'!AR13=\"Y\",\"Yes\",IF('Outil Recensement'!AR13=\"N\",\"No\",\"\"))))","v":""},{"$f":"IF('Outil Recensement'!AS13>0,'Outil Recensement'!AS13,\"\")","v":""},{"$f":"IF('Outil Recensement'!AT13>0,'Outil Recensement'!AT13,\"\")","v":""},{"$f":"IF('Outil Recensement'!AU13>0,'Outil Recensement'!AU13,\"\")","v":""},{"$f":"IF('Outil Recensement'!AV13=\"Male\",\"Male\",IF('Outil Recensement'!AV13=\"Female\",\"Female\",IF('Outil Recensement'!AV13=\"M\",\"Male\",IF('Outil Recensement'!AV13=\"F\",\"Female\",\"\"))))","v":""},{"$f":"IF('Outil Recensement'!AW13=\"Yes\",\"Yes\",IF('Outil Recensement'!AW13=\"No\",\"No\",IF('Outil Recensement'!AW13=\"Y\",\"Yes\",IF('Outil Recensement'!AW13=\"N\",\"No\",\"\"))))","v":""},{"$f":"IF('Outil Recensement'!AX13=\"Yes\",\"Yes\",IF('Outil Recensement'!AX13=\"No\",\"No\",IF('Outil Recensement'!AX13=\"Y\",\"Yes\",IF('Outil Recensement'!AX13=\"N\",\"No\",\"\"))))","v":""},{"$f":"IF('Outil Recensement'!AY13>0,'Outil Recensement'!AY13,\"\")","v":""},{"$f":"IF('Outil Recensement'!AZ13>0,'Outil Recensement'!AZ13,\"\")","v":""},{"$f":"IF('Outil Recensement'!BA13>0,'Outil Recensement'!BA13,\"\")","v":""},{"$f":"IF('Outil Recensement'!BB13=\"Male\",\"Male\",IF('Outil Recensement'!BB13=\"Female\",\"Female\",IF('Outil Recensement'!BB13=\"M\",\"Male\",IF('Outil Recensement'!BB13=\"F\",\"Female\",\"\"))))","v":""},{"$f":"IF('Outil Recensement'!BC13=\"Yes\",\"Yes\",IF('Outil Recensement'!BC13=\"No\",\"No\",IF('Outil Recensement'!BC13=\"Y\",\"Yes\",IF('Outil Recensement'!BC13=\"N\",\"No\",\"\"))))","v":""},{"$f":"IF('Outil Recensement'!BD13=\"Yes\",\"Yes\",IF('Outil Recensement'!BD13=\"No\",\"No\",IF('Outil Recensement'!BD13=\"Y\",\"Yes\",IF('Outil Recensement'!BD13=\"N\",\"No\",\"\"))))","v":""},{"$f":"IF('Outil Recensement'!BE13>0,'Outil Recensement'!BE13,\"\")","v":""},{"$f":"IF('Outil Recensement'!BF13>0,'Outil Recensement'!BF13,\"\")","v":""},{"$f":"IF('Outil Recensement'!BG13>0,'Outil Recensement'!BG13,\"\")","v":""},{"$f":"IF('Outil Recensement'!BH13=\"Male\",\"Male\",IF('Outil Recensement'!BH13=\"Female\",\"Female\",IF('Outil Recensement'!BH13=\"M\",\"Male\",IF('Outil Recensement'!BH13=\"F\",\"Female\",\"\"))))","v":""},{"$f":"IF('Outil Recensement'!BI13=\"Yes\",\"Yes\",IF('Outil Recensement'!BI13=\"No\",\"No\",IF('Outil Recensement'!BI13=\"Y\",\"Yes\",IF('Outil Recensement'!BI13=\"N\",\"No\",\"\"))))","v":""},{"$f":"IF('Outil Recensement'!BJ13=\"Yes\",\"Yes\",IF('Outil Recensement'!BJ13=\"No\",\"No\",IF('Outil Recensement'!BJ13=\"Y\",\"Yes\",IF('Outil Recensement'!BJ13=\"N\",\"No\",\"\"))))","v":""},{"$f":"IF('Outil Recensement'!BK13>0,'Outil Recensement'!BK13,\"\")","v":""},{"$f":"IF('Outil Recensement'!BL13>0,'Outil Recensement'!BL13,\"\")","v":""},{"$f":"IF('Outil Recensement'!BM13>0,'Outil Recensement'!BM13,\"\")","v":""},{"$f":"IF('Outil Recensement'!BN13=\"Male\",\"Male\",IF('Outil Recensement'!BN13=\"Female\",\"Female\",IF('Outil Recensement'!BN13=\"M\",\"Male\",IF('Outil Recensement'!BN13=\"F\",\"Female\",\"\"))))","v":""},{"$f":"IF('Outil Recensement'!BO13=\"Yes\",\"Yes\",IF('Outil Recensement'!BO13=\"No\",\"No\",IF('Outil Recensement'!BO13=\"Y\",\"Yes\",IF('Outil Recensement'!BO13=\"N\",\"No\",\"\"))))","v":""},{"$f":"IF('Outil Recensement'!BP13=\"Yes\",\"Yes\",IF('Outil Recensement'!BP13=\"No\",\"No\",IF('Outil Recensement'!BP13=\"Y\",\"Yes\",IF('Outil Recensement'!BP13=\"N\",\"No\",\"\"))))","v":""},{"$f":"IF('Outil Recensement'!BQ13>0,'Outil Recensement'!BQ13,\"\")","v":""},{"$f":"IF('Outil Recensement'!BR13>0,'Outil Recensement'!BR13,\"\")","v":""},{"$f":"IF('Outil Recensement'!BS13>0,'Outil Recensement'!BS13,\"\")","v":""},{"$f":"IF('Outil Recensement'!BT13=\"Male\",\"Male\",IF('Outil Recensement'!BT13=\"Female\",\"Female\",IF('Outil Recensement'!BT13=\"M\",\"Male\",IF('Outil Recensement'!BT13=\"F\",\"Female\",\"\"))))","v":""},{"$f":"IF('Outil Recensement'!BU13=\"Yes\",\"Yes\",IF('Outil Recensement'!BU13=\"No\",\"No\",IF('Outil Recensement'!BU13=\"Y\",\"Yes\",IF('Outil Recensement'!BU13=\"N\",\"No\",\"\"))))","v":""},{"$f":"IF('Outil Recensement'!BV13=\"Yes\",\"Yes\",IF('Outil Recensement'!BV13=\"No\",\"No\",IF('Outil Recensement'!BV13=\"Y\",\"Yes\",IF('Outil Recensement'!BV13=\"N\",\"No\",\"\"))))","v":""},{"$f":"IF('Outil Recensement'!BW13>0,'Outil Recensement'!BW13,\"\")","v":""},{"$f":"IF('Outil Recensement'!BX13>0,'Outil Recensement'!BX13,\"\")","v":""},{"$f":"IF('Outil Recensement'!BY13>0,'Outil Recensement'!BY13,\"\")","v":""},{"$f":"IF('Outil Recensement'!BZ13=\"Male\",\"Male\",IF('Outil Recensement'!BZ13=\"Female\",\"Female\",IF('Outil Recensement'!BZ13=\"M\",\"Male\",IF('Outil Recensement'!BZ13=\"F\",\"Female\",\"\"))))","v":""},{"$f":"IF('Outil Recensement'!CA13=\"Yes\",\"Yes\",IF('Outil Recensement'!CA13=\"No\",\"No\",IF('Outil Recensement'!CA13=\"Y\",\"Yes\",IF('Outil Recensement'!CA13=\"N\",\"No\",\"\"))))","v":""},{"$f":"IF('Outil Recensement'!CB13=\"Yes\",\"Yes\",IF('Outil Recensement'!CB13=\"No\",\"No\",IF('Outil Recensement'!CB13=\"Y\",\"Yes\",IF('Outil Recensement'!CB13=\"N\",\"No\",\"\"))))","v":""},{"$f":"IF('Outil Recensement'!CH13>0,'Outil Recensement'!CH13,\"\")","v":""}]
[{"$f":"IF('Outil Recensement'!A14>0,'Outil Recensement'!A14,\"\")","v":""},{"$f":"IF('Outil Recensement'!B14>0,'Outil Recensement'!B14,\"\")","v":""},{"$f":"IF('Outil Recensement'!C14>0,'Outil Recensement'!C14,\"\")","v":""},{"$f":"IF('Outil Recensement'!D14>0,'Outil Recensement'!D14,\"\")","v":""},{"$f":"IF('Outil Recensement'!P14>0,TEXT('Outil Recensement'!P14,\"000\"),\"\")","v":""},{"$f":"IF('Outil Recensement'!Q14>0,'Outil Recensement'!Q14,\"\")","v":""},{"$f":"IF('Outil Recensement'!R14>0,'Outil Recensement'!R14,\"\")","v":""},{"$f":"IF('Outil Recensement'!F14>0,DATEVALUE(TEXT('Outil Recensement'!F14,\"yyyy-mm-dd\")),\"\")","v":""},{"$f":"IF('Outil Recensement'!L14>0,DATEVALUE(TEXT('Outil Recensement'!L14,\"yyyy-mm-dd\")),\"\")","v":""},{"$f":"IF('Outil Recensement'!Y14>0,'Outil Recensement'!Y14,\"\")","v":""},{"$f":"IF('Outil Recensement'!T14>0,'Outil Recensement'!T14,\"\")","v":""},{"$f":"IF('Outil Recensement'!G14=\"Homme\",\"Male\",IF('Outil Recensement'!G14=\"Femme\",\"Female\",IF('Outil Recensement'!G14=\"H\",\"Male\",IF('Outil Recensement'!G14=\"F\",\"Female\",\"\"))))","v":""},{"$f":"IF('Outil Recensement'!U14=\"Yes\",\"Yes\",IF('Outil Recensement'!U14=\"No\",\"No\",IF('Outil Recensement'!U14=\"Y\",\"Yes\",IF('Outil Recensement'!U14=\"N\",\"No\",\"\"))))","v":""},{"$f":"IF('Outil Recensement'!I14=\"Individuelle\",\"Single\",IF('Outil Recensement'!I14=\"Familiale\",\"Family\",IF('Outil Recensement'!I14=\"Refus\",\"Family\",IF('Outil Recensement'!I14=\"Parent seul\",\"Family\",IF('Outil Recensement'!I14=\"Couple\",\"Family\",IF('Outil Recensement'!I14=\"In force\",\"Family\",IF('Outil Recensement'!I14=\"Applies\",\"Family\",IF('Outil Recensement'!I14=\"Applicable\",\"Family\",\"\"))))))))","v":""},{"$f":"IF('Outil Recensement'!AC14=\"Anglais\",\"English\",IF('Outil Recensement'!AC14=\"Français\",\"French\",IF('Outil Recensement'!AC14=\"A\",\"English\",IF('Outil Recensement'!AC14=\"F\",\"French\",\"\"))))","v":""},{"$f":"IF('Outil Recensement'!AB14=\"Oui\",\"Yes\",IF('Outil Recensement'!AB14=\"Non\",\"No\",IF('Outil Recensement'!AB14=\"O\",\"Yes\",IF('Outil Recensement'!AB14=\"N\",\"No\",\"\"))))","v":""},{"$f":"IF('Outil Recensement'!AD14>0,'Outil Recensement'!AD14,\"\")","v":""},{"$f":"IF('Outil Recensement'!M14=\"Annuel\",\"Annually\",IF('Outil Recensement'!M14=\"Mensuel\",\"Monthly\",IF('Outil Recensement'!M14=\"Bihebdomadaire\",\"Biweekly\",IF('Outil Recensement'!M14=\"Hebdomadaire\",\"Weekly\",IF('Outil Recensement'!M14=\"Horaire\",\"Hourly\",IF('Outil Recensement'!M14=\"Semi-mensuel\",\"Semi-monthly\",IF('Outil Recensement'!M14=\"Applies\",\"Annual\",IF('Outil Recensement'!M14=\"Applicable\",\"Annual\",\"\"))))))))","v":""},{"$f":"IF('Outil Recensement'!N14>0,'Outil Recensement'!N14,\"\")","v":""},{"$f":"IF('Outil Recensement'!O14>0,'Outil Recensement'!O14,\"\")","v":""},{"$f":"IF('Outil Recensement'!I14=\"Refus\",\"Yes\",\"\")","v":""},{"$f":"IF('Outil Recensement'!I14=\"Refus\",\"Yes\",\"\")","v":""},{"$f":"IF('Outil Recensement'!AE14>0,'Outil Recensement'!AE14,\"\")","v":""},{"$f":"IF('Outil Recensement'!AF14>0,'Outil Recensement'!AF14,\"\")","v":""},{"$f":"IF('Outil Recensement'!AG14>0,'Outil Recensement'!AG14,\"\")","v":""},{"$f":"IF('Outil Recensement'!AH14>0,'Outil Recensement'!AH14,\"\")","v":""},{"$f":"IF('Outil Recensement'!AI14>0,'Outil Recensement'!AI14,\"\")","v":" "},{"$f":"IF('Outil Recensement'!AJ14>0,'Outil Recensement'!AJ14,\"\")","v":" "},{"$f":"IF('Outil Recensement'!W14>0,'Outil Recensement'!W14&\" \",\"\")&IF('Outil Recensement'!V14>0,'Outil Recensement'!V14,\"\")","v":""},null,{"$f":"IF('Outil Recensement'!X14>0,'Outil Recensement'!X14,\"\")","v":""},{"$f":"IF('Outil Recensement'!Y14>0,'Outil Recensement'!Y14,\"\")","v":""},{"$f":"IF('Outil Recensement'!Z14>0,'Outil Recensement'!Z14,\"\")","v":""},{"$f":"IF('Outil Recensement'!AA14>0,'Outil Recensement'!AA14,\"\")","v":""},{"$f":"IF('Outil Recensement'!E14>0,'Outil Recensement'!E14,\"\")","v":""},{"$f":"IF('Outil Recensement'!AK14>0,'Outil Recensement'!AK14,\"\")","v":""},{"$f":"IF('Outil Recensement'!AL14>0,'Outil Recensement'!AL14,\"\")","v":""},{"$f":"IF('Outil Recensement'!AM14>0,'Outil Recensement'!AM14,\"\")","v":""},{"$f":"IF('Outil Recensement'!AN14=\"Male\",\"Male\",IF('Outil Recensement'!AN14=\"Female\",\"Female\",IF('Outil Recensement'!AN14=\"M\",\"Male\",IF('Outil Recensement'!AN14=\"F\",\"Female\",\"\"))))","v":""},{"$f":"IF('Outil Recensement'!AO14=\"Single\",\"Single\",IF('Outil Recensement'!AO14=\"Family\",\"Family\",IF('Outil Recensement'!AO14=\"S\",\"Single\",IF('Outil Recensement'!AO14=\"F\",\"Family\",\"\"))))","v":""},{"$f":"IF('Outil Recensement'!AP14=\"Single\",\"Single\",IF('Outil Recensement'!AP14=\"Family\",\"Family\",IF('Outil Recensement'!AP14=\"S\",\"Single\",IF('Outil Recensement'!AP14=\"F\",\"Family\",\"\"))))","v":""},{"$f":"IF('Outil Recensement'!AQ14>0,'Outil Recensement'!AQ14,\"\")","v":""},{"$f":"IF('Outil Recensement'!AR14=\"Yes\",\"Yes\",IF('Outil Recensement'!AR14=\"No\",\"No\",IF('Outil Recensement'!AR14=\"Y\",\"Yes\",IF('Outil Recensement'!AR14=\"N\",\"No\",\"\"))))","v":""},{"$f":"IF('Outil Recensement'!AS14>0,'Outil Recensement'!AS14,\"\")","v":""},{"$f":"IF('Outil Recensement'!AT14>0,'Outil Recensement'!AT14,\"\")","v":""},{"$f":"IF('Outil Recensement'!AU14>0,'Outil Recensement'!AU14,\"\")","v":""},{"$f":"IF('Outil Recensement'!AV14=\"Male\",\"Male\",IF('Outil Recensement'!AV14=\"Female\",\"Female\",IF('Outil Recensement'!AV14=\"M\",\"Male\",IF('Outil Recensement'!AV14=\"F\",\"Female\",\"\"))))","v":""},{"$f":"IF('Outil Recensement'!AW14=\"Yes\",\"Yes\",IF('Outil Recensement'!AW14=\"No\",\"No\",IF('Outil Recensement'!AW14=\"Y\",\"Yes\",IF('Outil Recensement'!AW14=\"N\",\"No\",\"\"))))","v":""},{"$f":"IF('Outil Recensement'!AX14=\"Yes\",\"Yes\",IF('Outil Recensement'!AX14=\"No\",\"No\",IF('Outil Recensement'!AX14=\"Y\",\"Yes\",IF('Outil Recensement'!AX14=\"N\",\"No\",\"\"))))","v":""},{"$f":"IF('Outil Recensement'!AY14>0,'Outil Recensement'!AY14,\"\")","v":""},{"$f":"IF('Outil Recensement'!AZ14>0,'Outil Recensement'!AZ14,\"\")","v":""},{"$f":"IF('Outil Recensement'!BA14>0,'Outil Recensement'!BA14,\"\")","v":""},{"$f":"IF('Outil Recensement'!BB14=\"Male\",\"Male\",IF('Outil Recensement'!BB14=\"Female\",\"Female\",IF('Outil Recensement'!BB14=\"M\",\"Male\",IF('Outil Recensement'!BB14=\"F\",\"Female\",\"\"))))","v":""},{"$f":"IF('Outil Recensement'!BC14=\"Yes\",\"Yes\",IF('Outil Recensement'!BC14=\"No\",\"No\",IF('Outil Recensement'!BC14=\"Y\",\"Yes\",IF('Outil Recensement'!BC14=\"N\",\"No\",\"\"))))","v":""},{"$f":"IF('Outil Recensement'!BD14=\"Yes\",\"Yes\",IF('Outil Recensement'!BD14=\"No\",\"No\",IF('Outil Recensement'!BD14=\"Y\",\"Yes\",IF('Outil Recensement'!BD14=\"N\",\"No\",\"\"))))","v":""},{"$f":"IF('Outil Recensement'!BE14>0,'Outil Recensement'!BE14,\"\")","v":""},{"$f":"IF('Outil Recensement'!BF14>0,'Outil Recensement'!BF14,\"\")","v":""},{"$f":"IF('Outil Recensement'!BG14>0,'Outil Recensement'!BG14,\"\")","v":""},{"$f":"IF('Outil Recensement'!BH14=\"Male\",\"Male\",IF('Outil Recensement'!BH14=\"Female\",\"Female\",IF('Outil Recensement'!BH14=\"M\",\"Male\",IF('Outil Recensement'!BH14=\"F\",\"Female\",\"\"))))","v":""},{"$f":"IF('Outil Recensement'!BI14=\"Yes\",\"Yes\",IF('Outil Recensement'!BI14=\"No\",\"No\",IF('Outil Recensement'!BI14=\"Y\",\"Yes\",IF('Outil Recensement'!BI14=\"N\",\"No\",\"\"))))","v":""},{"$f":"IF('Outil Recensement'!BJ14=\"Yes\",\"Yes\",IF('Outil Recensement'!BJ14=\"No\",\"No\",IF('Outil Recensement'!BJ14=\"Y\",\"Yes\",IF('Outil Recensement'!BJ14=\"N\",\"No\",\"\"))))","v":""},{"$f":"IF('Outil Recensement'!BK14>0,'Outil Recensement'!BK14,\"\")","v":""},{"$f":"IF('Outil Recensement'!BL14>0,'Outil Recensement'!BL14,\"\")","v":""},{"$f":"IF('Outil Recensement'!BM14>0,'Outil Recensement'!BM14,\"\")","v":""},{"$f":"IF('Outil Recensement'!BN14=\"Male\",\"Male\",IF('Outil Recensement'!BN14=\"Female\",\"Female\",IF('Outil Recensement'!BN14=\"M\",\"Male\",IF('Outil Recensement'!BN14=\"F\",\"Female\",\"\"))))","v":""},{"$f":"IF('Outil Recensement'!BO14=\"Yes\",\"Yes\",IF('Outil Recensement'!BO14=\"No\",\"No\",IF('Outil Recensement'!BO14=\"Y\",\"Yes\",IF('Outil Recensement'!BO14=\"N\",\"No\",\"\"))))","v":""},{"$f":"IF('Outil Recensement'!BP14=\"Yes\",\"Yes\",IF('Outil Recensement'!BP14=\"No\",\"No\",IF('Outil Recensement'!BP14=\"Y\",\"Yes\",IF('Outil Recensement'!BP14=\"N\",\"No\",\"\"))))","v":""},{"$f":"IF('Outil Recensement'!BQ14>0,'Outil Recensement'!BQ14,\"\")","v":""},{"$f":"IF('Outil Recensement'!BR14>0,'Outil Recensement'!BR14,\"\")","v":""},{"$f":"IF('Outil Recensement'!BS14>0,'Outil Recensement'!BS14,\"\")","v":""},{"$f":"IF('Outil Recensement'!BT14=\"Male\",\"Male\",IF('Outil Recensement'!BT14=\"Female\",\"Female\",IF('Outil Recensement'!BT14=\"M\",\"Male\",IF('Outil Recensement'!BT14=\"F\",\"Female\",\"\"))))","v":""},{"$f":"IF('Outil Recensement'!BU14=\"Yes\",\"Yes\",IF('Outil Recensement'!BU14=\"No\",\"No\",IF('Outil Recensement'!BU14=\"Y\",\"Yes\",IF('Outil Recensement'!BU14=\"N\",\"No\",\"\"))))","v":""},{"$f":"IF('Outil Recensement'!BV14=\"Yes\",\"Yes\",IF('Outil Recensement'!BV14=\"No\",\"No\",IF('Outil Recensement'!BV14=\"Y\",\"Yes\",IF('Outil Recensement'!BV14=\"N\",\"No\",\"\"))))","v":""},{"$f":"IF('Outil Recensement'!BW14>0,'Outil Recensement'!BW14,\"\")","v":""},{"$f":"IF('Outil Recensement'!BX14>0,'Outil Recensement'!BX14,\"\")","v":""},{"$f":"IF('Outil Recensement'!BY14>0,'Outil Recensement'!BY14,\"\")","v":""},{"$f":"IF('Outil Recensement'!BZ14=\"Male\",\"Male\",IF('Outil Recensement'!BZ14=\"Female\",\"Female\",IF('Outil Recensement'!BZ14=\"M\",\"Male\",IF('Outil Recensement'!BZ14=\"F\",\"Female\",\"\"))))","v":""},{"$f":"IF('Outil Recensement'!CA14=\"Yes\",\"Yes\",IF('Outil Recensement'!CA14=\"No\",\"No\",IF('Outil Recensement'!CA14=\"Y\",\"Yes\",IF('Outil Recensement'!CA14=\"N\",\"No\",\"\"))))","v":""},{"$f":"IF('Outil Recensement'!CB14=\"Yes\",\"Yes\",IF('Outil Recensement'!CB14=\"No\",\"No\",IF('Outil Recensement'!CB14=\"Y\",\"Yes\",IF('Outil Recensement'!CB14=\"N\",\"No\",\"\"))))","v":""},{"$f":"IF('Outil Recensement'!CH14>0,'Outil Recensement'!CH14,\"\")","v":""}]
[{"$f":"IF('Outil Recensement'!A15>0,'Outil Recensement'!A15,\"\")","v":""},{"$f":"IF('Outil Recensement'!B15>0,'Outil Recensement'!B15,\"\")","v":""},{"$f":"IF('Outil Recensement'!C15>0,'Outil Recensement'!C15,\"\")","v":""},{"$f":"IF('Outil Recensement'!D15>0,'Outil Recensement'!D15,\"\")","v":""},{"$f":"IF('Outil Recensement'!P15>0,TEXT('Outil Recensement'!P15,\"000\"),\"\")","v":""},{"$f":"IF('Outil Recensement'!Q15>0,'Outil Recensement'!Q15,\"\")","v":""},{"$f":"IF('Outil Recensement'!R15>0,'Outil Recensement'!R15,\"\")","v":""},{"$f":"IF('Outil Recensement'!F15>0,DATEVALUE(TEXT('Outil Recensement'!F15,\"yyyy-mm-dd\")),\"\")","v":""},{"$f":"IF('Outil Recensement'!L15>0,DATEVALUE(TEXT('Outil Recensement'!L15,\"yyyy-mm-dd\")),\"\")","v":""},{"$f":"IF('Outil Recensement'!Y15>0,'Outil Recensement'!Y15,\"\")","v":""},{"$f":"IF('Outil Recensement'!T15>0,'Outil Recensement'!T15,\"\")","v":""},{"$f":"IF('Outil Recensement'!G15=\"Homme\",\"Male\",IF('Outil Recensement'!G15=\"Femme\",\"Female\",IF('Outil Recensement'!G15=\"H\",\"Male\",IF('Outil Recensement'!G15=\"F\",\"Female\",\"\"))))","v":""},{"$f":"IF('Outil Recensement'!U15=\"Yes\",\"Yes\",IF('Outil Recensement'!U15=\"No\",\"No\",IF('Outil Recensement'!U15=\"Y\",\"Yes\",IF('Outil Recensement'!U15=\"N\",\"No\",\"\"))))","v":""},{"$f":"IF('Outil Recensement'!I15=\"Individuelle\",\"Single\",IF('Outil Recensement'!I15=\"Familiale\",\"Family\",IF('Outil Recensement'!I15=\"Refus\",\"Family\",IF('Outil Recensement'!I15=\"Parent seul\",\"Family\",IF('Outil Recensement'!I15=\"Couple\",\"Family\",IF('Outil Recensement'!I15=\"In force\",\"Family\",IF('Outil Recensement'!I15=\"Applies\",\"Family\",IF('Outil Recensement'!I15=\"Applicable\",\"Family\",\"\"))))))))","v":""},{"$f":"IF('Outil Recensement'!AC15=\"Anglais\",\"English\",IF('Outil Recensement'!AC15=\"Français\",\"French\",IF('Outil Recensement'!AC15=\"A\",\"English\",IF('Outil Recensement'!AC15=\"F\",\"French\",\"\"))))","v":""},{"$f":"IF('Outil Recensement'!AB15=\"Oui\",\"Yes\",IF('Outil Recensement'!AB15=\"Non\",\"No\",IF('Outil Recensement'!AB15=\"O\",\"Yes\",IF('Outil Recensement'!AB15=\"N\",\"No\",\"\"))))","v":""},{"$f":"IF('Outil Recensement'!AD15>0,'Outil Recensement'!AD15,\"\")","v":""},{"$f":"IF('Outil Recensement'!M15=\"Annuel\",\"Annually\",IF('Outil Recensement'!M15=\"Mensuel\",\"Monthly\",IF('Outil Recensement'!M15=\"Bihebdomadaire\",\"Biweekly\",IF('Outil Recensement'!M15=\"Hebdomadaire\",\"Weekly\",IF('Outil Recensement'!M15=\"Horaire\",\"Hourly\",IF('Outil Recensement'!M15=\"Semi-mensuel\",\"Semi-monthly\",IF('Outil Recensement'!M15=\"Applies\",\"Annual\",IF('Outil Recensement'!M15=\"Applicable\",\"Annual\",\"\"))))))))","v":""},{"$f":"IF('Outil Recensement'!N15>0,'Outil Recensement'!N15,\"\")","v":""},{"$f":"IF('Outil Recensement'!O15>0,'Outil Recensement'!O15,\"\")","v":""},{"$f":"IF('Outil Recensement'!I15=\"Refus\",\"Yes\",\"\")","v":""},{"$f":"IF('Outil Recensement'!I15=\"Refus\",\"Yes\",\"\")","v":""},{"$f":"IF('Outil Recensement'!AE15>0,'Outil Recensement'!AE15,\"\")","v":""},{"$f":"IF('Outil Recensement'!AF15>0,'Outil Recensement'!AF15,\"\")","v":""},{"$f":"IF('Outil Recensement'!AG15>0,'Outil Recensement'!AG15,\"\")","v":""},{"$f":"IF('Outil Recensement'!AH15>0,'Outil Recensement'!AH15,\"\")","v":""},{"$f":"IF('Outil Recensement'!AI15>0,'Outil Recensement'!AI15,\"\")","v":" "},{"$f":"IF('Outil Recensement'!AJ15>0,'Outil Recensement'!AJ15,\"\")","v":" "},{"$f":"IF('Outil Recensement'!W15>0,'Outil Recensement'!W15&\" \",\"\")&IF('Outil Recensement'!V15>0,'Outil Recensement'!V15,\"\")","v":""},null,{"$f":"IF('Outil Recensement'!X15>0,'Outil Recensement'!X15,\"\")","v":""},{"$f":"IF('Outil Recensement'!Y15>0,'Outil Recensement'!Y15,\"\")","v":""},{"$f":"IF('Outil Recensement'!Z15>0,'Outil Recensement'!Z15,\"\")","v":""},{"$f":"IF('Outil Recensement'!AA15>0,'Outil Recensement'!AA15,\"\")","v":""},{"$f":"IF('Outil Recensement'!E15>0,'Outil Recensement'!E15,\"\")","v":""},{"$f":"IF('Outil Recensement'!AK15>0,'Outil Recensement'!AK15,\"\")","v":""},{"$f":"IF('Outil Recensement'!AL15>0,'Outil Recensement'!AL15,\"\")","v":""},{"$f":"IF('Outil Recensement'!AM15>0,'Outil Recensement'!AM15,\"\")","v":""},{"$f":"IF('Outil Recensement'!AN15=\"Male\",\"Male\",IF('Outil Recensement'!AN15=\"Female\",\"Female\",IF('Outil Recensement'!AN15=\"M\",\"Male\",IF('Outil Recensement'!AN15=\"F\",\"Female\",\"\"))))","v":""},{"$f":"IF('Outil Recensement'!AO15=\"Single\",\"Single\",IF('Outil Recensement'!AO15=\"Family\",\"Family\",IF('Outil Recensement'!AO15=\"S\",\"Single\",IF('Outil Recensement'!AO15=\"F\",\"Family\",\"\"))))","v":""},{"$f":"IF('Outil Recensement'!AP15=\"Single\",\"Single\",IF('Outil Recensement'!AP15=\"Family\",\"Family\",IF('Outil Recensement'!AP15=\"S\",\"Single\",IF('Outil Recensement'!AP15=\"F\",\"Family\",\"\"))))","v":""},{"$f":"IF('Outil Recensement'!AQ15>0,'Outil Recensement'!AQ15,\"\")","v":""},{"$f":"IF('Outil Recensement'!AR15=\"Yes\",\"Yes\",IF('Outil Recensement'!AR15=\"No\",\"No\",IF('Outil Recensement'!AR15=\"Y\",\"Yes\",IF('Outil Recensement'!AR15=\"N\",\"No\",\"\"))))","v":""},{"$f":"IF('Outil Recensement'!AS15>0,'Outil Recensement'!AS15,\"\")","v":""},{"$f":"IF('Outil Recensement'!AT15>0,'Outil Recensement'!AT15,\"\")","v":""},{"$f":"IF('Outil Recensement'!AU15>0,'Outil Recensement'!AU15,\"\")","v":""},{"$f":"IF('Outil Recensement'!AV15=\"Male\",\"Male\",IF('Outil Recensement'!AV15=\"Female\",\"Female\",IF('Outil Recensement'!AV15=\"M\",\"Male\",IF('Outil Recensement'!AV15=\"F\",\"Female\",\"\"))))","v":""},{"$f":"IF('Outil Recensement'!AW15=\"Yes\",\"Yes\",IF('Outil Recensement'!AW15=\"No\",\"No\",IF('Outil Recensement'!AW15=\"Y\",\"Yes\",IF('Outil Recensement'!AW15=\"N\",\"No\",\"\"))))","v":""},{"$f":"IF('Outil Recensement'!AX15=\"Yes\",\"Yes\",IF('Outil Recensement'!AX15=\"No\",\"No\",IF('Outil Recensement'!AX15=\"Y\",\"Yes\",IF('Outil Recensement'!AX15=\"N\",\"No\",\"\"))))","v":""},{"$f":"IF('Outil Recensement'!AY15>0,'Outil Recensement'!AY15,\"\")","v":""},{"$f":"IF('Outil Recensement'!AZ15>0,'Outil Recensement'!AZ15,\"\")","v":""},{"$f":"IF('Outil Recensement'!BA15>0,'Outil Recensement'!BA15,\"\")","v":""},{"$f":"IF('Outil Recensement'!BB15=\"Male\",\"Male\",IF('Outil Recensement'!BB15=\"Female\",\"Female\",IF('Outil Recensement'!BB15=\"M\",\"Male\",IF('Outil Recensement'!BB15=\"F\",\"Female\",\"\"))))","v":""},{"$f":"IF('Outil Recensement'!BC15=\"Yes\",\"Yes\",IF('Outil Recensement'!BC15=\"No\",\"No\",IF('Outil Recensement'!BC15=\"Y\",\"Yes\",IF('Outil Recensement'!BC15=\"N\",\"No\",\"\"))))","v":""},{"$f":"IF('Outil Recensement'!BD15=\"Yes\",\"Yes\",IF('Outil Recensement'!BD15=\"No\",\"No\",IF('Outil Recensement'!BD15=\"Y\",\"Yes\",IF('Outil Recensement'!BD15=\"N\",\"No\",\"\"))))","v":""},{"$f":"IF('Outil Recensement'!BE15>0,'Outil Recensement'!BE15,\"\")","v":""},{"$f":"IF('Outil Recensement'!BF15>0,'Outil Recensement'!BF15,\"\")","v":""},{"$f":"IF('Outil Recensement'!BG15>0,'Outil Recensement'!BG15,\"\")","v":""},{"$f":"IF('Outil Recensement'!BH15=\"Male\",\"Male\",IF('Outil Recensement'!BH15=\"Female\",\"Female\",IF('Outil Recensement'!BH15=\"M\",\"Male\",IF('Outil Recensement'!BH15=\"F\",\"Female\",\"\"))))","v":""},{"$f":"IF('Outil Recensement'!BI15=\"Yes\",\"Yes\",IF('Outil Recensement'!BI15=\"No\",\"No\",IF('Outil Recensement'!BI15=\"Y\",\"Yes\",IF('Outil Recensement'!BI15=\"N\",\"No\",\"\"))))","v":""},{"$f":"IF('Outil Recensement'!BJ15=\"Yes\",\"Yes\",IF('Outil Recensement'!BJ15=\"No\",\"No\",IF('Outil Recensement'!BJ15=\"Y\",\"Yes\",IF('Outil Recensement'!BJ15=\"N\",\"No\",\"\"))))","v":""},{"$f":"IF('Outil Recensement'!BK15>0,'Outil Recensement'!BK15,\"\")","v":""},{"$f":"IF('Outil Recensement'!BL15>0,'Outil Recensement'!BL15,\"\")","v":""},{"$f":"IF('Outil Recensement'!BM15>0,'Outil Recensement'!BM15,\"\")","v":""},{"$f":"IF('Outil Recensement'!BN15=\"Male\",\"Male\",IF('Outil Recensement'!BN15=\"Female\",\"Female\",IF('Outil Recensement'!BN15=\"M\",\"Male\",IF('Outil Recensement'!BN15=\"F\",\"Female\",\"\"))))","v":""},{"$f":"IF('Outil Recensement'!BO15=\"Yes\",\"Yes\",IF('Outil Recensement'!BO15=\"No\",\"No\",IF('Outil Recensement'!BO15=\"Y\",\"Yes\",IF('Outil Recensement'!BO15=\"N\",\"No\",\"\"))))","v":""},{"$f":"IF('Outil Recensement'!BP15=\"Yes\",\"Yes\",IF('Outil Recensement'!BP15=\"No\",\"No\",IF('Outil Recensement'!BP15=\"Y\",\"Yes\",IF('Outil Recensement'!BP15=\"N\",\"No\",\"\"))))","v":""},{"$f":"IF('Outil Recensement'!BQ15>0,'Outil Recensement'!BQ15,\"\")","v":""},{"$f":"IF('Outil Recensement'!BR15>0,'Outil Recensement'!BR15,\"\")","v":""},{"$f":"IF('Outil Recensement'!BS15>0,'Outil Recensement'!BS15,\"\")","v":""},{"$f":"IF('Outil Recensement'!BT15=\"Male\",\"Male\",IF('Outil Recensement'!BT15=\"Female\",\"Female\",IF('Outil Recensement'!BT15=\"M\",\"Male\",IF('Outil Recensement'!BT15=\"F\",\"Female\",\"\"))))","v":""},{"$f":"IF('Outil Recensement'!BU15=\"Yes\",\"Yes\",IF('Outil Recensement'!BU15=\"No\",\"No\",IF('Outil Recensement'!BU15=\"Y\",\"Yes\",IF('Outil Recensement'!BU15=\"N\",\"No\",\"\"))))","v":""},{"$f":"IF('Outil Recensement'!BV15=\"Yes\",\"Yes\",IF('Outil Recensement'!BV15=\"No\",\"No\",IF('Outil Recensement'!BV15=\"Y\",\"Yes\",IF('Outil Recensement'!BV15=\"N\",\"No\",\"\"))))","v":""},{"$f":"IF('Outil Recensement'!BW15>0,'Outil Recensement'!BW15,\"\")","v":""},{"$f":"IF('Outil Recensement'!BX15>0,'Outil Recensement'!BX15,\"\")","v":""},{"$f":"IF('Outil Recensement'!BY15>0,'Outil Recensement'!BY15,\"\")","v":""},{"$f":"IF('Outil Recensement'!BZ15=\"Male\",\"Male\",IF('Outil Recensement'!BZ15=\"Female\",\"Female\",IF('Outil Recensement'!BZ15=\"M\",\"Male\",IF('Outil Recensement'!BZ15=\"F\",\"Female\",\"\"))))","v":""},{"$f":"IF('Outil Recensement'!CA15=\"Yes\",\"Yes\",IF('Outil Recensement'!CA15=\"No\",\"No\",IF('Outil Recensement'!CA15=\"Y\",\"Yes\",IF('Outil Recensement'!CA15=\"N\",\"No\",\"\"))))","v":""},{"$f":"IF('Outil Recensement'!CB15=\"Yes\",\"Yes\",IF('Outil Recensement'!CB15=\"No\",\"No\",IF('Outil Recensement'!CB15=\"Y\",\"Yes\",IF('Outil Recensement'!CB15=\"N\",\"No\",\"\"))))","v":""},{"$f":"IF('Outil Recensement'!CH15>0,'Outil Recensement'!CH15,\"\")","v":""}]
[{"$f":"IF('Outil Recensement'!A16>0,'Outil Recensement'!A16,\"\")","v":""},{"$f":"IF('Outil Recensement'!B16>0,'Outil Recensement'!B16,\"\")","v":""},{"$f":"IF('Outil Recensement'!C16>0,'Outil Recensement'!C16,\"\")","v":""},{"$f":"IF('Outil Recensement'!D16>0,'Outil Recensement'!D16,\"\")","v":""},{"$f":"IF('Outil Recensement'!P16>0,TEXT('Outil Recensement'!P16,\"000\"),\"\")","v":""},{"$f":"IF('Outil Recensement'!Q16>0,'Outil Recensement'!Q16,\"\")","v":""},{"$f":"IF('Outil Recensement'!R16>0,'Outil Recensement'!R16,\"\")","v":""},{"$f":"IF('Outil Recensement'!F16>0,DATEVALUE(TEXT('Outil Recensement'!F16,\"yyyy-mm-dd\")),\"\")","v":""},{"$f":"IF('Outil Recensement'!L16>0,DATEVALUE(TEXT('Outil Recensement'!L16,\"yyyy-mm-dd\")),\"\")","v":""},{"$f":"IF('Outil Recensement'!Y16>0,'Outil Recensement'!Y16,\"\")","v":""},{"$f":"IF('Outil Recensement'!T16>0,'Outil Recensement'!T16,\"\")","v":""},{"$f":"IF('Outil Recensement'!G16=\"Homme\",\"Male\",IF('Outil Recensement'!G16=\"Femme\",\"Female\",IF('Outil Recensement'!G16=\"H\",\"Male\",IF('Outil Recensement'!G16=\"F\",\"Female\",\"\"))))","v":""},{"$f":"IF('Outil Recensement'!U16=\"Yes\",\"Yes\",IF('Outil Recensement'!U16=\"No\",\"No\",IF('Outil Recensement'!U16=\"Y\",\"Yes\",IF('Outil Recensement'!U16=\"N\",\"No\",\"\"))))","v":""},{"$f":"IF('Outil Recensement'!I16=\"Individuelle\",\"Single\",IF('Outil Recensement'!I16=\"Familiale\",\"Family\",IF('Outil Recensement'!I16=\"Refus\",\"Family\",IF('Outil Recensement'!I16=\"Parent seul\",\"Family\",IF('Outil Recensement'!I16=\"Couple\",\"Family\",IF('Outil Recensement'!I16=\"In force\",\"Family\",IF('Outil Recensement'!I16=\"Applies\",\"Family\",IF('Outil Recensement'!I16=\"Applicable\",\"Family\",\"\"))))))))","v":""},{"$f":"IF('Outil Recensement'!AC16=\"Anglais\",\"English\",IF('Outil Recensement'!AC16=\"Français\",\"French\",IF('Outil Recensement'!AC16=\"A\",\"English\",IF('Outil Recensement'!AC16=\"F\",\"French\",\"\"))))","v":""},{"$f":"IF('Outil Recensement'!AB16=\"Oui\",\"Yes\",IF('Outil Recensement'!AB16=\"Non\",\"No\",IF('Outil Recensement'!AB16=\"O\",\"Yes\",IF('Outil Recensement'!AB16=\"N\",\"No\",\"\"))))","v":""},{"$f":"IF('Outil Recensement'!AD16>0,'Outil Recensement'!AD16,\"\")","v":""},{"$f":"IF('Outil Recensement'!M16=\"Annuel\",\"Annually\",IF('Outil Recensement'!M16=\"Mensuel\",\"Monthly\",IF('Outil Recensement'!M16=\"Bihebdomadaire\",\"Biweekly\",IF('Outil Recensement'!M16=\"Hebdomadaire\",\"Weekly\",IF('Outil Recensement'!M16=\"Horaire\",\"Hourly\",IF('Outil Recensement'!M16=\"Semi-mensuel\",\"Semi-monthly\",IF('Outil Recensement'!M16=\"Applies\",\"Annual\",IF('Outil Recensement'!M16=\"Applicable\",\"Annual\",\"\"))))))))","v":""},{"$f":"IF('Outil Recensement'!N16>0,'Outil Recensement'!N16,\"\")","v":""},{"$f":"IF('Outil Recensement'!O16>0,'Outil Recensement'!O16,\"\")","v":""},{"$f":"IF('Outil Recensement'!I16=\"Refus\",\"Yes\",\"\")","v":""},{"$f":"IF('Outil Recensement'!I16=\"Refus\",\"Yes\",\"\")","v":""},{"$f":"IF('Outil Recensement'!AE16>0,'Outil Recensement'!AE16,\"\")","v":""},{"$f":"IF('Outil Recensement'!AF16>0,'Outil Recensement'!AF16,\"\")","v":""},{"$f":"IF('Outil Recensement'!AG16>0,'Outil Recensement'!AG16,\"\")","v":""},{"$f":"IF('Outil Recensement'!AH16>0,'Outil Recensement'!AH16,\"\")","v":""},{"$f":"IF('Outil Recensement'!AI16>0,'Outil Recensement'!AI16,\"\")","v":" "},{"$f":"IF('Outil Recensement'!AJ16>0,'Outil Recensement'!AJ16,\"\")","v":" "},{"$f":"IF('Outil Recensement'!W16>0,'Outil Recensement'!W16&\" \",\"\")&IF('Outil Recensement'!V16>0,'Outil Recensement'!V16,\"\")","v":""},null,{"$f":"IF('Outil Recensement'!X16>0,'Outil Recensement'!X16,\"\")","v":""},{"$f":"IF('Outil Recensement'!Y16>0,'Outil Recensement'!Y16,\"\")","v":""},{"$f":"IF('Outil Recensement'!Z16>0,'Outil Recensement'!Z16,\"\")","v":""},{"$f":"IF('Outil Recensement'!AA16>0,'Outil Recensement'!AA16,\"\")","v":""},{"$f":"IF('Outil Recensement'!E16>0,'Outil Recensement'!E16,\"\")","v":""},{"$f":"IF('Outil Recensement'!AK16>0,'Outil Recensement'!AK16,\"\")","v":""},{"$f":"IF('Outil Recensement'!AL16>0,'Outil Recensement'!AL16,\"\")","v":""},{"$f":"IF('Outil Recensement'!AM16>0,'Outil Recensement'!AM16,\"\")","v":""},{"$f":"IF('Outil Recensement'!AN16=\"Male\",\"Male\",IF('Outil Recensement'!AN16=\"Female\",\"Female\",IF('Outil Recensement'!AN16=\"M\",\"Male\",IF('Outil Recensement'!AN16=\"F\",\"Female\",\"\"))))","v":""},{"$f":"IF('Outil Recensement'!AO16=\"Single\",\"Single\",IF('Outil Recensement'!AO16=\"Family\",\"Family\",IF('Outil Recensement'!AO16=\"S\",\"Single\",IF('Outil Recensement'!AO16=\"F\",\"Family\",\"\"))))","v":""},{"$f":"IF('Outil Recensement'!AP16=\"Single\",\"Single\",IF('Outil Recensement'!AP16=\"Family\",\"Family\",IF('Outil Recensement'!AP16=\"S\",\"Single\",IF('Outil Recensement'!AP16=\"F\",\"Family\",\"\"))))","v":""},{"$f":"IF('Outil Recensement'!AQ16>0,'Outil Recensement'!AQ16,\"\")","v":""},{"$f":"IF('Outil Recensement'!AR16=\"Yes\",\"Yes\",IF('Outil Recensement'!AR16=\"No\",\"No\",IF('Outil Recensement'!AR16=\"Y\",\"Yes\",IF('Outil Recensement'!AR16=\"N\",\"No\",\"\"))))","v":""},{"$f":"IF('Outil Recensement'!AS16>0,'Outil Recensement'!AS16,\"\")","v":""},{"$f":"IF('Outil Recensement'!AT16>0,'Outil Recensement'!AT16,\"\")","v":""},{"$f":"IF('Outil Recensement'!AU16>0,'Outil Recensement'!AU16,\"\")","v":""},{"$f":"IF('Outil Recensement'!AV16=\"Male\",\"Male\",IF('Outil Recensement'!AV16=\"Female\",\"Female\",IF('Outil Recensement'!AV16=\"M\",\"Male\",IF('Outil Recensement'!AV16=\"F\",\"Female\",\"\"))))","v":""},{"$f":"IF('Outil Recensement'!AW16=\"Yes\",\"Yes\",IF('Outil Recensement'!AW16=\"No\",\"No\",IF('Outil Recensement'!AW16=\"Y\",\"Yes\",IF('Outil Recensement'!AW16=\"N\",\"No\",\"\"))))","v":""},{"$f":"IF('Outil Recensement'!AX16=\"Yes\",\"Yes\",IF('Outil Recensement'!AX16=\"No\",\"No\",IF('Outil Recensement'!AX16=\"Y\",\"Yes\",IF('Outil Recensement'!AX16=\"N\",\"No\",\"\"))))","v":""},{"$f":"IF('Outil Recensement'!AY16>0,'Outil Recensement'!AY16,\"\")","v":""},{"$f":"IF('Outil Recensement'!AZ16>0,'Outil Recensement'!AZ16,\"\")","v":""},{"$f":"IF('Outil Recensement'!BA16>0,'Outil Recensement'!BA16,\"\")","v":""},{"$f":"IF('Outil Recensement'!BB16=\"Male\",\"Male\",IF('Outil Recensement'!BB16=\"Female\",\"Female\",IF('Outil Recensement'!BB16=\"M\",\"Male\",IF('Outil Recensement'!BB16=\"F\",\"Female\",\"\"))))","v":""},{"$f":"IF('Outil Recensement'!BC16=\"Yes\",\"Yes\",IF('Outil Recensement'!BC16=\"No\",\"No\",IF('Outil Recensement'!BC16=\"Y\",\"Yes\",IF('Outil Recensement'!BC16=\"N\",\"No\",\"\"))))","v":""},{"$f":"IF('Outil Recensement'!BD16=\"Yes\",\"Yes\",IF('Outil Recensement'!BD16=\"No\",\"No\",IF('Outil Recensement'!BD16=\"Y\",\"Yes\",IF('Outil Recensement'!BD16=\"N\",\"No\",\"\"))))","v":""},{"$f":"IF('Outil Recensement'!BE16>0,'Outil Recensement'!BE16,\"\")","v":""},{"$f":"IF('Outil Recensement'!BF16>0,'Outil Recensement'!BF16,\"\")","v":""},{"$f":"IF('Outil Recensement'!BG16>0,'Outil Recensement'!BG16,\"\")","v":""},{"$f":"IF('Outil Recensement'!BH16=\"Male\",\"Male\",IF('Outil Recensement'!BH16=\"Female\",\"Female\",IF('Outil Recensement'!BH16=\"M\",\"Male\",IF('Outil Recensement'!BH16=\"F\",\"Female\",\"\"))))","v":""},{"$f":"IF('Outil Recensement'!BI16=\"Yes\",\"Yes\",IF('Outil Recensement'!BI16=\"No\",\"No\",IF('Outil Recensement'!BI16=\"Y\",\"Yes\",IF('Outil Recensement'!BI16=\"N\",\"No\",\"\"))))","v":""},{"$f":"IF('Outil Recensement'!BJ16=\"Yes\",\"Yes\",IF('Outil Recensement'!BJ16=\"No\",\"No\",IF('Outil Recensement'!BJ16=\"Y\",\"Yes\",IF('Outil Recensement'!BJ16=\"N\",\"No\",\"\"))))","v":""},{"$f":"IF('Outil Recensement'!BK16>0,'Outil Recensement'!BK16,\"\")","v":""},{"$f":"IF('Outil Recensement'!BL16>0,'Outil Recensement'!BL16,\"\")","v":""},{"$f":"IF('Outil Recensement'!BM16>0,'Outil Recensement'!BM16,\"\")","v":""},{"$f":"IF('Outil Recensement'!BN16=\"Male\",\"Male\",IF('Outil Recensement'!BN16=\"Female\",\"Female\",IF('Outil Recensement'!BN16=\"M\",\"Male\",IF('Outil Recensement'!BN16=\"F\",\"Female\",\"\"))))","v":""},{"$f":"IF('Outil Recensement'!BO16=\"Yes\",\"Yes\",IF('Outil Recensement'!BO16=\"No\",\"No\",IF('Outil Recensement'!BO16=\"Y\",\"Yes\",IF('Outil Recensement'!BO16=\"N\",\"No\",\"\"))))","v":""},{"$f":"IF('Outil Recensement'!BP16=\"Yes\",\"Yes\",IF('Outil Recensement'!BP16=\"No\",\"No\",IF('Outil Recensement'!BP16=\"Y\",\"Yes\",IF('Outil Recensement'!BP16=\"N\",\"No\",\"\"))))","v":""},{"$f":"IF('Outil Recensement'!BQ16>0,'Outil Recensement'!BQ16,\"\")","v":""},{"$f":"IF('Outil Recensement'!BR16>0,'Outil Recensement'!BR16,\"\")","v":""},{"$f":"IF('Outil Recensement'!BS16>0,'Outil Recensement'!BS16,\"\")","v":""},{"$f":"IF('Outil Recensement'!BT16=\"Male\",\"Male\",IF('Outil Recensement'!BT16=\"Female\",\"Female\",IF('Outil Recensement'!BT16=\"M\",\"Male\",IF('Outil Recensement'!BT16=\"F\",\"Female\",\"\"))))","v":""},{"$f":"IF('Outil Recensement'!BU16=\"Yes\",\"Yes\",IF('Outil Recensement'!BU16=\"No\",\"No\",IF('Outil Recensement'!BU16=\"Y\",\"Yes\",IF('Outil Recensement'!BU16=\"N\",\"No\",\"\"))))","v":""},{"$f":"IF('Outil Recensement'!BV16=\"Yes\",\"Yes\",IF('Outil Recensement'!BV16=\"No\",\"No\",IF('Outil Recensement'!BV16=\"Y\",\"Yes\",IF('Outil Recensement'!BV16=\"N\",\"No\",\"\"))))","v":""},{"$f":"IF('Outil Recensement'!BW16>0,'Outil Recensement'!BW16,\"\")","v":""},{"$f":"IF('Outil Recensement'!BX16>0,'Outil Recensement'!BX16,\"\")","v":""},{"$f":"IF('Outil Recensement'!BY16>0,'Outil Recensement'!BY16,\"\")","v":""},{"$f":"IF('Outil Recensement'!BZ16=\"Male\",\"Male\",IF('Outil Recensement'!BZ16=\"Female\",\"Female\",IF('Outil Recensement'!BZ16=\"M\",\"Male\",IF('Outil Recensement'!BZ16=\"F\",\"Female\",\"\"))))","v":""},{"$f":"IF('Outil Recensement'!CA16=\"Yes\",\"Yes\",IF('Outil Recensement'!CA16=\"No\",\"No\",IF('Outil Recensement'!CA16=\"Y\",\"Yes\",IF('Outil Recensement'!CA16=\"N\",\"No\",\"\"))))","v":""},{"$f":"IF('Outil Recensement'!CB16=\"Yes\",\"Yes\",IF('Outil Recensement'!CB16=\"No\",\"No\",IF('Outil Recensement'!CB16=\"Y\",\"Yes\",IF('Outil Recensement'!CB16=\"N\",\"No\",\"\"))))","v":""},{"$f":"IF('Outil Recensement'!CH16>0,'Outil Recensement'!CH16,\"\")","v":""}]
[{"$f":"IF('Outil Recensement'!A17>0,'Outil Recensement'!A17,\"\")","v":""},{"$f":"IF('Outil Recensement'!B17>0,'Outil Recensement'!B17,\"\")","v":""},{"$f":"IF('Outil Recensement'!C17>0,'Outil Recensement'!C17,\"\")","v":""},{"$f":"IF('Outil Recensement'!D17>0,'Outil Recensement'!D17,\"\")","v":""},{"$f":"IF('Outil Recensement'!P17>0,TEXT('Outil Recensement'!P17,\"000\"),\"\")","v":""},{"$f":"IF('Outil Recensement'!Q17>0,'Outil Recensement'!Q17,\"\")","v":""},{"$f":"IF('Outil Recensement'!R17>0,'Outil Recensement'!R17,\"\")","v":""},{"$f":"IF('Outil Recensement'!F17>0,DATEVALUE(TEXT('Outil Recensement'!F17,\"yyyy-mm-dd\")),\"\")","v":""},{"$f":"IF('Outil Recensement'!L17>0,DATEVALUE(TEXT('Outil Recensement'!L17,\"yyyy-mm-dd\")),\"\")","v":""},{"$f":"IF('Outil Recensement'!Y17>0,'Outil Recensement'!Y17,\"\")","v":""},{"$f":"IF('Outil Recensement'!T17>0,'Outil Recensement'!T17,\"\")","v":""},{"$f":"IF('Outil Recensement'!G17=\"Homme\",\"Male\",IF('Outil Recensement'!G17=\"Femme\",\"Female\",IF('Outil Recensement'!G17=\"H\",\"Male\",IF('Outil Recensement'!G17=\"F\",\"Female\",\"\"))))","v":""},{"$f":"IF('Outil Recensement'!U17=\"Yes\",\"Yes\",IF('Outil Recensement'!U17=\"No\",\"No\",IF('Outil Recensement'!U17=\"Y\",\"Yes\",IF('Outil Recensement'!U17=\"N\",\"No\",\"\"))))","v":""},{"$f":"IF('Outil Recensement'!I17=\"Individuelle\",\"Single\",IF('Outil Recensement'!I17=\"Familiale\",\"Family\",IF('Outil Recensement'!I17=\"Refus\",\"Family\",IF('Outil Recensement'!I17=\"Parent seul\",\"Family\",IF('Outil Recensement'!I17=\"Couple\",\"Family\",IF('Outil Recensement'!I17=\"In force\",\"Family\",IF('Outil Recensement'!I17=\"Applies\",\"Family\",IF('Outil Recensement'!I17=\"Applicable\",\"Family\",\"\"))))))))","v":""},{"$f":"IF('Outil Recensement'!AC17=\"Anglais\",\"English\",IF('Outil Recensement'!AC17=\"Français\",\"French\",IF('Outil Recensement'!AC17=\"A\",\"English\",IF('Outil Recensement'!AC17=\"F\",\"French\",\"\"))))","v":""},{"$f":"IF('Outil Recensement'!AB17=\"Oui\",\"Yes\",IF('Outil Recensement'!AB17=\"Non\",\"No\",IF('Outil Recensement'!AB17=\"O\",\"Yes\",IF('Outil Recensement'!AB17=\"N\",\"No\",\"\"))))","v":""},{"$f":"IF('Outil Recensement'!AD17>0,'Outil Recensement'!AD17,\"\")","v":""},{"$f":"IF('Outil Recensement'!M17=\"Annuel\",\"Annually\",IF('Outil Recensement'!M17=\"Mensuel\",\"Monthly\",IF('Outil Recensement'!M17=\"Bihebdomadaire\",\"Biweekly\",IF('Outil Recensement'!M17=\"Hebdomadaire\",\"Weekly\",IF('Outil Recensement'!M17=\"Horaire\",\"Hourly\",IF('Outil Recensement'!M17=\"Semi-mensuel\",\"Semi-monthly\",IF('Outil Recensement'!M17=\"Applies\",\"Annual\",IF('Outil Recensement'!M17=\"Applicable\",\"Annual\",\"\"))))))))","v":""},{"$f":"IF('Outil Recensement'!N17>0,'Outil Recensement'!N17,\"\")","v":""},{"$f":"IF('Outil Recensement'!O17>0,'Outil Recensement'!O17,\"\")","v":""},{"$f":"IF('Outil Recensement'!I17=\"Refus\",\"Yes\",\"\")","v":""},{"$f":"IF('Outil Recensement'!I17=\"Refus\",\"Yes\",\"\")","v":""},{"$f":"IF('Outil Recensement'!AE17>0,'Outil Recensement'!AE17,\"\")","v":""},{"$f":"IF('Outil Recensement'!AF17>0,'Outil Recensement'!AF17,\"\")","v":""},{"$f":"IF('Outil Recensement'!AG17>0,'Outil Recensement'!AG17,\"\")","v":""},{"$f":"IF('Outil Recensement'!AH17>0,'Outil Recensement'!AH17,\"\")","v":""},{"$f":"IF('Outil Recensement'!AI17>0,'Outil Recensement'!AI17,\"\")","v":" "},{"$f":"IF('Outil Recensement'!AJ17>0,'Outil Recensement'!AJ17,\"\")","v":" "},{"$f":"IF('Outil Recensement'!W17>0,'Outil Recensement'!W17&\" \",\"\")&IF('Outil Recensement'!V17>0,'Outil Recensement'!V17,\"\")","v":""},null,{"$f":"IF('Outil Recensement'!X17>0,'Outil Recensement'!X17,\"\")","v":""},{"$f":"IF('Outil Recensement'!Y17>0,'Outil Recensement'!Y17,\"\")","v":""},{"$f":"IF('Outil Recensement'!Z17>0,'Outil Recensement'!Z17,\"\")","v":""},{"$f":"IF('Outil Recensement'!AA17>0,'Outil Recensement'!AA17,\"\")","v":""},{"$f":"IF('Outil Recensement'!E17>0,'Outil Recensement'!E17,\"\")","v":""},{"$f":"IF('Outil Recensement'!AK17>0,'Outil Recensement'!AK17,\"\")","v":""},{"$f":"IF('Outil Recensement'!AL17>0,'Outil Recensement'!AL17,\"\")","v":""},{"$f":"IF('Outil Recensement'!AM17>0,'Outil Recensement'!AM17,\"\")","v":""},{"$f":"IF('Outil Recensement'!AN17=\"Male\",\"Male\",IF('Outil Recensement'!AN17=\"Female\",\"Female\",IF('Outil Recensement'!AN17=\"M\",\"Male\",IF('Outil Recensement'!AN17=\"F\",\"Female\",\"\"))))","v":""},{"$f":"IF('Outil Recensement'!AO17=\"Single\",\"Single\",IF('Outil Recensement'!AO17=\"Family\",\"Family\",IF('Outil Recensement'!AO17=\"S\",\"Single\",IF('Outil Recensement'!AO17=\"F\",\"Family\",\"\"))))","v":""},{"$f":"IF('Outil Recensement'!AP17=\"Single\",\"Single\",IF('Outil Recensement'!AP17=\"Family\",\"Family\",IF('Outil Recensement'!AP17=\"S\",\"Single\",IF('Outil Recensement'!AP17=\"F\",\"Family\",\"\"))))","v":""},{"$f":"IF('Outil Recensement'!AQ17>0,'Outil Recensement'!AQ17,\"\")","v":""},{"$f":"IF('Outil Recensement'!AR17=\"Yes\",\"Yes\",IF('Outil Recensement'!AR17=\"No\",\"No\",IF('Outil Recensement'!AR17=\"Y\",\"Yes\",IF('Outil Recensement'!AR17=\"N\",\"No\",\"\"))))","v":""},{"$f":"IF('Outil Recensement'!AS17>0,'Outil Recensement'!AS17,\"\")","v":""},{"$f":"IF('Outil Recensement'!AT17>0,'Outil Recensement'!AT17,\"\")","v":""},{"$f":"IF('Outil Recensement'!AU17>0,'Outil Recensement'!AU17,\"\")","v":""},{"$f":"IF('Outil Recensement'!AV17=\"Male\",\"Male\",IF('Outil Recensement'!AV17=\"Female\",\"Female\",IF('Outil Recensement'!AV17=\"M\",\"Male\",IF('Outil Recensement'!AV17=\"F\",\"Female\",\"\"))))","v":""},{"$f":"IF('Outil Recensement'!AW17=\"Yes\",\"Yes\",IF('Outil Recensement'!AW17=\"No\",\"No\",IF('Outil Recensement'!AW17=\"Y\",\"Yes\",IF('Outil Recensement'!AW17=\"N\",\"No\",\"\"))))","v":""},{"$f":"IF('Outil Recensement'!AX17=\"Yes\",\"Yes\",IF('Outil Recensement'!AX17=\"No\",\"No\",IF('Outil Recensement'!AX17=\"Y\",\"Yes\",IF('Outil Recensement'!AX17=\"N\",\"No\",\"\"))))","v":""},{"$f":"IF('Outil Recensement'!AY17>0,'Outil Recensement'!AY17,\"\")","v":""},{"$f":"IF('Outil Recensement'!AZ17>0,'Outil Recensement'!AZ17,\"\")","v":""},{"$f":"IF('Outil Recensement'!BA17>0,'Outil Recensement'!BA17,\"\")","v":""},{"$f":"IF('Outil Recensement'!BB17=\"Male\",\"Male\",IF('Outil Recensement'!BB17=\"Female\",\"Female\",IF('Outil Recensement'!BB17=\"M\",\"Male\",IF('Outil Recensement'!BB17=\"F\",\"Female\",\"\"))))","v":""},{"$f":"IF('Outil Recensement'!BC17=\"Yes\",\"Yes\",IF('Outil Recensement'!BC17=\"No\",\"No\",IF('Outil Recensement'!BC17=\"Y\",\"Yes\",IF('Outil Recensement'!BC17=\"N\",\"No\",\"\"))))","v":""},{"$f":"IF('Outil Recensement'!BD17=\"Yes\",\"Yes\",IF('Outil Recensement'!BD17=\"No\",\"No\",IF('Outil Recensement'!BD17=\"Y\",\"Yes\",IF('Outil Recensement'!BD17=\"N\",\"No\",\"\"))))","v":""},{"$f":"IF('Outil Recensement'!BE17>0,'Outil Recensement'!BE17,\"\")","v":""},{"$f":"IF('Outil Recensement'!BF17>0,'Outil Recensement'!BF17,\"\")","v":""},{"$f":"IF('Outil Recensement'!BG17>0,'Outil Recensement'!BG17,\"\")","v":""},{"$f":"IF('Outil Recensement'!BH17=\"Male\",\"Male\",IF('Outil Recensement'!BH17=\"Female\",\"Female\",IF('Outil Recensement'!BH17=\"M\",\"Male\",IF('Outil Recensement'!BH17=\"F\",\"Female\",\"\"))))","v":""},{"$f":"IF('Outil Recensement'!BI17=\"Yes\",\"Yes\",IF('Outil Recensement'!BI17=\"No\",\"No\",IF('Outil Recensement'!BI17=\"Y\",\"Yes\",IF('Outil Recensement'!BI17=\"N\",\"No\",\"\"))))","v":""},{"$f":"IF('Outil Recensement'!BJ17=\"Yes\",\"Yes\",IF('Outil Recensement'!BJ17=\"No\",\"No\",IF('Outil Recensement'!BJ17=\"Y\",\"Yes\",IF('Outil Recensement'!BJ17=\"N\",\"No\",\"\"))))","v":""},{"$f":"IF('Outil Recensement'!BK17>0,'Outil Recensement'!BK17,\"\")","v":""},{"$f":"IF('Outil Recensement'!BL17>0,'Outil Recensement'!BL17,\"\")","v":""},{"$f":"IF('Outil Recensement'!BM17>0,'Outil Recensement'!BM17,\"\")","v":""},{"$f":"IF('Outil Recensement'!BN17=\"Male\",\"Male\",IF('Outil Recensement'!BN17=\"Female\",\"Female\",IF('Outil Recensement'!BN17=\"M\",\"Male\",IF('Outil Recensement'!BN17=\"F\",\"Female\",\"\"))))","v":""},{"$f":"IF('Outil Recensement'!BO17=\"Yes\",\"Yes\",IF('Outil Recensement'!BO17=\"No\",\"No\",IF('Outil Recensement'!BO17=\"Y\",\"Yes\",IF('Outil Recensement'!BO17=\"N\",\"No\",\"\"))))","v":""},{"$f":"IF('Outil Recensement'!BP17=\"Yes\",\"Yes\",IF('Outil Recensement'!BP17=\"No\",\"No\",IF('Outil Recensement'!BP17=\"Y\",\"Yes\",IF('Outil Recensement'!BP17=\"N\",\"No\",\"\"))))","v":""},{"$f":"IF('Outil Recensement'!BQ17>0,'Outil Recensement'!BQ17,\"\")","v":""},{"$f":"IF('Outil Recensement'!BR17>0,'Outil Recensement'!BR17,\"\")","v":""},{"$f":"IF('Outil Recensement'!BS17>0,'Outil Recensement'!BS17,\"\")","v":""},{"$f":"IF('Outil Recensement'!BT17=\"Male\",\"Male\",IF('Outil Recensement'!BT17=\"Female\",\"Female\",IF('Outil Recensement'!BT17=\"M\",\"Male\",IF('Outil Recensement'!BT17=\"F\",\"Female\",\"\"))))","v":""},{"$f":"IF('Outil Recensement'!BU17=\"Yes\",\"Yes\",IF('Outil Recensement'!BU17=\"No\",\"No\",IF('Outil Recensement'!BU17=\"Y\",\"Yes\",IF('Outil Recensement'!BU17=\"N\",\"No\",\"\"))))","v":""},{"$f":"IF('Outil Recensement'!BV17=\"Yes\",\"Yes\",IF('Outil Recensement'!BV17=\"No\",\"No\",IF('Outil Recensement'!BV17=\"Y\",\"Yes\",IF('Outil Recensement'!BV17=\"N\",\"No\",\"\"))))","v":""},{"$f":"IF('Outil Recensement'!BW17>0,'Outil Recensement'!BW17,\"\")","v":""},{"$f":"IF('Outil Recensement'!BX17>0,'Outil Recensement'!BX17,\"\")","v":""},{"$f":"IF('Outil Recensement'!BY17>0,'Outil Recensement'!BY17,\"\")","v":""},{"$f":"IF('Outil Recensement'!BZ17=\"Male\",\"Male\",IF('Outil Recensement'!BZ17=\"Female\",\"Female\",IF('Outil Recensement'!BZ17=\"M\",\"Male\",IF('Outil Recensement'!BZ17=\"F\",\"Female\",\"\"))))","v":""},{"$f":"IF('Outil Recensement'!CA17=\"Yes\",\"Yes\",IF('Outil Recensement'!CA17=\"No\",\"No\",IF('Outil Recensement'!CA17=\"Y\",\"Yes\",IF('Outil Recensement'!CA17=\"N\",\"No\",\"\"))))","v":""},{"$f":"IF('Outil Recensement'!CB17=\"Yes\",\"Yes\",IF('Outil Recensement'!CB17=\"No\",\"No\",IF('Outil Recensement'!CB17=\"Y\",\"Yes\",IF('Outil Recensement'!CB17=\"N\",\"No\",\"\"))))","v":""},{"$f":"IF('Outil Recensement'!CH17>0,'Outil Recensement'!CH17,\"\")","v":""}]
[{"$f":"IF('Outil Recensement'!A18>0,'Outil Recensement'!A18,\"\")","v":""},{"$f":"IF('Outil Recensement'!B18>0,'Outil Recensement'!B18,\"\")","v":""},{"$f":"IF('Outil Recensement'!C18>0,'Outil Recensement'!C18,\"\")","v":""},{"$f":"IF('Outil Recensement'!D18>0,'Outil Recensement'!D18,\"\")","v":""},{"$f":"IF('Outil Recensement'!P18>0,TEXT('Outil Recensement'!P18,\"000\"),\"\")","v":""},{"$f":"IF('Outil Recensement'!Q18>0,'Outil Recensement'!Q18,\"\")","v":""},{"$f":"IF('Outil Recensement'!R18>0,'Outil Recensement'!R18,\"\")","v":""},{"$f":"IF('Outil Recensement'!F18>0,DATEVALUE(TEXT('Outil Recensement'!F18,\"yyyy-mm-dd\")),\"\")","v":""},{"$f":"IF('Outil Recensement'!L18>0,DATEVALUE(TEXT('Outil Recensement'!L18,\"yyyy-mm-dd\")),\"\")","v":""},{"$f":"IF('Outil Recensement'!Y18>0,'Outil Recensement'!Y18,\"\")","v":""},{"$f":"IF('Outil Recensement'!T18>0,'Outil Recensement'!T18,\"\")","v":""},{"$f":"IF('Outil Recensement'!G18=\"Homme\",\"Male\",IF('Outil Recensement'!G18=\"Femme\",\"Female\",IF('Outil Recensement'!G18=\"H\",\"Male\",IF('Outil Recensement'!G18=\"F\",\"Female\",\"\"))))","v":""},{"$f":"IF('Outil Recensement'!U18=\"Yes\",\"Yes\",IF('Outil Recensement'!U18=\"No\",\"No\",IF('Outil Recensement'!U18=\"Y\",\"Yes\",IF('Outil Recensement'!U18=\"N\",\"No\",\"\"))))","v":""},{"$f":"IF('Outil Recensement'!I18=\"Individuelle\",\"Single\",IF('Outil Recensement'!I18=\"Familiale\",\"Family\",IF('Outil Recensement'!I18=\"Refus\",\"Family\",IF('Outil Recensement'!I18=\"Parent seul\",\"Family\",IF('Outil Recensement'!I18=\"Couple\",\"Family\",IF('Outil Recensement'!I18=\"In force\",\"Family\",IF('Outil Recensement'!I18=\"Applies\",\"Family\",IF('Outil Recensement'!I18=\"Applicable\",\"Family\",\"\"))))))))","v":""},{"$f":"IF('Outil Recensement'!AC18=\"Anglais\",\"English\",IF('Outil Recensement'!AC18=\"Français\",\"French\",IF('Outil Recensement'!AC18=\"A\",\"English\",IF('Outil Recensement'!AC18=\"F\",\"French\",\"\"))))","v":""},{"$f":"IF('Outil Recensement'!AB18=\"Oui\",\"Yes\",IF('Outil Recensement'!AB18=\"Non\",\"No\",IF('Outil Recensement'!AB18=\"O\",\"Yes\",IF('Outil Recensement'!AB18=\"N\",\"No\",\"\"))))","v":""},{"$f":"IF('Outil Recensement'!AD18>0,'Outil Recensement'!AD18,\"\")","v":""},{"$f":"IF('Outil Recensement'!M18=\"Annuel\",\"Annually\",IF('Outil Recensement'!M18=\"Mensuel\",\"Monthly\",IF('Outil Recensement'!M18=\"Bihebdomadaire\",\"Biweekly\",IF('Outil Recensement'!M18=\"Hebdomadaire\",\"Weekly\",IF('Outil Recensement'!M18=\"Horaire\",\"Hourly\",IF('Outil Recensement'!M18=\"Semi-mensuel\",\"Semi-monthly\",IF('Outil Recensement'!M18=\"Applies\",\"Annual\",IF('Outil Recensement'!M18=\"Applicable\",\"Annual\",\"\"))))))))","v":""},{"$f":"IF('Outil Recensement'!N18>0,'Outil Recensement'!N18,\"\")","v":""},{"$f":"IF('Outil Recensement'!O18>0,'Outil Recensement'!O18,\"\")","v":""},{"$f":"IF('Outil Recensement'!I18=\"Refus\",\"Yes\",\"\")","v":""},{"$f":"IF('Outil Recensement'!I18=\"Refus\",\"Yes\",\"\")","v":""},{"$f":"IF('Outil Recensement'!AE18>0,'Outil Recensement'!AE18,\"\")","v":""},{"$f":"IF('Outil Recensement'!AF18>0,'Outil Recensement'!AF18,\"\")","v":""},{"$f":"IF('Outil Recensement'!AG18>0,'Outil Recensement'!AG18,\"\")","v":""},{"$f":"IF('Outil Recensement'!AH18>0,'Outil Recensement'!AH18,\"\")","v":""},{"$f":"IF('Outil Recensement'!AI18>0,'Outil Recensement'!AI18,\"\")","v":" "},{"$f":"IF('Outil Recensement'!AJ18>0,'Outil Recensement'!AJ18,\"\")","v":" "},{"$f":"IF('Outil Recensement'!W18>0,'Outil Recensement'!W18&\" \",\"\")&IF('Outil Recensement'!V18>0,'Outil Recensement'!V18,\"\")","v":""},null,{"$f":"IF('Outil Recensement'!X18>0,'Outil Recensement'!X18,\"\")","v":""},{"$f":"IF('Outil Recensement'!Y18>0,'Outil Recensement'!Y18,\"\")","v":""},{"$f":"IF('Outil Recensement'!Z18>0,'Outil Recensement'!Z18,\"\")","v":""},{"$f":"IF('Outil Recensement'!AA18>0,'Outil Recensement'!AA18,\"\")","v":""},{"$f":"IF('Outil Recensement'!E18>0,'Outil Recensement'!E18,\"\")","v":""},{"$f":"IF('Outil Recensement'!AK18>0,'Outil Recensement'!AK18,\"\")","v":""},{"$f":"IF('Outil Recensement'!AL18>0,'Outil Recensement'!AL18,\"\")","v":""},{"$f":"IF('Outil Recensement'!AM18>0,'Outil Recensement'!AM18,\"\")","v":""},{"$f":"IF('Outil Recensement'!AN18=\"Male\",\"Male\",IF('Outil Recensement'!AN18=\"Female\",\"Female\",IF('Outil Recensement'!AN18=\"M\",\"Male\",IF('Outil Recensement'!AN18=\"F\",\"Female\",\"\"))))","v":""},{"$f":"IF('Outil Recensement'!AO18=\"Single\",\"Single\",IF('Outil Recensement'!AO18=\"Family\",\"Family\",IF('Outil Recensement'!AO18=\"S\",\"Single\",IF('Outil Recensement'!AO18=\"F\",\"Family\",\"\"))))","v":""},{"$f":"IF('Outil Recensement'!AP18=\"Single\",\"Single\",IF('Outil Recensement'!AP18=\"Family\",\"Family\",IF('Outil Recensement'!AP18=\"S\",\"Single\",IF('Outil Recensement'!AP18=\"F\",\"Family\",\"\"))))","v":""},{"$f":"IF('Outil Recensement'!AQ18>0,'Outil Recensement'!AQ18,\"\")","v":""},{"$f":"IF('Outil Recensement'!AR18=\"Yes\",\"Yes\",IF('Outil Recensement'!AR18=\"No\",\"No\",IF('Outil Recensement'!AR18=\"Y\",\"Yes\",IF('Outil Recensement'!AR18=\"N\",\"No\",\"\"))))","v":""},{"$f":"IF('Outil Recensement'!AS18>0,'Outil Recensement'!AS18,\"\")","v":""},{"$f":"IF('Outil Recensement'!AT18>0,'Outil Recensement'!AT18,\"\")","v":""},{"$f":"IF('Outil Recensement'!AU18>0,'Outil Recensement'!AU18,\"\")","v":""},{"$f":"IF('Outil Recensement'!AV18=\"Male\",\"Male\",IF('Outil Recensement'!AV18=\"Female\",\"Female\",IF('Outil Recensement'!AV18=\"M\",\"Male\",IF('Outil Recensement'!AV18=\"F\",\"Female\",\"\"))))","v":""},{"$f":"IF('Outil Recensement'!AW18=\"Yes\",\"Yes\",IF('Outil Recensement'!AW18=\"No\",\"No\",IF('Outil Recensement'!AW18=\"Y\",\"Yes\",IF('Outil Recensement'!AW18=\"N\",\"No\",\"\"))))","v":""},{"$f":"IF('Outil Recensement'!AX18=\"Yes\",\"Yes\",IF('Outil Recensement'!AX18=\"No\",\"No\",IF('Outil Recensement'!AX18=\"Y\",\"Yes\",IF('Outil Recensement'!AX18=\"N\",\"No\",\"\"))))","v":""},{"$f":"IF('Outil Recensement'!AY18>0,'Outil Recensement'!AY18,\"\")","v":""},{"$f":"IF('Outil Recensement'!AZ18>0,'Outil Recensement'!AZ18,\"\")","v":""},{"$f":"IF('Outil Recensement'!BA18>0,'Outil Recensement'!BA18,\"\")","v":""},{"$f":"IF('Outil Recensement'!BB18=\"Male\",\"Male\",IF('Outil Recensement'!BB18=\"Female\",\"Female\",IF('Outil Recensement'!BB18=\"M\",\"Male\",IF('Outil Recensement'!BB18=\"F\",\"Female\",\"\"))))","v":""},{"$f":"IF('Outil Recensement'!BC18=\"Yes\",\"Yes\",IF('Outil Recensement'!BC18=\"No\",\"No\",IF('Outil Recensement'!BC18=\"Y\",\"Yes\",IF('Outil Recensement'!BC18=\"N\",\"No\",\"\"))))","v":""},{"$f":"IF('Outil Recensement'!BD18=\"Yes\",\"Yes\",IF('Outil Recensement'!BD18=\"No\",\"No\",IF('Outil Recensement'!BD18=\"Y\",\"Yes\",IF('Outil Recensement'!BD18=\"N\",\"No\",\"\"))))","v":""},{"$f":"IF('Outil Recensement'!BE18>0,'Outil Recensement'!BE18,\"\")","v":""},{"$f":"IF('Outil Recensement'!BF18>0,'Outil Recensement'!BF18,\"\")","v":""},{"$f":"IF('Outil Recensement'!BG18>0,'Outil Recensement'!BG18,\"\")","v":""},{"$f":"IF('Outil Recensement'!BH18=\"Male\",\"Male\",IF('Outil Recensement'!BH18=\"Female\",\"Female\",IF('Outil Recensement'!BH18=\"M\",\"Male\",IF('Outil Recensement'!BH18=\"F\",\"Female\",\"\"))))","v":""},{"$f":"IF('Outil Recensement'!BI18=\"Yes\",\"Yes\",IF('Outil Recensement'!BI18=\"No\",\"No\",IF('Outil Recensement'!BI18=\"Y\",\"Yes\",IF('Outil Recensement'!BI18=\"N\",\"No\",\"\"))))","v":""},{"$f":"IF('Outil Recensement'!BJ18=\"Yes\",\"Yes\",IF('Outil Recensement'!BJ18=\"No\",\"No\",IF('Outil Recensement'!BJ18=\"Y\",\"Yes\",IF('Outil Recensement'!BJ18=\"N\",\"No\",\"\"))))","v":""},{"$f":"IF('Outil Recensement'!BK18>0,'Outil Recensement'!BK18,\"\")","v":""},{"$f":"IF('Outil Recensement'!BL18>0,'Outil Recensement'!BL18,\"\")","v":""},{"$f":"IF('Outil Recensement'!BM18>0,'Outil Recensement'!BM18,\"\")","v":""},{"$f":"IF('Outil Recensement'!BN18=\"Male\",\"Male\",IF('Outil Recensement'!BN18=\"Female\",\"Female\",IF('Outil Recensement'!BN18=\"M\",\"Male\",IF('Outil Recensement'!BN18=\"F\",\"Female\",\"\"))))","v":""},{"$f":"IF('Outil Recensement'!BO18=\"Yes\",\"Yes\",IF('Outil Recensement'!BO18=\"No\",\"No\",IF('Outil Recensement'!BO18=\"Y\",\"Yes\",IF('Outil Recensement'!BO18=\"N\",\"No\",\"\"))))","v":""},{"$f":"IF('Outil Recensement'!BP18=\"Yes\",\"Yes\",IF('Outil Recensement'!BP18=\"No\",\"No\",IF('Outil Recensement'!BP18=\"Y\",\"Yes\",IF('Outil Recensement'!BP18=\"N\",\"No\",\"\"))))","v":""},{"$f":"IF('Outil Recensement'!BQ18>0,'Outil Recensement'!BQ18,\"\")","v":""},{"$f":"IF('Outil Recensement'!BR18>0,'Outil Recensement'!BR18,\"\")","v":""},{"$f":"IF('Outil Recensement'!BS18>0,'Outil Recensement'!BS18,\"\")","v":""},{"$f":"IF('Outil Recensement'!BT18=\"Male\",\"Male\",IF('Outil Recensement'!BT18=\"Female\",\"Female\",IF('Outil Recensement'!BT18=\"M\",\"Male\",IF('Outil Recensement'!BT18=\"F\",\"Female\",\"\"))))","v":""},{"$f":"IF('Outil Recensement'!BU18=\"Yes\",\"Yes\",IF('Outil Recensement'!BU18=\"No\",\"No\",IF('Outil Recensement'!BU18=\"Y\",\"Yes\",IF('Outil Recensement'!BU18=\"N\",\"No\",\"\"))))","v":""},{"$f":"IF('Outil Recensement'!BV18=\"Yes\",\"Yes\",IF('Outil Recensement'!BV18=\"No\",\"No\",IF('Outil Recensement'!BV18=\"Y\",\"Yes\",IF('Outil Recensement'!BV18=\"N\",\"No\",\"\"))))","v":""},{"$f":"IF('Outil Recensement'!BW18>0,'Outil Recensement'!BW18,\"\")","v":""},{"$f":"IF('Outil Recensement'!BX18>0,'Outil Recensement'!BX18,\"\")","v":""},{"$f":"IF('Outil Recensement'!BY18>0,'Outil Recensement'!BY18,\"\")","v":""},{"$f":"IF('Outil Recensement'!BZ18=\"Male\",\"Male\",IF('Outil Recensement'!BZ18=\"Female\",\"Female\",IF('Outil Recensement'!BZ18=\"M\",\"Male\",IF('Outil Recensement'!BZ18=\"F\",\"Female\",\"\"))))","v":""},{"$f":"IF('Outil Recensement'!CA18=\"Yes\",\"Yes\",IF('Outil Recensement'!CA18=\"No\",\"No\",IF('Outil Recensement'!CA18=\"Y\",\"Yes\",IF('Outil Recensement'!CA18=\"N\",\"No\",\"\"))))","v":""},{"$f":"IF('Outil Recensement'!CB18=\"Yes\",\"Yes\",IF('Outil Recensement'!CB18=\"No\",\"No\",IF('Outil Recensement'!CB18=\"Y\",\"Yes\",IF('Outil Recensement'!CB18=\"N\",\"No\",\"\"))))","v":""},{"$f":"IF('Outil Recensement'!CH18>0,'Outil Recensement'!CH18,\"\")","v":""}]
[{"$f":"IF('Outil Recensement'!A19>0,'Outil Recensement'!A19,\"\")","v":""},{"$f":"IF('Outil Recensement'!B19>0,'Outil Recensement'!B19,\"\")","v":""},{"$f":"IF('Outil Recensement'!C19>0,'Outil Recensement'!C19,\"\")","v":""},{"$f":"IF('Outil Recensement'!D19>0,'Outil Recensement'!D19,\"\")","v":""},{"$f":"IF('Outil Recensement'!P19>0,TEXT('Outil Recensement'!P19,\"000\"),\"\")","v":""},{"$f":"IF('Outil Recensement'!Q19>0,'Outil Recensement'!Q19,\"\")","v":""},{"$f":"IF('Outil Recensement'!R19>0,'Outil Recensement'!R19,\"\")","v":""},{"$f":"IF('Outil Recensement'!F19>0,DATEVALUE(TEXT('Outil Recensement'!F19,\"yyyy-mm-dd\")),\"\")","v":""},{"$f":"IF('Outil Recensement'!L19>0,DATEVALUE(TEXT('Outil Recensement'!L19,\"yyyy-mm-dd\")),\"\")","v":""},{"$f":"IF('Outil Recensement'!Y19>0,'Outil Recensement'!Y19,\"\")","v":""},{"$f":"IF('Outil Recensement'!T19>0,'Outil Recensement'!T19,\"\")","v":""},{"$f":"IF('Outil Recensement'!G19=\"Homme\",\"Male\",IF('Outil Recensement'!G19=\"Femme\",\"Female\",IF('Outil Recensement'!G19=\"H\",\"Male\",IF('Outil Recensement'!G19=\"F\",\"Female\",\"\"))))","v":""},{"$f":"IF('Outil Recensement'!U19=\"Yes\",\"Yes\",IF('Outil Recensement'!U19=\"No\",\"No\",IF('Outil Recensement'!U19=\"Y\",\"Yes\",IF('Outil Recensement'!U19=\"N\",\"No\",\"\"))))","v":""},{"$f":"IF('Outil Recensement'!I19=\"Individuelle\",\"Single\",IF('Outil Recensement'!I19=\"Familiale\",\"Family\",IF('Outil Recensement'!I19=\"Refus\",\"Family\",IF('Outil Recensement'!I19=\"Parent seul\",\"Family\",IF('Outil Recensement'!I19=\"Couple\",\"Family\",IF('Outil Recensement'!I19=\"In force\",\"Family\",IF('Outil Recensement'!I19=\"Applies\",\"Family\",IF('Outil Recensement'!I19=\"Applicable\",\"Family\",\"\"))))))))","v":""},{"$f":"IF('Outil Recensement'!AC19=\"Anglais\",\"English\",IF('Outil Recensement'!AC19=\"Français\",\"French\",IF('Outil Recensement'!AC19=\"A\",\"English\",IF('Outil Recensement'!AC19=\"F\",\"French\",\"\"))))","v":""},{"$f":"IF('Outil Recensement'!AB19=\"Oui\",\"Yes\",IF('Outil Recensement'!AB19=\"Non\",\"No\",IF('Outil Recensement'!AB19=\"O\",\"Yes\",IF('Outil Recensement'!AB19=\"N\",\"No\",\"\"))))","v":""},{"$f":"IF('Outil Recensement'!AD19>0,'Outil Recensement'!AD19,\"\")","v":""},{"$f":"IF('Outil Recensement'!M19=\"Annuel\",\"Annually\",IF('Outil Recensement'!M19=\"Mensuel\",\"Monthly\",IF('Outil Recensement'!M19=\"Bihebdomadaire\",\"Biweekly\",IF('Outil Recensement'!M19=\"Hebdomadaire\",\"Weekly\",IF('Outil Recensement'!M19=\"Horaire\",\"Hourly\",IF('Outil Recensement'!M19=\"Semi-mensuel\",\"Semi-monthly\",IF('Outil Recensement'!M19=\"Applies\",\"Annual\",IF('Outil Recensement'!M19=\"Applicable\",\"Annual\",\"\"))))))))","v":""},{"$f":"IF('Outil Recensement'!N19>0,'Outil Recensement'!N19,\"\")","v":""},{"$f":"IF('Outil Recensement'!O19>0,'Outil Recensement'!O19,\"\")","v":""},{"$f":"IF('Outil Recensement'!I19=\"Refus\",\"Yes\",\"\")","v":""},{"$f":"IF('Outil Recensement'!I19=\"Refus\",\"Yes\",\"\")","v":""},{"$f":"IF('Outil Recensement'!AE19>0,'Outil Recensement'!AE19,\"\")","v":""},{"$f":"IF('Outil Recensement'!AF19>0,'Outil Recensement'!AF19,\"\")","v":""},{"$f":"IF('Outil Recensement'!AG19>0,'Outil Recensement'!AG19,\"\")","v":""},{"$f":"IF('Outil Recensement'!AH19>0,'Outil Recensement'!AH19,\"\")","v":""},{"$f":"IF('Outil Recensement'!AI19>0,'Outil Recensement'!AI19,\"\")","v":" "},{"$f":"IF('Outil Recensement'!AJ19>0,'Outil Recensement'!AJ19,\"\")","v":" "},{"$f":"IF('Outil Recensement'!W19>0,'Outil Recensement'!W19&\" \",\"\")&IF('Outil Recensement'!V19>0,'Outil Recensement'!V19,\"\")","v":""},null,{"$f":"IF('Outil Recensement'!X19>0,'Outil Recensement'!X19,\"\")","v":""},{"$f":"IF('Outil Recensement'!Y19>0,'Outil Recensement'!Y19,\"\")","v":""},{"$f":"IF('Outil Recensement'!Z19>0,'Outil Recensement'!Z19,\"\")","v":""},{"$f":"IF('Outil Recensement'!AA19>0,'Outil Recensement'!AA19,\"\")","v":""},{"$f":"IF('Outil Recensement'!E19>0,'Outil Recensement'!E19,\"\")","v":""},{"$f":"IF('Outil Recensement'!AK19>0,'Outil Recensement'!AK19,\"\")","v":""},{"$f":"IF('Outil Recensement'!AL19>0,'Outil Recensement'!AL19,\"\")","v":""},{"$f":"IF('Outil Recensement'!AM19>0,'Outil Recensement'!AM19,\"\")","v":""},{"$f":"IF('Outil Recensement'!AN19=\"Male\",\"Male\",IF('Outil Recensement'!AN19=\"Female\",\"Female\",IF('Outil Recensement'!AN19=\"M\",\"Male\",IF('Outil Recensement'!AN19=\"F\",\"Female\",\"\"))))","v":""},{"$f":"IF('Outil Recensement'!AO19=\"Single\",\"Single\",IF('Outil Recensement'!AO19=\"Family\",\"Family\",IF('Outil Recensement'!AO19=\"S\",\"Single\",IF('Outil Recensement'!AO19=\"F\",\"Family\",\"\"))))","v":""},{"$f":"IF('Outil Recensement'!AP19=\"Single\",\"Single\",IF('Outil Recensement'!AP19=\"Family\",\"Family\",IF('Outil Recensement'!AP19=\"S\",\"Single\",IF('Outil Recensement'!AP19=\"F\",\"Family\",\"\"))))","v":""},{"$f":"IF('Outil Recensement'!AQ19>0,'Outil Recensement'!AQ19,\"\")","v":""},{"$f":"IF('Outil Recensement'!AR19=\"Yes\",\"Yes\",IF('Outil Recensement'!AR19=\"No\",\"No\",IF('Outil Recensement'!AR19=\"Y\",\"Yes\",IF('Outil Recensement'!AR19=\"N\",\"No\",\"\"))))","v":""},{"$f":"IF('Outil Recensement'!AS19>0,'Outil Recensement'!AS19,\"\")","v":""},{"$f":"IF('Outil Recensement'!AT19>0,'Outil Recensement'!AT19,\"\")","v":""},{"$f":"IF('Outil Recensement'!AU19>0,'Outil Recensement'!AU19,\"\")","v":""},{"$f":"IF('Outil Recensement'!AV19=\"Male\",\"Male\",IF('Outil Recensement'!AV19=\"Female\",\"Female\",IF('Outil Recensement'!AV19=\"M\",\"Male\",IF('Outil Recensement'!AV19=\"F\",\"Female\",\"\"))))","v":""},{"$f":"IF('Outil Recensement'!AW19=\"Yes\",\"Yes\",IF('Outil Recensement'!AW19=\"No\",\"No\",IF('Outil Recensement'!AW19=\"Y\",\"Yes\",IF('Outil Recensement'!AW19=\"N\",\"No\",\"\"))))","v":""},{"$f":"IF('Outil Recensement'!AX19=\"Yes\",\"Yes\",IF('Outil Recensement'!AX19=\"No\",\"No\",IF('Outil Recensement'!AX19=\"Y\",\"Yes\",IF('Outil Recensement'!AX19=\"N\",\"No\",\"\"))))","v":""},{"$f":"IF('Outil Recensement'!AY19>0,'Outil Recensement'!AY19,\"\")","v":""},{"$f":"IF('Outil Recensement'!AZ19>0,'Outil Recensement'!AZ19,\"\")","v":""},{"$f":"IF('Outil Recensement'!BA19>0,'Outil Recensement'!BA19,\"\")","v":""},{"$f":"IF('Outil Recensement'!BB19=\"Male\",\"Male\",IF('Outil Recensement'!BB19=\"Female\",\"Female\",IF('Outil Recensement'!BB19=\"M\",\"Male\",IF('Outil Recensement'!BB19=\"F\",\"Female\",\"\"))))","v":""},{"$f":"IF('Outil Recensement'!BC19=\"Yes\",\"Yes\",IF('Outil Recensement'!BC19=\"No\",\"No\",IF('Outil Recensement'!BC19=\"Y\",\"Yes\",IF('Outil Recensement'!BC19=\"N\",\"No\",\"\"))))","v":""},{"$f":"IF('Outil Recensement'!BD19=\"Yes\",\"Yes\",IF('Outil Recensement'!BD19=\"No\",\"No\",IF('Outil Recensement'!BD19=\"Y\",\"Yes\",IF('Outil Recensement'!BD19=\"N\",\"No\",\"\"))))","v":""},{"$f":"IF('Outil Recensement'!BE19>0,'Outil Recensement'!BE19,\"\")","v":""},{"$f":"IF('Outil Recensement'!BF19>0,'Outil Recensement'!BF19,\"\")","v":""},{"$f":"IF('Outil Recensement'!BG19>0,'Outil Recensement'!BG19,\"\")","v":""},{"$f":"IF('Outil Recensement'!BH19=\"Male\",\"Male\",IF('Outil Recensement'!BH19=\"Female\",\"Female\",IF('Outil Recensement'!BH19=\"M\",\"Male\",IF('Outil Recensement'!BH19=\"F\",\"Female\",\"\"))))","v":""},{"$f":"IF('Outil Recensement'!BI19=\"Yes\",\"Yes\",IF('Outil Recensement'!BI19=\"No\",\"No\",IF('Outil Recensement'!BI19=\"Y\",\"Yes\",IF('Outil Recensement'!BI19=\"N\",\"No\",\"\"))))","v":""},{"$f":"IF('Outil Recensement'!BJ19=\"Yes\",\"Yes\",IF('Outil Recensement'!BJ19=\"No\",\"No\",IF('Outil Recensement'!BJ19=\"Y\",\"Yes\",IF('Outil Recensement'!BJ19=\"N\",\"No\",\"\"))))","v":""},{"$f":"IF('Outil Recensement'!BK19>0,'Outil Recensement'!BK19,\"\")","v":""},{"$f":"IF('Outil Recensement'!BL19>0,'Outil Recensement'!BL19,\"\")","v":""},{"$f":"IF('Outil Recensement'!BM19>0,'Outil Recensement'!BM19,\"\")","v":""},{"$f":"IF('Outil Recensement'!BN19=\"Male\",\"Male\",IF('Outil Recensement'!BN19=\"Female\",\"Female\",IF('Outil Recensement'!BN19=\"M\",\"Male\",IF('Outil Recensement'!BN19=\"F\",\"Female\",\"\"))))","v":""},{"$f":"IF('Outil Recensement'!BO19=\"Yes\",\"Yes\",IF('Outil Recensement'!BO19=\"No\",\"No\",IF('Outil Recensement'!BO19=\"Y\",\"Yes\",IF('Outil Recensement'!BO19=\"N\",\"No\",\"\"))))","v":""},{"$f":"IF('Outil Recensement'!BP19=\"Yes\",\"Yes\",IF('Outil Recensement'!BP19=\"No\",\"No\",IF('Outil Recensement'!BP19=\"Y\",\"Yes\",IF('Outil Recensement'!BP19=\"N\",\"No\",\"\"))))","v":""},{"$f":"IF('Outil Recensement'!BQ19>0,'Outil Recensement'!BQ19,\"\")","v":""},{"$f":"IF('Outil Recensement'!BR19>0,'Outil Recensement'!BR19,\"\")","v":""},{"$f":"IF('Outil Recensement'!BS19>0,'Outil Recensement'!BS19,\"\")","v":""},{"$f":"IF('Outil Recensement'!BT19=\"Male\",\"Male\",IF('Outil Recensement'!BT19=\"Female\",\"Female\",IF('Outil Recensement'!BT19=\"M\",\"Male\",IF('Outil Recensement'!BT19=\"F\",\"Female\",\"\"))))","v":""},{"$f":"IF('Outil Recensement'!BU19=\"Yes\",\"Yes\",IF('Outil Recensement'!BU19=\"No\",\"No\",IF('Outil Recensement'!BU19=\"Y\",\"Yes\",IF('Outil Recensement'!BU19=\"N\",\"No\",\"\"))))","v":""},{"$f":"IF('Outil Recensement'!BV19=\"Yes\",\"Yes\",IF('Outil Recensement'!BV19=\"No\",\"No\",IF('Outil Recensement'!BV19=\"Y\",\"Yes\",IF('Outil Recensement'!BV19=\"N\",\"No\",\"\"))))","v":""},{"$f":"IF('Outil Recensement'!BW19>0,'Outil Recensement'!BW19,\"\")","v":""},{"$f":"IF('Outil Recensement'!BX19>0,'Outil Recensement'!BX19,\"\")","v":""},{"$f":"IF('Outil Recensement'!BY19>0,'Outil Recensement'!BY19,\"\")","v":""},{"$f":"IF('Outil Recensement'!BZ19=\"Male\",\"Male\",IF('Outil Recensement'!BZ19=\"Female\",\"Female\",IF('Outil Recensement'!BZ19=\"M\",\"Male\",IF('Outil Recensement'!BZ19=\"F\",\"Female\",\"\"))))","v":""},{"$f":"IF('Outil Recensement'!CA19=\"Yes\",\"Yes\",IF('Outil Recensement'!CA19=\"No\",\"No\",IF('Outil Recensement'!CA19=\"Y\",\"Yes\",IF('Outil Recensement'!CA19=\"N\",\"No\",\"\"))))","v":""},{"$f":"IF('Outil Recensement'!CB19=\"Yes\",\"Yes\",IF('Outil Recensement'!CB19=\"No\",\"No\",IF('Outil Recensement'!CB19=\"Y\",\"Yes\",IF('Outil Recensement'!CB19=\"N\",\"No\",\"\"))))","v":""},{"$f":"IF('Outil Recensement'!CH19>0,'Outil Recensement'!CH19,\"\")","v":""}]
[{"$f":"IF('Outil Recensement'!A20>0,'Outil Recensement'!A20,\"\")","v":""},{"$f":"IF('Outil Recensement'!B20>0,'Outil Recensement'!B20,\"\")","v":""},{"$f":"IF('Outil Recensement'!C20>0,'Outil Recensement'!C20,\"\")","v":""},{"$f":"IF('Outil Recensement'!D20>0,'Outil Recensement'!D20,\"\")","v":""},{"$f":"IF('Outil Recensement'!P20>0,TEXT('Outil Recensement'!P20,\"000\"),\"\")","v":""},{"$f":"IF('Outil Recensement'!Q20>0,'Outil Recensement'!Q20,\"\")","v":""},{"$f":"IF('Outil Recensement'!R20>0,'Outil Recensement'!R20,\"\")","v":""},{"$f":"IF('Outil Recensement'!F20>0,DATEVALUE(TEXT('Outil Recensement'!F20,\"yyyy-mm-dd\")),\"\")","v":""},{"$f":"IF('Outil Recensement'!L20>0,DATEVALUE(TEXT('Outil Recensement'!L20,\"yyyy-mm-dd\")),\"\")","v":""},{"$f":"IF('Outil Recensement'!Y20>0,'Outil Recensement'!Y20,\"\")","v":""},{"$f":"IF('Outil Recensement'!T20>0,'Outil Recensement'!T20,\"\")","v":""},{"$f":"IF('Outil Recensement'!G20=\"Homme\",\"Male\",IF('Outil Recensement'!G20=\"Femme\",\"Female\",IF('Outil Recensement'!G20=\"H\",\"Male\",IF('Outil Recensement'!G20=\"F\",\"Female\",\"\"))))","v":""},{"$f":"IF('Outil Recensement'!U20=\"Yes\",\"Yes\",IF('Outil Recensement'!U20=\"No\",\"No\",IF('Outil Recensement'!U20=\"Y\",\"Yes\",IF('Outil Recensement'!U20=\"N\",\"No\",\"\"))))","v":""},{"$f":"IF('Outil Recensement'!I20=\"Individuelle\",\"Single\",IF('Outil Recensement'!I20=\"Familiale\",\"Family\",IF('Outil Recensement'!I20=\"Refus\",\"Family\",IF('Outil Recensement'!I20=\"Parent seul\",\"Family\",IF('Outil Recensement'!I20=\"Couple\",\"Family\",IF('Outil Recensement'!I20=\"In force\",\"Family\",IF('Outil Recensement'!I20=\"Applies\",\"Family\",IF('Outil Recensement'!I20=\"Applicable\",\"Family\",\"\"))))))))","v":""},{"$f":"IF('Outil Recensement'!AC20=\"Anglais\",\"English\",IF('Outil Recensement'!AC20=\"Français\",\"French\",IF('Outil Recensement'!AC20=\"A\",\"English\",IF('Outil Recensement'!AC20=\"F\",\"French\",\"\"))))","v":""},{"$f":"IF('Outil Recensement'!AB20=\"Oui\",\"Yes\",IF('Outil Recensement'!AB20=\"Non\",\"No\",IF('Outil Recensement'!AB20=\"O\",\"Yes\",IF('Outil Recensement'!AB20=\"N\",\"No\",\"\"))))","v":""},{"$f":"IF('Outil Recensement'!AD20>0,'Outil Recensement'!AD20,\"\")","v":""},{"$f":"IF('Outil Recensement'!M20=\"Annuel\",\"Annually\",IF('Outil Recensement'!M20=\"Mensuel\",\"Monthly\",IF('Outil Recensement'!M20=\"Bihebdomadaire\",\"Biweekly\",IF('Outil Recensement'!M20=\"Hebdomadaire\",\"Weekly\",IF('Outil Recensement'!M20=\"Horaire\",\"Hourly\",IF('Outil Recensement'!M20=\"Semi-mensuel\",\"Semi-monthly\",IF('Outil Recensement'!M20=\"Applies\",\"Annual\",IF('Outil Recensement'!M20=\"Applicable\",\"Annual\",\"\"))))))))","v":""},{"$f":"IF('Outil Recensement'!N20>0,'Outil Recensement'!N20,\"\")","v":""},{"$f":"IF('Outil Recensement'!O20>0,'Outil Recensement'!O20,\"\")","v":""},{"$f":"IF('Outil Recensement'!I20=\"Refus\",\"Yes\",\"\")","v":""},{"$f":"IF('Outil Recensement'!I20=\"Refus\",\"Yes\",\"\")","v":""},{"$f":"IF('Outil Recensement'!AE20>0,'Outil Recensement'!AE20,\"\")","v":""},{"$f":"IF('Outil Recensement'!AF20>0,'Outil Recensement'!AF20,\"\")","v":""},{"$f":"IF('Outil Recensement'!AG20>0,'Outil Recensement'!AG20,\"\")","v":""},{"$f":"IF('Outil Recensement'!AH20>0,'Outil Recensement'!AH20,\"\")","v":""},{"$f":"IF('Outil Recensement'!AI20>0,'Outil Recensement'!AI20,\"\")","v":" "},{"$f":"IF('Outil Recensement'!AJ20>0,'Outil Recensement'!AJ20,\"\")","v":" "},{"$f":"IF('Outil Recensement'!W20>0,'Outil Recensement'!W20&\" \",\"\")&IF('Outil Recensement'!V20>0,'Outil Recensement'!V20,\"\")","v":""},null,{"$f":"IF('Outil Recensement'!X20>0,'Outil Recensement'!X20,\"\")","v":""},{"$f":"IF('Outil Recensement'!Y20>0,'Outil Recensement'!Y20,\"\")","v":""},{"$f":"IF('Outil Recensement'!Z20>0,'Outil Recensement'!Z20,\"\")","v":""},{"$f":"IF('Outil Recensement'!AA20>0,'Outil Recensement'!AA20,\"\")","v":""},{"$f":"IF('Outil Recensement'!E20>0,'Outil Recensement'!E20,\"\")","v":""},{"$f":"IF('Outil Recensement'!AK20>0,'Outil Recensement'!AK20,\"\")","v":""},{"$f":"IF('Outil Recensement'!AL20>0,'Outil Recensement'!AL20,\"\")","v":""},{"$f":"IF('Outil Recensement'!AM20>0,'Outil Recensement'!AM20,\"\")","v":""},{"$f":"IF('Outil Recensement'!AN20=\"Male\",\"Male\",IF('Outil Recensement'!AN20=\"Female\",\"Female\",IF('Outil Recensement'!AN20=\"M\",\"Male\",IF('Outil Recensement'!AN20=\"F\",\"Female\",\"\"))))","v":""},{"$f":"IF('Outil Recensement'!AO20=\"Single\",\"Single\",IF('Outil Recensement'!AO20=\"Family\",\"Family\",IF('Outil Recensement'!AO20=\"S\",\"Single\",IF('Outil Recensement'!AO20=\"F\",\"Family\",\"\"))))","v":""},{"$f":"IF('Outil Recensement'!AP20=\"Single\",\"Single\",IF('Outil Recensement'!AP20=\"Family\",\"Family\",IF('Outil Recensement'!AP20=\"S\",\"Single\",IF('Outil Recensement'!AP20=\"F\",\"Family\",\"\"))))","v":""},{"$f":"IF('Outil Recensement'!AQ20>0,'Outil Recensement'!AQ20,\"\")","v":""},{"$f":"IF('Outil Recensement'!AR20=\"Yes\",\"Yes\",IF('Outil Recensement'!AR20=\"No\",\"No\",IF('Outil Recensement'!AR20=\"Y\",\"Yes\",IF('Outil Recensement'!AR20=\"N\",\"No\",\"\"))))","v":""},{"$f":"IF('Outil Recensement'!AS20>0,'Outil Recensement'!AS20,\"\")","v":""},{"$f":"IF('Outil Recensement'!AT20>0,'Outil Recensement'!AT20,\"\")","v":""},{"$f":"IF('Outil Recensement'!AU20>0,'Outil Recensement'!AU20,\"\")","v":""},{"$f":"IF('Outil Recensement'!AV20=\"Male\",\"Male\",IF('Outil Recensement'!AV20=\"Female\",\"Female\",IF('Outil Recensement'!AV20=\"M\",\"Male\",IF('Outil Recensement'!AV20=\"F\",\"Female\",\"\"))))","v":""},{"$f":"IF('Outil Recensement'!AW20=\"Yes\",\"Yes\",IF('Outil Recensement'!AW20=\"No\",\"No\",IF('Outil Recensement'!AW20=\"Y\",\"Yes\",IF('Outil Recensement'!AW20=\"N\",\"No\",\"\"))))","v":""},{"$f":"IF('Outil Recensement'!AX20=\"Yes\",\"Yes\",IF('Outil Recensement'!AX20=\"No\",\"No\",IF('Outil Recensement'!AX20=\"Y\",\"Yes\",IF('Outil Recensement'!AX20=\"N\",\"No\",\"\"))))","v":""},{"$f":"IF('Outil Recensement'!AY20>0,'Outil Recensement'!AY20,\"\")","v":""},{"$f":"IF('Outil Recensement'!AZ20>0,'Outil Recensement'!AZ20,\"\")","v":""},{"$f":"IF('Outil Recensement'!BA20>0,'Outil Recensement'!BA20,\"\")","v":""},{"$f":"IF('Outil Recensement'!BB20=\"Male\",\"Male\",IF('Outil Recensement'!BB20=\"Female\",\"Female\",IF('Outil Recensement'!BB20=\"M\",\"Male\",IF('Outil Recensement'!BB20=\"F\",\"Female\",\"\"))))","v":""},{"$f":"IF('Outil Recensement'!BC20=\"Yes\",\"Yes\",IF('Outil Recensement'!BC20=\"No\",\"No\",IF('Outil Recensement'!BC20=\"Y\",\"Yes\",IF('Outil Recensement'!BC20=\"N\",\"No\",\"\"))))","v":""},{"$f":"IF('Outil Recensement'!BD20=\"Yes\",\"Yes\",IF('Outil Recensement'!BD20=\"No\",\"No\",IF('Outil Recensement'!BD20=\"Y\",\"Yes\",IF('Outil Recensement'!BD20=\"N\",\"No\",\"\"))))","v":""},{"$f":"IF('Outil Recensement'!BE20>0,'Outil Recensement'!BE20,\"\")","v":""},{"$f":"IF('Outil Recensement'!BF20>0,'Outil Recensement'!BF20,\"\")","v":""},{"$f":"IF('Outil Recensement'!BG20>0,'Outil Recensement'!BG20,\"\")","v":""},{"$f":"IF('Outil Recensement'!BH20=\"Male\",\"Male\",IF('Outil Recensement'!BH20=\"Female\",\"Female\",IF('Outil Recensement'!BH20=\"M\",\"Male\",IF('Outil Recensement'!BH20=\"F\",\"Female\",\"\"))))","v":""},{"$f":"IF('Outil Recensement'!BI20=\"Yes\",\"Yes\",IF('Outil Recensement'!BI20=\"No\",\"No\",IF('Outil Recensement'!BI20=\"Y\",\"Yes\",IF('Outil Recensement'!BI20=\"N\",\"No\",\"\"))))","v":""},{"$f":"IF('Outil Recensement'!BJ20=\"Yes\",\"Yes\",IF('Outil Recensement'!BJ20=\"No\",\"No\",IF('Outil Recensement'!BJ20=\"Y\",\"Yes\",IF('Outil Recensement'!BJ20=\"N\",\"No\",\"\"))))","v":""},{"$f":"IF('Outil Recensement'!BK20>0,'Outil Recensement'!BK20,\"\")","v":""},{"$f":"IF('Outil Recensement'!BL20>0,'Outil Recensement'!BL20,\"\")","v":""},{"$f":"IF('Outil Recensement'!BM20>0,'Outil Recensement'!BM20,\"\")","v":""},{"$f":"IF('Outil Recensement'!BN20=\"Male\",\"Male\",IF('Outil Recensement'!BN20=\"Female\",\"Female\",IF('Outil Recensement'!BN20=\"M\",\"Male\",IF('Outil Recensement'!BN20=\"F\",\"Female\",\"\"))))","v":""},{"$f":"IF('Outil Recensement'!BO20=\"Yes\",\"Yes\",IF('Outil Recensement'!BO20=\"No\",\"No\",IF('Outil Recensement'!BO20=\"Y\",\"Yes\",IF('Outil Recensement'!BO20=\"N\",\"No\",\"\"))))","v":""},{"$f":"IF('Outil Recensement'!BP20=\"Yes\",\"Yes\",IF('Outil Recensement'!BP20=\"No\",\"No\",IF('Outil Recensement'!BP20=\"Y\",\"Yes\",IF('Outil Recensement'!BP20=\"N\",\"No\",\"\"))))","v":""},{"$f":"IF('Outil Recensement'!BQ20>0,'Outil Recensement'!BQ20,\"\")","v":""},{"$f":"IF('Outil Recensement'!BR20>0,'Outil Recensement'!BR20,\"\")","v":""},{"$f":"IF('Outil Recensement'!BS20>0,'Outil Recensement'!BS20,\"\")","v":""},{"$f":"IF('Outil Recensement'!BT20=\"Male\",\"Male\",IF('Outil Recensement'!BT20=\"Female\",\"Female\",IF('Outil Recensement'!BT20=\"M\",\"Male\",IF('Outil Recensement'!BT20=\"F\",\"Female\",\"\"))))","v":""},{"$f":"IF('Outil Recensement'!BU20=\"Yes\",\"Yes\",IF('Outil Recensement'!BU20=\"No\",\"No\",IF('Outil Recensement'!BU20=\"Y\",\"Yes\",IF('Outil Recensement'!BU20=\"N\",\"No\",\"\"))))","v":""},{"$f":"IF('Outil Recensement'!BV20=\"Yes\",\"Yes\",IF('Outil Recensement'!BV20=\"No\",\"No\",IF('Outil Recensement'!BV20=\"Y\",\"Yes\",IF('Outil Recensement'!BV20=\"N\",\"No\",\"\"))))","v":""},{"$f":"IF('Outil Recensement'!BW20>0,'Outil Recensement'!BW20,\"\")","v":""},{"$f":"IF('Outil Recensement'!BX20>0,'Outil Recensement'!BX20,\"\")","v":""},{"$f":"IF('Outil Recensement'!BY20>0,'Outil Recensement'!BY20,\"\")","v":""},{"$f":"IF('Outil Recensement'!BZ20=\"Male\",\"Male\",IF('Outil Recensement'!BZ20=\"Female\",\"Female\",IF('Outil Recensement'!BZ20=\"M\",\"Male\",IF('Outil Recensement'!BZ20=\"F\",\"Female\",\"\"))))","v":""},{"$f":"IF('Outil Recensement'!CA20=\"Yes\",\"Yes\",IF('Outil Recensement'!CA20=\"No\",\"No\",IF('Outil Recensement'!CA20=\"Y\",\"Yes\",IF('Outil Recensement'!CA20=\"N\",\"No\",\"\"))))","v":""},{"$f":"IF('Outil Recensement'!CB20=\"Yes\",\"Yes\",IF('Outil Recensement'!CB20=\"No\",\"No\",IF('Outil Recensement'!CB20=\"Y\",\"Yes\",IF('Outil Recensement'!CB20=\"N\",\"No\",\"\"))))","v":""},{"$f":"IF('Outil Recensement'!CH20>0,'Outil Recensement'!CH20,\"\")","v":""}]
[{"$f":"IF('Outil Recensement'!A21>0,'Outil Recensement'!A21,\"\")","v":""},{"$f":"IF('Outil Recensement'!B21>0,'Outil Recensement'!B21,\"\")","v":""},{"$f":"IF('Outil Recensement'!C21>0,'Outil Recensement'!C21,\"\")","v":""},{"$f":"IF('Outil Recensement'!D21>0,'Outil Recensement'!D21,\"\")","v":""},{"$f":"IF('Outil Recensement'!P21>0,TEXT('Outil Recensement'!P21,\"000\"),\"\")","v":""},{"$f":"IF('Outil Recensement'!Q21>0,'Outil Recensement'!Q21,\"\")","v":""},{"$f":"IF('Outil Recensement'!R21>0,'Outil Recensement'!R21,\"\")","v":""},{"$f":"IF('Outil Recensement'!F21>0,DATEVALUE(TEXT('Outil Recensement'!F21,\"yyyy-mm-dd\")),\"\")","v":""},{"$f":"IF('Outil Recensement'!L21>0,DATEVALUE(TEXT('Outil Recensement'!L21,\"yyyy-mm-dd\")),\"\")","v":""},{"$f":"IF('Outil Recensement'!Y21>0,'Outil Recensement'!Y21,\"\")","v":""},{"$f":"IF('Outil Recensement'!T21>0,'Outil Recensement'!T21,\"\")","v":""},{"$f":"IF('Outil Recensement'!G21=\"Homme\",\"Male\",IF('Outil Recensement'!G21=\"Femme\",\"Female\",IF('Outil Recensement'!G21=\"H\",\"Male\",IF('Outil Recensement'!G21=\"F\",\"Female\",\"\"))))","v":""},{"$f":"IF('Outil Recensement'!U21=\"Yes\",\"Yes\",IF('Outil Recensement'!U21=\"No\",\"No\",IF('Outil Recensement'!U21=\"Y\",\"Yes\",IF('Outil Recensement'!U21=\"N\",\"No\",\"\"))))","v":""},{"$f":"IF('Outil Recensement'!I21=\"Individuelle\",\"Single\",IF('Outil Recensement'!I21=\"Familiale\",\"Family\",IF('Outil Recensement'!I21=\"Refus\",\"Family\",IF('Outil Recensement'!I21=\"Parent seul\",\"Family\",IF('Outil Recensement'!I21=\"Couple\",\"Family\",IF('Outil Recensement'!I21=\"In force\",\"Family\",IF('Outil Recensement'!I21=\"Applies\",\"Family\",IF('Outil Recensement'!I21=\"Applicable\",\"Family\",\"\"))))))))","v":""},{"$f":"IF('Outil Recensement'!AC21=\"Anglais\",\"English\",IF('Outil Recensement'!AC21=\"Français\",\"French\",IF('Outil Recensement'!AC21=\"A\",\"English\",IF('Outil Recensement'!AC21=\"F\",\"French\",\"\"))))","v":""},{"$f":"IF('Outil Recensement'!AB21=\"Oui\",\"Yes\",IF('Outil Recensement'!AB21=\"Non\",\"No\",IF('Outil Recensement'!AB21=\"O\",\"Yes\",IF('Outil Recensement'!AB21=\"N\",\"No\",\"\"))))","v":""},{"$f":"IF('Outil Recensement'!AD21>0,'Outil Recensement'!AD21,\"\")","v":""},{"$f":"IF('Outil Recensement'!M21=\"Annuel\",\"Annually\",IF('Outil Recensement'!M21=\"Mensuel\",\"Monthly\",IF('Outil Recensement'!M21=\"Bihebdomadaire\",\"Biweekly\",IF('Outil Recensement'!M21=\"Hebdomadaire\",\"Weekly\",IF('Outil Recensement'!M21=\"Horaire\",\"Hourly\",IF('Outil Recensement'!M21=\"Semi-mensuel\",\"Semi-monthly\",IF('Outil Recensement'!M21=\"Applies\",\"Annual\",IF('Outil Recensement'!M21=\"Applicable\",\"Annual\",\"\"))))))))","v":""},{"$f":"IF('Outil Recensement'!N21>0,'Outil Recensement'!N21,\"\")","v":""},{"$f":"IF('Outil Recensement'!O21>0,'Outil Recensement'!O21,\"\")","v":""},{"$f":"IF('Outil Recensement'!I21=\"Refus\",\"Yes\",\"\")","v":""},{"$f":"IF('Outil Recensement'!I21=\"Refus\",\"Yes\",\"\")","v":""},{"$f":"IF('Outil Recensement'!AE21>0,'Outil Recensement'!AE21,\"\")","v":""},{"$f":"IF('Outil Recensement'!AF21>0,'Outil Recensement'!AF21,\"\")","v":""},{"$f":"IF('Outil Recensement'!AG21>0,'Outil Recensement'!AG21,\"\")","v":""},{"$f":"IF('Outil Recensement'!AH21>0,'Outil Recensement'!AH21,\"\")","v":""},{"$f":"IF('Outil Recensement'!AI21>0,'Outil Recensement'!AI21,\"\")","v":" "},{"$f":"IF('Outil Recensement'!AJ21>0,'Outil Recensement'!AJ21,\"\")","v":" "},{"$f":"IF('Outil Recensement'!W21>0,'Outil Recensement'!W21&\" \",\"\")&IF('Outil Recensement'!V21>0,'Outil Recensement'!V21,\"\")","v":""},null,{"$f":"IF('Outil Recensement'!X21>0,'Outil Recensement'!X21,\"\")","v":""},{"$f":"IF('Outil Recensement'!Y21>0,'Outil Recensement'!Y21,\"\")","v":""},{"$f":"IF('Outil Recensement'!Z21>0,'Outil Recensement'!Z21,\"\")","v":""},{"$f":"IF('Outil Recensement'!AA21>0,'Outil Recensement'!AA21,\"\")","v":""},{"$f":"IF('Outil Recensement'!E21>0,'Outil Recensement'!E21,\"\")","v":""},{"$f":"IF('Outil Recensement'!AK21>0,'Outil Recensement'!AK21,\"\")","v":""},{"$f":"IF('Outil Recensement'!AL21>0,'Outil Recensement'!AL21,\"\")","v":""},{"$f":"IF('Outil Recensement'!AM21>0,'Outil Recensement'!AM21,\"\")","v":""},{"$f":"IF('Outil Recensement'!AN21=\"Male\",\"Male\",IF('Outil Recensement'!AN21=\"Female\",\"Female\",IF('Outil Recensement'!AN21=\"M\",\"Male\",IF('Outil Recensement'!AN21=\"F\",\"Female\",\"\"))))","v":""},{"$f":"IF('Outil Recensement'!AO21=\"Single\",\"Single\",IF('Outil Recensement'!AO21=\"Family\",\"Family\",IF('Outil Recensement'!AO21=\"S\",\"Single\",IF('Outil Recensement'!AO21=\"F\",\"Family\",\"\"))))","v":""},{"$f":"IF('Outil Recensement'!AP21=\"Single\",\"Single\",IF('Outil Recensement'!AP21=\"Family\",\"Family\",IF('Outil Recensement'!AP21=\"S\",\"Single\",IF('Outil Recensement'!AP21=\"F\",\"Family\",\"\"))))","v":""},{"$f":"IF('Outil Recensement'!AQ21>0,'Outil Recensement'!AQ21,\"\")","v":""},{"$f":"IF('Outil Recensement'!AR21=\"Yes\",\"Yes\",IF('Outil Recensement'!AR21=\"No\",\"No\",IF('Outil Recensement'!AR21=\"Y\",\"Yes\",IF('Outil Recensement'!AR21=\"N\",\"No\",\"\"))))","v":""},{"$f":"IF('Outil Recensement'!AS21>0,'Outil Recensement'!AS21,\"\")","v":""},{"$f":"IF('Outil Recensement'!AT21>0,'Outil Recensement'!AT21,\"\")","v":""},{"$f":"IF('Outil Recensement'!AU21>0,'Outil Recensement'!AU21,\"\")","v":""},{"$f":"IF('Outil Recensement'!AV21=\"Male\",\"Male\",IF('Outil Recensement'!AV21=\"Female\",\"Female\",IF('Outil Recensement'!AV21=\"M\",\"Male\",IF('Outil Recensement'!AV21=\"F\",\"Female\",\"\"))))","v":""},{"$f":"IF('Outil Recensement'!AW21=\"Yes\",\"Yes\",IF('Outil Recensement'!AW21=\"No\",\"No\",IF('Outil Recensement'!AW21=\"Y\",\"Yes\",IF('Outil Recensement'!AW21=\"N\",\"No\",\"\"))))","v":""},{"$f":"IF('Outil Recensement'!AX21=\"Yes\",\"Yes\",IF('Outil Recensement'!AX21=\"No\",\"No\",IF('Outil Recensement'!AX21=\"Y\",\"Yes\",IF('Outil Recensement'!AX21=\"N\",\"No\",\"\"))))","v":""},{"$f":"IF('Outil Recensement'!AY21>0,'Outil Recensement'!AY21,\"\")","v":""},{"$f":"IF('Outil Recensement'!AZ21>0,'Outil Recensement'!AZ21,\"\")","v":""},{"$f":"IF('Outil Recensement'!BA21>0,'Outil Recensement'!BA21,\"\")","v":""},{"$f":"IF('Outil Recensement'!BB21=\"Male\",\"Male\",IF('Outil Recensement'!BB21=\"Female\",\"Female\",IF('Outil Recensement'!BB21=\"M\",\"Male\",IF('Outil Recensement'!BB21=\"F\",\"Female\",\"\"))))","v":""},{"$f":"IF('Outil Recensement'!BC21=\"Yes\",\"Yes\",IF('Outil Recensement'!BC21=\"No\",\"No\",IF('Outil Recensement'!BC21=\"Y\",\"Yes\",IF('Outil Recensement'!BC21=\"N\",\"No\",\"\"))))","v":""},{"$f":"IF('Outil Recensement'!BD21=\"Yes\",\"Yes\",IF('Outil Recensement'!BD21=\"No\",\"No\",IF('Outil Recensement'!BD21=\"Y\",\"Yes\",IF('Outil Recensement'!BD21=\"N\",\"No\",\"\"))))","v":""},{"$f":"IF('Outil Recensement'!BE21>0,'Outil Recensement'!BE21,\"\")","v":""},{"$f":"IF('Outil Recensement'!BF21>0,'Outil Recensement'!BF21,\"\")","v":""},{"$f":"IF('Outil Recensement'!BG21>0,'Outil Recensement'!BG21,\"\")","v":""},{"$f":"IF('Outil Recensement'!BH21=\"Male\",\"Male\",IF('Outil Recensement'!BH21=\"Female\",\"Female\",IF('Outil Recensement'!BH21=\"M\",\"Male\",IF('Outil Recensement'!BH21=\"F\",\"Female\",\"\"))))","v":""},{"$f":"IF('Outil Recensement'!BI21=\"Yes\",\"Yes\",IF('Outil Recensement'!BI21=\"No\",\"No\",IF('Outil Recensement'!BI21=\"Y\",\"Yes\",IF('Outil Recensement'!BI21=\"N\",\"No\",\"\"))))","v":""},{"$f":"IF('Outil Recensement'!BJ21=\"Yes\",\"Yes\",IF('Outil Recensement'!BJ21=\"No\",\"No\",IF('Outil Recensement'!BJ21=\"Y\",\"Yes\",IF('Outil Recensement'!BJ21=\"N\",\"No\",\"\"))))","v":""},{"$f":"IF('Outil Recensement'!BK21>0,'Outil Recensement'!BK21,\"\")","v":""},{"$f":"IF('Outil Recensement'!BL21>0,'Outil Recensement'!BL21,\"\")","v":""},{"$f":"IF('Outil Recensement'!BM21>0,'Outil Recensement'!BM21,\"\")","v":""},{"$f":"IF('Outil Recensement'!BN21=\"Male\",\"Male\",IF('Outil Recensement'!BN21=\"Female\",\"Female\",IF('Outil Recensement'!BN21=\"M\",\"Male\",IF('Outil Recensement'!BN21=\"F\",\"Female\",\"\"))))","v":""},{"$f":"IF('Outil Recensement'!BO21=\"Yes\",\"Yes\",IF('Outil Recensement'!BO21=\"No\",\"No\",IF('Outil Recensement'!BO21=\"Y\",\"Yes\",IF('Outil Recensement'!BO21=\"N\",\"No\",\"\"))))","v":""},{"$f":"IF('Outil Recensement'!BP21=\"Yes\",\"Yes\",IF('Outil Recensement'!BP21=\"No\",\"No\",IF('Outil Recensement'!BP21=\"Y\",\"Yes\",IF('Outil Recensement'!BP21=\"N\",\"No\",\"\"))))","v":""},{"$f":"IF('Outil Recensement'!BQ21>0,'Outil Recensement'!BQ21,\"\")","v":""},{"$f":"IF('Outil Recensement'!BR21>0,'Outil Recensement'!BR21,\"\")","v":""},{"$f":"IF('Outil Recensement'!BS21>0,'Outil Recensement'!BS21,\"\")","v":""},{"$f":"IF('Outil Recensement'!BT21=\"Male\",\"Male\",IF('Outil Recensement'!BT21=\"Female\",\"Female\",IF('Outil Recensement'!BT21=\"M\",\"Male\",IF('Outil Recensement'!BT21=\"F\",\"Female\",\"\"))))","v":""},{"$f":"IF('Outil Recensement'!BU21=\"Yes\",\"Yes\",IF('Outil Recensement'!BU21=\"No\",\"No\",IF('Outil Recensement'!BU21=\"Y\",\"Yes\",IF('Outil Recensement'!BU21=\"N\",\"No\",\"\"))))","v":""},{"$f":"IF('Outil Recensement'!BV21=\"Yes\",\"Yes\",IF('Outil Recensement'!BV21=\"No\",\"No\",IF('Outil Recensement'!BV21=\"Y\",\"Yes\",IF('Outil Recensement'!BV21=\"N\",\"No\",\"\"))))","v":""},{"$f":"IF('Outil Recensement'!BW21>0,'Outil Recensement'!BW21,\"\")","v":""},{"$f":"IF('Outil Recensement'!BX21>0,'Outil Recensement'!BX21,\"\")","v":""},{"$f":"IF('Outil Recensement'!BY21>0,'Outil Recensement'!BY21,\"\")","v":""},{"$f":"IF('Outil Recensement'!BZ21=\"Male\",\"Male\",IF('Outil Recensement'!BZ21=\"Female\",\"Female\",IF('Outil Recensement'!BZ21=\"M\",\"Male\",IF('Outil Recensement'!BZ21=\"F\",\"Female\",\"\"))))","v":""},{"$f":"IF('Outil Recensement'!CA21=\"Yes\",\"Yes\",IF('Outil Recensement'!CA21=\"No\",\"No\",IF('Outil Recensement'!CA21=\"Y\",\"Yes\",IF('Outil Recensement'!CA21=\"N\",\"No\",\"\"))))","v":""},{"$f":"IF('Outil Recensement'!CB21=\"Yes\",\"Yes\",IF('Outil Recensement'!CB21=\"No\",\"No\",IF('Outil Recensement'!CB21=\"Y\",\"Yes\",IF('Outil Recensement'!CB21=\"N\",\"No\",\"\"))))","v":""},{"$f":"IF('Outil Recensement'!CH21>0,'Outil Recensement'!CH21,\"\")","v":""}]
[{"$f":"IF('Outil Recensement'!A22>0,'Outil Recensement'!A22,\"\")","v":""},{"$f":"IF('Outil Recensement'!B22>0,'Outil Recensement'!B22,\"\")","v":""},{"$f":"IF('Outil Recensement'!C22>0,'Outil Recensement'!C22,\"\")","v":""},{"$f":"IF('Outil Recensement'!D22>0,'Outil Recensement'!D22,\"\")","v":""},{"$f":"IF('Outil Recensement'!P22>0,TEXT('Outil Recensement'!P22,\"000\"),\"\")","v":""},{"$f":"IF('Outil Recensement'!Q22>0,'Outil Recensement'!Q22,\"\")","v":""},{"$f":"IF('Outil Recensement'!R22>0,'Outil Recensement'!R22,\"\")","v":""},{"$f":"IF('Outil Recensement'!F22>0,DATEVALUE(TEXT('Outil Recensement'!F22,\"yyyy-mm-dd\")),\"\")","v":""},{"$f":"IF('Outil Recensement'!L22>0,DATEVALUE(TEXT('Outil Recensement'!L22,\"yyyy-mm-dd\")),\"\")","v":""},{"$f":"IF('Outil Recensement'!Y22>0,'Outil Recensement'!Y22,\"\")","v":""},{"$f":"IF('Outil Recensement'!T22>0,'Outil Recensement'!T22,\"\")","v":""},{"$f":"IF('Outil Recensement'!G22=\"Homme\",\"Male\",IF('Outil Recensement'!G22=\"Femme\",\"Female\",IF('Outil Recensement'!G22=\"H\",\"Male\",IF('Outil Recensement'!G22=\"F\",\"Female\",\"\"))))","v":""},{"$f":"IF('Outil Recensement'!U22=\"Yes\",\"Yes\",IF('Outil Recensement'!U22=\"No\",\"No\",IF('Outil Recensement'!U22=\"Y\",\"Yes\",IF('Outil Recensement'!U22=\"N\",\"No\",\"\"))))","v":""},{"$f":"IF('Outil Recensement'!I22=\"Individuelle\",\"Single\",IF('Outil Recensement'!I22=\"Familiale\",\"Family\",IF('Outil Recensement'!I22=\"Refus\",\"Family\",IF('Outil Recensement'!I22=\"Parent seul\",\"Family\",IF('Outil Recensement'!I22=\"Couple\",\"Family\",IF('Outil Recensement'!I22=\"In force\",\"Family\",IF('Outil Recensement'!I22=\"Applies\",\"Family\",IF('Outil Recensement'!I22=\"Applicable\",\"Family\",\"\"))))))))","v":""},{"$f":"IF('Outil Recensement'!AC22=\"Anglais\",\"English\",IF('Outil Recensement'!AC22=\"Français\",\"French\",IF('Outil Recensement'!AC22=\"A\",\"English\",IF('Outil Recensement'!AC22=\"F\",\"French\",\"\"))))","v":""},{"$f":"IF('Outil Recensement'!AB22=\"Oui\",\"Yes\",IF('Outil Recensement'!AB22=\"Non\",\"No\",IF('Outil Recensement'!AB22=\"O\",\"Yes\",IF('Outil Recensement'!AB22=\"N\",\"No\",\"\"))))","v":""},{"$f":"IF('Outil Recensement'!AD22>0,'Outil Recensement'!AD22,\"\")","v":""},{"$f":"IF('Outil Recensement'!M22=\"Annuel\",\"Annually\",IF('Outil Recensement'!M22=\"Mensuel\",\"Monthly\",IF('Outil Recensement'!M22=\"Bihebdomadaire\",\"Biweekly\",IF('Outil Recensement'!M22=\"Hebdomadaire\",\"Weekly\",IF('Outil Recensement'!M22=\"Horaire\",\"Hourly\",IF('Outil Recensement'!M22=\"Semi-mensuel\",\"Semi-monthly\",IF('Outil Recensement'!M22=\"Applies\",\"Annual\",IF('Outil Recensement'!M22=\"Applicable\",\"Annual\",\"\"))))))))","v":""},{"$f":"IF('Outil Recensement'!N22>0,'Outil Recensement'!N22,\"\")","v":""},{"$f":"IF('Outil Recensement'!O22>0,'Outil Recensement'!O22,\"\")","v":""},{"$f":"IF('Outil Recensement'!I22=\"Refus\",\"Yes\",\"\")","v":""},{"$f":"IF('Outil Recensement'!I22=\"Refus\",\"Yes\",\"\")","v":""},{"$f":"IF('Outil Recensement'!AE22>0,'Outil Recensement'!AE22,\"\")","v":""},{"$f":"IF('Outil Recensement'!AF22>0,'Outil Recensement'!AF22,\"\")","v":""},{"$f":"IF('Outil Recensement'!AG22>0,'Outil Recensement'!AG22,\"\")","v":""},{"$f":"IF('Outil Recensement'!AH22>0,'Outil Recensement'!AH22,\"\")","v":""},{"$f":"IF('Outil Recensement'!AI22>0,'Outil Recensement'!AI22,\"\")","v":" "},{"$f":"IF('Outil Recensement'!AJ22>0,'Outil Recensement'!AJ22,\"\")","v":" "},{"$f":"IF('Outil Recensement'!W22>0,'Outil Recensement'!W22&\" \",\"\")&IF('Outil Recensement'!V22>0,'Outil Recensement'!V22,\"\")","v":""},null,{"$f":"IF('Outil Recensement'!X22>0,'Outil Recensement'!X22,\"\")","v":""},{"$f":"IF('Outil Recensement'!Y22>0,'Outil Recensement'!Y22,\"\")","v":""},{"$f":"IF('Outil Recensement'!Z22>0,'Outil Recensement'!Z22,\"\")","v":""},{"$f":"IF('Outil Recensement'!AA22>0,'Outil Recensement'!AA22,\"\")","v":""},{"$f":"IF('Outil Recensement'!E22>0,'Outil Recensement'!E22,\"\")","v":""},{"$f":"IF('Outil Recensement'!AK22>0,'Outil Recensement'!AK22,\"\")","v":""},{"$f":"IF('Outil Recensement'!AL22>0,'Outil Recensement'!AL22,\"\")","v":""},{"$f":"IF('Outil Recensement'!AM22>0,'Outil Recensement'!AM22,\"\")","v":""},{"$f":"IF('Outil Recensement'!AN22=\"Male\",\"Male\",IF('Outil Recensement'!AN22=\"Female\",\"Female\",IF('Outil Recensement'!AN22=\"M\",\"Male\",IF('Outil Recensement'!AN22=\"F\",\"Female\",\"\"))))","v":""},{"$f":"IF('Outil Recensement'!AO22=\"Single\",\"Single\",IF('Outil Recensement'!AO22=\"Family\",\"Family\",IF('Outil Recensement'!AO22=\"S\",\"Single\",IF('Outil Recensement'!AO22=\"F\",\"Family\",\"\"))))","v":""},{"$f":"IF('Outil Recensement'!AP22=\"Single\",\"Single\",IF('Outil Recensement'!AP22=\"Family\",\"Family\",IF('Outil Recensement'!AP22=\"S\",\"Single\",IF('Outil Recensement'!AP22=\"F\",\"Family\",\"\"))))","v":""},{"$f":"IF('Outil Recensement'!AQ22>0,'Outil Recensement'!AQ22,\"\")","v":""},{"$f":"IF('Outil Recensement'!AR22=\"Yes\",\"Yes\",IF('Outil Recensement'!AR22=\"No\",\"No\",IF('Outil Recensement'!AR22=\"Y\",\"Yes\",IF('Outil Recensement'!AR22=\"N\",\"No\",\"\"))))","v":""},{"$f":"IF('Outil Recensement'!AS22>0,'Outil Recensement'!AS22,\"\")","v":""},{"$f":"IF('Outil Recensement'!AT22>0,'Outil Recensement'!AT22,\"\")","v":""},{"$f":"IF('Outil Recensement'!AU22>0,'Outil Recensement'!AU22,\"\")","v":""},{"$f":"IF('Outil Recensement'!AV22=\"Male\",\"Male\",IF('Outil Recensement'!AV22=\"Female\",\"Female\",IF('Outil Recensement'!AV22=\"M\",\"Male\",IF('Outil Recensement'!AV22=\"F\",\"Female\",\"\"))))","v":""},{"$f":"IF('Outil Recensement'!AW22=\"Yes\",\"Yes\",IF('Outil Recensement'!AW22=\"No\",\"No\",IF('Outil Recensement'!AW22=\"Y\",\"Yes\",IF('Outil Recensement'!AW22=\"N\",\"No\",\"\"))))","v":""},{"$f":"IF('Outil Recensement'!AX22=\"Yes\",\"Yes\",IF('Outil Recensement'!AX22=\"No\",\"No\",IF('Outil Recensement'!AX22=\"Y\",\"Yes\",IF('Outil Recensement'!AX22=\"N\",\"No\",\"\"))))","v":""},{"$f":"IF('Outil Recensement'!AY22>0,'Outil Recensement'!AY22,\"\")","v":""},{"$f":"IF('Outil Recensement'!AZ22>0,'Outil Recensement'!AZ22,\"\")","v":""},{"$f":"IF('Outil Recensement'!BA22>0,'Outil Recensement'!BA22,\"\")","v":""},{"$f":"IF('Outil Recensement'!BB22=\"Male\",\"Male\",IF('Outil Recensement'!BB22=\"Female\",\"Female\",IF('Outil Recensement'!BB22=\"M\",\"Male\",IF('Outil Recensement'!BB22=\"F\",\"Female\",\"\"))))","v":""},{"$f":"IF('Outil Recensement'!BC22=\"Yes\",\"Yes\",IF('Outil Recensement'!BC22=\"No\",\"No\",IF('Outil Recensement'!BC22=\"Y\",\"Yes\",IF('Outil Recensement'!BC22=\"N\",\"No\",\"\"))))","v":""},{"$f":"IF('Outil Recensement'!BD22=\"Yes\",\"Yes\",IF('Outil Recensement'!BD22=\"No\",\"No\",IF('Outil Recensement'!BD22=\"Y\",\"Yes\",IF('Outil Recensement'!BD22=\"N\",\"No\",\"\"))))","v":""},{"$f":"IF('Outil Recensement'!BE22>0,'Outil Recensement'!BE22,\"\")","v":""},{"$f":"IF('Outil Recensement'!BF22>0,'Outil Recensement'!BF22,\"\")","v":""},{"$f":"IF('Outil Recensement'!BG22>0,'Outil Recensement'!BG22,\"\")","v":""},{"$f":"IF('Outil Recensement'!BH22=\"Male\",\"Male\",IF('Outil Recensement'!BH22=\"Female\",\"Female\",IF('Outil Recensement'!BH22=\"M\",\"Male\",IF('Outil Recensement'!BH22=\"F\",\"Female\",\"\"))))","v":""},{"$f":"IF('Outil Recensement'!BI22=\"Yes\",\"Yes\",IF('Outil Recensement'!BI22=\"No\",\"No\",IF('Outil Recensement'!BI22=\"Y\",\"Yes\",IF('Outil Recensement'!BI22=\"N\",\"No\",\"\"))))","v":""},{"$f":"IF('Outil Recensement'!BJ22=\"Yes\",\"Yes\",IF('Outil Recensement'!BJ22=\"No\",\"No\",IF('Outil Recensement'!BJ22=\"Y\",\"Yes\",IF('Outil Recensement'!BJ22=\"N\",\"No\",\"\"))))","v":""},{"$f":"IF('Outil Recensement'!BK22>0,'Outil Recensement'!BK22,\"\")","v":""},{"$f":"IF('Outil Recensement'!BL22>0,'Outil Recensement'!BL22,\"\")","v":""},{"$f":"IF('Outil Recensement'!BM22>0,'Outil Recensement'!BM22,\"\")","v":""},{"$f":"IF('Outil Recensement'!BN22=\"Male\",\"Male\",IF('Outil Recensement'!BN22=\"Female\",\"Female\",IF('Outil Recensement'!BN22=\"M\",\"Male\",IF('Outil Recensement'!BN22=\"F\",\"Female\",\"\"))))","v":""},{"$f":"IF('Outil Recensement'!BO22=\"Yes\",\"Yes\",IF('Outil Recensement'!BO22=\"No\",\"No\",IF('Outil Recensement'!BO22=\"Y\",\"Yes\",IF('Outil Recensement'!BO22=\"N\",\"No\",\"\"))))","v":""},{"$f":"IF('Outil Recensement'!BP22=\"Yes\",\"Yes\",IF('Outil Recensement'!BP22=\"No\",\"No\",IF('Outil Recensement'!BP22=\"Y\",\"Yes\",IF('Outil Recensement'!BP22=\"N\",\"No\",\"\"))))","v":""},{"$f":"IF('Outil Recensement'!BQ22>0,'Outil Recensement'!BQ22,\"\")","v":""},{"$f":"IF('Outil Recensement'!BR22>0,'Outil Recensement'!BR22,\"\")","v":""},{"$f":"IF('Outil Recensement'!BS22>0,'Outil Recensement'!BS22,\"\")","v":""},{"$f":"IF('Outil Recensement'!BT22=\"Male\",\"Male\",IF('Outil Recensement'!BT22=\"Female\",\"Female\",IF('Outil Recensement'!BT22=\"M\",\"Male\",IF('Outil Recensement'!BT22=\"F\",\"Female\",\"\"))))","v":""},{"$f":"IF('Outil Recensement'!BU22=\"Yes\",\"Yes\",IF('Outil Recensement'!BU22=\"No\",\"No\",IF('Outil Recensement'!BU22=\"Y\",\"Yes\",IF('Outil Recensement'!BU22=\"N\",\"No\",\"\"))))","v":""},{"$f":"IF('Outil Recensement'!BV22=\"Yes\",\"Yes\",IF('Outil Recensement'!BV22=\"No\",\"No\",IF('Outil Recensement'!BV22=\"Y\",\"Yes\",IF('Outil Recensement'!BV22=\"N\",\"No\",\"\"))))","v":""},{"$f":"IF('Outil Recensement'!BW22>0,'Outil Recensement'!BW22,\"\")","v":""},{"$f":"IF('Outil Recensement'!BX22>0,'Outil Recensement'!BX22,\"\")","v":""},{"$f":"IF('Outil Recensement'!BY22>0,'Outil Recensement'!BY22,\"\")","v":""},{"$f":"IF('Outil Recensement'!BZ22=\"Male\",\"Male\",IF('Outil Recensement'!BZ22=\"Female\",\"Female\",IF('Outil Recensement'!BZ22=\"M\",\"Male\",IF('Outil Recensement'!BZ22=\"F\",\"Female\",\"\"))))","v":""},{"$f":"IF('Outil Recensement'!CA22=\"Yes\",\"Yes\",IF('Outil Recensement'!CA22=\"No\",\"No\",IF('Outil Recensement'!CA22=\"Y\",\"Yes\",IF('Outil Recensement'!CA22=\"N\",\"No\",\"\"))))","v":""},{"$f":"IF('Outil Recensement'!CB22=\"Yes\",\"Yes\",IF('Outil Recensement'!CB22=\"No\",\"No\",IF('Outil Recensement'!CB22=\"Y\",\"Yes\",IF('Outil Recensement'!CB22=\"N\",\"No\",\"\"))))","v":""},{"$f":"IF('Outil Recensement'!CH22>0,'Outil Recensement'!CH22,\"\")","v":""}]
[{"$f":"IF('Outil Recensement'!A23>0,'Outil Recensement'!A23,\"\")","v":""},{"$f":"IF('Outil Recensement'!B23>0,'Outil Recensement'!B23,\"\")","v":""},{"$f":"IF('Outil Recensement'!C23>0,'Outil Recensement'!C23,\"\")","v":""},{"$f":"IF('Outil Recensement'!D23>0,'Outil Recensement'!D23,\"\")","v":""},{"$f":"IF('Outil Recensement'!P23>0,TEXT('Outil Recensement'!P23,\"000\"),\"\")","v":""},{"$f":"IF('Outil Recensement'!Q23>0,'Outil Recensement'!Q23,\"\")","v":""},{"$f":"IF('Outil Recensement'!R23>0,'Outil Recensement'!R23,\"\")","v":""},{"$f":"IF('Outil Recensement'!F23>0,DATEVALUE(TEXT('Outil Recensement'!F23,\"yyyy-mm-dd\")),\"\")","v":""},{"$f":"IF('Outil Recensement'!L23>0,DATEVALUE(TEXT('Outil Recensement'!L23,\"yyyy-mm-dd\")),\"\")","v":""},{"$f":"IF('Outil Recensement'!Y23>0,'Outil Recensement'!Y23,\"\")","v":""},{"$f":"IF('Outil Recensement'!T23>0,'Outil Recensement'!T23,\"\")","v":""},{"$f":"IF('Outil Recensement'!G23=\"Homme\",\"Male\",IF('Outil Recensement'!G23=\"Femme\",\"Female\",IF('Outil Recensement'!G23=\"H\",\"Male\",IF('Outil Recensement'!G23=\"F\",\"Female\",\"\"))))","v":""},{"$f":"IF('Outil Recensement'!U23=\"Yes\",\"Yes\",IF('Outil Recensement'!U23=\"No\",\"No\",IF('Outil Recensement'!U23=\"Y\",\"Yes\",IF('Outil Recensement'!U23=\"N\",\"No\",\"\"))))","v":""},{"$f":"IF('Outil Recensement'!I23=\"Individuelle\",\"Single\",IF('Outil Recensement'!I23=\"Familiale\",\"Family\",IF('Outil Recensement'!I23=\"Refus\",\"Family\",IF('Outil Recensement'!I23=\"Parent seul\",\"Family\",IF('Outil Recensement'!I23=\"Couple\",\"Family\",IF('Outil Recensement'!I23=\"In force\",\"Family\",IF('Outil Recensement'!I23=\"Applies\",\"Family\",IF('Outil Recensement'!I23=\"Applicable\",\"Family\",\"\"))))))))","v":""},{"$f":"IF('Outil Recensement'!AC23=\"Anglais\",\"English\",IF('Outil Recensement'!AC23=\"Français\",\"French\",IF('Outil Recensement'!AC23=\"A\",\"English\",IF('Outil Recensement'!AC23=\"F\",\"French\",\"\"))))","v":""},{"$f":"IF('Outil Recensement'!AB23=\"Oui\",\"Yes\",IF('Outil Recensement'!AB23=\"Non\",\"No\",IF('Outil Recensement'!AB23=\"O\",\"Yes\",IF('Outil Recensement'!AB23=\"N\",\"No\",\"\"))))","v":""},{"$f":"IF('Outil Recensement'!AD23>0,'Outil Recensement'!AD23,\"\")","v":""},{"$f":"IF('Outil Recensement'!M23=\"Annuel\",\"Annually\",IF('Outil Recensement'!M23=\"Mensuel\",\"Monthly\",IF('Outil Recensement'!M23=\"Bihebdomadaire\",\"Biweekly\",IF('Outil Recensement'!M23=\"Hebdomadaire\",\"Weekly\",IF('Outil Recensement'!M23=\"Horaire\",\"Hourly\",IF('Outil Recensement'!M23=\"Semi-mensuel\",\"Semi-monthly\",IF('Outil Recensement'!M23=\"Applies\",\"Annual\",IF('Outil Recensement'!M23=\"Applicable\",\"Annual\",\"\"))))))))","v":""},{"$f":"IF('Outil Recensement'!N23>0,'Outil Recensement'!N23,\"\")","v":""},{"$f":"IF('Outil Recensement'!O23>0,'Outil Recensement'!O23,\"\")","v":""},{"$f":"IF('Outil Recensement'!I23=\"Refus\",\"Yes\",\"\")","v":""},{"$f":"IF('Outil Recensement'!I23=\"Refus\",\"Yes\",\"\")","v":""},{"$f":"IF('Outil Recensement'!AE23>0,'Outil Recensement'!AE23,\"\")","v":""},{"$f":"IF('Outil Recensement'!AF23>0,'Outil Recensement'!AF23,\"\")","v":""},{"$f":"IF('Outil Recensement'!AG23>0,'Outil Recensement'!AG23,\"\")","v":""},{"$f":"IF('Outil Recensement'!AH23>0,'Outil Recensement'!AH23,\"\")","v":""},{"$f":"IF('Outil Recensement'!AI23>0,'Outil Recensement'!AI23,\"\")","v":" "},{"$f":"IF('Outil Recensement'!AJ23>0,'Outil Recensement'!AJ23,\"\")","v":" "},{"$f":"IF('Outil Recensement'!W23>0,'Outil Recensement'!W23&\" \",\"\")&IF('Outil Recensement'!V23>0,'Outil Recensement'!V23,\"\")","v":""},null,{"$f":"IF('Outil Recensement'!X23>0,'Outil Recensement'!X23,\"\")","v":""},{"$f":"IF('Outil Recensement'!Y23>0,'Outil Recensement'!Y23,\"\")","v":""},{"$f":"IF('Outil Recensement'!Z23>0,'Outil Recensement'!Z23,\"\")","v":""},{"$f":"IF('Outil Recensement'!AA23>0,'Outil Recensement'!AA23,\"\")","v":""},{"$f":"IF('Outil Recensement'!E23>0,'Outil Recensement'!E23,\"\")","v":""},{"$f":"IF('Outil Recensement'!AK23>0,'Outil Recensement'!AK23,\"\")","v":""},{"$f":"IF('Outil Recensement'!AL23>0,'Outil Recensement'!AL23,\"\")","v":""},{"$f":"IF('Outil Recensement'!AM23>0,'Outil Recensement'!AM23,\"\")","v":""},{"$f":"IF('Outil Recensement'!AN23=\"Male\",\"Male\",IF('Outil Recensement'!AN23=\"Female\",\"Female\",IF('Outil Recensement'!AN23=\"M\",\"Male\",IF('Outil Recensement'!AN23=\"F\",\"Female\",\"\"))))","v":""},{"$f":"IF('Outil Recensement'!AO23=\"Single\",\"Single\",IF('Outil Recensement'!AO23=\"Family\",\"Family\",IF('Outil Recensement'!AO23=\"S\",\"Single\",IF('Outil Recensement'!AO23=\"F\",\"Family\",\"\"))))","v":""},{"$f":"IF('Outil Recensement'!AP23=\"Single\",\"Single\",IF('Outil Recensement'!AP23=\"Family\",\"Family\",IF('Outil Recensement'!AP23=\"S\",\"Single\",IF('Outil Recensement'!AP23=\"F\",\"Family\",\"\"))))","v":""},{"$f":"IF('Outil Recensement'!AQ23>0,'Outil Recensement'!AQ23,\"\")","v":""},{"$f":"IF('Outil Recensement'!AR23=\"Yes\",\"Yes\",IF('Outil Recensement'!AR23=\"No\",\"No\",IF('Outil Recensement'!AR23=\"Y\",\"Yes\",IF('Outil Recensement'!AR23=\"N\",\"No\",\"\"))))","v":""},{"$f":"IF('Outil Recensement'!AS23>0,'Outil Recensement'!AS23,\"\")","v":""},{"$f":"IF('Outil Recensement'!AT23>0,'Outil Recensement'!AT23,\"\")","v":""},{"$f":"IF('Outil Recensement'!AU23>0,'Outil Recensement'!AU23,\"\")","v":""},{"$f":"IF('Outil Recensement'!AV23=\"Male\",\"Male\",IF('Outil Recensement'!AV23=\"Female\",\"Female\",IF('Outil Recensement'!AV23=\"M\",\"Male\",IF('Outil Recensement'!AV23=\"F\",\"Female\",\"\"))))","v":""},{"$f":"IF('Outil Recensement'!AW23=\"Yes\",\"Yes\",IF('Outil Recensement'!AW23=\"No\",\"No\",IF('Outil Recensement'!AW23=\"Y\",\"Yes\",IF('Outil Recensement'!AW23=\"N\",\"No\",\"\"))))","v":""},{"$f":"IF('Outil Recensement'!AX23=\"Yes\",\"Yes\",IF('Outil Recensement'!AX23=\"No\",\"No\",IF('Outil Recensement'!AX23=\"Y\",\"Yes\",IF('Outil Recensement'!AX23=\"N\",\"No\",\"\"))))","v":""},{"$f":"IF('Outil Recensement'!AY23>0,'Outil Recensement'!AY23,\"\")","v":""},{"$f":"IF('Outil Recensement'!AZ23>0,'Outil Recensement'!AZ23,\"\")","v":""},{"$f":"IF('Outil Recensement'!BA23>0,'Outil Recensement'!BA23,\"\")","v":""},{"$f":"IF('Outil Recensement'!BB23=\"Male\",\"Male\",IF('Outil Recensement'!BB23=\"Female\",\"Female\",IF('Outil Recensement'!BB23=\"M\",\"Male\",IF('Outil Recensement'!BB23=\"F\",\"Female\",\"\"))))","v":""},{"$f":"IF('Outil Recensement'!BC23=\"Yes\",\"Yes\",IF('Outil Recensement'!BC23=\"No\",\"No\",IF('Outil Recensement'!BC23=\"Y\",\"Yes\",IF('Outil Recensement'!BC23=\"N\",\"No\",\"\"))))","v":""},{"$f":"IF('Outil Recensement'!BD23=\"Yes\",\"Yes\",IF('Outil Recensement'!BD23=\"No\",\"No\",IF('Outil Recensement'!BD23=\"Y\",\"Yes\",IF('Outil Recensement'!BD23=\"N\",\"No\",\"\"))))","v":""},{"$f":"IF('Outil Recensement'!BE23>0,'Outil Recensement'!BE23,\"\")","v":""},{"$f":"IF('Outil Recensement'!BF23>0,'Outil Recensement'!BF23,\"\")","v":""},{"$f":"IF('Outil Recensement'!BG23>0,'Outil Recensement'!BG23,\"\")","v":""},{"$f":"IF('Outil Recensement'!BH23=\"Male\",\"Male\",IF('Outil Recensement'!BH23=\"Female\",\"Female\",IF('Outil Recensement'!BH23=\"M\",\"Male\",IF('Outil Recensement'!BH23=\"F\",\"Female\",\"\"))))","v":""},{"$f":"IF('Outil Recensement'!BI23=\"Yes\",\"Yes\",IF('Outil Recensement'!BI23=\"No\",\"No\",IF('Outil Recensement'!BI23=\"Y\",\"Yes\",IF('Outil Recensement'!BI23=\"N\",\"No\",\"\"))))","v":""},{"$f":"IF('Outil Recensement'!BJ23=\"Yes\",\"Yes\",IF('Outil Recensement'!BJ23=\"No\",\"No\",IF('Outil Recensement'!BJ23=\"Y\",\"Yes\",IF('Outil Recensement'!BJ23=\"N\",\"No\",\"\"))))","v":""},{"$f":"IF('Outil Recensement'!BK23>0,'Outil Recensement'!BK23,\"\")","v":""},{"$f":"IF('Outil Recensement'!BL23>0,'Outil Recensement'!BL23,\"\")","v":""},{"$f":"IF('Outil Recensement'!BM23>0,'Outil Recensement'!BM23,\"\")","v":""},{"$f":"IF('Outil Recensement'!BN23=\"Male\",\"Male\",IF('Outil Recensement'!BN23=\"Female\",\"Female\",IF('Outil Recensement'!BN23=\"M\",\"Male\",IF('Outil Recensement'!BN23=\"F\",\"Female\",\"\"))))","v":""},{"$f":"IF('Outil Recensement'!BO23=\"Yes\",\"Yes\",IF('Outil Recensement'!BO23=\"No\",\"No\",IF('Outil Recensement'!BO23=\"Y\",\"Yes\",IF('Outil Recensement'!BO23=\"N\",\"No\",\"\"))))","v":""},{"$f":"IF('Outil Recensement'!BP23=\"Yes\",\"Yes\",IF('Outil Recensement'!BP23=\"No\",\"No\",IF('Outil Recensement'!BP23=\"Y\",\"Yes\",IF('Outil Recensement'!BP23=\"N\",\"No\",\"\"))))","v":""},{"$f":"IF('Outil Recensement'!BQ23>0,'Outil Recensement'!BQ23,\"\")","v":""},{"$f":"IF('Outil Recensement'!BR23>0,'Outil Recensement'!BR23,\"\")","v":""},{"$f":"IF('Outil Recensement'!BS23>0,'Outil Recensement'!BS23,\"\")","v":""},{"$f":"IF('Outil Recensement'!BT23=\"Male\",\"Male\",IF('Outil Recensement'!BT23=\"Female\",\"Female\",IF('Outil Recensement'!BT23=\"M\",\"Male\",IF('Outil Recensement'!BT23=\"F\",\"Female\",\"\"))))","v":""},{"$f":"IF('Outil Recensement'!BU23=\"Yes\",\"Yes\",IF('Outil Recensement'!BU23=\"No\",\"No\",IF('Outil Recensement'!BU23=\"Y\",\"Yes\",IF('Outil Recensement'!BU23=\"N\",\"No\",\"\"))))","v":""},{"$f":"IF('Outil Recensement'!BV23=\"Yes\",\"Yes\",IF('Outil Recensement'!BV23=\"No\",\"No\",IF('Outil Recensement'!BV23=\"Y\",\"Yes\",IF('Outil Recensement'!BV23=\"N\",\"No\",\"\"))))","v":""},{"$f":"IF('Outil Recensement'!BW23>0,'Outil Recensement'!BW23,\"\")","v":""},{"$f":"IF('Outil Recensement'!BX23>0,'Outil Recensement'!BX23,\"\")","v":""},{"$f":"IF('Outil Recensement'!BY23>0,'Outil Recensement'!BY23,\"\")","v":""},{"$f":"IF('Outil Recensement'!BZ23=\"Male\",\"Male\",IF('Outil Recensement'!BZ23=\"Female\",\"Female\",IF('Outil Recensement'!BZ23=\"M\",\"Male\",IF('Outil Recensement'!BZ23=\"F\",\"Female\",\"\"))))","v":""},{"$f":"IF('Outil Recensement'!CA23=\"Yes\",\"Yes\",IF('Outil Recensement'!CA23=\"No\",\"No\",IF('Outil Recensement'!CA23=\"Y\",\"Yes\",IF('Outil Recensement'!CA23=\"N\",\"No\",\"\"))))","v":""},{"$f":"IF('Outil Recensement'!CB23=\"Yes\",\"Yes\",IF('Outil Recensement'!CB23=\"No\",\"No\",IF('Outil Recensement'!CB23=\"Y\",\"Yes\",IF('Outil Recensement'!CB23=\"N\",\"No\",\"\"))))","v":""},{"$f":"IF('Outil Recensement'!CH23>0,'Outil Recensement'!CH23,\"\")","v":""}]
[{"$f":"IF('Outil Recensement'!A24>0,'Outil Recensement'!A24,\"\")","v":""},{"$f":"IF('Outil Recensement'!B24>0,'Outil Recensement'!B24,\"\")","v":""},{"$f":"IF('Outil Recensement'!C24>0,'Outil Recensement'!C24,\"\")","v":""},{"$f":"IF('Outil Recensement'!D24>0,'Outil Recensement'!D24,\"\")","v":""},{"$f":"IF('Outil Recensement'!P24>0,TEXT('Outil Recensement'!P24,\"000\"),\"\")","v":""},{"$f":"IF('Outil Recensement'!Q24>0,'Outil Recensement'!Q24,\"\")","v":""},{"$f":"IF('Outil Recensement'!R24>0,'Outil Recensement'!R24,\"\")","v":""},{"$f":"IF('Outil Recensement'!F24>0,DATEVALUE(TEXT('Outil Recensement'!F24,\"yyyy-mm-dd\")),\"\")","v":""},{"$f":"IF('Outil Recensement'!L24>0,DATEVALUE(TEXT('Outil Recensement'!L24,\"yyyy-mm-dd\")),\"\")","v":""},{"$f":"IF('Outil Recensement'!Y24>0,'Outil Recensement'!Y24,\"\")","v":""},{"$f":"IF('Outil Recensement'!T24>0,'Outil Recensement'!T24,\"\")","v":""},{"$f":"IF('Outil Recensement'!G24=\"Homme\",\"Male\",IF('Outil Recensement'!G24=\"Femme\",\"Female\",IF('Outil Recensement'!G24=\"H\",\"Male\",IF('Outil Recensement'!G24=\"F\",\"Female\",\"\"))))","v":""},{"$f":"IF('Outil Recensement'!U24=\"Yes\",\"Yes\",IF('Outil Recensement'!U24=\"No\",\"No\",IF('Outil Recensement'!U24=\"Y\",\"Yes\",IF('Outil Recensement'!U24=\"N\",\"No\",\"\"))))","v":""},{"$f":"IF('Outil Recensement'!I24=\"Individuelle\",\"Single\",IF('Outil Recensement'!I24=\"Familiale\",\"Family\",IF('Outil Recensement'!I24=\"Refus\",\"Family\",IF('Outil Recensement'!I24=\"Parent seul\",\"Family\",IF('Outil Recensement'!I24=\"Couple\",\"Family\",IF('Outil Recensement'!I24=\"In force\",\"Family\",IF('Outil Recensement'!I24=\"Applies\",\"Family\",IF('Outil Recensement'!I24=\"Applicable\",\"Family\",\"\"))))))))","v":""},{"$f":"IF('Outil Recensement'!AC24=\"Anglais\",\"English\",IF('Outil Recensement'!AC24=\"Français\",\"French\",IF('Outil Recensement'!AC24=\"A\",\"English\",IF('Outil Recensement'!AC24=\"F\",\"French\",\"\"))))","v":""},{"$f":"IF('Outil Recensement'!AB24=\"Oui\",\"Yes\",IF('Outil Recensement'!AB24=\"Non\",\"No\",IF('Outil Recensement'!AB24=\"O\",\"Yes\",IF('Outil Recensement'!AB24=\"N\",\"No\",\"\"))))","v":""},{"$f":"IF('Outil Recensement'!AD24>0,'Outil Recensement'!AD24,\"\")","v":""},{"$f":"IF('Outil Recensement'!M24=\"Annuel\",\"Annually\",IF('Outil Recensement'!M24=\"Mensuel\",\"Monthly\",IF('Outil Recensement'!M24=\"Bihebdomadaire\",\"Biweekly\",IF('Outil Recensement'!M24=\"Hebdomadaire\",\"Weekly\",IF('Outil Recensement'!M24=\"Horaire\",\"Hourly\",IF('Outil Recensement'!M24=\"Semi-mensuel\",\"Semi-monthly\",IF('Outil Recensement'!M24=\"Applies\",\"Annual\",IF('Outil Recensement'!M24=\"Applicable\",\"Annual\",\"\"))))))))","v":""},{"$f":"IF('Outil Recensement'!N24>0,'Outil Recensement'!N24,\"\")","v":""},{"$f":"IF('Outil Recensement'!O24>0,'Outil Recensement'!O24,\"\")","v":""},{"$f":"IF('Outil Recensement'!I24=\"Refus\",\"Yes\",\"\")","v":""},{"$f":"IF('Outil Recensement'!I24=\"Refus\",\"Yes\",\"\")","v":""},{"$f":"IF('Outil Recensement'!AE24>0,'Outil Recensement'!AE24,\"\")","v":""},{"$f":"IF('Outil Recensement'!AF24>0,'Outil Recensement'!AF24,\"\")","v":""},{"$f":"IF('Outil Recensement'!AG24>0,'Outil Recensement'!AG24,\"\")","v":""},{"$f":"IF('Outil Recensement'!AH24>0,'Outil Recensement'!AH24,\"\")","v":""},{"$f":"IF('Outil Recensement'!AI24>0,'Outil Recensement'!AI24,\"\")","v":" "},{"$f":"IF('Outil Recensement'!AJ24>0,'Outil Recensement'!AJ24,\"\")","v":" "},{"$f":"IF('Outil Recensement'!W24>0,'Outil Recensement'!W24&\" \",\"\")&IF('Outil Recensement'!V24>0,'Outil Recensement'!V24,\"\")","v":""},null,{"$f":"IF('Outil Recensement'!X24>0,'Outil Recensement'!X24,\"\")","v":""},{"$f":"IF('Outil Recensement'!Y24>0,'Outil Recensement'!Y24,\"\")","v":""},{"$f":"IF('Outil Recensement'!Z24>0,'Outil Recensement'!Z24,\"\")","v":""},{"$f":"IF('Outil Recensement'!AA24>0,'Outil Recensement'!AA24,\"\")","v":""},{"$f":"IF('Outil Recensement'!E24>0,'Outil Recensement'!E24,\"\")","v":""},{"$f":"IF('Outil Recensement'!AK24>0,'Outil Recensement'!AK24,\"\")","v":""},{"$f":"IF('Outil Recensement'!AL24>0,'Outil Recensement'!AL24,\"\")","v":""},{"$f":"IF('Outil Recensement'!AM24>0,'Outil Recensement'!AM24,\"\")","v":""},{"$f":"IF('Outil Recensement'!AN24=\"Male\",\"Male\",IF('Outil Recensement'!AN24=\"Female\",\"Female\",IF('Outil Recensement'!AN24=\"M\",\"Male\",IF('Outil Recensement'!AN24=\"F\",\"Female\",\"\"))))","v":""},{"$f":"IF('Outil Recensement'!AO24=\"Single\",\"Single\",IF('Outil Recensement'!AO24=\"Family\",\"Family\",IF('Outil Recensement'!AO24=\"S\",\"Single\",IF('Outil Recensement'!AO24=\"F\",\"Family\",\"\"))))","v":""},{"$f":"IF('Outil Recensement'!AP24=\"Single\",\"Single\",IF('Outil Recensement'!AP24=\"Family\",\"Family\",IF('Outil Recensement'!AP24=\"S\",\"Single\",IF('Outil Recensement'!AP24=\"F\",\"Family\",\"\"))))","v":""},{"$f":"IF('Outil Recensement'!AQ24>0,'Outil Recensement'!AQ24,\"\")","v":""},{"$f":"IF('Outil Recensement'!AR24=\"Yes\",\"Yes\",IF('Outil Recensement'!AR24=\"No\",\"No\",IF('Outil Recensement'!AR24=\"Y\",\"Yes\",IF('Outil Recensement'!AR24=\"N\",\"No\",\"\"))))","v":""},{"$f":"IF('Outil Recensement'!AS24>0,'Outil Recensement'!AS24,\"\")","v":""},{"$f":"IF('Outil Recensement'!AT24>0,'Outil Recensement'!AT24,\"\")","v":""},{"$f":"IF('Outil Recensement'!AU24>0,'Outil Recensement'!AU24,\"\")","v":""},{"$f":"IF('Outil Recensement'!AV24=\"Male\",\"Male\",IF('Outil Recensement'!AV24=\"Female\",\"Female\",IF('Outil Recensement'!AV24=\"M\",\"Male\",IF('Outil Recensement'!AV24=\"F\",\"Female\",\"\"))))","v":""},{"$f":"IF('Outil Recensement'!AW24=\"Yes\",\"Yes\",IF('Outil Recensement'!AW24=\"No\",\"No\",IF('Outil Recensement'!AW24=\"Y\",\"Yes\",IF('Outil Recensement'!AW24=\"N\",\"No\",\"\"))))","v":""},{"$f":"IF('Outil Recensement'!AX24=\"Yes\",\"Yes\",IF('Outil Recensement'!AX24=\"No\",\"No\",IF('Outil Recensement'!AX24=\"Y\",\"Yes\",IF('Outil Recensement'!AX24=\"N\",\"No\",\"\"))))","v":""},{"$f":"IF('Outil Recensement'!AY24>0,'Outil Recensement'!AY24,\"\")","v":""},{"$f":"IF('Outil Recensement'!AZ24>0,'Outil Recensement'!AZ24,\"\")","v":""},{"$f":"IF('Outil Recensement'!BA24>0,'Outil Recensement'!BA24,\"\")","v":""},{"$f":"IF('Outil Recensement'!BB24=\"Male\",\"Male\",IF('Outil Recensement'!BB24=\"Female\",\"Female\",IF('Outil Recensement'!BB24=\"M\",\"Male\",IF('Outil Recensement'!BB24=\"F\",\"Female\",\"\"))))","v":""},{"$f":"IF('Outil Recensement'!BC24=\"Yes\",\"Yes\",IF('Outil Recensement'!BC24=\"No\",\"No\",IF('Outil Recensement'!BC24=\"Y\",\"Yes\",IF('Outil Recensement'!BC24=\"N\",\"No\",\"\"))))","v":""},{"$f":"IF('Outil Recensement'!BD24=\"Yes\",\"Yes\",IF('Outil Recensement'!BD24=\"No\",\"No\",IF('Outil Recensement'!BD24=\"Y\",\"Yes\",IF('Outil Recensement'!BD24=\"N\",\"No\",\"\"))))","v":""},{"$f":"IF('Outil Recensement'!BE24>0,'Outil Recensement'!BE24,\"\")","v":""},{"$f":"IF('Outil Recensement'!BF24>0,'Outil Recensement'!BF24,\"\")","v":""},{"$f":"IF('Outil Recensement'!BG24>0,'Outil Recensement'!BG24,\"\")","v":""},{"$f":"IF('Outil Recensement'!BH24=\"Male\",\"Male\",IF('Outil Recensement'!BH24=\"Female\",\"Female\",IF('Outil Recensement'!BH24=\"M\",\"Male\",IF('Outil Recensement'!BH24=\"F\",\"Female\",\"\"))))","v":""},{"$f":"IF('Outil Recensement'!BI24=\"Yes\",\"Yes\",IF('Outil Recensement'!BI24=\"No\",\"No\",IF('Outil Recensement'!BI24=\"Y\",\"Yes\",IF('Outil Recensement'!BI24=\"N\",\"No\",\"\"))))","v":""},{"$f":"IF('Outil Recensement'!BJ24=\"Yes\",\"Yes\",IF('Outil Recensement'!BJ24=\"No\",\"No\",IF('Outil Recensement'!BJ24=\"Y\",\"Yes\",IF('Outil Recensement'!BJ24=\"N\",\"No\",\"\"))))","v":""},{"$f":"IF('Outil Recensement'!BK24>0,'Outil Recensement'!BK24,\"\")","v":""},{"$f":"IF('Outil Recensement'!BL24>0,'Outil Recensement'!BL24,\"\")","v":""},{"$f":"IF('Outil Recensement'!BM24>0,'Outil Recensement'!BM24,\"\")","v":""},{"$f":"IF('Outil Recensement'!BN24=\"Male\",\"Male\",IF('Outil Recensement'!BN24=\"Female\",\"Female\",IF('Outil Recensement'!BN24=\"M\",\"Male\",IF('Outil Recensement'!BN24=\"F\",\"Female\",\"\"))))","v":""},{"$f":"IF('Outil Recensement'!BO24=\"Yes\",\"Yes\",IF('Outil Recensement'!BO24=\"No\",\"No\",IF('Outil Recensement'!BO24=\"Y\",\"Yes\",IF('Outil Recensement'!BO24=\"N\",\"No\",\"\"))))","v":""},{"$f":"IF('Outil Recensement'!BP24=\"Yes\",\"Yes\",IF('Outil Recensement'!BP24=\"No\",\"No\",IF('Outil Recensement'!BP24=\"Y\",\"Yes\",IF('Outil Recensement'!BP24=\"N\",\"No\",\"\"))))","v":""},{"$f":"IF('Outil Recensement'!BQ24>0,'Outil Recensement'!BQ24,\"\")","v":""},{"$f":"IF('Outil Recensement'!BR24>0,'Outil Recensement'!BR24,\"\")","v":""},{"$f":"IF('Outil Recensement'!BS24>0,'Outil Recensement'!BS24,\"\")","v":""},{"$f":"IF('Outil Recensement'!BT24=\"Male\",\"Male\",IF('Outil Recensement'!BT24=\"Female\",\"Female\",IF('Outil Recensement'!BT24=\"M\",\"Male\",IF('Outil Recensement'!BT24=\"F\",\"Female\",\"\"))))","v":""},{"$f":"IF('Outil Recensement'!BU24=\"Yes\",\"Yes\",IF('Outil Recensement'!BU24=\"No\",\"No\",IF('Outil Recensement'!BU24=\"Y\",\"Yes\",IF('Outil Recensement'!BU24=\"N\",\"No\",\"\"))))","v":""},{"$f":"IF('Outil Recensement'!BV24=\"Yes\",\"Yes\",IF('Outil Recensement'!BV24=\"No\",\"No\",IF('Outil Recensement'!BV24=\"Y\",\"Yes\",IF('Outil Recensement'!BV24=\"N\",\"No\",\"\"))))","v":""},{"$f":"IF('Outil Recensement'!BW24>0,'Outil Recensement'!BW24,\"\")","v":""},{"$f":"IF('Outil Recensement'!BX24>0,'Outil Recensement'!BX24,\"\")","v":""},{"$f":"IF('Outil Recensement'!BY24>0,'Outil Recensement'!BY24,\"\")","v":""},{"$f":"IF('Outil Recensement'!BZ24=\"Male\",\"Male\",IF('Outil Recensement'!BZ24=\"Female\",\"Female\",IF('Outil Recensement'!BZ24=\"M\",\"Male\",IF('Outil Recensement'!BZ24=\"F\",\"Female\",\"\"))))","v":""},{"$f":"IF('Outil Recensement'!CA24=\"Yes\",\"Yes\",IF('Outil Recensement'!CA24=\"No\",\"No\",IF('Outil Recensement'!CA24=\"Y\",\"Yes\",IF('Outil Recensement'!CA24=\"N\",\"No\",\"\"))))","v":""},{"$f":"IF('Outil Recensement'!CB24=\"Yes\",\"Yes\",IF('Outil Recensement'!CB24=\"No\",\"No\",IF('Outil Recensement'!CB24=\"Y\",\"Yes\",IF('Outil Recensement'!CB24=\"N\",\"No\",\"\"))))","v":""},{"$f":"IF('Outil Recensement'!CH24>0,'Outil Recensement'!CH24,\"\")","v":""}]
[{"$f":"IF('Outil Recensement'!A25>0,'Outil Recensement'!A25,\"\")","v":""},{"$f":"IF('Outil Recensement'!B25>0,'Outil Recensement'!B25,\"\")","v":""},{"$f":"IF('Outil Recensement'!C25>0,'Outil Recensement'!C25,\"\")","v":""},{"$f":"IF('Outil Recensement'!D25>0,'Outil Recensement'!D25,\"\")","v":""},{"$f":"IF('Outil Recensement'!P25>0,TEXT('Outil Recensement'!P25,\"000\"),\"\")","v":""},{"$f":"IF('Outil Recensement'!Q25>0,'Outil Recensement'!Q25,\"\")","v":""},{"$f":"IF('Outil Recensement'!R25>0,'Outil Recensement'!R25,\"\")","v":""},{"$f":"IF('Outil Recensement'!F25>0,DATEVALUE(TEXT('Outil Recensement'!F25,\"yyyy-mm-dd\")),\"\")","v":""},{"$f":"IF('Outil Recensement'!L25>0,DATEVALUE(TEXT('Outil Recensement'!L25,\"yyyy-mm-dd\")),\"\")","v":""},{"$f":"IF('Outil Recensement'!Y25>0,'Outil Recensement'!Y25,\"\")","v":""},{"$f":"IF('Outil Recensement'!T25>0,'Outil Recensement'!T25,\"\")","v":""},{"$f":"IF('Outil Recensement'!G25=\"Homme\",\"Male\",IF('Outil Recensement'!G25=\"Femme\",\"Female\",IF('Outil Recensement'!G25=\"H\",\"Male\",IF('Outil Recensement'!G25=\"F\",\"Female\",\"\"))))","v":""},{"$f":"IF('Outil Recensement'!U25=\"Yes\",\"Yes\",IF('Outil Recensement'!U25=\"No\",\"No\",IF('Outil Recensement'!U25=\"Y\",\"Yes\",IF('Outil Recensement'!U25=\"N\",\"No\",\"\"))))","v":""},{"$f":"IF('Outil Recensement'!I25=\"Individuelle\",\"Single\",IF('Outil Recensement'!I25=\"Familiale\",\"Family\",IF('Outil Recensement'!I25=\"Refus\",\"Family\",IF('Outil Recensement'!I25=\"Parent seul\",\"Family\",IF('Outil Recensement'!I25=\"Couple\",\"Family\",IF('Outil Recensement'!I25=\"In force\",\"Family\",IF('Outil Recensement'!I25=\"Applies\",\"Family\",IF('Outil Recensement'!I25=\"Applicable\",\"Family\",\"\"))))))))","v":""},{"$f":"IF('Outil Recensement'!AC25=\"Anglais\",\"English\",IF('Outil Recensement'!AC25=\"Français\",\"French\",IF('Outil Recensement'!AC25=\"A\",\"English\",IF('Outil Recensement'!AC25=\"F\",\"French\",\"\"))))","v":""},{"$f":"IF('Outil Recensement'!AB25=\"Oui\",\"Yes\",IF('Outil Recensement'!AB25=\"Non\",\"No\",IF('Outil Recensement'!AB25=\"O\",\"Yes\",IF('Outil Recensement'!AB25=\"N\",\"No\",\"\"))))","v":""},{"$f":"IF('Outil Recensement'!AD25>0,'Outil Recensement'!AD25,\"\")","v":""},{"$f":"IF('Outil Recensement'!M25=\"Annuel\",\"Annually\",IF('Outil Recensement'!M25=\"Mensuel\",\"Monthly\",IF('Outil Recensement'!M25=\"Bihebdomadaire\",\"Biweekly\",IF('Outil Recensement'!M25=\"Hebdomadaire\",\"Weekly\",IF('Outil Recensement'!M25=\"Horaire\",\"Hourly\",IF('Outil Recensement'!M25=\"Semi-mensuel\",\"Semi-monthly\",IF('Outil Recensement'!M25=\"Applies\",\"Annual\",IF('Outil Recensement'!M25=\"Applicable\",\"Annual\",\"\"))))))))","v":""},{"$f":"IF('Outil Recensement'!N25>0,'Outil Recensement'!N25,\"\")","v":""},{"$f":"IF('Outil Recensement'!O25>0,'Outil Recensement'!O25,\"\")","v":""},{"$f":"IF('Outil Recensement'!I25=\"Refus\",\"Yes\",\"\")","v":""},{"$f":"IF('Outil Recensement'!I25=\"Refus\",\"Yes\",\"\")","v":""},{"$f":"IF('Outil Recensement'!AE25>0,'Outil Recensement'!AE25,\"\")","v":""},{"$f":"IF('Outil Recensement'!AF25>0,'Outil Recensement'!AF25,\"\")","v":""},{"$f":"IF('Outil Recensement'!AG25>0,'Outil Recensement'!AG25,\"\")","v":""},{"$f":"IF('Outil Recensement'!AH25>0,'Outil Recensement'!AH25,\"\")","v":""},{"$f":"IF('Outil Recensement'!AI25>0,'Outil Recensement'!AI25,\"\")","v":" "},{"$f":"IF('Outil Recensement'!AJ25>0,'Outil Recensement'!AJ25,\"\")","v":" "},{"$f":"IF('Outil Recensement'!W25>0,'Outil Recensement'!W25&\" \",\"\")&IF('Outil Recensement'!V25>0,'Outil Recensement'!V25,\"\")","v":""},null,{"$f":"IF('Outil Recensement'!X25>0,'Outil Recensement'!X25,\"\")","v":""},{"$f":"IF('Outil Recensement'!Y25>0,'Outil Recensement'!Y25,\"\")","v":""},{"$f":"IF('Outil Recensement'!Z25>0,'Outil Recensement'!Z25,\"\")","v":""},{"$f":"IF('Outil Recensement'!AA25>0,'Outil Recensement'!AA25,\"\")","v":""},{"$f":"IF('Outil Recensement'!E25>0,'Outil Recensement'!E25,\"\")","v":""},{"$f":"IF('Outil Recensement'!AK25>0,'Outil Recensement'!AK25,\"\")","v":""},{"$f":"IF('Outil Recensement'!AL25>0,'Outil Recensement'!AL25,\"\")","v":""},{"$f":"IF('Outil Recensement'!AM25>0,'Outil Recensement'!AM25,\"\")","v":""},{"$f":"IF('Outil Recensement'!AN25=\"Male\",\"Male\",IF('Outil Recensement'!AN25=\"Female\",\"Female\",IF('Outil Recensement'!AN25=\"M\",\"Male\",IF('Outil Recensement'!AN25=\"F\",\"Female\",\"\"))))","v":""},{"$f":"IF('Outil Recensement'!AO25=\"Single\",\"Single\",IF('Outil Recensement'!AO25=\"Family\",\"Family\",IF('Outil Recensement'!AO25=\"S\",\"Single\",IF('Outil Recensement'!AO25=\"F\",\"Family\",\"\"))))","v":""},{"$f":"IF('Outil Recensement'!AP25=\"Single\",\"Single\",IF('Outil Recensement'!AP25=\"Family\",\"Family\",IF('Outil Recensement'!AP25=\"S\",\"Single\",IF('Outil Recensement'!AP25=\"F\",\"Family\",\"\"))))","v":""},{"$f":"IF('Outil Recensement'!AQ25>0,'Outil Recensement'!AQ25,\"\")","v":""},{"$f":"IF('Outil Recensement'!AR25=\"Yes\",\"Yes\",IF('Outil Recensement'!AR25=\"No\",\"No\",IF('Outil Recensement'!AR25=\"Y\",\"Yes\",IF('Outil Recensement'!AR25=\"N\",\"No\",\"\"))))","v":""},{"$f":"IF('Outil Recensement'!AS25>0,'Outil Recensement'!AS25,\"\")","v":""},{"$f":"IF('Outil Recensement'!AT25>0,'Outil Recensement'!AT25,\"\")","v":""},{"$f":"IF('Outil Recensement'!AU25>0,'Outil Recensement'!AU25,\"\")","v":""},{"$f":"IF('Outil Recensement'!AV25=\"Male\",\"Male\",IF('Outil Recensement'!AV25=\"Female\",\"Female\",IF('Outil Recensement'!AV25=\"M\",\"Male\",IF('Outil Recensement'!AV25=\"F\",\"Female\",\"\"))))","v":""},{"$f":"IF('Outil Recensement'!AW25=\"Yes\",\"Yes\",IF('Outil Recensement'!AW25=\"No\",\"No\",IF('Outil Recensement'!AW25=\"Y\",\"Yes\",IF('Outil Recensement'!AW25=\"N\",\"No\",\"\"))))","v":""},{"$f":"IF('Outil Recensement'!AX25=\"Yes\",\"Yes\",IF('Outil Recensement'!AX25=\"No\",\"No\",IF('Outil Recensement'!AX25=\"Y\",\"Yes\",IF('Outil Recensement'!AX25=\"N\",\"No\",\"\"))))","v":""},{"$f":"IF('Outil Recensement'!AY25>0,'Outil Recensement'!AY25,\"\")","v":""},{"$f":"IF('Outil Recensement'!AZ25>0,'Outil Recensement'!AZ25,\"\")","v":""},{"$f":"IF('Outil Recensement'!BA25>0,'Outil Recensement'!BA25,\"\")","v":""},{"$f":"IF('Outil Recensement'!BB25=\"Male\",\"Male\",IF('Outil Recensement'!BB25=\"Female\",\"Female\",IF('Outil Recensement'!BB25=\"M\",\"Male\",IF('Outil Recensement'!BB25=\"F\",\"Female\",\"\"))))","v":""},{"$f":"IF('Outil Recensement'!BC25=\"Yes\",\"Yes\",IF('Outil Recensement'!BC25=\"No\",\"No\",IF('Outil Recensement'!BC25=\"Y\",\"Yes\",IF('Outil Recensement'!BC25=\"N\",\"No\",\"\"))))","v":""},{"$f":"IF('Outil Recensement'!BD25=\"Yes\",\"Yes\",IF('Outil Recensement'!BD25=\"No\",\"No\",IF('Outil Recensement'!BD25=\"Y\",\"Yes\",IF('Outil Recensement'!BD25=\"N\",\"No\",\"\"))))","v":""},{"$f":"IF('Outil Recensement'!BE25>0,'Outil Recensement'!BE25,\"\")","v":""},{"$f":"IF('Outil Recensement'!BF25>0,'Outil Recensement'!BF25,\"\")","v":""},{"$f":"IF('Outil Recensement'!BG25>0,'Outil Recensement'!BG25,\"\")","v":""},{"$f":"IF('Outil Recensement'!BH25=\"Male\",\"Male\",IF('Outil Recensement'!BH25=\"Female\",\"Female\",IF('Outil Recensement'!BH25=\"M\",\"Male\",IF('Outil Recensement'!BH25=\"F\",\"Female\",\"\"))))","v":""},{"$f":"IF('Outil Recensement'!BI25=\"Yes\",\"Yes\",IF('Outil Recensement'!BI25=\"No\",\"No\",IF('Outil Recensement'!BI25=\"Y\",\"Yes\",IF('Outil Recensement'!BI25=\"N\",\"No\",\"\"))))","v":""},{"$f":"IF('Outil Recensement'!BJ25=\"Yes\",\"Yes\",IF('Outil Recensement'!BJ25=\"No\",\"No\",IF('Outil Recensement'!BJ25=\"Y\",\"Yes\",IF('Outil Recensement'!BJ25=\"N\",\"No\",\"\"))))","v":""},{"$f":"IF('Outil Recensement'!BK25>0,'Outil Recensement'!BK25,\"\")","v":""},{"$f":"IF('Outil Recensement'!BL25>0,'Outil Recensement'!BL25,\"\")","v":""},{"$f":"IF('Outil Recensement'!BM25>0,'Outil Recensement'!BM25,\"\")","v":""},{"$f":"IF('Outil Recensement'!BN25=\"Male\",\"Male\",IF('Outil Recensement'!BN25=\"Female\",\"Female\",IF('Outil Recensement'!BN25=\"M\",\"Male\",IF('Outil Recensement'!BN25=\"F\",\"Female\",\"\"))))","v":""},{"$f":"IF('Outil Recensement'!BO25=\"Yes\",\"Yes\",IF('Outil Recensement'!BO25=\"No\",\"No\",IF('Outil Recensement'!BO25=\"Y\",\"Yes\",IF('Outil Recensement'!BO25=\"N\",\"No\",\"\"))))","v":""},{"$f":"IF('Outil Recensement'!BP25=\"Yes\",\"Yes\",IF('Outil Recensement'!BP25=\"No\",\"No\",IF('Outil Recensement'!BP25=\"Y\",\"Yes\",IF('Outil Recensement'!BP25=\"N\",\"No\",\"\"))))","v":""},{"$f":"IF('Outil Recensement'!BQ25>0,'Outil Recensement'!BQ25,\"\")","v":""},{"$f":"IF('Outil Recensement'!BR25>0,'Outil Recensement'!BR25,\"\")","v":""},{"$f":"IF('Outil Recensement'!BS25>0,'Outil Recensement'!BS25,\"\")","v":""},{"$f":"IF('Outil Recensement'!BT25=\"Male\",\"Male\",IF('Outil Recensement'!BT25=\"Female\",\"Female\",IF('Outil Recensement'!BT25=\"M\",\"Male\",IF('Outil Recensement'!BT25=\"F\",\"Female\",\"\"))))","v":""},{"$f":"IF('Outil Recensement'!BU25=\"Yes\",\"Yes\",IF('Outil Recensement'!BU25=\"No\",\"No\",IF('Outil Recensement'!BU25=\"Y\",\"Yes\",IF('Outil Recensement'!BU25=\"N\",\"No\",\"\"))))","v":""},{"$f":"IF('Outil Recensement'!BV25=\"Yes\",\"Yes\",IF('Outil Recensement'!BV25=\"No\",\"No\",IF('Outil Recensement'!BV25=\"Y\",\"Yes\",IF('Outil Recensement'!BV25=\"N\",\"No\",\"\"))))","v":""},{"$f":"IF('Outil Recensement'!BW25>0,'Outil Recensement'!BW25,\"\")","v":""},{"$f":"IF('Outil Recensement'!BX25>0,'Outil Recensement'!BX25,\"\")","v":""},{"$f":"IF('Outil Recensement'!BY25>0,'Outil Recensement'!BY25,\"\")","v":""},{"$f":"IF('Outil Recensement'!BZ25=\"Male\",\"Male\",IF('Outil Recensement'!BZ25=\"Female\",\"Female\",IF('Outil Recensement'!BZ25=\"M\",\"Male\",IF('Outil Recensement'!BZ25=\"F\",\"Female\",\"\"))))","v":""},{"$f":"IF('Outil Recensement'!CA25=\"Yes\",\"Yes\",IF('Outil Recensement'!CA25=\"No\",\"No\",IF('Outil Recensement'!CA25=\"Y\",\"Yes\",IF('Outil Recensement'!CA25=\"N\",\"No\",\"\"))))","v":""},{"$f":"IF('Outil Recensement'!CB25=\"Yes\",\"Yes\",IF('Outil Recensement'!CB25=\"No\",\"No\",IF('Outil Recensement'!CB25=\"Y\",\"Yes\",IF('Outil Recensement'!CB25=\"N\",\"No\",\"\"))))","v":""},{"$f":"IF('Outil Recensement'!CH25>0,'Outil Recensement'!CH25,\"\")","v":""}]
[{"$f":"IF('Outil Recensement'!A26>0,'Outil Recensement'!A26,\"\")","v":""},{"$f":"IF('Outil Recensement'!B26>0,'Outil Recensement'!B26,\"\")","v":""},{"$f":"IF('Outil Recensement'!C26>0,'Outil Recensement'!C26,\"\")","v":""},{"$f":"IF('Outil Recensement'!D26>0,'Outil Recensement'!D26,\"\")","v":""},{"$f":"IF('Outil Recensement'!P26>0,TEXT('Outil Recensement'!P26,\"000\"),\"\")","v":""},{"$f":"IF('Outil Recensement'!Q26>0,'Outil Recensement'!Q26,\"\")","v":""},{"$f":"IF('Outil Recensement'!R26>0,'Outil Recensement'!R26,\"\")","v":""},{"$f":"IF('Outil Recensement'!F26>0,DATEVALUE(TEXT('Outil Recensement'!F26,\"yyyy-mm-dd\")),\"\")","v":""},{"$f":"IF('Outil Recensement'!L26>0,DATEVALUE(TEXT('Outil Recensement'!L26,\"yyyy-mm-dd\")),\"\")","v":""},{"$f":"IF('Outil Recensement'!Y26>0,'Outil Recensement'!Y26,\"\")","v":""},{"$f":"IF('Outil Recensement'!T26>0,'Outil Recensement'!T26,\"\")","v":""},{"$f":"IF('Outil Recensement'!G26=\"Homme\",\"Male\",IF('Outil Recensement'!G26=\"Femme\",\"Female\",IF('Outil Recensement'!G26=\"H\",\"Male\",IF('Outil Recensement'!G26=\"F\",\"Female\",\"\"))))","v":""},{"$f":"IF('Outil Recensement'!U26=\"Yes\",\"Yes\",IF('Outil Recensement'!U26=\"No\",\"No\",IF('Outil Recensement'!U26=\"Y\",\"Yes\",IF('Outil Recensement'!U26=\"N\",\"No\",\"\"))))","v":""},{"$f":"IF('Outil Recensement'!I26=\"Individuelle\",\"Single\",IF('Outil Recensement'!I26=\"Familiale\",\"Family\",IF('Outil Recensement'!I26=\"Refus\",\"Family\",IF('Outil Recensement'!I26=\"Parent seul\",\"Family\",IF('Outil Recensement'!I26=\"Couple\",\"Family\",IF('Outil Recensement'!I26=\"In force\",\"Family\",IF('Outil Recensement'!I26=\"Applies\",\"Family\",IF('Outil Recensement'!I26=\"Applicable\",\"Family\",\"\"))))))))","v":""},{"$f":"IF('Outil Recensement'!AC26=\"Anglais\",\"English\",IF('Outil Recensement'!AC26=\"Français\",\"French\",IF('Outil Recensement'!AC26=\"A\",\"English\",IF('Outil Recensement'!AC26=\"F\",\"French\",\"\"))))","v":""},{"$f":"IF('Outil Recensement'!AB26=\"Oui\",\"Yes\",IF('Outil Recensement'!AB26=\"Non\",\"No\",IF('Outil Recensement'!AB26=\"O\",\"Yes\",IF('Outil Recensement'!AB26=\"N\",\"No\",\"\"))))","v":""},{"$f":"IF('Outil Recensement'!AD26>0,'Outil Recensement'!AD26,\"\")","v":""},{"$f":"IF('Outil Recensement'!M26=\"Annuel\",\"Annually\",IF('Outil Recensement'!M26=\"Mensuel\",\"Monthly\",IF('Outil Recensement'!M26=\"Bihebdomadaire\",\"Biweekly\",IF('Outil Recensement'!M26=\"Hebdomadaire\",\"Weekly\",IF('Outil Recensement'!M26=\"Horaire\",\"Hourly\",IF('Outil Recensement'!M26=\"Semi-mensuel\",\"Semi-monthly\",IF('Outil Recensement'!M26=\"Applies\",\"Annual\",IF('Outil Recensement'!M26=\"Applicable\",\"Annual\",\"\"))))))))","v":""},{"$f":"IF('Outil Recensement'!N26>0,'Outil Recensement'!N26,\"\")","v":""},{"$f":"IF('Outil Recensement'!O26>0,'Outil Recensement'!O26,\"\")","v":""},{"$f":"IF('Outil Recensement'!I26=\"Refus\",\"Yes\",\"\")","v":""},{"$f":"IF('Outil Recensement'!I26=\"Refus\",\"Yes\",\"\")","v":""},{"$f":"IF('Outil Recensement'!AE26>0,'Outil Recensement'!AE26,\"\")","v":""},{"$f":"IF('Outil Recensement'!AF26>0,'Outil Recensement'!AF26,\"\")","v":""},{"$f":"IF('Outil Recensement'!AG26>0,'Outil Recensement'!AG26,\"\")","v":""},{"$f":"IF('Outil Recensement'!AH26>0,'Outil Recensement'!AH26,\"\")","v":""},{"$f":"IF('Outil Recensement'!AI26>0,'Outil Recensement'!AI26,\"\")","v":" "},{"$f":"IF('Outil Recensement'!AJ26>0,'Outil Recensement'!AJ26,\"\")","v":" "},{"$f":"IF('Outil Recensement'!W26>0,'Outil Recensement'!W26&\" \",\"\")&IF('Outil Recensement'!V26>0,'Outil Recensement'!V26,\"\")","v":""},null,{"$f":"IF('Outil Recensement'!X26>0,'Outil Recensement'!X26,\"\")","v":""},{"$f":"IF('Outil Recensement'!Y26>0,'Outil Recensement'!Y26,\"\")","v":""},{"$f":"IF('Outil Recensement'!Z26>0,'Outil Recensement'!Z26,\"\")","v":""},{"$f":"IF('Outil Recensement'!AA26>0,'Outil Recensement'!AA26,\"\")","v":""},{"$f":"IF('Outil Recensement'!E26>0,'Outil Recensement'!E26,\"\")","v":""},{"$f":"IF('Outil Recensement'!AK26>0,'Outil Recensement'!AK26,\"\")","v":""},{"$f":"IF('Outil Recensement'!AL26>0,'Outil Recensement'!AL26,\"\")","v":""},{"$f":"IF('Outil Recensement'!AM26>0,'Outil Recensement'!AM26,\"\")","v":""},{"$f":"IF('Outil Recensement'!AN26=\"Male\",\"Male\",IF('Outil Recensement'!AN26=\"Female\",\"Female\",IF('Outil Recensement'!AN26=\"M\",\"Male\",IF('Outil Recensement'!AN26=\"F\",\"Female\",\"\"))))","v":""},{"$f":"IF('Outil Recensement'!AO26=\"Single\",\"Single\",IF('Outil Recensement'!AO26=\"Family\",\"Family\",IF('Outil Recensement'!AO26=\"S\",\"Single\",IF('Outil Recensement'!AO26=\"F\",\"Family\",\"\"))))","v":""},{"$f":"IF('Outil Recensement'!AP26=\"Single\",\"Single\",IF('Outil Recensement'!AP26=\"Family\",\"Family\",IF('Outil Recensement'!AP26=\"S\",\"Single\",IF('Outil Recensement'!AP26=\"F\",\"Family\",\"\"))))","v":""},{"$f":"IF('Outil Recensement'!AQ26>0,'Outil Recensement'!AQ26,\"\")","v":""},{"$f":"IF('Outil Recensement'!AR26=\"Yes\",\"Yes\",IF('Outil Recensement'!AR26=\"No\",\"No\",IF('Outil Recensement'!AR26=\"Y\",\"Yes\",IF('Outil Recensement'!AR26=\"N\",\"No\",\"\"))))","v":""},{"$f":"IF('Outil Recensement'!AS26>0,'Outil Recensement'!AS26,\"\")","v":""},{"$f":"IF('Outil Recensement'!AT26>0,'Outil Recensement'!AT26,\"\")","v":""},{"$f":"IF('Outil Recensement'!AU26>0,'Outil Recensement'!AU26,\"\")","v":""},{"$f":"IF('Outil Recensement'!AV26=\"Male\",\"Male\",IF('Outil Recensement'!AV26=\"Female\",\"Female\",IF('Outil Recensement'!AV26=\"M\",\"Male\",IF('Outil Recensement'!AV26=\"F\",\"Female\",\"\"))))","v":""},{"$f":"IF('Outil Recensement'!AW26=\"Yes\",\"Yes\",IF('Outil Recensement'!AW26=\"No\",\"No\",IF('Outil Recensement'!AW26=\"Y\",\"Yes\",IF('Outil Recensement'!AW26=\"N\",\"No\",\"\"))))","v":""},{"$f":"IF('Outil Recensement'!AX26=\"Yes\",\"Yes\",IF('Outil Recensement'!AX26=\"No\",\"No\",IF('Outil Recensement'!AX26=\"Y\",\"Yes\",IF('Outil Recensement'!AX26=\"N\",\"No\",\"\"))))","v":""},{"$f":"IF('Outil Recensement'!AY26>0,'Outil Recensement'!AY26,\"\")","v":""},{"$f":"IF('Outil Recensement'!AZ26>0,'Outil Recensement'!AZ26,\"\")","v":""},{"$f":"IF('Outil Recensement'!BA26>0,'Outil Recensement'!BA26,\"\")","v":""},{"$f":"IF('Outil Recensement'!BB26=\"Male\",\"Male\",IF('Outil Recensement'!BB26=\"Female\",\"Female\",IF('Outil Recensement'!BB26=\"M\",\"Male\",IF('Outil Recensement'!BB26=\"F\",\"Female\",\"\"))))","v":""},{"$f":"IF('Outil Recensement'!BC26=\"Yes\",\"Yes\",IF('Outil Recensement'!BC26=\"No\",\"No\",IF('Outil Recensement'!BC26=\"Y\",\"Yes\",IF('Outil Recensement'!BC26=\"N\",\"No\",\"\"))))","v":""},{"$f":"IF('Outil Recensement'!BD26=\"Yes\",\"Yes\",IF('Outil Recensement'!BD26=\"No\",\"No\",IF('Outil Recensement'!BD26=\"Y\",\"Yes\",IF('Outil Recensement'!BD26=\"N\",\"No\",\"\"))))","v":""},{"$f":"IF('Outil Recensement'!BE26>0,'Outil Recensement'!BE26,\"\")","v":""},{"$f":"IF('Outil Recensement'!BF26>0,'Outil Recensement'!BF26,\"\")","v":""},{"$f":"IF('Outil Recensement'!BG26>0,'Outil Recensement'!BG26,\"\")","v":""},{"$f":"IF('Outil Recensement'!BH26=\"Male\",\"Male\",IF('Outil Recensement'!BH26=\"Female\",\"Female\",IF('Outil Recensement'!BH26=\"M\",\"Male\",IF('Outil Recensement'!BH26=\"F\",\"Female\",\"\"))))","v":""},{"$f":"IF('Outil Recensement'!BI26=\"Yes\",\"Yes\",IF('Outil Recensement'!BI26=\"No\",\"No\",IF('Outil Recensement'!BI26=\"Y\",\"Yes\",IF('Outil Recensement'!BI26=\"N\",\"No\",\"\"))))","v":""},{"$f":"IF('Outil Recensement'!BJ26=\"Yes\",\"Yes\",IF('Outil Recensement'!BJ26=\"No\",\"No\",IF('Outil Recensement'!BJ26=\"Y\",\"Yes\",IF('Outil Recensement'!BJ26=\"N\",\"No\",\"\"))))","v":""},{"$f":"IF('Outil Recensement'!BK26>0,'Outil Recensement'!BK26,\"\")","v":""},{"$f":"IF('Outil Recensement'!BL26>0,'Outil Recensement'!BL26,\"\")","v":""},{"$f":"IF('Outil Recensement'!BM26>0,'Outil Recensement'!BM26,\"\")","v":""},{"$f":"IF('Outil Recensement'!BN26=\"Male\",\"Male\",IF('Outil Recensement'!BN26=\"Female\",\"Female\",IF('Outil Recensement'!BN26=\"M\",\"Male\",IF('Outil Recensement'!BN26=\"F\",\"Female\",\"\"))))","v":""},{"$f":"IF('Outil Recensement'!BO26=\"Yes\",\"Yes\",IF('Outil Recensement'!BO26=\"No\",\"No\",IF('Outil Recensement'!BO26=\"Y\",\"Yes\",IF('Outil Recensement'!BO26=\"N\",\"No\",\"\"))))","v":""},{"$f":"IF('Outil Recensement'!BP26=\"Yes\",\"Yes\",IF('Outil Recensement'!BP26=\"No\",\"No\",IF('Outil Recensement'!BP26=\"Y\",\"Yes\",IF('Outil Recensement'!BP26=\"N\",\"No\",\"\"))))","v":""},{"$f":"IF('Outil Recensement'!BQ26>0,'Outil Recensement'!BQ26,\"\")","v":""},{"$f":"IF('Outil Recensement'!BR26>0,'Outil Recensement'!BR26,\"\")","v":""},{"$f":"IF('Outil Recensement'!BS26>0,'Outil Recensement'!BS26,\"\")","v":""},{"$f":"IF('Outil Recensement'!BT26=\"Male\",\"Male\",IF('Outil Recensement'!BT26=\"Female\",\"Female\",IF('Outil Recensement'!BT26=\"M\",\"Male\",IF('Outil Recensement'!BT26=\"F\",\"Female\",\"\"))))","v":""},{"$f":"IF('Outil Recensement'!BU26=\"Yes\",\"Yes\",IF('Outil Recensement'!BU26=\"No\",\"No\",IF('Outil Recensement'!BU26=\"Y\",\"Yes\",IF('Outil Recensement'!BU26=\"N\",\"No\",\"\"))))","v":""},{"$f":"IF('Outil Recensement'!BV26=\"Yes\",\"Yes\",IF('Outil Recensement'!BV26=\"No\",\"No\",IF('Outil Recensement'!BV26=\"Y\",\"Yes\",IF('Outil Recensement'!BV26=\"N\",\"No\",\"\"))))","v":""},{"$f":"IF('Outil Recensement'!BW26>0,'Outil Recensement'!BW26,\"\")","v":""},{"$f":"IF('Outil Recensement'!BX26>0,'Outil Recensement'!BX26,\"\")","v":""},{"$f":"IF('Outil Recensement'!BY26>0,'Outil Recensement'!BY26,\"\")","v":""},{"$f":"IF('Outil Recensement'!BZ26=\"Male\",\"Male\",IF('Outil Recensement'!BZ26=\"Female\",\"Female\",IF('Outil Recensement'!BZ26=\"M\",\"Male\",IF('Outil Recensement'!BZ26=\"F\",\"Female\",\"\"))))","v":""},{"$f":"IF('Outil Recensement'!CA26=\"Yes\",\"Yes\",IF('Outil Recensement'!CA26=\"No\",\"No\",IF('Outil Recensement'!CA26=\"Y\",\"Yes\",IF('Outil Recensement'!CA26=\"N\",\"No\",\"\"))))","v":""},{"$f":"IF('Outil Recensement'!CB26=\"Yes\",\"Yes\",IF('Outil Recensement'!CB26=\"No\",\"No\",IF('Outil Recensement'!CB26=\"Y\",\"Yes\",IF('Outil Recensement'!CB26=\"N\",\"No\",\"\"))))","v":""},{"$f":"IF('Outil Recensement'!CH26>0,'Outil Recensement'!CH26,\"\")","v":""}]
[{"$f":"IF('Outil Recensement'!A27>0,'Outil Recensement'!A27,\"\")","v":""},{"$f":"IF('Outil Recensement'!B27>0,'Outil Recensement'!B27,\"\")","v":""},{"$f":"IF('Outil Recensement'!C27>0,'Outil Recensement'!C27,\"\")","v":""},{"$f":"IF('Outil Recensement'!D27>0,'Outil Recensement'!D27,\"\")","v":""},{"$f":"IF('Outil Recensement'!P27>0,TEXT('Outil Recensement'!P27,\"000\"),\"\")","v":""},{"$f":"IF('Outil Recensement'!Q27>0,'Outil Recensement'!Q27,\"\")","v":""},{"$f":"IF('Outil Recensement'!R27>0,'Outil Recensement'!R27,\"\")","v":""},{"$f":"IF('Outil Recensement'!F27>0,DATEVALUE(TEXT('Outil Recensement'!F27,\"yyyy-mm-dd\")),\"\")","v":""},{"$f":"IF('Outil Recensement'!L27>0,DATEVALUE(TEXT('Outil Recensement'!L27,\"yyyy-mm-dd\")),\"\")","v":""},{"$f":"IF('Outil Recensement'!Y27>0,'Outil Recensement'!Y27,\"\")","v":""},{"$f":"IF('Outil Recensement'!T27>0,'Outil Recensement'!T27,\"\")","v":""},{"$f":"IF('Outil Recensement'!G27=\"Homme\",\"Male\",IF('Outil Recensement'!G27=\"Femme\",\"Female\",IF('Outil Recensement'!G27=\"H\",\"Male\",IF('Outil Recensement'!G27=\"F\",\"Female\",\"\"))))","v":""},{"$f":"IF('Outil Recensement'!U27=\"Yes\",\"Yes\",IF('Outil Recensement'!U27=\"No\",\"No\",IF('Outil Recensement'!U27=\"Y\",\"Yes\",IF('Outil Recensement'!U27=\"N\",\"No\",\"\"))))","v":""},{"$f":"IF('Outil Recensement'!I27=\"Individuelle\",\"Single\",IF('Outil Recensement'!I27=\"Familiale\",\"Family\",IF('Outil Recensement'!I27=\"Refus\",\"Family\",IF('Outil Recensement'!I27=\"Parent seul\",\"Family\",IF('Outil Recensement'!I27=\"Couple\",\"Family\",IF('Outil Recensement'!I27=\"In force\",\"Family\",IF('Outil Recensement'!I27=\"Applies\",\"Family\",IF('Outil Recensement'!I27=\"Applicable\",\"Family\",\"\"))))))))","v":""},{"$f":"IF('Outil Recensement'!AC27=\"Anglais\",\"English\",IF('Outil Recensement'!AC27=\"Français\",\"French\",IF('Outil Recensement'!AC27=\"A\",\"English\",IF('Outil Recensement'!AC27=\"F\",\"French\",\"\"))))","v":""},{"$f":"IF('Outil Recensement'!AB27=\"Oui\",\"Yes\",IF('Outil Recensement'!AB27=\"Non\",\"No\",IF('Outil Recensement'!AB27=\"O\",\"Yes\",IF('Outil Recensement'!AB27=\"N\",\"No\",\"\"))))","v":""},{"$f":"IF('Outil Recensement'!AD27>0,'Outil Recensement'!AD27,\"\")","v":""},{"$f":"IF('Outil Recensement'!M27=\"Annuel\",\"Annually\",IF('Outil Recensement'!M27=\"Mensuel\",\"Monthly\",IF('Outil Recensement'!M27=\"Bihebdomadaire\",\"Biweekly\",IF('Outil Recensement'!M27=\"Hebdomadaire\",\"Weekly\",IF('Outil Recensement'!M27=\"Horaire\",\"Hourly\",IF('Outil Recensement'!M27=\"Semi-mensuel\",\"Semi-monthly\",IF('Outil Recensement'!M27=\"Applies\",\"Annual\",IF('Outil Recensement'!M27=\"Applicable\",\"Annual\",\"\"))))))))","v":""},{"$f":"IF('Outil Recensement'!N27>0,'Outil Recensement'!N27,\"\")","v":""},{"$f":"IF('Outil Recensement'!O27>0,'Outil Recensement'!O27,\"\")","v":""},{"$f":"IF('Outil Recensement'!I27=\"Refus\",\"Yes\",\"\")","v":""},{"$f":"IF('Outil Recensement'!I27=\"Refus\",\"Yes\",\"\")","v":""},{"$f":"IF('Outil Recensement'!AE27>0,'Outil Recensement'!AE27,\"\")","v":""},{"$f":"IF('Outil Recensement'!AF27>0,'Outil Recensement'!AF27,\"\")","v":""},{"$f":"IF('Outil Recensement'!AG27>0,'Outil Recensement'!AG27,\"\")","v":""},{"$f":"IF('Outil Recensement'!AH27>0,'Outil Recensement'!AH27,\"\")","v":""},{"$f":"IF('Outil Recensement'!AI27>0,'Outil Recensement'!AI27,\"\")","v":" "},{"$f":"IF('Outil Recensement'!AJ27>0,'Outil Recensement'!AJ27,\"\")","v":" "},{"$f":"IF('Outil Recensement'!W27>0,'Outil Recensement'!W27&\" \",\"\")&IF('Outil Recensement'!V27>0,'Outil Recensement'!V27,\"\")","v":""},null,{"$f":"IF('Outil Recensement'!X27>0,'Outil Recensement'!X27,\"\")","v":""},{"$f":"IF('Outil Recensement'!Y27>0,'Outil Recensement'!Y27,\"\")","v":""},{"$f":"IF('Outil Recensement'!Z27>0,'Outil Recensement'!Z27,\"\")","v":""},{"$f":"IF('Outil Recensement'!AA27>0,'Outil Recensement'!AA27,\"\")","v":""},{"$f":"IF('Outil Recensement'!E27>0,'Outil Recensement'!E27,\"\")","v":""},{"$f":"IF('Outil Recensement'!AK27>0,'Outil Recensement'!AK27,\"\")","v":""},{"$f":"IF('Outil Recensement'!AL27>0,'Outil Recensement'!AL27,\"\")","v":""},{"$f":"IF('Outil Recensement'!AM27>0,'Outil Recensement'!AM27,\"\")","v":""},{"$f":"IF('Outil Recensement'!AN27=\"Male\",\"Male\",IF('Outil Recensement'!AN27=\"Female\",\"Female\",IF('Outil Recensement'!AN27=\"M\",\"Male\",IF('Outil Recensement'!AN27=\"F\",\"Female\",\"\"))))","v":""},{"$f":"IF('Outil Recensement'!AO27=\"Single\",\"Single\",IF('Outil Recensement'!AO27=\"Family\",\"Family\",IF('Outil Recensement'!AO27=\"S\",\"Single\",IF('Outil Recensement'!AO27=\"F\",\"Family\",\"\"))))","v":""},{"$f":"IF('Outil Recensement'!AP27=\"Single\",\"Single\",IF('Outil Recensement'!AP27=\"Family\",\"Family\",IF('Outil Recensement'!AP27=\"S\",\"Single\",IF('Outil Recensement'!AP27=\"F\",\"Family\",\"\"))))","v":""},{"$f":"IF('Outil Recensement'!AQ27>0,'Outil Recensement'!AQ27,\"\")","v":""},{"$f":"IF('Outil Recensement'!AR27=\"Yes\",\"Yes\",IF('Outil Recensement'!AR27=\"No\",\"No\",IF('Outil Recensement'!AR27=\"Y\",\"Yes\",IF('Outil Recensement'!AR27=\"N\",\"No\",\"\"))))","v":""},{"$f":"IF('Outil Recensement'!AS27>0,'Outil Recensement'!AS27,\"\")","v":""},{"$f":"IF('Outil Recensement'!AT27>0,'Outil Recensement'!AT27,\"\")","v":""},{"$f":"IF('Outil Recensement'!AU27>0,'Outil Recensement'!AU27,\"\")","v":""},{"$f":"IF('Outil Recensement'!AV27=\"Male\",\"Male\",IF('Outil Recensement'!AV27=\"Female\",\"Female\",IF('Outil Recensement'!AV27=\"M\",\"Male\",IF('Outil Recensement'!AV27=\"F\",\"Female\",\"\"))))","v":""},{"$f":"IF('Outil Recensement'!AW27=\"Yes\",\"Yes\",IF('Outil Recensement'!AW27=\"No\",\"No\",IF('Outil Recensement'!AW27=\"Y\",\"Yes\",IF('Outil Recensement'!AW27=\"N\",\"No\",\"\"))))","v":""},{"$f":"IF('Outil Recensement'!AX27=\"Yes\",\"Yes\",IF('Outil Recensement'!AX27=\"No\",\"No\",IF('Outil Recensement'!AX27=\"Y\",\"Yes\",IF('Outil Recensement'!AX27=\"N\",\"No\",\"\"))))","v":""},{"$f":"IF('Outil Recensement'!AY27>0,'Outil Recensement'!AY27,\"\")","v":""},{"$f":"IF('Outil Recensement'!AZ27>0,'Outil Recensement'!AZ27,\"\")","v":""},{"$f":"IF('Outil Recensement'!BA27>0,'Outil Recensement'!BA27,\"\")","v":""},{"$f":"IF('Outil Recensement'!BB27=\"Male\",\"Male\",IF('Outil Recensement'!BB27=\"Female\",\"Female\",IF('Outil Recensement'!BB27=\"M\",\"Male\",IF('Outil Recensement'!BB27=\"F\",\"Female\",\"\"))))","v":""},{"$f":"IF('Outil Recensement'!BC27=\"Yes\",\"Yes\",IF('Outil Recensement'!BC27=\"No\",\"No\",IF('Outil Recensement'!BC27=\"Y\",\"Yes\",IF('Outil Recensement'!BC27=\"N\",\"No\",\"\"))))","v":""},{"$f":"IF('Outil Recensement'!BD27=\"Yes\",\"Yes\",IF('Outil Recensement'!BD27=\"No\",\"No\",IF('Outil Recensement'!BD27=\"Y\",\"Yes\",IF('Outil Recensement'!BD27=\"N\",\"No\",\"\"))))","v":""},{"$f":"IF('Outil Recensement'!BE27>0,'Outil Recensement'!BE27,\"\")","v":""},{"$f":"IF('Outil Recensement'!BF27>0,'Outil Recensement'!BF27,\"\")","v":""},{"$f":"IF('Outil Recensement'!BG27>0,'Outil Recensement'!BG27,\"\")","v":""},{"$f":"IF('Outil Recensement'!BH27=\"Male\",\"Male\",IF('Outil Recensement'!BH27=\"Female\",\"Female\",IF('Outil Recensement'!BH27=\"M\",\"Male\",IF('Outil Recensement'!BH27=\"F\",\"Female\",\"\"))))","v":""},{"$f":"IF('Outil Recensement'!BI27=\"Yes\",\"Yes\",IF('Outil Recensement'!BI27=\"No\",\"No\",IF('Outil Recensement'!BI27=\"Y\",\"Yes\",IF('Outil Recensement'!BI27=\"N\",\"No\",\"\"))))","v":""},{"$f":"IF('Outil Recensement'!BJ27=\"Yes\",\"Yes\",IF('Outil Recensement'!BJ27=\"No\",\"No\",IF('Outil Recensement'!BJ27=\"Y\",\"Yes\",IF('Outil Recensement'!BJ27=\"N\",\"No\",\"\"))))","v":""},{"$f":"IF('Outil Recensement'!BK27>0,'Outil Recensement'!BK27,\"\")","v":""},{"$f":"IF('Outil Recensement'!BL27>0,'Outil Recensement'!BL27,\"\")","v":""},{"$f":"IF('Outil Recensement'!BM27>0,'Outil Recensement'!BM27,\"\")","v":""},{"$f":"IF('Outil Recensement'!BN27=\"Male\",\"Male\",IF('Outil Recensement'!BN27=\"Female\",\"Female\",IF('Outil Recensement'!BN27=\"M\",\"Male\",IF('Outil Recensement'!BN27=\"F\",\"Female\",\"\"))))","v":""},{"$f":"IF('Outil Recensement'!BO27=\"Yes\",\"Yes\",IF('Outil Recensement'!BO27=\"No\",\"No\",IF('Outil Recensement'!BO27=\"Y\",\"Yes\",IF('Outil Recensement'!BO27=\"N\",\"No\",\"\"))))","v":""},{"$f":"IF('Outil Recensement'!BP27=\"Yes\",\"Yes\",IF('Outil Recensement'!BP27=\"No\",\"No\",IF('Outil Recensement'!BP27=\"Y\",\"Yes\",IF('Outil Recensement'!BP27=\"N\",\"No\",\"\"))))","v":""},{"$f":"IF('Outil Recensement'!BQ27>0,'Outil Recensement'!BQ27,\"\")","v":""},{"$f":"IF('Outil Recensement'!BR27>0,'Outil Recensement'!BR27,\"\")","v":""},{"$f":"IF('Outil Recensement'!BS27>0,'Outil Recensement'!BS27,\"\")","v":""},{"$f":"IF('Outil Recensement'!BT27=\"Male\",\"Male\",IF('Outil Recensement'!BT27=\"Female\",\"Female\",IF('Outil Recensement'!BT27=\"M\",\"Male\",IF('Outil Recensement'!BT27=\"F\",\"Female\",\"\"))))","v":""},{"$f":"IF('Outil Recensement'!BU27=\"Yes\",\"Yes\",IF('Outil Recensement'!BU27=\"No\",\"No\",IF('Outil Recensement'!BU27=\"Y\",\"Yes\",IF('Outil Recensement'!BU27=\"N\",\"No\",\"\"))))","v":""},{"$f":"IF('Outil Recensement'!BV27=\"Yes\",\"Yes\",IF('Outil Recensement'!BV27=\"No\",\"No\",IF('Outil Recensement'!BV27=\"Y\",\"Yes\",IF('Outil Recensement'!BV27=\"N\",\"No\",\"\"))))","v":""},{"$f":"IF('Outil Recensement'!BW27>0,'Outil Recensement'!BW27,\"\")","v":""},{"$f":"IF('Outil Recensement'!BX27>0,'Outil Recensement'!BX27,\"\")","v":""},{"$f":"IF('Outil Recensement'!BY27>0,'Outil Recensement'!BY27,\"\")","v":""},{"$f":"IF('Outil Recensement'!BZ27=\"Male\",\"Male\",IF('Outil Recensement'!BZ27=\"Female\",\"Female\",IF('Outil Recensement'!BZ27=\"M\",\"Male\",IF('Outil Recensement'!BZ27=\"F\",\"Female\",\"\"))))","v":""},{"$f":"IF('Outil Recensement'!CA27=\"Yes\",\"Yes\",IF('Outil Recensement'!CA27=\"No\",\"No\",IF('Outil Recensement'!CA27=\"Y\",\"Yes\",IF('Outil Recensement'!CA27=\"N\",\"No\",\"\"))))","v":""},{"$f":"IF('Outil Recensement'!CB27=\"Yes\",\"Yes\",IF('Outil Recensement'!CB27=\"No\",\"No\",IF('Outil Recensement'!CB27=\"Y\",\"Yes\",IF('Outil Recensement'!CB27=\"N\",\"No\",\"\"))))","v":""},{"$f":"IF('Outil Recensement'!CH27>0,'Outil Recensement'!CH27,\"\")","v":""}]
[{"$f":"IF('Outil Recensement'!A28>0,'Outil Recensement'!A28,\"\")","v":""},{"$f":"IF('Outil Recensement'!B28>0,'Outil Recensement'!B28,\"\")","v":""},{"$f":"IF('Outil Recensement'!C28>0,'Outil Recensement'!C28,\"\")","v":""},{"$f":"IF('Outil Recensement'!D28>0,'Outil Recensement'!D28,\"\")","v":""},{"$f":"IF('Outil Recensement'!P28>0,TEXT('Outil Recensement'!P28,\"000\"),\"\")","v":""},{"$f":"IF('Outil Recensement'!Q28>0,'Outil Recensement'!Q28,\"\")","v":""},{"$f":"IF('Outil Recensement'!R28>0,'Outil Recensement'!R28,\"\")","v":""},{"$f":"IF('Outil Recensement'!F28>0,DATEVALUE(TEXT('Outil Recensement'!F28,\"yyyy-mm-dd\")),\"\")","v":""},{"$f":"IF('Outil Recensement'!L28>0,DATEVALUE(TEXT('Outil Recensement'!L28,\"yyyy-mm-dd\")),\"\")","v":""},{"$f":"IF('Outil Recensement'!Y28>0,'Outil Recensement'!Y28,\"\")","v":""},{"$f":"IF('Outil Recensement'!T28>0,'Outil Recensement'!T28,\"\")","v":""},{"$f":"IF('Outil Recensement'!G28=\"Homme\",\"Male\",IF('Outil Recensement'!G28=\"Femme\",\"Female\",IF('Outil Recensement'!G28=\"H\",\"Male\",IF('Outil Recensement'!G28=\"F\",\"Female\",\"\"))))","v":""},{"$f":"IF('Outil Recensement'!U28=\"Yes\",\"Yes\",IF('Outil Recensement'!U28=\"No\",\"No\",IF('Outil Recensement'!U28=\"Y\",\"Yes\",IF('Outil Recensement'!U28=\"N\",\"No\",\"\"))))","v":""},{"$f":"IF('Outil Recensement'!I28=\"Individuelle\",\"Single\",IF('Outil Recensement'!I28=\"Familiale\",\"Family\",IF('Outil Recensement'!I28=\"Refus\",\"Family\",IF('Outil Recensement'!I28=\"Parent seul\",\"Family\",IF('Outil Recensement'!I28=\"Couple\",\"Family\",IF('Outil Recensement'!I28=\"In force\",\"Family\",IF('Outil Recensement'!I28=\"Applies\",\"Family\",IF('Outil Recensement'!I28=\"Applicable\",\"Family\",\"\"))))))))","v":""},{"$f":"IF('Outil Recensement'!AC28=\"Anglais\",\"English\",IF('Outil Recensement'!AC28=\"Français\",\"French\",IF('Outil Recensement'!AC28=\"A\",\"English\",IF('Outil Recensement'!AC28=\"F\",\"French\",\"\"))))","v":""},{"$f":"IF('Outil Recensement'!AB28=\"Oui\",\"Yes\",IF('Outil Recensement'!AB28=\"Non\",\"No\",IF('Outil Recensement'!AB28=\"O\",\"Yes\",IF('Outil Recensement'!AB28=\"N\",\"No\",\"\"))))","v":""},{"$f":"IF('Outil Recensement'!AD28>0,'Outil Recensement'!AD28,\"\")","v":""},{"$f":"IF('Outil Recensement'!M28=\"Annuel\",\"Annually\",IF('Outil Recensement'!M28=\"Mensuel\",\"Monthly\",IF('Outil Recensement'!M28=\"Bihebdomadaire\",\"Biweekly\",IF('Outil Recensement'!M28=\"Hebdomadaire\",\"Weekly\",IF('Outil Recensement'!M28=\"Horaire\",\"Hourly\",IF('Outil Recensement'!M28=\"Semi-mensuel\",\"Semi-monthly\",IF('Outil Recensement'!M28=\"Applies\",\"Annual\",IF('Outil Recensement'!M28=\"Applicable\",\"Annual\",\"\"))))))))","v":""},{"$f":"IF('Outil Recensement'!N28>0,'Outil Recensement'!N28,\"\")","v":""},{"$f":"IF('Outil Recensement'!O28>0,'Outil Recensement'!O28,\"\")","v":""},{"$f":"IF('Outil Recensement'!I28=\"Refus\",\"Yes\",\"\")","v":""},{"$f":"IF('Outil Recensement'!I28=\"Refus\",\"Yes\",\"\")","v":""},{"$f":"IF('Outil Recensement'!AE28>0,'Outil Recensement'!AE28,\"\")","v":""},{"$f":"IF('Outil Recensement'!AF28>0,'Outil Recensement'!AF28,\"\")","v":""},{"$f":"IF('Outil Recensement'!AG28>0,'Outil Recensement'!AG28,\"\")","v":""},{"$f":"IF('Outil Recensement'!AH28>0,'Outil Recensement'!AH28,\"\")","v":""},{"$f":"IF('Outil Recensement'!AI28>0,'Outil Recensement'!AI28,\"\")","v":" "},{"$f":"IF('Outil Recensement'!AJ28>0,'Outil Recensement'!AJ28,\"\")","v":" "},{"$f":"IF('Outil Recensement'!W28>0,'Outil Recensement'!W28&\" \",\"\")&IF('Outil Recensement'!V28>0,'Outil Recensement'!V28,\"\")","v":""},null,{"$f":"IF('Outil Recensement'!X28>0,'Outil Recensement'!X28,\"\")","v":""},{"$f":"IF('Outil Recensement'!Y28>0,'Outil Recensement'!Y28,\"\")","v":""},{"$f":"IF('Outil Recensement'!Z28>0,'Outil Recensement'!Z28,\"\")","v":""},{"$f":"IF('Outil Recensement'!AA28>0,'Outil Recensement'!AA28,\"\")","v":""},{"$f":"IF('Outil Recensement'!E28>0,'Outil Recensement'!E28,\"\")","v":""},{"$f":"IF('Outil Recensement'!AK28>0,'Outil Recensement'!AK28,\"\")","v":""},{"$f":"IF('Outil Recensement'!AL28>0,'Outil Recensement'!AL28,\"\")","v":""},{"$f":"IF('Outil Recensement'!AM28>0,'Outil Recensement'!AM28,\"\")","v":""},{"$f":"IF('Outil Recensement'!AN28=\"Male\",\"Male\",IF('Outil Recensement'!AN28=\"Female\",\"Female\",IF('Outil Recensement'!AN28=\"M\",\"Male\",IF('Outil Recensement'!AN28=\"F\",\"Female\",\"\"))))","v":""},{"$f":"IF('Outil Recensement'!AO28=\"Single\",\"Single\",IF('Outil Recensement'!AO28=\"Family\",\"Family\",IF('Outil Recensement'!AO28=\"S\",\"Single\",IF('Outil Recensement'!AO28=\"F\",\"Family\",\"\"))))","v":""},{"$f":"IF('Outil Recensement'!AP28=\"Single\",\"Single\",IF('Outil Recensement'!AP28=\"Family\",\"Family\",IF('Outil Recensement'!AP28=\"S\",\"Single\",IF('Outil Recensement'!AP28=\"F\",\"Family\",\"\"))))","v":""},{"$f":"IF('Outil Recensement'!AQ28>0,'Outil Recensement'!AQ28,\"\")","v":""},{"$f":"IF('Outil Recensement'!AR28=\"Yes\",\"Yes\",IF('Outil Recensement'!AR28=\"No\",\"No\",IF('Outil Recensement'!AR28=\"Y\",\"Yes\",IF('Outil Recensement'!AR28=\"N\",\"No\",\"\"))))","v":""},{"$f":"IF('Outil Recensement'!AS28>0,'Outil Recensement'!AS28,\"\")","v":""},{"$f":"IF('Outil Recensement'!AT28>0,'Outil Recensement'!AT28,\"\")","v":""},{"$f":"IF('Outil Recensement'!AU28>0,'Outil Recensement'!AU28,\"\")","v":""},{"$f":"IF('Outil Recensement'!AV28=\"Male\",\"Male\",IF('Outil Recensement'!AV28=\"Female\",\"Female\",IF('Outil Recensement'!AV28=\"M\",\"Male\",IF('Outil Recensement'!AV28=\"F\",\"Female\",\"\"))))","v":""},{"$f":"IF('Outil Recensement'!AW28=\"Yes\",\"Yes\",IF('Outil Recensement'!AW28=\"No\",\"No\",IF('Outil Recensement'!AW28=\"Y\",\"Yes\",IF('Outil Recensement'!AW28=\"N\",\"No\",\"\"))))","v":""},{"$f":"IF('Outil Recensement'!AX28=\"Yes\",\"Yes\",IF('Outil Recensement'!AX28=\"No\",\"No\",IF('Outil Recensement'!AX28=\"Y\",\"Yes\",IF('Outil Recensement'!AX28=\"N\",\"No\",\"\"))))","v":""},{"$f":"IF('Outil Recensement'!AY28>0,'Outil Recensement'!AY28,\"\")","v":""},{"$f":"IF('Outil Recensement'!AZ28>0,'Outil Recensement'!AZ28,\"\")","v":""},{"$f":"IF('Outil Recensement'!BA28>0,'Outil Recensement'!BA28,\"\")","v":""},{"$f":"IF('Outil Recensement'!BB28=\"Male\",\"Male\",IF('Outil Recensement'!BB28=\"Female\",\"Female\",IF('Outil Recensement'!BB28=\"M\",\"Male\",IF('Outil Recensement'!BB28=\"F\",\"Female\",\"\"))))","v":""},{"$f":"IF('Outil Recensement'!BC28=\"Yes\",\"Yes\",IF('Outil Recensement'!BC28=\"No\",\"No\",IF('Outil Recensement'!BC28=\"Y\",\"Yes\",IF('Outil Recensement'!BC28=\"N\",\"No\",\"\"))))","v":""},{"$f":"IF('Outil Recensement'!BD28=\"Yes\",\"Yes\",IF('Outil Recensement'!BD28=\"No\",\"No\",IF('Outil Recensement'!BD28=\"Y\",\"Yes\",IF('Outil Recensement'!BD28=\"N\",\"No\",\"\"))))","v":""},{"$f":"IF('Outil Recensement'!BE28>0,'Outil Recensement'!BE28,\"\")","v":""},{"$f":"IF('Outil Recensement'!BF28>0,'Outil Recensement'!BF28,\"\")","v":""},{"$f":"IF('Outil Recensement'!BG28>0,'Outil Recensement'!BG28,\"\")","v":""},{"$f":"IF('Outil Recensement'!BH28=\"Male\",\"Male\",IF('Outil Recensement'!BH28=\"Female\",\"Female\",IF('Outil Recensement'!BH28=\"M\",\"Male\",IF('Outil Recensement'!BH28=\"F\",\"Female\",\"\"))))","v":""},{"$f":"IF('Outil Recensement'!BI28=\"Yes\",\"Yes\",IF('Outil Recensement'!BI28=\"No\",\"No\",IF('Outil Recensement'!BI28=\"Y\",\"Yes\",IF('Outil Recensement'!BI28=\"N\",\"No\",\"\"))))","v":""},{"$f":"IF('Outil Recensement'!BJ28=\"Yes\",\"Yes\",IF('Outil Recensement'!BJ28=\"No\",\"No\",IF('Outil Recensement'!BJ28=\"Y\",\"Yes\",IF('Outil Recensement'!BJ28=\"N\",\"No\",\"\"))))","v":""},{"$f":"IF('Outil Recensement'!BK28>0,'Outil Recensement'!BK28,\"\")","v":""},{"$f":"IF('Outil Recensement'!BL28>0,'Outil Recensement'!BL28,\"\")","v":""},{"$f":"IF('Outil Recensement'!BM28>0,'Outil Recensement'!BM28,\"\")","v":""},{"$f":"IF('Outil Recensement'!BN28=\"Male\",\"Male\",IF('Outil Recensement'!BN28=\"Female\",\"Female\",IF('Outil Recensement'!BN28=\"M\",\"Male\",IF('Outil Recensement'!BN28=\"F\",\"Female\",\"\"))))","v":""},{"$f":"IF('Outil Recensement'!BO28=\"Yes\",\"Yes\",IF('Outil Recensement'!BO28=\"No\",\"No\",IF('Outil Recensement'!BO28=\"Y\",\"Yes\",IF('Outil Recensement'!BO28=\"N\",\"No\",\"\"))))","v":""},{"$f":"IF('Outil Recensement'!BP28=\"Yes\",\"Yes\",IF('Outil Recensement'!BP28=\"No\",\"No\",IF('Outil Recensement'!BP28=\"Y\",\"Yes\",IF('Outil Recensement'!BP28=\"N\",\"No\",\"\"))))","v":""},{"$f":"IF('Outil Recensement'!BQ28>0,'Outil Recensement'!BQ28,\"\")","v":""},{"$f":"IF('Outil Recensement'!BR28>0,'Outil Recensement'!BR28,\"\")","v":""},{"$f":"IF('Outil Recensement'!BS28>0,'Outil Recensement'!BS28,\"\")","v":""},{"$f":"IF('Outil Recensement'!BT28=\"Male\",\"Male\",IF('Outil Recensement'!BT28=\"Female\",\"Female\",IF('Outil Recensement'!BT28=\"M\",\"Male\",IF('Outil Recensement'!BT28=\"F\",\"Female\",\"\"))))","v":""},{"$f":"IF('Outil Recensement'!BU28=\"Yes\",\"Yes\",IF('Outil Recensement'!BU28=\"No\",\"No\",IF('Outil Recensement'!BU28=\"Y\",\"Yes\",IF('Outil Recensement'!BU28=\"N\",\"No\",\"\"))))","v":""},{"$f":"IF('Outil Recensement'!BV28=\"Yes\",\"Yes\",IF('Outil Recensement'!BV28=\"No\",\"No\",IF('Outil Recensement'!BV28=\"Y\",\"Yes\",IF('Outil Recensement'!BV28=\"N\",\"No\",\"\"))))","v":""},{"$f":"IF('Outil Recensement'!BW28>0,'Outil Recensement'!BW28,\"\")","v":""},{"$f":"IF('Outil Recensement'!BX28>0,'Outil Recensement'!BX28,\"\")","v":""},{"$f":"IF('Outil Recensement'!BY28>0,'Outil Recensement'!BY28,\"\")","v":""},{"$f":"IF('Outil Recensement'!BZ28=\"Male\",\"Male\",IF('Outil Recensement'!BZ28=\"Female\",\"Female\",IF('Outil Recensement'!BZ28=\"M\",\"Male\",IF('Outil Recensement'!BZ28=\"F\",\"Female\",\"\"))))","v":""},{"$f":"IF('Outil Recensement'!CA28=\"Yes\",\"Yes\",IF('Outil Recensement'!CA28=\"No\",\"No\",IF('Outil Recensement'!CA28=\"Y\",\"Yes\",IF('Outil Recensement'!CA28=\"N\",\"No\",\"\"))))","v":""},{"$f":"IF('Outil Recensement'!CB28=\"Yes\",\"Yes\",IF('Outil Recensement'!CB28=\"No\",\"No\",IF('Outil Recensement'!CB28=\"Y\",\"Yes\",IF('Outil Recensement'!CB28=\"N\",\"No\",\"\"))))","v":""},{"$f":"IF('Outil Recensement'!CH28>0,'Outil Recensement'!CH28,\"\")","v":""}]
[{"$f":"IF('Outil Recensement'!A29>0,'Outil Recensement'!A29,\"\")","v":""},{"$f":"IF('Outil Recensement'!B29>0,'Outil Recensement'!B29,\"\")","v":""},{"$f":"IF('Outil Recensement'!C29>0,'Outil Recensement'!C29,\"\")","v":""},{"$f":"IF('Outil Recensement'!D29>0,'Outil Recensement'!D29,\"\")","v":""},{"$f":"IF('Outil Recensement'!P29>0,TEXT('Outil Recensement'!P29,\"000\"),\"\")","v":""},{"$f":"IF('Outil Recensement'!Q29>0,'Outil Recensement'!Q29,\"\")","v":""},{"$f":"IF('Outil Recensement'!R29>0,'Outil Recensement'!R29,\"\")","v":""},{"$f":"IF('Outil Recensement'!F29>0,DATEVALUE(TEXT('Outil Recensement'!F29,\"yyyy-mm-dd\")),\"\")","v":""},{"$f":"IF('Outil Recensement'!L29>0,DATEVALUE(TEXT('Outil Recensement'!L29,\"yyyy-mm-dd\")),\"\")","v":""},{"$f":"IF('Outil Recensement'!Y29>0,'Outil Recensement'!Y29,\"\")","v":""},{"$f":"IF('Outil Recensement'!T29>0,'Outil Recensement'!T29,\"\")","v":""},{"$f":"IF('Outil Recensement'!G29=\"Homme\",\"Male\",IF('Outil Recensement'!G29=\"Femme\",\"Female\",IF('Outil Recensement'!G29=\"H\",\"Male\",IF('Outil Recensement'!G29=\"F\",\"Female\",\"\"))))","v":""},{"$f":"IF('Outil Recensement'!U29=\"Yes\",\"Yes\",IF('Outil Recensement'!U29=\"No\",\"No\",IF('Outil Recensement'!U29=\"Y\",\"Yes\",IF('Outil Recensement'!U29=\"N\",\"No\",\"\"))))","v":""},{"$f":"IF('Outil Recensement'!I29=\"Individuelle\",\"Single\",IF('Outil Recensement'!I29=\"Familiale\",\"Family\",IF('Outil Recensement'!I29=\"Refus\",\"Family\",IF('Outil Recensement'!I29=\"Parent seul\",\"Family\",IF('Outil Recensement'!I29=\"Couple\",\"Family\",IF('Outil Recensement'!I29=\"In force\",\"Family\",IF('Outil Recensement'!I29=\"Applies\",\"Family\",IF('Outil Recensement'!I29=\"Applicable\",\"Family\",\"\"))))))))","v":""},{"$f":"IF('Outil Recensement'!AC29=\"Anglais\",\"English\",IF('Outil Recensement'!AC29=\"Français\",\"French\",IF('Outil Recensement'!AC29=\"A\",\"English\",IF('Outil Recensement'!AC29=\"F\",\"French\",\"\"))))","v":""},{"$f":"IF('Outil Recensement'!AB29=\"Oui\",\"Yes\",IF('Outil Recensement'!AB29=\"Non\",\"No\",IF('Outil Recensement'!AB29=\"O\",\"Yes\",IF('Outil Recensement'!AB29=\"N\",\"No\",\"\"))))","v":""},{"$f":"IF('Outil Recensement'!AD29>0,'Outil Recensement'!AD29,\"\")","v":""},{"$f":"IF('Outil Recensement'!M29=\"Annuel\",\"Annually\",IF('Outil Recensement'!M29=\"Mensuel\",\"Monthly\",IF('Outil Recensement'!M29=\"Bihebdomadaire\",\"Biweekly\",IF('Outil Recensement'!M29=\"Hebdomadaire\",\"Weekly\",IF('Outil Recensement'!M29=\"Horaire\",\"Hourly\",IF('Outil Recensement'!M29=\"Semi-mensuel\",\"Semi-monthly\",IF('Outil Recensement'!M29=\"Applies\",\"Annual\",IF('Outil Recensement'!M29=\"Applicable\",\"Annual\",\"\"))))))))","v":""},{"$f":"IF('Outil Recensement'!N29>0,'Outil Recensement'!N29,\"\")","v":""},{"$f":"IF('Outil Recensement'!O29>0,'Outil Recensement'!O29,\"\")","v":""},{"$f":"IF('Outil Recensement'!I29=\"Refus\",\"Yes\",\"\")","v":""},{"$f":"IF('Outil Recensement'!I29=\"Refus\",\"Yes\",\"\")","v":""},{"$f":"IF('Outil Recensement'!AE29>0,'Outil Recensement'!AE29,\"\")","v":""},{"$f":"IF('Outil Recensement'!AF29>0,'Outil Recensement'!AF29,\"\")","v":""},{"$f":"IF('Outil Recensement'!AG29>0,'Outil Recensement'!AG29,\"\")","v":""},{"$f":"IF('Outil Recensement'!AH29>0,'Outil Recensement'!AH29,\"\")","v":""},{"$f":"IF('Outil Recensement'!AI29>0,'Outil Recensement'!AI29,\"\")","v":" "},{"$f":"IF('Outil Recensement'!AJ29>0,'Outil Recensement'!AJ29,\"\")","v":" "},{"$f":"IF('Outil Recensement'!W29>0,'Outil Recensement'!W29&\" \",\"\")&IF('Outil Recensement'!V29>0,'Outil Recensement'!V29,\"\")","v":""},null,{"$f":"IF('Outil Recensement'!X29>0,'Outil Recensement'!X29,\"\")","v":""},{"$f":"IF('Outil Recensement'!Y29>0,'Outil Recensement'!Y29,\"\")","v":""},{"$f":"IF('Outil Recensement'!Z29>0,'Outil Recensement'!Z29,\"\")","v":""},{"$f":"IF('Outil Recensement'!AA29>0,'Outil Recensement'!AA29,\"\")","v":""},{"$f":"IF('Outil Recensement'!E29>0,'Outil Recensement'!E29,\"\")","v":""},{"$f":"IF('Outil Recensement'!AK29>0,'Outil Recensement'!AK29,\"\")","v":""},{"$f":"IF('Outil Recensement'!AL29>0,'Outil Recensement'!AL29,\"\")","v":""},{"$f":"IF('Outil Recensement'!AM29>0,'Outil Recensement'!AM29,\"\")","v":""},{"$f":"IF('Outil Recensement'!AN29=\"Male\",\"Male\",IF('Outil Recensement'!AN29=\"Female\",\"Female\",IF('Outil Recensement'!AN29=\"M\",\"Male\",IF('Outil Recensement'!AN29=\"F\",\"Female\",\"\"))))","v":""},{"$f":"IF('Outil Recensement'!AO29=\"Single\",\"Single\",IF('Outil Recensement'!AO29=\"Family\",\"Family\",IF('Outil Recensement'!AO29=\"S\",\"Single\",IF('Outil Recensement'!AO29=\"F\",\"Family\",\"\"))))","v":""},{"$f":"IF('Outil Recensement'!AP29=\"Single\",\"Single\",IF('Outil Recensement'!AP29=\"Family\",\"Family\",IF('Outil Recensement'!AP29=\"S\",\"Single\",IF('Outil Recensement'!AP29=\"F\",\"Family\",\"\"))))","v":""},{"$f":"IF('Outil Recensement'!AQ29>0,'Outil Recensement'!AQ29,\"\")","v":""},{"$f":"IF('Outil Recensement'!AR29=\"Yes\",\"Yes\",IF('Outil Recensement'!AR29=\"No\",\"No\",IF('Outil Recensement'!AR29=\"Y\",\"Yes\",IF('Outil Recensement'!AR29=\"N\",\"No\",\"\"))))","v":""},{"$f":"IF('Outil Recensement'!AS29>0,'Outil Recensement'!AS29,\"\")","v":""},{"$f":"IF('Outil Recensement'!AT29>0,'Outil Recensement'!AT29,\"\")","v":""},{"$f":"IF('Outil Recensement'!AU29>0,'Outil Recensement'!AU29,\"\")","v":""},{"$f":"IF('Outil Recensement'!AV29=\"Male\",\"Male\",IF('Outil Recensement'!AV29=\"Female\",\"Female\",IF('Outil Recensement'!AV29=\"M\",\"Male\",IF('Outil Recensement'!AV29=\"F\",\"Female\",\"\"))))","v":""},{"$f":"IF('Outil Recensement'!AW29=\"Yes\",\"Yes\",IF('Outil Recensement'!AW29=\"No\",\"No\",IF('Outil Recensement'!AW29=\"Y\",\"Yes\",IF('Outil Recensement'!AW29=\"N\",\"No\",\"\"))))","v":""},{"$f":"IF('Outil Recensement'!AX29=\"Yes\",\"Yes\",IF('Outil Recensement'!AX29=\"No\",\"No\",IF('Outil Recensement'!AX29=\"Y\",\"Yes\",IF('Outil Recensement'!AX29=\"N\",\"No\",\"\"))))","v":""},{"$f":"IF('Outil Recensement'!AY29>0,'Outil Recensement'!AY29,\"\")","v":""},{"$f":"IF('Outil Recensement'!AZ29>0,'Outil Recensement'!AZ29,\"\")","v":""},{"$f":"IF('Outil Recensement'!BA29>0,'Outil Recensement'!BA29,\"\")","v":""},{"$f":"IF('Outil Recensement'!BB29=\"Male\",\"Male\",IF('Outil Recensement'!BB29=\"Female\",\"Female\",IF('Outil Recensement'!BB29=\"M\",\"Male\",IF('Outil Recensement'!BB29=\"F\",\"Female\",\"\"))))","v":""},{"$f":"IF('Outil Recensement'!BC29=\"Yes\",\"Yes\",IF('Outil Recensement'!BC29=\"No\",\"No\",IF('Outil Recensement'!BC29=\"Y\",\"Yes\",IF('Outil Recensement'!BC29=\"N\",\"No\",\"\"))))","v":""},{"$f":"IF('Outil Recensement'!BD29=\"Yes\",\"Yes\",IF('Outil Recensement'!BD29=\"No\",\"No\",IF('Outil Recensement'!BD29=\"Y\",\"Yes\",IF('Outil Recensement'!BD29=\"N\",\"No\",\"\"))))","v":""},{"$f":"IF('Outil Recensement'!BE29>0,'Outil Recensement'!BE29,\"\")","v":""},{"$f":"IF('Outil Recensement'!BF29>0,'Outil Recensement'!BF29,\"\")","v":""},{"$f":"IF('Outil Recensement'!BG29>0,'Outil Recensement'!BG29,\"\")","v":""},{"$f":"IF('Outil Recensement'!BH29=\"Male\",\"Male\",IF('Outil Recensement'!BH29=\"Female\",\"Female\",IF('Outil Recensement'!BH29=\"M\",\"Male\",IF('Outil Recensement'!BH29=\"F\",\"Female\",\"\"))))","v":""},{"$f":"IF('Outil Recensement'!BI29=\"Yes\",\"Yes\",IF('Outil Recensement'!BI29=\"No\",\"No\",IF('Outil Recensement'!BI29=\"Y\",\"Yes\",IF('Outil Recensement'!BI29=\"N\",\"No\",\"\"))))","v":""},{"$f":"IF('Outil Recensement'!BJ29=\"Yes\",\"Yes\",IF('Outil Recensement'!BJ29=\"No\",\"No\",IF('Outil Recensement'!BJ29=\"Y\",\"Yes\",IF('Outil Recensement'!BJ29=\"N\",\"No\",\"\"))))","v":""},{"$f":"IF('Outil Recensement'!BK29>0,'Outil Recensement'!BK29,\"\")","v":""},{"$f":"IF('Outil Recensement'!BL29>0,'Outil Recensement'!BL29,\"\")","v":""},{"$f":"IF('Outil Recensement'!BM29>0,'Outil Recensement'!BM29,\"\")","v":""},{"$f":"IF('Outil Recensement'!BN29=\"Male\",\"Male\",IF('Outil Recensement'!BN29=\"Female\",\"Female\",IF('Outil Recensement'!BN29=\"M\",\"Male\",IF('Outil Recensement'!BN29=\"F\",\"Female\",\"\"))))","v":""},{"$f":"IF('Outil Recensement'!BO29=\"Yes\",\"Yes\",IF('Outil Recensement'!BO29=\"No\",\"No\",IF('Outil Recensement'!BO29=\"Y\",\"Yes\",IF('Outil Recensement'!BO29=\"N\",\"No\",\"\"))))","v":""},{"$f":"IF('Outil Recensement'!BP29=\"Yes\",\"Yes\",IF('Outil Recensement'!BP29=\"No\",\"No\",IF('Outil Recensement'!BP29=\"Y\",\"Yes\",IF('Outil Recensement'!BP29=\"N\",\"No\",\"\"))))","v":""},{"$f":"IF('Outil Recensement'!BQ29>0,'Outil Recensement'!BQ29,\"\")","v":""},{"$f":"IF('Outil Recensement'!BR29>0,'Outil Recensement'!BR29,\"\")","v":""},{"$f":"IF('Outil Recensement'!BS29>0,'Outil Recensement'!BS29,\"\")","v":""},{"$f":"IF('Outil Recensement'!BT29=\"Male\",\"Male\",IF('Outil Recensement'!BT29=\"Female\",\"Female\",IF('Outil Recensement'!BT29=\"M\",\"Male\",IF('Outil Recensement'!BT29=\"F\",\"Female\",\"\"))))","v":""},{"$f":"IF('Outil Recensement'!BU29=\"Yes\",\"Yes\",IF('Outil Recensement'!BU29=\"No\",\"No\",IF('Outil Recensement'!BU29=\"Y\",\"Yes\",IF('Outil Recensement'!BU29=\"N\",\"No\",\"\"))))","v":""},{"$f":"IF('Outil Recensement'!BV29=\"Yes\",\"Yes\",IF('Outil Recensement'!BV29=\"No\",\"No\",IF('Outil Recensement'!BV29=\"Y\",\"Yes\",IF('Outil Recensement'!BV29=\"N\",\"No\",\"\"))))","v":""},{"$f":"IF('Outil Recensement'!BW29>0,'Outil Recensement'!BW29,\"\")","v":""},{"$f":"IF('Outil Recensement'!BX29>0,'Outil Recensement'!BX29,\"\")","v":""},{"$f":"IF('Outil Recensement'!BY29>0,'Outil Recensement'!BY29,\"\")","v":""},{"$f":"IF('Outil Recensement'!BZ29=\"Male\",\"Male\",IF('Outil Recensement'!BZ29=\"Female\",\"Female\",IF('Outil Recensement'!BZ29=\"M\",\"Male\",IF('Outil Recensement'!BZ29=\"F\",\"Female\",\"\"))))","v":""},{"$f":"IF('Outil Recensement'!CA29=\"Yes\",\"Yes\",IF('Outil Recensement'!CA29=\"No\",\"No\",IF('Outil Recensement'!CA29=\"Y\",\"Yes\",IF('Outil Recensement'!CA29=\"N\",\"No\",\"\"))))","v":""},{"$f":"IF('Outil Recensement'!CB29=\"Yes\",\"Yes\",IF('Outil Recensement'!CB29=\"No\",\"No\",IF('Outil Recensement'!CB29=\"Y\",\"Yes\",IF('Outil Recensement'!CB29=\"N\",\"No\",\"\"))))","v":""},{"$f":"IF('Outil Recensement'!CH29>0,'Outil Recensement'!CH29,\"\")","v":""}]
[{"$f":"IF('Outil Recensement'!A30>0,'Outil Recensement'!A30,\"\")","v":""},{"$f":"IF('Outil Recensement'!B30>0,'Outil Recensement'!B30,\"\")","v":""},{"$f":"IF('Outil Recensement'!C30>0,'Outil Recensement'!C30,\"\")","v":""},{"$f":"IF('Outil Recensement'!D30>0,'Outil Recensement'!D30,\"\")","v":""},{"$f":"IF('Outil Recensement'!P30>0,TEXT('Outil Recensement'!P30,\"000\"),\"\")","v":""},{"$f":"IF('Outil Recensement'!Q30>0,'Outil Recensement'!Q30,\"\")","v":""},{"$f":"IF('Outil Recensement'!R30>0,'Outil Recensement'!R30,\"\")","v":""},{"$f":"IF('Outil Recensement'!F30>0,DATEVALUE(TEXT('Outil Recensement'!F30,\"yyyy-mm-dd\")),\"\")","v":""},{"$f":"IF('Outil Recensement'!L30>0,DATEVALUE(TEXT('Outil Recensement'!L30,\"yyyy-mm-dd\")),\"\")","v":""},{"$f":"IF('Outil Recensement'!Y30>0,'Outil Recensement'!Y30,\"\")","v":""},{"$f":"IF('Outil Recensement'!T30>0,'Outil Recensement'!T30,\"\")","v":""},{"$f":"IF('Outil Recensement'!G30=\"Homme\",\"Male\",IF('Outil Recensement'!G30=\"Femme\",\"Female\",IF('Outil Recensement'!G30=\"H\",\"Male\",IF('Outil Recensement'!G30=\"F\",\"Female\",\"\"))))","v":""},{"$f":"IF('Outil Recensement'!U30=\"Yes\",\"Yes\",IF('Outil Recensement'!U30=\"No\",\"No\",IF('Outil Recensement'!U30=\"Y\",\"Yes\",IF('Outil Recensement'!U30=\"N\",\"No\",\"\"))))","v":""},{"$f":"IF('Outil Recensement'!I30=\"Individuelle\",\"Single\",IF('Outil Recensement'!I30=\"Familiale\",\"Family\",IF('Outil Recensement'!I30=\"Refus\",\"Family\",IF('Outil Recensement'!I30=\"Parent seul\",\"Family\",IF('Outil Recensement'!I30=\"Couple\",\"Family\",IF('Outil Recensement'!I30=\"In force\",\"Family\",IF('Outil Recensement'!I30=\"Applies\",\"Family\",IF('Outil Recensement'!I30=\"Applicable\",\"Family\",\"\"))))))))","v":""},{"$f":"IF('Outil Recensement'!AC30=\"Anglais\",\"English\",IF('Outil Recensement'!AC30=\"Français\",\"French\",IF('Outil Recensement'!AC30=\"A\",\"English\",IF('Outil Recensement'!AC30=\"F\",\"French\",\"\"))))","v":""},{"$f":"IF('Outil Recensement'!AB30=\"Oui\",\"Yes\",IF('Outil Recensement'!AB30=\"Non\",\"No\",IF('Outil Recensement'!AB30=\"O\",\"Yes\",IF('Outil Recensement'!AB30=\"N\",\"No\",\"\"))))","v":""},{"$f":"IF('Outil Recensement'!AD30>0,'Outil Recensement'!AD30,\"\")","v":""},{"$f":"IF('Outil Recensement'!M30=\"Annuel\",\"Annually\",IF('Outil Recensement'!M30=\"Mensuel\",\"Monthly\",IF('Outil Recensement'!M30=\"Bihebdomadaire\",\"Biweekly\",IF('Outil Recensement'!M30=\"Hebdomadaire\",\"Weekly\",IF('Outil Recensement'!M30=\"Horaire\",\"Hourly\",IF('Outil Recensement'!M30=\"Semi-mensuel\",\"Semi-monthly\",IF('Outil Recensement'!M30=\"Applies\",\"Annual\",IF('Outil Recensement'!M30=\"Applicable\",\"Annual\",\"\"))))))))","v":""},{"$f":"IF('Outil Recensement'!N30>0,'Outil Recensement'!N30,\"\")","v":""},{"$f":"IF('Outil Recensement'!O30>0,'Outil Recensement'!O30,\"\")","v":""},{"$f":"IF('Outil Recensement'!I30=\"Refus\",\"Yes\",\"\")","v":""},{"$f":"IF('Outil Recensement'!I30=\"Refus\",\"Yes\",\"\")","v":""},{"$f":"IF('Outil Recensement'!AE30>0,'Outil Recensement'!AE30,\"\")","v":""},{"$f":"IF('Outil Recensement'!AF30>0,'Outil Recensement'!AF30,\"\")","v":""},{"$f":"IF('Outil Recensement'!AG30>0,'Outil Recensement'!AG30,\"\")","v":""},{"$f":"IF('Outil Recensement'!AH30>0,'Outil Recensement'!AH30,\"\")","v":""},{"$f":"IF('Outil Recensement'!AI30>0,'Outil Recensement'!AI30,\"\")","v":" "},{"$f":"IF('Outil Recensement'!AJ30>0,'Outil Recensement'!AJ30,\"\")","v":" "},{"$f":"IF('Outil Recensement'!W30>0,'Outil Recensement'!W30&\" \",\"\")&IF('Outil Recensement'!V30>0,'Outil Recensement'!V30,\"\")","v":""},null,{"$f":"IF('Outil Recensement'!X30>0,'Outil Recensement'!X30,\"\")","v":""},{"$f":"IF('Outil Recensement'!Y30>0,'Outil Recensement'!Y30,\"\")","v":""},{"$f":"IF('Outil Recensement'!Z30>0,'Outil Recensement'!Z30,\"\")","v":""},{"$f":"IF('Outil Recensement'!AA30>0,'Outil Recensement'!AA30,\"\")","v":""},{"$f":"IF('Outil Recensement'!E30>0,'Outil Recensement'!E30,\"\")","v":""},{"$f":"IF('Outil Recensement'!AK30>0,'Outil Recensement'!AK30,\"\")","v":""},{"$f":"IF('Outil Recensement'!AL30>0,'Outil Recensement'!AL30,\"\")","v":""},{"$f":"IF('Outil Recensement'!AM30>0,'Outil Recensement'!AM30,\"\")","v":""},{"$f":"IF('Outil Recensement'!AN30=\"Male\",\"Male\",IF('Outil Recensement'!AN30=\"Female\",\"Female\",IF('Outil Recensement'!AN30=\"M\",\"Male\",IF('Outil Recensement'!AN30=\"F\",\"Female\",\"\"))))","v":""},{"$f":"IF('Outil Recensement'!AO30=\"Single\",\"Single\",IF('Outil Recensement'!AO30=\"Family\",\"Family\",IF('Outil Recensement'!AO30=\"S\",\"Single\",IF('Outil Recensement'!AO30=\"F\",\"Family\",\"\"))))","v":""},{"$f":"IF('Outil Recensement'!AP30=\"Single\",\"Single\",IF('Outil Recensement'!AP30=\"Family\",\"Family\",IF('Outil Recensement'!AP30=\"S\",\"Single\",IF('Outil Recensement'!AP30=\"F\",\"Family\",\"\"))))","v":""},{"$f":"IF('Outil Recensement'!AQ30>0,'Outil Recensement'!AQ30,\"\")","v":""},{"$f":"IF('Outil Recensement'!AR30=\"Yes\",\"Yes\",IF('Outil Recensement'!AR30=\"No\",\"No\",IF('Outil Recensement'!AR30=\"Y\",\"Yes\",IF('Outil Recensement'!AR30=\"N\",\"No\",\"\"))))","v":""},{"$f":"IF('Outil Recensement'!AS30>0,'Outil Recensement'!AS30,\"\")","v":""},{"$f":"IF('Outil Recensement'!AT30>0,'Outil Recensement'!AT30,\"\")","v":""},{"$f":"IF('Outil Recensement'!AU30>0,'Outil Recensement'!AU30,\"\")","v":""},{"$f":"IF('Outil Recensement'!AV30=\"Male\",\"Male\",IF('Outil Recensement'!AV30=\"Female\",\"Female\",IF('Outil Recensement'!AV30=\"M\",\"Male\",IF('Outil Recensement'!AV30=\"F\",\"Female\",\"\"))))","v":""},{"$f":"IF('Outil Recensement'!AW30=\"Yes\",\"Yes\",IF('Outil Recensement'!AW30=\"No\",\"No\",IF('Outil Recensement'!AW30=\"Y\",\"Yes\",IF('Outil Recensement'!AW30=\"N\",\"No\",\"\"))))","v":""},{"$f":"IF('Outil Recensement'!AX30=\"Yes\",\"Yes\",IF('Outil Recensement'!AX30=\"No\",\"No\",IF('Outil Recensement'!AX30=\"Y\",\"Yes\",IF('Outil Recensement'!AX30=\"N\",\"No\",\"\"))))","v":""},{"$f":"IF('Outil Recensement'!AY30>0,'Outil Recensement'!AY30,\"\")","v":""},{"$f":"IF('Outil Recensement'!AZ30>0,'Outil Recensement'!AZ30,\"\")","v":""},{"$f":"IF('Outil Recensement'!BA30>0,'Outil Recensement'!BA30,\"\")","v":""},{"$f":"IF('Outil Recensement'!BB30=\"Male\",\"Male\",IF('Outil Recensement'!BB30=\"Female\",\"Female\",IF('Outil Recensement'!BB30=\"M\",\"Male\",IF('Outil Recensement'!BB30=\"F\",\"Female\",\"\"))))","v":""},{"$f":"IF('Outil Recensement'!BC30=\"Yes\",\"Yes\",IF('Outil Recensement'!BC30=\"No\",\"No\",IF('Outil Recensement'!BC30=\"Y\",\"Yes\",IF('Outil Recensement'!BC30=\"N\",\"No\",\"\"))))","v":""},{"$f":"IF('Outil Recensement'!BD30=\"Yes\",\"Yes\",IF('Outil Recensement'!BD30=\"No\",\"No\",IF('Outil Recensement'!BD30=\"Y\",\"Yes\",IF('Outil Recensement'!BD30=\"N\",\"No\",\"\"))))","v":""},{"$f":"IF('Outil Recensement'!BE30>0,'Outil Recensement'!BE30,\"\")","v":""},{"$f":"IF('Outil Recensement'!BF30>0,'Outil Recensement'!BF30,\"\")","v":""},{"$f":"IF('Outil Recensement'!BG30>0,'Outil Recensement'!BG30,\"\")","v":""},{"$f":"IF('Outil Recensement'!BH30=\"Male\",\"Male\",IF('Outil Recensement'!BH30=\"Female\",\"Female\",IF('Outil Recensement'!BH30=\"M\",\"Male\",IF('Outil Recensement'!BH30=\"F\",\"Female\",\"\"))))","v":""},{"$f":"IF('Outil Recensement'!BI30=\"Yes\",\"Yes\",IF('Outil Recensement'!BI30=\"No\",\"No\",IF('Outil Recensement'!BI30=\"Y\",\"Yes\",IF('Outil Recensement'!BI30=\"N\",\"No\",\"\"))))","v":""},{"$f":"IF('Outil Recensement'!BJ30=\"Yes\",\"Yes\",IF('Outil Recensement'!BJ30=\"No\",\"No\",IF('Outil Recensement'!BJ30=\"Y\",\"Yes\",IF('Outil Recensement'!BJ30=\"N\",\"No\",\"\"))))","v":""},{"$f":"IF('Outil Recensement'!BK30>0,'Outil Recensement'!BK30,\"\")","v":""},{"$f":"IF('Outil Recensement'!BL30>0,'Outil Recensement'!BL30,\"\")","v":""},{"$f":"IF('Outil Recensement'!BM30>0,'Outil Recensement'!BM30,\"\")","v":""},{"$f":"IF('Outil Recensement'!BN30=\"Male\",\"Male\",IF('Outil Recensement'!BN30=\"Female\",\"Female\",IF('Outil Recensement'!BN30=\"M\",\"Male\",IF('Outil Recensement'!BN30=\"F\",\"Female\",\"\"))))","v":""},{"$f":"IF('Outil Recensement'!BO30=\"Yes\",\"Yes\",IF('Outil Recensement'!BO30=\"No\",\"No\",IF('Outil Recensement'!BO30=\"Y\",\"Yes\",IF('Outil Recensement'!BO30=\"N\",\"No\",\"\"))))","v":""},{"$f":"IF('Outil Recensement'!BP30=\"Yes\",\"Yes\",IF('Outil Recensement'!BP30=\"No\",\"No\",IF('Outil Recensement'!BP30=\"Y\",\"Yes\",IF('Outil Recensement'!BP30=\"N\",\"No\",\"\"))))","v":""},{"$f":"IF('Outil Recensement'!BQ30>0,'Outil Recensement'!BQ30,\"\")","v":""},{"$f":"IF('Outil Recensement'!BR30>0,'Outil Recensement'!BR30,\"\")","v":""},{"$f":"IF('Outil Recensement'!BS30>0,'Outil Recensement'!BS30,\"\")","v":""},{"$f":"IF('Outil Recensement'!BT30=\"Male\",\"Male\",IF('Outil Recensement'!BT30=\"Female\",\"Female\",IF('Outil Recensement'!BT30=\"M\",\"Male\",IF('Outil Recensement'!BT30=\"F\",\"Female\",\"\"))))","v":""},{"$f":"IF('Outil Recensement'!BU30=\"Yes\",\"Yes\",IF('Outil Recensement'!BU30=\"No\",\"No\",IF('Outil Recensement'!BU30=\"Y\",\"Yes\",IF('Outil Recensement'!BU30=\"N\",\"No\",\"\"))))","v":""},{"$f":"IF('Outil Recensement'!BV30=\"Yes\",\"Yes\",IF('Outil Recensement'!BV30=\"No\",\"No\",IF('Outil Recensement'!BV30=\"Y\",\"Yes\",IF('Outil Recensement'!BV30=\"N\",\"No\",\"\"))))","v":""},{"$f":"IF('Outil Recensement'!BW30>0,'Outil Recensement'!BW30,\"\")","v":""},{"$f":"IF('Outil Recensement'!BX30>0,'Outil Recensement'!BX30,\"\")","v":""},{"$f":"IF('Outil Recensement'!BY30>0,'Outil Recensement'!BY30,\"\")","v":""},{"$f":"IF('Outil Recensement'!BZ30=\"Male\",\"Male\",IF('Outil Recensement'!BZ30=\"Female\",\"Female\",IF('Outil Recensement'!BZ30=\"M\",\"Male\",IF('Outil Recensement'!BZ30=\"F\",\"Female\",\"\"))))","v":""},{"$f":"IF('Outil Recensement'!CA30=\"Yes\",\"Yes\",IF('Outil Recensement'!CA30=\"No\",\"No\",IF('Outil Recensement'!CA30=\"Y\",\"Yes\",IF('Outil Recensement'!CA30=\"N\",\"No\",\"\"))))","v":""},{"$f":"IF('Outil Recensement'!CB30=\"Yes\",\"Yes\",IF('Outil Recensement'!CB30=\"No\",\"No\",IF('Outil Recensement'!CB30=\"Y\",\"Yes\",IF('Outil Recensement'!CB30=\"N\",\"No\",\"\"))))","v":""},{"$f":"IF('Outil Recensement'!CH30>0,'Outil Recensement'!CH30,\"\")","v":""}]
[{"$f":"IF('Outil Recensement'!A31>0,'Outil Recensement'!A31,\"\")","v":""},{"$f":"IF('Outil Recensement'!B31>0,'Outil Recensement'!B31,\"\")","v":""},{"$f":"IF('Outil Recensement'!C31>0,'Outil Recensement'!C31,\"\")","v":""},{"$f":"IF('Outil Recensement'!D31>0,'Outil Recensement'!D31,\"\")","v":""},{"$f":"IF('Outil Recensement'!P31>0,TEXT('Outil Recensement'!P31,\"000\"),\"\")","v":""},{"$f":"IF('Outil Recensement'!Q31>0,'Outil Recensement'!Q31,\"\")","v":""},{"$f":"IF('Outil Recensement'!R31>0,'Outil Recensement'!R31,\"\")","v":""},{"$f":"IF('Outil Recensement'!F31>0,DATEVALUE(TEXT('Outil Recensement'!F31,\"yyyy-mm-dd\")),\"\")","v":""},{"$f":"IF('Outil Recensement'!L31>0,DATEVALUE(TEXT('Outil Recensement'!L31,\"yyyy-mm-dd\")),\"\")","v":""},{"$f":"IF('Outil Recensement'!Y31>0,'Outil Recensement'!Y31,\"\")","v":""},{"$f":"IF('Outil Recensement'!T31>0,'Outil Recensement'!T31,\"\")","v":""},{"$f":"IF('Outil Recensement'!G31=\"Homme\",\"Male\",IF('Outil Recensement'!G31=\"Femme\",\"Female\",IF('Outil Recensement'!G31=\"H\",\"Male\",IF('Outil Recensement'!G31=\"F\",\"Female\",\"\"))))","v":""},{"$f":"IF('Outil Recensement'!U31=\"Yes\",\"Yes\",IF('Outil Recensement'!U31=\"No\",\"No\",IF('Outil Recensement'!U31=\"Y\",\"Yes\",IF('Outil Recensement'!U31=\"N\",\"No\",\"\"))))","v":""},{"$f":"IF('Outil Recensement'!I31=\"Individuelle\",\"Single\",IF('Outil Recensement'!I31=\"Familiale\",\"Family\",IF('Outil Recensement'!I31=\"Refus\",\"Family\",IF('Outil Recensement'!I31=\"Parent seul\",\"Family\",IF('Outil Recensement'!I31=\"Couple\",\"Family\",IF('Outil Recensement'!I31=\"In force\",\"Family\",IF('Outil Recensement'!I31=\"Applies\",\"Family\",IF('Outil Recensement'!I31=\"Applicable\",\"Family\",\"\"))))))))","v":""},{"$f":"IF('Outil Recensement'!AC31=\"Anglais\",\"English\",IF('Outil Recensement'!AC31=\"Français\",\"French\",IF('Outil Recensement'!AC31=\"A\",\"English\",IF('Outil Recensement'!AC31=\"F\",\"French\",\"\"))))","v":""},{"$f":"IF('Outil Recensement'!AB31=\"Oui\",\"Yes\",IF('Outil Recensement'!AB31=\"Non\",\"No\",IF('Outil Recensement'!AB31=\"O\",\"Yes\",IF('Outil Recensement'!AB31=\"N\",\"No\",\"\"))))","v":""},{"$f":"IF('Outil Recensement'!AD31>0,'Outil Recensement'!AD31,\"\")","v":""},{"$f":"IF('Outil Recensement'!M31=\"Annuel\",\"Annually\",IF('Outil Recensement'!M31=\"Mensuel\",\"Monthly\",IF('Outil Recensement'!M31=\"Bihebdomadaire\",\"Biweekly\",IF('Outil Recensement'!M31=\"Hebdomadaire\",\"Weekly\",IF('Outil Recensement'!M31=\"Horaire\",\"Hourly\",IF('Outil Recensement'!M31=\"Semi-mensuel\",\"Semi-monthly\",IF('Outil Recensement'!M31=\"Applies\",\"Annual\",IF('Outil Recensement'!M31=\"Applicable\",\"Annual\",\"\"))))))))","v":""},{"$f":"IF('Outil Recensement'!N31>0,'Outil Recensement'!N31,\"\")","v":""},{"$f":"IF('Outil Recensement'!O31>0,'Outil Recensement'!O31,\"\")","v":""},{"$f":"IF('Outil Recensement'!I31=\"Refus\",\"Yes\",\"\")","v":""},{"$f":"IF('Outil Recensement'!I31=\"Refus\",\"Yes\",\"\")","v":""},{"$f":"IF('Outil Recensement'!AE31>0,'Outil Recensement'!AE31,\"\")","v":""},{"$f":"IF('Outil Recensement'!AF31>0,'Outil Recensement'!AF31,\"\")","v":""},{"$f":"IF('Outil Recensement'!AG31>0,'Outil Recensement'!AG31,\"\")","v":""},{"$f":"IF('Outil Recensement'!AH31>0,'Outil Recensement'!AH31,\"\")","v":""},{"$f":"IF('Outil Recensement'!AI31>0,'Outil Recensement'!AI31,\"\")","v":" "},{"$f":"IF('Outil Recensement'!AJ31>0,'Outil Recensement'!AJ31,\"\")","v":" "},{"$f":"IF('Outil Recensement'!W31>0,'Outil Recensement'!W31&\" \",\"\")&IF('Outil Recensement'!V31>0,'Outil Recensement'!V31,\"\")","v":""},null,{"$f":"IF('Outil Recensement'!X31>0,'Outil Recensement'!X31,\"\")","v":""},{"$f":"IF('Outil Recensement'!Y31>0,'Outil Recensement'!Y31,\"\")","v":""},{"$f":"IF('Outil Recensement'!Z31>0,'Outil Recensement'!Z31,\"\")","v":""},{"$f":"IF('Outil Recensement'!AA31>0,'Outil Recensement'!AA31,\"\")","v":""},{"$f":"IF('Outil Recensement'!E31>0,'Outil Recensement'!E31,\"\")","v":""},{"$f":"IF('Outil Recensement'!AK31>0,'Outil Recensement'!AK31,\"\")","v":""},{"$f":"IF('Outil Recensement'!AL31>0,'Outil Recensement'!AL31,\"\")","v":""},{"$f":"IF('Outil Recensement'!AM31>0,'Outil Recensement'!AM31,\"\")","v":""},{"$f":"IF('Outil Recensement'!AN31=\"Male\",\"Male\",IF('Outil Recensement'!AN31=\"Female\",\"Female\",IF('Outil Recensement'!AN31=\"M\",\"Male\",IF('Outil Recensement'!AN31=\"F\",\"Female\",\"\"))))","v":""},{"$f":"IF('Outil Recensement'!AO31=\"Single\",\"Single\",IF('Outil Recensement'!AO31=\"Family\",\"Family\",IF('Outil Recensement'!AO31=\"S\",\"Single\",IF('Outil Recensement'!AO31=\"F\",\"Family\",\"\"))))","v":""},{"$f":"IF('Outil Recensement'!AP31=\"Single\",\"Single\",IF('Outil Recensement'!AP31=\"Family\",\"Family\",IF('Outil Recensement'!AP31=\"S\",\"Single\",IF('Outil Recensement'!AP31=\"F\",\"Family\",\"\"))))","v":""},{"$f":"IF('Outil Recensement'!AQ31>0,'Outil Recensement'!AQ31,\"\")","v":""},{"$f":"IF('Outil Recensement'!AR31=\"Yes\",\"Yes\",IF('Outil Recensement'!AR31=\"No\",\"No\",IF('Outil Recensement'!AR31=\"Y\",\"Yes\",IF('Outil Recensement'!AR31=\"N\",\"No\",\"\"))))","v":""},{"$f":"IF('Outil Recensement'!AS31>0,'Outil Recensement'!AS31,\"\")","v":""},{"$f":"IF('Outil Recensement'!AT31>0,'Outil Recensement'!AT31,\"\")","v":""},{"$f":"IF('Outil Recensement'!AU31>0,'Outil Recensement'!AU31,\"\")","v":""},{"$f":"IF('Outil Recensement'!AV31=\"Male\",\"Male\",IF('Outil Recensement'!AV31=\"Female\",\"Female\",IF('Outil Recensement'!AV31=\"M\",\"Male\",IF('Outil Recensement'!AV31=\"F\",\"Female\",\"\"))))","v":""},{"$f":"IF('Outil Recensement'!AW31=\"Yes\",\"Yes\",IF('Outil Recensement'!AW31=\"No\",\"No\",IF('Outil Recensement'!AW31=\"Y\",\"Yes\",IF('Outil Recensement'!AW31=\"N\",\"No\",\"\"))))","v":""},{"$f":"IF('Outil Recensement'!AX31=\"Yes\",\"Yes\",IF('Outil Recensement'!AX31=\"No\",\"No\",IF('Outil Recensement'!AX31=\"Y\",\"Yes\",IF('Outil Recensement'!AX31=\"N\",\"No\",\"\"))))","v":""},{"$f":"IF('Outil Recensement'!AY31>0,'Outil Recensement'!AY31,\"\")","v":""},{"$f":"IF('Outil Recensement'!AZ31>0,'Outil Recensement'!AZ31,\"\")","v":""},{"$f":"IF('Outil Recensement'!BA31>0,'Outil Recensement'!BA31,\"\")","v":""},{"$f":"IF('Outil Recensement'!BB31=\"Male\",\"Male\",IF('Outil Recensement'!BB31=\"Female\",\"Female\",IF('Outil Recensement'!BB31=\"M\",\"Male\",IF('Outil Recensement'!BB31=\"F\",\"Female\",\"\"))))","v":""},{"$f":"IF('Outil Recensement'!BC31=\"Yes\",\"Yes\",IF('Outil Recensement'!BC31=\"No\",\"No\",IF('Outil Recensement'!BC31=\"Y\",\"Yes\",IF('Outil Recensement'!BC31=\"N\",\"No\",\"\"))))","v":""},{"$f":"IF('Outil Recensement'!BD31=\"Yes\",\"Yes\",IF('Outil Recensement'!BD31=\"No\",\"No\",IF('Outil Recensement'!BD31=\"Y\",\"Yes\",IF('Outil Recensement'!BD31=\"N\",\"No\",\"\"))))","v":""},{"$f":"IF('Outil Recensement'!BE31>0,'Outil Recensement'!BE31,\"\")","v":""},{"$f":"IF('Outil Recensement'!BF31>0,'Outil Recensement'!BF31,\"\")","v":""},{"$f":"IF('Outil Recensement'!BG31>0,'Outil Recensement'!BG31,\"\")","v":""},{"$f":"IF('Outil Recensement'!BH31=\"Male\",\"Male\",IF('Outil Recensement'!BH31=\"Female\",\"Female\",IF('Outil Recensement'!BH31=\"M\",\"Male\",IF('Outil Recensement'!BH31=\"F\",\"Female\",\"\"))))","v":""},{"$f":"IF('Outil Recensement'!BI31=\"Yes\",\"Yes\",IF('Outil Recensement'!BI31=\"No\",\"No\",IF('Outil Recensement'!BI31=\"Y\",\"Yes\",IF('Outil Recensement'!BI31=\"N\",\"No\",\"\"))))","v":""},{"$f":"IF('Outil Recensement'!BJ31=\"Yes\",\"Yes\",IF('Outil Recensement'!BJ31=\"No\",\"No\",IF('Outil Recensement'!BJ31=\"Y\",\"Yes\",IF('Outil Recensement'!BJ31=\"N\",\"No\",\"\"))))","v":""},{"$f":"IF('Outil Recensement'!BK31>0,'Outil Recensement'!BK31,\"\")","v":""},{"$f":"IF('Outil Recensement'!BL31>0,'Outil Recensement'!BL31,\"\")","v":""},{"$f":"IF('Outil Recensement'!BM31>0,'Outil Recensement'!BM31,\"\")","v":""},{"$f":"IF('Outil Recensement'!BN31=\"Male\",\"Male\",IF('Outil Recensement'!BN31=\"Female\",\"Female\",IF('Outil Recensement'!BN31=\"M\",\"Male\",IF('Outil Recensement'!BN31=\"F\",\"Female\",\"\"))))","v":""},{"$f":"IF('Outil Recensement'!BO31=\"Yes\",\"Yes\",IF('Outil Recensement'!BO31=\"No\",\"No\",IF('Outil Recensement'!BO31=\"Y\",\"Yes\",IF('Outil Recensement'!BO31=\"N\",\"No\",\"\"))))","v":""},{"$f":"IF('Outil Recensement'!BP31=\"Yes\",\"Yes\",IF('Outil Recensement'!BP31=\"No\",\"No\",IF('Outil Recensement'!BP31=\"Y\",\"Yes\",IF('Outil Recensement'!BP31=\"N\",\"No\",\"\"))))","v":""},{"$f":"IF('Outil Recensement'!BQ31>0,'Outil Recensement'!BQ31,\"\")","v":""},{"$f":"IF('Outil Recensement'!BR31>0,'Outil Recensement'!BR31,\"\")","v":""},{"$f":"IF('Outil Recensement'!BS31>0,'Outil Recensement'!BS31,\"\")","v":""},{"$f":"IF('Outil Recensement'!BT31=\"Male\",\"Male\",IF('Outil Recensement'!BT31=\"Female\",\"Female\",IF('Outil Recensement'!BT31=\"M\",\"Male\",IF('Outil Recensement'!BT31=\"F\",\"Female\",\"\"))))","v":""},{"$f":"IF('Outil Recensement'!BU31=\"Yes\",\"Yes\",IF('Outil Recensement'!BU31=\"No\",\"No\",IF('Outil Recensement'!BU31=\"Y\",\"Yes\",IF('Outil Recensement'!BU31=\"N\",\"No\",\"\"))))","v":""},{"$f":"IF('Outil Recensement'!BV31=\"Yes\",\"Yes\",IF('Outil Recensement'!BV31=\"No\",\"No\",IF('Outil Recensement'!BV31=\"Y\",\"Yes\",IF('Outil Recensement'!BV31=\"N\",\"No\",\"\"))))","v":""},{"$f":"IF('Outil Recensement'!BW31>0,'Outil Recensement'!BW31,\"\")","v":""},{"$f":"IF('Outil Recensement'!BX31>0,'Outil Recensement'!BX31,\"\")","v":""},{"$f":"IF('Outil Recensement'!BY31>0,'Outil Recensement'!BY31,\"\")","v":""},{"$f":"IF('Outil Recensement'!BZ31=\"Male\",\"Male\",IF('Outil Recensement'!BZ31=\"Female\",\"Female\",IF('Outil Recensement'!BZ31=\"M\",\"Male\",IF('Outil Recensement'!BZ31=\"F\",\"Female\",\"\"))))","v":""},{"$f":"IF('Outil Recensement'!CA31=\"Yes\",\"Yes\",IF('Outil Recensement'!CA31=\"No\",\"No\",IF('Outil Recensement'!CA31=\"Y\",\"Yes\",IF('Outil Recensement'!CA31=\"N\",\"No\",\"\"))))","v":""},{"$f":"IF('Outil Recensement'!CB31=\"Yes\",\"Yes\",IF('Outil Recensement'!CB31=\"No\",\"No\",IF('Outil Recensement'!CB31=\"Y\",\"Yes\",IF('Outil Recensement'!CB31=\"N\",\"No\",\"\"))))","v":""},{"$f":"IF('Outil Recensement'!CH31>0,'Outil Recensement'!CH31,\"\")","v":""}]
[{"$f":"IF('Outil Recensement'!A32>0,'Outil Recensement'!A32,\"\")","v":""},{"$f":"IF('Outil Recensement'!B32>0,'Outil Recensement'!B32,\"\")","v":""},{"$f":"IF('Outil Recensement'!C32>0,'Outil Recensement'!C32,\"\")","v":""},{"$f":"IF('Outil Recensement'!D32>0,'Outil Recensement'!D32,\"\")","v":""},{"$f":"IF('Outil Recensement'!P32>0,TEXT('Outil Recensement'!P32,\"000\"),\"\")","v":""},{"$f":"IF('Outil Recensement'!Q32>0,'Outil Recensement'!Q32,\"\")","v":""},{"$f":"IF('Outil Recensement'!R32>0,'Outil Recensement'!R32,\"\")","v":""},{"$f":"IF('Outil Recensement'!F32>0,DATEVALUE(TEXT('Outil Recensement'!F32,\"yyyy-mm-dd\")),\"\")","v":""},{"$f":"IF('Outil Recensement'!L32>0,DATEVALUE(TEXT('Outil Recensement'!L32,\"yyyy-mm-dd\")),\"\")","v":""},{"$f":"IF('Outil Recensement'!Y32>0,'Outil Recensement'!Y32,\"\")","v":""},{"$f":"IF('Outil Recensement'!T32>0,'Outil Recensement'!T32,\"\")","v":""},{"$f":"IF('Outil Recensement'!G32=\"Homme\",\"Male\",IF('Outil Recensement'!G32=\"Femme\",\"Female\",IF('Outil Recensement'!G32=\"H\",\"Male\",IF('Outil Recensement'!G32=\"F\",\"Female\",\"\"))))","v":""},{"$f":"IF('Outil Recensement'!U32=\"Yes\",\"Yes\",IF('Outil Recensement'!U32=\"No\",\"No\",IF('Outil Recensement'!U32=\"Y\",\"Yes\",IF('Outil Recensement'!U32=\"N\",\"No\",\"\"))))","v":""},{"$f":"IF('Outil Recensement'!I32=\"Individuelle\",\"Single\",IF('Outil Recensement'!I32=\"Familiale\",\"Family\",IF('Outil Recensement'!I32=\"Refus\",\"Family\",IF('Outil Recensement'!I32=\"Parent seul\",\"Family\",IF('Outil Recensement'!I32=\"Couple\",\"Family\",IF('Outil Recensement'!I32=\"In force\",\"Family\",IF('Outil Recensement'!I32=\"Applies\",\"Family\",IF('Outil Recensement'!I32=\"Applicable\",\"Family\",\"\"))))))))","v":""},{"$f":"IF('Outil Recensement'!AC32=\"Anglais\",\"English\",IF('Outil Recensement'!AC32=\"Français\",\"French\",IF('Outil Recensement'!AC32=\"A\",\"English\",IF('Outil Recensement'!AC32=\"F\",\"French\",\"\"))))","v":""},{"$f":"IF('Outil Recensement'!AB32=\"Oui\",\"Yes\",IF('Outil Recensement'!AB32=\"Non\",\"No\",IF('Outil Recensement'!AB32=\"O\",\"Yes\",IF('Outil Recensement'!AB32=\"N\",\"No\",\"\"))))","v":""},{"$f":"IF('Outil Recensement'!AD32>0,'Outil Recensement'!AD32,\"\")","v":""},{"$f":"IF('Outil Recensement'!M32=\"Annuel\",\"Annually\",IF('Outil Recensement'!M32=\"Mensuel\",\"Monthly\",IF('Outil Recensement'!M32=\"Bihebdomadaire\",\"Biweekly\",IF('Outil Recensement'!M32=\"Hebdomadaire\",\"Weekly\",IF('Outil Recensement'!M32=\"Horaire\",\"Hourly\",IF('Outil Recensement'!M32=\"Semi-mensuel\",\"Semi-monthly\",IF('Outil Recensement'!M32=\"Applies\",\"Annual\",IF('Outil Recensement'!M32=\"Applicable\",\"Annual\",\"\"))))))))","v":""},{"$f":"IF('Outil Recensement'!N32>0,'Outil Recensement'!N32,\"\")","v":""},{"$f":"IF('Outil Recensement'!O32>0,'Outil Recensement'!O32,\"\")","v":""},{"$f":"IF('Outil Recensement'!I32=\"Refus\",\"Yes\",\"\")","v":""},{"$f":"IF('Outil Recensement'!I32=\"Refus\",\"Yes\",\"\")","v":""},{"$f":"IF('Outil Recensement'!AE32>0,'Outil Recensement'!AE32,\"\")","v":""},{"$f":"IF('Outil Recensement'!AF32>0,'Outil Recensement'!AF32,\"\")","v":""},{"$f":"IF('Outil Recensement'!AG32>0,'Outil Recensement'!AG32,\"\")","v":""},{"$f":"IF('Outil Recensement'!AH32>0,'Outil Recensement'!AH32,\"\")","v":""},{"$f":"IF('Outil Recensement'!AI32>0,'Outil Recensement'!AI32,\"\")","v":" "},{"$f":"IF('Outil Recensement'!AJ32>0,'Outil Recensement'!AJ32,\"\")","v":" "},{"$f":"IF('Outil Recensement'!W32>0,'Outil Recensement'!W32&\" \",\"\")&IF('Outil Recensement'!V32>0,'Outil Recensement'!V32,\"\")","v":""},null,{"$f":"IF('Outil Recensement'!X32>0,'Outil Recensement'!X32,\"\")","v":""},{"$f":"IF('Outil Recensement'!Y32>0,'Outil Recensement'!Y32,\"\")","v":""},{"$f":"IF('Outil Recensement'!Z32>0,'Outil Recensement'!Z32,\"\")","v":""},{"$f":"IF('Outil Recensement'!AA32>0,'Outil Recensement'!AA32,\"\")","v":""},{"$f":"IF('Outil Recensement'!E32>0,'Outil Recensement'!E32,\"\")","v":""},{"$f":"IF('Outil Recensement'!AK32>0,'Outil Recensement'!AK32,\"\")","v":""},{"$f":"IF('Outil Recensement'!AL32>0,'Outil Recensement'!AL32,\"\")","v":""},{"$f":"IF('Outil Recensement'!AM32>0,'Outil Recensement'!AM32,\"\")","v":""},{"$f":"IF('Outil Recensement'!AN32=\"Male\",\"Male\",IF('Outil Recensement'!AN32=\"Female\",\"Female\",IF('Outil Recensement'!AN32=\"M\",\"Male\",IF('Outil Recensement'!AN32=\"F\",\"Female\",\"\"))))","v":""},{"$f":"IF('Outil Recensement'!AO32=\"Single\",\"Single\",IF('Outil Recensement'!AO32=\"Family\",\"Family\",IF('Outil Recensement'!AO32=\"S\",\"Single\",IF('Outil Recensement'!AO32=\"F\",\"Family\",\"\"))))","v":""},{"$f":"IF('Outil Recensement'!AP32=\"Single\",\"Single\",IF('Outil Recensement'!AP32=\"Family\",\"Family\",IF('Outil Recensement'!AP32=\"S\",\"Single\",IF('Outil Recensement'!AP32=\"F\",\"Family\",\"\"))))","v":""},{"$f":"IF('Outil Recensement'!AQ32>0,'Outil Recensement'!AQ32,\"\")","v":""},{"$f":"IF('Outil Recensement'!AR32=\"Yes\",\"Yes\",IF('Outil Recensement'!AR32=\"No\",\"No\",IF('Outil Recensement'!AR32=\"Y\",\"Yes\",IF('Outil Recensement'!AR32=\"N\",\"No\",\"\"))))","v":""},{"$f":"IF('Outil Recensement'!AS32>0,'Outil Recensement'!AS32,\"\")","v":""},{"$f":"IF('Outil Recensement'!AT32>0,'Outil Recensement'!AT32,\"\")","v":""},{"$f":"IF('Outil Recensement'!AU32>0,'Outil Recensement'!AU32,\"\")","v":""},{"$f":"IF('Outil Recensement'!AV32=\"Male\",\"Male\",IF('Outil Recensement'!AV32=\"Female\",\"Female\",IF('Outil Recensement'!AV32=\"M\",\"Male\",IF('Outil Recensement'!AV32=\"F\",\"Female\",\"\"))))","v":""},{"$f":"IF('Outil Recensement'!AW32=\"Yes\",\"Yes\",IF('Outil Recensement'!AW32=\"No\",\"No\",IF('Outil Recensement'!AW32=\"Y\",\"Yes\",IF('Outil Recensement'!AW32=\"N\",\"No\",\"\"))))","v":""},{"$f":"IF('Outil Recensement'!AX32=\"Yes\",\"Yes\",IF('Outil Recensement'!AX32=\"No\",\"No\",IF('Outil Recensement'!AX32=\"Y\",\"Yes\",IF('Outil Recensement'!AX32=\"N\",\"No\",\"\"))))","v":""},{"$f":"IF('Outil Recensement'!AY32>0,'Outil Recensement'!AY32,\"\")","v":""},{"$f":"IF('Outil Recensement'!AZ32>0,'Outil Recensement'!AZ32,\"\")","v":""},{"$f":"IF('Outil Recensement'!BA32>0,'Outil Recensement'!BA32,\"\")","v":""},{"$f":"IF('Outil Recensement'!BB32=\"Male\",\"Male\",IF('Outil Recensement'!BB32=\"Female\",\"Female\",IF('Outil Recensement'!BB32=\"M\",\"Male\",IF('Outil Recensement'!BB32=\"F\",\"Female\",\"\"))))","v":""},{"$f":"IF('Outil Recensement'!BC32=\"Yes\",\"Yes\",IF('Outil Recensement'!BC32=\"No\",\"No\",IF('Outil Recensement'!BC32=\"Y\",\"Yes\",IF('Outil Recensement'!BC32=\"N\",\"No\",\"\"))))","v":""},{"$f":"IF('Outil Recensement'!BD32=\"Yes\",\"Yes\",IF('Outil Recensement'!BD32=\"No\",\"No\",IF('Outil Recensement'!BD32=\"Y\",\"Yes\",IF('Outil Recensement'!BD32=\"N\",\"No\",\"\"))))","v":""},{"$f":"IF('Outil Recensement'!BE32>0,'Outil Recensement'!BE32,\"\")","v":""},{"$f":"IF('Outil Recensement'!BF32>0,'Outil Recensement'!BF32,\"\")","v":""},{"$f":"IF('Outil Recensement'!BG32>0,'Outil Recensement'!BG32,\"\")","v":""},{"$f":"IF('Outil Recensement'!BH32=\"Male\",\"Male\",IF('Outil Recensement'!BH32=\"Female\",\"Female\",IF('Outil Recensement'!BH32=\"M\",\"Male\",IF('Outil Recensement'!BH32=\"F\",\"Female\",\"\"))))","v":""},{"$f":"IF('Outil Recensement'!BI32=\"Yes\",\"Yes\",IF('Outil Recensement'!BI32=\"No\",\"No\",IF('Outil Recensement'!BI32=\"Y\",\"Yes\",IF('Outil Recensement'!BI32=\"N\",\"No\",\"\"))))","v":""},{"$f":"IF('Outil Recensement'!BJ32=\"Yes\",\"Yes\",IF('Outil Recensement'!BJ32=\"No\",\"No\",IF('Outil Recensement'!BJ32=\"Y\",\"Yes\",IF('Outil Recensement'!BJ32=\"N\",\"No\",\"\"))))","v":""},{"$f":"IF('Outil Recensement'!BK32>0,'Outil Recensement'!BK32,\"\")","v":""},{"$f":"IF('Outil Recensement'!BL32>0,'Outil Recensement'!BL32,\"\")","v":""},{"$f":"IF('Outil Recensement'!BM32>0,'Outil Recensement'!BM32,\"\")","v":""},{"$f":"IF('Outil Recensement'!BN32=\"Male\",\"Male\",IF('Outil Recensement'!BN32=\"Female\",\"Female\",IF('Outil Recensement'!BN32=\"M\",\"Male\",IF('Outil Recensement'!BN32=\"F\",\"Female\",\"\"))))","v":""},{"$f":"IF('Outil Recensement'!BO32=\"Yes\",\"Yes\",IF('Outil Recensement'!BO32=\"No\",\"No\",IF('Outil Recensement'!BO32=\"Y\",\"Yes\",IF('Outil Recensement'!BO32=\"N\",\"No\",\"\"))))","v":""},{"$f":"IF('Outil Recensement'!BP32=\"Yes\",\"Yes\",IF('Outil Recensement'!BP32=\"No\",\"No\",IF('Outil Recensement'!BP32=\"Y\",\"Yes\",IF('Outil Recensement'!BP32=\"N\",\"No\",\"\"))))","v":""},{"$f":"IF('Outil Recensement'!BQ32>0,'Outil Recensement'!BQ32,\"\")","v":""},{"$f":"IF('Outil Recensement'!BR32>0,'Outil Recensement'!BR32,\"\")","v":""},{"$f":"IF('Outil Recensement'!BS32>0,'Outil Recensement'!BS32,\"\")","v":""},{"$f":"IF('Outil Recensement'!BT32=\"Male\",\"Male\",IF('Outil Recensement'!BT32=\"Female\",\"Female\",IF('Outil Recensement'!BT32=\"M\",\"Male\",IF('Outil Recensement'!BT32=\"F\",\"Female\",\"\"))))","v":""},{"$f":"IF('Outil Recensement'!BU32=\"Yes\",\"Yes\",IF('Outil Recensement'!BU32=\"No\",\"No\",IF('Outil Recensement'!BU32=\"Y\",\"Yes\",IF('Outil Recensement'!BU32=\"N\",\"No\",\"\"))))","v":""},{"$f":"IF('Outil Recensement'!BV32=\"Yes\",\"Yes\",IF('Outil Recensement'!BV32=\"No\",\"No\",IF('Outil Recensement'!BV32=\"Y\",\"Yes\",IF('Outil Recensement'!BV32=\"N\",\"No\",\"\"))))","v":""},{"$f":"IF('Outil Recensement'!BW32>0,'Outil Recensement'!BW32,\"\")","v":""},{"$f":"IF('Outil Recensement'!BX32>0,'Outil Recensement'!BX32,\"\")","v":""},{"$f":"IF('Outil Recensement'!BY32>0,'Outil Recensement'!BY32,\"\")","v":""},{"$f":"IF('Outil Recensement'!BZ32=\"Male\",\"Male\",IF('Outil Recensement'!BZ32=\"Female\",\"Female\",IF('Outil Recensement'!BZ32=\"M\",\"Male\",IF('Outil Recensement'!BZ32=\"F\",\"Female\",\"\"))))","v":""},{"$f":"IF('Outil Recensement'!CA32=\"Yes\",\"Yes\",IF('Outil Recensement'!CA32=\"No\",\"No\",IF('Outil Recensement'!CA32=\"Y\",\"Yes\",IF('Outil Recensement'!CA32=\"N\",\"No\",\"\"))))","v":""},{"$f":"IF('Outil Recensement'!CB32=\"Yes\",\"Yes\",IF('Outil Recensement'!CB32=\"No\",\"No\",IF('Outil Recensement'!CB32=\"Y\",\"Yes\",IF('Outil Recensement'!CB32=\"N\",\"No\",\"\"))))","v":""},{"$f":"IF('Outil Recensement'!CH32>0,'Outil Recensement'!CH32,\"\")","v":"    "}]
[{"$f":"IF('Outil Recensement'!A33>0,'Outil Recensement'!A33,\"\")","v":""},{"$f":"IF('Outil Recensement'!B33>0,'Outil Recensement'!B33,\"\")","v":""},{"$f":"IF('Outil Recensement'!C33>0,'Outil Recensement'!C33,\"\")","v":""},{"$f":"IF('Outil Recensement'!D33>0,'Outil Recensement'!D33,\"\")","v":""},{"$f":"IF('Outil Recensement'!P33>0,TEXT('Outil Recensement'!P33,\"000\"),\"\")","v":""},{"$f":"IF('Outil Recensement'!Q33>0,'Outil Recensement'!Q33,\"\")","v":""},{"$f":"IF('Outil Recensement'!R33>0,'Outil Recensement'!R33,\"\")","v":""},{"$f":"IF('Outil Recensement'!F33>0,DATEVALUE(TEXT('Outil Recensement'!F33,\"yyyy-mm-dd\")),\"\")","v":""},{"$f":"IF('Outil Recensement'!L33>0,DATEVALUE(TEXT('Outil Recensement'!L33,\"yyyy-mm-dd\")),\"\")","v":""},{"$f":"IF('Outil Recensement'!Y33>0,'Outil Recensement'!Y33,\"\")","v":""},{"$f":"IF('Outil Recensement'!T33>0,'Outil Recensement'!T33,\"\")","v":""},{"$f":"IF('Outil Recensement'!G33=\"Homme\",\"Male\",IF('Outil Recensement'!G33=\"Femme\",\"Female\",IF('Outil Recensement'!G33=\"H\",\"Male\",IF('Outil Recensement'!G33=\"F\",\"Female\",\"\"))))","v":""},{"$f":"IF('Outil Recensement'!U33=\"Yes\",\"Yes\",IF('Outil Recensement'!U33=\"No\",\"No\",IF('Outil Recensement'!U33=\"Y\",\"Yes\",IF('Outil Recensement'!U33=\"N\",\"No\",\"\"))))","v":""},{"$f":"IF('Outil Recensement'!I33=\"Individuelle\",\"Single\",IF('Outil Recensement'!I33=\"Familiale\",\"Family\",IF('Outil Recensement'!I33=\"Refus\",\"Family\",IF('Outil Recensement'!I33=\"Parent seul\",\"Family\",IF('Outil Recensement'!I33=\"Couple\",\"Family\",IF('Outil Recensement'!I33=\"In force\",\"Family\",IF('Outil Recensement'!I33=\"Applies\",\"Family\",IF('Outil Recensement'!I33=\"Applicable\",\"Family\",\"\"))))))))","v":""},{"$f":"IF('Outil Recensement'!AC33=\"Anglais\",\"English\",IF('Outil Recensement'!AC33=\"Français\",\"French\",IF('Outil Recensement'!AC33=\"A\",\"English\",IF('Outil Recensement'!AC33=\"F\",\"French\",\"\"))))","v":""},{"$f":"IF('Outil Recensement'!AB33=\"Oui\",\"Yes\",IF('Outil Recensement'!AB33=\"Non\",\"No\",IF('Outil Recensement'!AB33=\"O\",\"Yes\",IF('Outil Recensement'!AB33=\"N\",\"No\",\"\"))))","v":""},{"$f":"IF('Outil Recensement'!AD33>0,'Outil Recensement'!AD33,\"\")","v":""},{"$f":"IF('Outil Recensement'!M33=\"Annuel\",\"Annually\",IF('Outil Recensement'!M33=\"Mensuel\",\"Monthly\",IF('Outil Recensement'!M33=\"Bihebdomadaire\",\"Biweekly\",IF('Outil Recensement'!M33=\"Hebdomadaire\",\"Weekly\",IF('Outil Recensement'!M33=\"Horaire\",\"Hourly\",IF('Outil Recensement'!M33=\"Semi-mensuel\",\"Semi-monthly\",IF('Outil Recensement'!M33=\"Applies\",\"Annual\",IF('Outil Recensement'!M33=\"Applicable\",\"Annual\",\"\"))))))))","v":""},{"$f":"IF('Outil Recensement'!N33>0,'Outil Recensement'!N33,\"\")","v":""},{"$f":"IF('Outil Recensement'!O33>0,'Outil Recensement'!O33,\"\")","v":""},{"$f":"IF('Outil Recensement'!I33=\"Refus\",\"Yes\",\"\")","v":""},{"$f":"IF('Outil Recensement'!I33=\"Refus\",\"Yes\",\"\")","v":""},{"$f":"IF('Outil Recensement'!AE33>0,'Outil Recensement'!AE33,\"\")","v":""},{"$f":"IF('Outil Recensement'!AF33>0,'Outil Recensement'!AF33,\"\")","v":""},{"$f":"IF('Outil Recensement'!AG33>0,'Outil Recensement'!AG33,\"\")","v":""},{"$f":"IF('Outil Recensement'!AH33>0,'Outil Recensement'!AH33,\"\")","v":""},{"$f":"IF('Outil Recensement'!AI33>0,'Outil Recensement'!AI33,\"\")","v":" "},{"$f":"IF('Outil Recensement'!AJ33>0,'Outil Recensement'!AJ33,\"\")","v":" "},{"$f":"IF('Outil Recensement'!W33>0,'Outil Recensement'!W33&\" \",\"\")&IF('Outil Recensement'!V33>0,'Outil Recensement'!V33,\"\")","v":""},null,{"$f":"IF('Outil Recensement'!X33>0,'Outil Recensement'!X33,\"\")","v":""},{"$f":"IF('Outil Recensement'!Y33>0,'Outil Recensement'!Y33,\"\")","v":""},{"$f":"IF('Outil Recensement'!Z33>0,'Outil Recensement'!Z33,\"\")","v":""},{"$f":"IF('Outil Recensement'!AA33>0,'Outil Recensement'!AA33,\"\")","v":""},{"$f":"IF('Outil Recensement'!E33>0,'Outil Recensement'!E33,\"\")","v":""},{"$f":"IF('Outil Recensement'!AK33>0,'Outil Recensement'!AK33,\"\")","v":""},{"$f":"IF('Outil Recensement'!AL33>0,'Outil Recensement'!AL33,\"\")","v":""},{"$f":"IF('Outil Recensement'!AM33>0,'Outil Recensement'!AM33,\"\")","v":""},{"$f":"IF('Outil Recensement'!AN33=\"Male\",\"Male\",IF('Outil Recensement'!AN33=\"Female\",\"Female\",IF('Outil Recensement'!AN33=\"M\",\"Male\",IF('Outil Recensement'!AN33=\"F\",\"Female\",\"\"))))","v":""},{"$f":"IF('Outil Recensement'!AO33=\"Single\",\"Single\",IF('Outil Recensement'!AO33=\"Family\",\"Family\",IF('Outil Recensement'!AO33=\"S\",\"Single\",IF('Outil Recensement'!AO33=\"F\",\"Family\",\"\"))))","v":""},{"$f":"IF('Outil Recensement'!AP33=\"Single\",\"Single\",IF('Outil Recensement'!AP33=\"Family\",\"Family\",IF('Outil Recensement'!AP33=\"S\",\"Single\",IF('Outil Recensement'!AP33=\"F\",\"Family\",\"\"))))","v":""},{"$f":"IF('Outil Recensement'!AQ33>0,'Outil Recensement'!AQ33,\"\")","v":""},{"$f":"IF('Outil Recensement'!AR33=\"Yes\",\"Yes\",IF('Outil Recensement'!AR33=\"No\",\"No\",IF('Outil Recensement'!AR33=\"Y\",\"Yes\",IF('Outil Recensement'!AR33=\"N\",\"No\",\"\"))))","v":""},{"$f":"IF('Outil Recensement'!AS33>0,'Outil Recensement'!AS33,\"\")","v":""},{"$f":"IF('Outil Recensement'!AT33>0,'Outil Recensement'!AT33,\"\")","v":""},{"$f":"IF('Outil Recensement'!AU33>0,'Outil Recensement'!AU33,\"\")","v":""},{"$f":"IF('Outil Recensement'!AV33=\"Male\",\"Male\",IF('Outil Recensement'!AV33=\"Female\",\"Female\",IF('Outil Recensement'!AV33=\"M\",\"Male\",IF('Outil Recensement'!AV33=\"F\",\"Female\",\"\"))))","v":""},{"$f":"IF('Outil Recensement'!AW33=\"Yes\",\"Yes\",IF('Outil Recensement'!AW33=\"No\",\"No\",IF('Outil Recensement'!AW33=\"Y\",\"Yes\",IF('Outil Recensement'!AW33=\"N\",\"No\",\"\"))))","v":""},{"$f":"IF('Outil Recensement'!AX33=\"Yes\",\"Yes\",IF('Outil Recensement'!AX33=\"No\",\"No\",IF('Outil Recensement'!AX33=\"Y\",\"Yes\",IF('Outil Recensement'!AX33=\"N\",\"No\",\"\"))))","v":""},{"$f":"IF('Outil Recensement'!AY33>0,'Outil Recensement'!AY33,\"\")","v":""},{"$f":"IF('Outil Recensement'!AZ33>0,'Outil Recensement'!AZ33,\"\")","v":""},{"$f":"IF('Outil Recensement'!BA33>0,'Outil Recensement'!BA33,\"\")","v":""},{"$f":"IF('Outil Recensement'!BB33=\"Male\",\"Male\",IF('Outil Recensement'!BB33=\"Female\",\"Female\",IF('Outil Recensement'!BB33=\"M\",\"Male\",IF('Outil Recensement'!BB33=\"F\",\"Female\",\"\"))))","v":""},{"$f":"IF('Outil Recensement'!BC33=\"Yes\",\"Yes\",IF('Outil Recensement'!BC33=\"No\",\"No\",IF('Outil Recensement'!BC33=\"Y\",\"Yes\",IF('Outil Recensement'!BC33=\"N\",\"No\",\"\"))))","v":""},{"$f":"IF('Outil Recensement'!BD33=\"Yes\",\"Yes\",IF('Outil Recensement'!BD33=\"No\",\"No\",IF('Outil Recensement'!BD33=\"Y\",\"Yes\",IF('Outil Recensement'!BD33=\"N\",\"No\",\"\"))))","v":""},{"$f":"IF('Outil Recensement'!BE33>0,'Outil Recensement'!BE33,\"\")","v":""},{"$f":"IF('Outil Recensement'!BF33>0,'Outil Recensement'!BF33,\"\")","v":""},{"$f":"IF('Outil Recensement'!BG33>0,'Outil Recensement'!BG33,\"\")","v":""},{"$f":"IF('Outil Recensement'!BH33=\"Male\",\"Male\",IF('Outil Recensement'!BH33=\"Female\",\"Female\",IF('Outil Recensement'!BH33=\"M\",\"Male\",IF('Outil Recensement'!BH33=\"F\",\"Female\",\"\"))))","v":""},{"$f":"IF('Outil Recensement'!BI33=\"Yes\",\"Yes\",IF('Outil Recensement'!BI33=\"No\",\"No\",IF('Outil Recensement'!BI33=\"Y\",\"Yes\",IF('Outil Recensement'!BI33=\"N\",\"No\",\"\"))))","v":""},{"$f":"IF('Outil Recensement'!BJ33=\"Yes\",\"Yes\",IF('Outil Recensement'!BJ33=\"No\",\"No\",IF('Outil Recensement'!BJ33=\"Y\",\"Yes\",IF('Outil Recensement'!BJ33=\"N\",\"No\",\"\"))))","v":""},{"$f":"IF('Outil Recensement'!BK33>0,'Outil Recensement'!BK33,\"\")","v":""},{"$f":"IF('Outil Recensement'!BL33>0,'Outil Recensement'!BL33,\"\")","v":""},{"$f":"IF('Outil Recensement'!BM33>0,'Outil Recensement'!BM33,\"\")","v":""},{"$f":"IF('Outil Recensement'!BN33=\"Male\",\"Male\",IF('Outil Recensement'!BN33=\"Female\",\"Female\",IF('Outil Recensement'!BN33=\"M\",\"Male\",IF('Outil Recensement'!BN33=\"F\",\"Female\",\"\"))))","v":""},{"$f":"IF('Outil Recensement'!BO33=\"Yes\",\"Yes\",IF('Outil Recensement'!BO33=\"No\",\"No\",IF('Outil Recensement'!BO33=\"Y\",\"Yes\",IF('Outil Recensement'!BO33=\"N\",\"No\",\"\"))))","v":""},{"$f":"IF('Outil Recensement'!BP33=\"Yes\",\"Yes\",IF('Outil Recensement'!BP33=\"No\",\"No\",IF('Outil Recensement'!BP33=\"Y\",\"Yes\",IF('Outil Recensement'!BP33=\"N\",\"No\",\"\"))))","v":""},{"$f":"IF('Outil Recensement'!BQ33>0,'Outil Recensement'!BQ33,\"\")","v":""},{"$f":"IF('Outil Recensement'!BR33>0,'Outil Recensement'!BR33,\"\")","v":""},{"$f":"IF('Outil Recensement'!BS33>0,'Outil Recensement'!BS33,\"\")","v":""},{"$f":"IF('Outil Recensement'!BT33=\"Male\",\"Male\",IF('Outil Recensement'!BT33=\"Female\",\"Female\",IF('Outil Recensement'!BT33=\"M\",\"Male\",IF('Outil Recensement'!BT33=\"F\",\"Female\",\"\"))))","v":""},{"$f":"IF('Outil Recensement'!BU33=\"Yes\",\"Yes\",IF('Outil Recensement'!BU33=\"No\",\"No\",IF('Outil Recensement'!BU33=\"Y\",\"Yes\",IF('Outil Recensement'!BU33=\"N\",\"No\",\"\"))))","v":""},{"$f":"IF('Outil Recensement'!BV33=\"Yes\",\"Yes\",IF('Outil Recensement'!BV33=\"No\",\"No\",IF('Outil Recensement'!BV33=\"Y\",\"Yes\",IF('Outil Recensement'!BV33=\"N\",\"No\",\"\"))))","v":""},{"$f":"IF('Outil Recensement'!BW33>0,'Outil Recensement'!BW33,\"\")","v":""},{"$f":"IF('Outil Recensement'!BX33>0,'Outil Recensement'!BX33,\"\")","v":""},{"$f":"IF('Outil Recensement'!BY33>0,'Outil Recensement'!BY33,\"\")","v":""},{"$f":"IF('Outil Recensement'!BZ33=\"Male\",\"Male\",IF('Outil Recensement'!BZ33=\"Female\",\"Female\",IF('Outil Recensement'!BZ33=\"M\",\"Male\",IF('Outil Recensement'!BZ33=\"F\",\"Female\",\"\"))))","v":""},{"$f":"IF('Outil Recensement'!CA33=\"Yes\",\"Yes\",IF('Outil Recensement'!CA33=\"No\",\"No\",IF('Outil Recensement'!CA33=\"Y\",\"Yes\",IF('Outil Recensement'!CA33=\"N\",\"No\",\"\"))))","v":""},{"$f":"IF('Outil Recensement'!CB33=\"Yes\",\"Yes\",IF('Outil Recensement'!CB33=\"No\",\"No\",IF('Outil Recensement'!CB33=\"Y\",\"Yes\",IF('Outil Recensement'!CB33=\"N\",\"No\",\"\"))))","v":""},{"$f":"IF('Outil Recensement'!CH33>0,'Outil Recensement'!CH33,\"\")","v":"    "}]
[{"$f":"IF('Outil Recensement'!A34>0,'Outil Recensement'!A34,\"\")","v":""},{"$f":"IF('Outil Recensement'!B34>0,'Outil Recensement'!B34,\"\")","v":""},{"$f":"IF('Outil Recensement'!C34>0,'Outil Recensement'!C34,\"\")","v":""},{"$f":"IF('Outil Recensement'!D34>0,'Outil Recensement'!D34,\"\")","v":""},{"$f":"IF('Outil Recensement'!P34>0,TEXT('Outil Recensement'!P34,\"000\"),\"\")","v":""},{"$f":"IF('Outil Recensement'!Q34>0,'Outil Recensement'!Q34,\"\")","v":""},{"$f":"IF('Outil Recensement'!R34>0,'Outil Recensement'!R34,\"\")","v":""},{"$f":"IF('Outil Recensement'!F34>0,DATEVALUE(TEXT('Outil Recensement'!F34,\"yyyy-mm-dd\")),\"\")","v":""},{"$f":"IF('Outil Recensement'!L34>0,DATEVALUE(TEXT('Outil Recensement'!L34,\"yyyy-mm-dd\")),\"\")","v":""},{"$f":"IF('Outil Recensement'!Y34>0,'Outil Recensement'!Y34,\"\")","v":""},{"$f":"IF('Outil Recensement'!T34>0,'Outil Recensement'!T34,\"\")","v":""},{"$f":"IF('Outil Recensement'!G34=\"Homme\",\"Male\",IF('Outil Recensement'!G34=\"Femme\",\"Female\",IF('Outil Recensement'!G34=\"H\",\"Male\",IF('Outil Recensement'!G34=\"F\",\"Female\",\"\"))))","v":""},{"$f":"IF('Outil Recensement'!U34=\"Yes\",\"Yes\",IF('Outil Recensement'!U34=\"No\",\"No\",IF('Outil Recensement'!U34=\"Y\",\"Yes\",IF('Outil Recensement'!U34=\"N\",\"No\",\"\"))))","v":""},{"$f":"IF('Outil Recensement'!I34=\"Individuelle\",\"Single\",IF('Outil Recensement'!I34=\"Familiale\",\"Family\",IF('Outil Recensement'!I34=\"Refus\",\"Family\",IF('Outil Recensement'!I34=\"Parent seul\",\"Family\",IF('Outil Recensement'!I34=\"Couple\",\"Family\",IF('Outil Recensement'!I34=\"In force\",\"Family\",IF('Outil Recensement'!I34=\"Applies\",\"Family\",IF('Outil Recensement'!I34=\"Applicable\",\"Family\",\"\"))))))))","v":""},{"$f":"IF('Outil Recensement'!AC34=\"Anglais\",\"English\",IF('Outil Recensement'!AC34=\"Français\",\"French\",IF('Outil Recensement'!AC34=\"A\",\"English\",IF('Outil Recensement'!AC34=\"F\",\"French\",\"\"))))","v":""},{"$f":"IF('Outil Recensement'!AB34=\"Oui\",\"Yes\",IF('Outil Recensement'!AB34=\"Non\",\"No\",IF('Outil Recensement'!AB34=\"O\",\"Yes\",IF('Outil Recensement'!AB34=\"N\",\"No\",\"\"))))","v":""},{"$f":"IF('Outil Recensement'!AD34>0,'Outil Recensement'!AD34,\"\")","v":""},{"$f":"IF('Outil Recensement'!M34=\"Annuel\",\"Annually\",IF('Outil Recensement'!M34=\"Mensuel\",\"Monthly\",IF('Outil Recensement'!M34=\"Bihebdomadaire\",\"Biweekly\",IF('Outil Recensement'!M34=\"Hebdomadaire\",\"Weekly\",IF('Outil Recensement'!M34=\"Horaire\",\"Hourly\",IF('Outil Recensement'!M34=\"Semi-mensuel\",\"Semi-monthly\",IF('Outil Recensement'!M34=\"Applies\",\"Annual\",IF('Outil Recensement'!M34=\"Applicable\",\"Annual\",\"\"))))))))","v":""},{"$f":"IF('Outil Recensement'!N34>0,'Outil Recensement'!N34,\"\")","v":""},{"$f":"IF('Outil Recensement'!O34>0,'Outil Recensement'!O34,\"\")","v":""},{"$f":"IF('Outil Recensement'!I34=\"Refus\",\"Yes\",\"\")","v":""},{"$f":"IF('Outil Recensement'!I34=\"Refus\",\"Yes\",\"\")","v":""},{"$f":"IF('Outil Recensement'!AE34>0,'Outil Recensement'!AE34,\"\")","v":""},{"$f":"IF('Outil Recensement'!AF34>0,'Outil Recensement'!AF34,\"\")","v":""},{"$f":"IF('Outil Recensement'!AG34>0,'Outil Recensement'!AG34,\"\")","v":""},{"$f":"IF('Outil Recensement'!AH34>0,'Outil Recensement'!AH34,\"\")","v":""},{"$f":"IF('Outil Recensement'!AI34>0,'Outil Recensement'!AI34,\"\")","v":" "},{"$f":"IF('Outil Recensement'!AJ34>0,'Outil Recensement'!AJ34,\"\")","v":" "},{"$f":"IF('Outil Recensement'!W34>0,'Outil Recensement'!W34&\" \",\"\")&IF('Outil Recensement'!V34>0,'Outil Recensement'!V34,\"\")","v":""},null,{"$f":"IF('Outil Recensement'!X34>0,'Outil Recensement'!X34,\"\")","v":""},{"$f":"IF('Outil Recensement'!Y34>0,'Outil Recensement'!Y34,\"\")","v":""},{"$f":"IF('Outil Recensement'!Z34>0,'Outil Recensement'!Z34,\"\")","v":""},{"$f":"IF('Outil Recensement'!AA34>0,'Outil Recensement'!AA34,\"\")","v":""},{"$f":"IF('Outil Recensement'!E34>0,'Outil Recensement'!E34,\"\")","v":""},{"$f":"IF('Outil Recensement'!AK34>0,'Outil Recensement'!AK34,\"\")","v":""},{"$f":"IF('Outil Recensement'!AL34>0,'Outil Recensement'!AL34,\"\")","v":""},{"$f":"IF('Outil Recensement'!AM34>0,'Outil Recensement'!AM34,\"\")","v":""},{"$f":"IF('Outil Recensement'!AN34=\"Male\",\"Male\",IF('Outil Recensement'!AN34=\"Female\",\"Female\",IF('Outil Recensement'!AN34=\"M\",\"Male\",IF('Outil Recensement'!AN34=\"F\",\"Female\",\"\"))))","v":""},{"$f":"IF('Outil Recensement'!AO34=\"Single\",\"Single\",IF('Outil Recensement'!AO34=\"Family\",\"Family\",IF('Outil Recensement'!AO34=\"S\",\"Single\",IF('Outil Recensement'!AO34=\"F\",\"Family\",\"\"))))","v":""},{"$f":"IF('Outil Recensement'!AP34=\"Single\",\"Single\",IF('Outil Recensement'!AP34=\"Family\",\"Family\",IF('Outil Recensement'!AP34=\"S\",\"Single\",IF('Outil Recensement'!AP34=\"F\",\"Family\",\"\"))))","v":""},{"$f":"IF('Outil Recensement'!AQ34>0,'Outil Recensement'!AQ34,\"\")","v":""},{"$f":"IF('Outil Recensement'!AR34=\"Yes\",\"Yes\",IF('Outil Recensement'!AR34=\"No\",\"No\",IF('Outil Recensement'!AR34=\"Y\",\"Yes\",IF('Outil Recensement'!AR34=\"N\",\"No\",\"\"))))","v":""},{"$f":"IF('Outil Recensement'!AS34>0,'Outil Recensement'!AS34,\"\")","v":""},{"$f":"IF('Outil Recensement'!AT34>0,'Outil Recensement'!AT34,\"\")","v":""},{"$f":"IF('Outil Recensement'!AU34>0,'Outil Recensement'!AU34,\"\")","v":""},{"$f":"IF('Outil Recensement'!AV34=\"Male\",\"Male\",IF('Outil Recensement'!AV34=\"Female\",\"Female\",IF('Outil Recensement'!AV34=\"M\",\"Male\",IF('Outil Recensement'!AV34=\"F\",\"Female\",\"\"))))","v":""},{"$f":"IF('Outil Recensement'!AW34=\"Yes\",\"Yes\",IF('Outil Recensement'!AW34=\"No\",\"No\",IF('Outil Recensement'!AW34=\"Y\",\"Yes\",IF('Outil Recensement'!AW34=\"N\",\"No\",\"\"))))","v":""},{"$f":"IF('Outil Recensement'!AX34=\"Yes\",\"Yes\",IF('Outil Recensement'!AX34=\"No\",\"No\",IF('Outil Recensement'!AX34=\"Y\",\"Yes\",IF('Outil Recensement'!AX34=\"N\",\"No\",\"\"))))","v":""},{"$f":"IF('Outil Recensement'!AY34>0,'Outil Recensement'!AY34,\"\")","v":""},{"$f":"IF('Outil Recensement'!AZ34>0,'Outil Recensement'!AZ34,\"\")","v":""},{"$f":"IF('Outil Recensement'!BA34>0,'Outil Recensement'!BA34,\"\")","v":""},{"$f":"IF('Outil Recensement'!BB34=\"Male\",\"Male\",IF('Outil Recensement'!BB34=\"Female\",\"Female\",IF('Outil Recensement'!BB34=\"M\",\"Male\",IF('Outil Recensement'!BB34=\"F\",\"Female\",\"\"))))","v":""},{"$f":"IF('Outil Recensement'!BC34=\"Yes\",\"Yes\",IF('Outil Recensement'!BC34=\"No\",\"No\",IF('Outil Recensement'!BC34=\"Y\",\"Yes\",IF('Outil Recensement'!BC34=\"N\",\"No\",\"\"))))","v":""},{"$f":"IF('Outil Recensement'!BD34=\"Yes\",\"Yes\",IF('Outil Recensement'!BD34=\"No\",\"No\",IF('Outil Recensement'!BD34=\"Y\",\"Yes\",IF('Outil Recensement'!BD34=\"N\",\"No\",\"\"))))","v":""},{"$f":"IF('Outil Recensement'!BE34>0,'Outil Recensement'!BE34,\"\")","v":""},{"$f":"IF('Outil Recensement'!BF34>0,'Outil Recensement'!BF34,\"\")","v":""},{"$f":"IF('Outil Recensement'!BG34>0,'Outil Recensement'!BG34,\"\")","v":""},{"$f":"IF('Outil Recensement'!BH34=\"Male\",\"Male\",IF('Outil Recensement'!BH34=\"Female\",\"Female\",IF('Outil Recensement'!BH34=\"M\",\"Male\",IF('Outil Recensement'!BH34=\"F\",\"Female\",\"\"))))","v":""},{"$f":"IF('Outil Recensement'!BI34=\"Yes\",\"Yes\",IF('Outil Recensement'!BI34=\"No\",\"No\",IF('Outil Recensement'!BI34=\"Y\",\"Yes\",IF('Outil Recensement'!BI34=\"N\",\"No\",\"\"))))","v":""},{"$f":"IF('Outil Recensement'!BJ34=\"Yes\",\"Yes\",IF('Outil Recensement'!BJ34=\"No\",\"No\",IF('Outil Recensement'!BJ34=\"Y\",\"Yes\",IF('Outil Recensement'!BJ34=\"N\",\"No\",\"\"))))","v":""},{"$f":"IF('Outil Recensement'!BK34>0,'Outil Recensement'!BK34,\"\")","v":""},{"$f":"IF('Outil Recensement'!BL34>0,'Outil Recensement'!BL34,\"\")","v":""},{"$f":"IF('Outil Recensement'!BM34>0,'Outil Recensement'!BM34,\"\")","v":""},{"$f":"IF('Outil Recensement'!BN34=\"Male\",\"Male\",IF('Outil Recensement'!BN34=\"Female\",\"Female\",IF('Outil Recensement'!BN34=\"M\",\"Male\",IF('Outil Recensement'!BN34=\"F\",\"Female\",\"\"))))","v":""},{"$f":"IF('Outil Recensement'!BO34=\"Yes\",\"Yes\",IF('Outil Recensement'!BO34=\"No\",\"No\",IF('Outil Recensement'!BO34=\"Y\",\"Yes\",IF('Outil Recensement'!BO34=\"N\",\"No\",\"\"))))","v":""},{"$f":"IF('Outil Recensement'!BP34=\"Yes\",\"Yes\",IF('Outil Recensement'!BP34=\"No\",\"No\",IF('Outil Recensement'!BP34=\"Y\",\"Yes\",IF('Outil Recensement'!BP34=\"N\",\"No\",\"\"))))","v":""},{"$f":"IF('Outil Recensement'!BQ34>0,'Outil Recensement'!BQ34,\"\")","v":""},{"$f":"IF('Outil Recensement'!BR34>0,'Outil Recensement'!BR34,\"\")","v":""},{"$f":"IF('Outil Recensement'!BS34>0,'Outil Recensement'!BS34,\"\")","v":""},{"$f":"IF('Outil Recensement'!BT34=\"Male\",\"Male\",IF('Outil Recensement'!BT34=\"Female\",\"Female\",IF('Outil Recensement'!BT34=\"M\",\"Male\",IF('Outil Recensement'!BT34=\"F\",\"Female\",\"\"))))","v":""},{"$f":"IF('Outil Recensement'!BU34=\"Yes\",\"Yes\",IF('Outil Recensement'!BU34=\"No\",\"No\",IF('Outil Recensement'!BU34=\"Y\",\"Yes\",IF('Outil Recensement'!BU34=\"N\",\"No\",\"\"))))","v":""},{"$f":"IF('Outil Recensement'!BV34=\"Yes\",\"Yes\",IF('Outil Recensement'!BV34=\"No\",\"No\",IF('Outil Recensement'!BV34=\"Y\",\"Yes\",IF('Outil Recensement'!BV34=\"N\",\"No\",\"\"))))","v":""},{"$f":"IF('Outil Recensement'!BW34>0,'Outil Recensement'!BW34,\"\")","v":""},{"$f":"IF('Outil Recensement'!BX34>0,'Outil Recensement'!BX34,\"\")","v":""},{"$f":"IF('Outil Recensement'!BY34>0,'Outil Recensement'!BY34,\"\")","v":""},{"$f":"IF('Outil Recensement'!BZ34=\"Male\",\"Male\",IF('Outil Recensement'!BZ34=\"Female\",\"Female\",IF('Outil Recensement'!BZ34=\"M\",\"Male\",IF('Outil Recensement'!BZ34=\"F\",\"Female\",\"\"))))","v":""},{"$f":"IF('Outil Recensement'!CA34=\"Yes\",\"Yes\",IF('Outil Recensement'!CA34=\"No\",\"No\",IF('Outil Recensement'!CA34=\"Y\",\"Yes\",IF('Outil Recensement'!CA34=\"N\",\"No\",\"\"))))","v":""},{"$f":"IF('Outil Recensement'!CB34=\"Yes\",\"Yes\",IF('Outil Recensement'!CB34=\"No\",\"No\",IF('Outil Recensement'!CB34=\"Y\",\"Yes\",IF('Outil Recensement'!CB34=\"N\",\"No\",\"\"))))","v":""},{"$f":"IF('Outil Recensement'!CH34>0,'Outil Recensement'!CH34,\"\")","v":"    "}]
[{"$f":"IF('Outil Recensement'!A35>0,'Outil Recensement'!A35,\"\")","v":""},{"$f":"IF('Outil Recensement'!B35>0,'Outil Recensement'!B35,\"\")","v":""},{"$f":"IF('Outil Recensement'!C35>0,'Outil Recensement'!C35,\"\")","v":""},{"$f":"IF('Outil Recensement'!D35>0,'Outil Recensement'!D35,\"\")","v":""},{"$f":"IF('Outil Recensement'!P35>0,TEXT('Outil Recensement'!P35,\"000\"),\"\")","v":""},{"$f":"IF('Outil Recensement'!Q35>0,'Outil Recensement'!Q35,\"\")","v":""},{"$f":"IF('Outil Recensement'!R35>0,'Outil Recensement'!R35,\"\")","v":""},{"$f":"IF('Outil Recensement'!F35>0,DATEVALUE(TEXT('Outil Recensement'!F35,\"yyyy-mm-dd\")),\"\")","v":""},{"$f":"IF('Outil Recensement'!L35>0,DATEVALUE(TEXT('Outil Recensement'!L35,\"yyyy-mm-dd\")),\"\")","v":""},{"$f":"IF('Outil Recensement'!Y35>0,'Outil Recensement'!Y35,\"\")","v":""},{"$f":"IF('Outil Recensement'!T35>0,'Outil Recensement'!T35,\"\")","v":""},{"$f":"IF('Outil Recensement'!G35=\"Homme\",\"Male\",IF('Outil Recensement'!G35=\"Femme\",\"Female\",IF('Outil Recensement'!G35=\"H\",\"Male\",IF('Outil Recensement'!G35=\"F\",\"Female\",\"\"))))","v":""},{"$f":"IF('Outil Recensement'!U35=\"Yes\",\"Yes\",IF('Outil Recensement'!U35=\"No\",\"No\",IF('Outil Recensement'!U35=\"Y\",\"Yes\",IF('Outil Recensement'!U35=\"N\",\"No\",\"\"))))","v":""},{"$f":"IF('Outil Recensement'!I35=\"Individuelle\",\"Single\",IF('Outil Recensement'!I35=\"Familiale\",\"Family\",IF('Outil Recensement'!I35=\"Refus\",\"Family\",IF('Outil Recensement'!I35=\"Parent seul\",\"Family\",IF('Outil Recensement'!I35=\"Couple\",\"Family\",IF('Outil Recensement'!I35=\"In force\",\"Family\",IF('Outil Recensement'!I35=\"Applies\",\"Family\",IF('Outil Recensement'!I35=\"Applicable\",\"Family\",\"\"))))))))","v":""},{"$f":"IF('Outil Recensement'!AC35=\"Anglais\",\"English\",IF('Outil Recensement'!AC35=\"Français\",\"French\",IF('Outil Recensement'!AC35=\"A\",\"English\",IF('Outil Recensement'!AC35=\"F\",\"French\",\"\"))))","v":""},{"$f":"IF('Outil Recensement'!AB35=\"Oui\",\"Yes\",IF('Outil Recensement'!AB35=\"Non\",\"No\",IF('Outil Recensement'!AB35=\"O\",\"Yes\",IF('Outil Recensement'!AB35=\"N\",\"No\",\"\"))))","v":""},{"$f":"IF('Outil Recensement'!AD35>0,'Outil Recensement'!AD35,\"\")","v":""},{"$f":"IF('Outil Recensement'!M35=\"Annuel\",\"Annually\",IF('Outil Recensement'!M35=\"Mensuel\",\"Monthly\",IF('Outil Recensement'!M35=\"Bihebdomadaire\",\"Biweekly\",IF('Outil Recensement'!M35=\"Hebdomadaire\",\"Weekly\",IF('Outil Recensement'!M35=\"Horaire\",\"Hourly\",IF('Outil Recensement'!M35=\"Semi-mensuel\",\"Semi-monthly\",IF('Outil Recensement'!M35=\"Applies\",\"Annual\",IF('Outil Recensement'!M35=\"Applicable\",\"Annual\",\"\"))))))))","v":""},{"$f":"IF('Outil Recensement'!N35>0,'Outil Recensement'!N35,\"\")","v":""},{"$f":"IF('Outil Recensement'!O35>0,'Outil Recensement'!O35,\"\")","v":""},{"$f":"IF('Outil Recensement'!I35=\"Refus\",\"Yes\",\"\")","v":""},{"$f":"IF('Outil Recensement'!I35=\"Refus\",\"Yes\",\"\")","v":""},{"$f":"IF('Outil Recensement'!AE35>0,'Outil Recensement'!AE35,\"\")","v":""},{"$f":"IF('Outil Recensement'!AF35>0,'Outil Recensement'!AF35,\"\")","v":""},{"$f":"IF('Outil Recensement'!AG35>0,'Outil Recensement'!AG35,\"\")","v":""},{"$f":"IF('Outil Recensement'!AH35>0,'Outil Recensement'!AH35,\"\")","v":""},{"$f":"IF('Outil Recensement'!AI35>0,'Outil Recensement'!AI35,\"\")","v":" "},{"$f":"IF('Outil Recensement'!AJ35>0,'Outil Recensement'!AJ35,\"\")","v":" "},{"$f":"IF('Outil Recensement'!W35>0,'Outil Recensement'!W35&\" \",\"\")&IF('Outil Recensement'!V35>0,'Outil Recensement'!V35,\"\")","v":""},null,{"$f":"IF('Outil Recensement'!X35>0,'Outil Recensement'!X35,\"\")","v":""},{"$f":"IF('Outil Recensement'!Y35>0,'Outil Recensement'!Y35,\"\")","v":""},{"$f":"IF('Outil Recensement'!Z35>0,'Outil Recensement'!Z35,\"\")","v":""},{"$f":"IF('Outil Recensement'!AA35>0,'Outil Recensement'!AA35,\"\")","v":""},{"$f":"IF('Outil Recensement'!E35>0,'Outil Recensement'!E35,\"\")","v":""},{"$f":"IF('Outil Recensement'!AK35>0,'Outil Recensement'!AK35,\"\")","v":""},{"$f":"IF('Outil Recensement'!AL35>0,'Outil Recensement'!AL35,\"\")","v":""},{"$f":"IF('Outil Recensement'!AM35>0,'Outil Recensement'!AM35,\"\")","v":""},{"$f":"IF('Outil Recensement'!AN35=\"Male\",\"Male\",IF('Outil Recensement'!AN35=\"Female\",\"Female\",IF('Outil Recensement'!AN35=\"M\",\"Male\",IF('Outil Recensement'!AN35=\"F\",\"Female\",\"\"))))","v":""},{"$f":"IF('Outil Recensement'!AO35=\"Single\",\"Single\",IF('Outil Recensement'!AO35=\"Family\",\"Family\",IF('Outil Recensement'!AO35=\"S\",\"Single\",IF('Outil Recensement'!AO35=\"F\",\"Family\",\"\"))))","v":""},{"$f":"IF('Outil Recensement'!AP35=\"Single\",\"Single\",IF('Outil Recensement'!AP35=\"Family\",\"Family\",IF('Outil Recensement'!AP35=\"S\",\"Single\",IF('Outil Recensement'!AP35=\"F\",\"Family\",\"\"))))","v":""},{"$f":"IF('Outil Recensement'!AQ35>0,'Outil Recensement'!AQ35,\"\")","v":""},{"$f":"IF('Outil Recensement'!AR35=\"Yes\",\"Yes\",IF('Outil Recensement'!AR35=\"No\",\"No\",IF('Outil Recensement'!AR35=\"Y\",\"Yes\",IF('Outil Recensement'!AR35=\"N\",\"No\",\"\"))))","v":""},{"$f":"IF('Outil Recensement'!AS35>0,'Outil Recensement'!AS35,\"\")","v":""},{"$f":"IF('Outil Recensement'!AT35>0,'Outil Recensement'!AT35,\"\")","v":""},{"$f":"IF('Outil Recensement'!AU35>0,'Outil Recensement'!AU35,\"\")","v":""},{"$f":"IF('Outil Recensement'!AV35=\"Male\",\"Male\",IF('Outil Recensement'!AV35=\"Female\",\"Female\",IF('Outil Recensement'!AV35=\"M\",\"Male\",IF('Outil Recensement'!AV35=\"F\",\"Female\",\"\"))))","v":""},{"$f":"IF('Outil Recensement'!AW35=\"Yes\",\"Yes\",IF('Outil Recensement'!AW35=\"No\",\"No\",IF('Outil Recensement'!AW35=\"Y\",\"Yes\",IF('Outil Recensement'!AW35=\"N\",\"No\",\"\"))))","v":""},{"$f":"IF('Outil Recensement'!AX35=\"Yes\",\"Yes\",IF('Outil Recensement'!AX35=\"No\",\"No\",IF('Outil Recensement'!AX35=\"Y\",\"Yes\",IF('Outil Recensement'!AX35=\"N\",\"No\",\"\"))))","v":""},{"$f":"IF('Outil Recensement'!AY35>0,'Outil Recensement'!AY35,\"\")","v":""},{"$f":"IF('Outil Recensement'!AZ35>0,'Outil Recensement'!AZ35,\"\")","v":""},{"$f":"IF('Outil Recensement'!BA35>0,'Outil Recensement'!BA35,\"\")","v":""},{"$f":"IF('Outil Recensement'!BB35=\"Male\",\"Male\",IF('Outil Recensement'!BB35=\"Female\",\"Female\",IF('Outil Recensement'!BB35=\"M\",\"Male\",IF('Outil Recensement'!BB35=\"F\",\"Female\",\"\"))))","v":""},{"$f":"IF('Outil Recensement'!BC35=\"Yes\",\"Yes\",IF('Outil Recensement'!BC35=\"No\",\"No\",IF('Outil Recensement'!BC35=\"Y\",\"Yes\",IF('Outil Recensement'!BC35=\"N\",\"No\",\"\"))))","v":""},{"$f":"IF('Outil Recensement'!BD35=\"Yes\",\"Yes\",IF('Outil Recensement'!BD35=\"No\",\"No\",IF('Outil Recensement'!BD35=\"Y\",\"Yes\",IF('Outil Recensement'!BD35=\"N\",\"No\",\"\"))))","v":""},{"$f":"IF('Outil Recensement'!BE35>0,'Outil Recensement'!BE35,\"\")","v":""},{"$f":"IF('Outil Recensement'!BF35>0,'Outil Recensement'!BF35,\"\")","v":""},{"$f":"IF('Outil Recensement'!BG35>0,'Outil Recensement'!BG35,\"\")","v":""},{"$f":"IF('Outil Recensement'!BH35=\"Male\",\"Male\",IF('Outil Recensement'!BH35=\"Female\",\"Female\",IF('Outil Recensement'!BH35=\"M\",\"Male\",IF('Outil Recensement'!BH35=\"F\",\"Female\",\"\"))))","v":""},{"$f":"IF('Outil Recensement'!BI35=\"Yes\",\"Yes\",IF('Outil Recensement'!BI35=\"No\",\"No\",IF('Outil Recensement'!BI35=\"Y\",\"Yes\",IF('Outil Recensement'!BI35=\"N\",\"No\",\"\"))))","v":""},{"$f":"IF('Outil Recensement'!BJ35=\"Yes\",\"Yes\",IF('Outil Recensement'!BJ35=\"No\",\"No\",IF('Outil Recensement'!BJ35=\"Y\",\"Yes\",IF('Outil Recensement'!BJ35=\"N\",\"No\",\"\"))))","v":""},{"$f":"IF('Outil Recensement'!BK35>0,'Outil Recensement'!BK35,\"\")","v":""},{"$f":"IF('Outil Recensement'!BL35>0,'Outil Recensement'!BL35,\"\")","v":""},{"$f":"IF('Outil Recensement'!BM35>0,'Outil Recensement'!BM35,\"\")","v":""},{"$f":"IF('Outil Recensement'!BN35=\"Male\",\"Male\",IF('Outil Recensement'!BN35=\"Female\",\"Female\",IF('Outil Recensement'!BN35=\"M\",\"Male\",IF('Outil Recensement'!BN35=\"F\",\"Female\",\"\"))))","v":""},{"$f":"IF('Outil Recensement'!BO35=\"Yes\",\"Yes\",IF('Outil Recensement'!BO35=\"No\",\"No\",IF('Outil Recensement'!BO35=\"Y\",\"Yes\",IF('Outil Recensement'!BO35=\"N\",\"No\",\"\"))))","v":""},{"$f":"IF('Outil Recensement'!BP35=\"Yes\",\"Yes\",IF('Outil Recensement'!BP35=\"No\",\"No\",IF('Outil Recensement'!BP35=\"Y\",\"Yes\",IF('Outil Recensement'!BP35=\"N\",\"No\",\"\"))))","v":""},{"$f":"IF('Outil Recensement'!BQ35>0,'Outil Recensement'!BQ35,\"\")","v":""},{"$f":"IF('Outil Recensement'!BR35>0,'Outil Recensement'!BR35,\"\")","v":""},{"$f":"IF('Outil Recensement'!BS35>0,'Outil Recensement'!BS35,\"\")","v":""},{"$f":"IF('Outil Recensement'!BT35=\"Male\",\"Male\",IF('Outil Recensement'!BT35=\"Female\",\"Female\",IF('Outil Recensement'!BT35=\"M\",\"Male\",IF('Outil Recensement'!BT35=\"F\",\"Female\",\"\"))))","v":""},{"$f":"IF('Outil Recensement'!BU35=\"Yes\",\"Yes\",IF('Outil Recensement'!BU35=\"No\",\"No\",IF('Outil Recensement'!BU35=\"Y\",\"Yes\",IF('Outil Recensement'!BU35=\"N\",\"No\",\"\"))))","v":""},{"$f":"IF('Outil Recensement'!BV35=\"Yes\",\"Yes\",IF('Outil Recensement'!BV35=\"No\",\"No\",IF('Outil Recensement'!BV35=\"Y\",\"Yes\",IF('Outil Recensement'!BV35=\"N\",\"No\",\"\"))))","v":""},{"$f":"IF('Outil Recensement'!BW35>0,'Outil Recensement'!BW35,\"\")","v":""},{"$f":"IF('Outil Recensement'!BX35>0,'Outil Recensement'!BX35,\"\")","v":""},{"$f":"IF('Outil Recensement'!BY35>0,'Outil Recensement'!BY35,\"\")","v":""},{"$f":"IF('Outil Recensement'!BZ35=\"Male\",\"Male\",IF('Outil Recensement'!BZ35=\"Female\",\"Female\",IF('Outil Recensement'!BZ35=\"M\",\"Male\",IF('Outil Recensement'!BZ35=\"F\",\"Female\",\"\"))))","v":""},{"$f":"IF('Outil Recensement'!CA35=\"Yes\",\"Yes\",IF('Outil Recensement'!CA35=\"No\",\"No\",IF('Outil Recensement'!CA35=\"Y\",\"Yes\",IF('Outil Recensement'!CA35=\"N\",\"No\",\"\"))))","v":""},{"$f":"IF('Outil Recensement'!CB35=\"Yes\",\"Yes\",IF('Outil Recensement'!CB35=\"No\",\"No\",IF('Outil Recensement'!CB35=\"Y\",\"Yes\",IF('Outil Recensement'!CB35=\"N\",\"No\",\"\"))))","v":""},{"$f":"IF('Outil Recensement'!CH35>0,'Outil Recensement'!CH35,\"\")","v":"    "}]
[{"$f":"IF('Outil Recensement'!A36>0,'Outil Recensement'!A36,\"\")","v":""},{"$f":"IF('Outil Recensement'!B36>0,'Outil Recensement'!B36,\"\")","v":""},{"$f":"IF('Outil Recensement'!C36>0,'Outil Recensement'!C36,\"\")","v":""},{"$f":"IF('Outil Recensement'!D36>0,'Outil Recensement'!D36,\"\")","v":""},{"$f":"IF('Outil Recensement'!P36>0,TEXT('Outil Recensement'!P36,\"000\"),\"\")","v":""},{"$f":"IF('Outil Recensement'!Q36>0,'Outil Recensement'!Q36,\"\")","v":""},{"$f":"IF('Outil Recensement'!R36>0,'Outil Recensement'!R36,\"\")","v":""},{"$f":"IF('Outil Recensement'!F36>0,DATEVALUE(TEXT('Outil Recensement'!F36,\"yyyy-mm-dd\")),\"\")","v":""},{"$f":"IF('Outil Recensement'!L36>0,DATEVALUE(TEXT('Outil Recensement'!L36,\"yyyy-mm-dd\")),\"\")","v":""},{"$f":"IF('Outil Recensement'!Y36>0,'Outil Recensement'!Y36,\"\")","v":""},{"$f":"IF('Outil Recensement'!T36>0,'Outil Recensement'!T36,\"\")","v":""},{"$f":"IF('Outil Recensement'!G36=\"Homme\",\"Male\",IF('Outil Recensement'!G36=\"Femme\",\"Female\",IF('Outil Recensement'!G36=\"H\",\"Male\",IF('Outil Recensement'!G36=\"F\",\"Female\",\"\"))))","v":""},{"$f":"IF('Outil Recensement'!U36=\"Yes\",\"Yes\",IF('Outil Recensement'!U36=\"No\",\"No\",IF('Outil Recensement'!U36=\"Y\",\"Yes\",IF('Outil Recensement'!U36=\"N\",\"No\",\"\"))))","v":""},{"$f":"IF('Outil Recensement'!I36=\"Individuelle\",\"Single\",IF('Outil Recensement'!I36=\"Familiale\",\"Family\",IF('Outil Recensement'!I36=\"Refus\",\"Family\",IF('Outil Recensement'!I36=\"Parent seul\",\"Family\",IF('Outil Recensement'!I36=\"Couple\",\"Family\",IF('Outil Recensement'!I36=\"In force\",\"Family\",IF('Outil Recensement'!I36=\"Applies\",\"Family\",IF('Outil Recensement'!I36=\"Applicable\",\"Family\",\"\"))))))))","v":""},{"$f":"IF('Outil Recensement'!AC36=\"Anglais\",\"English\",IF('Outil Recensement'!AC36=\"Français\",\"French\",IF('Outil Recensement'!AC36=\"A\",\"English\",IF('Outil Recensement'!AC36=\"F\",\"French\",\"\"))))","v":""},{"$f":"IF('Outil Recensement'!AB36=\"Oui\",\"Yes\",IF('Outil Recensement'!AB36=\"Non\",\"No\",IF('Outil Recensement'!AB36=\"O\",\"Yes\",IF('Outil Recensement'!AB36=\"N\",\"No\",\"\"))))","v":""},{"$f":"IF('Outil Recensement'!AD36>0,'Outil Recensement'!AD36,\"\")","v":""},{"$f":"IF('Outil Recensement'!M36=\"Annuel\",\"Annually\",IF('Outil Recensement'!M36=\"Mensuel\",\"Monthly\",IF('Outil Recensement'!M36=\"Bihebdomadaire\",\"Biweekly\",IF('Outil Recensement'!M36=\"Hebdomadaire\",\"Weekly\",IF('Outil Recensement'!M36=\"Horaire\",\"Hourly\",IF('Outil Recensement'!M36=\"Semi-mensuel\",\"Semi-monthly\",IF('Outil Recensement'!M36=\"Applies\",\"Annual\",IF('Outil Recensement'!M36=\"Applicable\",\"Annual\",\"\"))))))))","v":""},{"$f":"IF('Outil Recensement'!N36>0,'Outil Recensement'!N36,\"\")","v":""},{"$f":"IF('Outil Recensement'!O36>0,'Outil Recensement'!O36,\"\")","v":""},{"$f":"IF('Outil Recensement'!I36=\"Refus\",\"Yes\",\"\")","v":""},{"$f":"IF('Outil Recensement'!I36=\"Refus\",\"Yes\",\"\")","v":""},{"$f":"IF('Outil Recensement'!AE36>0,'Outil Recensement'!AE36,\"\")","v":""},{"$f":"IF('Outil Recensement'!AF36>0,'Outil Recensement'!AF36,\"\")","v":""},{"$f":"IF('Outil Recensement'!AG36>0,'Outil Recensement'!AG36,\"\")","v":""},{"$f":"IF('Outil Recensement'!AH36>0,'Outil Recensement'!AH36,\"\")","v":""},{"$f":"IF('Outil Recensement'!AI36>0,'Outil Recensement'!AI36,\"\")","v":" "},{"$f":"IF('Outil Recensement'!AJ36>0,'Outil Recensement'!AJ36,\"\")","v":" "},{"$f":"IF('Outil Recensement'!W36>0,'Outil Recensement'!W36&\" \",\"\")&IF('Outil Recensement'!V36>0,'Outil Recensement'!V36,\"\")","v":""},null,{"$f":"IF('Outil Recensement'!X36>0,'Outil Recensement'!X36,\"\")","v":""},{"$f":"IF('Outil Recensement'!Y36>0,'Outil Recensement'!Y36,\"\")","v":""},{"$f":"IF('Outil Recensement'!Z36>0,'Outil Recensement'!Z36,\"\")","v":""},{"$f":"IF('Outil Recensement'!AA36>0,'Outil Recensement'!AA36,\"\")","v":""},{"$f":"IF('Outil Recensement'!E36>0,'Outil Recensement'!E36,\"\")","v":""},{"$f":"IF('Outil Recensement'!AK36>0,'Outil Recensement'!AK36,\"\")","v":""},{"$f":"IF('Outil Recensement'!AL36>0,'Outil Recensement'!AL36,\"\")","v":""},{"$f":"IF('Outil Recensement'!AM36>0,'Outil Recensement'!AM36,\"\")","v":""},{"$f":"IF('Outil Recensement'!AN36=\"Male\",\"Male\",IF('Outil Recensement'!AN36=\"Female\",\"Female\",IF('Outil Recensement'!AN36=\"M\",\"Male\",IF('Outil Recensement'!AN36=\"F\",\"Female\",\"\"))))","v":""},{"$f":"IF('Outil Recensement'!AO36=\"Single\",\"Single\",IF('Outil Recensement'!AO36=\"Family\",\"Family\",IF('Outil Recensement'!AO36=\"S\",\"Single\",IF('Outil Recensement'!AO36=\"F\",\"Family\",\"\"))))","v":""},{"$f":"IF('Outil Recensement'!AP36=\"Single\",\"Single\",IF('Outil Recensement'!AP36=\"Family\",\"Family\",IF('Outil Recensement'!AP36=\"S\",\"Single\",IF('Outil Recensement'!AP36=\"F\",\"Family\",\"\"))))","v":""},{"$f":"IF('Outil Recensement'!AQ36>0,'Outil Recensement'!AQ36,\"\")","v":""},{"$f":"IF('Outil Recensement'!AR36=\"Yes\",\"Yes\",IF('Outil Recensement'!AR36=\"No\",\"No\",IF('Outil Recensement'!AR36=\"Y\",\"Yes\",IF('Outil Recensement'!AR36=\"N\",\"No\",\"\"))))","v":""},{"$f":"IF('Outil Recensement'!AS36>0,'Outil Recensement'!AS36,\"\")","v":""},{"$f":"IF('Outil Recensement'!AT36>0,'Outil Recensement'!AT36,\"\")","v":""},{"$f":"IF('Outil Recensement'!AU36>0,'Outil Recensement'!AU36,\"\")","v":""},{"$f":"IF('Outil Recensement'!AV36=\"Male\",\"Male\",IF('Outil Recensement'!AV36=\"Female\",\"Female\",IF('Outil Recensement'!AV36=\"M\",\"Male\",IF('Outil Recensement'!AV36=\"F\",\"Female\",\"\"))))","v":""},{"$f":"IF('Outil Recensement'!AW36=\"Yes\",\"Yes\",IF('Outil Recensement'!AW36=\"No\",\"No\",IF('Outil Recensement'!AW36=\"Y\",\"Yes\",IF('Outil Recensement'!AW36=\"N\",\"No\",\"\"))))","v":""},{"$f":"IF('Outil Recensement'!AX36=\"Yes\",\"Yes\",IF('Outil Recensement'!AX36=\"No\",\"No\",IF('Outil Recensement'!AX36=\"Y\",\"Yes\",IF('Outil Recensement'!AX36=\"N\",\"No\",\"\"))))","v":""},{"$f":"IF('Outil Recensement'!AY36>0,'Outil Recensement'!AY36,\"\")","v":""},{"$f":"IF('Outil Recensement'!AZ36>0,'Outil Recensement'!AZ36,\"\")","v":""},{"$f":"IF('Outil Recensement'!BA36>0,'Outil Recensement'!BA36,\"\")","v":""},{"$f":"IF('Outil Recensement'!BB36=\"Male\",\"Male\",IF('Outil Recensement'!BB36=\"Female\",\"Female\",IF('Outil Recensement'!BB36=\"M\",\"Male\",IF('Outil Recensement'!BB36=\"F\",\"Female\",\"\"))))","v":""},{"$f":"IF('Outil Recensement'!BC36=\"Yes\",\"Yes\",IF('Outil Recensement'!BC36=\"No\",\"No\",IF('Outil Recensement'!BC36=\"Y\",\"Yes\",IF('Outil Recensement'!BC36=\"N\",\"No\",\"\"))))","v":""},{"$f":"IF('Outil Recensement'!BD36=\"Yes\",\"Yes\",IF('Outil Recensement'!BD36=\"No\",\"No\",IF('Outil Recensement'!BD36=\"Y\",\"Yes\",IF('Outil Recensement'!BD36=\"N\",\"No\",\"\"))))","v":""},{"$f":"IF('Outil Recensement'!BE36>0,'Outil Recensement'!BE36,\"\")","v":""},{"$f":"IF('Outil Recensement'!BF36>0,'Outil Recensement'!BF36,\"\")","v":""},{"$f":"IF('Outil Recensement'!BG36>0,'Outil Recensement'!BG36,\"\")","v":""},{"$f":"IF('Outil Recensement'!BH36=\"Male\",\"Male\",IF('Outil Recensement'!BH36=\"Female\",\"Female\",IF('Outil Recensement'!BH36=\"M\",\"Male\",IF('Outil Recensement'!BH36=\"F\",\"Female\",\"\"))))","v":""},{"$f":"IF('Outil Recensement'!BI36=\"Yes\",\"Yes\",IF('Outil Recensement'!BI36=\"No\",\"No\",IF('Outil Recensement'!BI36=\"Y\",\"Yes\",IF('Outil Recensement'!BI36=\"N\",\"No\",\"\"))))","v":""},{"$f":"IF('Outil Recensement'!BJ36=\"Yes\",\"Yes\",IF('Outil Recensement'!BJ36=\"No\",\"No\",IF('Outil Recensement'!BJ36=\"Y\",\"Yes\",IF('Outil Recensement'!BJ36=\"N\",\"No\",\"\"))))","v":""},{"$f":"IF('Outil Recensement'!BK36>0,'Outil Recensement'!BK36,\"\")","v":""},{"$f":"IF('Outil Recensement'!BL36>0,'Outil Recensement'!BL36,\"\")","v":""},{"$f":"IF('Outil Recensement'!BM36>0,'Outil Recensement'!BM36,\"\")","v":""},{"$f":"IF('Outil Recensement'!BN36=\"Male\",\"Male\",IF('Outil Recensement'!BN36=\"Female\",\"Female\",IF('Outil Recensement'!BN36=\"M\",\"Male\",IF('Outil Recensement'!BN36=\"F\",\"Female\",\"\"))))","v":""},{"$f":"IF('Outil Recensement'!BO36=\"Yes\",\"Yes\",IF('Outil Recensement'!BO36=\"No\",\"No\",IF('Outil Recensement'!BO36=\"Y\",\"Yes\",IF('Outil Recensement'!BO36=\"N\",\"No\",\"\"))))","v":""},{"$f":"IF('Outil Recensement'!BP36=\"Yes\",\"Yes\",IF('Outil Recensement'!BP36=\"No\",\"No\",IF('Outil Recensement'!BP36=\"Y\",\"Yes\",IF('Outil Recensement'!BP36=\"N\",\"No\",\"\"))))","v":""},{"$f":"IF('Outil Recensement'!BQ36>0,'Outil Recensement'!BQ36,\"\")","v":""},{"$f":"IF('Outil Recensement'!BR36>0,'Outil Recensement'!BR36,\"\")","v":""},{"$f":"IF('Outil Recensement'!BS36>0,'Outil Recensement'!BS36,\"\")","v":""},{"$f":"IF('Outil Recensement'!BT36=\"Male\",\"Male\",IF('Outil Recensement'!BT36=\"Female\",\"Female\",IF('Outil Recensement'!BT36=\"M\",\"Male\",IF('Outil Recensement'!BT36=\"F\",\"Female\",\"\"))))","v":""},{"$f":"IF('Outil Recensement'!BU36=\"Yes\",\"Yes\",IF('Outil Recensement'!BU36=\"No\",\"No\",IF('Outil Recensement'!BU36=\"Y\",\"Yes\",IF('Outil Recensement'!BU36=\"N\",\"No\",\"\"))))","v":""},{"$f":"IF('Outil Recensement'!BV36=\"Yes\",\"Yes\",IF('Outil Recensement'!BV36=\"No\",\"No\",IF('Outil Recensement'!BV36=\"Y\",\"Yes\",IF('Outil Recensement'!BV36=\"N\",\"No\",\"\"))))","v":""},{"$f":"IF('Outil Recensement'!BW36>0,'Outil Recensement'!BW36,\"\")","v":""},{"$f":"IF('Outil Recensement'!BX36>0,'Outil Recensement'!BX36,\"\")","v":""},{"$f":"IF('Outil Recensement'!BY36>0,'Outil Recensement'!BY36,\"\")","v":""},{"$f":"IF('Outil Recensement'!BZ36=\"Male\",\"Male\",IF('Outil Recensement'!BZ36=\"Female\",\"Female\",IF('Outil Recensement'!BZ36=\"M\",\"Male\",IF('Outil Recensement'!BZ36=\"F\",\"Female\",\"\"))))","v":""},{"$f":"IF('Outil Recensement'!CA36=\"Yes\",\"Yes\",IF('Outil Recensement'!CA36=\"No\",\"No\",IF('Outil Recensement'!CA36=\"Y\",\"Yes\",IF('Outil Recensement'!CA36=\"N\",\"No\",\"\"))))","v":""},{"$f":"IF('Outil Recensement'!CB36=\"Yes\",\"Yes\",IF('Outil Recensement'!CB36=\"No\",\"No\",IF('Outil Recensement'!CB36=\"Y\",\"Yes\",IF('Outil Recensement'!CB36=\"N\",\"No\",\"\"))))","v":""},{"$f":"IF('Outil Recensement'!CH36>0,'Outil Recensement'!CH36,\"\")","v":"    "}]
[{"$f":"IF('Outil Recensement'!A37>0,'Outil Recensement'!A37,\"\")","v":""},{"$f":"IF('Outil Recensement'!B37>0,'Outil Recensement'!B37,\"\")","v":""},{"$f":"IF('Outil Recensement'!C37>0,'Outil Recensement'!C37,\"\")","v":""},{"$f":"IF('Outil Recensement'!D37>0,'Outil Recensement'!D37,\"\")","v":""},{"$f":"IF('Outil Recensement'!P37>0,TEXT('Outil Recensement'!P37,\"000\"),\"\")","v":""},{"$f":"IF('Outil Recensement'!Q37>0,'Outil Recensement'!Q37,\"\")","v":""},{"$f":"IF('Outil Recensement'!R37>0,'Outil Recensement'!R37,\"\")","v":""},{"$f":"IF('Outil Recensement'!F37>0,DATEVALUE(TEXT('Outil Recensement'!F37,\"yyyy-mm-dd\")),\"\")","v":""},{"$f":"IF('Outil Recensement'!L37>0,DATEVALUE(TEXT('Outil Recensement'!L37,\"yyyy-mm-dd\")),\"\")","v":""},{"$f":"IF('Outil Recensement'!Y37>0,'Outil Recensement'!Y37,\"\")","v":""},{"$f":"IF('Outil Recensement'!T37>0,'Outil Recensement'!T37,\"\")","v":""},{"$f":"IF('Outil Recensement'!G37=\"Homme\",\"Male\",IF('Outil Recensement'!G37=\"Femme\",\"Female\",IF('Outil Recensement'!G37=\"H\",\"Male\",IF('Outil Recensement'!G37=\"F\",\"Female\",\"\"))))","v":""},{"$f":"IF('Outil Recensement'!U37=\"Yes\",\"Yes\",IF('Outil Recensement'!U37=\"No\",\"No\",IF('Outil Recensement'!U37=\"Y\",\"Yes\",IF('Outil Recensement'!U37=\"N\",\"No\",\"\"))))","v":""},{"$f":"IF('Outil Recensement'!I37=\"Individuelle\",\"Single\",IF('Outil Recensement'!I37=\"Familiale\",\"Family\",IF('Outil Recensement'!I37=\"Refus\",\"Family\",IF('Outil Recensement'!I37=\"Parent seul\",\"Family\",IF('Outil Recensement'!I37=\"Couple\",\"Family\",IF('Outil Recensement'!I37=\"In force\",\"Family\",IF('Outil Recensement'!I37=\"Applies\",\"Family\",IF('Outil Recensement'!I37=\"Applicable\",\"Family\",\"\"))))))))","v":""},{"$f":"IF('Outil Recensement'!AC37=\"Anglais\",\"English\",IF('Outil Recensement'!AC37=\"Français\",\"French\",IF('Outil Recensement'!AC37=\"A\",\"English\",IF('Outil Recensement'!AC37=\"F\",\"French\",\"\"))))","v":""},{"$f":"IF('Outil Recensement'!AB37=\"Oui\",\"Yes\",IF('Outil Recensement'!AB37=\"Non\",\"No\",IF('Outil Recensement'!AB37=\"O\",\"Yes\",IF('Outil Recensement'!AB37=\"N\",\"No\",\"\"))))","v":""},{"$f":"IF('Outil Recensement'!AD37>0,'Outil Recensement'!AD37,\"\")","v":""},{"$f":"IF('Outil Recensement'!M37=\"Annuel\",\"Annually\",IF('Outil Recensement'!M37=\"Mensuel\",\"Monthly\",IF('Outil Recensement'!M37=\"Bihebdomadaire\",\"Biweekly\",IF('Outil Recensement'!M37=\"Hebdomadaire\",\"Weekly\",IF('Outil Recensement'!M37=\"Horaire\",\"Hourly\",IF('Outil Recensement'!M37=\"Semi-mensuel\",\"Semi-monthly\",IF('Outil Recensement'!M37=\"Applies\",\"Annual\",IF('Outil Recensement'!M37=\"Applicable\",\"Annual\",\"\"))))))))","v":""},{"$f":"IF('Outil Recensement'!N37>0,'Outil Recensement'!N37,\"\")","v":""},{"$f":"IF('Outil Recensement'!O37>0,'Outil Recensement'!O37,\"\")","v":""},{"$f":"IF('Outil Recensement'!I37=\"Refus\",\"Yes\",\"\")","v":""},{"$f":"IF('Outil Recensement'!I37=\"Refus\",\"Yes\",\"\")","v":""},{"$f":"IF('Outil Recensement'!AE37>0,'Outil Recensement'!AE37,\"\")","v":""},{"$f":"IF('Outil Recensement'!AF37>0,'Outil Recensement'!AF37,\"\")","v":""},{"$f":"IF('Outil Recensement'!AG37>0,'Outil Recensement'!AG37,\"\")","v":""},{"$f":"IF('Outil Recensement'!AH37>0,'Outil Recensement'!AH37,\"\")","v":""},{"$f":"IF('Outil Recensement'!AI37>0,'Outil Recensement'!AI37,\"\")","v":" "},{"$f":"IF('Outil Recensement'!AJ37>0,'Outil Recensement'!AJ37,\"\")","v":" "},{"$f":"IF('Outil Recensement'!W37>0,'Outil Recensement'!W37&\" \",\"\")&IF('Outil Recensement'!V37>0,'Outil Recensement'!V37,\"\")","v":""},null,{"$f":"IF('Outil Recensement'!X37>0,'Outil Recensement'!X37,\"\")","v":""},{"$f":"IF('Outil Recensement'!Y37>0,'Outil Recensement'!Y37,\"\")","v":""},{"$f":"IF('Outil Recensement'!Z37>0,'Outil Recensement'!Z37,\"\")","v":""},{"$f":"IF('Outil Recensement'!AA37>0,'Outil Recensement'!AA37,\"\")","v":""},{"$f":"IF('Outil Recensement'!E37>0,'Outil Recensement'!E37,\"\")","v":""},{"$f":"IF('Outil Recensement'!AK37>0,'Outil Recensement'!AK37,\"\")","v":""},{"$f":"IF('Outil Recensement'!AL37>0,'Outil Recensement'!AL37,\"\")","v":""},{"$f":"IF('Outil Recensement'!AM37>0,'Outil Recensement'!AM37,\"\")","v":""},{"$f":"IF('Outil Recensement'!AN37=\"Male\",\"Male\",IF('Outil Recensement'!AN37=\"Female\",\"Female\",IF('Outil Recensement'!AN37=\"M\",\"Male\",IF('Outil Recensement'!AN37=\"F\",\"Female\",\"\"))))","v":""},{"$f":"IF('Outil Recensement'!AO37=\"Single\",\"Single\",IF('Outil Recensement'!AO37=\"Family\",\"Family\",IF('Outil Recensement'!AO37=\"S\",\"Single\",IF('Outil Recensement'!AO37=\"F\",\"Family\",\"\"))))","v":""},{"$f":"IF('Outil Recensement'!AP37=\"Single\",\"Single\",IF('Outil Recensement'!AP37=\"Family\",\"Family\",IF('Outil Recensement'!AP37=\"S\",\"Single\",IF('Outil Recensement'!AP37=\"F\",\"Family\",\"\"))))","v":""},{"$f":"IF('Outil Recensement'!AQ37>0,'Outil Recensement'!AQ37,\"\")","v":""},{"$f":"IF('Outil Recensement'!AR37=\"Yes\",\"Yes\",IF('Outil Recensement'!AR37=\"No\",\"No\",IF('Outil Recensement'!AR37=\"Y\",\"Yes\",IF('Outil Recensement'!AR37=\"N\",\"No\",\"\"))))","v":""},{"$f":"IF('Outil Recensement'!AS37>0,'Outil Recensement'!AS37,\"\")","v":""},{"$f":"IF('Outil Recensement'!AT37>0,'Outil Recensement'!AT37,\"\")","v":""},{"$f":"IF('Outil Recensement'!AU37>0,'Outil Recensement'!AU37,\"\")","v":""},{"$f":"IF('Outil Recensement'!AV37=\"Male\",\"Male\",IF('Outil Recensement'!AV37=\"Female\",\"Female\",IF('Outil Recensement'!AV37=\"M\",\"Male\",IF('Outil Recensement'!AV37=\"F\",\"Female\",\"\"))))","v":""},{"$f":"IF('Outil Recensement'!AW37=\"Yes\",\"Yes\",IF('Outil Recensement'!AW37=\"No\",\"No\",IF('Outil Recensement'!AW37=\"Y\",\"Yes\",IF('Outil Recensement'!AW37=\"N\",\"No\",\"\"))))","v":""},{"$f":"IF('Outil Recensement'!AX37=\"Yes\",\"Yes\",IF('Outil Recensement'!AX37=\"No\",\"No\",IF('Outil Recensement'!AX37=\"Y\",\"Yes\",IF('Outil Recensement'!AX37=\"N\",\"No\",\"\"))))","v":""},{"$f":"IF('Outil Recensement'!AY37>0,'Outil Recensement'!AY37,\"\")","v":""},{"$f":"IF('Outil Recensement'!AZ37>0,'Outil Recensement'!AZ37,\"\")","v":""},{"$f":"IF('Outil Recensement'!BA37>0,'Outil Recensement'!BA37,\"\")","v":""},{"$f":"IF('Outil Recensement'!BB37=\"Male\",\"Male\",IF('Outil Recensement'!BB37=\"Female\",\"Female\",IF('Outil Recensement'!BB37=\"M\",\"Male\",IF('Outil Recensement'!BB37=\"F\",\"Female\",\"\"))))","v":""},{"$f":"IF('Outil Recensement'!BC37=\"Yes\",\"Yes\",IF('Outil Recensement'!BC37=\"No\",\"No\",IF('Outil Recensement'!BC37=\"Y\",\"Yes\",IF('Outil Recensement'!BC37=\"N\",\"No\",\"\"))))","v":""},{"$f":"IF('Outil Recensement'!BD37=\"Yes\",\"Yes\",IF('Outil Recensement'!BD37=\"No\",\"No\",IF('Outil Recensement'!BD37=\"Y\",\"Yes\",IF('Outil Recensement'!BD37=\"N\",\"No\",\"\"))))","v":""},{"$f":"IF('Outil Recensement'!BE37>0,'Outil Recensement'!BE37,\"\")","v":""},{"$f":"IF('Outil Recensement'!BF37>0,'Outil Recensement'!BF37,\"\")","v":""},{"$f":"IF('Outil Recensement'!BG37>0,'Outil Recensement'!BG37,\"\")","v":""},{"$f":"IF('Outil Recensement'!BH37=\"Male\",\"Male\",IF('Outil Recensement'!BH37=\"Female\",\"Female\",IF('Outil Recensement'!BH37=\"M\",\"Male\",IF('Outil Recensement'!BH37=\"F\",\"Female\",\"\"))))","v":""},{"$f":"IF('Outil Recensement'!BI37=\"Yes\",\"Yes\",IF('Outil Recensement'!BI37=\"No\",\"No\",IF('Outil Recensement'!BI37=\"Y\",\"Yes\",IF('Outil Recensement'!BI37=\"N\",\"No\",\"\"))))","v":""},{"$f":"IF('Outil Recensement'!BJ37=\"Yes\",\"Yes\",IF('Outil Recensement'!BJ37=\"No\",\"No\",IF('Outil Recensement'!BJ37=\"Y\",\"Yes\",IF('Outil Recensement'!BJ37=\"N\",\"No\",\"\"))))","v":""},{"$f":"IF('Outil Recensement'!BK37>0,'Outil Recensement'!BK37,\"\")","v":""},{"$f":"IF('Outil Recensement'!BL37>0,'Outil Recensement'!BL37,\"\")","v":""},{"$f":"IF('Outil Recensement'!BM37>0,'Outil Recensement'!BM37,\"\")","v":""},{"$f":"IF('Outil Recensement'!BN37=\"Male\",\"Male\",IF('Outil Recensement'!BN37=\"Female\",\"Female\",IF('Outil Recensement'!BN37=\"M\",\"Male\",IF('Outil Recensement'!BN37=\"F\",\"Female\",\"\"))))","v":""},{"$f":"IF('Outil Recensement'!BO37=\"Yes\",\"Yes\",IF('Outil Recensement'!BO37=\"No\",\"No\",IF('Outil Recensement'!BO37=\"Y\",\"Yes\",IF('Outil Recensement'!BO37=\"N\",\"No\",\"\"))))","v":""},{"$f":"IF('Outil Recensement'!BP37=\"Yes\",\"Yes\",IF('Outil Recensement'!BP37=\"No\",\"No\",IF('Outil Recensement'!BP37=\"Y\",\"Yes\",IF('Outil Recensement'!BP37=\"N\",\"No\",\"\"))))","v":""},{"$f":"IF('Outil Recensement'!BQ37>0,'Outil Recensement'!BQ37,\"\")","v":""},{"$f":"IF('Outil Recensement'!BR37>0,'Outil Recensement'!BR37,\"\")","v":""},{"$f":"IF('Outil Recensement'!BS37>0,'Outil Recensement'!BS37,\"\")","v":""},{"$f":"IF('Outil Recensement'!BT37=\"Male\",\"Male\",IF('Outil Recensement'!BT37=\"Female\",\"Female\",IF('Outil Recensement'!BT37=\"M\",\"Male\",IF('Outil Recensement'!BT37=\"F\",\"Female\",\"\"))))","v":""},{"$f":"IF('Outil Recensement'!BU37=\"Yes\",\"Yes\",IF('Outil Recensement'!BU37=\"No\",\"No\",IF('Outil Recensement'!BU37=\"Y\",\"Yes\",IF('Outil Recensement'!BU37=\"N\",\"No\",\"\"))))","v":""},{"$f":"IF('Outil Recensement'!BV37=\"Yes\",\"Yes\",IF('Outil Recensement'!BV37=\"No\",\"No\",IF('Outil Recensement'!BV37=\"Y\",\"Yes\",IF('Outil Recensement'!BV37=\"N\",\"No\",\"\"))))","v":""},{"$f":"IF('Outil Recensement'!BW37>0,'Outil Recensement'!BW37,\"\")","v":""},{"$f":"IF('Outil Recensement'!BX37>0,'Outil Recensement'!BX37,\"\")","v":""},{"$f":"IF('Outil Recensement'!BY37>0,'Outil Recensement'!BY37,\"\")","v":""},{"$f":"IF('Outil Recensement'!BZ37=\"Male\",\"Male\",IF('Outil Recensement'!BZ37=\"Female\",\"Female\",IF('Outil Recensement'!BZ37=\"M\",\"Male\",IF('Outil Recensement'!BZ37=\"F\",\"Female\",\"\"))))","v":""},{"$f":"IF('Outil Recensement'!CA37=\"Yes\",\"Yes\",IF('Outil Recensement'!CA37=\"No\",\"No\",IF('Outil Recensement'!CA37=\"Y\",\"Yes\",IF('Outil Recensement'!CA37=\"N\",\"No\",\"\"))))","v":""},{"$f":"IF('Outil Recensement'!CB37=\"Yes\",\"Yes\",IF('Outil Recensement'!CB37=\"No\",\"No\",IF('Outil Recensement'!CB37=\"Y\",\"Yes\",IF('Outil Recensement'!CB37=\"N\",\"No\",\"\"))))","v":""},{"$f":"IF('Outil Recensement'!CH37>0,'Outil Recensement'!CH37,\"\")","v":"    "}]
[{"$f":"IF('Outil Recensement'!A38>0,'Outil Recensement'!A38,\"\")","v":""},{"$f":"IF('Outil Recensement'!B38>0,'Outil Recensement'!B38,\"\")","v":""},{"$f":"IF('Outil Recensement'!C38>0,'Outil Recensement'!C38,\"\")","v":""},{"$f":"IF('Outil Recensement'!D38>0,'Outil Recensement'!D38,\"\")","v":""},{"$f":"IF('Outil Recensement'!P38>0,TEXT('Outil Recensement'!P38,\"000\"),\"\")","v":""},{"$f":"IF('Outil Recensement'!Q38>0,'Outil Recensement'!Q38,\"\")","v":""},{"$f":"IF('Outil Recensement'!R38>0,'Outil Recensement'!R38,\"\")","v":""},{"$f":"IF('Outil Recensement'!F38>0,DATEVALUE(TEXT('Outil Recensement'!F38,\"yyyy-mm-dd\")),\"\")","v":""},{"$f":"IF('Outil Recensement'!L38>0,DATEVALUE(TEXT('Outil Recensement'!L38,\"yyyy-mm-dd\")),\"\")","v":""},{"$f":"IF('Outil Recensement'!Y38>0,'Outil Recensement'!Y38,\"\")","v":""},{"$f":"IF('Outil Recensement'!T38>0,'Outil Recensement'!T38,\"\")","v":""},{"$f":"IF('Outil Recensement'!G38=\"Homme\",\"Male\",IF('Outil Recensement'!G38=\"Femme\",\"Female\",IF('Outil Recensement'!G38=\"H\",\"Male\",IF('Outil Recensement'!G38=\"F\",\"Female\",\"\"))))","v":""},{"$f":"IF('Outil Recensement'!U38=\"Yes\",\"Yes\",IF('Outil Recensement'!U38=\"No\",\"No\",IF('Outil Recensement'!U38=\"Y\",\"Yes\",IF('Outil Recensement'!U38=\"N\",\"No\",\"\"))))","v":""},{"$f":"IF('Outil Recensement'!I38=\"Individuelle\",\"Single\",IF('Outil Recensement'!I38=\"Familiale\",\"Family\",IF('Outil Recensement'!I38=\"Refus\",\"Family\",IF('Outil Recensement'!I38=\"Parent seul\",\"Family\",IF('Outil Recensement'!I38=\"Couple\",\"Family\",IF('Outil Recensement'!I38=\"In force\",\"Family\",IF('Outil Recensement'!I38=\"Applies\",\"Family\",IF('Outil Recensement'!I38=\"Applicable\",\"Family\",\"\"))))))))","v":""},{"$f":"IF('Outil Recensement'!AC38=\"Anglais\",\"English\",IF('Outil Recensement'!AC38=\"Français\",\"French\",IF('Outil Recensement'!AC38=\"A\",\"English\",IF('Outil Recensement'!AC38=\"F\",\"French\",\"\"))))","v":""},{"$f":"IF('Outil Recensement'!AB38=\"Oui\",\"Yes\",IF('Outil Recensement'!AB38=\"Non\",\"No\",IF('Outil Recensement'!AB38=\"O\",\"Yes\",IF('Outil Recensement'!AB38=\"N\",\"No\",\"\"))))","v":""},{"$f":"IF('Outil Recensement'!AD38>0,'Outil Recensement'!AD38,\"\")","v":""},{"$f":"IF('Outil Recensement'!M38=\"Annuel\",\"Annually\",IF('Outil Recensement'!M38=\"Mensuel\",\"Monthly\",IF('Outil Recensement'!M38=\"Bihebdomadaire\",\"Biweekly\",IF('Outil Recensement'!M38=\"Hebdomadaire\",\"Weekly\",IF('Outil Recensement'!M38=\"Horaire\",\"Hourly\",IF('Outil Recensement'!M38=\"Semi-mensuel\",\"Semi-monthly\",IF('Outil Recensement'!M38=\"Applies\",\"Annual\",IF('Outil Recensement'!M38=\"Applicable\",\"Annual\",\"\"))))))))","v":""},{"$f":"IF('Outil Recensement'!N38>0,'Outil Recensement'!N38,\"\")","v":""},{"$f":"IF('Outil Recensement'!O38>0,'Outil Recensement'!O38,\"\")","v":""},{"$f":"IF('Outil Recensement'!I38=\"Refus\",\"Yes\",\"\")","v":""},{"$f":"IF('Outil Recensement'!I38=\"Refus\",\"Yes\",\"\")","v":""},{"$f":"IF('Outil Recensement'!AE38>0,'Outil Recensement'!AE38,\"\")","v":""},{"$f":"IF('Outil Recensement'!AF38>0,'Outil Recensement'!AF38,\"\")","v":""},{"$f":"IF('Outil Recensement'!AG38>0,'Outil Recensement'!AG38,\"\")","v":""},{"$f":"IF('Outil Recensement'!AH38>0,'Outil Recensement'!AH38,\"\")","v":""},{"$f":"IF('Outil Recensement'!AI38>0,'Outil Recensement'!AI38,\"\")","v":" "},{"$f":"IF('Outil Recensement'!AJ38>0,'Outil Recensement'!AJ38,\"\")","v":" "},{"$f":"IF('Outil Recensement'!W38>0,'Outil Recensement'!W38&\" \",\"\")&IF('Outil Recensement'!V38>0,'Outil Recensement'!V38,\"\")","v":""},null,{"$f":"IF('Outil Recensement'!X38>0,'Outil Recensement'!X38,\"\")","v":""},{"$f":"IF('Outil Recensement'!Y38>0,'Outil Recensement'!Y38,\"\")","v":""},{"$f":"IF('Outil Recensement'!Z38>0,'Outil Recensement'!Z38,\"\")","v":""},{"$f":"IF('Outil Recensement'!AA38>0,'Outil Recensement'!AA38,\"\")","v":""},{"$f":"IF('Outil Recensement'!E38>0,'Outil Recensement'!E38,\"\")","v":""},{"$f":"IF('Outil Recensement'!AK38>0,'Outil Recensement'!AK38,\"\")","v":""},{"$f":"IF('Outil Recensement'!AL38>0,'Outil Recensement'!AL38,\"\")","v":""},{"$f":"IF('Outil Recensement'!AM38>0,'Outil Recensement'!AM38,\"\")","v":""},{"$f":"IF('Outil Recensement'!AN38=\"Male\",\"Male\",IF('Outil Recensement'!AN38=\"Female\",\"Female\",IF('Outil Recensement'!AN38=\"M\",\"Male\",IF('Outil Recensement'!AN38=\"F\",\"Female\",\"\"))))","v":""},{"$f":"IF('Outil Recensement'!AO38=\"Single\",\"Single\",IF('Outil Recensement'!AO38=\"Family\",\"Family\",IF('Outil Recensement'!AO38=\"S\",\"Single\",IF('Outil Recensement'!AO38=\"F\",\"Family\",\"\"))))","v":""},{"$f":"IF('Outil Recensement'!AP38=\"Single\",\"Single\",IF('Outil Recensement'!AP38=\"Family\",\"Family\",IF('Outil Recensement'!AP38=\"S\",\"Single\",IF('Outil Recensement'!AP38=\"F\",\"Family\",\"\"))))","v":""},{"$f":"IF('Outil Recensement'!AQ38>0,'Outil Recensement'!AQ38,\"\")","v":""},{"$f":"IF('Outil Recensement'!AR38=\"Yes\",\"Yes\",IF('Outil Recensement'!AR38=\"No\",\"No\",IF('Outil Recensement'!AR38=\"Y\",\"Yes\",IF('Outil Recensement'!AR38=\"N\",\"No\",\"\"))))","v":""},{"$f":"IF('Outil Recensement'!AS38>0,'Outil Recensement'!AS38,\"\")","v":""},{"$f":"IF('Outil Recensement'!AT38>0,'Outil Recensement'!AT38,\"\")","v":""},{"$f":"IF('Outil Recensement'!AU38>0,'Outil Recensement'!AU38,\"\")","v":""},{"$f":"IF('Outil Recensement'!AV38=\"Male\",\"Male\",IF('Outil Recensement'!AV38=\"Female\",\"Female\",IF('Outil Recensement'!AV38=\"M\",\"Male\",IF('Outil Recensement'!AV38=\"F\",\"Female\",\"\"))))","v":""},{"$f":"IF('Outil Recensement'!AW38=\"Yes\",\"Yes\",IF('Outil Recensement'!AW38=\"No\",\"No\",IF('Outil Recensement'!AW38=\"Y\",\"Yes\",IF('Outil Recensement'!AW38=\"N\",\"No\",\"\"))))","v":""},{"$f":"IF('Outil Recensement'!AX38=\"Yes\",\"Yes\",IF('Outil Recensement'!AX38=\"No\",\"No\",IF('Outil Recensement'!AX38=\"Y\",\"Yes\",IF('Outil Recensement'!AX38=\"N\",\"No\",\"\"))))","v":""},{"$f":"IF('Outil Recensement'!AY38>0,'Outil Recensement'!AY38,\"\")","v":""},{"$f":"IF('Outil Recensement'!AZ38>0,'Outil Recensement'!AZ38,\"\")","v":""},{"$f":"IF('Outil Recensement'!BA38>0,'Outil Recensement'!BA38,\"\")","v":""},{"$f":"IF('Outil Recensement'!BB38=\"Male\",\"Male\",IF('Outil Recensement'!BB38=\"Female\",\"Female\",IF('Outil Recensement'!BB38=\"M\",\"Male\",IF('Outil Recensement'!BB38=\"F\",\"Female\",\"\"))))","v":""},{"$f":"IF('Outil Recensement'!BC38=\"Yes\",\"Yes\",IF('Outil Recensement'!BC38=\"No\",\"No\",IF('Outil Recensement'!BC38=\"Y\",\"Yes\",IF('Outil Recensement'!BC38=\"N\",\"No\",\"\"))))","v":""},{"$f":"IF('Outil Recensement'!BD38=\"Yes\",\"Yes\",IF('Outil Recensement'!BD38=\"No\",\"No\",IF('Outil Recensement'!BD38=\"Y\",\"Yes\",IF('Outil Recensement'!BD38=\"N\",\"No\",\"\"))))","v":""},{"$f":"IF('Outil Recensement'!BE38>0,'Outil Recensement'!BE38,\"\")","v":""},{"$f":"IF('Outil Recensement'!BF38>0,'Outil Recensement'!BF38,\"\")","v":""},{"$f":"IF('Outil Recensement'!BG38>0,'Outil Recensement'!BG38,\"\")","v":""},{"$f":"IF('Outil Recensement'!BH38=\"Male\",\"Male\",IF('Outil Recensement'!BH38=\"Female\",\"Female\",IF('Outil Recensement'!BH38=\"M\",\"Male\",IF('Outil Recensement'!BH38=\"F\",\"Female\",\"\"))))","v":""},{"$f":"IF('Outil Recensement'!BI38=\"Yes\",\"Yes\",IF('Outil Recensement'!BI38=\"No\",\"No\",IF('Outil Recensement'!BI38=\"Y\",\"Yes\",IF('Outil Recensement'!BI38=\"N\",\"No\",\"\"))))","v":""},{"$f":"IF('Outil Recensement'!BJ38=\"Yes\",\"Yes\",IF('Outil Recensement'!BJ38=\"No\",\"No\",IF('Outil Recensement'!BJ38=\"Y\",\"Yes\",IF('Outil Recensement'!BJ38=\"N\",\"No\",\"\"))))","v":""},{"$f":"IF('Outil Recensement'!BK38>0,'Outil Recensement'!BK38,\"\")","v":""},{"$f":"IF('Outil Recensement'!BL38>0,'Outil Recensement'!BL38,\"\")","v":""},{"$f":"IF('Outil Recensement'!BM38>0,'Outil Recensement'!BM38,\"\")","v":""},{"$f":"IF('Outil Recensement'!BN38=\"Male\",\"Male\",IF('Outil Recensement'!BN38=\"Female\",\"Female\",IF('Outil Recensement'!BN38=\"M\",\"Male\",IF('Outil Recensement'!BN38=\"F\",\"Female\",\"\"))))","v":""},{"$f":"IF('Outil Recensement'!BO38=\"Yes\",\"Yes\",IF('Outil Recensement'!BO38=\"No\",\"No\",IF('Outil Recensement'!BO38=\"Y\",\"Yes\",IF('Outil Recensement'!BO38=\"N\",\"No\",\"\"))))","v":""},{"$f":"IF('Outil Recensement'!BP38=\"Yes\",\"Yes\",IF('Outil Recensement'!BP38=\"No\",\"No\",IF('Outil Recensement'!BP38=\"Y\",\"Yes\",IF('Outil Recensement'!BP38=\"N\",\"No\",\"\"))))","v":""},{"$f":"IF('Outil Recensement'!BQ38>0,'Outil Recensement'!BQ38,\"\")","v":""},{"$f":"IF('Outil Recensement'!BR38>0,'Outil Recensement'!BR38,\"\")","v":""},{"$f":"IF('Outil Recensement'!BS38>0,'Outil Recensement'!BS38,\"\")","v":""},{"$f":"IF('Outil Recensement'!BT38=\"Male\",\"Male\",IF('Outil Recensement'!BT38=\"Female\",\"Female\",IF('Outil Recensement'!BT38=\"M\",\"Male\",IF('Outil Recensement'!BT38=\"F\",\"Female\",\"\"))))","v":""},{"$f":"IF('Outil Recensement'!BU38=\"Yes\",\"Yes\",IF('Outil Recensement'!BU38=\"No\",\"No\",IF('Outil Recensement'!BU38=\"Y\",\"Yes\",IF('Outil Recensement'!BU38=\"N\",\"No\",\"\"))))","v":""},{"$f":"IF('Outil Recensement'!BV38=\"Yes\",\"Yes\",IF('Outil Recensement'!BV38=\"No\",\"No\",IF('Outil Recensement'!BV38=\"Y\",\"Yes\",IF('Outil Recensement'!BV38=\"N\",\"No\",\"\"))))","v":""},{"$f":"IF('Outil Recensement'!BW38>0,'Outil Recensement'!BW38,\"\")","v":""},{"$f":"IF('Outil Recensement'!BX38>0,'Outil Recensement'!BX38,\"\")","v":""},{"$f":"IF('Outil Recensement'!BY38>0,'Outil Recensement'!BY38,\"\")","v":""},{"$f":"IF('Outil Recensement'!BZ38=\"Male\",\"Male\",IF('Outil Recensement'!BZ38=\"Female\",\"Female\",IF('Outil Recensement'!BZ38=\"M\",\"Male\",IF('Outil Recensement'!BZ38=\"F\",\"Female\",\"\"))))","v":""},{"$f":"IF('Outil Recensement'!CA38=\"Yes\",\"Yes\",IF('Outil Recensement'!CA38=\"No\",\"No\",IF('Outil Recensement'!CA38=\"Y\",\"Yes\",IF('Outil Recensement'!CA38=\"N\",\"No\",\"\"))))","v":""},{"$f":"IF('Outil Recensement'!CB38=\"Yes\",\"Yes\",IF('Outil Recensement'!CB38=\"No\",\"No\",IF('Outil Recensement'!CB38=\"Y\",\"Yes\",IF('Outil Recensement'!CB38=\"N\",\"No\",\"\"))))","v":""},{"$f":"IF('Outil Recensement'!CH38>0,'Outil Recensement'!CH38,\"\")","v":"    "}]
[{"$f":"IF('Outil Recensement'!A39>0,'Outil Recensement'!A39,\"\")","v":""},{"$f":"IF('Outil Recensement'!B39>0,'Outil Recensement'!B39,\"\")","v":""},{"$f":"IF('Outil Recensement'!C39>0,'Outil Recensement'!C39,\"\")","v":""},{"$f":"IF('Outil Recensement'!D39>0,'Outil Recensement'!D39,\"\")","v":""},{"$f":"IF('Outil Recensement'!P39>0,TEXT('Outil Recensement'!P39,\"000\"),\"\")","v":""},{"$f":"IF('Outil Recensement'!Q39>0,'Outil Recensement'!Q39,\"\")","v":""},{"$f":"IF('Outil Recensement'!R39>0,'Outil Recensement'!R39,\"\")","v":""},{"$f":"IF('Outil Recensement'!F39>0,DATEVALUE(TEXT('Outil Recensement'!F39,\"yyyy-mm-dd\")),\"\")","v":""},{"$f":"IF('Outil Recensement'!L39>0,DATEVALUE(TEXT('Outil Recensement'!L39,\"yyyy-mm-dd\")),\"\")","v":""},{"$f":"IF('Outil Recensement'!Y39>0,'Outil Recensement'!Y39,\"\")","v":""},{"$f":"IF('Outil Recensement'!T39>0,'Outil Recensement'!T39,\"\")","v":""},{"$f":"IF('Outil Recensement'!G39=\"Homme\",\"Male\",IF('Outil Recensement'!G39=\"Femme\",\"Female\",IF('Outil Recensement'!G39=\"H\",\"Male\",IF('Outil Recensement'!G39=\"F\",\"Female\",\"\"))))","v":""},{"$f":"IF('Outil Recensement'!U39=\"Yes\",\"Yes\",IF('Outil Recensement'!U39=\"No\",\"No\",IF('Outil Recensement'!U39=\"Y\",\"Yes\",IF('Outil Recensement'!U39=\"N\",\"No\",\"\"))))","v":""},{"$f":"IF('Outil Recensement'!I39=\"Individuelle\",\"Single\",IF('Outil Recensement'!I39=\"Familiale\",\"Family\",IF('Outil Recensement'!I39=\"Refus\",\"Family\",IF('Outil Recensement'!I39=\"Parent seul\",\"Family\",IF('Outil Recensement'!I39=\"Couple\",\"Family\",IF('Outil Recensement'!I39=\"In force\",\"Family\",IF('Outil Recensement'!I39=\"Applies\",\"Family\",IF('Outil Recensement'!I39=\"Applicable\",\"Family\",\"\"))))))))","v":""},{"$f":"IF('Outil Recensement'!AC39=\"Anglais\",\"English\",IF('Outil Recensement'!AC39=\"Français\",\"French\",IF('Outil Recensement'!AC39=\"A\",\"English\",IF('Outil Recensement'!AC39=\"F\",\"French\",\"\"))))","v":""},{"$f":"IF('Outil Recensement'!AB39=\"Oui\",\"Yes\",IF('Outil Recensement'!AB39=\"Non\",\"No\",IF('Outil Recensement'!AB39=\"O\",\"Yes\",IF('Outil Recensement'!AB39=\"N\",\"No\",\"\"))))","v":""},{"$f":"IF('Outil Recensement'!AD39>0,'Outil Recensement'!AD39,\"\")","v":""},{"$f":"IF('Outil Recensement'!M39=\"Annuel\",\"Annually\",IF('Outil Recensement'!M39=\"Mensuel\",\"Monthly\",IF('Outil Recensement'!M39=\"Bihebdomadaire\",\"Biweekly\",IF('Outil Recensement'!M39=\"Hebdomadaire\",\"Weekly\",IF('Outil Recensement'!M39=\"Horaire\",\"Hourly\",IF('Outil Recensement'!M39=\"Semi-mensuel\",\"Semi-monthly\",IF('Outil Recensement'!M39=\"Applies\",\"Annual\",IF('Outil Recensement'!M39=\"Applicable\",\"Annual\",\"\"))))))))","v":""},{"$f":"IF('Outil Recensement'!N39>0,'Outil Recensement'!N39,\"\")","v":""},{"$f":"IF('Outil Recensement'!O39>0,'Outil Recensement'!O39,\"\")","v":""},{"$f":"IF('Outil Recensement'!I39=\"Refus\",\"Yes\",\"\")","v":""},{"$f":"IF('Outil Recensement'!I39=\"Refus\",\"Yes\",\"\")","v":""},{"$f":"IF('Outil Recensement'!AE39>0,'Outil Recensement'!AE39,\"\")","v":""},{"$f":"IF('Outil Recensement'!AF39>0,'Outil Recensement'!AF39,\"\")","v":""},{"$f":"IF('Outil Recensement'!AG39>0,'Outil Recensement'!AG39,\"\")","v":""},{"$f":"IF('Outil Recensement'!AH39>0,'Outil Recensement'!AH39,\"\")","v":""},{"$f":"IF('Outil Recensement'!AI39>0,'Outil Recensement'!AI39,\"\")","v":" "},{"$f":"IF('Outil Recensement'!AJ39>0,'Outil Recensement'!AJ39,\"\")","v":" "},{"$f":"IF('Outil Recensement'!W39>0,'Outil Recensement'!W39&\" \",\"\")&IF('Outil Recensement'!V39>0,'Outil Recensement'!V39,\"\")","v":""},null,{"$f":"IF('Outil Recensement'!X39>0,'Outil Recensement'!X39,\"\")","v":""},{"$f":"IF('Outil Recensement'!Y39>0,'Outil Recensement'!Y39,\"\")","v":""},{"$f":"IF('Outil Recensement'!Z39>0,'Outil Recensement'!Z39,\"\")","v":""},{"$f":"IF('Outil Recensement'!AA39>0,'Outil Recensement'!AA39,\"\")","v":""},{"$f":"IF('Outil Recensement'!E39>0,'Outil Recensement'!E39,\"\")","v":""},{"$f":"IF('Outil Recensement'!AK39>0,'Outil Recensement'!AK39,\"\")","v":""},{"$f":"IF('Outil Recensement'!AL39>0,'Outil Recensement'!AL39,\"\")","v":""},{"$f":"IF('Outil Recensement'!AM39>0,'Outil Recensement'!AM39,\"\")","v":""},{"$f":"IF('Outil Recensement'!AN39=\"Male\",\"Male\",IF('Outil Recensement'!AN39=\"Female\",\"Female\",IF('Outil Recensement'!AN39=\"M\",\"Male\",IF('Outil Recensement'!AN39=\"F\",\"Female\",\"\"))))","v":""},{"$f":"IF('Outil Recensement'!AO39=\"Single\",\"Single\",IF('Outil Recensement'!AO39=\"Family\",\"Family\",IF('Outil Recensement'!AO39=\"S\",\"Single\",IF('Outil Recensement'!AO39=\"F\",\"Family\",\"\"))))","v":""},{"$f":"IF('Outil Recensement'!AP39=\"Single\",\"Single\",IF('Outil Recensement'!AP39=\"Family\",\"Family\",IF('Outil Recensement'!AP39=\"S\",\"Single\",IF('Outil Recensement'!AP39=\"F\",\"Family\",\"\"))))","v":""},{"$f":"IF('Outil Recensement'!AQ39>0,'Outil Recensement'!AQ39,\"\")","v":""},{"$f":"IF('Outil Recensement'!AR39=\"Yes\",\"Yes\",IF('Outil Recensement'!AR39=\"No\",\"No\",IF('Outil Recensement'!AR39=\"Y\",\"Yes\",IF('Outil Recensement'!AR39=\"N\",\"No\",\"\"))))","v":""},{"$f":"IF('Outil Recensement'!AS39>0,'Outil Recensement'!AS39,\"\")","v":""},{"$f":"IF('Outil Recensement'!AT39>0,'Outil Recensement'!AT39,\"\")","v":""},{"$f":"IF('Outil Recensement'!AU39>0,'Outil Recensement'!AU39,\"\")","v":""},{"$f":"IF('Outil Recensement'!AV39=\"Male\",\"Male\",IF('Outil Recensement'!AV39=\"Female\",\"Female\",IF('Outil Recensement'!AV39=\"M\",\"Male\",IF('Outil Recensement'!AV39=\"F\",\"Female\",\"\"))))","v":""},{"$f":"IF('Outil Recensement'!AW39=\"Yes\",\"Yes\",IF('Outil Recensement'!AW39=\"No\",\"No\",IF('Outil Recensement'!AW39=\"Y\",\"Yes\",IF('Outil Recensement'!AW39=\"N\",\"No\",\"\"))))","v":""},{"$f":"IF('Outil Recensement'!AX39=\"Yes\",\"Yes\",IF('Outil Recensement'!AX39=\"No\",\"No\",IF('Outil Recensement'!AX39=\"Y\",\"Yes\",IF('Outil Recensement'!AX39=\"N\",\"No\",\"\"))))","v":""},{"$f":"IF('Outil Recensement'!AY39>0,'Outil Recensement'!AY39,\"\")","v":""},{"$f":"IF('Outil Recensement'!AZ39>0,'Outil Recensement'!AZ39,\"\")","v":""},{"$f":"IF('Outil Recensement'!BA39>0,'Outil Recensement'!BA39,\"\")","v":""},{"$f":"IF('Outil Recensement'!BB39=\"Male\",\"Male\",IF('Outil Recensement'!BB39=\"Female\",\"Female\",IF('Outil Recensement'!BB39=\"M\",\"Male\",IF('Outil Recensement'!BB39=\"F\",\"Female\",\"\"))))","v":""},{"$f":"IF('Outil Recensement'!BC39=\"Yes\",\"Yes\",IF('Outil Recensement'!BC39=\"No\",\"No\",IF('Outil Recensement'!BC39=\"Y\",\"Yes\",IF('Outil Recensement'!BC39=\"N\",\"No\",\"\"))))","v":""},{"$f":"IF('Outil Recensement'!BD39=\"Yes\",\"Yes\",IF('Outil Recensement'!BD39=\"No\",\"No\",IF('Outil Recensement'!BD39=\"Y\",\"Yes\",IF('Outil Recensement'!BD39=\"N\",\"No\",\"\"))))","v":""},{"$f":"IF('Outil Recensement'!BE39>0,'Outil Recensement'!BE39,\"\")","v":""},{"$f":"IF('Outil Recensement'!BF39>0,'Outil Recensement'!BF39,\"\")","v":""},{"$f":"IF('Outil Recensement'!BG39>0,'Outil Recensement'!BG39,\"\")","v":""},{"$f":"IF('Outil Recensement'!BH39=\"Male\",\"Male\",IF('Outil Recensement'!BH39=\"Female\",\"Female\",IF('Outil Recensement'!BH39=\"M\",\"Male\",IF('Outil Recensement'!BH39=\"F\",\"Female\",\"\"))))","v":""},{"$f":"IF('Outil Recensement'!BI39=\"Yes\",\"Yes\",IF('Outil Recensement'!BI39=\"No\",\"No\",IF('Outil Recensement'!BI39=\"Y\",\"Yes\",IF('Outil Recensement'!BI39=\"N\",\"No\",\"\"))))","v":""},{"$f":"IF('Outil Recensement'!BJ39=\"Yes\",\"Yes\",IF('Outil Recensement'!BJ39=\"No\",\"No\",IF('Outil Recensement'!BJ39=\"Y\",\"Yes\",IF('Outil Recensement'!BJ39=\"N\",\"No\",\"\"))))","v":""},{"$f":"IF('Outil Recensement'!BK39>0,'Outil Recensement'!BK39,\"\")","v":""},{"$f":"IF('Outil Recensement'!BL39>0,'Outil Recensement'!BL39,\"\")","v":""},{"$f":"IF('Outil Recensement'!BM39>0,'Outil Recensement'!BM39,\"\")","v":""},{"$f":"IF('Outil Recensement'!BN39=\"Male\",\"Male\",IF('Outil Recensement'!BN39=\"Female\",\"Female\",IF('Outil Recensement'!BN39=\"M\",\"Male\",IF('Outil Recensement'!BN39=\"F\",\"Female\",\"\"))))","v":""},{"$f":"IF('Outil Recensement'!BO39=\"Yes\",\"Yes\",IF('Outil Recensement'!BO39=\"No\",\"No\",IF('Outil Recensement'!BO39=\"Y\",\"Yes\",IF('Outil Recensement'!BO39=\"N\",\"No\",\"\"))))","v":""},{"$f":"IF('Outil Recensement'!BP39=\"Yes\",\"Yes\",IF('Outil Recensement'!BP39=\"No\",\"No\",IF('Outil Recensement'!BP39=\"Y\",\"Yes\",IF('Outil Recensement'!BP39=\"N\",\"No\",\"\"))))","v":""},{"$f":"IF('Outil Recensement'!BQ39>0,'Outil Recensement'!BQ39,\"\")","v":""},{"$f":"IF('Outil Recensement'!BR39>0,'Outil Recensement'!BR39,\"\")","v":""},{"$f":"IF('Outil Recensement'!BS39>0,'Outil Recensement'!BS39,\"\")","v":""},{"$f":"IF('Outil Recensement'!BT39=\"Male\",\"Male\",IF('Outil Recensement'!BT39=\"Female\",\"Female\",IF('Outil Recensement'!BT39=\"M\",\"Male\",IF('Outil Recensement'!BT39=\"F\",\"Female\",\"\"))))","v":""},{"$f":"IF('Outil Recensement'!BU39=\"Yes\",\"Yes\",IF('Outil Recensement'!BU39=\"No\",\"No\",IF('Outil Recensement'!BU39=\"Y\",\"Yes\",IF('Outil Recensement'!BU39=\"N\",\"No\",\"\"))))","v":""},{"$f":"IF('Outil Recensement'!BV39=\"Yes\",\"Yes\",IF('Outil Recensement'!BV39=\"No\",\"No\",IF('Outil Recensement'!BV39=\"Y\",\"Yes\",IF('Outil Recensement'!BV39=\"N\",\"No\",\"\"))))","v":""},{"$f":"IF('Outil Recensement'!BW39>0,'Outil Recensement'!BW39,\"\")","v":""},{"$f":"IF('Outil Recensement'!BX39>0,'Outil Recensement'!BX39,\"\")","v":""},{"$f":"IF('Outil Recensement'!BY39>0,'Outil Recensement'!BY39,\"\")","v":""},{"$f":"IF('Outil Recensement'!BZ39=\"Male\",\"Male\",IF('Outil Recensement'!BZ39=\"Female\",\"Female\",IF('Outil Recensement'!BZ39=\"M\",\"Male\",IF('Outil Recensement'!BZ39=\"F\",\"Female\",\"\"))))","v":""},{"$f":"IF('Outil Recensement'!CA39=\"Yes\",\"Yes\",IF('Outil Recensement'!CA39=\"No\",\"No\",IF('Outil Recensement'!CA39=\"Y\",\"Yes\",IF('Outil Recensement'!CA39=\"N\",\"No\",\"\"))))","v":""},{"$f":"IF('Outil Recensement'!CB39=\"Yes\",\"Yes\",IF('Outil Recensement'!CB39=\"No\",\"No\",IF('Outil Recensement'!CB39=\"Y\",\"Yes\",IF('Outil Recensement'!CB39=\"N\",\"No\",\"\"))))","v":""},{"$f":"IF('Outil Recensement'!CH39>0,'Outil Recensement'!CH39,\"\")","v":"    "}]
[{"$f":"IF('Outil Recensement'!A40>0,'Outil Recensement'!A40,\"\")","v":""},{"$f":"IF('Outil Recensement'!B40>0,'Outil Recensement'!B40,\"\")","v":""},{"$f":"IF('Outil Recensement'!C40>0,'Outil Recensement'!C40,\"\")","v":""},{"$f":"IF('Outil Recensement'!D40>0,'Outil Recensement'!D40,\"\")","v":""},{"$f":"IF('Outil Recensement'!P40>0,TEXT('Outil Recensement'!P40,\"000\"),\"\")","v":""},{"$f":"IF('Outil Recensement'!Q40>0,'Outil Recensement'!Q40,\"\")","v":""},{"$f":"IF('Outil Recensement'!R40>0,'Outil Recensement'!R40,\"\")","v":""},{"$f":"IF('Outil Recensement'!F40>0,DATEVALUE(TEXT('Outil Recensement'!F40,\"yyyy-mm-dd\")),\"\")","v":""},{"$f":"IF('Outil Recensement'!L40>0,DATEVALUE(TEXT('Outil Recensement'!L40,\"yyyy-mm-dd\")),\"\")","v":""},{"$f":"IF('Outil Recensement'!Y40>0,'Outil Recensement'!Y40,\"\")","v":""},{"$f":"IF('Outil Recensement'!T40>0,'Outil Recensement'!T40,\"\")","v":""},{"$f":"IF('Outil Recensement'!G40=\"Homme\",\"Male\",IF('Outil Recensement'!G40=\"Femme\",\"Female\",IF('Outil Recensement'!G40=\"H\",\"Male\",IF('Outil Recensement'!G40=\"F\",\"Female\",\"\"))))","v":""},{"$f":"IF('Outil Recensement'!U40=\"Yes\",\"Yes\",IF('Outil Recensement'!U40=\"No\",\"No\",IF('Outil Recensement'!U40=\"Y\",\"Yes\",IF('Outil Recensement'!U40=\"N\",\"No\",\"\"))))","v":""},{"$f":"IF('Outil Recensement'!I40=\"Individuelle\",\"Single\",IF('Outil Recensement'!I40=\"Familiale\",\"Family\",IF('Outil Recensement'!I40=\"Refus\",\"Family\",IF('Outil Recensement'!I40=\"Parent seul\",\"Family\",IF('Outil Recensement'!I40=\"Couple\",\"Family\",IF('Outil Recensement'!I40=\"In force\",\"Family\",IF('Outil Recensement'!I40=\"Applies\",\"Family\",IF('Outil Recensement'!I40=\"Applicable\",\"Family\",\"\"))))))))","v":""},{"$f":"IF('Outil Recensement'!AC40=\"Anglais\",\"English\",IF('Outil Recensement'!AC40=\"Français\",\"French\",IF('Outil Recensement'!AC40=\"A\",\"English\",IF('Outil Recensement'!AC40=\"F\",\"French\",\"\"))))","v":""},{"$f":"IF('Outil Recensement'!AB40=\"Oui\",\"Yes\",IF('Outil Recensement'!AB40=\"Non\",\"No\",IF('Outil Recensement'!AB40=\"O\",\"Yes\",IF('Outil Recensement'!AB40=\"N\",\"No\",\"\"))))","v":""},{"$f":"IF('Outil Recensement'!AD40>0,'Outil Recensement'!AD40,\"\")","v":""},{"$f":"IF('Outil Recensement'!M40=\"Annuel\",\"Annually\",IF('Outil Recensement'!M40=\"Mensuel\",\"Monthly\",IF('Outil Recensement'!M40=\"Bihebdomadaire\",\"Biweekly\",IF('Outil Recensement'!M40=\"Hebdomadaire\",\"Weekly\",IF('Outil Recensement'!M40=\"Horaire\",\"Hourly\",IF('Outil Recensement'!M40=\"Semi-mensuel\",\"Semi-monthly\",IF('Outil Recensement'!M40=\"Applies\",\"Annual\",IF('Outil Recensement'!M40=\"Applicable\",\"Annual\",\"\"))))))))","v":""},{"$f":"IF('Outil Recensement'!N40>0,'Outil Recensement'!N40,\"\")","v":""},{"$f":"IF('Outil Recensement'!O40>0,'Outil Recensement'!O40,\"\")","v":""},{"$f":"IF('Outil Recensement'!I40=\"Refus\",\"Yes\",\"\")","v":""},{"$f":"IF('Outil Recensement'!I40=\"Refus\",\"Yes\",\"\")","v":""},{"$f":"IF('Outil Recensement'!AE40>0,'Outil Recensement'!AE40,\"\")","v":""},{"$f":"IF('Outil Recensement'!AF40>0,'Outil Recensement'!AF40,\"\")","v":""},{"$f":"IF('Outil Recensement'!AG40>0,'Outil Recensement'!AG40,\"\")","v":""},{"$f":"IF('Outil Recensement'!AH40>0,'Outil Recensement'!AH40,\"\")","v":""},{"$f":"IF('Outil Recensement'!AI40>0,'Outil Recensement'!AI40,\"\")","v":" "},{"$f":"IF('Outil Recensement'!AJ40>0,'Outil Recensement'!AJ40,\"\")","v":" "},{"$f":"IF('Outil Recensement'!W40>0,'Outil Recensement'!W40&\" \",\"\")&IF('Outil Recensement'!V40>0,'Outil Recensement'!V40,\"\")","v":""},null,{"$f":"IF('Outil Recensement'!X40>0,'Outil Recensement'!X40,\"\")","v":""},{"$f":"IF('Outil Recensement'!Y40>0,'Outil Recensement'!Y40,\"\")","v":""},{"$f":"IF('Outil Recensement'!Z40>0,'Outil Recensement'!Z40,\"\")","v":""},{"$f":"IF('Outil Recensement'!AA40>0,'Outil Recensement'!AA40,\"\")","v":""},{"$f":"IF('Outil Recensement'!E40>0,'Outil Recensement'!E40,\"\")","v":""},{"$f":"IF('Outil Recensement'!AK40>0,'Outil Recensement'!AK40,\"\")","v":""},{"$f":"IF('Outil Recensement'!AL40>0,'Outil Recensement'!AL40,\"\")","v":""},{"$f":"IF('Outil Recensement'!AM40>0,'Outil Recensement'!AM40,\"\")","v":""},{"$f":"IF('Outil Recensement'!AN40=\"Male\",\"Male\",IF('Outil Recensement'!AN40=\"Female\",\"Female\",IF('Outil Recensement'!AN40=\"M\",\"Male\",IF('Outil Recensement'!AN40=\"F\",\"Female\",\"\"))))","v":""},{"$f":"IF('Outil Recensement'!AO40=\"Single\",\"Single\",IF('Outil Recensement'!AO40=\"Family\",\"Family\",IF('Outil Recensement'!AO40=\"S\",\"Single\",IF('Outil Recensement'!AO40=\"F\",\"Family\",\"\"))))","v":""},{"$f":"IF('Outil Recensement'!AP40=\"Single\",\"Single\",IF('Outil Recensement'!AP40=\"Family\",\"Family\",IF('Outil Recensement'!AP40=\"S\",\"Single\",IF('Outil Recensement'!AP40=\"F\",\"Family\",\"\"))))","v":""},{"$f":"IF('Outil Recensement'!AQ40>0,'Outil Recensement'!AQ40,\"\")","v":""},{"$f":"IF('Outil Recensement'!AR40=\"Yes\",\"Yes\",IF('Outil Recensement'!AR40=\"No\",\"No\",IF('Outil Recensement'!AR40=\"Y\",\"Yes\",IF('Outil Recensement'!AR40=\"N\",\"No\",\"\"))))","v":""},{"$f":"IF('Outil Recensement'!AS40>0,'Outil Recensement'!AS40,\"\")","v":""},{"$f":"IF('Outil Recensement'!AT40>0,'Outil Recensement'!AT40,\"\")","v":""},{"$f":"IF('Outil Recensement'!AU40>0,'Outil Recensement'!AU40,\"\")","v":""},{"$f":"IF('Outil Recensement'!AV40=\"Male\",\"Male\",IF('Outil Recensement'!AV40=\"Female\",\"Female\",IF('Outil Recensement'!AV40=\"M\",\"Male\",IF('Outil Recensement'!AV40=\"F\",\"Female\",\"\"))))","v":""},{"$f":"IF('Outil Recensement'!AW40=\"Yes\",\"Yes\",IF('Outil Recensement'!AW40=\"No\",\"No\",IF('Outil Recensement'!AW40=\"Y\",\"Yes\",IF('Outil Recensement'!AW40=\"N\",\"No\",\"\"))))","v":""},{"$f":"IF('Outil Recensement'!AX40=\"Yes\",\"Yes\",IF('Outil Recensement'!AX40=\"No\",\"No\",IF('Outil Recensement'!AX40=\"Y\",\"Yes\",IF('Outil Recensement'!AX40=\"N\",\"No\",\"\"))))","v":""},{"$f":"IF('Outil Recensement'!AY40>0,'Outil Recensement'!AY40,\"\")","v":""},{"$f":"IF('Outil Recensement'!AZ40>0,'Outil Recensement'!AZ40,\"\")","v":""},{"$f":"IF('Outil Recensement'!BA40>0,'Outil Recensement'!BA40,\"\")","v":""},{"$f":"IF('Outil Recensement'!BB40=\"Male\",\"Male\",IF('Outil Recensement'!BB40=\"Female\",\"Female\",IF('Outil Recensement'!BB40=\"M\",\"Male\",IF('Outil Recensement'!BB40=\"F\",\"Female\",\"\"))))","v":""},{"$f":"IF('Outil Recensement'!BC40=\"Yes\",\"Yes\",IF('Outil Recensement'!BC40=\"No\",\"No\",IF('Outil Recensement'!BC40=\"Y\",\"Yes\",IF('Outil Recensement'!BC40=\"N\",\"No\",\"\"))))","v":""},{"$f":"IF('Outil Recensement'!BD40=\"Yes\",\"Yes\",IF('Outil Recensement'!BD40=\"No\",\"No\",IF('Outil Recensement'!BD40=\"Y\",\"Yes\",IF('Outil Recensement'!BD40=\"N\",\"No\",\"\"))))","v":""},{"$f":"IF('Outil Recensement'!BE40>0,'Outil Recensement'!BE40,\"\")","v":""},{"$f":"IF('Outil Recensement'!BF40>0,'Outil Recensement'!BF40,\"\")","v":""},{"$f":"IF('Outil Recensement'!BG40>0,'Outil Recensement'!BG40,\"\")","v":""},{"$f":"IF('Outil Recensement'!BH40=\"Male\",\"Male\",IF('Outil Recensement'!BH40=\"Female\",\"Female\",IF('Outil Recensement'!BH40=\"M\",\"Male\",IF('Outil Recensement'!BH40=\"F\",\"Female\",\"\"))))","v":""},{"$f":"IF('Outil Recensement'!BI40=\"Yes\",\"Yes\",IF('Outil Recensement'!BI40=\"No\",\"No\",IF('Outil Recensement'!BI40=\"Y\",\"Yes\",IF('Outil Recensement'!BI40=\"N\",\"No\",\"\"))))","v":""},{"$f":"IF('Outil Recensement'!BJ40=\"Yes\",\"Yes\",IF('Outil Recensement'!BJ40=\"No\",\"No\",IF('Outil Recensement'!BJ40=\"Y\",\"Yes\",IF('Outil Recensement'!BJ40=\"N\",\"No\",\"\"))))","v":""},{"$f":"IF('Outil Recensement'!BK40>0,'Outil Recensement'!BK40,\"\")","v":""},{"$f":"IF('Outil Recensement'!BL40>0,'Outil Recensement'!BL40,\"\")","v":""},{"$f":"IF('Outil Recensement'!BM40>0,'Outil Recensement'!BM40,\"\")","v":""},{"$f":"IF('Outil Recensement'!BN40=\"Male\",\"Male\",IF('Outil Recensement'!BN40=\"Female\",\"Female\",IF('Outil Recensement'!BN40=\"M\",\"Male\",IF('Outil Recensement'!BN40=\"F\",\"Female\",\"\"))))","v":""},{"$f":"IF('Outil Recensement'!BO40=\"Yes\",\"Yes\",IF('Outil Recensement'!BO40=\"No\",\"No\",IF('Outil Recensement'!BO40=\"Y\",\"Yes\",IF('Outil Recensement'!BO40=\"N\",\"No\",\"\"))))","v":""},{"$f":"IF('Outil Recensement'!BP40=\"Yes\",\"Yes\",IF('Outil Recensement'!BP40=\"No\",\"No\",IF('Outil Recensement'!BP40=\"Y\",\"Yes\",IF('Outil Recensement'!BP40=\"N\",\"No\",\"\"))))","v":""},{"$f":"IF('Outil Recensement'!BQ40>0,'Outil Recensement'!BQ40,\"\")","v":""},{"$f":"IF('Outil Recensement'!BR40>0,'Outil Recensement'!BR40,\"\")","v":""},{"$f":"IF('Outil Recensement'!BS40>0,'Outil Recensement'!BS40,\"\")","v":""},{"$f":"IF('Outil Recensement'!BT40=\"Male\",\"Male\",IF('Outil Recensement'!BT40=\"Female\",\"Female\",IF('Outil Recensement'!BT40=\"M\",\"Male\",IF('Outil Recensement'!BT40=\"F\",\"Female\",\"\"))))","v":""},{"$f":"IF('Outil Recensement'!BU40=\"Yes\",\"Yes\",IF('Outil Recensement'!BU40=\"No\",\"No\",IF('Outil Recensement'!BU40=\"Y\",\"Yes\",IF('Outil Recensement'!BU40=\"N\",\"No\",\"\"))))","v":""},{"$f":"IF('Outil Recensement'!BV40=\"Yes\",\"Yes\",IF('Outil Recensement'!BV40=\"No\",\"No\",IF('Outil Recensement'!BV40=\"Y\",\"Yes\",IF('Outil Recensement'!BV40=\"N\",\"No\",\"\"))))","v":""},{"$f":"IF('Outil Recensement'!BW40>0,'Outil Recensement'!BW40,\"\")","v":""},{"$f":"IF('Outil Recensement'!BX40>0,'Outil Recensement'!BX40,\"\")","v":""},{"$f":"IF('Outil Recensement'!BY40>0,'Outil Recensement'!BY40,\"\")","v":""},{"$f":"IF('Outil Recensement'!BZ40=\"Male\",\"Male\",IF('Outil Recensement'!BZ40=\"Female\",\"Female\",IF('Outil Recensement'!BZ40=\"M\",\"Male\",IF('Outil Recensement'!BZ40=\"F\",\"Female\",\"\"))))","v":""},{"$f":"IF('Outil Recensement'!CA40=\"Yes\",\"Yes\",IF('Outil Recensement'!CA40=\"No\",\"No\",IF('Outil Recensement'!CA40=\"Y\",\"Yes\",IF('Outil Recensement'!CA40=\"N\",\"No\",\"\"))))","v":""},{"$f":"IF('Outil Recensement'!CB40=\"Yes\",\"Yes\",IF('Outil Recensement'!CB40=\"No\",\"No\",IF('Outil Recensement'!CB40=\"Y\",\"Yes\",IF('Outil Recensement'!CB40=\"N\",\"No\",\"\"))))","v":""},{"$f":"IF('Outil Recensement'!CH40>0,'Outil Recensement'!CH40,\"\")","v":"    "}]
[{"$f":"IF('Outil Recensement'!A41>0,'Outil Recensement'!A41,\"\")","v":""},{"$f":"IF('Outil Recensement'!B41>0,'Outil Recensement'!B41,\"\")","v":""},{"$f":"IF('Outil Recensement'!C41>0,'Outil Recensement'!C41,\"\")","v":""},{"$f":"IF('Outil Recensement'!D41>0,'Outil Recensement'!D41,\"\")","v":""},{"$f":"IF('Outil Recensement'!P41>0,TEXT('Outil Recensement'!P41,\"000\"),\"\")","v":""},{"$f":"IF('Outil Recensement'!Q41>0,'Outil Recensement'!Q41,\"\")","v":""},{"$f":"IF('Outil Recensement'!R41>0,'Outil Recensement'!R41,\"\")","v":""},{"$f":"IF('Outil Recensement'!F41>0,DATEVALUE(TEXT('Outil Recensement'!F41,\"yyyy-mm-dd\")),\"\")","v":""},{"$f":"IF('Outil Recensement'!L41>0,DATEVALUE(TEXT('Outil Recensement'!L41,\"yyyy-mm-dd\")),\"\")","v":""},{"$f":"IF('Outil Recensement'!Y41>0,'Outil Recensement'!Y41,\"\")","v":""},{"$f":"IF('Outil Recensement'!T41>0,'Outil Recensement'!T41,\"\")","v":""},{"$f":"IF('Outil Recensement'!G41=\"Homme\",\"Male\",IF('Outil Recensement'!G41=\"Femme\",\"Female\",IF('Outil Recensement'!G41=\"H\",\"Male\",IF('Outil Recensement'!G41=\"F\",\"Female\",\"\"))))","v":""},{"$f":"IF('Outil Recensement'!U41=\"Yes\",\"Yes\",IF('Outil Recensement'!U41=\"No\",\"No\",IF('Outil Recensement'!U41=\"Y\",\"Yes\",IF('Outil Recensement'!U41=\"N\",\"No\",\"\"))))","v":""},{"$f":"IF('Outil Recensement'!I41=\"Individuelle\",\"Single\",IF('Outil Recensement'!I41=\"Familiale\",\"Family\",IF('Outil Recensement'!I41=\"Refus\",\"Family\",IF('Outil Recensement'!I41=\"Parent seul\",\"Family\",IF('Outil Recensement'!I41=\"Couple\",\"Family\",IF('Outil Recensement'!I41=\"In force\",\"Family\",IF('Outil Recensement'!I41=\"Applies\",\"Family\",IF('Outil Recensement'!I41=\"Applicable\",\"Family\",\"\"))))))))","v":""},{"$f":"IF('Outil Recensement'!AC41=\"Anglais\",\"English\",IF('Outil Recensement'!AC41=\"Français\",\"French\",IF('Outil Recensement'!AC41=\"A\",\"English\",IF('Outil Recensement'!AC41=\"F\",\"French\",\"\"))))","v":""},{"$f":"IF('Outil Recensement'!AB41=\"Oui\",\"Yes\",IF('Outil Recensement'!AB41=\"Non\",\"No\",IF('Outil Recensement'!AB41=\"O\",\"Yes\",IF('Outil Recensement'!AB41=\"N\",\"No\",\"\"))))","v":""},{"$f":"IF('Outil Recensement'!AD41>0,'Outil Recensement'!AD41,\"\")","v":""},{"$f":"IF('Outil Recensement'!M41=\"Annuel\",\"Annually\",IF('Outil Recensement'!M41=\"Mensuel\",\"Monthly\",IF('Outil Recensement'!M41=\"Bihebdomadaire\",\"Biweekly\",IF('Outil Recensement'!M41=\"Hebdomadaire\",\"Weekly\",IF('Outil Recensement'!M41=\"Horaire\",\"Hourly\",IF('Outil Recensement'!M41=\"Semi-mensuel\",\"Semi-monthly\",IF('Outil Recensement'!M41=\"Applies\",\"Annual\",IF('Outil Recensement'!M41=\"Applicable\",\"Annual\",\"\"))))))))","v":""},{"$f":"IF('Outil Recensement'!N41>0,'Outil Recensement'!N41,\"\")","v":""},{"$f":"IF('Outil Recensement'!O41>0,'Outil Recensement'!O41,\"\")","v":""},{"$f":"IF('Outil Recensement'!I41=\"Refus\",\"Yes\",\"\")","v":""},{"$f":"IF('Outil Recensement'!I41=\"Refus\",\"Yes\",\"\")","v":""},{"$f":"IF('Outil Recensement'!AE41>0,'Outil Recensement'!AE41,\"\")","v":""},{"$f":"IF('Outil Recensement'!AF41>0,'Outil Recensement'!AF41,\"\")","v":""},{"$f":"IF('Outil Recensement'!AG41>0,'Outil Recensement'!AG41,\"\")","v":""},{"$f":"IF('Outil Recensement'!AH41>0,'Outil Recensement'!AH41,\"\")","v":""},{"$f":"IF('Outil Recensement'!AI41>0,'Outil Recensement'!AI41,\"\")","v":" "},{"$f":"IF('Outil Recensement'!AJ41>0,'Outil Recensement'!AJ41,\"\")","v":" "},{"$f":"IF('Outil Recensement'!W41>0,'Outil Recensement'!W41&\" \",\"\")&IF('Outil Recensement'!V41>0,'Outil Recensement'!V41,\"\")","v":""},null,{"$f":"IF('Outil Recensement'!X41>0,'Outil Recensement'!X41,\"\")","v":""},{"$f":"IF('Outil Recensement'!Y41>0,'Outil Recensement'!Y41,\"\")","v":""},{"$f":"IF('Outil Recensement'!Z41>0,'Outil Recensement'!Z41,\"\")","v":""},{"$f":"IF('Outil Recensement'!AA41>0,'Outil Recensement'!AA41,\"\")","v":""},{"$f":"IF('Outil Recensement'!E41>0,'Outil Recensement'!E41,\"\")","v":""},{"$f":"IF('Outil Recensement'!AK41>0,'Outil Recensement'!AK41,\"\")","v":""},{"$f":"IF('Outil Recensement'!AL41>0,'Outil Recensement'!AL41,\"\")","v":""},{"$f":"IF('Outil Recensement'!AM41>0,'Outil Recensement'!AM41,\"\")","v":""},{"$f":"IF('Outil Recensement'!AN41=\"Male\",\"Male\",IF('Outil Recensement'!AN41=\"Female\",\"Female\",IF('Outil Recensement'!AN41=\"M\",\"Male\",IF('Outil Recensement'!AN41=\"F\",\"Female\",\"\"))))","v":""},{"$f":"IF('Outil Recensement'!AO41=\"Single\",\"Single\",IF('Outil Recensement'!AO41=\"Family\",\"Family\",IF('Outil Recensement'!AO41=\"S\",\"Single\",IF('Outil Recensement'!AO41=\"F\",\"Family\",\"\"))))","v":""},{"$f":"IF('Outil Recensement'!AP41=\"Single\",\"Single\",IF('Outil Recensement'!AP41=\"Family\",\"Family\",IF('Outil Recensement'!AP41=\"S\",\"Single\",IF('Outil Recensement'!AP41=\"F\",\"Family\",\"\"))))","v":""},{"$f":"IF('Outil Recensement'!AQ41>0,'Outil Recensement'!AQ41,\"\")","v":""},{"$f":"IF('Outil Recensement'!AR41=\"Yes\",\"Yes\",IF('Outil Recensement'!AR41=\"No\",\"No\",IF('Outil Recensement'!AR41=\"Y\",\"Yes\",IF('Outil Recensement'!AR41=\"N\",\"No\",\"\"))))","v":""},{"$f":"IF('Outil Recensement'!AS41>0,'Outil Recensement'!AS41,\"\")","v":""},{"$f":"IF('Outil Recensement'!AT41>0,'Outil Recensement'!AT41,\"\")","v":""},{"$f":"IF('Outil Recensement'!AU41>0,'Outil Recensement'!AU41,\"\")","v":""},{"$f":"IF('Outil Recensement'!AV41=\"Male\",\"Male\",IF('Outil Recensement'!AV41=\"Female\",\"Female\",IF('Outil Recensement'!AV41=\"M\",\"Male\",IF('Outil Recensement'!AV41=\"F\",\"Female\",\"\"))))","v":""},{"$f":"IF('Outil Recensement'!AW41=\"Yes\",\"Yes\",IF('Outil Recensement'!AW41=\"No\",\"No\",IF('Outil Recensement'!AW41=\"Y\",\"Yes\",IF('Outil Recensement'!AW41=\"N\",\"No\",\"\"))))","v":""},{"$f":"IF('Outil Recensement'!AX41=\"Yes\",\"Yes\",IF('Outil Recensement'!AX41=\"No\",\"No\",IF('Outil Recensement'!AX41=\"Y\",\"Yes\",IF('Outil Recensement'!AX41=\"N\",\"No\",\"\"))))","v":""},{"$f":"IF('Outil Recensement'!AY41>0,'Outil Recensement'!AY41,\"\")","v":""},{"$f":"IF('Outil Recensement'!AZ41>0,'Outil Recensement'!AZ41,\"\")","v":""},{"$f":"IF('Outil Recensement'!BA41>0,'Outil Recensement'!BA41,\"\")","v":""},{"$f":"IF('Outil Recensement'!BB41=\"Male\",\"Male\",IF('Outil Recensement'!BB41=\"Female\",\"Female\",IF('Outil Recensement'!BB41=\"M\",\"Male\",IF('Outil Recensement'!BB41=\"F\",\"Female\",\"\"))))","v":""},{"$f":"IF('Outil Recensement'!BC41=\"Yes\",\"Yes\",IF('Outil Recensement'!BC41=\"No\",\"No\",IF('Outil Recensement'!BC41=\"Y\",\"Yes\",IF('Outil Recensement'!BC41=\"N\",\"No\",\"\"))))","v":""},{"$f":"IF('Outil Recensement'!BD41=\"Yes\",\"Yes\",IF('Outil Recensement'!BD41=\"No\",\"No\",IF('Outil Recensement'!BD41=\"Y\",\"Yes\",IF('Outil Recensement'!BD41=\"N\",\"No\",\"\"))))","v":""},{"$f":"IF('Outil Recensement'!BE41>0,'Outil Recensement'!BE41,\"\")","v":""},{"$f":"IF('Outil Recensement'!BF41>0,'Outil Recensement'!BF41,\"\")","v":""},{"$f":"IF('Outil Recensement'!BG41>0,'Outil Recensement'!BG41,\"\")","v":""},{"$f":"IF('Outil Recensement'!BH41=\"Male\",\"Male\",IF('Outil Recensement'!BH41=\"Female\",\"Female\",IF('Outil Recensement'!BH41=\"M\",\"Male\",IF('Outil Recensement'!BH41=\"F\",\"Female\",\"\"))))","v":""},{"$f":"IF('Outil Recensement'!BI41=\"Yes\",\"Yes\",IF('Outil Recensement'!BI41=\"No\",\"No\",IF('Outil Recensement'!BI41=\"Y\",\"Yes\",IF('Outil Recensement'!BI41=\"N\",\"No\",\"\"))))","v":""},{"$f":"IF('Outil Recensement'!BJ41=\"Yes\",\"Yes\",IF('Outil Recensement'!BJ41=\"No\",\"No\",IF('Outil Recensement'!BJ41=\"Y\",\"Yes\",IF('Outil Recensement'!BJ41=\"N\",\"No\",\"\"))))","v":""},{"$f":"IF('Outil Recensement'!BK41>0,'Outil Recensement'!BK41,\"\")","v":""},{"$f":"IF('Outil Recensement'!BL41>0,'Outil Recensement'!BL41,\"\")","v":""},{"$f":"IF('Outil Recensement'!BM41>0,'Outil Recensement'!BM41,\"\")","v":""},{"$f":"IF('Outil Recensement'!BN41=\"Male\",\"Male\",IF('Outil Recensement'!BN41=\"Female\",\"Female\",IF('Outil Recensement'!BN41=\"M\",\"Male\",IF('Outil Recensement'!BN41=\"F\",\"Female\",\"\"))))","v":""},{"$f":"IF('Outil Recensement'!BO41=\"Yes\",\"Yes\",IF('Outil Recensement'!BO41=\"No\",\"No\",IF('Outil Recensement'!BO41=\"Y\",\"Yes\",IF('Outil Recensement'!BO41=\"N\",\"No\",\"\"))))","v":""},{"$f":"IF('Outil Recensement'!BP41=\"Yes\",\"Yes\",IF('Outil Recensement'!BP41=\"No\",\"No\",IF('Outil Recensement'!BP41=\"Y\",\"Yes\",IF('Outil Recensement'!BP41=\"N\",\"No\",\"\"))))","v":""},{"$f":"IF('Outil Recensement'!BQ41>0,'Outil Recensement'!BQ41,\"\")","v":""},{"$f":"IF('Outil Recensement'!BR41>0,'Outil Recensement'!BR41,\"\")","v":""},{"$f":"IF('Outil Recensement'!BS41>0,'Outil Recensement'!BS41,\"\")","v":""},{"$f":"IF('Outil Recensement'!BT41=\"Male\",\"Male\",IF('Outil Recensement'!BT41=\"Female\",\"Female\",IF('Outil Recensement'!BT41=\"M\",\"Male\",IF('Outil Recensement'!BT41=\"F\",\"Female\",\"\"))))","v":""},{"$f":"IF('Outil Recensement'!BU41=\"Yes\",\"Yes\",IF('Outil Recensement'!BU41=\"No\",\"No\",IF('Outil Recensement'!BU41=\"Y\",\"Yes\",IF('Outil Recensement'!BU41=\"N\",\"No\",\"\"))))","v":""},{"$f":"IF('Outil Recensement'!BV41=\"Yes\",\"Yes\",IF('Outil Recensement'!BV41=\"No\",\"No\",IF('Outil Recensement'!BV41=\"Y\",\"Yes\",IF('Outil Recensement'!BV41=\"N\",\"No\",\"\"))))","v":""},{"$f":"IF('Outil Recensement'!BW41>0,'Outil Recensement'!BW41,\"\")","v":""},{"$f":"IF('Outil Recensement'!BX41>0,'Outil Recensement'!BX41,\"\")","v":""},{"$f":"IF('Outil Recensement'!BY41>0,'Outil Recensement'!BY41,\"\")","v":""},{"$f":"IF('Outil Recensement'!BZ41=\"Male\",\"Male\",IF('Outil Recensement'!BZ41=\"Female\",\"Female\",IF('Outil Recensement'!BZ41=\"M\",\"Male\",IF('Outil Recensement'!BZ41=\"F\",\"Female\",\"\"))))","v":""},{"$f":"IF('Outil Recensement'!CA41=\"Yes\",\"Yes\",IF('Outil Recensement'!CA41=\"No\",\"No\",IF('Outil Recensement'!CA41=\"Y\",\"Yes\",IF('Outil Recensement'!CA41=\"N\",\"No\",\"\"))))","v":""},{"$f":"IF('Outil Recensement'!CB41=\"Yes\",\"Yes\",IF('Outil Recensement'!CB41=\"No\",\"No\",IF('Outil Recensement'!CB41=\"Y\",\"Yes\",IF('Outil Recensement'!CB41=\"N\",\"No\",\"\"))))","v":""},{"$f":"IF('Outil Recensement'!CH41>0,'Outil Recensement'!CH41,\"\")","v":"    "}]
[{"$f":"IF('Outil Recensement'!A42>0,'Outil Recensement'!A42,\"\")","v":""},{"$f":"IF('Outil Recensement'!B42>0,'Outil Recensement'!B42,\"\")","v":""},{"$f":"IF('Outil Recensement'!C42>0,'Outil Recensement'!C42,\"\")","v":""},{"$f":"IF('Outil Recensement'!D42>0,'Outil Recensement'!D42,\"\")","v":""},{"$f":"IF('Outil Recensement'!P42>0,TEXT('Outil Recensement'!P42,\"000\"),\"\")","v":""},{"$f":"IF('Outil Recensement'!Q42>0,'Outil Recensement'!Q42,\"\")","v":""},{"$f":"IF('Outil Recensement'!R42>0,'Outil Recensement'!R42,\"\")","v":""},{"$f":"IF('Outil Recensement'!F42>0,DATEVALUE(TEXT('Outil Recensement'!F42,\"yyyy-mm-dd\")),\"\")","v":""},{"$f":"IF('Outil Recensement'!L42>0,DATEVALUE(TEXT('Outil Recensement'!L42,\"yyyy-mm-dd\")),\"\")","v":""},{"$f":"IF('Outil Recensement'!Y42>0,'Outil Recensement'!Y42,\"\")","v":""},{"$f":"IF('Outil Recensement'!T42>0,'Outil Recensement'!T42,\"\")","v":""},{"$f":"IF('Outil Recensement'!G42=\"Homme\",\"Male\",IF('Outil Recensement'!G42=\"Femme\",\"Female\",IF('Outil Recensement'!G42=\"H\",\"Male\",IF('Outil Recensement'!G42=\"F\",\"Female\",\"\"))))","v":""},{"$f":"IF('Outil Recensement'!U42=\"Yes\",\"Yes\",IF('Outil Recensement'!U42=\"No\",\"No\",IF('Outil Recensement'!U42=\"Y\",\"Yes\",IF('Outil Recensement'!U42=\"N\",\"No\",\"\"))))","v":""},{"$f":"IF('Outil Recensement'!I42=\"Individuelle\",\"Single\",IF('Outil Recensement'!I42=\"Familiale\",\"Family\",IF('Outil Recensement'!I42=\"Refus\",\"Family\",IF('Outil Recensement'!I42=\"Parent seul\",\"Family\",IF('Outil Recensement'!I42=\"Couple\",\"Family\",IF('Outil Recensement'!I42=\"In force\",\"Family\",IF('Outil Recensement'!I42=\"Applies\",\"Family\",IF('Outil Recensement'!I42=\"Applicable\",\"Family\",\"\"))))))))","v":""},{"$f":"IF('Outil Recensement'!AC42=\"Anglais\",\"English\",IF('Outil Recensement'!AC42=\"Français\",\"French\",IF('Outil Recensement'!AC42=\"A\",\"English\",IF('Outil Recensement'!AC42=\"F\",\"French\",\"\"))))","v":""},{"$f":"IF('Outil Recensement'!AB42=\"Oui\",\"Yes\",IF('Outil Recensement'!AB42=\"Non\",\"No\",IF('Outil Recensement'!AB42=\"O\",\"Yes\",IF('Outil Recensement'!AB42=\"N\",\"No\",\"\"))))","v":""},{"$f":"IF('Outil Recensement'!AD42>0,'Outil Recensement'!AD42,\"\")","v":""},{"$f":"IF('Outil Recensement'!M42=\"Annuel\",\"Annually\",IF('Outil Recensement'!M42=\"Mensuel\",\"Monthly\",IF('Outil Recensement'!M42=\"Bihebdomadaire\",\"Biweekly\",IF('Outil Recensement'!M42=\"Hebdomadaire\",\"Weekly\",IF('Outil Recensement'!M42=\"Horaire\",\"Hourly\",IF('Outil Recensement'!M42=\"Semi-mensuel\",\"Semi-monthly\",IF('Outil Recensement'!M42=\"Applies\",\"Annual\",IF('Outil Recensement'!M42=\"Applicable\",\"Annual\",\"\"))))))))","v":""},{"$f":"IF('Outil Recensement'!N42>0,'Outil Recensement'!N42,\"\")","v":""},{"$f":"IF('Outil Recensement'!O42>0,'Outil Recensement'!O42,\"\")","v":""},{"$f":"IF('Outil Recensement'!I42=\"Refus\",\"Yes\",\"\")","v":""},{"$f":"IF('Outil Recensement'!I42=\"Refus\",\"Yes\",\"\")","v":""},{"$f":"IF('Outil Recensement'!AE42>0,'Outil Recensement'!AE42,\"\")","v":""},{"$f":"IF('Outil Recensement'!AF42>0,'Outil Recensement'!AF42,\"\")","v":""},{"$f":"IF('Outil Recensement'!AG42>0,'Outil Recensement'!AG42,\"\")","v":""},{"$f":"IF('Outil Recensement'!AH42>0,'Outil Recensement'!AH42,\"\")","v":""},{"$f":"IF('Outil Recensement'!AI42>0,'Outil Recensement'!AI42,\"\")","v":" "},{"$f":"IF('Outil Recensement'!AJ42>0,'Outil Recensement'!AJ42,\"\")","v":" "},{"$f":"IF('Outil Recensement'!W42>0,'Outil Recensement'!W42&\" \",\"\")&IF('Outil Recensement'!V42>0,'Outil Recensement'!V42,\"\")","v":""},null,{"$f":"IF('Outil Recensement'!X42>0,'Outil Recensement'!X42,\"\")","v":""},{"$f":"IF('Outil Recensement'!Y42>0,'Outil Recensement'!Y42,\"\")","v":""},{"$f":"IF('Outil Recensement'!Z42>0,'Outil Recensement'!Z42,\"\")","v":""},{"$f":"IF('Outil Recensement'!AA42>0,'Outil Recensement'!AA42,\"\")","v":""},{"$f":"IF('Outil Recensement'!E42>0,'Outil Recensement'!E42,\"\")","v":""},{"$f":"IF('Outil Recensement'!AK42>0,'Outil Recensement'!AK42,\"\")","v":""},{"$f":"IF('Outil Recensement'!AL42>0,'Outil Recensement'!AL42,\"\")","v":""},{"$f":"IF('Outil Recensement'!AM42>0,'Outil Recensement'!AM42,\"\")","v":""},{"$f":"IF('Outil Recensement'!AN42=\"Male\",\"Male\",IF('Outil Recensement'!AN42=\"Female\",\"Female\",IF('Outil Recensement'!AN42=\"M\",\"Male\",IF('Outil Recensement'!AN42=\"F\",\"Female\",\"\"))))","v":""},{"$f":"IF('Outil Recensement'!AO42=\"Single\",\"Single\",IF('Outil Recensement'!AO42=\"Family\",\"Family\",IF('Outil Recensement'!AO42=\"S\",\"Single\",IF('Outil Recensement'!AO42=\"F\",\"Family\",\"\"))))","v":""},{"$f":"IF('Outil Recensement'!AP42=\"Single\",\"Single\",IF('Outil Recensement'!AP42=\"Family\",\"Family\",IF('Outil Recensement'!AP42=\"S\",\"Single\",IF('Outil Recensement'!AP42=\"F\",\"Family\",\"\"))))","v":""},{"$f":"IF('Outil Recensement'!AQ42>0,'Outil Recensement'!AQ42,\"\")","v":""},{"$f":"IF('Outil Recensement'!AR42=\"Yes\",\"Yes\",IF('Outil Recensement'!AR42=\"No\",\"No\",IF('Outil Recensement'!AR42=\"Y\",\"Yes\",IF('Outil Recensement'!AR42=\"N\",\"No\",\"\"))))","v":""},{"$f":"IF('Outil Recensement'!AS42>0,'Outil Recensement'!AS42,\"\")","v":""},{"$f":"IF('Outil Recensement'!AT42>0,'Outil Recensement'!AT42,\"\")","v":""},{"$f":"IF('Outil Recensement'!AU42>0,'Outil Recensement'!AU42,\"\")","v":""},{"$f":"IF('Outil Recensement'!AV42=\"Male\",\"Male\",IF('Outil Recensement'!AV42=\"Female\",\"Female\",IF('Outil Recensement'!AV42=\"M\",\"Male\",IF('Outil Recensement'!AV42=\"F\",\"Female\",\"\"))))","v":""},{"$f":"IF('Outil Recensement'!AW42=\"Yes\",\"Yes\",IF('Outil Recensement'!AW42=\"No\",\"No\",IF('Outil Recensement'!AW42=\"Y\",\"Yes\",IF('Outil Recensement'!AW42=\"N\",\"No\",\"\"))))","v":""},{"$f":"IF('Outil Recensement'!AX42=\"Yes\",\"Yes\",IF('Outil Recensement'!AX42=\"No\",\"No\",IF('Outil Recensement'!AX42=\"Y\",\"Yes\",IF('Outil Recensement'!AX42=\"N\",\"No\",\"\"))))","v":""},{"$f":"IF('Outil Recensement'!AY42>0,'Outil Recensement'!AY42,\"\")","v":""},{"$f":"IF('Outil Recensement'!AZ42>0,'Outil Recensement'!AZ42,\"\")","v":""},{"$f":"IF('Outil Recensement'!BA42>0,'Outil Recensement'!BA42,\"\")","v":""},{"$f":"IF('Outil Recensement'!BB42=\"Male\",\"Male\",IF('Outil Recensement'!BB42=\"Female\",\"Female\",IF('Outil Recensement'!BB42=\"M\",\"Male\",IF('Outil Recensement'!BB42=\"F\",\"Female\",\"\"))))","v":""},{"$f":"IF('Outil Recensement'!BC42=\"Yes\",\"Yes\",IF('Outil Recensement'!BC42=\"No\",\"No\",IF('Outil Recensement'!BC42=\"Y\",\"Yes\",IF('Outil Recensement'!BC42=\"N\",\"No\",\"\"))))","v":""},{"$f":"IF('Outil Recensement'!BD42=\"Yes\",\"Yes\",IF('Outil Recensement'!BD42=\"No\",\"No\",IF('Outil Recensement'!BD42=\"Y\",\"Yes\",IF('Outil Recensement'!BD42=\"N\",\"No\",\"\"))))","v":""},{"$f":"IF('Outil Recensement'!BE42>0,'Outil Recensement'!BE42,\"\")","v":""},{"$f":"IF('Outil Recensement'!BF42>0,'Outil Recensement'!BF42,\"\")","v":""},{"$f":"IF('Outil Recensement'!BG42>0,'Outil Recensement'!BG42,\"\")","v":""},{"$f":"IF('Outil Recensement'!BH42=\"Male\",\"Male\",IF('Outil Recensement'!BH42=\"Female\",\"Female\",IF('Outil Recensement'!BH42=\"M\",\"Male\",IF('Outil Recensement'!BH42=\"F\",\"Female\",\"\"))))","v":""},{"$f":"IF('Outil Recensement'!BI42=\"Yes\",\"Yes\",IF('Outil Recensement'!BI42=\"No\",\"No\",IF('Outil Recensement'!BI42=\"Y\",\"Yes\",IF('Outil Recensement'!BI42=\"N\",\"No\",\"\"))))","v":""},{"$f":"IF('Outil Recensement'!BJ42=\"Yes\",\"Yes\",IF('Outil Recensement'!BJ42=\"No\",\"No\",IF('Outil Recensement'!BJ42=\"Y\",\"Yes\",IF('Outil Recensement'!BJ42=\"N\",\"No\",\"\"))))","v":""},{"$f":"IF('Outil Recensement'!BK42>0,'Outil Recensement'!BK42,\"\")","v":""},{"$f":"IF('Outil Recensement'!BL42>0,'Outil Recensement'!BL42,\"\")","v":""},{"$f":"IF('Outil Recensement'!BM42>0,'Outil Recensement'!BM42,\"\")","v":""},{"$f":"IF('Outil Recensement'!BN42=\"Male\",\"Male\",IF('Outil Recensement'!BN42=\"Female\",\"Female\",IF('Outil Recensement'!BN42=\"M\",\"Male\",IF('Outil Recensement'!BN42=\"F\",\"Female\",\"\"))))","v":""},{"$f":"IF('Outil Recensement'!BO42=\"Yes\",\"Yes\",IF('Outil Recensement'!BO42=\"No\",\"No\",IF('Outil Recensement'!BO42=\"Y\",\"Yes\",IF('Outil Recensement'!BO42=\"N\",\"No\",\"\"))))","v":""},{"$f":"IF('Outil Recensement'!BP42=\"Yes\",\"Yes\",IF('Outil Recensement'!BP42=\"No\",\"No\",IF('Outil Recensement'!BP42=\"Y\",\"Yes\",IF('Outil Recensement'!BP42=\"N\",\"No\",\"\"))))","v":""},{"$f":"IF('Outil Recensement'!BQ42>0,'Outil Recensement'!BQ42,\"\")","v":""},{"$f":"IF('Outil Recensement'!BR42>0,'Outil Recensement'!BR42,\"\")","v":""},{"$f":"IF('Outil Recensement'!BS42>0,'Outil Recensement'!BS42,\"\")","v":""},{"$f":"IF('Outil Recensement'!BT42=\"Male\",\"Male\",IF('Outil Recensement'!BT42=\"Female\",\"Female\",IF('Outil Recensement'!BT42=\"M\",\"Male\",IF('Outil Recensement'!BT42=\"F\",\"Female\",\"\"))))","v":""},{"$f":"IF('Outil Recensement'!BU42=\"Yes\",\"Yes\",IF('Outil Recensement'!BU42=\"No\",\"No\",IF('Outil Recensement'!BU42=\"Y\",\"Yes\",IF('Outil Recensement'!BU42=\"N\",\"No\",\"\"))))","v":""},{"$f":"IF('Outil Recensement'!BV42=\"Yes\",\"Yes\",IF('Outil Recensement'!BV42=\"No\",\"No\",IF('Outil Recensement'!BV42=\"Y\",\"Yes\",IF('Outil Recensement'!BV42=\"N\",\"No\",\"\"))))","v":""},{"$f":"IF('Outil Recensement'!BW42>0,'Outil Recensement'!BW42,\"\")","v":""},{"$f":"IF('Outil Recensement'!BX42>0,'Outil Recensement'!BX42,\"\")","v":""},{"$f":"IF('Outil Recensement'!BY42>0,'Outil Recensement'!BY42,\"\")","v":""},{"$f":"IF('Outil Recensement'!BZ42=\"Male\",\"Male\",IF('Outil Recensement'!BZ42=\"Female\",\"Female\",IF('Outil Recensement'!BZ42=\"M\",\"Male\",IF('Outil Recensement'!BZ42=\"F\",\"Female\",\"\"))))","v":""},{"$f":"IF('Outil Recensement'!CA42=\"Yes\",\"Yes\",IF('Outil Recensement'!CA42=\"No\",\"No\",IF('Outil Recensement'!CA42=\"Y\",\"Yes\",IF('Outil Recensement'!CA42=\"N\",\"No\",\"\"))))","v":""},{"$f":"IF('Outil Recensement'!CB42=\"Yes\",\"Yes\",IF('Outil Recensement'!CB42=\"No\",\"No\",IF('Outil Recensement'!CB42=\"Y\",\"Yes\",IF('Outil Recensement'!CB42=\"N\",\"No\",\"\"))))","v":""},{"$f":"IF('Outil Recensement'!CH42>0,'Outil Recensement'!CH42,\"\")","v":"    "}]
[{"$f":"IF('Outil Recensement'!A43>0,'Outil Recensement'!A43,\"\")","v":""},{"$f":"IF('Outil Recensement'!B43>0,'Outil Recensement'!B43,\"\")","v":""},{"$f":"IF('Outil Recensement'!C43>0,'Outil Recensement'!C43,\"\")","v":""},{"$f":"IF('Outil Recensement'!D43>0,'Outil Recensement'!D43,\"\")","v":""},{"$f":"IF('Outil Recensement'!P43>0,TEXT('Outil Recensement'!P43,\"000\"),\"\")","v":""},{"$f":"IF('Outil Recensement'!Q43>0,'Outil Recensement'!Q43,\"\")","v":""},{"$f":"IF('Outil Recensement'!R43>0,'Outil Recensement'!R43,\"\")","v":""},{"$f":"IF('Outil Recensement'!F43>0,DATEVALUE(TEXT('Outil Recensement'!F43,\"yyyy-mm-dd\")),\"\")","v":""},{"$f":"IF('Outil Recensement'!L43>0,DATEVALUE(TEXT('Outil Recensement'!L43,\"yyyy-mm-dd\")),\"\")","v":""},{"$f":"IF('Outil Recensement'!Y43>0,'Outil Recensement'!Y43,\"\")","v":""},{"$f":"IF('Outil Recensement'!T43>0,'Outil Recensement'!T43,\"\")","v":""},{"$f":"IF('Outil Recensement'!G43=\"Homme\",\"Male\",IF('Outil Recensement'!G43=\"Femme\",\"Female\",IF('Outil Recensement'!G43=\"H\",\"Male\",IF('Outil Recensement'!G43=\"F\",\"Female\",\"\"))))","v":""},{"$f":"IF('Outil Recensement'!U43=\"Yes\",\"Yes\",IF('Outil Recensement'!U43=\"No\",\"No\",IF('Outil Recensement'!U43=\"Y\",\"Yes\",IF('Outil Recensement'!U43=\"N\",\"No\",\"\"))))","v":""},{"$f":"IF('Outil Recensement'!I43=\"Individuelle\",\"Single\",IF('Outil Recensement'!I43=\"Familiale\",\"Family\",IF('Outil Recensement'!I43=\"Refus\",\"Family\",IF('Outil Recensement'!I43=\"Parent seul\",\"Family\",IF('Outil Recensement'!I43=\"Couple\",\"Family\",IF('Outil Recensement'!I43=\"In force\",\"Family\",IF('Outil Recensement'!I43=\"Applies\",\"Family\",IF('Outil Recensement'!I43=\"Applicable\",\"Family\",\"\"))))))))","v":""},{"$f":"IF('Outil Recensement'!AC43=\"Anglais\",\"English\",IF('Outil Recensement'!AC43=\"Français\",\"French\",IF('Outil Recensement'!AC43=\"A\",\"English\",IF('Outil Recensement'!AC43=\"F\",\"French\",\"\"))))","v":""},{"$f":"IF('Outil Recensement'!AB43=\"Oui\",\"Yes\",IF('Outil Recensement'!AB43=\"Non\",\"No\",IF('Outil Recensement'!AB43=\"O\",\"Yes\",IF('Outil Recensement'!AB43=\"N\",\"No\",\"\"))))","v":""},{"$f":"IF('Outil Recensement'!AD43>0,'Outil Recensement'!AD43,\"\")","v":""},{"$f":"IF('Outil Recensement'!M43=\"Annuel\",\"Annually\",IF('Outil Recensement'!M43=\"Mensuel\",\"Monthly\",IF('Outil Recensement'!M43=\"Bihebdomadaire\",\"Biweekly\",IF('Outil Recensement'!M43=\"Hebdomadaire\",\"Weekly\",IF('Outil Recensement'!M43=\"Horaire\",\"Hourly\",IF('Outil Recensement'!M43=\"Semi-mensuel\",\"Semi-monthly\",IF('Outil Recensement'!M43=\"Applies\",\"Annual\",IF('Outil Recensement'!M43=\"Applicable\",\"Annual\",\"\"))))))))","v":""},{"$f":"IF('Outil Recensement'!N43>0,'Outil Recensement'!N43,\"\")","v":""},{"$f":"IF('Outil Recensement'!O43>0,'Outil Recensement'!O43,\"\")","v":""},{"$f":"IF('Outil Recensement'!I43=\"Refus\",\"Yes\",\"\")","v":""},{"$f":"IF('Outil Recensement'!I43=\"Refus\",\"Yes\",\"\")","v":""},{"$f":"IF('Outil Recensement'!AE43>0,'Outil Recensement'!AE43,\"\")","v":""},{"$f":"IF('Outil Recensement'!AF43>0,'Outil Recensement'!AF43,\"\")","v":""},{"$f":"IF('Outil Recensement'!AG43>0,'Outil Recensement'!AG43,\"\")","v":""},{"$f":"IF('Outil Recensement'!AH43>0,'Outil Recensement'!AH43,\"\")","v":""},{"$f":"IF('Outil Recensement'!AI43>0,'Outil Recensement'!AI43,\"\")","v":" "},{"$f":"IF('Outil Recensement'!AJ43>0,'Outil Recensement'!AJ43,\"\")","v":" "},{"$f":"IF('Outil Recensement'!W43>0,'Outil Recensement'!W43&\" \",\"\")&IF('Outil Recensement'!V43>0,'Outil Recensement'!V43,\"\")","v":""},null,{"$f":"IF('Outil Recensement'!X43>0,'Outil Recensement'!X43,\"\")","v":""},{"$f":"IF('Outil Recensement'!Y43>0,'Outil Recensement'!Y43,\"\")","v":""},{"$f":"IF('Outil Recensement'!Z43>0,'Outil Recensement'!Z43,\"\")","v":""},{"$f":"IF('Outil Recensement'!AA43>0,'Outil Recensement'!AA43,\"\")","v":""},{"$f":"IF('Outil Recensement'!E43>0,'Outil Recensement'!E43,\"\")","v":""},{"$f":"IF('Outil Recensement'!AK43>0,'Outil Recensement'!AK43,\"\")","v":""},{"$f":"IF('Outil Recensement'!AL43>0,'Outil Recensement'!AL43,\"\")","v":""},{"$f":"IF('Outil Recensement'!AM43>0,'Outil Recensement'!AM43,\"\")","v":""},{"$f":"IF('Outil Recensement'!AN43=\"Male\",\"Male\",IF('Outil Recensement'!AN43=\"Female\",\"Female\",IF('Outil Recensement'!AN43=\"M\",\"Male\",IF('Outil Recensement'!AN43=\"F\",\"Female\",\"\"))))","v":""},{"$f":"IF('Outil Recensement'!AO43=\"Single\",\"Single\",IF('Outil Recensement'!AO43=\"Family\",\"Family\",IF('Outil Recensement'!AO43=\"S\",\"Single\",IF('Outil Recensement'!AO43=\"F\",\"Family\",\"\"))))","v":""},{"$f":"IF('Outil Recensement'!AP43=\"Single\",\"Single\",IF('Outil Recensement'!AP43=\"Family\",\"Family\",IF('Outil Recensement'!AP43=\"S\",\"Single\",IF('Outil Recensement'!AP43=\"F\",\"Family\",\"\"))))","v":""},{"$f":"IF('Outil Recensement'!AQ43>0,'Outil Recensement'!AQ43,\"\")","v":""},{"$f":"IF('Outil Recensement'!AR43=\"Yes\",\"Yes\",IF('Outil Recensement'!AR43=\"No\",\"No\",IF('Outil Recensement'!AR43=\"Y\",\"Yes\",IF('Outil Recensement'!AR43=\"N\",\"No\",\"\"))))","v":""},{"$f":"IF('Outil Recensement'!AS43>0,'Outil Recensement'!AS43,\"\")","v":""},{"$f":"IF('Outil Recensement'!AT43>0,'Outil Recensement'!AT43,\"\")","v":""},{"$f":"IF('Outil Recensement'!AU43>0,'Outil Recensement'!AU43,\"\")","v":""},{"$f":"IF('Outil Recensement'!AV43=\"Male\",\"Male\",IF('Outil Recensement'!AV43=\"Female\",\"Female\",IF('Outil Recensement'!AV43=\"M\",\"Male\",IF('Outil Recensement'!AV43=\"F\",\"Female\",\"\"))))","v":""},{"$f":"IF('Outil Recensement'!AW43=\"Yes\",\"Yes\",IF('Outil Recensement'!AW43=\"No\",\"No\",IF('Outil Recensement'!AW43=\"Y\",\"Yes\",IF('Outil Recensement'!AW43=\"N\",\"No\",\"\"))))","v":""},{"$f":"IF('Outil Recensement'!AX43=\"Yes\",\"Yes\",IF('Outil Recensement'!AX43=\"No\",\"No\",IF('Outil Recensement'!AX43=\"Y\",\"Yes\",IF('Outil Recensement'!AX43=\"N\",\"No\",\"\"))))","v":""},{"$f":"IF('Outil Recensement'!AY43>0,'Outil Recensement'!AY43,\"\")","v":""},{"$f":"IF('Outil Recensement'!AZ43>0,'Outil Recensement'!AZ43,\"\")","v":""},{"$f":"IF('Outil Recensement'!BA43>0,'Outil Recensement'!BA43,\"\")","v":""},{"$f":"IF('Outil Recensement'!BB43=\"Male\",\"Male\",IF('Outil Recensement'!BB43=\"Female\",\"Female\",IF('Outil Recensement'!BB43=\"M\",\"Male\",IF('Outil Recensement'!BB43=\"F\",\"Female\",\"\"))))","v":""},{"$f":"IF('Outil Recensement'!BC43=\"Yes\",\"Yes\",IF('Outil Recensement'!BC43=\"No\",\"No\",IF('Outil Recensement'!BC43=\"Y\",\"Yes\",IF('Outil Recensement'!BC43=\"N\",\"No\",\"\"))))","v":""},{"$f":"IF('Outil Recensement'!BD43=\"Yes\",\"Yes\",IF('Outil Recensement'!BD43=\"No\",\"No\",IF('Outil Recensement'!BD43=\"Y\",\"Yes\",IF('Outil Recensement'!BD43=\"N\",\"No\",\"\"))))","v":""},{"$f":"IF('Outil Recensement'!BE43>0,'Outil Recensement'!BE43,\"\")","v":""},{"$f":"IF('Outil Recensement'!BF43>0,'Outil Recensement'!BF43,\"\")","v":""},{"$f":"IF('Outil Recensement'!BG43>0,'Outil Recensement'!BG43,\"\")","v":""},{"$f":"IF('Outil Recensement'!BH43=\"Male\",\"Male\",IF('Outil Recensement'!BH43=\"Female\",\"Female\",IF('Outil Recensement'!BH43=\"M\",\"Male\",IF('Outil Recensement'!BH43=\"F\",\"Female\",\"\"))))","v":""},{"$f":"IF('Outil Recensement'!BI43=\"Yes\",\"Yes\",IF('Outil Recensement'!BI43=\"No\",\"No\",IF('Outil Recensement'!BI43=\"Y\",\"Yes\",IF('Outil Recensement'!BI43=\"N\",\"No\",\"\"))))","v":""},{"$f":"IF('Outil Recensement'!BJ43=\"Yes\",\"Yes\",IF('Outil Recensement'!BJ43=\"No\",\"No\",IF('Outil Recensement'!BJ43=\"Y\",\"Yes\",IF('Outil Recensement'!BJ43=\"N\",\"No\",\"\"))))","v":""},{"$f":"IF('Outil Recensement'!BK43>0,'Outil Recensement'!BK43,\"\")","v":""},{"$f":"IF('Outil Recensement'!BL43>0,'Outil Recensement'!BL43,\"\")","v":""},{"$f":"IF('Outil Recensement'!BM43>0,'Outil Recensement'!BM43,\"\")","v":""},{"$f":"IF('Outil Recensement'!BN43=\"Male\",\"Male\",IF('Outil Recensement'!BN43=\"Female\",\"Female\",IF('Outil Recensement'!BN43=\"M\",\"Male\",IF('Outil Recensement'!BN43=\"F\",\"Female\",\"\"))))","v":""},{"$f":"IF('Outil Recensement'!BO43=\"Yes\",\"Yes\",IF('Outil Recensement'!BO43=\"No\",\"No\",IF('Outil Recensement'!BO43=\"Y\",\"Yes\",IF('Outil Recensement'!BO43=\"N\",\"No\",\"\"))))","v":""},{"$f":"IF('Outil Recensement'!BP43=\"Yes\",\"Yes\",IF('Outil Recensement'!BP43=\"No\",\"No\",IF('Outil Recensement'!BP43=\"Y\",\"Yes\",IF('Outil Recensement'!BP43=\"N\",\"No\",\"\"))))","v":""},{"$f":"IF('Outil Recensement'!BQ43>0,'Outil Recensement'!BQ43,\"\")","v":""},{"$f":"IF('Outil Recensement'!BR43>0,'Outil Recensement'!BR43,\"\")","v":""},{"$f":"IF('Outil Recensement'!BS43>0,'Outil Recensement'!BS43,\"\")","v":""},{"$f":"IF('Outil Recensement'!BT43=\"Male\",\"Male\",IF('Outil Recensement'!BT43=\"Female\",\"Female\",IF('Outil Recensement'!BT43=\"M\",\"Male\",IF('Outil Recensement'!BT43=\"F\",\"Female\",\"\"))))","v":""},{"$f":"IF('Outil Recensement'!BU43=\"Yes\",\"Yes\",IF('Outil Recensement'!BU43=\"No\",\"No\",IF('Outil Recensement'!BU43=\"Y\",\"Yes\",IF('Outil Recensement'!BU43=\"N\",\"No\",\"\"))))","v":""},{"$f":"IF('Outil Recensement'!BV43=\"Yes\",\"Yes\",IF('Outil Recensement'!BV43=\"No\",\"No\",IF('Outil Recensement'!BV43=\"Y\",\"Yes\",IF('Outil Recensement'!BV43=\"N\",\"No\",\"\"))))","v":""},{"$f":"IF('Outil Recensement'!BW43>0,'Outil Recensement'!BW43,\"\")","v":""},{"$f":"IF('Outil Recensement'!BX43>0,'Outil Recensement'!BX43,\"\")","v":""},{"$f":"IF('Outil Recensement'!BY43>0,'Outil Recensement'!BY43,\"\")","v":""},{"$f":"IF('Outil Recensement'!BZ43=\"Male\",\"Male\",IF('Outil Recensement'!BZ43=\"Female\",\"Female\",IF('Outil Recensement'!BZ43=\"M\",\"Male\",IF('Outil Recensement'!BZ43=\"F\",\"Female\",\"\"))))","v":""},{"$f":"IF('Outil Recensement'!CA43=\"Yes\",\"Yes\",IF('Outil Recensement'!CA43=\"No\",\"No\",IF('Outil Recensement'!CA43=\"Y\",\"Yes\",IF('Outil Recensement'!CA43=\"N\",\"No\",\"\"))))","v":""},{"$f":"IF('Outil Recensement'!CB43=\"Yes\",\"Yes\",IF('Outil Recensement'!CB43=\"No\",\"No\",IF('Outil Recensement'!CB43=\"Y\",\"Yes\",IF('Outil Recensement'!CB43=\"N\",\"No\",\"\"))))","v":""},{"$f":"IF('Outil Recensement'!CH43>0,'Outil Recensement'!CH43,\"\")","v":"    "}]
[{"$f":"IF('Outil Recensement'!A44>0,'Outil Recensement'!A44,\"\")","v":""},{"$f":"IF('Outil Recensement'!B44>0,'Outil Recensement'!B44,\"\")","v":""},{"$f":"IF('Outil Recensement'!C44>0,'Outil Recensement'!C44,\"\")","v":""},{"$f":"IF('Outil Recensement'!D44>0,'Outil Recensement'!D44,\"\")","v":""},{"$f":"IF('Outil Recensement'!P44>0,TEXT('Outil Recensement'!P44,\"000\"),\"\")","v":""},{"$f":"IF('Outil Recensement'!Q44>0,'Outil Recensement'!Q44,\"\")","v":""},{"$f":"IF('Outil Recensement'!R44>0,'Outil Recensement'!R44,\"\")","v":""},{"$f":"IF('Outil Recensement'!F44>0,DATEVALUE(TEXT('Outil Recensement'!F44,\"yyyy-mm-dd\")),\"\")","v":""},{"$f":"IF('Outil Recensement'!L44>0,DATEVALUE(TEXT('Outil Recensement'!L44,\"yyyy-mm-dd\")),\"\")","v":""},{"$f":"IF('Outil Recensement'!Y44>0,'Outil Recensement'!Y44,\"\")","v":""},{"$f":"IF('Outil Recensement'!T44>0,'Outil Recensement'!T44,\"\")","v":""},{"$f":"IF('Outil Recensement'!G44=\"Homme\",\"Male\",IF('Outil Recensement'!G44=\"Femme\",\"Female\",IF('Outil Recensement'!G44=\"H\",\"Male\",IF('Outil Recensement'!G44=\"F\",\"Female\",\"\"))))","v":""},{"$f":"IF('Outil Recensement'!U44=\"Yes\",\"Yes\",IF('Outil Recensement'!U44=\"No\",\"No\",IF('Outil Recensement'!U44=\"Y\",\"Yes\",IF('Outil Recensement'!U44=\"N\",\"No\",\"\"))))","v":""},{"$f":"IF('Outil Recensement'!I44=\"Individuelle\",\"Single\",IF('Outil Recensement'!I44=\"Familiale\",\"Family\",IF('Outil Recensement'!I44=\"Refus\",\"Family\",IF('Outil Recensement'!I44=\"Parent seul\",\"Family\",IF('Outil Recensement'!I44=\"Couple\",\"Family\",IF('Outil Recensement'!I44=\"In force\",\"Family\",IF('Outil Recensement'!I44=\"Applies\",\"Family\",IF('Outil Recensement'!I44=\"Applicable\",\"Family\",\"\"))))))))","v":""},{"$f":"IF('Outil Recensement'!AC44=\"Anglais\",\"English\",IF('Outil Recensement'!AC44=\"Français\",\"French\",IF('Outil Recensement'!AC44=\"A\",\"English\",IF('Outil Recensement'!AC44=\"F\",\"French\",\"\"))))","v":""},{"$f":"IF('Outil Recensement'!AB44=\"Oui\",\"Yes\",IF('Outil Recensement'!AB44=\"Non\",\"No\",IF('Outil Recensement'!AB44=\"O\",\"Yes\",IF('Outil Recensement'!AB44=\"N\",\"No\",\"\"))))","v":""},{"$f":"IF('Outil Recensement'!AD44>0,'Outil Recensement'!AD44,\"\")","v":""},{"$f":"IF('Outil Recensement'!M44=\"Annuel\",\"Annually\",IF('Outil Recensement'!M44=\"Mensuel\",\"Monthly\",IF('Outil Recensement'!M44=\"Bihebdomadaire\",\"Biweekly\",IF('Outil Recensement'!M44=\"Hebdomadaire\",\"Weekly\",IF('Outil Recensement'!M44=\"Horaire\",\"Hourly\",IF('Outil Recensement'!M44=\"Semi-mensuel\",\"Semi-monthly\",IF('Outil Recensement'!M44=\"Applies\",\"Annual\",IF('Outil Recensement'!M44=\"Applicable\",\"Annual\",\"\"))))))))","v":""},{"$f":"IF('Outil Recensement'!N44>0,'Outil Recensement'!N44,\"\")","v":""},{"$f":"IF('Outil Recensement'!O44>0,'Outil Recensement'!O44,\"\")","v":""},{"$f":"IF('Outil Recensement'!I44=\"Refus\",\"Yes\",\"\")","v":""},{"$f":"IF('Outil Recensement'!I44=\"Refus\",\"Yes\",\"\")","v":""},{"$f":"IF('Outil Recensement'!AE44>0,'Outil Recensement'!AE44,\"\")","v":""},{"$f":"IF('Outil Recensement'!AF44>0,'Outil Recensement'!AF44,\"\")","v":""},{"$f":"IF('Outil Recensement'!AG44>0,'Outil Recensement'!AG44,\"\")","v":""},{"$f":"IF('Outil Recensement'!AH44>0,'Outil Recensement'!AH44,\"\")","v":""},{"$f":"IF('Outil Recensement'!AI44>0,'Outil Recensement'!AI44,\"\")","v":" "},{"$f":"IF('Outil Recensement'!AJ44>0,'Outil Recensement'!AJ44,\"\")","v":" "},{"$f":"IF('Outil Recensement'!W44>0,'Outil Recensement'!W44&\" \",\"\")&IF('Outil Recensement'!V44>0,'Outil Recensement'!V44,\"\")","v":""},null,{"$f":"IF('Outil Recensement'!X44>0,'Outil Recensement'!X44,\"\")","v":""},{"$f":"IF('Outil Recensement'!Y44>0,'Outil Recensement'!Y44,\"\")","v":""},{"$f":"IF('Outil Recensement'!Z44>0,'Outil Recensement'!Z44,\"\")","v":""},{"$f":"IF('Outil Recensement'!AA44>0,'Outil Recensement'!AA44,\"\")","v":""},{"$f":"IF('Outil Recensement'!E44>0,'Outil Recensement'!E44,\"\")","v":""},{"$f":"IF('Outil Recensement'!AK44>0,'Outil Recensement'!AK44,\"\")","v":""},{"$f":"IF('Outil Recensement'!AL44>0,'Outil Recensement'!AL44,\"\")","v":""},{"$f":"IF('Outil Recensement'!AM44>0,'Outil Recensement'!AM44,\"\")","v":""},{"$f":"IF('Outil Recensement'!AN44=\"Male\",\"Male\",IF('Outil Recensement'!AN44=\"Female\",\"Female\",IF('Outil Recensement'!AN44=\"M\",\"Male\",IF('Outil Recensement'!AN44=\"F\",\"Female\",\"\"))))","v":""},{"$f":"IF('Outil Recensement'!AO44=\"Single\",\"Single\",IF('Outil Recensement'!AO44=\"Family\",\"Family\",IF('Outil Recensement'!AO44=\"S\",\"Single\",IF('Outil Recensement'!AO44=\"F\",\"Family\",\"\"))))","v":""},{"$f":"IF('Outil Recensement'!AP44=\"Single\",\"Single\",IF('Outil Recensement'!AP44=\"Family\",\"Family\",IF('Outil Recensement'!AP44=\"S\",\"Single\",IF('Outil Recensement'!AP44=\"F\",\"Family\",\"\"))))","v":""},{"$f":"IF('Outil Recensement'!AQ44>0,'Outil Recensement'!AQ44,\"\")","v":""},{"$f":"IF('Outil Recensement'!AR44=\"Yes\",\"Yes\",IF('Outil Recensement'!AR44=\"No\",\"No\",IF('Outil Recensement'!AR44=\"Y\",\"Yes\",IF('Outil Recensement'!AR44=\"N\",\"No\",\"\"))))","v":""},{"$f":"IF('Outil Recensement'!AS44>0,'Outil Recensement'!AS44,\"\")","v":""},{"$f":"IF('Outil Recensement'!AT44>0,'Outil Recensement'!AT44,\"\")","v":""},{"$f":"IF('Outil Recensement'!AU44>0,'Outil Recensement'!AU44,\"\")","v":""},{"$f":"IF('Outil Recensement'!AV44=\"Male\",\"Male\",IF('Outil Recensement'!AV44=\"Female\",\"Female\",IF('Outil Recensement'!AV44=\"M\",\"Male\",IF('Outil Recensement'!AV44=\"F\",\"Female\",\"\"))))","v":""},{"$f":"IF('Outil Recensement'!AW44=\"Yes\",\"Yes\",IF('Outil Recensement'!AW44=\"No\",\"No\",IF('Outil Recensement'!AW44=\"Y\",\"Yes\",IF('Outil Recensement'!AW44=\"N\",\"No\",\"\"))))","v":""},{"$f":"IF('Outil Recensement'!AX44=\"Yes\",\"Yes\",IF('Outil Recensement'!AX44=\"No\",\"No\",IF('Outil Recensement'!AX44=\"Y\",\"Yes\",IF('Outil Recensement'!AX44=\"N\",\"No\",\"\"))))","v":""},{"$f":"IF('Outil Recensement'!AY44>0,'Outil Recensement'!AY44,\"\")","v":""},{"$f":"IF('Outil Recensement'!AZ44>0,'Outil Recensement'!AZ44,\"\")","v":""},{"$f":"IF('Outil Recensement'!BA44>0,'Outil Recensement'!BA44,\"\")","v":""},{"$f":"IF('Outil Recensement'!BB44=\"Male\",\"Male\",IF('Outil Recensement'!BB44=\"Female\",\"Female\",IF('Outil Recensement'!BB44=\"M\",\"Male\",IF('Outil Recensement'!BB44=\"F\",\"Female\",\"\"))))","v":""},{"$f":"IF('Outil Recensement'!BC44=\"Yes\",\"Yes\",IF('Outil Recensement'!BC44=\"No\",\"No\",IF('Outil Recensement'!BC44=\"Y\",\"Yes\",IF('Outil Recensement'!BC44=\"N\",\"No\",\"\"))))","v":""},{"$f":"IF('Outil Recensement'!BD44=\"Yes\",\"Yes\",IF('Outil Recensement'!BD44=\"No\",\"No\",IF('Outil Recensement'!BD44=\"Y\",\"Yes\",IF('Outil Recensement'!BD44=\"N\",\"No\",\"\"))))","v":""},{"$f":"IF('Outil Recensement'!BE44>0,'Outil Recensement'!BE44,\"\")","v":""},{"$f":"IF('Outil Recensement'!BF44>0,'Outil Recensement'!BF44,\"\")","v":""},{"$f":"IF('Outil Recensement'!BG44>0,'Outil Recensement'!BG44,\"\")","v":""},{"$f":"IF('Outil Recensement'!BH44=\"Male\",\"Male\",IF('Outil Recensement'!BH44=\"Female\",\"Female\",IF('Outil Recensement'!BH44=\"M\",\"Male\",IF('Outil Recensement'!BH44=\"F\",\"Female\",\"\"))))","v":""},{"$f":"IF('Outil Recensement'!BI44=\"Yes\",\"Yes\",IF('Outil Recensement'!BI44=\"No\",\"No\",IF('Outil Recensement'!BI44=\"Y\",\"Yes\",IF('Outil Recensement'!BI44=\"N\",\"No\",\"\"))))","v":""},{"$f":"IF('Outil Recensement'!BJ44=\"Yes\",\"Yes\",IF('Outil Recensement'!BJ44=\"No\",\"No\",IF('Outil Recensement'!BJ44=\"Y\",\"Yes\",IF('Outil Recensement'!BJ44=\"N\",\"No\",\"\"))))","v":""},{"$f":"IF('Outil Recensement'!BK44>0,'Outil Recensement'!BK44,\"\")","v":""},{"$f":"IF('Outil Recensement'!BL44>0,'Outil Recensement'!BL44,\"\")","v":""},{"$f":"IF('Outil Recensement'!BM44>0,'Outil Recensement'!BM44,\"\")","v":""},{"$f":"IF('Outil Recensement'!BN44=\"Male\",\"Male\",IF('Outil Recensement'!BN44=\"Female\",\"Female\",IF('Outil Recensement'!BN44=\"M\",\"Male\",IF('Outil Recensement'!BN44=\"F\",\"Female\",\"\"))))","v":""},{"$f":"IF('Outil Recensement'!BO44=\"Yes\",\"Yes\",IF('Outil Recensement'!BO44=\"No\",\"No\",IF('Outil Recensement'!BO44=\"Y\",\"Yes\",IF('Outil Recensement'!BO44=\"N\",\"No\",\"\"))))","v":""},{"$f":"IF('Outil Recensement'!BP44=\"Yes\",\"Yes\",IF('Outil Recensement'!BP44=\"No\",\"No\",IF('Outil Recensement'!BP44=\"Y\",\"Yes\",IF('Outil Recensement'!BP44=\"N\",\"No\",\"\"))))","v":""},{"$f":"IF('Outil Recensement'!BQ44>0,'Outil Recensement'!BQ44,\"\")","v":""},{"$f":"IF('Outil Recensement'!BR44>0,'Outil Recensement'!BR44,\"\")","v":""},{"$f":"IF('Outil Recensement'!BS44>0,'Outil Recensement'!BS44,\"\")","v":""},{"$f":"IF('Outil Recensement'!BT44=\"Male\",\"Male\",IF('Outil Recensement'!BT44=\"Female\",\"Female\",IF('Outil Recensement'!BT44=\"M\",\"Male\",IF('Outil Recensement'!BT44=\"F\",\"Female\",\"\"))))","v":""},{"$f":"IF('Outil Recensement'!BU44=\"Yes\",\"Yes\",IF('Outil Recensement'!BU44=\"No\",\"No\",IF('Outil Recensement'!BU44=\"Y\",\"Yes\",IF('Outil Recensement'!BU44=\"N\",\"No\",\"\"))))","v":""},{"$f":"IF('Outil Recensement'!BV44=\"Yes\",\"Yes\",IF('Outil Recensement'!BV44=\"No\",\"No\",IF('Outil Recensement'!BV44=\"Y\",\"Yes\",IF('Outil Recensement'!BV44=\"N\",\"No\",\"\"))))","v":""},{"$f":"IF('Outil Recensement'!BW44>0,'Outil Recensement'!BW44,\"\")","v":""},{"$f":"IF('Outil Recensement'!BX44>0,'Outil Recensement'!BX44,\"\")","v":""},{"$f":"IF('Outil Recensement'!BY44>0,'Outil Recensement'!BY44,\"\")","v":""},{"$f":"IF('Outil Recensement'!BZ44=\"Male\",\"Male\",IF('Outil Recensement'!BZ44=\"Female\",\"Female\",IF('Outil Recensement'!BZ44=\"M\",\"Male\",IF('Outil Recensement'!BZ44=\"F\",\"Female\",\"\"))))","v":""},{"$f":"IF('Outil Recensement'!CA44=\"Yes\",\"Yes\",IF('Outil Recensement'!CA44=\"No\",\"No\",IF('Outil Recensement'!CA44=\"Y\",\"Yes\",IF('Outil Recensement'!CA44=\"N\",\"No\",\"\"))))","v":""},{"$f":"IF('Outil Recensement'!CB44=\"Yes\",\"Yes\",IF('Outil Recensement'!CB44=\"No\",\"No\",IF('Outil Recensement'!CB44=\"Y\",\"Yes\",IF('Outil Recensement'!CB44=\"N\",\"No\",\"\"))))","v":""},{"$f":"IF('Outil Recensement'!CH44>0,'Outil Recensement'!CH44,\"\")","v":"    "}]
[{"$f":"IF('Outil Recensement'!A45>0,'Outil Recensement'!A45,\"\")","v":""},{"$f":"IF('Outil Recensement'!B45>0,'Outil Recensement'!B45,\"\")","v":""},{"$f":"IF('Outil Recensement'!C45>0,'Outil Recensement'!C45,\"\")","v":""},{"$f":"IF('Outil Recensement'!D45>0,'Outil Recensement'!D45,\"\")","v":""},{"$f":"IF('Outil Recensement'!P45>0,TEXT('Outil Recensement'!P45,\"000\"),\"\")","v":""},{"$f":"IF('Outil Recensement'!Q45>0,'Outil Recensement'!Q45,\"\")","v":""},{"$f":"IF('Outil Recensement'!R45>0,'Outil Recensement'!R45,\"\")","v":""},{"$f":"IF('Outil Recensement'!F45>0,DATEVALUE(TEXT('Outil Recensement'!F45,\"yyyy-mm-dd\")),\"\")","v":""},{"$f":"IF('Outil Recensement'!L45>0,DATEVALUE(TEXT('Outil Recensement'!L45,\"yyyy-mm-dd\")),\"\")","v":""},{"$f":"IF('Outil Recensement'!Y45>0,'Outil Recensement'!Y45,\"\")","v":""},{"$f":"IF('Outil Recensement'!T45>0,'Outil Recensement'!T45,\"\")","v":""},{"$f":"IF('Outil Recensement'!G45=\"Homme\",\"Male\",IF('Outil Recensement'!G45=\"Femme\",\"Female\",IF('Outil Recensement'!G45=\"H\",\"Male\",IF('Outil Recensement'!G45=\"F\",\"Female\",\"\"))))","v":""},{"$f":"IF('Outil Recensement'!U45=\"Yes\",\"Yes\",IF('Outil Recensement'!U45=\"No\",\"No\",IF('Outil Recensement'!U45=\"Y\",\"Yes\",IF('Outil Recensement'!U45=\"N\",\"No\",\"\"))))","v":""},{"$f":"IF('Outil Recensement'!I45=\"Individuelle\",\"Single\",IF('Outil Recensement'!I45=\"Familiale\",\"Family\",IF('Outil Recensement'!I45=\"Refus\",\"Family\",IF('Outil Recensement'!I45=\"Parent seul\",\"Family\",IF('Outil Recensement'!I45=\"Couple\",\"Family\",IF('Outil Recensement'!I45=\"In force\",\"Family\",IF('Outil Recensement'!I45=\"Applies\",\"Family\",IF('Outil Recensement'!I45=\"Applicable\",\"Family\",\"\"))))))))","v":""},{"$f":"IF('Outil Recensement'!AC45=\"Anglais\",\"English\",IF('Outil Recensement'!AC45=\"Français\",\"French\",IF('Outil Recensement'!AC45=\"A\",\"English\",IF('Outil Recensement'!AC45=\"F\",\"French\",\"\"))))","v":""},{"$f":"IF('Outil Recensement'!AB45=\"Oui\",\"Yes\",IF('Outil Recensement'!AB45=\"Non\",\"No\",IF('Outil Recensement'!AB45=\"O\",\"Yes\",IF('Outil Recensement'!AB45=\"N\",\"No\",\"\"))))","v":""},{"$f":"IF('Outil Recensement'!AD45>0,'Outil Recensement'!AD45,\"\")","v":""},{"$f":"IF('Outil Recensement'!M45=\"Annuel\",\"Annually\",IF('Outil Recensement'!M45=\"Mensuel\",\"Monthly\",IF('Outil Recensement'!M45=\"Bihebdomadaire\",\"Biweekly\",IF('Outil Recensement'!M45=\"Hebdomadaire\",\"Weekly\",IF('Outil Recensement'!M45=\"Horaire\",\"Hourly\",IF('Outil Recensement'!M45=\"Semi-mensuel\",\"Semi-monthly\",IF('Outil Recensement'!M45=\"Applies\",\"Annual\",IF('Outil Recensement'!M45=\"Applicable\",\"Annual\",\"\"))))))))","v":""},{"$f":"IF('Outil Recensement'!N45>0,'Outil Recensement'!N45,\"\")","v":""},{"$f":"IF('Outil Recensement'!O45>0,'Outil Recensement'!O45,\"\")","v":""},{"$f":"IF('Outil Recensement'!I45=\"Refus\",\"Yes\",\"\")","v":""},{"$f":"IF('Outil Recensement'!I45=\"Refus\",\"Yes\",\"\")","v":""},{"$f":"IF('Outil Recensement'!AE45>0,'Outil Recensement'!AE45,\"\")","v":""},{"$f":"IF('Outil Recensement'!AF45>0,'Outil Recensement'!AF45,\"\")","v":""},{"$f":"IF('Outil Recensement'!AG45>0,'Outil Recensement'!AG45,\"\")","v":""},{"$f":"IF('Outil Recensement'!AH45>0,'Outil Recensement'!AH45,\"\")","v":""},{"$f":"IF('Outil Recensement'!AI45>0,'Outil Recensement'!AI45,\"\")","v":" "},{"$f":"IF('Outil Recensement'!AJ45>0,'Outil Recensement'!AJ45,\"\")","v":" "},{"$f":"IF('Outil Recensement'!W45>0,'Outil Recensement'!W45&\" \",\"\")&IF('Outil Recensement'!V45>0,'Outil Recensement'!V45,\"\")","v":""},null,{"$f":"IF('Outil Recensement'!X45>0,'Outil Recensement'!X45,\"\")","v":""},{"$f":"IF('Outil Recensement'!Y45>0,'Outil Recensement'!Y45,\"\")","v":""},{"$f":"IF('Outil Recensement'!Z45>0,'Outil Recensement'!Z45,\"\")","v":""},{"$f":"IF('Outil Recensement'!AA45>0,'Outil Recensement'!AA45,\"\")","v":""},{"$f":"IF('Outil Recensement'!E45>0,'Outil Recensement'!E45,\"\")","v":""},{"$f":"IF('Outil Recensement'!AK45>0,'Outil Recensement'!AK45,\"\")","v":""},{"$f":"IF('Outil Recensement'!AL45>0,'Outil Recensement'!AL45,\"\")","v":""},{"$f":"IF('Outil Recensement'!AM45>0,'Outil Recensement'!AM45,\"\")","v":""},{"$f":"IF('Outil Recensement'!AN45=\"Male\",\"Male\",IF('Outil Recensement'!AN45=\"Female\",\"Female\",IF('Outil Recensement'!AN45=\"M\",\"Male\",IF('Outil Recensement'!AN45=\"F\",\"Female\",\"\"))))","v":""},{"$f":"IF('Outil Recensement'!AO45=\"Single\",\"Single\",IF('Outil Recensement'!AO45=\"Family\",\"Family\",IF('Outil Recensement'!AO45=\"S\",\"Single\",IF('Outil Recensement'!AO45=\"F\",\"Family\",\"\"))))","v":""},{"$f":"IF('Outil Recensement'!AP45=\"Single\",\"Single\",IF('Outil Recensement'!AP45=\"Family\",\"Family\",IF('Outil Recensement'!AP45=\"S\",\"Single\",IF('Outil Recensement'!AP45=\"F\",\"Family\",\"\"))))","v":""},{"$f":"IF('Outil Recensement'!AQ45>0,'Outil Recensement'!AQ45,\"\")","v":""},{"$f":"IF('Outil Recensement'!AR45=\"Yes\",\"Yes\",IF('Outil Recensement'!AR45=\"No\",\"No\",IF('Outil Recensement'!AR45=\"Y\",\"Yes\",IF('Outil Recensement'!AR45=\"N\",\"No\",\"\"))))","v":""},{"$f":"IF('Outil Recensement'!AS45>0,'Outil Recensement'!AS45,\"\")","v":""},{"$f":"IF('Outil Recensement'!AT45>0,'Outil Recensement'!AT45,\"\")","v":""},{"$f":"IF('Outil Recensement'!AU45>0,'Outil Recensement'!AU45,\"\")","v":""},{"$f":"IF('Outil Recensement'!AV45=\"Male\",\"Male\",IF('Outil Recensement'!AV45=\"Female\",\"Female\",IF('Outil Recensement'!AV45=\"M\",\"Male\",IF('Outil Recensement'!AV45=\"F\",\"Female\",\"\"))))","v":""},{"$f":"IF('Outil Recensement'!AW45=\"Yes\",\"Yes\",IF('Outil Recensement'!AW45=\"No\",\"No\",IF('Outil Recensement'!AW45=\"Y\",\"Yes\",IF('Outil Recensement'!AW45=\"N\",\"No\",\"\"))))","v":""},{"$f":"IF('Outil Recensement'!AX45=\"Yes\",\"Yes\",IF('Outil Recensement'!AX45=\"No\",\"No\",IF('Outil Recensement'!AX45=\"Y\",\"Yes\",IF('Outil Recensement'!AX45=\"N\",\"No\",\"\"))))","v":""},{"$f":"IF('Outil Recensement'!AY45>0,'Outil Recensement'!AY45,\"\")","v":""},{"$f":"IF('Outil Recensement'!AZ45>0,'Outil Recensement'!AZ45,\"\")","v":""},{"$f":"IF('Outil Recensement'!BA45>0,'Outil Recensement'!BA45,\"\")","v":""},{"$f":"IF('Outil Recensement'!BB45=\"Male\",\"Male\",IF('Outil Recensement'!BB45=\"Female\",\"Female\",IF('Outil Recensement'!BB45=\"M\",\"Male\",IF('Outil Recensement'!BB45=\"F\",\"Female\",\"\"))))","v":""},{"$f":"IF('Outil Recensement'!BC45=\"Yes\",\"Yes\",IF('Outil Recensement'!BC45=\"No\",\"No\",IF('Outil Recensement'!BC45=\"Y\",\"Yes\",IF('Outil Recensement'!BC45=\"N\",\"No\",\"\"))))","v":""},{"$f":"IF('Outil Recensement'!BD45=\"Yes\",\"Yes\",IF('Outil Recensement'!BD45=\"No\",\"No\",IF('Outil Recensement'!BD45=\"Y\",\"Yes\",IF('Outil Recensement'!BD45=\"N\",\"No\",\"\"))))","v":""},{"$f":"IF('Outil Recensement'!BE45>0,'Outil Recensement'!BE45,\"\")","v":""},{"$f":"IF('Outil Recensement'!BF45>0,'Outil Recensement'!BF45,\"\")","v":""},{"$f":"IF('Outil Recensement'!BG45>0,'Outil Recensement'!BG45,\"\")","v":""},{"$f":"IF('Outil Recensement'!BH45=\"Male\",\"Male\",IF('Outil Recensement'!BH45=\"Female\",\"Female\",IF('Outil Recensement'!BH45=\"M\",\"Male\",IF('Outil Recensement'!BH45=\"F\",\"Female\",\"\"))))","v":""},{"$f":"IF('Outil Recensement'!BI45=\"Yes\",\"Yes\",IF('Outil Recensement'!BI45=\"No\",\"No\",IF('Outil Recensement'!BI45=\"Y\",\"Yes\",IF('Outil Recensement'!BI45=\"N\",\"No\",\"\"))))","v":""},{"$f":"IF('Outil Recensement'!BJ45=\"Yes\",\"Yes\",IF('Outil Recensement'!BJ45=\"No\",\"No\",IF('Outil Recensement'!BJ45=\"Y\",\"Yes\",IF('Outil Recensement'!BJ45=\"N\",\"No\",\"\"))))","v":""},{"$f":"IF('Outil Recensement'!BK45>0,'Outil Recensement'!BK45,\"\")","v":""},{"$f":"IF('Outil Recensement'!BL45>0,'Outil Recensement'!BL45,\"\")","v":""},{"$f":"IF('Outil Recensement'!BM45>0,'Outil Recensement'!BM45,\"\")","v":""},{"$f":"IF('Outil Recensement'!BN45=\"Male\",\"Male\",IF('Outil Recensement'!BN45=\"Female\",\"Female\",IF('Outil Recensement'!BN45=\"M\",\"Male\",IF('Outil Recensement'!BN45=\"F\",\"Female\",\"\"))))","v":""},{"$f":"IF('Outil Recensement'!BO45=\"Yes\",\"Yes\",IF('Outil Recensement'!BO45=\"No\",\"No\",IF('Outil Recensement'!BO45=\"Y\",\"Yes\",IF('Outil Recensement'!BO45=\"N\",\"No\",\"\"))))","v":""},{"$f":"IF('Outil Recensement'!BP45=\"Yes\",\"Yes\",IF('Outil Recensement'!BP45=\"No\",\"No\",IF('Outil Recensement'!BP45=\"Y\",\"Yes\",IF('Outil Recensement'!BP45=\"N\",\"No\",\"\"))))","v":""},{"$f":"IF('Outil Recensement'!BQ45>0,'Outil Recensement'!BQ45,\"\")","v":""},{"$f":"IF('Outil Recensement'!BR45>0,'Outil Recensement'!BR45,\"\")","v":""},{"$f":"IF('Outil Recensement'!BS45>0,'Outil Recensement'!BS45,\"\")","v":""},{"$f":"IF('Outil Recensement'!BT45=\"Male\",\"Male\",IF('Outil Recensement'!BT45=\"Female\",\"Female\",IF('Outil Recensement'!BT45=\"M\",\"Male\",IF('Outil Recensement'!BT45=\"F\",\"Female\",\"\"))))","v":""},{"$f":"IF('Outil Recensement'!BU45=\"Yes\",\"Yes\",IF('Outil Recensement'!BU45=\"No\",\"No\",IF('Outil Recensement'!BU45=\"Y\",\"Yes\",IF('Outil Recensement'!BU45=\"N\",\"No\",\"\"))))","v":""},{"$f":"IF('Outil Recensement'!BV45=\"Yes\",\"Yes\",IF('Outil Recensement'!BV45=\"No\",\"No\",IF('Outil Recensement'!BV45=\"Y\",\"Yes\",IF('Outil Recensement'!BV45=\"N\",\"No\",\"\"))))","v":""},{"$f":"IF('Outil Recensement'!BW45>0,'Outil Recensement'!BW45,\"\")","v":""},{"$f":"IF('Outil Recensement'!BX45>0,'Outil Recensement'!BX45,\"\")","v":""},{"$f":"IF('Outil Recensement'!BY45>0,'Outil Recensement'!BY45,\"\")","v":""},{"$f":"IF('Outil Recensement'!BZ45=\"Male\",\"Male\",IF('Outil Recensement'!BZ45=\"Female\",\"Female\",IF('Outil Recensement'!BZ45=\"M\",\"Male\",IF('Outil Recensement'!BZ45=\"F\",\"Female\",\"\"))))","v":""},{"$f":"IF('Outil Recensement'!CA45=\"Yes\",\"Yes\",IF('Outil Recensement'!CA45=\"No\",\"No\",IF('Outil Recensement'!CA45=\"Y\",\"Yes\",IF('Outil Recensement'!CA45=\"N\",\"No\",\"\"))))","v":""},{"$f":"IF('Outil Recensement'!CB45=\"Yes\",\"Yes\",IF('Outil Recensement'!CB45=\"No\",\"No\",IF('Outil Recensement'!CB45=\"Y\",\"Yes\",IF('Outil Recensement'!CB45=\"N\",\"No\",\"\"))))","v":""},{"$f":"IF('Outil Recensement'!CH45>0,'Outil Recensement'!CH45,\"\")","v":"    "}]
[{"$f":"IF('Outil Recensement'!A46>0,'Outil Recensement'!A46,\"\")","v":""},{"$f":"IF('Outil Recensement'!B46>0,'Outil Recensement'!B46,\"\")","v":""},{"$f":"IF('Outil Recensement'!C46>0,'Outil Recensement'!C46,\"\")","v":""},{"$f":"IF('Outil Recensement'!D46>0,'Outil Recensement'!D46,\"\")","v":""},{"$f":"IF('Outil Recensement'!P46>0,TEXT('Outil Recensement'!P46,\"000\"),\"\")","v":""},{"$f":"IF('Outil Recensement'!Q46>0,'Outil Recensement'!Q46,\"\")","v":""},{"$f":"IF('Outil Recensement'!R46>0,'Outil Recensement'!R46,\"\")","v":""},{"$f":"IF('Outil Recensement'!F46>0,DATEVALUE(TEXT('Outil Recensement'!F46,\"yyyy-mm-dd\")),\"\")","v":""},{"$f":"IF('Outil Recensement'!L46>0,DATEVALUE(TEXT('Outil Recensement'!L46,\"yyyy-mm-dd\")),\"\")","v":""},{"$f":"IF('Outil Recensement'!Y46>0,'Outil Recensement'!Y46,\"\")","v":""},{"$f":"IF('Outil Recensement'!T46>0,'Outil Recensement'!T46,\"\")","v":""},{"$f":"IF('Outil Recensement'!G46=\"Homme\",\"Male\",IF('Outil Recensement'!G46=\"Femme\",\"Female\",IF('Outil Recensement'!G46=\"H\",\"Male\",IF('Outil Recensement'!G46=\"F\",\"Female\",\"\"))))","v":""},{"$f":"IF('Outil Recensement'!U46=\"Yes\",\"Yes\",IF('Outil Recensement'!U46=\"No\",\"No\",IF('Outil Recensement'!U46=\"Y\",\"Yes\",IF('Outil Recensement'!U46=\"N\",\"No\",\"\"))))","v":""},{"$f":"IF('Outil Recensement'!I46=\"Individuelle\",\"Single\",IF('Outil Recensement'!I46=\"Familiale\",\"Family\",IF('Outil Recensement'!I46=\"Refus\",\"Family\",IF('Outil Recensement'!I46=\"Parent seul\",\"Family\",IF('Outil Recensement'!I46=\"Couple\",\"Family\",IF('Outil Recensement'!I46=\"In force\",\"Family\",IF('Outil Recensement'!I46=\"Applies\",\"Family\",IF('Outil Recensement'!I46=\"Applicable\",\"Family\",\"\"))))))))","v":""},{"$f":"IF('Outil Recensement'!AC46=\"Anglais\",\"English\",IF('Outil Recensement'!AC46=\"Français\",\"French\",IF('Outil Recensement'!AC46=\"A\",\"English\",IF('Outil Recensement'!AC46=\"F\",\"French\",\"\"))))","v":""},{"$f":"IF('Outil Recensement'!AB46=\"Oui\",\"Yes\",IF('Outil Recensement'!AB46=\"Non\",\"No\",IF('Outil Recensement'!AB46=\"O\",\"Yes\",IF('Outil Recensement'!AB46=\"N\",\"No\",\"\"))))","v":""},{"$f":"IF('Outil Recensement'!AD46>0,'Outil Recensement'!AD46,\"\")","v":""},{"$f":"IF('Outil Recensement'!M46=\"Annuel\",\"Annually\",IF('Outil Recensement'!M46=\"Mensuel\",\"Monthly\",IF('Outil Recensement'!M46=\"Bihebdomadaire\",\"Biweekly\",IF('Outil Recensement'!M46=\"Hebdomadaire\",\"Weekly\",IF('Outil Recensement'!M46=\"Horaire\",\"Hourly\",IF('Outil Recensement'!M46=\"Semi-mensuel\",\"Semi-monthly\",IF('Outil Recensement'!M46=\"Applies\",\"Annual\",IF('Outil Recensement'!M46=\"Applicable\",\"Annual\",\"\"))))))))","v":""},{"$f":"IF('Outil Recensement'!N46>0,'Outil Recensement'!N46,\"\")","v":""},{"$f":"IF('Outil Recensement'!O46>0,'Outil Recensement'!O46,\"\")","v":""},{"$f":"IF('Outil Recensement'!I46=\"Refus\",\"Yes\",\"\")","v":""},{"$f":"IF('Outil Recensement'!I46=\"Refus\",\"Yes\",\"\")","v":""},{"$f":"IF('Outil Recensement'!AE46>0,'Outil Recensement'!AE46,\"\")","v":""},{"$f":"IF('Outil Recensement'!AF46>0,'Outil Recensement'!AF46,\"\")","v":""},{"$f":"IF('Outil Recensement'!AG46>0,'Outil Recensement'!AG46,\"\")","v":""},{"$f":"IF('Outil Recensement'!AH46>0,'Outil Recensement'!AH46,\"\")","v":""},{"$f":"IF('Outil Recensement'!AI46>0,'Outil Recensement'!AI46,\"\")","v":" "},{"$f":"IF('Outil Recensement'!AJ46>0,'Outil Recensement'!AJ46,\"\")","v":" "},{"$f":"IF('Outil Recensement'!W46>0,'Outil Recensement'!W46&\" \",\"\")&IF('Outil Recensement'!V46>0,'Outil Recensement'!V46,\"\")","v":""},null,{"$f":"IF('Outil Recensement'!X46>0,'Outil Recensement'!X46,\"\")","v":""},{"$f":"IF('Outil Recensement'!Y46>0,'Outil Recensement'!Y46,\"\")","v":""},{"$f":"IF('Outil Recensement'!Z46>0,'Outil Recensement'!Z46,\"\")","v":""},{"$f":"IF('Outil Recensement'!AA46>0,'Outil Recensement'!AA46,\"\")","v":""},{"$f":"IF('Outil Recensement'!E46>0,'Outil Recensement'!E46,\"\")","v":""},{"$f":"IF('Outil Recensement'!AK46>0,'Outil Recensement'!AK46,\"\")","v":""},{"$f":"IF('Outil Recensement'!AL46>0,'Outil Recensement'!AL46,\"\")","v":""},{"$f":"IF('Outil Recensement'!AM46>0,'Outil Recensement'!AM46,\"\")","v":""},{"$f":"IF('Outil Recensement'!AN46=\"Male\",\"Male\",IF('Outil Recensement'!AN46=\"Female\",\"Female\",IF('Outil Recensement'!AN46=\"M\",\"Male\",IF('Outil Recensement'!AN46=\"F\",\"Female\",\"\"))))","v":""},{"$f":"IF('Outil Recensement'!AO46=\"Single\",\"Single\",IF('Outil Recensement'!AO46=\"Family\",\"Family\",IF('Outil Recensement'!AO46=\"S\",\"Single\",IF('Outil Recensement'!AO46=\"F\",\"Family\",\"\"))))","v":""},{"$f":"IF('Outil Recensement'!AP46=\"Single\",\"Single\",IF('Outil Recensement'!AP46=\"Family\",\"Family\",IF('Outil Recensement'!AP46=\"S\",\"Single\",IF('Outil Recensement'!AP46=\"F\",\"Family\",\"\"))))","v":""},{"$f":"IF('Outil Recensement'!AQ46>0,'Outil Recensement'!AQ46,\"\")","v":""},{"$f":"IF('Outil Recensement'!AR46=\"Yes\",\"Yes\",IF('Outil Recensement'!AR46=\"No\",\"No\",IF('Outil Recensement'!AR46=\"Y\",\"Yes\",IF('Outil Recensement'!AR46=\"N\",\"No\",\"\"))))","v":""},{"$f":"IF('Outil Recensement'!AS46>0,'Outil Recensement'!AS46,\"\")","v":""},{"$f":"IF('Outil Recensement'!AT46>0,'Outil Recensement'!AT46,\"\")","v":""},{"$f":"IF('Outil Recensement'!AU46>0,'Outil Recensement'!AU46,\"\")","v":""},{"$f":"IF('Outil Recensement'!AV46=\"Male\",\"Male\",IF('Outil Recensement'!AV46=\"Female\",\"Female\",IF('Outil Recensement'!AV46=\"M\",\"Male\",IF('Outil Recensement'!AV46=\"F\",\"Female\",\"\"))))","v":""},{"$f":"IF('Outil Recensement'!AW46=\"Yes\",\"Yes\",IF('Outil Recensement'!AW46=\"No\",\"No\",IF('Outil Recensement'!AW46=\"Y\",\"Yes\",IF('Outil Recensement'!AW46=\"N\",\"No\",\"\"))))","v":""},{"$f":"IF('Outil Recensement'!AX46=\"Yes\",\"Yes\",IF('Outil Recensement'!AX46=\"No\",\"No\",IF('Outil Recensement'!AX46=\"Y\",\"Yes\",IF('Outil Recensement'!AX46=\"N\",\"No\",\"\"))))","v":""},{"$f":"IF('Outil Recensement'!AY46>0,'Outil Recensement'!AY46,\"\")","v":""},{"$f":"IF('Outil Recensement'!AZ46>0,'Outil Recensement'!AZ46,\"\")","v":""},{"$f":"IF('Outil Recensement'!BA46>0,'Outil Recensement'!BA46,\"\")","v":""},{"$f":"IF('Outil Recensement'!BB46=\"Male\",\"Male\",IF('Outil Recensement'!BB46=\"Female\",\"Female\",IF('Outil Recensement'!BB46=\"M\",\"Male\",IF('Outil Recensement'!BB46=\"F\",\"Female\",\"\"))))","v":""},{"$f":"IF('Outil Recensement'!BC46=\"Yes\",\"Yes\",IF('Outil Recensement'!BC46=\"No\",\"No\",IF('Outil Recensement'!BC46=\"Y\",\"Yes\",IF('Outil Recensement'!BC46=\"N\",\"No\",\"\"))))","v":""},{"$f":"IF('Outil Recensement'!BD46=\"Yes\",\"Yes\",IF('Outil Recensement'!BD46=\"No\",\"No\",IF('Outil Recensement'!BD46=\"Y\",\"Yes\",IF('Outil Recensement'!BD46=\"N\",\"No\",\"\"))))","v":""},{"$f":"IF('Outil Recensement'!BE46>0,'Outil Recensement'!BE46,\"\")","v":""},{"$f":"IF('Outil Recensement'!BF46>0,'Outil Recensement'!BF46,\"\")","v":""},{"$f":"IF('Outil Recensement'!BG46>0,'Outil Recensement'!BG46,\"\")","v":""},{"$f":"IF('Outil Recensement'!BH46=\"Male\",\"Male\",IF('Outil Recensement'!BH46=\"Female\",\"Female\",IF('Outil Recensement'!BH46=\"M\",\"Male\",IF('Outil Recensement'!BH46=\"F\",\"Female\",\"\"))))","v":""},{"$f":"IF('Outil Recensement'!BI46=\"Yes\",\"Yes\",IF('Outil Recensement'!BI46=\"No\",\"No\",IF('Outil Recensement'!BI46=\"Y\",\"Yes\",IF('Outil Recensement'!BI46=\"N\",\"No\",\"\"))))","v":""},{"$f":"IF('Outil Recensement'!BJ46=\"Yes\",\"Yes\",IF('Outil Recensement'!BJ46=\"No\",\"No\",IF('Outil Recensement'!BJ46=\"Y\",\"Yes\",IF('Outil Recensement'!BJ46=\"N\",\"No\",\"\"))))","v":""},{"$f":"IF('Outil Recensement'!BK46>0,'Outil Recensement'!BK46,\"\")","v":""},{"$f":"IF('Outil Recensement'!BL46>0,'Outil Recensement'!BL46,\"\")","v":""},{"$f":"IF('Outil Recensement'!BM46>0,'Outil Recensement'!BM46,\"\")","v":""},{"$f":"IF('Outil Recensement'!BN46=\"Male\",\"Male\",IF('Outil Recensement'!BN46=\"Female\",\"Female\",IF('Outil Recensement'!BN46=\"M\",\"Male\",IF('Outil Recensement'!BN46=\"F\",\"Female\",\"\"))))","v":""},{"$f":"IF('Outil Recensement'!BO46=\"Yes\",\"Yes\",IF('Outil Recensement'!BO46=\"No\",\"No\",IF('Outil Recensement'!BO46=\"Y\",\"Yes\",IF('Outil Recensement'!BO46=\"N\",\"No\",\"\"))))","v":""},{"$f":"IF('Outil Recensement'!BP46=\"Yes\",\"Yes\",IF('Outil Recensement'!BP46=\"No\",\"No\",IF('Outil Recensement'!BP46=\"Y\",\"Yes\",IF('Outil Recensement'!BP46=\"N\",\"No\",\"\"))))","v":""},{"$f":"IF('Outil Recensement'!BQ46>0,'Outil Recensement'!BQ46,\"\")","v":""},{"$f":"IF('Outil Recensement'!BR46>0,'Outil Recensement'!BR46,\"\")","v":""},{"$f":"IF('Outil Recensement'!BS46>0,'Outil Recensement'!BS46,\"\")","v":""},{"$f":"IF('Outil Recensement'!BT46=\"Male\",\"Male\",IF('Outil Recensement'!BT46=\"Female\",\"Female\",IF('Outil Recensement'!BT46=\"M\",\"Male\",IF('Outil Recensement'!BT46=\"F\",\"Female\",\"\"))))","v":""},{"$f":"IF('Outil Recensement'!BU46=\"Yes\",\"Yes\",IF('Outil Recensement'!BU46=\"No\",\"No\",IF('Outil Recensement'!BU46=\"Y\",\"Yes\",IF('Outil Recensement'!BU46=\"N\",\"No\",\"\"))))","v":""},{"$f":"IF('Outil Recensement'!BV46=\"Yes\",\"Yes\",IF('Outil Recensement'!BV46=\"No\",\"No\",IF('Outil Recensement'!BV46=\"Y\",\"Yes\",IF('Outil Recensement'!BV46=\"N\",\"No\",\"\"))))","v":""},{"$f":"IF('Outil Recensement'!BW46>0,'Outil Recensement'!BW46,\"\")","v":""},{"$f":"IF('Outil Recensement'!BX46>0,'Outil Recensement'!BX46,\"\")","v":""},{"$f":"IF('Outil Recensement'!BY46>0,'Outil Recensement'!BY46,\"\")","v":""},{"$f":"IF('Outil Recensement'!BZ46=\"Male\",\"Male\",IF('Outil Recensement'!BZ46=\"Female\",\"Female\",IF('Outil Recensement'!BZ46=\"M\",\"Male\",IF('Outil Recensement'!BZ46=\"F\",\"Female\",\"\"))))","v":""},{"$f":"IF('Outil Recensement'!CA46=\"Yes\",\"Yes\",IF('Outil Recensement'!CA46=\"No\",\"No\",IF('Outil Recensement'!CA46=\"Y\",\"Yes\",IF('Outil Recensement'!CA46=\"N\",\"No\",\"\"))))","v":""},{"$f":"IF('Outil Recensement'!CB46=\"Yes\",\"Yes\",IF('Outil Recensement'!CB46=\"No\",\"No\",IF('Outil Recensement'!CB46=\"Y\",\"Yes\",IF('Outil Recensement'!CB46=\"N\",\"No\",\"\"))))","v":""},{"$f":"IF('Outil Recensement'!CH46>0,'Outil Recensement'!CH46,\"\")","v":"    "}]
[{"$f":"IF('Outil Recensement'!A47>0,'Outil Recensement'!A47,\"\")","v":""},{"$f":"IF('Outil Recensement'!B47>0,'Outil Recensement'!B47,\"\")","v":""},{"$f":"IF('Outil Recensement'!C47>0,'Outil Recensement'!C47,\"\")","v":""},{"$f":"IF('Outil Recensement'!D47>0,'Outil Recensement'!D47,\"\")","v":""},{"$f":"IF('Outil Recensement'!P47>0,TEXT('Outil Recensement'!P47,\"000\"),\"\")","v":""},{"$f":"IF('Outil Recensement'!Q47>0,'Outil Recensement'!Q47,\"\")","v":""},{"$f":"IF('Outil Recensement'!R47>0,'Outil Recensement'!R47,\"\")","v":""},{"$f":"IF('Outil Recensement'!F47>0,DATEVALUE(TEXT('Outil Recensement'!F47,\"yyyy-mm-dd\")),\"\")","v":""},{"$f":"IF('Outil Recensement'!L47>0,DATEVALUE(TEXT('Outil Recensement'!L47,\"yyyy-mm-dd\")),\"\")","v":""},{"$f":"IF('Outil Recensement'!Y47>0,'Outil Recensement'!Y47,\"\")","v":""},{"$f":"IF('Outil Recensement'!T47>0,'Outil Recensement'!T47,\"\")","v":""},{"$f":"IF('Outil Recensement'!G47=\"Homme\",\"Male\",IF('Outil Recensement'!G47=\"Femme\",\"Female\",IF('Outil Recensement'!G47=\"H\",\"Male\",IF('Outil Recensement'!G47=\"F\",\"Female\",\"\"))))","v":""},{"$f":"IF('Outil Recensement'!U47=\"Yes\",\"Yes\",IF('Outil Recensement'!U47=\"No\",\"No\",IF('Outil Recensement'!U47=\"Y\",\"Yes\",IF('Outil Recensement'!U47=\"N\",\"No\",\"\"))))","v":""},{"$f":"IF('Outil Recensement'!I47=\"Individuelle\",\"Single\",IF('Outil Recensement'!I47=\"Familiale\",\"Family\",IF('Outil Recensement'!I47=\"Refus\",\"Family\",IF('Outil Recensement'!I47=\"Parent seul\",\"Family\",IF('Outil Recensement'!I47=\"Couple\",\"Family\",IF('Outil Recensement'!I47=\"In force\",\"Family\",IF('Outil Recensement'!I47=\"Applies\",\"Family\",IF('Outil Recensement'!I47=\"Applicable\",\"Family\",\"\"))))))))","v":""},{"$f":"IF('Outil Recensement'!AC47=\"Anglais\",\"English\",IF('Outil Recensement'!AC47=\"Français\",\"French\",IF('Outil Recensement'!AC47=\"A\",\"English\",IF('Outil Recensement'!AC47=\"F\",\"French\",\"\"))))","v":""},{"$f":"IF('Outil Recensement'!AB47=\"Oui\",\"Yes\",IF('Outil Recensement'!AB47=\"Non\",\"No\",IF('Outil Recensement'!AB47=\"O\",\"Yes\",IF('Outil Recensement'!AB47=\"N\",\"No\",\"\"))))","v":""},{"$f":"IF('Outil Recensement'!AD47>0,'Outil Recensement'!AD47,\"\")","v":""},{"$f":"IF('Outil Recensement'!M47=\"Annuel\",\"Annually\",IF('Outil Recensement'!M47=\"Mensuel\",\"Monthly\",IF('Outil Recensement'!M47=\"Bihebdomadaire\",\"Biweekly\",IF('Outil Recensement'!M47=\"Hebdomadaire\",\"Weekly\",IF('Outil Recensement'!M47=\"Horaire\",\"Hourly\",IF('Outil Recensement'!M47=\"Semi-mensuel\",\"Semi-monthly\",IF('Outil Recensement'!M47=\"Applies\",\"Annual\",IF('Outil Recensement'!M47=\"Applicable\",\"Annual\",\"\"))))))))","v":""},{"$f":"IF('Outil Recensement'!N47>0,'Outil Recensement'!N47,\"\")","v":""},{"$f":"IF('Outil Recensement'!O47>0,'Outil Recensement'!O47,\"\")","v":""},{"$f":"IF('Outil Recensement'!I47=\"Refus\",\"Yes\",\"\")","v":""},{"$f":"IF('Outil Recensement'!I47=\"Refus\",\"Yes\",\"\")","v":""},{"$f":"IF('Outil Recensement'!AE47>0,'Outil Recensement'!AE47,\"\")","v":""},{"$f":"IF('Outil Recensement'!AF47>0,'Outil Recensement'!AF47,\"\")","v":""},{"$f":"IF('Outil Recensement'!AG47>0,'Outil Recensement'!AG47,\"\")","v":""},{"$f":"IF('Outil Recensement'!AH47>0,'Outil Recensement'!AH47,\"\")","v":""},{"$f":"IF('Outil Recensement'!AI47>0,'Outil Recensement'!AI47,\"\")","v":" "},{"$f":"IF('Outil Recensement'!AJ47>0,'Outil Recensement'!AJ47,\"\")","v":" "},{"$f":"IF('Outil Recensement'!W47>0,'Outil Recensement'!W47&\" \",\"\")&IF('Outil Recensement'!V47>0,'Outil Recensement'!V47,\"\")","v":""},null,{"$f":"IF('Outil Recensement'!X47>0,'Outil Recensement'!X47,\"\")","v":""},{"$f":"IF('Outil Recensement'!Y47>0,'Outil Recensement'!Y47,\"\")","v":""},{"$f":"IF('Outil Recensement'!Z47>0,'Outil Recensement'!Z47,\"\")","v":""},{"$f":"IF('Outil Recensement'!AA47>0,'Outil Recensement'!AA47,\"\")","v":""},{"$f":"IF('Outil Recensement'!E47>0,'Outil Recensement'!E47,\"\")","v":""},{"$f":"IF('Outil Recensement'!AK47>0,'Outil Recensement'!AK47,\"\")","v":""},{"$f":"IF('Outil Recensement'!AL47>0,'Outil Recensement'!AL47,\"\")","v":""},{"$f":"IF('Outil Recensement'!AM47>0,'Outil Recensement'!AM47,\"\")","v":""},{"$f":"IF('Outil Recensement'!AN47=\"Male\",\"Male\",IF('Outil Recensement'!AN47=\"Female\",\"Female\",IF('Outil Recensement'!AN47=\"M\",\"Male\",IF('Outil Recensement'!AN47=\"F\",\"Female\",\"\"))))","v":""},{"$f":"IF('Outil Recensement'!AO47=\"Single\",\"Single\",IF('Outil Recensement'!AO47=\"Family\",\"Family\",IF('Outil Recensement'!AO47=\"S\",\"Single\",IF('Outil Recensement'!AO47=\"F\",\"Family\",\"\"))))","v":""},{"$f":"IF('Outil Recensement'!AP47=\"Single\",\"Single\",IF('Outil Recensement'!AP47=\"Family\",\"Family\",IF('Outil Recensement'!AP47=\"S\",\"Single\",IF('Outil Recensement'!AP47=\"F\",\"Family\",\"\"))))","v":""},{"$f":"IF('Outil Recensement'!AQ47>0,'Outil Recensement'!AQ47,\"\")","v":""},{"$f":"IF('Outil Recensement'!AR47=\"Yes\",\"Yes\",IF('Outil Recensement'!AR47=\"No\",\"No\",IF('Outil Recensement'!AR47=\"Y\",\"Yes\",IF('Outil Recensement'!AR47=\"N\",\"No\",\"\"))))","v":""},{"$f":"IF('Outil Recensement'!AS47>0,'Outil Recensement'!AS47,\"\")","v":""},{"$f":"IF('Outil Recensement'!AT47>0,'Outil Recensement'!AT47,\"\")","v":""},{"$f":"IF('Outil Recensement'!AU47>0,'Outil Recensement'!AU47,\"\")","v":""},{"$f":"IF('Outil Recensement'!AV47=\"Male\",\"Male\",IF('Outil Recensement'!AV47=\"Female\",\"Female\",IF('Outil Recensement'!AV47=\"M\",\"Male\",IF('Outil Recensement'!AV47=\"F\",\"Female\",\"\"))))","v":""},{"$f":"IF('Outil Recensement'!AW47=\"Yes\",\"Yes\",IF('Outil Recensement'!AW47=\"No\",\"No\",IF('Outil Recensement'!AW47=\"Y\",\"Yes\",IF('Outil Recensement'!AW47=\"N\",\"No\",\"\"))))","v":""},{"$f":"IF('Outil Recensement'!AX47=\"Yes\",\"Yes\",IF('Outil Recensement'!AX47=\"No\",\"No\",IF('Outil Recensement'!AX47=\"Y\",\"Yes\",IF('Outil Recensement'!AX47=\"N\",\"No\",\"\"))))","v":""},{"$f":"IF('Outil Recensement'!AY47>0,'Outil Recensement'!AY47,\"\")","v":""},{"$f":"IF('Outil Recensement'!AZ47>0,'Outil Recensement'!AZ47,\"\")","v":""},{"$f":"IF('Outil Recensement'!BA47>0,'Outil Recensement'!BA47,\"\")","v":""},{"$f":"IF('Outil Recensement'!BB47=\"Male\",\"Male\",IF('Outil Recensement'!BB47=\"Female\",\"Female\",IF('Outil Recensement'!BB47=\"M\",\"Male\",IF('Outil Recensement'!BB47=\"F\",\"Female\",\"\"))))","v":""},{"$f":"IF('Outil Recensement'!BC47=\"Yes\",\"Yes\",IF('Outil Recensement'!BC47=\"No\",\"No\",IF('Outil Recensement'!BC47=\"Y\",\"Yes\",IF('Outil Recensement'!BC47=\"N\",\"No\",\"\"))))","v":""},{"$f":"IF('Outil Recensement'!BD47=\"Yes\",\"Yes\",IF('Outil Recensement'!BD47=\"No\",\"No\",IF('Outil Recensement'!BD47=\"Y\",\"Yes\",IF('Outil Recensement'!BD47=\"N\",\"No\",\"\"))))","v":""},{"$f":"IF('Outil Recensement'!BE47>0,'Outil Recensement'!BE47,\"\")","v":""},{"$f":"IF('Outil Recensement'!BF47>0,'Outil Recensement'!BF47,\"\")","v":""},{"$f":"IF('Outil Recensement'!BG47>0,'Outil Recensement'!BG47,\"\")","v":""},{"$f":"IF('Outil Recensement'!BH47=\"Male\",\"Male\",IF('Outil Recensement'!BH47=\"Female\",\"Female\",IF('Outil Recensement'!BH47=\"M\",\"Male\",IF('Outil Recensement'!BH47=\"F\",\"Female\",\"\"))))","v":""},{"$f":"IF('Outil Recensement'!BI47=\"Yes\",\"Yes\",IF('Outil Recensement'!BI47=\"No\",\"No\",IF('Outil Recensement'!BI47=\"Y\",\"Yes\",IF('Outil Recensement'!BI47=\"N\",\"No\",\"\"))))","v":""},{"$f":"IF('Outil Recensement'!BJ47=\"Yes\",\"Yes\",IF('Outil Recensement'!BJ47=\"No\",\"No\",IF('Outil Recensement'!BJ47=\"Y\",\"Yes\",IF('Outil Recensement'!BJ47=\"N\",\"No\",\"\"))))","v":""},{"$f":"IF('Outil Recensement'!BK47>0,'Outil Recensement'!BK47,\"\")","v":""},{"$f":"IF('Outil Recensement'!BL47>0,'Outil Recensement'!BL47,\"\")","v":""},{"$f":"IF('Outil Recensement'!BM47>0,'Outil Recensement'!BM47,\"\")","v":""},{"$f":"IF('Outil Recensement'!BN47=\"Male\",\"Male\",IF('Outil Recensement'!BN47=\"Female\",\"Female\",IF('Outil Recensement'!BN47=\"M\",\"Male\",IF('Outil Recensement'!BN47=\"F\",\"Female\",\"\"))))","v":""},{"$f":"IF('Outil Recensement'!BO47=\"Yes\",\"Yes\",IF('Outil Recensement'!BO47=\"No\",\"No\",IF('Outil Recensement'!BO47=\"Y\",\"Yes\",IF('Outil Recensement'!BO47=\"N\",\"No\",\"\"))))","v":""},{"$f":"IF('Outil Recensement'!BP47=\"Yes\",\"Yes\",IF('Outil Recensement'!BP47=\"No\",\"No\",IF('Outil Recensement'!BP47=\"Y\",\"Yes\",IF('Outil Recensement'!BP47=\"N\",\"No\",\"\"))))","v":""},{"$f":"IF('Outil Recensement'!BQ47>0,'Outil Recensement'!BQ47,\"\")","v":""},{"$f":"IF('Outil Recensement'!BR47>0,'Outil Recensement'!BR47,\"\")","v":""},{"$f":"IF('Outil Recensement'!BS47>0,'Outil Recensement'!BS47,\"\")","v":""},{"$f":"IF('Outil Recensement'!BT47=\"Male\",\"Male\",IF('Outil Recensement'!BT47=\"Female\",\"Female\",IF('Outil Recensement'!BT47=\"M\",\"Male\",IF('Outil Recensement'!BT47=\"F\",\"Female\",\"\"))))","v":""},{"$f":"IF('Outil Recensement'!BU47=\"Yes\",\"Yes\",IF('Outil Recensement'!BU47=\"No\",\"No\",IF('Outil Recensement'!BU47=\"Y\",\"Yes\",IF('Outil Recensement'!BU47=\"N\",\"No\",\"\"))))","v":""},{"$f":"IF('Outil Recensement'!BV47=\"Yes\",\"Yes\",IF('Outil Recensement'!BV47=\"No\",\"No\",IF('Outil Recensement'!BV47=\"Y\",\"Yes\",IF('Outil Recensement'!BV47=\"N\",\"No\",\"\"))))","v":""},{"$f":"IF('Outil Recensement'!BW47>0,'Outil Recensement'!BW47,\"\")","v":""},{"$f":"IF('Outil Recensement'!BX47>0,'Outil Recensement'!BX47,\"\")","v":""},{"$f":"IF('Outil Recensement'!BY47>0,'Outil Recensement'!BY47,\"\")","v":""},{"$f":"IF('Outil Recensement'!BZ47=\"Male\",\"Male\",IF('Outil Recensement'!BZ47=\"Female\",\"Female\",IF('Outil Recensement'!BZ47=\"M\",\"Male\",IF('Outil Recensement'!BZ47=\"F\",\"Female\",\"\"))))","v":""},{"$f":"IF('Outil Recensement'!CA47=\"Yes\",\"Yes\",IF('Outil Recensement'!CA47=\"No\",\"No\",IF('Outil Recensement'!CA47=\"Y\",\"Yes\",IF('Outil Recensement'!CA47=\"N\",\"No\",\"\"))))","v":""},{"$f":"IF('Outil Recensement'!CB47=\"Yes\",\"Yes\",IF('Outil Recensement'!CB47=\"No\",\"No\",IF('Outil Recensement'!CB47=\"Y\",\"Yes\",IF('Outil Recensement'!CB47=\"N\",\"No\",\"\"))))","v":""},{"$f":"IF('Outil Recensement'!CH47>0,'Outil Recensement'!CH47,\"\")","v":"    "}]
[{"$f":"IF('Outil Recensement'!A48>0,'Outil Recensement'!A48,\"\")","v":""},{"$f":"IF('Outil Recensement'!B48>0,'Outil Recensement'!B48,\"\")","v":""},{"$f":"IF('Outil Recensement'!C48>0,'Outil Recensement'!C48,\"\")","v":""},{"$f":"IF('Outil Recensement'!D48>0,'Outil Recensement'!D48,\"\")","v":""},{"$f":"IF('Outil Recensement'!P48>0,TEXT('Outil Recensement'!P48,\"000\"),\"\")","v":""},{"$f":"IF('Outil Recensement'!Q48>0,'Outil Recensement'!Q48,\"\")","v":""},{"$f":"IF('Outil Recensement'!R48>0,'Outil Recensement'!R48,\"\")","v":""},{"$f":"IF('Outil Recensement'!F48>0,DATEVALUE(TEXT('Outil Recensement'!F48,\"yyyy-mm-dd\")),\"\")","v":""},{"$f":"IF('Outil Recensement'!L48>0,DATEVALUE(TEXT('Outil Recensement'!L48,\"yyyy-mm-dd\")),\"\")","v":""},{"$f":"IF('Outil Recensement'!Y48>0,'Outil Recensement'!Y48,\"\")","v":""},{"$f":"IF('Outil Recensement'!T48>0,'Outil Recensement'!T48,\"\")","v":""},{"$f":"IF('Outil Recensement'!G48=\"Homme\",\"Male\",IF('Outil Recensement'!G48=\"Femme\",\"Female\",IF('Outil Recensement'!G48=\"H\",\"Male\",IF('Outil Recensement'!G48=\"F\",\"Female\",\"\"))))","v":""},{"$f":"IF('Outil Recensement'!U48=\"Yes\",\"Yes\",IF('Outil Recensement'!U48=\"No\",\"No\",IF('Outil Recensement'!U48=\"Y\",\"Yes\",IF('Outil Recensement'!U48=\"N\",\"No\",\"\"))))","v":""},{"$f":"IF('Outil Recensement'!I48=\"Individuelle\",\"Single\",IF('Outil Recensement'!I48=\"Familiale\",\"Family\",IF('Outil Recensement'!I48=\"Refus\",\"Family\",IF('Outil Recensement'!I48=\"Parent seul\",\"Family\",IF('Outil Recensement'!I48=\"Couple\",\"Family\",IF('Outil Recensement'!I48=\"In force\",\"Family\",IF('Outil Recensement'!I48=\"Applies\",\"Family\",IF('Outil Recensement'!I48=\"Applicable\",\"Family\",\"\"))))))))","v":""},{"$f":"IF('Outil Recensement'!AC48=\"Anglais\",\"English\",IF('Outil Recensement'!AC48=\"Français\",\"French\",IF('Outil Recensement'!AC48=\"A\",\"English\",IF('Outil Recensement'!AC48=\"F\",\"French\",\"\"))))","v":""},{"$f":"IF('Outil Recensement'!AB48=\"Oui\",\"Yes\",IF('Outil Recensement'!AB48=\"Non\",\"No\",IF('Outil Recensement'!AB48=\"O\",\"Yes\",IF('Outil Recensement'!AB48=\"N\",\"No\",\"\"))))","v":""},{"$f":"IF('Outil Recensement'!AD48>0,'Outil Recensement'!AD48,\"\")","v":""},{"$f":"IF('Outil Recensement'!M48=\"Annuel\",\"Annually\",IF('Outil Recensement'!M48=\"Mensuel\",\"Monthly\",IF('Outil Recensement'!M48=\"Bihebdomadaire\",\"Biweekly\",IF('Outil Recensement'!M48=\"Hebdomadaire\",\"Weekly\",IF('Outil Recensement'!M48=\"Horaire\",\"Hourly\",IF('Outil Recensement'!M48=\"Semi-mensuel\",\"Semi-monthly\",IF('Outil Recensement'!M48=\"Applies\",\"Annual\",IF('Outil Recensement'!M48=\"Applicable\",\"Annual\",\"\"))))))))","v":""},{"$f":"IF('Outil Recensement'!N48>0,'Outil Recensement'!N48,\"\")","v":""},{"$f":"IF('Outil Recensement'!O48>0,'Outil Recensement'!O48,\"\")","v":""},{"$f":"IF('Outil Recensement'!I48=\"Refus\",\"Yes\",\"\")","v":""},{"$f":"IF('Outil Recensement'!I48=\"Refus\",\"Yes\",\"\")","v":""},{"$f":"IF('Outil Recensement'!AE48>0,'Outil Recensement'!AE48,\"\")","v":""},{"$f":"IF('Outil Recensement'!AF48>0,'Outil Recensement'!AF48,\"\")","v":""},{"$f":"IF('Outil Recensement'!AG48>0,'Outil Recensement'!AG48,\"\")","v":""},{"$f":"IF('Outil Recensement'!AH48>0,'Outil Recensement'!AH48,\"\")","v":""},{"$f":"IF('Outil Recensement'!AI48>0,'Outil Recensement'!AI48,\"\")","v":" "},{"$f":"IF('Outil Recensement'!AJ48>0,'Outil Recensement'!AJ48,\"\")","v":" "},{"$f":"IF('Outil Recensement'!W48>0,'Outil Recensement'!W48&\" \",\"\")&IF('Outil Recensement'!V48>0,'Outil Recensement'!V48,\"\")","v":""},null,{"$f":"IF('Outil Recensement'!X48>0,'Outil Recensement'!X48,\"\")","v":""},{"$f":"IF('Outil Recensement'!Y48>0,'Outil Recensement'!Y48,\"\")","v":""},{"$f":"IF('Outil Recensement'!Z48>0,'Outil Recensement'!Z48,\"\")","v":""},{"$f":"IF('Outil Recensement'!AA48>0,'Outil Recensement'!AA48,\"\")","v":""},{"$f":"IF('Outil Recensement'!E48>0,'Outil Recensement'!E48,\"\")","v":""},{"$f":"IF('Outil Recensement'!AK48>0,'Outil Recensement'!AK48,\"\")","v":""},{"$f":"IF('Outil Recensement'!AL48>0,'Outil Recensement'!AL48,\"\")","v":""},{"$f":"IF('Outil Recensement'!AM48>0,'Outil Recensement'!AM48,\"\")","v":""},{"$f":"IF('Outil Recensement'!AN48=\"Male\",\"Male\",IF('Outil Recensement'!AN48=\"Female\",\"Female\",IF('Outil Recensement'!AN48=\"M\",\"Male\",IF('Outil Recensement'!AN48=\"F\",\"Female\",\"\"))))","v":""},{"$f":"IF('Outil Recensement'!AO48=\"Single\",\"Single\",IF('Outil Recensement'!AO48=\"Family\",\"Family\",IF('Outil Recensement'!AO48=\"S\",\"Single\",IF('Outil Recensement'!AO48=\"F\",\"Family\",\"\"))))","v":""},{"$f":"IF('Outil Recensement'!AP48=\"Single\",\"Single\",IF('Outil Recensement'!AP48=\"Family\",\"Family\",IF('Outil Recensement'!AP48=\"S\",\"Single\",IF('Outil Recensement'!AP48=\"F\",\"Family\",\"\"))))","v":""},{"$f":"IF('Outil Recensement'!AQ48>0,'Outil Recensement'!AQ48,\"\")","v":""},{"$f":"IF('Outil Recensement'!AR48=\"Yes\",\"Yes\",IF('Outil Recensement'!AR48=\"No\",\"No\",IF('Outil Recensement'!AR48=\"Y\",\"Yes\",IF('Outil Recensement'!AR48=\"N\",\"No\",\"\"))))","v":""},{"$f":"IF('Outil Recensement'!AS48>0,'Outil Recensement'!AS48,\"\")","v":""},{"$f":"IF('Outil Recensement'!AT48>0,'Outil Recensement'!AT48,\"\")","v":""},{"$f":"IF('Outil Recensement'!AU48>0,'Outil Recensement'!AU48,\"\")","v":""},{"$f":"IF('Outil Recensement'!AV48=\"Male\",\"Male\",IF('Outil Recensement'!AV48=\"Female\",\"Female\",IF('Outil Recensement'!AV48=\"M\",\"Male\",IF('Outil Recensement'!AV48=\"F\",\"Female\",\"\"))))","v":""},{"$f":"IF('Outil Recensement'!AW48=\"Yes\",\"Yes\",IF('Outil Recensement'!AW48=\"No\",\"No\",IF('Outil Recensement'!AW48=\"Y\",\"Yes\",IF('Outil Recensement'!AW48=\"N\",\"No\",\"\"))))","v":""},{"$f":"IF('Outil Recensement'!AX48=\"Yes\",\"Yes\",IF('Outil Recensement'!AX48=\"No\",\"No\",IF('Outil Recensement'!AX48=\"Y\",\"Yes\",IF('Outil Recensement'!AX48=\"N\",\"No\",\"\"))))","v":""},{"$f":"IF('Outil Recensement'!AY48>0,'Outil Recensement'!AY48,\"\")","v":""},{"$f":"IF('Outil Recensement'!AZ48>0,'Outil Recensement'!AZ48,\"\")","v":""},{"$f":"IF('Outil Recensement'!BA48>0,'Outil Recensement'!BA48,\"\")","v":""},{"$f":"IF('Outil Recensement'!BB48=\"Male\",\"Male\",IF('Outil Recensement'!BB48=\"Female\",\"Female\",IF('Outil Recensement'!BB48=\"M\",\"Male\",IF('Outil Recensement'!BB48=\"F\",\"Female\",\"\"))))","v":""},{"$f":"IF('Outil Recensement'!BC48=\"Yes\",\"Yes\",IF('Outil Recensement'!BC48=\"No\",\"No\",IF('Outil Recensement'!BC48=\"Y\",\"Yes\",IF('Outil Recensement'!BC48=\"N\",\"No\",\"\"))))","v":""},{"$f":"IF('Outil Recensement'!BD48=\"Yes\",\"Yes\",IF('Outil Recensement'!BD48=\"No\",\"No\",IF('Outil Recensement'!BD48=\"Y\",\"Yes\",IF('Outil Recensement'!BD48=\"N\",\"No\",\"\"))))","v":""},{"$f":"IF('Outil Recensement'!BE48>0,'Outil Recensement'!BE48,\"\")","v":""},{"$f":"IF('Outil Recensement'!BF48>0,'Outil Recensement'!BF48,\"\")","v":""},{"$f":"IF('Outil Recensement'!BG48>0,'Outil Recensement'!BG48,\"\")","v":""},{"$f":"IF('Outil Recensement'!BH48=\"Male\",\"Male\",IF('Outil Recensement'!BH48=\"Female\",\"Female\",IF('Outil Recensement'!BH48=\"M\",\"Male\",IF('Outil Recensement'!BH48=\"F\",\"Female\",\"\"))))","v":""},{"$f":"IF('Outil Recensement'!BI48=\"Yes\",\"Yes\",IF('Outil Recensement'!BI48=\"No\",\"No\",IF('Outil Recensement'!BI48=\"Y\",\"Yes\",IF('Outil Recensement'!BI48=\"N\",\"No\",\"\"))))","v":""},{"$f":"IF('Outil Recensement'!BJ48=\"Yes\",\"Yes\",IF('Outil Recensement'!BJ48=\"No\",\"No\",IF('Outil Recensement'!BJ48=\"Y\",\"Yes\",IF('Outil Recensement'!BJ48=\"N\",\"No\",\"\"))))","v":""},{"$f":"IF('Outil Recensement'!BK48>0,'Outil Recensement'!BK48,\"\")","v":""},{"$f":"IF('Outil Recensement'!BL48>0,'Outil Recensement'!BL48,\"\")","v":""},{"$f":"IF('Outil Recensement'!BM48>0,'Outil Recensement'!BM48,\"\")","v":""},{"$f":"IF('Outil Recensement'!BN48=\"Male\",\"Male\",IF('Outil Recensement'!BN48=\"Female\",\"Female\",IF('Outil Recensement'!BN48=\"M\",\"Male\",IF('Outil Recensement'!BN48=\"F\",\"Female\",\"\"))))","v":""},{"$f":"IF('Outil Recensement'!BO48=\"Yes\",\"Yes\",IF('Outil Recensement'!BO48=\"No\",\"No\",IF('Outil Recensement'!BO48=\"Y\",\"Yes\",IF('Outil Recensement'!BO48=\"N\",\"No\",\"\"))))","v":""},{"$f":"IF('Outil Recensement'!BP48=\"Yes\",\"Yes\",IF('Outil Recensement'!BP48=\"No\",\"No\",IF('Outil Recensement'!BP48=\"Y\",\"Yes\",IF('Outil Recensement'!BP48=\"N\",\"No\",\"\"))))","v":""},{"$f":"IF('Outil Recensement'!BQ48>0,'Outil Recensement'!BQ48,\"\")","v":""},{"$f":"IF('Outil Recensement'!BR48>0,'Outil Recensement'!BR48,\"\")","v":""},{"$f":"IF('Outil Recensement'!BS48>0,'Outil Recensement'!BS48,\"\")","v":""},{"$f":"IF('Outil Recensement'!BT48=\"Male\",\"Male\",IF('Outil Recensement'!BT48=\"Female\",\"Female\",IF('Outil Recensement'!BT48=\"M\",\"Male\",IF('Outil Recensement'!BT48=\"F\",\"Female\",\"\"))))","v":""},{"$f":"IF('Outil Recensement'!BU48=\"Yes\",\"Yes\",IF('Outil Recensement'!BU48=\"No\",\"No\",IF('Outil Recensement'!BU48=\"Y\",\"Yes\",IF('Outil Recensement'!BU48=\"N\",\"No\",\"\"))))","v":""},{"$f":"IF('Outil Recensement'!BV48=\"Yes\",\"Yes\",IF('Outil Recensement'!BV48=\"No\",\"No\",IF('Outil Recensement'!BV48=\"Y\",\"Yes\",IF('Outil Recensement'!BV48=\"N\",\"No\",\"\"))))","v":""},{"$f":"IF('Outil Recensement'!BW48>0,'Outil Recensement'!BW48,\"\")","v":""},{"$f":"IF('Outil Recensement'!BX48>0,'Outil Recensement'!BX48,\"\")","v":""},{"$f":"IF('Outil Recensement'!BY48>0,'Outil Recensement'!BY48,\"\")","v":""},{"$f":"IF('Outil Recensement'!BZ48=\"Male\",\"Male\",IF('Outil Recensement'!BZ48=\"Female\",\"Female\",IF('Outil Recensement'!BZ48=\"M\",\"Male\",IF('Outil Recensement'!BZ48=\"F\",\"Female\",\"\"))))","v":""},{"$f":"IF('Outil Recensement'!CA48=\"Yes\",\"Yes\",IF('Outil Recensement'!CA48=\"No\",\"No\",IF('Outil Recensement'!CA48=\"Y\",\"Yes\",IF('Outil Recensement'!CA48=\"N\",\"No\",\"\"))))","v":""},{"$f":"IF('Outil Recensement'!CB48=\"Yes\",\"Yes\",IF('Outil Recensement'!CB48=\"No\",\"No\",IF('Outil Recensement'!CB48=\"Y\",\"Yes\",IF('Outil Recensement'!CB48=\"N\",\"No\",\"\"))))","v":""},{"$f":"IF('Outil Recensement'!CH48>0,'Outil Recensement'!CH48,\"\")","v":"    "}]
[{"$f":"IF('Outil Recensement'!A49>0,'Outil Recensement'!A49,\"\")","v":""},{"$f":"IF('Outil Recensement'!B49>0,'Outil Recensement'!B49,\"\")","v":""},{"$f":"IF('Outil Recensement'!C49>0,'Outil Recensement'!C49,\"\")","v":""},{"$f":"IF('Outil Recensement'!D49>0,'Outil Recensement'!D49,\"\")","v":""},{"$f":"IF('Outil Recensement'!P49>0,TEXT('Outil Recensement'!P49,\"000\"),\"\")","v":""},{"$f":"IF('Outil Recensement'!Q49>0,'Outil Recensement'!Q49,\"\")","v":""},{"$f":"IF('Outil Recensement'!R49>0,'Outil Recensement'!R49,\"\")","v":""},{"$f":"IF('Outil Recensement'!F49>0,DATEVALUE(TEXT('Outil Recensement'!F49,\"yyyy-mm-dd\")),\"\")","v":""},{"$f":"IF('Outil Recensement'!L49>0,DATEVALUE(TEXT('Outil Recensement'!L49,\"yyyy-mm-dd\")),\"\")","v":""},{"$f":"IF('Outil Recensement'!Y49>0,'Outil Recensement'!Y49,\"\")","v":""},{"$f":"IF('Outil Recensement'!T49>0,'Outil Recensement'!T49,\"\")","v":""},{"$f":"IF('Outil Recensement'!G49=\"Homme\",\"Male\",IF('Outil Recensement'!G49=\"Femme\",\"Female\",IF('Outil Recensement'!G49=\"H\",\"Male\",IF('Outil Recensement'!G49=\"F\",\"Female\",\"\"))))","v":""},{"$f":"IF('Outil Recensement'!U49=\"Yes\",\"Yes\",IF('Outil Recensement'!U49=\"No\",\"No\",IF('Outil Recensement'!U49=\"Y\",\"Yes\",IF('Outil Recensement'!U49=\"N\",\"No\",\"\"))))","v":""},{"$f":"IF('Outil Recensement'!I49=\"Individuelle\",\"Single\",IF('Outil Recensement'!I49=\"Familiale\",\"Family\",IF('Outil Recensement'!I49=\"Refus\",\"Family\",IF('Outil Recensement'!I49=\"Parent seul\",\"Family\",IF('Outil Recensement'!I49=\"Couple\",\"Family\",IF('Outil Recensement'!I49=\"In force\",\"Family\",IF('Outil Recensement'!I49=\"Applies\",\"Family\",IF('Outil Recensement'!I49=\"Applicable\",\"Family\",\"\"))))))))","v":""},{"$f":"IF('Outil Recensement'!AC49=\"Anglais\",\"English\",IF('Outil Recensement'!AC49=\"Français\",\"French\",IF('Outil Recensement'!AC49=\"A\",\"English\",IF('Outil Recensement'!AC49=\"F\",\"French\",\"\"))))","v":""},{"$f":"IF('Outil Recensement'!AB49=\"Oui\",\"Yes\",IF('Outil Recensement'!AB49=\"Non\",\"No\",IF('Outil Recensement'!AB49=\"O\",\"Yes\",IF('Outil Recensement'!AB49=\"N\",\"No\",\"\"))))","v":""},{"$f":"IF('Outil Recensement'!AD49>0,'Outil Recensement'!AD49,\"\")","v":""},{"$f":"IF('Outil Recensement'!M49=\"Annuel\",\"Annually\",IF('Outil Recensement'!M49=\"Mensuel\",\"Monthly\",IF('Outil Recensement'!M49=\"Bihebdomadaire\",\"Biweekly\",IF('Outil Recensement'!M49=\"Hebdomadaire\",\"Weekly\",IF('Outil Recensement'!M49=\"Horaire\",\"Hourly\",IF('Outil Recensement'!M49=\"Semi-mensuel\",\"Semi-monthly\",IF('Outil Recensement'!M49=\"Applies\",\"Annual\",IF('Outil Recensement'!M49=\"Applicable\",\"Annual\",\"\"))))))))","v":""},{"$f":"IF('Outil Recensement'!N49>0,'Outil Recensement'!N49,\"\")","v":""},{"$f":"IF('Outil Recensement'!O49>0,'Outil Recensement'!O49,\"\")","v":""},{"$f":"IF('Outil Recensement'!I49=\"Refus\",\"Yes\",\"\")","v":""},{"$f":"IF('Outil Recensement'!I49=\"Refus\",\"Yes\",\"\")","v":""},{"$f":"IF('Outil Recensement'!AE49>0,'Outil Recensement'!AE49,\"\")","v":""},{"$f":"IF('Outil Recensement'!AF49>0,'Outil Recensement'!AF49,\"\")","v":""},{"$f":"IF('Outil Recensement'!AG49>0,'Outil Recensement'!AG49,\"\")","v":""},{"$f":"IF('Outil Recensement'!AH49>0,'Outil Recensement'!AH49,\"\")","v":""},{"$f":"IF('Outil Recensement'!AI49>0,'Outil Recensement'!AI49,\"\")","v":" "},{"$f":"IF('Outil Recensement'!AJ49>0,'Outil Recensement'!AJ49,\"\")","v":" "},{"$f":"IF('Outil Recensement'!W49>0,'Outil Recensement'!W49&\" \",\"\")&IF('Outil Recensement'!V49>0,'Outil Recensement'!V49,\"\")","v":""},null,{"$f":"IF('Outil Recensement'!X49>0,'Outil Recensement'!X49,\"\")","v":""},{"$f":"IF('Outil Recensement'!Y49>0,'Outil Recensement'!Y49,\"\")","v":""},{"$f":"IF('Outil Recensement'!Z49>0,'Outil Recensement'!Z49,\"\")","v":""},{"$f":"IF('Outil Recensement'!AA49>0,'Outil Recensement'!AA49,\"\")","v":""},{"$f":"IF('Outil Recensement'!E49>0,'Outil Recensement'!E49,\"\")","v":""},{"$f":"IF('Outil Recensement'!AK49>0,'Outil Recensement'!AK49,\"\")","v":""},{"$f":"IF('Outil Recensement'!AL49>0,'Outil Recensement'!AL49,\"\")","v":""},{"$f":"IF('Outil Recensement'!AM49>0,'Outil Recensement'!AM49,\"\")","v":""},{"$f":"IF('Outil Recensement'!AN49=\"Male\",\"Male\",IF('Outil Recensement'!AN49=\"Female\",\"Female\",IF('Outil Recensement'!AN49=\"M\",\"Male\",IF('Outil Recensement'!AN49=\"F\",\"Female\",\"\"))))","v":""},{"$f":"IF('Outil Recensement'!AO49=\"Single\",\"Single\",IF('Outil Recensement'!AO49=\"Family\",\"Family\",IF('Outil Recensement'!AO49=\"S\",\"Single\",IF('Outil Recensement'!AO49=\"F\",\"Family\",\"\"))))","v":""},{"$f":"IF('Outil Recensement'!AP49=\"Single\",\"Single\",IF('Outil Recensement'!AP49=\"Family\",\"Family\",IF('Outil Recensement'!AP49=\"S\",\"Single\",IF('Outil Recensement'!AP49=\"F\",\"Family\",\"\"))))","v":""},{"$f":"IF('Outil Recensement'!AQ49>0,'Outil Recensement'!AQ49,\"\")","v":""},{"$f":"IF('Outil Recensement'!AR49=\"Yes\",\"Yes\",IF('Outil Recensement'!AR49=\"No\",\"No\",IF('Outil Recensement'!AR49=\"Y\",\"Yes\",IF('Outil Recensement'!AR49=\"N\",\"No\",\"\"))))","v":""},{"$f":"IF('Outil Recensement'!AS49>0,'Outil Recensement'!AS49,\"\")","v":""},{"$f":"IF('Outil Recensement'!AT49>0,'Outil Recensement'!AT49,\"\")","v":""},{"$f":"IF('Outil Recensement'!AU49>0,'Outil Recensement'!AU49,\"\")","v":""},{"$f":"IF('Outil Recensement'!AV49=\"Male\",\"Male\",IF('Outil Recensement'!AV49=\"Female\",\"Female\",IF('Outil Recensement'!AV49=\"M\",\"Male\",IF('Outil Recensement'!AV49=\"F\",\"Female\",\"\"))))","v":""},{"$f":"IF('Outil Recensement'!AW49=\"Yes\",\"Yes\",IF('Outil Recensement'!AW49=\"No\",\"No\",IF('Outil Recensement'!AW49=\"Y\",\"Yes\",IF('Outil Recensement'!AW49=\"N\",\"No\",\"\"))))","v":""},{"$f":"IF('Outil Recensement'!AX49=\"Yes\",\"Yes\",IF('Outil Recensement'!AX49=\"No\",\"No\",IF('Outil Recensement'!AX49=\"Y\",\"Yes\",IF('Outil Recensement'!AX49=\"N\",\"No\",\"\"))))","v":""},{"$f":"IF('Outil Recensement'!AY49>0,'Outil Recensement'!AY49,\"\")","v":""},{"$f":"IF('Outil Recensement'!AZ49>0,'Outil Recensement'!AZ49,\"\")","v":""},{"$f":"IF('Outil Recensement'!BA49>0,'Outil Recensement'!BA49,\"\")","v":""},{"$f":"IF('Outil Recensement'!BB49=\"Male\",\"Male\",IF('Outil Recensement'!BB49=\"Female\",\"Female\",IF('Outil Recensement'!BB49=\"M\",\"Male\",IF('Outil Recensement'!BB49=\"F\",\"Female\",\"\"))))","v":""},{"$f":"IF('Outil Recensement'!BC49=\"Yes\",\"Yes\",IF('Outil Recensement'!BC49=\"No\",\"No\",IF('Outil Recensement'!BC49=\"Y\",\"Yes\",IF('Outil Recensement'!BC49=\"N\",\"No\",\"\"))))","v":""},{"$f":"IF('Outil Recensement'!BD49=\"Yes\",\"Yes\",IF('Outil Recensement'!BD49=\"No\",\"No\",IF('Outil Recensement'!BD49=\"Y\",\"Yes\",IF('Outil Recensement'!BD49=\"N\",\"No\",\"\"))))","v":""},{"$f":"IF('Outil Recensement'!BE49>0,'Outil Recensement'!BE49,\"\")","v":""},{"$f":"IF('Outil Recensement'!BF49>0,'Outil Recensement'!BF49,\"\")","v":""},{"$f":"IF('Outil Recensement'!BG49>0,'Outil Recensement'!BG49,\"\")","v":""},{"$f":"IF('Outil Recensement'!BH49=\"Male\",\"Male\",IF('Outil Recensement'!BH49=\"Female\",\"Female\",IF('Outil Recensement'!BH49=\"M\",\"Male\",IF('Outil Recensement'!BH49=\"F\",\"Female\",\"\"))))","v":""},{"$f":"IF('Outil Recensement'!BI49=\"Yes\",\"Yes\",IF('Outil Recensement'!BI49=\"No\",\"No\",IF('Outil Recensement'!BI49=\"Y\",\"Yes\",IF('Outil Recensement'!BI49=\"N\",\"No\",\"\"))))","v":""},{"$f":"IF('Outil Recensement'!BJ49=\"Yes\",\"Yes\",IF('Outil Recensement'!BJ49=\"No\",\"No\",IF('Outil Recensement'!BJ49=\"Y\",\"Yes\",IF('Outil Recensement'!BJ49=\"N\",\"No\",\"\"))))","v":""},{"$f":"IF('Outil Recensement'!BK49>0,'Outil Recensement'!BK49,\"\")","v":""},{"$f":"IF('Outil Recensement'!BL49>0,'Outil Recensement'!BL49,\"\")","v":""},{"$f":"IF('Outil Recensement'!BM49>0,'Outil Recensement'!BM49,\"\")","v":""},{"$f":"IF('Outil Recensement'!BN49=\"Male\",\"Male\",IF('Outil Recensement'!BN49=\"Female\",\"Female\",IF('Outil Recensement'!BN49=\"M\",\"Male\",IF('Outil Recensement'!BN49=\"F\",\"Female\",\"\"))))","v":""},{"$f":"IF('Outil Recensement'!BO49=\"Yes\",\"Yes\",IF('Outil Recensement'!BO49=\"No\",\"No\",IF('Outil Recensement'!BO49=\"Y\",\"Yes\",IF('Outil Recensement'!BO49=\"N\",\"No\",\"\"))))","v":""},{"$f":"IF('Outil Recensement'!BP49=\"Yes\",\"Yes\",IF('Outil Recensement'!BP49=\"No\",\"No\",IF('Outil Recensement'!BP49=\"Y\",\"Yes\",IF('Outil Recensement'!BP49=\"N\",\"No\",\"\"))))","v":""},{"$f":"IF('Outil Recensement'!BQ49>0,'Outil Recensement'!BQ49,\"\")","v":""},{"$f":"IF('Outil Recensement'!BR49>0,'Outil Recensement'!BR49,\"\")","v":""},{"$f":"IF('Outil Recensement'!BS49>0,'Outil Recensement'!BS49,\"\")","v":""},{"$f":"IF('Outil Recensement'!BT49=\"Male\",\"Male\",IF('Outil Recensement'!BT49=\"Female\",\"Female\",IF('Outil Recensement'!BT49=\"M\",\"Male\",IF('Outil Recensement'!BT49=\"F\",\"Female\",\"\"))))","v":""},{"$f":"IF('Outil Recensement'!BU49=\"Yes\",\"Yes\",IF('Outil Recensement'!BU49=\"No\",\"No\",IF('Outil Recensement'!BU49=\"Y\",\"Yes\",IF('Outil Recensement'!BU49=\"N\",\"No\",\"\"))))","v":""},{"$f":"IF('Outil Recensement'!BV49=\"Yes\",\"Yes\",IF('Outil Recensement'!BV49=\"No\",\"No\",IF('Outil Recensement'!BV49=\"Y\",\"Yes\",IF('Outil Recensement'!BV49=\"N\",\"No\",\"\"))))","v":""},{"$f":"IF('Outil Recensement'!BW49>0,'Outil Recensement'!BW49,\"\")","v":""},{"$f":"IF('Outil Recensement'!BX49>0,'Outil Recensement'!BX49,\"\")","v":""},{"$f":"IF('Outil Recensement'!BY49>0,'Outil Recensement'!BY49,\"\")","v":""},{"$f":"IF('Outil Recensement'!BZ49=\"Male\",\"Male\",IF('Outil Recensement'!BZ49=\"Female\",\"Female\",IF('Outil Recensement'!BZ49=\"M\",\"Male\",IF('Outil Recensement'!BZ49=\"F\",\"Female\",\"\"))))","v":""},{"$f":"IF('Outil Recensement'!CA49=\"Yes\",\"Yes\",IF('Outil Recensement'!CA49=\"No\",\"No\",IF('Outil Recensement'!CA49=\"Y\",\"Yes\",IF('Outil Recensement'!CA49=\"N\",\"No\",\"\"))))","v":""},{"$f":"IF('Outil Recensement'!CB49=\"Yes\",\"Yes\",IF('Outil Recensement'!CB49=\"No\",\"No\",IF('Outil Recensement'!CB49=\"Y\",\"Yes\",IF('Outil Recensement'!CB49=\"N\",\"No\",\"\"))))","v":""},{"$f":"IF('Outil Recensement'!CH49>0,'Outil Recensement'!CH49,\"\")","v":"    "}]
[{"$f":"IF('Outil Recensement'!A50>0,'Outil Recensement'!A50,\"\")","v":""},{"$f":"IF('Outil Recensement'!B50>0,'Outil Recensement'!B50,\"\")","v":""},{"$f":"IF('Outil Recensement'!C50>0,'Outil Recensement'!C50,\"\")","v":""},{"$f":"IF('Outil Recensement'!D50>0,'Outil Recensement'!D50,\"\")","v":""},{"$f":"IF('Outil Recensement'!P50>0,TEXT('Outil Recensement'!P50,\"000\"),\"\")","v":""},{"$f":"IF('Outil Recensement'!Q50>0,'Outil Recensement'!Q50,\"\")","v":""},{"$f":"IF('Outil Recensement'!R50>0,'Outil Recensement'!R50,\"\")","v":""},{"$f":"IF('Outil Recensement'!F50>0,DATEVALUE(TEXT('Outil Recensement'!F50,\"yyyy-mm-dd\")),\"\")","v":""},{"$f":"IF('Outil Recensement'!L50>0,DATEVALUE(TEXT('Outil Recensement'!L50,\"yyyy-mm-dd\")),\"\")","v":""},{"$f":"IF('Outil Recensement'!Y50>0,'Outil Recensement'!Y50,\"\")","v":""},{"$f":"IF('Outil Recensement'!T50>0,'Outil Recensement'!T50,\"\")","v":""},{"$f":"IF('Outil Recensement'!G50=\"Homme\",\"Male\",IF('Outil Recensement'!G50=\"Femme\",\"Female\",IF('Outil Recensement'!G50=\"H\",\"Male\",IF('Outil Recensement'!G50=\"F\",\"Female\",\"\"))))","v":""},{"$f":"IF('Outil Recensement'!U50=\"Yes\",\"Yes\",IF('Outil Recensement'!U50=\"No\",\"No\",IF('Outil Recensement'!U50=\"Y\",\"Yes\",IF('Outil Recensement'!U50=\"N\",\"No\",\"\"))))","v":""},{"$f":"IF('Outil Recensement'!I50=\"Individuelle\",\"Single\",IF('Outil Recensement'!I50=\"Familiale\",\"Family\",IF('Outil Recensement'!I50=\"Refus\",\"Family\",IF('Outil Recensement'!I50=\"Parent seul\",\"Family\",IF('Outil Recensement'!I50=\"Couple\",\"Family\",IF('Outil Recensement'!I50=\"In force\",\"Family\",IF('Outil Recensement'!I50=\"Applies\",\"Family\",IF('Outil Recensement'!I50=\"Applicable\",\"Family\",\"\"))))))))","v":""},{"$f":"IF('Outil Recensement'!AC50=\"Anglais\",\"English\",IF('Outil Recensement'!AC50=\"Français\",\"French\",IF('Outil Recensement'!AC50=\"A\",\"English\",IF('Outil Recensement'!AC50=\"F\",\"French\",\"\"))))","v":""},{"$f":"IF('Outil Recensement'!AB50=\"Oui\",\"Yes\",IF('Outil Recensement'!AB50=\"Non\",\"No\",IF('Outil Recensement'!AB50=\"O\",\"Yes\",IF('Outil Recensement'!AB50=\"N\",\"No\",\"\"))))","v":""},{"$f":"IF('Outil Recensement'!AD50>0,'Outil Recensement'!AD50,\"\")","v":""},{"$f":"IF('Outil Recensement'!M50=\"Annuel\",\"Annually\",IF('Outil Recensement'!M50=\"Mensuel\",\"Monthly\",IF('Outil Recensement'!M50=\"Bihebdomadaire\",\"Biweekly\",IF('Outil Recensement'!M50=\"Hebdomadaire\",\"Weekly\",IF('Outil Recensement'!M50=\"Horaire\",\"Hourly\",IF('Outil Recensement'!M50=\"Semi-mensuel\",\"Semi-monthly\",IF('Outil Recensement'!M50=\"Applies\",\"Annual\",IF('Outil Recensement'!M50=\"Applicable\",\"Annual\",\"\"))))))))","v":""},{"$f":"IF('Outil Recensement'!N50>0,'Outil Recensement'!N50,\"\")","v":""},{"$f":"IF('Outil Recensement'!O50>0,'Outil Recensement'!O50,\"\")","v":""},{"$f":"IF('Outil Recensement'!I50=\"Refus\",\"Yes\",\"\")","v":""},{"$f":"IF('Outil Recensement'!I50=\"Refus\",\"Yes\",\"\")","v":""},{"$f":"IF('Outil Recensement'!AE50>0,'Outil Recensement'!AE50,\"\")","v":""},{"$f":"IF('Outil Recensement'!AF50>0,'Outil Recensement'!AF50,\"\")","v":""},{"$f":"IF('Outil Recensement'!AG50>0,'Outil Recensement'!AG50,\"\")","v":""},{"$f":"IF('Outil Recensement'!AH50>0,'Outil Recensement'!AH50,\"\")","v":""},{"$f":"IF('Outil Recensement'!AI50>0,'Outil Recensement'!AI50,\"\")","v":" "},{"$f":"IF('Outil Recensement'!AJ50>0,'Outil Recensement'!AJ50,\"\")","v":" "},{"$f":"IF('Outil Recensement'!W50>0,'Outil Recensement'!W50&\" \",\"\")&IF('Outil Recensement'!V50>0,'Outil Recensement'!V50,\"\")","v":""},null,{"$f":"IF('Outil Recensement'!X50>0,'Outil Recensement'!X50,\"\")","v":""},{"$f":"IF('Outil Recensement'!Y50>0,'Outil Recensement'!Y50,\"\")","v":""},{"$f":"IF('Outil Recensement'!Z50>0,'Outil Recensement'!Z50,\"\")","v":""},{"$f":"IF('Outil Recensement'!AA50>0,'Outil Recensement'!AA50,\"\")","v":""},{"$f":"IF('Outil Recensement'!E50>0,'Outil Recensement'!E50,\"\")","v":""},{"$f":"IF('Outil Recensement'!AK50>0,'Outil Recensement'!AK50,\"\")","v":""},{"$f":"IF('Outil Recensement'!AL50>0,'Outil Recensement'!AL50,\"\")","v":""},{"$f":"IF('Outil Recensement'!AM50>0,'Outil Recensement'!AM50,\"\")","v":""},{"$f":"IF('Outil Recensement'!AN50=\"Male\",\"Male\",IF('Outil Recensement'!AN50=\"Female\",\"Female\",IF('Outil Recensement'!AN50=\"M\",\"Male\",IF('Outil Recensement'!AN50=\"F\",\"Female\",\"\"))))","v":""},{"$f":"IF('Outil Recensement'!AO50=\"Single\",\"Single\",IF('Outil Recensement'!AO50=\"Family\",\"Family\",IF('Outil Recensement'!AO50=\"S\",\"Single\",IF('Outil Recensement'!AO50=\"F\",\"Family\",\"\"))))","v":""},{"$f":"IF('Outil Recensement'!AP50=\"Single\",\"Single\",IF('Outil Recensement'!AP50=\"Family\",\"Family\",IF('Outil Recensement'!AP50=\"S\",\"Single\",IF('Outil Recensement'!AP50=\"F\",\"Family\",\"\"))))","v":""},{"$f":"IF('Outil Recensement'!AQ50>0,'Outil Recensement'!AQ50,\"\")","v":""},{"$f":"IF('Outil Recensement'!AR50=\"Yes\",\"Yes\",IF('Outil Recensement'!AR50=\"No\",\"No\",IF('Outil Recensement'!AR50=\"Y\",\"Yes\",IF('Outil Recensement'!AR50=\"N\",\"No\",\"\"))))","v":""},{"$f":"IF('Outil Recensement'!AS50>0,'Outil Recensement'!AS50,\"\")","v":""},{"$f":"IF('Outil Recensement'!AT50>0,'Outil Recensement'!AT50,\"\")","v":""},{"$f":"IF('Outil Recensement'!AU50>0,'Outil Recensement'!AU50,\"\")","v":""},{"$f":"IF('Outil Recensement'!AV50=\"Male\",\"Male\",IF('Outil Recensement'!AV50=\"Female\",\"Female\",IF('Outil Recensement'!AV50=\"M\",\"Male\",IF('Outil Recensement'!AV50=\"F\",\"Female\",\"\"))))","v":""},{"$f":"IF('Outil Recensement'!AW50=\"Yes\",\"Yes\",IF('Outil Recensement'!AW50=\"No\",\"No\",IF('Outil Recensement'!AW50=\"Y\",\"Yes\",IF('Outil Recensement'!AW50=\"N\",\"No\",\"\"))))","v":""},{"$f":"IF('Outil Recensement'!AX50=\"Yes\",\"Yes\",IF('Outil Recensement'!AX50=\"No\",\"No\",IF('Outil Recensement'!AX50=\"Y\",\"Yes\",IF('Outil Recensement'!AX50=\"N\",\"No\",\"\"))))","v":""},{"$f":"IF('Outil Recensement'!AY50>0,'Outil Recensement'!AY50,\"\")","v":""},{"$f":"IF('Outil Recensement'!AZ50>0,'Outil Recensement'!AZ50,\"\")","v":""},{"$f":"IF('Outil Recensement'!BA50>0,'Outil Recensement'!BA50,\"\")","v":""},{"$f":"IF('Outil Recensement'!BB50=\"Male\",\"Male\",IF('Outil Recensement'!BB50=\"Female\",\"Female\",IF('Outil Recensement'!BB50=\"M\",\"Male\",IF('Outil Recensement'!BB50=\"F\",\"Female\",\"\"))))","v":""},{"$f":"IF('Outil Recensement'!BC50=\"Yes\",\"Yes\",IF('Outil Recensement'!BC50=\"No\",\"No\",IF('Outil Recensement'!BC50=\"Y\",\"Yes\",IF('Outil Recensement'!BC50=\"N\",\"No\",\"\"))))","v":""},{"$f":"IF('Outil Recensement'!BD50=\"Yes\",\"Yes\",IF('Outil Recensement'!BD50=\"No\",\"No\",IF('Outil Recensement'!BD50=\"Y\",\"Yes\",IF('Outil Recensement'!BD50=\"N\",\"No\",\"\"))))","v":""},{"$f":"IF('Outil Recensement'!BE50>0,'Outil Recensement'!BE50,\"\")","v":""},{"$f":"IF('Outil Recensement'!BF50>0,'Outil Recensement'!BF50,\"\")","v":""},{"$f":"IF('Outil Recensement'!BG50>0,'Outil Recensement'!BG50,\"\")","v":""},{"$f":"IF('Outil Recensement'!BH50=\"Male\",\"Male\",IF('Outil Recensement'!BH50=\"Female\",\"Female\",IF('Outil Recensement'!BH50=\"M\",\"Male\",IF('Outil Recensement'!BH50=\"F\",\"Female\",\"\"))))","v":""},{"$f":"IF('Outil Recensement'!BI50=\"Yes\",\"Yes\",IF('Outil Recensement'!BI50=\"No\",\"No\",IF('Outil Recensement'!BI50=\"Y\",\"Yes\",IF('Outil Recensement'!BI50=\"N\",\"No\",\"\"))))","v":""},{"$f":"IF('Outil Recensement'!BJ50=\"Yes\",\"Yes\",IF('Outil Recensement'!BJ50=\"No\",\"No\",IF('Outil Recensement'!BJ50=\"Y\",\"Yes\",IF('Outil Recensement'!BJ50=\"N\",\"No\",\"\"))))","v":""},{"$f":"IF('Outil Recensement'!BK50>0,'Outil Recensement'!BK50,\"\")","v":""},{"$f":"IF('Outil Recensement'!BL50>0,'Outil Recensement'!BL50,\"\")","v":""},{"$f":"IF('Outil Recensement'!BM50>0,'Outil Recensement'!BM50,\"\")","v":""},{"$f":"IF('Outil Recensement'!BN50=\"Male\",\"Male\",IF('Outil Recensement'!BN50=\"Female\",\"Female\",IF('Outil Recensement'!BN50=\"M\",\"Male\",IF('Outil Recensement'!BN50=\"F\",\"Female\",\"\"))))","v":""},{"$f":"IF('Outil Recensement'!BO50=\"Yes\",\"Yes\",IF('Outil Recensement'!BO50=\"No\",\"No\",IF('Outil Recensement'!BO50=\"Y\",\"Yes\",IF('Outil Recensement'!BO50=\"N\",\"No\",\"\"))))","v":""},{"$f":"IF('Outil Recensement'!BP50=\"Yes\",\"Yes\",IF('Outil Recensement'!BP50=\"No\",\"No\",IF('Outil Recensement'!BP50=\"Y\",\"Yes\",IF('Outil Recensement'!BP50=\"N\",\"No\",\"\"))))","v":""},{"$f":"IF('Outil Recensement'!BQ50>0,'Outil Recensement'!BQ50,\"\")","v":""},{"$f":"IF('Outil Recensement'!BR50>0,'Outil Recensement'!BR50,\"\")","v":""},{"$f":"IF('Outil Recensement'!BS50>0,'Outil Recensement'!BS50,\"\")","v":""},{"$f":"IF('Outil Recensement'!BT50=\"Male\",\"Male\",IF('Outil Recensement'!BT50=\"Female\",\"Female\",IF('Outil Recensement'!BT50=\"M\",\"Male\",IF('Outil Recensement'!BT50=\"F\",\"Female\",\"\"))))","v":""},{"$f":"IF('Outil Recensement'!BU50=\"Yes\",\"Yes\",IF('Outil Recensement'!BU50=\"No\",\"No\",IF('Outil Recensement'!BU50=\"Y\",\"Yes\",IF('Outil Recensement'!BU50=\"N\",\"No\",\"\"))))","v":""},{"$f":"IF('Outil Recensement'!BV50=\"Yes\",\"Yes\",IF('Outil Recensement'!BV50=\"No\",\"No\",IF('Outil Recensement'!BV50=\"Y\",\"Yes\",IF('Outil Recensement'!BV50=\"N\",\"No\",\"\"))))","v":""},{"$f":"IF('Outil Recensement'!BW50>0,'Outil Recensement'!BW50,\"\")","v":""},{"$f":"IF('Outil Recensement'!BX50>0,'Outil Recensement'!BX50,\"\")","v":""},{"$f":"IF('Outil Recensement'!BY50>0,'Outil Recensement'!BY50,\"\")","v":""},{"$f":"IF('Outil Recensement'!BZ50=\"Male\",\"Male\",IF('Outil Recensement'!BZ50=\"Female\",\"Female\",IF('Outil Recensement'!BZ50=\"M\",\"Male\",IF('Outil Recensement'!BZ50=\"F\",\"Female\",\"\"))))","v":""},{"$f":"IF('Outil Recensement'!CA50=\"Yes\",\"Yes\",IF('Outil Recensement'!CA50=\"No\",\"No\",IF('Outil Recensement'!CA50=\"Y\",\"Yes\",IF('Outil Recensement'!CA50=\"N\",\"No\",\"\"))))","v":""},{"$f":"IF('Outil Recensement'!CB50=\"Yes\",\"Yes\",IF('Outil Recensement'!CB50=\"No\",\"No\",IF('Outil Recensement'!CB50=\"Y\",\"Yes\",IF('Outil Recensement'!CB50=\"N\",\"No\",\"\"))))","v":""},{"$f":"IF('Outil Recensement'!CH50>0,'Outil Recensement'!CH50,\"\")","v":"    "}]
[{"$f":"IF('Outil Recensement'!A51>0,'Outil Recensement'!A51,\"\")","v":""},{"$f":"IF('Outil Recensement'!B51>0,'Outil Recensement'!B51,\"\")","v":""},{"$f":"IF('Outil Recensement'!C51>0,'Outil Recensement'!C51,\"\")","v":""},{"$f":"IF('Outil Recensement'!D51>0,'Outil Recensement'!D51,\"\")","v":""},{"$f":"IF('Outil Recensement'!P51>0,TEXT('Outil Recensement'!P51,\"000\"),\"\")","v":""},{"$f":"IF('Outil Recensement'!Q51>0,'Outil Recensement'!Q51,\"\")","v":""},{"$f":"IF('Outil Recensement'!R51>0,'Outil Recensement'!R51,\"\")","v":""},{"$f":"IF('Outil Recensement'!F51>0,DATEVALUE(TEXT('Outil Recensement'!F51,\"yyyy-mm-dd\")),\"\")","v":""},{"$f":"IF('Outil Recensement'!L51>0,DATEVALUE(TEXT('Outil Recensement'!L51,\"yyyy-mm-dd\")),\"\")","v":""},{"$f":"IF('Outil Recensement'!Y51>0,'Outil Recensement'!Y51,\"\")","v":""},{"$f":"IF('Outil Recensement'!T51>0,'Outil Recensement'!T51,\"\")","v":""},{"$f":"IF('Outil Recensement'!G51=\"Homme\",\"Male\",IF('Outil Recensement'!G51=\"Femme\",\"Female\",IF('Outil Recensement'!G51=\"H\",\"Male\",IF('Outil Recensement'!G51=\"F\",\"Female\",\"\"))))","v":""},{"$f":"IF('Outil Recensement'!U51=\"Yes\",\"Yes\",IF('Outil Recensement'!U51=\"No\",\"No\",IF('Outil Recensement'!U51=\"Y\",\"Yes\",IF('Outil Recensement'!U51=\"N\",\"No\",\"\"))))","v":""},{"$f":"IF('Outil Recensement'!I51=\"Individuelle\",\"Single\",IF('Outil Recensement'!I51=\"Familiale\",\"Family\",IF('Outil Recensement'!I51=\"Refus\",\"Family\",IF('Outil Recensement'!I51=\"Parent seul\",\"Family\",IF('Outil Recensement'!I51=\"Couple\",\"Family\",IF('Outil Recensement'!I51=\"In force\",\"Family\",IF('Outil Recensement'!I51=\"Applies\",\"Family\",IF('Outil Recensement'!I51=\"Applicable\",\"Family\",\"\"))))))))","v":""},{"$f":"IF('Outil Recensement'!AC51=\"Anglais\",\"English\",IF('Outil Recensement'!AC51=\"Français\",\"French\",IF('Outil Recensement'!AC51=\"A\",\"English\",IF('Outil Recensement'!AC51=\"F\",\"French\",\"\"))))","v":""},{"$f":"IF('Outil Recensement'!AB51=\"Oui\",\"Yes\",IF('Outil Recensement'!AB51=\"Non\",\"No\",IF('Outil Recensement'!AB51=\"O\",\"Yes\",IF('Outil Recensement'!AB51=\"N\",\"No\",\"\"))))","v":""},{"$f":"IF('Outil Recensement'!AD51>0,'Outil Recensement'!AD51,\"\")","v":""},{"$f":"IF('Outil Recensement'!M51=\"Annuel\",\"Annually\",IF('Outil Recensement'!M51=\"Mensuel\",\"Monthly\",IF('Outil Recensement'!M51=\"Bihebdomadaire\",\"Biweekly\",IF('Outil Recensement'!M51=\"Hebdomadaire\",\"Weekly\",IF('Outil Recensement'!M51=\"Horaire\",\"Hourly\",IF('Outil Recensement'!M51=\"Semi-mensuel\",\"Semi-monthly\",IF('Outil Recensement'!M51=\"Applies\",\"Annual\",IF('Outil Recensement'!M51=\"Applicable\",\"Annual\",\"\"))))))))","v":""},{"$f":"IF('Outil Recensement'!N51>0,'Outil Recensement'!N51,\"\")","v":""},{"$f":"IF('Outil Recensement'!O51>0,'Outil Recensement'!O51,\"\")","v":""},{"$f":"IF('Outil Recensement'!I51=\"Refus\",\"Yes\",\"\")","v":""},{"$f":"IF('Outil Recensement'!I51=\"Refus\",\"Yes\",\"\")","v":""},{"$f":"IF('Outil Recensement'!AE51>0,'Outil Recensement'!AE51,\"\")","v":""},{"$f":"IF('Outil Recensement'!AF51>0,'Outil Recensement'!AF51,\"\")","v":""},{"$f":"IF('Outil Recensement'!AG51>0,'Outil Recensement'!AG51,\"\")","v":""},{"$f":"IF('Outil Recensement'!AH51>0,'Outil Recensement'!AH51,\"\")","v":""},{"$f":"IF('Outil Recensement'!AI51>0,'Outil Recensement'!AI51,\"\")","v":" "},{"$f":"IF('Outil Recensement'!AJ51>0,'Outil Recensement'!AJ51,\"\")","v":" "},{"$f":"IF('Outil Recensement'!W51>0,'Outil Recensement'!W51&\" \",\"\")&IF('Outil Recensement'!V51>0,'Outil Recensement'!V51,\"\")","v":""},null,{"$f":"IF('Outil Recensement'!X51>0,'Outil Recensement'!X51,\"\")","v":""},{"$f":"IF('Outil Recensement'!Y51>0,'Outil Recensement'!Y51,\"\")","v":""},{"$f":"IF('Outil Recensement'!Z51>0,'Outil Recensement'!Z51,\"\")","v":""},{"$f":"IF('Outil Recensement'!AA51>0,'Outil Recensement'!AA51,\"\")","v":""},{"$f":"IF('Outil Recensement'!E51>0,'Outil Recensement'!E51,\"\")","v":""},{"$f":"IF('Outil Recensement'!AK51>0,'Outil Recensement'!AK51,\"\")","v":""},{"$f":"IF('Outil Recensement'!AL51>0,'Outil Recensement'!AL51,\"\")","v":""},{"$f":"IF('Outil Recensement'!AM51>0,'Outil Recensement'!AM51,\"\")","v":""},{"$f":"IF('Outil Recensement'!AN51=\"Male\",\"Male\",IF('Outil Recensement'!AN51=\"Female\",\"Female\",IF('Outil Recensement'!AN51=\"M\",\"Male\",IF('Outil Recensement'!AN51=\"F\",\"Female\",\"\"))))","v":""},{"$f":"IF('Outil Recensement'!AO51=\"Single\",\"Single\",IF('Outil Recensement'!AO51=\"Family\",\"Family\",IF('Outil Recensement'!AO51=\"S\",\"Single\",IF('Outil Recensement'!AO51=\"F\",\"Family\",\"\"))))","v":""},{"$f":"IF('Outil Recensement'!AP51=\"Single\",\"Single\",IF('Outil Recensement'!AP51=\"Family\",\"Family\",IF('Outil Recensement'!AP51=\"S\",\"Single\",IF('Outil Recensement'!AP51=\"F\",\"Family\",\"\"))))","v":""},{"$f":"IF('Outil Recensement'!AQ51>0,'Outil Recensement'!AQ51,\"\")","v":""},{"$f":"IF('Outil Recensement'!AR51=\"Yes\",\"Yes\",IF('Outil Recensement'!AR51=\"No\",\"No\",IF('Outil Recensement'!AR51=\"Y\",\"Yes\",IF('Outil Recensement'!AR51=\"N\",\"No\",\"\"))))","v":""},{"$f":"IF('Outil Recensement'!AS51>0,'Outil Recensement'!AS51,\"\")","v":""},{"$f":"IF('Outil Recensement'!AT51>0,'Outil Recensement'!AT51,\"\")","v":""},{"$f":"IF('Outil Recensement'!AU51>0,'Outil Recensement'!AU51,\"\")","v":""},{"$f":"IF('Outil Recensement'!AV51=\"Male\",\"Male\",IF('Outil Recensement'!AV51=\"Female\",\"Female\",IF('Outil Recensement'!AV51=\"M\",\"Male\",IF('Outil Recensement'!AV51=\"F\",\"Female\",\"\"))))","v":""},{"$f":"IF('Outil Recensement'!AW51=\"Yes\",\"Yes\",IF('Outil Recensement'!AW51=\"No\",\"No\",IF('Outil Recensement'!AW51=\"Y\",\"Yes\",IF('Outil Recensement'!AW51=\"N\",\"No\",\"\"))))","v":""},{"$f":"IF('Outil Recensement'!AX51=\"Yes\",\"Yes\",IF('Outil Recensement'!AX51=\"No\",\"No\",IF('Outil Recensement'!AX51=\"Y\",\"Yes\",IF('Outil Recensement'!AX51=\"N\",\"No\",\"\"))))","v":""},{"$f":"IF('Outil Recensement'!AY51>0,'Outil Recensement'!AY51,\"\")","v":""},{"$f":"IF('Outil Recensement'!AZ51>0,'Outil Recensement'!AZ51,\"\")","v":""},{"$f":"IF('Outil Recensement'!BA51>0,'Outil Recensement'!BA51,\"\")","v":""},{"$f":"IF('Outil Recensement'!BB51=\"Male\",\"Male\",IF('Outil Recensement'!BB51=\"Female\",\"Female\",IF('Outil Recensement'!BB51=\"M\",\"Male\",IF('Outil Recensement'!BB51=\"F\",\"Female\",\"\"))))","v":""},{"$f":"IF('Outil Recensement'!BC51=\"Yes\",\"Yes\",IF('Outil Recensement'!BC51=\"No\",\"No\",IF('Outil Recensement'!BC51=\"Y\",\"Yes\",IF('Outil Recensement'!BC51=\"N\",\"No\",\"\"))))","v":""},{"$f":"IF('Outil Recensement'!BD51=\"Yes\",\"Yes\",IF('Outil Recensement'!BD51=\"No\",\"No\",IF('Outil Recensement'!BD51=\"Y\",\"Yes\",IF('Outil Recensement'!BD51=\"N\",\"No\",\"\"))))","v":""},{"$f":"IF('Outil Recensement'!BE51>0,'Outil Recensement'!BE51,\"\")","v":""},{"$f":"IF('Outil Recensement'!BF51>0,'Outil Recensement'!BF51,\"\")","v":""},{"$f":"IF('Outil Recensement'!BG51>0,'Outil Recensement'!BG51,\"\")","v":""},{"$f":"IF('Outil Recensement'!BH51=\"Male\",\"Male\",IF('Outil Recensement'!BH51=\"Female\",\"Female\",IF('Outil Recensement'!BH51=\"M\",\"Male\",IF('Outil Recensement'!BH51=\"F\",\"Female\",\"\"))))","v":""},{"$f":"IF('Outil Recensement'!BI51=\"Yes\",\"Yes\",IF('Outil Recensement'!BI51=\"No\",\"No\",IF('Outil Recensement'!BI51=\"Y\",\"Yes\",IF('Outil Recensement'!BI51=\"N\",\"No\",\"\"))))","v":""},{"$f":"IF('Outil Recensement'!BJ51=\"Yes\",\"Yes\",IF('Outil Recensement'!BJ51=\"No\",\"No\",IF('Outil Recensement'!BJ51=\"Y\",\"Yes\",IF('Outil Recensement'!BJ51=\"N\",\"No\",\"\"))))","v":""},{"$f":"IF('Outil Recensement'!BK51>0,'Outil Recensement'!BK51,\"\")","v":""},{"$f":"IF('Outil Recensement'!BL51>0,'Outil Recensement'!BL51,\"\")","v":""},{"$f":"IF('Outil Recensement'!BM51>0,'Outil Recensement'!BM51,\"\")","v":""},{"$f":"IF('Outil Recensement'!BN51=\"Male\",\"Male\",IF('Outil Recensement'!BN51=\"Female\",\"Female\",IF('Outil Recensement'!BN51=\"M\",\"Male\",IF('Outil Recensement'!BN51=\"F\",\"Female\",\"\"))))","v":""},{"$f":"IF('Outil Recensement'!BO51=\"Yes\",\"Yes\",IF('Outil Recensement'!BO51=\"No\",\"No\",IF('Outil Recensement'!BO51=\"Y\",\"Yes\",IF('Outil Recensement'!BO51=\"N\",\"No\",\"\"))))","v":""},{"$f":"IF('Outil Recensement'!BP51=\"Yes\",\"Yes\",IF('Outil Recensement'!BP51=\"No\",\"No\",IF('Outil Recensement'!BP51=\"Y\",\"Yes\",IF('Outil Recensement'!BP51=\"N\",\"No\",\"\"))))","v":""},{"$f":"IF('Outil Recensement'!BQ51>0,'Outil Recensement'!BQ51,\"\")","v":""},{"$f":"IF('Outil Recensement'!BR51>0,'Outil Recensement'!BR51,\"\")","v":""},{"$f":"IF('Outil Recensement'!BS51>0,'Outil Recensement'!BS51,\"\")","v":""},{"$f":"IF('Outil Recensement'!BT51=\"Male\",\"Male\",IF('Outil Recensement'!BT51=\"Female\",\"Female\",IF('Outil Recensement'!BT51=\"M\",\"Male\",IF('Outil Recensement'!BT51=\"F\",\"Female\",\"\"))))","v":""},{"$f":"IF('Outil Recensement'!BU51=\"Yes\",\"Yes\",IF('Outil Recensement'!BU51=\"No\",\"No\",IF('Outil Recensement'!BU51=\"Y\",\"Yes\",IF('Outil Recensement'!BU51=\"N\",\"No\",\"\"))))","v":""},{"$f":"IF('Outil Recensement'!BV51=\"Yes\",\"Yes\",IF('Outil Recensement'!BV51=\"No\",\"No\",IF('Outil Recensement'!BV51=\"Y\",\"Yes\",IF('Outil Recensement'!BV51=\"N\",\"No\",\"\"))))","v":""},{"$f":"IF('Outil Recensement'!BW51>0,'Outil Recensement'!BW51,\"\")","v":""},{"$f":"IF('Outil Recensement'!BX51>0,'Outil Recensement'!BX51,\"\")","v":""},{"$f":"IF('Outil Recensement'!BY51>0,'Outil Recensement'!BY51,\"\")","v":""},{"$f":"IF('Outil Recensement'!BZ51=\"Male\",\"Male\",IF('Outil Recensement'!BZ51=\"Female\",\"Female\",IF('Outil Recensement'!BZ51=\"M\",\"Male\",IF('Outil Recensement'!BZ51=\"F\",\"Female\",\"\"))))","v":""},{"$f":"IF('Outil Recensement'!CA51=\"Yes\",\"Yes\",IF('Outil Recensement'!CA51=\"No\",\"No\",IF('Outil Recensement'!CA51=\"Y\",\"Yes\",IF('Outil Recensement'!CA51=\"N\",\"No\",\"\"))))","v":""},{"$f":"IF('Outil Recensement'!CB51=\"Yes\",\"Yes\",IF('Outil Recensement'!CB51=\"No\",\"No\",IF('Outil Recensement'!CB51=\"Y\",\"Yes\",IF('Outil Recensement'!CB51=\"N\",\"No\",\"\"))))","v":""},{"$f":"IF('Outil Recensement'!CH51>0,'Outil Recensement'!CH51,\"\")","v":"    "}]
[{"$f":"IF('Outil Recensement'!A52>0,'Outil Recensement'!A52,\"\")","v":""},{"$f":"IF('Outil Recensement'!B52>0,'Outil Recensement'!B52,\"\")","v":""},{"$f":"IF('Outil Recensement'!C52>0,'Outil Recensement'!C52,\"\")","v":""},{"$f":"IF('Outil Recensement'!D52>0,'Outil Recensement'!D52,\"\")","v":""},{"$f":"IF('Outil Recensement'!P52>0,TEXT('Outil Recensement'!P52,\"000\"),\"\")","v":""},{"$f":"IF('Outil Recensement'!Q52>0,'Outil Recensement'!Q52,\"\")","v":""},{"$f":"IF('Outil Recensement'!R52>0,'Outil Recensement'!R52,\"\")","v":""},{"$f":"IF('Outil Recensement'!F52>0,DATEVALUE(TEXT('Outil Recensement'!F52,\"yyyy-mm-dd\")),\"\")","v":""},{"$f":"IF('Outil Recensement'!L52>0,DATEVALUE(TEXT('Outil Recensement'!L52,\"yyyy-mm-dd\")),\"\")","v":""},{"$f":"IF('Outil Recensement'!Y52>0,'Outil Recensement'!Y52,\"\")","v":""},{"$f":"IF('Outil Recensement'!T52>0,'Outil Recensement'!T52,\"\")","v":""},{"$f":"IF('Outil Recensement'!G52=\"Homme\",\"Male\",IF('Outil Recensement'!G52=\"Femme\",\"Female\",IF('Outil Recensement'!G52=\"H\",\"Male\",IF('Outil Recensement'!G52=\"F\",\"Female\",\"\"))))","v":""},{"$f":"IF('Outil Recensement'!U52=\"Yes\",\"Yes\",IF('Outil Recensement'!U52=\"No\",\"No\",IF('Outil Recensement'!U52=\"Y\",\"Yes\",IF('Outil Recensement'!U52=\"N\",\"No\",\"\"))))","v":""},{"$f":"IF('Outil Recensement'!I52=\"Individuelle\",\"Single\",IF('Outil Recensement'!I52=\"Familiale\",\"Family\",IF('Outil Recensement'!I52=\"Refus\",\"Family\",IF('Outil Recensement'!I52=\"Parent seul\",\"Family\",IF('Outil Recensement'!I52=\"Couple\",\"Family\",IF('Outil Recensement'!I52=\"In force\",\"Family\",IF('Outil Recensement'!I52=\"Applies\",\"Family\",IF('Outil Recensement'!I52=\"Applicable\",\"Family\",\"\"))))))))","v":""},{"$f":"IF('Outil Recensement'!AC52=\"Anglais\",\"English\",IF('Outil Recensement'!AC52=\"Français\",\"French\",IF('Outil Recensement'!AC52=\"A\",\"English\",IF('Outil Recensement'!AC52=\"F\",\"French\",\"\"))))","v":""},{"$f":"IF('Outil Recensement'!AB52=\"Oui\",\"Yes\",IF('Outil Recensement'!AB52=\"Non\",\"No\",IF('Outil Recensement'!AB52=\"O\",\"Yes\",IF('Outil Recensement'!AB52=\"N\",\"No\",\"\"))))","v":""},{"$f":"IF('Outil Recensement'!AD52>0,'Outil Recensement'!AD52,\"\")","v":""},{"$f":"IF('Outil Recensement'!M52=\"Annuel\",\"Annually\",IF('Outil Recensement'!M52=\"Mensuel\",\"Monthly\",IF('Outil Recensement'!M52=\"Bihebdomadaire\",\"Biweekly\",IF('Outil Recensement'!M52=\"Hebdomadaire\",\"Weekly\",IF('Outil Recensement'!M52=\"Horaire\",\"Hourly\",IF('Outil Recensement'!M52=\"Semi-mensuel\",\"Semi-monthly\",IF('Outil Recensement'!M52=\"Applies\",\"Annual\",IF('Outil Recensement'!M52=\"Applicable\",\"Annual\",\"\"))))))))","v":""},{"$f":"IF('Outil Recensement'!N52>0,'Outil Recensement'!N52,\"\")","v":""},{"$f":"IF('Outil Recensement'!O52>0,'Outil Recensement'!O52,\"\")","v":""},{"$f":"IF('Outil Recensement'!I52=\"Refus\",\"Yes\",\"\")","v":""},{"$f":"IF('Outil Recensement'!I52=\"Refus\",\"Yes\",\"\")","v":""},{"$f":"IF('Outil Recensement'!AE52>0,'Outil Recensement'!AE52,\"\")","v":""},{"$f":"IF('Outil Recensement'!AF52>0,'Outil Recensement'!AF52,\"\")","v":""},{"$f":"IF('Outil Recensement'!AG52>0,'Outil Recensement'!AG52,\"\")","v":""},{"$f":"IF('Outil Recensement'!AH52>0,'Outil Recensement'!AH52,\"\")","v":""},{"$f":"IF('Outil Recensement'!AI52>0,'Outil Recensement'!AI52,\"\")","v":" "},{"$f":"IF('Outil Recensement'!AJ52>0,'Outil Recensement'!AJ52,\"\")","v":" "},{"$f":"IF('Outil Recensement'!W52>0,'Outil Recensement'!W52&\" \",\"\")&IF('Outil Recensement'!V52>0,'Outil Recensement'!V52,\"\")","v":""},null,{"$f":"IF('Outil Recensement'!X52>0,'Outil Recensement'!X52,\"\")","v":""},{"$f":"IF('Outil Recensement'!Y52>0,'Outil Recensement'!Y52,\"\")","v":""},{"$f":"IF('Outil Recensement'!Z52>0,'Outil Recensement'!Z52,\"\")","v":""},{"$f":"IF('Outil Recensement'!AA52>0,'Outil Recensement'!AA52,\"\")","v":""},{"$f":"IF('Outil Recensement'!E52>0,'Outil Recensement'!E52,\"\")","v":""},{"$f":"IF('Outil Recensement'!AK52>0,'Outil Recensement'!AK52,\"\")","v":""},{"$f":"IF('Outil Recensement'!AL52>0,'Outil Recensement'!AL52,\"\")","v":""},{"$f":"IF('Outil Recensement'!AM52>0,'Outil Recensement'!AM52,\"\")","v":""},{"$f":"IF('Outil Recensement'!AN52=\"Male\",\"Male\",IF('Outil Recensement'!AN52=\"Female\",\"Female\",IF('Outil Recensement'!AN52=\"M\",\"Male\",IF('Outil Recensement'!AN52=\"F\",\"Female\",\"\"))))","v":""},{"$f":"IF('Outil Recensement'!AO52=\"Single\",\"Single\",IF('Outil Recensement'!AO52=\"Family\",\"Family\",IF('Outil Recensement'!AO52=\"S\",\"Single\",IF('Outil Recensement'!AO52=\"F\",\"Family\",\"\"))))","v":""},{"$f":"IF('Outil Recensement'!AP52=\"Single\",\"Single\",IF('Outil Recensement'!AP52=\"Family\",\"Family\",IF('Outil Recensement'!AP52=\"S\",\"Single\",IF('Outil Recensement'!AP52=\"F\",\"Family\",\"\"))))","v":""},{"$f":"IF('Outil Recensement'!AQ52>0,'Outil Recensement'!AQ52,\"\")","v":""},{"$f":"IF('Outil Recensement'!AR52=\"Yes\",\"Yes\",IF('Outil Recensement'!AR52=\"No\",\"No\",IF('Outil Recensement'!AR52=\"Y\",\"Yes\",IF('Outil Recensement'!AR52=\"N\",\"No\",\"\"))))","v":""},{"$f":"IF('Outil Recensement'!AS52>0,'Outil Recensement'!AS52,\"\")","v":""},{"$f":"IF('Outil Recensement'!AT52>0,'Outil Recensement'!AT52,\"\")","v":""},{"$f":"IF('Outil Recensement'!AU52>0,'Outil Recensement'!AU52,\"\")","v":""},{"$f":"IF('Outil Recensement'!AV52=\"Male\",\"Male\",IF('Outil Recensement'!AV52=\"Female\",\"Female\",IF('Outil Recensement'!AV52=\"M\",\"Male\",IF('Outil Recensement'!AV52=\"F\",\"Female\",\"\"))))","v":""},{"$f":"IF('Outil Recensement'!AW52=\"Yes\",\"Yes\",IF('Outil Recensement'!AW52=\"No\",\"No\",IF('Outil Recensement'!AW52=\"Y\",\"Yes\",IF('Outil Recensement'!AW52=\"N\",\"No\",\"\"))))","v":""},{"$f":"IF('Outil Recensement'!AX52=\"Yes\",\"Yes\",IF('Outil Recensement'!AX52=\"No\",\"No\",IF('Outil Recensement'!AX52=\"Y\",\"Yes\",IF('Outil Recensement'!AX52=\"N\",\"No\",\"\"))))","v":""},{"$f":"IF('Outil Recensement'!AY52>0,'Outil Recensement'!AY52,\"\")","v":""},{"$f":"IF('Outil Recensement'!AZ52>0,'Outil Recensement'!AZ52,\"\")","v":""},{"$f":"IF('Outil Recensement'!BA52>0,'Outil Recensement'!BA52,\"\")","v":""},{"$f":"IF('Outil Recensement'!BB52=\"Male\",\"Male\",IF('Outil Recensement'!BB52=\"Female\",\"Female\",IF('Outil Recensement'!BB52=\"M\",\"Male\",IF('Outil Recensement'!BB52=\"F\",\"Female\",\"\"))))","v":""},{"$f":"IF('Outil Recensement'!BC52=\"Yes\",\"Yes\",IF('Outil Recensement'!BC52=\"No\",\"No\",IF('Outil Recensement'!BC52=\"Y\",\"Yes\",IF('Outil Recensement'!BC52=\"N\",\"No\",\"\"))))","v":""},{"$f":"IF('Outil Recensement'!BD52=\"Yes\",\"Yes\",IF('Outil Recensement'!BD52=\"No\",\"No\",IF('Outil Recensement'!BD52=\"Y\",\"Yes\",IF('Outil Recensement'!BD52=\"N\",\"No\",\"\"))))","v":""},{"$f":"IF('Outil Recensement'!BE52>0,'Outil Recensement'!BE52,\"\")","v":""},{"$f":"IF('Outil Recensement'!BF52>0,'Outil Recensement'!BF52,\"\")","v":""},{"$f":"IF('Outil Recensement'!BG52>0,'Outil Recensement'!BG52,\"\")","v":""},{"$f":"IF('Outil Recensement'!BH52=\"Male\",\"Male\",IF('Outil Recensement'!BH52=\"Female\",\"Female\",IF('Outil Recensement'!BH52=\"M\",\"Male\",IF('Outil Recensement'!BH52=\"F\",\"Female\",\"\"))))","v":""},{"$f":"IF('Outil Recensement'!BI52=\"Yes\",\"Yes\",IF('Outil Recensement'!BI52=\"No\",\"No\",IF('Outil Recensement'!BI52=\"Y\",\"Yes\",IF('Outil Recensement'!BI52=\"N\",\"No\",\"\"))))","v":""},{"$f":"IF('Outil Recensement'!BJ52=\"Yes\",\"Yes\",IF('Outil Recensement'!BJ52=\"No\",\"No\",IF('Outil Recensement'!BJ52=\"Y\",\"Yes\",IF('Outil Recensement'!BJ52=\"N\",\"No\",\"\"))))","v":""},{"$f":"IF('Outil Recensement'!BK52>0,'Outil Recensement'!BK52,\"\")","v":""},{"$f":"IF('Outil Recensement'!BL52>0,'Outil Recensement'!BL52,\"\")","v":""},{"$f":"IF('Outil Recensement'!BM52>0,'Outil Recensement'!BM52,\"\")","v":""},{"$f":"IF('Outil Recensement'!BN52=\"Male\",\"Male\",IF('Outil Recensement'!BN52=\"Female\",\"Female\",IF('Outil Recensement'!BN52=\"M\",\"Male\",IF('Outil Recensement'!BN52=\"F\",\"Female\",\"\"))))","v":""},{"$f":"IF('Outil Recensement'!BO52=\"Yes\",\"Yes\",IF('Outil Recensement'!BO52=\"No\",\"No\",IF('Outil Recensement'!BO52=\"Y\",\"Yes\",IF('Outil Recensement'!BO52=\"N\",\"No\",\"\"))))","v":""},{"$f":"IF('Outil Recensement'!BP52=\"Yes\",\"Yes\",IF('Outil Recensement'!BP52=\"No\",\"No\",IF('Outil Recensement'!BP52=\"Y\",\"Yes\",IF('Outil Recensement'!BP52=\"N\",\"No\",\"\"))))","v":""},{"$f":"IF('Outil Recensement'!BQ52>0,'Outil Recensement'!BQ52,\"\")","v":""},{"$f":"IF('Outil Recensement'!BR52>0,'Outil Recensement'!BR52,\"\")","v":""},{"$f":"IF('Outil Recensement'!BS52>0,'Outil Recensement'!BS52,\"\")","v":""},{"$f":"IF('Outil Recensement'!BT52=\"Male\",\"Male\",IF('Outil Recensement'!BT52=\"Female\",\"Female\",IF('Outil Recensement'!BT52=\"M\",\"Male\",IF('Outil Recensement'!BT52=\"F\",\"Female\",\"\"))))","v":""},{"$f":"IF('Outil Recensement'!BU52=\"Yes\",\"Yes\",IF('Outil Recensement'!BU52=\"No\",\"No\",IF('Outil Recensement'!BU52=\"Y\",\"Yes\",IF('Outil Recensement'!BU52=\"N\",\"No\",\"\"))))","v":""},{"$f":"IF('Outil Recensement'!BV52=\"Yes\",\"Yes\",IF('Outil Recensement'!BV52=\"No\",\"No\",IF('Outil Recensement'!BV52=\"Y\",\"Yes\",IF('Outil Recensement'!BV52=\"N\",\"No\",\"\"))))","v":""},{"$f":"IF('Outil Recensement'!BW52>0,'Outil Recensement'!BW52,\"\")","v":""},{"$f":"IF('Outil Recensement'!BX52>0,'Outil Recensement'!BX52,\"\")","v":""},{"$f":"IF('Outil Recensement'!BY52>0,'Outil Recensement'!BY52,\"\")","v":""},{"$f":"IF('Outil Recensement'!BZ52=\"Male\",\"Male\",IF('Outil Recensement'!BZ52=\"Female\",\"Female\",IF('Outil Recensement'!BZ52=\"M\",\"Male\",IF('Outil Recensement'!BZ52=\"F\",\"Female\",\"\"))))","v":""},{"$f":"IF('Outil Recensement'!CA52=\"Yes\",\"Yes\",IF('Outil Recensement'!CA52=\"No\",\"No\",IF('Outil Recensement'!CA52=\"Y\",\"Yes\",IF('Outil Recensement'!CA52=\"N\",\"No\",\"\"))))","v":""},{"$f":"IF('Outil Recensement'!CB52=\"Yes\",\"Yes\",IF('Outil Recensement'!CB52=\"No\",\"No\",IF('Outil Recensement'!CB52=\"Y\",\"Yes\",IF('Outil Recensement'!CB52=\"N\",\"No\",\"\"))))","v":""},{"$f":"IF('Outil Recensement'!CH52>0,'Outil Recensement'!CH52,\"\")","v":"    "}]
[{"$f":"IF('Outil Recensement'!A53>0,'Outil Recensement'!A53,\"\")","v":""},{"$f":"IF('Outil Recensement'!B53>0,'Outil Recensement'!B53,\"\")","v":""},{"$f":"IF('Outil Recensement'!C53>0,'Outil Recensement'!C53,\"\")","v":""},{"$f":"IF('Outil Recensement'!D53>0,'Outil Recensement'!D53,\"\")","v":""},{"$f":"IF('Outil Recensement'!P53>0,TEXT('Outil Recensement'!P53,\"000\"),\"\")","v":""},{"$f":"IF('Outil Recensement'!Q53>0,'Outil Recensement'!Q53,\"\")","v":""},{"$f":"IF('Outil Recensement'!R53>0,'Outil Recensement'!R53,\"\")","v":""},{"$f":"IF('Outil Recensement'!F53>0,DATEVALUE(TEXT('Outil Recensement'!F53,\"yyyy-mm-dd\")),\"\")","v":""},{"$f":"IF('Outil Recensement'!L53>0,DATEVALUE(TEXT('Outil Recensement'!L53,\"yyyy-mm-dd\")),\"\")","v":""},{"$f":"IF('Outil Recensement'!Y53>0,'Outil Recensement'!Y53,\"\")","v":""},{"$f":"IF('Outil Recensement'!T53>0,'Outil Recensement'!T53,\"\")","v":""},{"$f":"IF('Outil Recensement'!G53=\"Homme\",\"Male\",IF('Outil Recensement'!G53=\"Femme\",\"Female\",IF('Outil Recensement'!G53=\"H\",\"Male\",IF('Outil Recensement'!G53=\"F\",\"Female\",\"\"))))","v":""},{"$f":"IF('Outil Recensement'!U53=\"Yes\",\"Yes\",IF('Outil Recensement'!U53=\"No\",\"No\",IF('Outil Recensement'!U53=\"Y\",\"Yes\",IF('Outil Recensement'!U53=\"N\",\"No\",\"\"))))","v":""},{"$f":"IF('Outil Recensement'!I53=\"Individuelle\",\"Single\",IF('Outil Recensement'!I53=\"Familiale\",\"Family\",IF('Outil Recensement'!I53=\"Refus\",\"Family\",IF('Outil Recensement'!I53=\"Parent seul\",\"Family\",IF('Outil Recensement'!I53=\"Couple\",\"Family\",IF('Outil Recensement'!I53=\"In force\",\"Family\",IF('Outil Recensement'!I53=\"Applies\",\"Family\",IF('Outil Recensement'!I53=\"Applicable\",\"Family\",\"\"))))))))","v":""},{"$f":"IF('Outil Recensement'!AC53=\"Anglais\",\"English\",IF('Outil Recensement'!AC53=\"Français\",\"French\",IF('Outil Recensement'!AC53=\"A\",\"English\",IF('Outil Recensement'!AC53=\"F\",\"French\",\"\"))))","v":""},{"$f":"IF('Outil Recensement'!AB53=\"Oui\",\"Yes\",IF('Outil Recensement'!AB53=\"Non\",\"No\",IF('Outil Recensement'!AB53=\"O\",\"Yes\",IF('Outil Recensement'!AB53=\"N\",\"No\",\"\"))))","v":""},{"$f":"IF('Outil Recensement'!AD53>0,'Outil Recensement'!AD53,\"\")","v":""},{"$f":"IF('Outil Recensement'!M53=\"Annuel\",\"Annually\",IF('Outil Recensement'!M53=\"Mensuel\",\"Monthly\",IF('Outil Recensement'!M53=\"Bihebdomadaire\",\"Biweekly\",IF('Outil Recensement'!M53=\"Hebdomadaire\",\"Weekly\",IF('Outil Recensement'!M53=\"Horaire\",\"Hourly\",IF('Outil Recensement'!M53=\"Semi-mensuel\",\"Semi-monthly\",IF('Outil Recensement'!M53=\"Applies\",\"Annual\",IF('Outil Recensement'!M53=\"Applicable\",\"Annual\",\"\"))))))))","v":""},{"$f":"IF('Outil Recensement'!N53>0,'Outil Recensement'!N53,\"\")","v":""},{"$f":"IF('Outil Recensement'!O53>0,'Outil Recensement'!O53,\"\")","v":""},{"$f":"IF('Outil Recensement'!I53=\"Refus\",\"Yes\",\"\")","v":""},{"$f":"IF('Outil Recensement'!I53=\"Refus\",\"Yes\",\"\")","v":""},{"$f":"IF('Outil Recensement'!AE53>0,'Outil Recensement'!AE53,\"\")","v":""},{"$f":"IF('Outil Recensement'!AF53>0,'Outil Recensement'!AF53,\"\")","v":""},{"$f":"IF('Outil Recensement'!AG53>0,'Outil Recensement'!AG53,\"\")","v":""},{"$f":"IF('Outil Recensement'!AH53>0,'Outil Recensement'!AH53,\"\")","v":""},{"$f":"IF('Outil Recensement'!AI53>0,'Outil Recensement'!AI53,\"\")","v":" "},{"$f":"IF('Outil Recensement'!AJ53>0,'Outil Recensement'!AJ53,\"\")","v":" "},{"$f":"IF('Outil Recensement'!W53>0,'Outil Recensement'!W53&\" \",\"\")&IF('Outil Recensement'!V53>0,'Outil Recensement'!V53,\"\")","v":""},null,{"$f":"IF('Outil Recensement'!X53>0,'Outil Recensement'!X53,\"\")","v":""},{"$f":"IF('Outil Recensement'!Y53>0,'Outil Recensement'!Y53,\"\")","v":""},{"$f":"IF('Outil Recensement'!Z53>0,'Outil Recensement'!Z53,\"\")","v":""},{"$f":"IF('Outil Recensement'!AA53>0,'Outil Recensement'!AA53,\"\")","v":""},{"$f":"IF('Outil Recensement'!E53>0,'Outil Recensement'!E53,\"\")","v":""},{"$f":"IF('Outil Recensement'!AK53>0,'Outil Recensement'!AK53,\"\")","v":""},{"$f":"IF('Outil Recensement'!AL53>0,'Outil Recensement'!AL53,\"\")","v":""},{"$f":"IF('Outil Recensement'!AM53>0,'Outil Recensement'!AM53,\"\")","v":""},{"$f":"IF('Outil Recensement'!AN53=\"Male\",\"Male\",IF('Outil Recensement'!AN53=\"Female\",\"Female\",IF('Outil Recensement'!AN53=\"M\",\"Male\",IF('Outil Recensement'!AN53=\"F\",\"Female\",\"\"))))","v":""},{"$f":"IF('Outil Recensement'!AO53=\"Single\",\"Single\",IF('Outil Recensement'!AO53=\"Family\",\"Family\",IF('Outil Recensement'!AO53=\"S\",\"Single\",IF('Outil Recensement'!AO53=\"F\",\"Family\",\"\"))))","v":""},{"$f":"IF('Outil Recensement'!AP53=\"Single\",\"Single\",IF('Outil Recensement'!AP53=\"Family\",\"Family\",IF('Outil Recensement'!AP53=\"S\",\"Single\",IF('Outil Recensement'!AP53=\"F\",\"Family\",\"\"))))","v":""},{"$f":"IF('Outil Recensement'!AQ53>0,'Outil Recensement'!AQ53,\"\")","v":""},{"$f":"IF('Outil Recensement'!AR53=\"Yes\",\"Yes\",IF('Outil Recensement'!AR53=\"No\",\"No\",IF('Outil Recensement'!AR53=\"Y\",\"Yes\",IF('Outil Recensement'!AR53=\"N\",\"No\",\"\"))))","v":""},{"$f":"IF('Outil Recensement'!AS53>0,'Outil Recensement'!AS53,\"\")","v":""},{"$f":"IF('Outil Recensement'!AT53>0,'Outil Recensement'!AT53,\"\")","v":""},{"$f":"IF('Outil Recensement'!AU53>0,'Outil Recensement'!AU53,\"\")","v":""},{"$f":"IF('Outil Recensement'!AV53=\"Male\",\"Male\",IF('Outil Recensement'!AV53=\"Female\",\"Female\",IF('Outil Recensement'!AV53=\"M\",\"Male\",IF('Outil Recensement'!AV53=\"F\",\"Female\",\"\"))))","v":""},{"$f":"IF('Outil Recensement'!AW53=\"Yes\",\"Yes\",IF('Outil Recensement'!AW53=\"No\",\"No\",IF('Outil Recensement'!AW53=\"Y\",\"Yes\",IF('Outil Recensement'!AW53=\"N\",\"No\",\"\"))))","v":""},{"$f":"IF('Outil Recensement'!AX53=\"Yes\",\"Yes\",IF('Outil Recensement'!AX53=\"No\",\"No\",IF('Outil Recensement'!AX53=\"Y\",\"Yes\",IF('Outil Recensement'!AX53=\"N\",\"No\",\"\"))))","v":""},{"$f":"IF('Outil Recensement'!AY53>0,'Outil Recensement'!AY53,\"\")","v":""},{"$f":"IF('Outil Recensement'!AZ53>0,'Outil Recensement'!AZ53,\"\")","v":""},{"$f":"IF('Outil Recensement'!BA53>0,'Outil Recensement'!BA53,\"\")","v":""},{"$f":"IF('Outil Recensement'!BB53=\"Male\",\"Male\",IF('Outil Recensement'!BB53=\"Female\",\"Female\",IF('Outil Recensement'!BB53=\"M\",\"Male\",IF('Outil Recensement'!BB53=\"F\",\"Female\",\"\"))))","v":""},{"$f":"IF('Outil Recensement'!BC53=\"Yes\",\"Yes\",IF('Outil Recensement'!BC53=\"No\",\"No\",IF('Outil Recensement'!BC53=\"Y\",\"Yes\",IF('Outil Recensement'!BC53=\"N\",\"No\",\"\"))))","v":""},{"$f":"IF('Outil Recensement'!BD53=\"Yes\",\"Yes\",IF('Outil Recensement'!BD53=\"No\",\"No\",IF('Outil Recensement'!BD53=\"Y\",\"Yes\",IF('Outil Recensement'!BD53=\"N\",\"No\",\"\"))))","v":""},{"$f":"IF('Outil Recensement'!BE53>0,'Outil Recensement'!BE53,\"\")","v":""},{"$f":"IF('Outil Recensement'!BF53>0,'Outil Recensement'!BF53,\"\")","v":""},{"$f":"IF('Outil Recensement'!BG53>0,'Outil Recensement'!BG53,\"\")","v":""},{"$f":"IF('Outil Recensement'!BH53=\"Male\",\"Male\",IF('Outil Recensement'!BH53=\"Female\",\"Female\",IF('Outil Recensement'!BH53=\"M\",\"Male\",IF('Outil Recensement'!BH53=\"F\",\"Female\",\"\"))))","v":""},{"$f":"IF('Outil Recensement'!BI53=\"Yes\",\"Yes\",IF('Outil Recensement'!BI53=\"No\",\"No\",IF('Outil Recensement'!BI53=\"Y\",\"Yes\",IF('Outil Recensement'!BI53=\"N\",\"No\",\"\"))))","v":""},{"$f":"IF('Outil Recensement'!BJ53=\"Yes\",\"Yes\",IF('Outil Recensement'!BJ53=\"No\",\"No\",IF('Outil Recensement'!BJ53=\"Y\",\"Yes\",IF('Outil Recensement'!BJ53=\"N\",\"No\",\"\"))))","v":""},{"$f":"IF('Outil Recensement'!BK53>0,'Outil Recensement'!BK53,\"\")","v":""},{"$f":"IF('Outil Recensement'!BL53>0,'Outil Recensement'!BL53,\"\")","v":""},{"$f":"IF('Outil Recensement'!BM53>0,'Outil Recensement'!BM53,\"\")","v":""},{"$f":"IF('Outil Recensement'!BN53=\"Male\",\"Male\",IF('Outil Recensement'!BN53=\"Female\",\"Female\",IF('Outil Recensement'!BN53=\"M\",\"Male\",IF('Outil Recensement'!BN53=\"F\",\"Female\",\"\"))))","v":""},{"$f":"IF('Outil Recensement'!BO53=\"Yes\",\"Yes\",IF('Outil Recensement'!BO53=\"No\",\"No\",IF('Outil Recensement'!BO53=\"Y\",\"Yes\",IF('Outil Recensement'!BO53=\"N\",\"No\",\"\"))))","v":""},{"$f":"IF('Outil Recensement'!BP53=\"Yes\",\"Yes\",IF('Outil Recensement'!BP53=\"No\",\"No\",IF('Outil Recensement'!BP53=\"Y\",\"Yes\",IF('Outil Recensement'!BP53=\"N\",\"No\",\"\"))))","v":""},{"$f":"IF('Outil Recensement'!BQ53>0,'Outil Recensement'!BQ53,\"\")","v":""},{"$f":"IF('Outil Recensement'!BR53>0,'Outil Recensement'!BR53,\"\")","v":""},{"$f":"IF('Outil Recensement'!BS53>0,'Outil Recensement'!BS53,\"\")","v":""},{"$f":"IF('Outil Recensement'!BT53=\"Male\",\"Male\",IF('Outil Recensement'!BT53=\"Female\",\"Female\",IF('Outil Recensement'!BT53=\"M\",\"Male\",IF('Outil Recensement'!BT53=\"F\",\"Female\",\"\"))))","v":""},{"$f":"IF('Outil Recensement'!BU53=\"Yes\",\"Yes\",IF('Outil Recensement'!BU53=\"No\",\"No\",IF('Outil Recensement'!BU53=\"Y\",\"Yes\",IF('Outil Recensement'!BU53=\"N\",\"No\",\"\"))))","v":""},{"$f":"IF('Outil Recensement'!BV53=\"Yes\",\"Yes\",IF('Outil Recensement'!BV53=\"No\",\"No\",IF('Outil Recensement'!BV53=\"Y\",\"Yes\",IF('Outil Recensement'!BV53=\"N\",\"No\",\"\"))))","v":""},{"$f":"IF('Outil Recensement'!BW53>0,'Outil Recensement'!BW53,\"\")","v":""},{"$f":"IF('Outil Recensement'!BX53>0,'Outil Recensement'!BX53,\"\")","v":""},{"$f":"IF('Outil Recensement'!BY53>0,'Outil Recensement'!BY53,\"\")","v":""},{"$f":"IF('Outil Recensement'!BZ53=\"Male\",\"Male\",IF('Outil Recensement'!BZ53=\"Female\",\"Female\",IF('Outil Recensement'!BZ53=\"M\",\"Male\",IF('Outil Recensement'!BZ53=\"F\",\"Female\",\"\"))))","v":""},{"$f":"IF('Outil Recensement'!CA53=\"Yes\",\"Yes\",IF('Outil Recensement'!CA53=\"No\",\"No\",IF('Outil Recensement'!CA53=\"Y\",\"Yes\",IF('Outil Recensement'!CA53=\"N\",\"No\",\"\"))))","v":""},{"$f":"IF('Outil Recensement'!CB53=\"Yes\",\"Yes\",IF('Outil Recensement'!CB53=\"No\",\"No\",IF('Outil Recensement'!CB53=\"Y\",\"Yes\",IF('Outil Recensement'!CB53=\"N\",\"No\",\"\"))))","v":""},{"$f":"IF('Outil Recensement'!CH53>0,'Outil Recensement'!CH53,\"\")","v":"    "}]
[{"$f":"IF('Outil Recensement'!A54>0,'Outil Recensement'!A54,\"\")","v":""},{"$f":"IF('Outil Recensement'!B54>0,'Outil Recensement'!B54,\"\")","v":""},{"$f":"IF('Outil Recensement'!C54>0,'Outil Recensement'!C54,\"\")","v":""},{"$f":"IF('Outil Recensement'!D54>0,'Outil Recensement'!D54,\"\")","v":""},{"$f":"IF('Outil Recensement'!P54>0,TEXT('Outil Recensement'!P54,\"000\"),\"\")","v":""},{"$f":"IF('Outil Recensement'!Q54>0,'Outil Recensement'!Q54,\"\")","v":""},{"$f":"IF('Outil Recensement'!R54>0,'Outil Recensement'!R54,\"\")","v":""},{"$f":"IF('Outil Recensement'!F54>0,DATEVALUE(TEXT('Outil Recensement'!F54,\"yyyy-mm-dd\")),\"\")","v":""},{"$f":"IF('Outil Recensement'!L54>0,DATEVALUE(TEXT('Outil Recensement'!L54,\"yyyy-mm-dd\")),\"\")","v":""},{"$f":"IF('Outil Recensement'!Y54>0,'Outil Recensement'!Y54,\"\")","v":""},{"$f":"IF('Outil Recensement'!T54>0,'Outil Recensement'!T54,\"\")","v":""},{"$f":"IF('Outil Recensement'!G54=\"Homme\",\"Male\",IF('Outil Recensement'!G54=\"Femme\",\"Female\",IF('Outil Recensement'!G54=\"H\",\"Male\",IF('Outil Recensement'!G54=\"F\",\"Female\",\"\"))))","v":""},{"$f":"IF('Outil Recensement'!U54=\"Yes\",\"Yes\",IF('Outil Recensement'!U54=\"No\",\"No\",IF('Outil Recensement'!U54=\"Y\",\"Yes\",IF('Outil Recensement'!U54=\"N\",\"No\",\"\"))))","v":""},{"$f":"IF('Outil Recensement'!I54=\"Individuelle\",\"Single\",IF('Outil Recensement'!I54=\"Familiale\",\"Family\",IF('Outil Recensement'!I54=\"Refus\",\"Family\",IF('Outil Recensement'!I54=\"Parent seul\",\"Family\",IF('Outil Recensement'!I54=\"Couple\",\"Family\",IF('Outil Recensement'!I54=\"In force\",\"Family\",IF('Outil Recensement'!I54=\"Applies\",\"Family\",IF('Outil Recensement'!I54=\"Applicable\",\"Family\",\"\"))))))))","v":""},{"$f":"IF('Outil Recensement'!AC54=\"Anglais\",\"English\",IF('Outil Recensement'!AC54=\"Français\",\"French\",IF('Outil Recensement'!AC54=\"A\",\"English\",IF('Outil Recensement'!AC54=\"F\",\"French\",\"\"))))","v":""},{"$f":"IF('Outil Recensement'!AB54=\"Oui\",\"Yes\",IF('Outil Recensement'!AB54=\"Non\",\"No\",IF('Outil Recensement'!AB54=\"O\",\"Yes\",IF('Outil Recensement'!AB54=\"N\",\"No\",\"\"))))","v":""},{"$f":"IF('Outil Recensement'!AD54>0,'Outil Recensement'!AD54,\"\")","v":""},{"$f":"IF('Outil Recensement'!M54=\"Annuel\",\"Annually\",IF('Outil Recensement'!M54=\"Mensuel\",\"Monthly\",IF('Outil Recensement'!M54=\"Bihebdomadaire\",\"Biweekly\",IF('Outil Recensement'!M54=\"Hebdomadaire\",\"Weekly\",IF('Outil Recensement'!M54=\"Horaire\",\"Hourly\",IF('Outil Recensement'!M54=\"Semi-mensuel\",\"Semi-monthly\",IF('Outil Recensement'!M54=\"Applies\",\"Annual\",IF('Outil Recensement'!M54=\"Applicable\",\"Annual\",\"\"))))))))","v":""},{"$f":"IF('Outil Recensement'!N54>0,'Outil Recensement'!N54,\"\")","v":""},{"$f":"IF('Outil Recensement'!O54>0,'Outil Recensement'!O54,\"\")","v":""},{"$f":"IF('Outil Recensement'!I54=\"Refus\",\"Yes\",\"\")","v":""},{"$f":"IF('Outil Recensement'!I54=\"Refus\",\"Yes\",\"\")","v":""},{"$f":"IF('Outil Recensement'!AE54>0,'Outil Recensement'!AE54,\"\")","v":""},{"$f":"IF('Outil Recensement'!AF54>0,'Outil Recensement'!AF54,\"\")","v":""},{"$f":"IF('Outil Recensement'!AG54>0,'Outil Recensement'!AG54,\"\")","v":""},{"$f":"IF('Outil Recensement'!AH54>0,'Outil Recensement'!AH54,\"\")","v":""},{"$f":"IF('Outil Recensement'!AI54>0,'Outil Recensement'!AI54,\"\")","v":" "},{"$f":"IF('Outil Recensement'!AJ54>0,'Outil Recensement'!AJ54,\"\")","v":" "},{"$f":"IF('Outil Recensement'!W54>0,'Outil Recensement'!W54&\" \",\"\")&IF('Outil Recensement'!V54>0,'Outil Recensement'!V54,\"\")","v":""},null,{"$f":"IF('Outil Recensement'!X54>0,'Outil Recensement'!X54,\"\")","v":""},{"$f":"IF('Outil Recensement'!Y54>0,'Outil Recensement'!Y54,\"\")","v":""},{"$f":"IF('Outil Recensement'!Z54>0,'Outil Recensement'!Z54,\"\")","v":""},{"$f":"IF('Outil Recensement'!AA54>0,'Outil Recensement'!AA54,\"\")","v":""},{"$f":"IF('Outil Recensement'!E54>0,'Outil Recensement'!E54,\"\")","v":""},{"$f":"IF('Outil Recensement'!AK54>0,'Outil Recensement'!AK54,\"\")","v":""},{"$f":"IF('Outil Recensement'!AL54>0,'Outil Recensement'!AL54,\"\")","v":""},{"$f":"IF('Outil Recensement'!AM54>0,'Outil Recensement'!AM54,\"\")","v":""},{"$f":"IF('Outil Recensement'!AN54=\"Male\",\"Male\",IF('Outil Recensement'!AN54=\"Female\",\"Female\",IF('Outil Recensement'!AN54=\"M\",\"Male\",IF('Outil Recensement'!AN54=\"F\",\"Female\",\"\"))))","v":""},{"$f":"IF('Outil Recensement'!AO54=\"Single\",\"Single\",IF('Outil Recensement'!AO54=\"Family\",\"Family\",IF('Outil Recensement'!AO54=\"S\",\"Single\",IF('Outil Recensement'!AO54=\"F\",\"Family\",\"\"))))","v":""},{"$f":"IF('Outil Recensement'!AP54=\"Single\",\"Single\",IF('Outil Recensement'!AP54=\"Family\",\"Family\",IF('Outil Recensement'!AP54=\"S\",\"Single\",IF('Outil Recensement'!AP54=\"F\",\"Family\",\"\"))))","v":""},{"$f":"IF('Outil Recensement'!AQ54>0,'Outil Recensement'!AQ54,\"\")","v":""},{"$f":"IF('Outil Recensement'!AR54=\"Yes\",\"Yes\",IF('Outil Recensement'!AR54=\"No\",\"No\",IF('Outil Recensement'!AR54=\"Y\",\"Yes\",IF('Outil Recensement'!AR54=\"N\",\"No\",\"\"))))","v":""},{"$f":"IF('Outil Recensement'!AS54>0,'Outil Recensement'!AS54,\"\")","v":""},{"$f":"IF('Outil Recensement'!AT54>0,'Outil Recensement'!AT54,\"\")","v":""},{"$f":"IF('Outil Recensement'!AU54>0,'Outil Recensement'!AU54,\"\")","v":""},{"$f":"IF('Outil Recensement'!AV54=\"Male\",\"Male\",IF('Outil Recensement'!AV54=\"Female\",\"Female\",IF('Outil Recensement'!AV54=\"M\",\"Male\",IF('Outil Recensement'!AV54=\"F\",\"Female\",\"\"))))","v":""},{"$f":"IF('Outil Recensement'!AW54=\"Yes\",\"Yes\",IF('Outil Recensement'!AW54=\"No\",\"No\",IF('Outil Recensement'!AW54=\"Y\",\"Yes\",IF('Outil Recensement'!AW54=\"N\",\"No\",\"\"))))","v":""},{"$f":"IF('Outil Recensement'!AX54=\"Yes\",\"Yes\",IF('Outil Recensement'!AX54=\"No\",\"No\",IF('Outil Recensement'!AX54=\"Y\",\"Yes\",IF('Outil Recensement'!AX54=\"N\",\"No\",\"\"))))","v":""},{"$f":"IF('Outil Recensement'!AY54>0,'Outil Recensement'!AY54,\"\")","v":""},{"$f":"IF('Outil Recensement'!AZ54>0,'Outil Recensement'!AZ54,\"\")","v":""},{"$f":"IF('Outil Recensement'!BA54>0,'Outil Recensement'!BA54,\"\")","v":""},{"$f":"IF('Outil Recensement'!BB54=\"Male\",\"Male\",IF('Outil Recensement'!BB54=\"Female\",\"Female\",IF('Outil Recensement'!BB54=\"M\",\"Male\",IF('Outil Recensement'!BB54=\"F\",\"Female\",\"\"))))","v":""},{"$f":"IF('Outil Recensement'!BC54=\"Yes\",\"Yes\",IF('Outil Recensement'!BC54=\"No\",\"No\",IF('Outil Recensement'!BC54=\"Y\",\"Yes\",IF('Outil Recensement'!BC54=\"N\",\"No\",\"\"))))","v":""},{"$f":"IF('Outil Recensement'!BD54=\"Yes\",\"Yes\",IF('Outil Recensement'!BD54=\"No\",\"No\",IF('Outil Recensement'!BD54=\"Y\",\"Yes\",IF('Outil Recensement'!BD54=\"N\",\"No\",\"\"))))","v":""},{"$f":"IF('Outil Recensement'!BE54>0,'Outil Recensement'!BE54,\"\")","v":""},{"$f":"IF('Outil Recensement'!BF54>0,'Outil Recensement'!BF54,\"\")","v":""},{"$f":"IF('Outil Recensement'!BG54>0,'Outil Recensement'!BG54,\"\")","v":""},{"$f":"IF('Outil Recensement'!BH54=\"Male\",\"Male\",IF('Outil Recensement'!BH54=\"Female\",\"Female\",IF('Outil Recensement'!BH54=\"M\",\"Male\",IF('Outil Recensement'!BH54=\"F\",\"Female\",\"\"))))","v":""},{"$f":"IF('Outil Recensement'!BI54=\"Yes\",\"Yes\",IF('Outil Recensement'!BI54=\"No\",\"No\",IF('Outil Recensement'!BI54=\"Y\",\"Yes\",IF('Outil Recensement'!BI54=\"N\",\"No\",\"\"))))","v":""},{"$f":"IF('Outil Recensement'!BJ54=\"Yes\",\"Yes\",IF('Outil Recensement'!BJ54=\"No\",\"No\",IF('Outil Recensement'!BJ54=\"Y\",\"Yes\",IF('Outil Recensement'!BJ54=\"N\",\"No\",\"\"))))","v":""},{"$f":"IF('Outil Recensement'!BK54>0,'Outil Recensement'!BK54,\"\")","v":""},{"$f":"IF('Outil Recensement'!BL54>0,'Outil Recensement'!BL54,\"\")","v":""},{"$f":"IF('Outil Recensement'!BM54>0,'Outil Recensement'!BM54,\"\")","v":""},{"$f":"IF('Outil Recensement'!BN54=\"Male\",\"Male\",IF('Outil Recensement'!BN54=\"Female\",\"Female\",IF('Outil Recensement'!BN54=\"M\",\"Male\",IF('Outil Recensement'!BN54=\"F\",\"Female\",\"\"))))","v":""},{"$f":"IF('Outil Recensement'!BO54=\"Yes\",\"Yes\",IF('Outil Recensement'!BO54=\"No\",\"No\",IF('Outil Recensement'!BO54=\"Y\",\"Yes\",IF('Outil Recensement'!BO54=\"N\",\"No\",\"\"))))","v":""},{"$f":"IF('Outil Recensement'!BP54=\"Yes\",\"Yes\",IF('Outil Recensement'!BP54=\"No\",\"No\",IF('Outil Recensement'!BP54=\"Y\",\"Yes\",IF('Outil Recensement'!BP54=\"N\",\"No\",\"\"))))","v":""},{"$f":"IF('Outil Recensement'!BQ54>0,'Outil Recensement'!BQ54,\"\")","v":""},{"$f":"IF('Outil Recensement'!BR54>0,'Outil Recensement'!BR54,\"\")","v":""},{"$f":"IF('Outil Recensement'!BS54>0,'Outil Recensement'!BS54,\"\")","v":""},{"$f":"IF('Outil Recensement'!BT54=\"Male\",\"Male\",IF('Outil Recensement'!BT54=\"Female\",\"Female\",IF('Outil Recensement'!BT54=\"M\",\"Male\",IF('Outil Recensement'!BT54=\"F\",\"Female\",\"\"))))","v":""},{"$f":"IF('Outil Recensement'!BU54=\"Yes\",\"Yes\",IF('Outil Recensement'!BU54=\"No\",\"No\",IF('Outil Recensement'!BU54=\"Y\",\"Yes\",IF('Outil Recensement'!BU54=\"N\",\"No\",\"\"))))","v":""},{"$f":"IF('Outil Recensement'!BV54=\"Yes\",\"Yes\",IF('Outil Recensement'!BV54=\"No\",\"No\",IF('Outil Recensement'!BV54=\"Y\",\"Yes\",IF('Outil Recensement'!BV54=\"N\",\"No\",\"\"))))","v":""},{"$f":"IF('Outil Recensement'!BW54>0,'Outil Recensement'!BW54,\"\")","v":""},{"$f":"IF('Outil Recensement'!BX54>0,'Outil Recensement'!BX54,\"\")","v":""},{"$f":"IF('Outil Recensement'!BY54>0,'Outil Recensement'!BY54,\"\")","v":""},{"$f":"IF('Outil Recensement'!BZ54=\"Male\",\"Male\",IF('Outil Recensement'!BZ54=\"Female\",\"Female\",IF('Outil Recensement'!BZ54=\"M\",\"Male\",IF('Outil Recensement'!BZ54=\"F\",\"Female\",\"\"))))","v":""},{"$f":"IF('Outil Recensement'!CA54=\"Yes\",\"Yes\",IF('Outil Recensement'!CA54=\"No\",\"No\",IF('Outil Recensement'!CA54=\"Y\",\"Yes\",IF('Outil Recensement'!CA54=\"N\",\"No\",\"\"))))","v":""},{"$f":"IF('Outil Recensement'!CB54=\"Yes\",\"Yes\",IF('Outil Recensement'!CB54=\"No\",\"No\",IF('Outil Recensement'!CB54=\"Y\",\"Yes\",IF('Outil Recensement'!CB54=\"N\",\"No\",\"\"))))","v":""},{"$f":"IF('Outil Recensement'!CH54>0,'Outil Recensement'!CH54,\"\")","v":"    "}]
[{"$f":"IF('Outil Recensement'!A55>0,'Outil Recensement'!A55,\"\")","v":""},{"$f":"IF('Outil Recensement'!B55>0,'Outil Recensement'!B55,\"\")","v":""},{"$f":"IF('Outil Recensement'!C55>0,'Outil Recensement'!C55,\"\")","v":""},{"$f":"IF('Outil Recensement'!D55>0,'Outil Recensement'!D55,\"\")","v":""},{"$f":"IF('Outil Recensement'!P55>0,TEXT('Outil Recensement'!P55,\"000\"),\"\")","v":""},{"$f":"IF('Outil Recensement'!Q55>0,'Outil Recensement'!Q55,\"\")","v":""},{"$f":"IF('Outil Recensement'!R55>0,'Outil Recensement'!R55,\"\")","v":""},{"$f":"IF('Outil Recensement'!F55>0,DATEVALUE(TEXT('Outil Recensement'!F55,\"yyyy-mm-dd\")),\"\")","v":""},{"$f":"IF('Outil Recensement'!L55>0,DATEVALUE(TEXT('Outil Recensement'!L55,\"yyyy-mm-dd\")),\"\")","v":""},{"$f":"IF('Outil Recensement'!Y55>0,'Outil Recensement'!Y55,\"\")","v":""},{"$f":"IF('Outil Recensement'!T55>0,'Outil Recensement'!T55,\"\")","v":""},{"$f":"IF('Outil Recensement'!G55=\"Homme\",\"Male\",IF('Outil Recensement'!G55=\"Femme\",\"Female\",IF('Outil Recensement'!G55=\"H\",\"Male\",IF('Outil Recensement'!G55=\"F\",\"Female\",\"\"))))","v":""},{"$f":"IF('Outil Recensement'!U55=\"Yes\",\"Yes\",IF('Outil Recensement'!U55=\"No\",\"No\",IF('Outil Recensement'!U55=\"Y\",\"Yes\",IF('Outil Recensement'!U55=\"N\",\"No\",\"\"))))","v":""},{"$f":"IF('Outil Recensement'!I55=\"Individuelle\",\"Single\",IF('Outil Recensement'!I55=\"Familiale\",\"Family\",IF('Outil Recensement'!I55=\"Refus\",\"Family\",IF('Outil Recensement'!I55=\"Parent seul\",\"Family\",IF('Outil Recensement'!I55=\"Couple\",\"Family\",IF('Outil Recensement'!I55=\"In force\",\"Family\",IF('Outil Recensement'!I55=\"Applies\",\"Family\",IF('Outil Recensement'!I55=\"Applicable\",\"Family\",\"\"))))))))","v":""},{"$f":"IF('Outil Recensement'!AC55=\"Anglais\",\"English\",IF('Outil Recensement'!AC55=\"Français\",\"French\",IF('Outil Recensement'!AC55=\"A\",\"English\",IF('Outil Recensement'!AC55=\"F\",\"French\",\"\"))))","v":""},{"$f":"IF('Outil Recensement'!AB55=\"Oui\",\"Yes\",IF('Outil Recensement'!AB55=\"Non\",\"No\",IF('Outil Recensement'!AB55=\"O\",\"Yes\",IF('Outil Recensement'!AB55=\"N\",\"No\",\"\"))))","v":""},{"$f":"IF('Outil Recensement'!AD55>0,'Outil Recensement'!AD55,\"\")","v":""},{"$f":"IF('Outil Recensement'!M55=\"Annuel\",\"Annually\",IF('Outil Recensement'!M55=\"Mensuel\",\"Monthly\",IF('Outil Recensement'!M55=\"Bihebdomadaire\",\"Biweekly\",IF('Outil Recensement'!M55=\"Hebdomadaire\",\"Weekly\",IF('Outil Recensement'!M55=\"Horaire\",\"Hourly\",IF('Outil Recensement'!M55=\"Semi-mensuel\",\"Semi-monthly\",IF('Outil Recensement'!M55=\"Applies\",\"Annual\",IF('Outil Recensement'!M55=\"Applicable\",\"Annual\",\"\"))))))))","v":""},{"$f":"IF('Outil Recensement'!N55>0,'Outil Recensement'!N55,\"\")","v":""},{"$f":"IF('Outil Recensement'!O55>0,'Outil Recensement'!O55,\"\")","v":""},{"$f":"IF('Outil Recensement'!I55=\"Refus\",\"Yes\",\"\")","v":""},{"$f":"IF('Outil Recensement'!I55=\"Refus\",\"Yes\",\"\")","v":""},{"$f":"IF('Outil Recensement'!AE55>0,'Outil Recensement'!AE55,\"\")","v":""},{"$f":"IF('Outil Recensement'!AF55>0,'Outil Recensement'!AF55,\"\")","v":""},{"$f":"IF('Outil Recensement'!AG55>0,'Outil Recensement'!AG55,\"\")","v":""},{"$f":"IF('Outil Recensement'!AH55>0,'Outil Recensement'!AH55,\"\")","v":""},{"$f":"IF('Outil Recensement'!AI55>0,'Outil Recensement'!AI55,\"\")","v":" "},{"$f":"IF('Outil Recensement'!AJ55>0,'Outil Recensement'!AJ55,\"\")","v":" "},{"$f":"IF('Outil Recensement'!W55>0,'Outil Recensement'!W55&\" \",\"\")&IF('Outil Recensement'!V55>0,'Outil Recensement'!V55,\"\")","v":""},null,{"$f":"IF('Outil Recensement'!X55>0,'Outil Recensement'!X55,\"\")","v":""},{"$f":"IF('Outil Recensement'!Y55>0,'Outil Recensement'!Y55,\"\")","v":""},{"$f":"IF('Outil Recensement'!Z55>0,'Outil Recensement'!Z55,\"\")","v":""},{"$f":"IF('Outil Recensement'!AA55>0,'Outil Recensement'!AA55,\"\")","v":""},{"$f":"IF('Outil Recensement'!E55>0,'Outil Recensement'!E55,\"\")","v":""},{"$f":"IF('Outil Recensement'!AK55>0,'Outil Recensement'!AK55,\"\")","v":""},{"$f":"IF('Outil Recensement'!AL55>0,'Outil Recensement'!AL55,\"\")","v":""},{"$f":"IF('Outil Recensement'!AM55>0,'Outil Recensement'!AM55,\"\")","v":""},{"$f":"IF('Outil Recensement'!AN55=\"Male\",\"Male\",IF('Outil Recensement'!AN55=\"Female\",\"Female\",IF('Outil Recensement'!AN55=\"M\",\"Male\",IF('Outil Recensement'!AN55=\"F\",\"Female\",\"\"))))","v":""},{"$f":"IF('Outil Recensement'!AO55=\"Single\",\"Single\",IF('Outil Recensement'!AO55=\"Family\",\"Family\",IF('Outil Recensement'!AO55=\"S\",\"Single\",IF('Outil Recensement'!AO55=\"F\",\"Family\",\"\"))))","v":""},{"$f":"IF('Outil Recensement'!AP55=\"Single\",\"Single\",IF('Outil Recensement'!AP55=\"Family\",\"Family\",IF('Outil Recensement'!AP55=\"S\",\"Single\",IF('Outil Recensement'!AP55=\"F\",\"Family\",\"\"))))","v":""},{"$f":"IF('Outil Recensement'!AQ55>0,'Outil Recensement'!AQ55,\"\")","v":""},{"$f":"IF('Outil Recensement'!AR55=\"Yes\",\"Yes\",IF('Outil Recensement'!AR55=\"No\",\"No\",IF('Outil Recensement'!AR55=\"Y\",\"Yes\",IF('Outil Recensement'!AR55=\"N\",\"No\",\"\"))))","v":""},{"$f":"IF('Outil Recensement'!AS55>0,'Outil Recensement'!AS55,\"\")","v":""},{"$f":"IF('Outil Recensement'!AT55>0,'Outil Recensement'!AT55,\"\")","v":""},{"$f":"IF('Outil Recensement'!AU55>0,'Outil Recensement'!AU55,\"\")","v":""},{"$f":"IF('Outil Recensement'!AV55=\"Male\",\"Male\",IF('Outil Recensement'!AV55=\"Female\",\"Female\",IF('Outil Recensement'!AV55=\"M\",\"Male\",IF('Outil Recensement'!AV55=\"F\",\"Female\",\"\"))))","v":""},{"$f":"IF('Outil Recensement'!AW55=\"Yes\",\"Yes\",IF('Outil Recensement'!AW55=\"No\",\"No\",IF('Outil Recensement'!AW55=\"Y\",\"Yes\",IF('Outil Recensement'!AW55=\"N\",\"No\",\"\"))))","v":""},{"$f":"IF('Outil Recensement'!AX55=\"Yes\",\"Yes\",IF('Outil Recensement'!AX55=\"No\",\"No\",IF('Outil Recensement'!AX55=\"Y\",\"Yes\",IF('Outil Recensement'!AX55=\"N\",\"No\",\"\"))))","v":""},{"$f":"IF('Outil Recensement'!AY55>0,'Outil Recensement'!AY55,\"\")","v":""},{"$f":"IF('Outil Recensement'!AZ55>0,'Outil Recensement'!AZ55,\"\")","v":""},{"$f":"IF('Outil Recensement'!BA55>0,'Outil Recensement'!BA55,\"\")","v":""},{"$f":"IF('Outil Recensement'!BB55=\"Male\",\"Male\",IF('Outil Recensement'!BB55=\"Female\",\"Female\",IF('Outil Recensement'!BB55=\"M\",\"Male\",IF('Outil Recensement'!BB55=\"F\",\"Female\",\"\"))))","v":""},{"$f":"IF('Outil Recensement'!BC55=\"Yes\",\"Yes\",IF('Outil Recensement'!BC55=\"No\",\"No\",IF('Outil Recensement'!BC55=\"Y\",\"Yes\",IF('Outil Recensement'!BC55=\"N\",\"No\",\"\"))))","v":""},{"$f":"IF('Outil Recensement'!BD55=\"Yes\",\"Yes\",IF('Outil Recensement'!BD55=\"No\",\"No\",IF('Outil Recensement'!BD55=\"Y\",\"Yes\",IF('Outil Recensement'!BD55=\"N\",\"No\",\"\"))))","v":""},{"$f":"IF('Outil Recensement'!BE55>0,'Outil Recensement'!BE55,\"\")","v":""},{"$f":"IF('Outil Recensement'!BF55>0,'Outil Recensement'!BF55,\"\")","v":""},{"$f":"IF('Outil Recensement'!BG55>0,'Outil Recensement'!BG55,\"\")","v":""},{"$f":"IF('Outil Recensement'!BH55=\"Male\",\"Male\",IF('Outil Recensement'!BH55=\"Female\",\"Female\",IF('Outil Recensement'!BH55=\"M\",\"Male\",IF('Outil Recensement'!BH55=\"F\",\"Female\",\"\"))))","v":""},{"$f":"IF('Outil Recensement'!BI55=\"Yes\",\"Yes\",IF('Outil Recensement'!BI55=\"No\",\"No\",IF('Outil Recensement'!BI55=\"Y\",\"Yes\",IF('Outil Recensement'!BI55=\"N\",\"No\",\"\"))))","v":""},{"$f":"IF('Outil Recensement'!BJ55=\"Yes\",\"Yes\",IF('Outil Recensement'!BJ55=\"No\",\"No\",IF('Outil Recensement'!BJ55=\"Y\",\"Yes\",IF('Outil Recensement'!BJ55=\"N\",\"No\",\"\"))))","v":""},{"$f":"IF('Outil Recensement'!BK55>0,'Outil Recensement'!BK55,\"\")","v":""},{"$f":"IF('Outil Recensement'!BL55>0,'Outil Recensement'!BL55,\"\")","v":""},{"$f":"IF('Outil Recensement'!BM55>0,'Outil Recensement'!BM55,\"\")","v":""},{"$f":"IF('Outil Recensement'!BN55=\"Male\",\"Male\",IF('Outil Recensement'!BN55=\"Female\",\"Female\",IF('Outil Recensement'!BN55=\"M\",\"Male\",IF('Outil Recensement'!BN55=\"F\",\"Female\",\"\"))))","v":""},{"$f":"IF('Outil Recensement'!BO55=\"Yes\",\"Yes\",IF('Outil Recensement'!BO55=\"No\",\"No\",IF('Outil Recensement'!BO55=\"Y\",\"Yes\",IF('Outil Recensement'!BO55=\"N\",\"No\",\"\"))))","v":""},{"$f":"IF('Outil Recensement'!BP55=\"Yes\",\"Yes\",IF('Outil Recensement'!BP55=\"No\",\"No\",IF('Outil Recensement'!BP55=\"Y\",\"Yes\",IF('Outil Recensement'!BP55=\"N\",\"No\",\"\"))))","v":""},{"$f":"IF('Outil Recensement'!BQ55>0,'Outil Recensement'!BQ55,\"\")","v":""},{"$f":"IF('Outil Recensement'!BR55>0,'Outil Recensement'!BR55,\"\")","v":""},{"$f":"IF('Outil Recensement'!BS55>0,'Outil Recensement'!BS55,\"\")","v":""},{"$f":"IF('Outil Recensement'!BT55=\"Male\",\"Male\",IF('Outil Recensement'!BT55=\"Female\",\"Female\",IF('Outil Recensement'!BT55=\"M\",\"Male\",IF('Outil Recensement'!BT55=\"F\",\"Female\",\"\"))))","v":""},{"$f":"IF('Outil Recensement'!BU55=\"Yes\",\"Yes\",IF('Outil Recensement'!BU55=\"No\",\"No\",IF('Outil Recensement'!BU55=\"Y\",\"Yes\",IF('Outil Recensement'!BU55=\"N\",\"No\",\"\"))))","v":""},{"$f":"IF('Outil Recensement'!BV55=\"Yes\",\"Yes\",IF('Outil Recensement'!BV55=\"No\",\"No\",IF('Outil Recensement'!BV55=\"Y\",\"Yes\",IF('Outil Recensement'!BV55=\"N\",\"No\",\"\"))))","v":""},{"$f":"IF('Outil Recensement'!BW55>0,'Outil Recensement'!BW55,\"\")","v":""},{"$f":"IF('Outil Recensement'!BX55>0,'Outil Recensement'!BX55,\"\")","v":""},{"$f":"IF('Outil Recensement'!BY55>0,'Outil Recensement'!BY55,\"\")","v":""},{"$f":"IF('Outil Recensement'!BZ55=\"Male\",\"Male\",IF('Outil Recensement'!BZ55=\"Female\",\"Female\",IF('Outil Recensement'!BZ55=\"M\",\"Male\",IF('Outil Recensement'!BZ55=\"F\",\"Female\",\"\"))))","v":""},{"$f":"IF('Outil Recensement'!CA55=\"Yes\",\"Yes\",IF('Outil Recensement'!CA55=\"No\",\"No\",IF('Outil Recensement'!CA55=\"Y\",\"Yes\",IF('Outil Recensement'!CA55=\"N\",\"No\",\"\"))))","v":""},{"$f":"IF('Outil Recensement'!CB55=\"Yes\",\"Yes\",IF('Outil Recensement'!CB55=\"No\",\"No\",IF('Outil Recensement'!CB55=\"Y\",\"Yes\",IF('Outil Recensement'!CB55=\"N\",\"No\",\"\"))))","v":""},{"$f":"IF('Outil Recensement'!CH55>0,'Outil Recensement'!CH55,\"\")","v":"    "}]
[{"$f":"IF('Outil Recensement'!A56>0,'Outil Recensement'!A56,\"\")","v":""},{"$f":"IF('Outil Recensement'!B56>0,'Outil Recensement'!B56,\"\")","v":""},{"$f":"IF('Outil Recensement'!C56>0,'Outil Recensement'!C56,\"\")","v":""},{"$f":"IF('Outil Recensement'!D56>0,'Outil Recensement'!D56,\"\")","v":""},{"$f":"IF('Outil Recensement'!P56>0,TEXT('Outil Recensement'!P56,\"000\"),\"\")","v":""},{"$f":"IF('Outil Recensement'!Q56>0,'Outil Recensement'!Q56,\"\")","v":""},{"$f":"IF('Outil Recensement'!R56>0,'Outil Recensement'!R56,\"\")","v":""},{"$f":"IF('Outil Recensement'!F56>0,DATEVALUE(TEXT('Outil Recensement'!F56,\"yyyy-mm-dd\")),\"\")","v":""},{"$f":"IF('Outil Recensement'!L56>0,DATEVALUE(TEXT('Outil Recensement'!L56,\"yyyy-mm-dd\")),\"\")","v":""},{"$f":"IF('Outil Recensement'!Y56>0,'Outil Recensement'!Y56,\"\")","v":""},{"$f":"IF('Outil Recensement'!T56>0,'Outil Recensement'!T56,\"\")","v":""},{"$f":"IF('Outil Recensement'!G56=\"Homme\",\"Male\",IF('Outil Recensement'!G56=\"Femme\",\"Female\",IF('Outil Recensement'!G56=\"H\",\"Male\",IF('Outil Recensement'!G56=\"F\",\"Female\",\"\"))))","v":""},{"$f":"IF('Outil Recensement'!U56=\"Yes\",\"Yes\",IF('Outil Recensement'!U56=\"No\",\"No\",IF('Outil Recensement'!U56=\"Y\",\"Yes\",IF('Outil Recensement'!U56=\"N\",\"No\",\"\"))))","v":""},{"$f":"IF('Outil Recensement'!I56=\"Individuelle\",\"Single\",IF('Outil Recensement'!I56=\"Familiale\",\"Family\",IF('Outil Recensement'!I56=\"Refus\",\"Family\",IF('Outil Recensement'!I56=\"Parent seul\",\"Family\",IF('Outil Recensement'!I56=\"Couple\",\"Family\",IF('Outil Recensement'!I56=\"In force\",\"Family\",IF('Outil Recensement'!I56=\"Applies\",\"Family\",IF('Outil Recensement'!I56=\"Applicable\",\"Family\",\"\"))))))))","v":""},{"$f":"IF('Outil Recensement'!AC56=\"Anglais\",\"English\",IF('Outil Recensement'!AC56=\"Français\",\"French\",IF('Outil Recensement'!AC56=\"A\",\"English\",IF('Outil Recensement'!AC56=\"F\",\"French\",\"\"))))","v":""},{"$f":"IF('Outil Recensement'!AB56=\"Oui\",\"Yes\",IF('Outil Recensement'!AB56=\"Non\",\"No\",IF('Outil Recensement'!AB56=\"O\",\"Yes\",IF('Outil Recensement'!AB56=\"N\",\"No\",\"\"))))","v":""},{"$f":"IF('Outil Recensement'!AD56>0,'Outil Recensement'!AD56,\"\")","v":""},{"$f":"IF('Outil Recensement'!M56=\"Annuel\",\"Annually\",IF('Outil Recensement'!M56=\"Mensuel\",\"Monthly\",IF('Outil Recensement'!M56=\"Bihebdomadaire\",\"Biweekly\",IF('Outil Recensement'!M56=\"Hebdomadaire\",\"Weekly\",IF('Outil Recensement'!M56=\"Horaire\",\"Hourly\",IF('Outil Recensement'!M56=\"Semi-mensuel\",\"Semi-monthly\",IF('Outil Recensement'!M56=\"Applies\",\"Annual\",IF('Outil Recensement'!M56=\"Applicable\",\"Annual\",\"\"))))))))","v":""},{"$f":"IF('Outil Recensement'!N56>0,'Outil Recensement'!N56,\"\")","v":""},{"$f":"IF('Outil Recensement'!O56>0,'Outil Recensement'!O56,\"\")","v":""},{"$f":"IF('Outil Recensement'!I56=\"Refus\",\"Yes\",\"\")","v":""},{"$f":"IF('Outil Recensement'!I56=\"Refus\",\"Yes\",\"\")","v":""},{"$f":"IF('Outil Recensement'!AE56>0,'Outil Recensement'!AE56,\"\")","v":""},{"$f":"IF('Outil Recensement'!AF56>0,'Outil Recensement'!AF56,\"\")","v":""},{"$f":"IF('Outil Recensement'!AG56>0,'Outil Recensement'!AG56,\"\")","v":""},{"$f":"IF('Outil Recensement'!AH56>0,'Outil Recensement'!AH56,\"\")","v":""},{"$f":"IF('Outil Recensement'!AI56>0,'Outil Recensement'!AI56,\"\")","v":" "},{"$f":"IF('Outil Recensement'!AJ56>0,'Outil Recensement'!AJ56,\"\")","v":" "},{"$f":"IF('Outil Recensement'!W56>0,'Outil Recensement'!W56&\" \",\"\")&IF('Outil Recensement'!V56>0,'Outil Recensement'!V56,\"\")","v":""},null,{"$f":"IF('Outil Recensement'!X56>0,'Outil Recensement'!X56,\"\")","v":""},{"$f":"IF('Outil Recensement'!Y56>0,'Outil Recensement'!Y56,\"\")","v":""},{"$f":"IF('Outil Recensement'!Z56>0,'Outil Recensement'!Z56,\"\")","v":""},{"$f":"IF('Outil Recensement'!AA56>0,'Outil Recensement'!AA56,\"\")","v":""},{"$f":"IF('Outil Recensement'!E56>0,'Outil Recensement'!E56,\"\")","v":""},{"$f":"IF('Outil Recensement'!AK56>0,'Outil Recensement'!AK56,\"\")","v":""},{"$f":"IF('Outil Recensement'!AL56>0,'Outil Recensement'!AL56,\"\")","v":""},{"$f":"IF('Outil Recensement'!AM56>0,'Outil Recensement'!AM56,\"\")","v":""},{"$f":"IF('Outil Recensement'!AN56=\"Male\",\"Male\",IF('Outil Recensement'!AN56=\"Female\",\"Female\",IF('Outil Recensement'!AN56=\"M\",\"Male\",IF('Outil Recensement'!AN56=\"F\",\"Female\",\"\"))))","v":""},{"$f":"IF('Outil Recensement'!AO56=\"Single\",\"Single\",IF('Outil Recensement'!AO56=\"Family\",\"Family\",IF('Outil Recensement'!AO56=\"S\",\"Single\",IF('Outil Recensement'!AO56=\"F\",\"Family\",\"\"))))","v":""},{"$f":"IF('Outil Recensement'!AP56=\"Single\",\"Single\",IF('Outil Recensement'!AP56=\"Family\",\"Family\",IF('Outil Recensement'!AP56=\"S\",\"Single\",IF('Outil Recensement'!AP56=\"F\",\"Family\",\"\"))))","v":""},{"$f":"IF('Outil Recensement'!AQ56>0,'Outil Recensement'!AQ56,\"\")","v":""},{"$f":"IF('Outil Recensement'!AR56=\"Yes\",\"Yes\",IF('Outil Recensement'!AR56=\"No\",\"No\",IF('Outil Recensement'!AR56=\"Y\",\"Yes\",IF('Outil Recensement'!AR56=\"N\",\"No\",\"\"))))","v":""},{"$f":"IF('Outil Recensement'!AS56>0,'Outil Recensement'!AS56,\"\")","v":""},{"$f":"IF('Outil Recensement'!AT56>0,'Outil Recensement'!AT56,\"\")","v":""},{"$f":"IF('Outil Recensement'!AU56>0,'Outil Recensement'!AU56,\"\")","v":""},{"$f":"IF('Outil Recensement'!AV56=\"Male\",\"Male\",IF('Outil Recensement'!AV56=\"Female\",\"Female\",IF('Outil Recensement'!AV56=\"M\",\"Male\",IF('Outil Recensement'!AV56=\"F\",\"Female\",\"\"))))","v":""},{"$f":"IF('Outil Recensement'!AW56=\"Yes\",\"Yes\",IF('Outil Recensement'!AW56=\"No\",\"No\",IF('Outil Recensement'!AW56=\"Y\",\"Yes\",IF('Outil Recensement'!AW56=\"N\",\"No\",\"\"))))","v":""},{"$f":"IF('Outil Recensement'!AX56=\"Yes\",\"Yes\",IF('Outil Recensement'!AX56=\"No\",\"No\",IF('Outil Recensement'!AX56=\"Y\",\"Yes\",IF('Outil Recensement'!AX56=\"N\",\"No\",\"\"))))","v":""},{"$f":"IF('Outil Recensement'!AY56>0,'Outil Recensement'!AY56,\"\")","v":""},{"$f":"IF('Outil Recensement'!AZ56>0,'Outil Recensement'!AZ56,\"\")","v":""},{"$f":"IF('Outil Recensement'!BA56>0,'Outil Recensement'!BA56,\"\")","v":""},{"$f":"IF('Outil Recensement'!BB56=\"Male\",\"Male\",IF('Outil Recensement'!BB56=\"Female\",\"Female\",IF('Outil Recensement'!BB56=\"M\",\"Male\",IF('Outil Recensement'!BB56=\"F\",\"Female\",\"\"))))","v":""},{"$f":"IF('Outil Recensement'!BC56=\"Yes\",\"Yes\",IF('Outil Recensement'!BC56=\"No\",\"No\",IF('Outil Recensement'!BC56=\"Y\",\"Yes\",IF('Outil Recensement'!BC56=\"N\",\"No\",\"\"))))","v":""},{"$f":"IF('Outil Recensement'!BD56=\"Yes\",\"Yes\",IF('Outil Recensement'!BD56=\"No\",\"No\",IF('Outil Recensement'!BD56=\"Y\",\"Yes\",IF('Outil Recensement'!BD56=\"N\",\"No\",\"\"))))","v":""},{"$f":"IF('Outil Recensement'!BE56>0,'Outil Recensement'!BE56,\"\")","v":""},{"$f":"IF('Outil Recensement'!BF56>0,'Outil Recensement'!BF56,\"\")","v":""},{"$f":"IF('Outil Recensement'!BG56>0,'Outil Recensement'!BG56,\"\")","v":""},{"$f":"IF('Outil Recensement'!BH56=\"Male\",\"Male\",IF('Outil Recensement'!BH56=\"Female\",\"Female\",IF('Outil Recensement'!BH56=\"M\",\"Male\",IF('Outil Recensement'!BH56=\"F\",\"Female\",\"\"))))","v":""},{"$f":"IF('Outil Recensement'!BI56=\"Yes\",\"Yes\",IF('Outil Recensement'!BI56=\"No\",\"No\",IF('Outil Recensement'!BI56=\"Y\",\"Yes\",IF('Outil Recensement'!BI56=\"N\",\"No\",\"\"))))","v":""},{"$f":"IF('Outil Recensement'!BJ56=\"Yes\",\"Yes\",IF('Outil Recensement'!BJ56=\"No\",\"No\",IF('Outil Recensement'!BJ56=\"Y\",\"Yes\",IF('Outil Recensement'!BJ56=\"N\",\"No\",\"\"))))","v":""},{"$f":"IF('Outil Recensement'!BK56>0,'Outil Recensement'!BK56,\"\")","v":""},{"$f":"IF('Outil Recensement'!BL56>0,'Outil Recensement'!BL56,\"\")","v":""},{"$f":"IF('Outil Recensement'!BM56>0,'Outil Recensement'!BM56,\"\")","v":""},{"$f":"IF('Outil Recensement'!BN56=\"Male\",\"Male\",IF('Outil Recensement'!BN56=\"Female\",\"Female\",IF('Outil Recensement'!BN56=\"M\",\"Male\",IF('Outil Recensement'!BN56=\"F\",\"Female\",\"\"))))","v":""},{"$f":"IF('Outil Recensement'!BO56=\"Yes\",\"Yes\",IF('Outil Recensement'!BO56=\"No\",\"No\",IF('Outil Recensement'!BO56=\"Y\",\"Yes\",IF('Outil Recensement'!BO56=\"N\",\"No\",\"\"))))","v":""},{"$f":"IF('Outil Recensement'!BP56=\"Yes\",\"Yes\",IF('Outil Recensement'!BP56=\"No\",\"No\",IF('Outil Recensement'!BP56=\"Y\",\"Yes\",IF('Outil Recensement'!BP56=\"N\",\"No\",\"\"))))","v":""},{"$f":"IF('Outil Recensement'!BQ56>0,'Outil Recensement'!BQ56,\"\")","v":""},{"$f":"IF('Outil Recensement'!BR56>0,'Outil Recensement'!BR56,\"\")","v":""},{"$f":"IF('Outil Recensement'!BS56>0,'Outil Recensement'!BS56,\"\")","v":""},{"$f":"IF('Outil Recensement'!BT56=\"Male\",\"Male\",IF('Outil Recensement'!BT56=\"Female\",\"Female\",IF('Outil Recensement'!BT56=\"M\",\"Male\",IF('Outil Recensement'!BT56=\"F\",\"Female\",\"\"))))","v":""},{"$f":"IF('Outil Recensement'!BU56=\"Yes\",\"Yes\",IF('Outil Recensement'!BU56=\"No\",\"No\",IF('Outil Recensement'!BU56=\"Y\",\"Yes\",IF('Outil Recensement'!BU56=\"N\",\"No\",\"\"))))","v":""},{"$f":"IF('Outil Recensement'!BV56=\"Yes\",\"Yes\",IF('Outil Recensement'!BV56=\"No\",\"No\",IF('Outil Recensement'!BV56=\"Y\",\"Yes\",IF('Outil Recensement'!BV56=\"N\",\"No\",\"\"))))","v":""},{"$f":"IF('Outil Recensement'!BW56>0,'Outil Recensement'!BW56,\"\")","v":""},{"$f":"IF('Outil Recensement'!BX56>0,'Outil Recensement'!BX56,\"\")","v":""},{"$f":"IF('Outil Recensement'!BY56>0,'Outil Recensement'!BY56,\"\")","v":""},{"$f":"IF('Outil Recensement'!BZ56=\"Male\",\"Male\",IF('Outil Recensement'!BZ56=\"Female\",\"Female\",IF('Outil Recensement'!BZ56=\"M\",\"Male\",IF('Outil Recensement'!BZ56=\"F\",\"Female\",\"\"))))","v":""},{"$f":"IF('Outil Recensement'!CA56=\"Yes\",\"Yes\",IF('Outil Recensement'!CA56=\"No\",\"No\",IF('Outil Recensement'!CA56=\"Y\",\"Yes\",IF('Outil Recensement'!CA56=\"N\",\"No\",\"\"))))","v":""},{"$f":"IF('Outil Recensement'!CB56=\"Yes\",\"Yes\",IF('Outil Recensement'!CB56=\"No\",\"No\",IF('Outil Recensement'!CB56=\"Y\",\"Yes\",IF('Outil Recensement'!CB56=\"N\",\"No\",\"\"))))","v":""},{"$f":"IF('Outil Recensement'!CH56>0,'Outil Recensement'!CH56,\"\")","v":"    "}]
[{"$f":"IF('Outil Recensement'!A57>0,'Outil Recensement'!A57,\"\")","v":""},{"$f":"IF('Outil Recensement'!B57>0,'Outil Recensement'!B57,\"\")","v":""},{"$f":"IF('Outil Recensement'!C57>0,'Outil Recensement'!C57,\"\")","v":""},{"$f":"IF('Outil Recensement'!D57>0,'Outil Recensement'!D57,\"\")","v":""},{"$f":"IF('Outil Recensement'!P57>0,TEXT('Outil Recensement'!P57,\"000\"),\"\")","v":""},{"$f":"IF('Outil Recensement'!Q57>0,'Outil Recensement'!Q57,\"\")","v":""},{"$f":"IF('Outil Recensement'!R57>0,'Outil Recensement'!R57,\"\")","v":""},{"$f":"IF('Outil Recensement'!F57>0,DATEVALUE(TEXT('Outil Recensement'!F57,\"yyyy-mm-dd\")),\"\")","v":""},{"$f":"IF('Outil Recensement'!L57>0,DATEVALUE(TEXT('Outil Recensement'!L57,\"yyyy-mm-dd\")),\"\")","v":""},{"$f":"IF('Outil Recensement'!Y57>0,'Outil Recensement'!Y57,\"\")","v":""},{"$f":"IF('Outil Recensement'!T57>0,'Outil Recensement'!T57,\"\")","v":""},{"$f":"IF('Outil Recensement'!G57=\"Homme\",\"Male\",IF('Outil Recensement'!G57=\"Femme\",\"Female\",IF('Outil Recensement'!G57=\"H\",\"Male\",IF('Outil Recensement'!G57=\"F\",\"Female\",\"\"))))","v":""},{"$f":"IF('Outil Recensement'!U57=\"Yes\",\"Yes\",IF('Outil Recensement'!U57=\"No\",\"No\",IF('Outil Recensement'!U57=\"Y\",\"Yes\",IF('Outil Recensement'!U57=\"N\",\"No\",\"\"))))","v":""},{"$f":"IF('Outil Recensement'!I57=\"Individuelle\",\"Single\",IF('Outil Recensement'!I57=\"Familiale\",\"Family\",IF('Outil Recensement'!I57=\"Refus\",\"Family\",IF('Outil Recensement'!I57=\"Parent seul\",\"Family\",IF('Outil Recensement'!I57=\"Couple\",\"Family\",IF('Outil Recensement'!I57=\"In force\",\"Family\",IF('Outil Recensement'!I57=\"Applies\",\"Family\",IF('Outil Recensement'!I57=\"Applicable\",\"Family\",\"\"))))))))","v":""},{"$f":"IF('Outil Recensement'!AC57=\"Anglais\",\"English\",IF('Outil Recensement'!AC57=\"Français\",\"French\",IF('Outil Recensement'!AC57=\"A\",\"English\",IF('Outil Recensement'!AC57=\"F\",\"French\",\"\"))))","v":""},{"$f":"IF('Outil Recensement'!AB57=\"Oui\",\"Yes\",IF('Outil Recensement'!AB57=\"Non\",\"No\",IF('Outil Recensement'!AB57=\"O\",\"Yes\",IF('Outil Recensement'!AB57=\"N\",\"No\",\"\"))))","v":""},{"$f":"IF('Outil Recensement'!AD57>0,'Outil Recensement'!AD57,\"\")","v":""},{"$f":"IF('Outil Recensement'!M57=\"Annuel\",\"Annually\",IF('Outil Recensement'!M57=\"Mensuel\",\"Monthly\",IF('Outil Recensement'!M57=\"Bihebdomadaire\",\"Biweekly\",IF('Outil Recensement'!M57=\"Hebdomadaire\",\"Weekly\",IF('Outil Recensement'!M57=\"Horaire\",\"Hourly\",IF('Outil Recensement'!M57=\"Semi-mensuel\",\"Semi-monthly\",IF('Outil Recensement'!M57=\"Applies\",\"Annual\",IF('Outil Recensement'!M57=\"Applicable\",\"Annual\",\"\"))))))))","v":""},{"$f":"IF('Outil Recensement'!N57>0,'Outil Recensement'!N57,\"\")","v":""},{"$f":"IF('Outil Recensement'!O57>0,'Outil Recensement'!O57,\"\")","v":""},{"$f":"IF('Outil Recensement'!I57=\"Refus\",\"Yes\",\"\")","v":""},{"$f":"IF('Outil Recensement'!I57=\"Refus\",\"Yes\",\"\")","v":""},{"$f":"IF('Outil Recensement'!AE57>0,'Outil Recensement'!AE57,\"\")","v":""},{"$f":"IF('Outil Recensement'!AF57>0,'Outil Recensement'!AF57,\"\")","v":""},{"$f":"IF('Outil Recensement'!AG57>0,'Outil Recensement'!AG57,\"\")","v":""},{"$f":"IF('Outil Recensement'!AH57>0,'Outil Recensement'!AH57,\"\")","v":""},{"$f":"IF('Outil Recensement'!AI57>0,'Outil Recensement'!AI57,\"\")","v":" "},{"$f":"IF('Outil Recensement'!AJ57>0,'Outil Recensement'!AJ57,\"\")","v":" "},{"$f":"IF('Outil Recensement'!W57>0,'Outil Recensement'!W57&\" \",\"\")&IF('Outil Recensement'!V57>0,'Outil Recensement'!V57,\"\")","v":""},null,{"$f":"IF('Outil Recensement'!X57>0,'Outil Recensement'!X57,\"\")","v":""},{"$f":"IF('Outil Recensement'!Y57>0,'Outil Recensement'!Y57,\"\")","v":""},{"$f":"IF('Outil Recensement'!Z57>0,'Outil Recensement'!Z57,\"\")","v":""},{"$f":"IF('Outil Recensement'!AA57>0,'Outil Recensement'!AA57,\"\")","v":""},{"$f":"IF('Outil Recensement'!E57>0,'Outil Recensement'!E57,\"\")","v":""},{"$f":"IF('Outil Recensement'!AK57>0,'Outil Recensement'!AK57,\"\")","v":""},{"$f":"IF('Outil Recensement'!AL57>0,'Outil Recensement'!AL57,\"\")","v":""},{"$f":"IF('Outil Recensement'!AM57>0,'Outil Recensement'!AM57,\"\")","v":""},{"$f":"IF('Outil Recensement'!AN57=\"Male\",\"Male\",IF('Outil Recensement'!AN57=\"Female\",\"Female\",IF('Outil Recensement'!AN57=\"M\",\"Male\",IF('Outil Recensement'!AN57=\"F\",\"Female\",\"\"))))","v":""},{"$f":"IF('Outil Recensement'!AO57=\"Single\",\"Single\",IF('Outil Recensement'!AO57=\"Family\",\"Family\",IF('Outil Recensement'!AO57=\"S\",\"Single\",IF('Outil Recensement'!AO57=\"F\",\"Family\",\"\"))))","v":""},{"$f":"IF('Outil Recensement'!AP57=\"Single\",\"Single\",IF('Outil Recensement'!AP57=\"Family\",\"Family\",IF('Outil Recensement'!AP57=\"S\",\"Single\",IF('Outil Recensement'!AP57=\"F\",\"Family\",\"\"))))","v":""},{"$f":"IF('Outil Recensement'!AQ57>0,'Outil Recensement'!AQ57,\"\")","v":""},{"$f":"IF('Outil Recensement'!AR57=\"Yes\",\"Yes\",IF('Outil Recensement'!AR57=\"No\",\"No\",IF('Outil Recensement'!AR57=\"Y\",\"Yes\",IF('Outil Recensement'!AR57=\"N\",\"No\",\"\"))))","v":""},{"$f":"IF('Outil Recensement'!AS57>0,'Outil Recensement'!AS57,\"\")","v":""},{"$f":"IF('Outil Recensement'!AT57>0,'Outil Recensement'!AT57,\"\")","v":""},{"$f":"IF('Outil Recensement'!AU57>0,'Outil Recensement'!AU57,\"\")","v":""},{"$f":"IF('Outil Recensement'!AV57=\"Male\",\"Male\",IF('Outil Recensement'!AV57=\"Female\",\"Female\",IF('Outil Recensement'!AV57=\"M\",\"Male\",IF('Outil Recensement'!AV57=\"F\",\"Female\",\"\"))))","v":""},{"$f":"IF('Outil Recensement'!AW57=\"Yes\",\"Yes\",IF('Outil Recensement'!AW57=\"No\",\"No\",IF('Outil Recensement'!AW57=\"Y\",\"Yes\",IF('Outil Recensement'!AW57=\"N\",\"No\",\"\"))))","v":""},{"$f":"IF('Outil Recensement'!AX57=\"Yes\",\"Yes\",IF('Outil Recensement'!AX57=\"No\",\"No\",IF('Outil Recensement'!AX57=\"Y\",\"Yes\",IF('Outil Recensement'!AX57=\"N\",\"No\",\"\"))))","v":""},{"$f":"IF('Outil Recensement'!AY57>0,'Outil Recensement'!AY57,\"\")","v":""},{"$f":"IF('Outil Recensement'!AZ57>0,'Outil Recensement'!AZ57,\"\")","v":""},{"$f":"IF('Outil Recensement'!BA57>0,'Outil Recensement'!BA57,\"\")","v":""},{"$f":"IF('Outil Recensement'!BB57=\"Male\",\"Male\",IF('Outil Recensement'!BB57=\"Female\",\"Female\",IF('Outil Recensement'!BB57=\"M\",\"Male\",IF('Outil Recensement'!BB57=\"F\",\"Female\",\"\"))))","v":""},{"$f":"IF('Outil Recensement'!BC57=\"Yes\",\"Yes\",IF('Outil Recensement'!BC57=\"No\",\"No\",IF('Outil Recensement'!BC57=\"Y\",\"Yes\",IF('Outil Recensement'!BC57=\"N\",\"No\",\"\"))))","v":""},{"$f":"IF('Outil Recensement'!BD57=\"Yes\",\"Yes\",IF('Outil Recensement'!BD57=\"No\",\"No\",IF('Outil Recensement'!BD57=\"Y\",\"Yes\",IF('Outil Recensement'!BD57=\"N\",\"No\",\"\"))))","v":""},{"$f":"IF('Outil Recensement'!BE57>0,'Outil Recensement'!BE57,\"\")","v":""},{"$f":"IF('Outil Recensement'!BF57>0,'Outil Recensement'!BF57,\"\")","v":""},{"$f":"IF('Outil Recensement'!BG57>0,'Outil Recensement'!BG57,\"\")","v":""},{"$f":"IF('Outil Recensement'!BH57=\"Male\",\"Male\",IF('Outil Recensement'!BH57=\"Female\",\"Female\",IF('Outil Recensement'!BH57=\"M\",\"Male\",IF('Outil Recensement'!BH57=\"F\",\"Female\",\"\"))))","v":""},{"$f":"IF('Outil Recensement'!BI57=\"Yes\",\"Yes\",IF('Outil Recensement'!BI57=\"No\",\"No\",IF('Outil Recensement'!BI57=\"Y\",\"Yes\",IF('Outil Recensement'!BI57=\"N\",\"No\",\"\"))))","v":""},{"$f":"IF('Outil Recensement'!BJ57=\"Yes\",\"Yes\",IF('Outil Recensement'!BJ57=\"No\",\"No\",IF('Outil Recensement'!BJ57=\"Y\",\"Yes\",IF('Outil Recensement'!BJ57=\"N\",\"No\",\"\"))))","v":""},{"$f":"IF('Outil Recensement'!BK57>0,'Outil Recensement'!BK57,\"\")","v":""},{"$f":"IF('Outil Recensement'!BL57>0,'Outil Recensement'!BL57,\"\")","v":""},{"$f":"IF('Outil Recensement'!BM57>0,'Outil Recensement'!BM57,\"\")","v":""},{"$f":"IF('Outil Recensement'!BN57=\"Male\",\"Male\",IF('Outil Recensement'!BN57=\"Female\",\"Female\",IF('Outil Recensement'!BN57=\"M\",\"Male\",IF('Outil Recensement'!BN57=\"F\",\"Female\",\"\"))))","v":""},{"$f":"IF('Outil Recensement'!BO57=\"Yes\",\"Yes\",IF('Outil Recensement'!BO57=\"No\",\"No\",IF('Outil Recensement'!BO57=\"Y\",\"Yes\",IF('Outil Recensement'!BO57=\"N\",\"No\",\"\"))))","v":""},{"$f":"IF('Outil Recensement'!BP57=\"Yes\",\"Yes\",IF('Outil Recensement'!BP57=\"No\",\"No\",IF('Outil Recensement'!BP57=\"Y\",\"Yes\",IF('Outil Recensement'!BP57=\"N\",\"No\",\"\"))))","v":""},{"$f":"IF('Outil Recensement'!BQ57>0,'Outil Recensement'!BQ57,\"\")","v":""},{"$f":"IF('Outil Recensement'!BR57>0,'Outil Recensement'!BR57,\"\")","v":""},{"$f":"IF('Outil Recensement'!BS57>0,'Outil Recensement'!BS57,\"\")","v":""},{"$f":"IF('Outil Recensement'!BT57=\"Male\",\"Male\",IF('Outil Recensement'!BT57=\"Female\",\"Female\",IF('Outil Recensement'!BT57=\"M\",\"Male\",IF('Outil Recensement'!BT57=\"F\",\"Female\",\"\"))))","v":""},{"$f":"IF('Outil Recensement'!BU57=\"Yes\",\"Yes\",IF('Outil Recensement'!BU57=\"No\",\"No\",IF('Outil Recensement'!BU57=\"Y\",\"Yes\",IF('Outil Recensement'!BU57=\"N\",\"No\",\"\"))))","v":""},{"$f":"IF('Outil Recensement'!BV57=\"Yes\",\"Yes\",IF('Outil Recensement'!BV57=\"No\",\"No\",IF('Outil Recensement'!BV57=\"Y\",\"Yes\",IF('Outil Recensement'!BV57=\"N\",\"No\",\"\"))))","v":""},{"$f":"IF('Outil Recensement'!BW57>0,'Outil Recensement'!BW57,\"\")","v":""},{"$f":"IF('Outil Recensement'!BX57>0,'Outil Recensement'!BX57,\"\")","v":""},{"$f":"IF('Outil Recensement'!BY57>0,'Outil Recensement'!BY57,\"\")","v":""},{"$f":"IF('Outil Recensement'!BZ57=\"Male\",\"Male\",IF('Outil Recensement'!BZ57=\"Female\",\"Female\",IF('Outil Recensement'!BZ57=\"M\",\"Male\",IF('Outil Recensement'!BZ57=\"F\",\"Female\",\"\"))))","v":""},{"$f":"IF('Outil Recensement'!CA57=\"Yes\",\"Yes\",IF('Outil Recensement'!CA57=\"No\",\"No\",IF('Outil Recensement'!CA57=\"Y\",\"Yes\",IF('Outil Recensement'!CA57=\"N\",\"No\",\"\"))))","v":""},{"$f":"IF('Outil Recensement'!CB57=\"Yes\",\"Yes\",IF('Outil Recensement'!CB57=\"No\",\"No\",IF('Outil Recensement'!CB57=\"Y\",\"Yes\",IF('Outil Recensement'!CB57=\"N\",\"No\",\"\"))))","v":""},{"$f":"IF('Outil Recensement'!CH57>0,'Outil Recensement'!CH57,\"\")","v":"    "}]
[{"$f":"IF('Outil Recensement'!A58>0,'Outil Recensement'!A58,\"\")","v":""},{"$f":"IF('Outil Recensement'!B58>0,'Outil Recensement'!B58,\"\")","v":""},{"$f":"IF('Outil Recensement'!C58>0,'Outil Recensement'!C58,\"\")","v":""},{"$f":"IF('Outil Recensement'!D58>0,'Outil Recensement'!D58,\"\")","v":""},{"$f":"IF('Outil Recensement'!P58>0,TEXT('Outil Recensement'!P58,\"000\"),\"\")","v":""},{"$f":"IF('Outil Recensement'!Q58>0,'Outil Recensement'!Q58,\"\")","v":""},{"$f":"IF('Outil Recensement'!R58>0,'Outil Recensement'!R58,\"\")","v":""},{"$f":"IF('Outil Recensement'!F58>0,DATEVALUE(TEXT('Outil Recensement'!F58,\"yyyy-mm-dd\")),\"\")","v":""},{"$f":"IF('Outil Recensement'!L58>0,DATEVALUE(TEXT('Outil Recensement'!L58,\"yyyy-mm-dd\")),\"\")","v":""},{"$f":"IF('Outil Recensement'!Y58>0,'Outil Recensement'!Y58,\"\")","v":""},{"$f":"IF('Outil Recensement'!T58>0,'Outil Recensement'!T58,\"\")","v":""},{"$f":"IF('Outil Recensement'!G58=\"Homme\",\"Male\",IF('Outil Recensement'!G58=\"Femme\",\"Female\",IF('Outil Recensement'!G58=\"H\",\"Male\",IF('Outil Recensement'!G58=\"F\",\"Female\",\"\"))))","v":""},{"$f":"IF('Outil Recensement'!U58=\"Yes\",\"Yes\",IF('Outil Recensement'!U58=\"No\",\"No\",IF('Outil Recensement'!U58=\"Y\",\"Yes\",IF('Outil Recensement'!U58=\"N\",\"No\",\"\"))))","v":""},{"$f":"IF('Outil Recensement'!I58=\"Individuelle\",\"Single\",IF('Outil Recensement'!I58=\"Familiale\",\"Family\",IF('Outil Recensement'!I58=\"Refus\",\"Family\",IF('Outil Recensement'!I58=\"Parent seul\",\"Family\",IF('Outil Recensement'!I58=\"Couple\",\"Family\",IF('Outil Recensement'!I58=\"In force\",\"Family\",IF('Outil Recensement'!I58=\"Applies\",\"Family\",IF('Outil Recensement'!I58=\"Applicable\",\"Family\",\"\"))))))))","v":""},{"$f":"IF('Outil Recensement'!AC58=\"Anglais\",\"English\",IF('Outil Recensement'!AC58=\"Français\",\"French\",IF('Outil Recensement'!AC58=\"A\",\"English\",IF('Outil Recensement'!AC58=\"F\",\"French\",\"\"))))","v":""},{"$f":"IF('Outil Recensement'!AB58=\"Oui\",\"Yes\",IF('Outil Recensement'!AB58=\"Non\",\"No\",IF('Outil Recensement'!AB58=\"O\",\"Yes\",IF('Outil Recensement'!AB58=\"N\",\"No\",\"\"))))","v":""},{"$f":"IF('Outil Recensement'!AD58>0,'Outil Recensement'!AD58,\"\")","v":""},{"$f":"IF('Outil Recensement'!M58=\"Annuel\",\"Annually\",IF('Outil Recensement'!M58=\"Mensuel\",\"Monthly\",IF('Outil Recensement'!M58=\"Bihebdomadaire\",\"Biweekly\",IF('Outil Recensement'!M58=\"Hebdomadaire\",\"Weekly\",IF('Outil Recensement'!M58=\"Horaire\",\"Hourly\",IF('Outil Recensement'!M58=\"Semi-mensuel\",\"Semi-monthly\",IF('Outil Recensement'!M58=\"Applies\",\"Annual\",IF('Outil Recensement'!M58=\"Applicable\",\"Annual\",\"\"))))))))","v":""},{"$f":"IF('Outil Recensement'!N58>0,'Outil Recensement'!N58,\"\")","v":""},{"$f":"IF('Outil Recensement'!O58>0,'Outil Recensement'!O58,\"\")","v":""},{"$f":"IF('Outil Recensement'!I58=\"Refus\",\"Yes\",\"\")","v":""},{"$f":"IF('Outil Recensement'!I58=\"Refus\",\"Yes\",\"\")","v":""},{"$f":"IF('Outil Recensement'!AE58>0,'Outil Recensement'!AE58,\"\")","v":""},{"$f":"IF('Outil Recensement'!AF58>0,'Outil Recensement'!AF58,\"\")","v":""},{"$f":"IF('Outil Recensement'!AG58>0,'Outil Recensement'!AG58,\"\")","v":""},{"$f":"IF('Outil Recensement'!AH58>0,'Outil Recensement'!AH58,\"\")","v":""},{"$f":"IF('Outil Recensement'!AI58>0,'Outil Recensement'!AI58,\"\")","v":" "},{"$f":"IF('Outil Recensement'!AJ58>0,'Outil Recensement'!AJ58,\"\")","v":" "},{"$f":"IF('Outil Recensement'!W58>0,'Outil Recensement'!W58&\" \",\"\")&IF('Outil Recensement'!V58>0,'Outil Recensement'!V58,\"\")","v":""},null,{"$f":"IF('Outil Recensement'!X58>0,'Outil Recensement'!X58,\"\")","v":""},{"$f":"IF('Outil Recensement'!Y58>0,'Outil Recensement'!Y58,\"\")","v":""},{"$f":"IF('Outil Recensement'!Z58>0,'Outil Recensement'!Z58,\"\")","v":""},{"$f":"IF('Outil Recensement'!AA58>0,'Outil Recensement'!AA58,\"\")","v":""},{"$f":"IF('Outil Recensement'!E58>0,'Outil Recensement'!E58,\"\")","v":""},{"$f":"IF('Outil Recensement'!AK58>0,'Outil Recensement'!AK58,\"\")","v":""},{"$f":"IF('Outil Recensement'!AL58>0,'Outil Recensement'!AL58,\"\")","v":""},{"$f":"IF('Outil Recensement'!AM58>0,'Outil Recensement'!AM58,\"\")","v":""},{"$f":"IF('Outil Recensement'!AN58=\"Male\",\"Male\",IF('Outil Recensement'!AN58=\"Female\",\"Female\",IF('Outil Recensement'!AN58=\"M\",\"Male\",IF('Outil Recensement'!AN58=\"F\",\"Female\",\"\"))))","v":""},{"$f":"IF('Outil Recensement'!AO58=\"Single\",\"Single\",IF('Outil Recensement'!AO58=\"Family\",\"Family\",IF('Outil Recensement'!AO58=\"S\",\"Single\",IF('Outil Recensement'!AO58=\"F\",\"Family\",\"\"))))","v":""},{"$f":"IF('Outil Recensement'!AP58=\"Single\",\"Single\",IF('Outil Recensement'!AP58=\"Family\",\"Family\",IF('Outil Recensement'!AP58=\"S\",\"Single\",IF('Outil Recensement'!AP58=\"F\",\"Family\",\"\"))))","v":""},{"$f":"IF('Outil Recensement'!AQ58>0,'Outil Recensement'!AQ58,\"\")","v":""},{"$f":"IF('Outil Recensement'!AR58=\"Yes\",\"Yes\",IF('Outil Recensement'!AR58=\"No\",\"No\",IF('Outil Recensement'!AR58=\"Y\",\"Yes\",IF('Outil Recensement'!AR58=\"N\",\"No\",\"\"))))","v":""},{"$f":"IF('Outil Recensement'!AS58>0,'Outil Recensement'!AS58,\"\")","v":""},{"$f":"IF('Outil Recensement'!AT58>0,'Outil Recensement'!AT58,\"\")","v":""},{"$f":"IF('Outil Recensement'!AU58>0,'Outil Recensement'!AU58,\"\")","v":""},{"$f":"IF('Outil Recensement'!AV58=\"Male\",\"Male\",IF('Outil Recensement'!AV58=\"Female\",\"Female\",IF('Outil Recensement'!AV58=\"M\",\"Male\",IF('Outil Recensement'!AV58=\"F\",\"Female\",\"\"))))","v":""},{"$f":"IF('Outil Recensement'!AW58=\"Yes\",\"Yes\",IF('Outil Recensement'!AW58=\"No\",\"No\",IF('Outil Recensement'!AW58=\"Y\",\"Yes\",IF('Outil Recensement'!AW58=\"N\",\"No\",\"\"))))","v":""},{"$f":"IF('Outil Recensement'!AX58=\"Yes\",\"Yes\",IF('Outil Recensement'!AX58=\"No\",\"No\",IF('Outil Recensement'!AX58=\"Y\",\"Yes\",IF('Outil Recensement'!AX58=\"N\",\"No\",\"\"))))","v":""},{"$f":"IF('Outil Recensement'!AY58>0,'Outil Recensement'!AY58,\"\")","v":""},{"$f":"IF('Outil Recensement'!AZ58>0,'Outil Recensement'!AZ58,\"\")","v":""},{"$f":"IF('Outil Recensement'!BA58>0,'Outil Recensement'!BA58,\"\")","v":""},{"$f":"IF('Outil Recensement'!BB58=\"Male\",\"Male\",IF('Outil Recensement'!BB58=\"Female\",\"Female\",IF('Outil Recensement'!BB58=\"M\",\"Male\",IF('Outil Recensement'!BB58=\"F\",\"Female\",\"\"))))","v":""},{"$f":"IF('Outil Recensement'!BC58=\"Yes\",\"Yes\",IF('Outil Recensement'!BC58=\"No\",\"No\",IF('Outil Recensement'!BC58=\"Y\",\"Yes\",IF('Outil Recensement'!BC58=\"N\",\"No\",\"\"))))","v":""},{"$f":"IF('Outil Recensement'!BD58=\"Yes\",\"Yes\",IF('Outil Recensement'!BD58=\"No\",\"No\",IF('Outil Recensement'!BD58=\"Y\",\"Yes\",IF('Outil Recensement'!BD58=\"N\",\"No\",\"\"))))","v":""},{"$f":"IF('Outil Recensement'!BE58>0,'Outil Recensement'!BE58,\"\")","v":""},{"$f":"IF('Outil Recensement'!BF58>0,'Outil Recensement'!BF58,\"\")","v":""},{"$f":"IF('Outil Recensement'!BG58>0,'Outil Recensement'!BG58,\"\")","v":""},{"$f":"IF('Outil Recensement'!BH58=\"Male\",\"Male\",IF('Outil Recensement'!BH58=\"Female\",\"Female\",IF('Outil Recensement'!BH58=\"M\",\"Male\",IF('Outil Recensement'!BH58=\"F\",\"Female\",\"\"))))","v":""},{"$f":"IF('Outil Recensement'!BI58=\"Yes\",\"Yes\",IF('Outil Recensement'!BI58=\"No\",\"No\",IF('Outil Recensement'!BI58=\"Y\",\"Yes\",IF('Outil Recensement'!BI58=\"N\",\"No\",\"\"))))","v":""},{"$f":"IF('Outil Recensement'!BJ58=\"Yes\",\"Yes\",IF('Outil Recensement'!BJ58=\"No\",\"No\",IF('Outil Recensement'!BJ58=\"Y\",\"Yes\",IF('Outil Recensement'!BJ58=\"N\",\"No\",\"\"))))","v":""},{"$f":"IF('Outil Recensement'!BK58>0,'Outil Recensement'!BK58,\"\")","v":""},{"$f":"IF('Outil Recensement'!BL58>0,'Outil Recensement'!BL58,\"\")","v":""},{"$f":"IF('Outil Recensement'!BM58>0,'Outil Recensement'!BM58,\"\")","v":""},{"$f":"IF('Outil Recensement'!BN58=\"Male\",\"Male\",IF('Outil Recensement'!BN58=\"Female\",\"Female\",IF('Outil Recensement'!BN58=\"M\",\"Male\",IF('Outil Recensement'!BN58=\"F\",\"Female\",\"\"))))","v":""},{"$f":"IF('Outil Recensement'!BO58=\"Yes\",\"Yes\",IF('Outil Recensement'!BO58=\"No\",\"No\",IF('Outil Recensement'!BO58=\"Y\",\"Yes\",IF('Outil Recensement'!BO58=\"N\",\"No\",\"\"))))","v":""},{"$f":"IF('Outil Recensement'!BP58=\"Yes\",\"Yes\",IF('Outil Recensement'!BP58=\"No\",\"No\",IF('Outil Recensement'!BP58=\"Y\",\"Yes\",IF('Outil Recensement'!BP58=\"N\",\"No\",\"\"))))","v":""},{"$f":"IF('Outil Recensement'!BQ58>0,'Outil Recensement'!BQ58,\"\")","v":""},{"$f":"IF('Outil Recensement'!BR58>0,'Outil Recensement'!BR58,\"\")","v":""},{"$f":"IF('Outil Recensement'!BS58>0,'Outil Recensement'!BS58,\"\")","v":""},{"$f":"IF('Outil Recensement'!BT58=\"Male\",\"Male\",IF('Outil Recensement'!BT58=\"Female\",\"Female\",IF('Outil Recensement'!BT58=\"M\",\"Male\",IF('Outil Recensement'!BT58=\"F\",\"Female\",\"\"))))","v":""},{"$f":"IF('Outil Recensement'!BU58=\"Yes\",\"Yes\",IF('Outil Recensement'!BU58=\"No\",\"No\",IF('Outil Recensement'!BU58=\"Y\",\"Yes\",IF('Outil Recensement'!BU58=\"N\",\"No\",\"\"))))","v":""},{"$f":"IF('Outil Recensement'!BV58=\"Yes\",\"Yes\",IF('Outil Recensement'!BV58=\"No\",\"No\",IF('Outil Recensement'!BV58=\"Y\",\"Yes\",IF('Outil Recensement'!BV58=\"N\",\"No\",\"\"))))","v":""},{"$f":"IF('Outil Recensement'!BW58>0,'Outil Recensement'!BW58,\"\")","v":""},{"$f":"IF('Outil Recensement'!BX58>0,'Outil Recensement'!BX58,\"\")","v":""},{"$f":"IF('Outil Recensement'!BY58>0,'Outil Recensement'!BY58,\"\")","v":""},{"$f":"IF('Outil Recensement'!BZ58=\"Male\",\"Male\",IF('Outil Recensement'!BZ58=\"Female\",\"Female\",IF('Outil Recensement'!BZ58=\"M\",\"Male\",IF('Outil Recensement'!BZ58=\"F\",\"Female\",\"\"))))","v":""},{"$f":"IF('Outil Recensement'!CA58=\"Yes\",\"Yes\",IF('Outil Recensement'!CA58=\"No\",\"No\",IF('Outil Recensement'!CA58=\"Y\",\"Yes\",IF('Outil Recensement'!CA58=\"N\",\"No\",\"\"))))","v":""},{"$f":"IF('Outil Recensement'!CB58=\"Yes\",\"Yes\",IF('Outil Recensement'!CB58=\"No\",\"No\",IF('Outil Recensement'!CB58=\"Y\",\"Yes\",IF('Outil Recensement'!CB58=\"N\",\"No\",\"\"))))","v":""},{"$f":"IF('Outil Recensement'!CH58>0,'Outil Recensement'!CH58,\"\")","v":"    "}]
[{"$f":"IF('Outil Recensement'!A59>0,'Outil Recensement'!A59,\"\")","v":""},{"$f":"IF('Outil Recensement'!B59>0,'Outil Recensement'!B59,\"\")","v":""},{"$f":"IF('Outil Recensement'!C59>0,'Outil Recensement'!C59,\"\")","v":""},{"$f":"IF('Outil Recensement'!D59>0,'Outil Recensement'!D59,\"\")","v":""},{"$f":"IF('Outil Recensement'!P59>0,TEXT('Outil Recensement'!P59,\"000\"),\"\")","v":""},{"$f":"IF('Outil Recensement'!Q59>0,'Outil Recensement'!Q59,\"\")","v":""},{"$f":"IF('Outil Recensement'!R59>0,'Outil Recensement'!R59,\"\")","v":""},{"$f":"IF('Outil Recensement'!F59>0,DATEVALUE(TEXT('Outil Recensement'!F59,\"yyyy-mm-dd\")),\"\")","v":""},{"$f":"IF('Outil Recensement'!L59>0,DATEVALUE(TEXT('Outil Recensement'!L59,\"yyyy-mm-dd\")),\"\")","v":""},{"$f":"IF('Outil Recensement'!Y59>0,'Outil Recensement'!Y59,\"\")","v":""},{"$f":"IF('Outil Recensement'!T59>0,'Outil Recensement'!T59,\"\")","v":""},{"$f":"IF('Outil Recensement'!G59=\"Homme\",\"Male\",IF('Outil Recensement'!G59=\"Femme\",\"Female\",IF('Outil Recensement'!G59=\"H\",\"Male\",IF('Outil Recensement'!G59=\"F\",\"Female\",\"\"))))","v":""},{"$f":"IF('Outil Recensement'!U59=\"Yes\",\"Yes\",IF('Outil Recensement'!U59=\"No\",\"No\",IF('Outil Recensement'!U59=\"Y\",\"Yes\",IF('Outil Recensement'!U59=\"N\",\"No\",\"\"))))","v":""},{"$f":"IF('Outil Recensement'!I59=\"Individuelle\",\"Single\",IF('Outil Recensement'!I59=\"Familiale\",\"Family\",IF('Outil Recensement'!I59=\"Refus\",\"Family\",IF('Outil Recensement'!I59=\"Parent seul\",\"Family\",IF('Outil Recensement'!I59=\"Couple\",\"Family\",IF('Outil Recensement'!I59=\"In force\",\"Family\",IF('Outil Recensement'!I59=\"Applies\",\"Family\",IF('Outil Recensement'!I59=\"Applicable\",\"Family\",\"\"))))))))","v":""},{"$f":"IF('Outil Recensement'!AC59=\"Anglais\",\"English\",IF('Outil Recensement'!AC59=\"Français\",\"French\",IF('Outil Recensement'!AC59=\"A\",\"English\",IF('Outil Recensement'!AC59=\"F\",\"French\",\"\"))))","v":""},{"$f":"IF('Outil Recensement'!AB59=\"Oui\",\"Yes\",IF('Outil Recensement'!AB59=\"Non\",\"No\",IF('Outil Recensement'!AB59=\"O\",\"Yes\",IF('Outil Recensement'!AB59=\"N\",\"No\",\"\"))))","v":""},{"$f":"IF('Outil Recensement'!AD59>0,'Outil Recensement'!AD59,\"\")","v":""},{"$f":"IF('Outil Recensement'!M59=\"Annuel\",\"Annually\",IF('Outil Recensement'!M59=\"Mensuel\",\"Monthly\",IF('Outil Recensement'!M59=\"Bihebdomadaire\",\"Biweekly\",IF('Outil Recensement'!M59=\"Hebdomadaire\",\"Weekly\",IF('Outil Recensement'!M59=\"Horaire\",\"Hourly\",IF('Outil Recensement'!M59=\"Semi-mensuel\",\"Semi-monthly\",IF('Outil Recensement'!M59=\"Applies\",\"Annual\",IF('Outil Recensement'!M59=\"Applicable\",\"Annual\",\"\"))))))))","v":""},{"$f":"IF('Outil Recensement'!N59>0,'Outil Recensement'!N59,\"\")","v":""},{"$f":"IF('Outil Recensement'!O59>0,'Outil Recensement'!O59,\"\")","v":""},{"$f":"IF('Outil Recensement'!I59=\"Refus\",\"Yes\",\"\")","v":""},{"$f":"IF('Outil Recensement'!I59=\"Refus\",\"Yes\",\"\")","v":""},{"$f":"IF('Outil Recensement'!AE59>0,'Outil Recensement'!AE59,\"\")","v":""},{"$f":"IF('Outil Recensement'!AF59>0,'Outil Recensement'!AF59,\"\")","v":""},{"$f":"IF('Outil Recensement'!AG59>0,'Outil Recensement'!AG59,\"\")","v":""},{"$f":"IF('Outil Recensement'!AH59>0,'Outil Recensement'!AH59,\"\")","v":""},{"$f":"IF('Outil Recensement'!AI59>0,'Outil Recensement'!AI59,\"\")","v":" "},{"$f":"IF('Outil Recensement'!AJ59>0,'Outil Recensement'!AJ59,\"\")","v":" "},{"$f":"IF('Outil Recensement'!W59>0,'Outil Recensement'!W59&\" \",\"\")&IF('Outil Recensement'!V59>0,'Outil Recensement'!V59,\"\")","v":""},null,{"$f":"IF('Outil Recensement'!X59>0,'Outil Recensement'!X59,\"\")","v":""},{"$f":"IF('Outil Recensement'!Y59>0,'Outil Recensement'!Y59,\"\")","v":""},{"$f":"IF('Outil Recensement'!Z59>0,'Outil Recensement'!Z59,\"\")","v":""},{"$f":"IF('Outil Recensement'!AA59>0,'Outil Recensement'!AA59,\"\")","v":""},{"$f":"IF('Outil Recensement'!E59>0,'Outil Recensement'!E59,\"\")","v":""},{"$f":"IF('Outil Recensement'!AK59>0,'Outil Recensement'!AK59,\"\")","v":""},{"$f":"IF('Outil Recensement'!AL59>0,'Outil Recensement'!AL59,\"\")","v":""},{"$f":"IF('Outil Recensement'!AM59>0,'Outil Recensement'!AM59,\"\")","v":""},{"$f":"IF('Outil Recensement'!AN59=\"Male\",\"Male\",IF('Outil Recensement'!AN59=\"Female\",\"Female\",IF('Outil Recensement'!AN59=\"M\",\"Male\",IF('Outil Recensement'!AN59=\"F\",\"Female\",\"\"))))","v":""},{"$f":"IF('Outil Recensement'!AO59=\"Single\",\"Single\",IF('Outil Recensement'!AO59=\"Family\",\"Family\",IF('Outil Recensement'!AO59=\"S\",\"Single\",IF('Outil Recensement'!AO59=\"F\",\"Family\",\"\"))))","v":""},{"$f":"IF('Outil Recensement'!AP59=\"Single\",\"Single\",IF('Outil Recensement'!AP59=\"Family\",\"Family\",IF('Outil Recensement'!AP59=\"S\",\"Single\",IF('Outil Recensement'!AP59=\"F\",\"Family\",\"\"))))","v":""},{"$f":"IF('Outil Recensement'!AQ59>0,'Outil Recensement'!AQ59,\"\")","v":""},{"$f":"IF('Outil Recensement'!AR59=\"Yes\",\"Yes\",IF('Outil Recensement'!AR59=\"No\",\"No\",IF('Outil Recensement'!AR59=\"Y\",\"Yes\",IF('Outil Recensement'!AR59=\"N\",\"No\",\"\"))))","v":""},{"$f":"IF('Outil Recensement'!AS59>0,'Outil Recensement'!AS59,\"\")","v":""},{"$f":"IF('Outil Recensement'!AT59>0,'Outil Recensement'!AT59,\"\")","v":""},{"$f":"IF('Outil Recensement'!AU59>0,'Outil Recensement'!AU59,\"\")","v":""},{"$f":"IF('Outil Recensement'!AV59=\"Male\",\"Male\",IF('Outil Recensement'!AV59=\"Female\",\"Female\",IF('Outil Recensement'!AV59=\"M\",\"Male\",IF('Outil Recensement'!AV59=\"F\",\"Female\",\"\"))))","v":""},{"$f":"IF('Outil Recensement'!AW59=\"Yes\",\"Yes\",IF('Outil Recensement'!AW59=\"No\",\"No\",IF('Outil Recensement'!AW59=\"Y\",\"Yes\",IF('Outil Recensement'!AW59=\"N\",\"No\",\"\"))))","v":""},{"$f":"IF('Outil Recensement'!AX59=\"Yes\",\"Yes\",IF('Outil Recensement'!AX59=\"No\",\"No\",IF('Outil Recensement'!AX59=\"Y\",\"Yes\",IF('Outil Recensement'!AX59=\"N\",\"No\",\"\"))))","v":""},{"$f":"IF('Outil Recensement'!AY59>0,'Outil Recensement'!AY59,\"\")","v":""},{"$f":"IF('Outil Recensement'!AZ59>0,'Outil Recensement'!AZ59,\"\")","v":""},{"$f":"IF('Outil Recensement'!BA59>0,'Outil Recensement'!BA59,\"\")","v":""},{"$f":"IF('Outil Recensement'!BB59=\"Male\",\"Male\",IF('Outil Recensement'!BB59=\"Female\",\"Female\",IF('Outil Recensement'!BB59=\"M\",\"Male\",IF('Outil Recensement'!BB59=\"F\",\"Female\",\"\"))))","v":""},{"$f":"IF('Outil Recensement'!BC59=\"Yes\",\"Yes\",IF('Outil Recensement'!BC59=\"No\",\"No\",IF('Outil Recensement'!BC59=\"Y\",\"Yes\",IF('Outil Recensement'!BC59=\"N\",\"No\",\"\"))))","v":""},{"$f":"IF('Outil Recensement'!BD59=\"Yes\",\"Yes\",IF('Outil Recensement'!BD59=\"No\",\"No\",IF('Outil Recensement'!BD59=\"Y\",\"Yes\",IF('Outil Recensement'!BD59=\"N\",\"No\",\"\"))))","v":""},{"$f":"IF('Outil Recensement'!BE59>0,'Outil Recensement'!BE59,\"\")","v":""},{"$f":"IF('Outil Recensement'!BF59>0,'Outil Recensement'!BF59,\"\")","v":""},{"$f":"IF('Outil Recensement'!BG59>0,'Outil Recensement'!BG59,\"\")","v":""},{"$f":"IF('Outil Recensement'!BH59=\"Male\",\"Male\",IF('Outil Recensement'!BH59=\"Female\",\"Female\",IF('Outil Recensement'!BH59=\"M\",\"Male\",IF('Outil Recensement'!BH59=\"F\",\"Female\",\"\"))))","v":""},{"$f":"IF('Outil Recensement'!BI59=\"Yes\",\"Yes\",IF('Outil Recensement'!BI59=\"No\",\"No\",IF('Outil Recensement'!BI59=\"Y\",\"Yes\",IF('Outil Recensement'!BI59=\"N\",\"No\",\"\"))))","v":""},{"$f":"IF('Outil Recensement'!BJ59=\"Yes\",\"Yes\",IF('Outil Recensement'!BJ59=\"No\",\"No\",IF('Outil Recensement'!BJ59=\"Y\",\"Yes\",IF('Outil Recensement'!BJ59=\"N\",\"No\",\"\"))))","v":""},{"$f":"IF('Outil Recensement'!BK59>0,'Outil Recensement'!BK59,\"\")","v":""},{"$f":"IF('Outil Recensement'!BL59>0,'Outil Recensement'!BL59,\"\")","v":""},{"$f":"IF('Outil Recensement'!BM59>0,'Outil Recensement'!BM59,\"\")","v":""},{"$f":"IF('Outil Recensement'!BN59=\"Male\",\"Male\",IF('Outil Recensement'!BN59=\"Female\",\"Female\",IF('Outil Recensement'!BN59=\"M\",\"Male\",IF('Outil Recensement'!BN59=\"F\",\"Female\",\"\"))))","v":""},{"$f":"IF('Outil Recensement'!BO59=\"Yes\",\"Yes\",IF('Outil Recensement'!BO59=\"No\",\"No\",IF('Outil Recensement'!BO59=\"Y\",\"Yes\",IF('Outil Recensement'!BO59=\"N\",\"No\",\"\"))))","v":""},{"$f":"IF('Outil Recensement'!BP59=\"Yes\",\"Yes\",IF('Outil Recensement'!BP59=\"No\",\"No\",IF('Outil Recensement'!BP59=\"Y\",\"Yes\",IF('Outil Recensement'!BP59=\"N\",\"No\",\"\"))))","v":""},{"$f":"IF('Outil Recensement'!BQ59>0,'Outil Recensement'!BQ59,\"\")","v":""},{"$f":"IF('Outil Recensement'!BR59>0,'Outil Recensement'!BR59,\"\")","v":""},{"$f":"IF('Outil Recensement'!BS59>0,'Outil Recensement'!BS59,\"\")","v":""},{"$f":"IF('Outil Recensement'!BT59=\"Male\",\"Male\",IF('Outil Recensement'!BT59=\"Female\",\"Female\",IF('Outil Recensement'!BT59=\"M\",\"Male\",IF('Outil Recensement'!BT59=\"F\",\"Female\",\"\"))))","v":""},{"$f":"IF('Outil Recensement'!BU59=\"Yes\",\"Yes\",IF('Outil Recensement'!BU59=\"No\",\"No\",IF('Outil Recensement'!BU59=\"Y\",\"Yes\",IF('Outil Recensement'!BU59=\"N\",\"No\",\"\"))))","v":""},{"$f":"IF('Outil Recensement'!BV59=\"Yes\",\"Yes\",IF('Outil Recensement'!BV59=\"No\",\"No\",IF('Outil Recensement'!BV59=\"Y\",\"Yes\",IF('Outil Recensement'!BV59=\"N\",\"No\",\"\"))))","v":""},{"$f":"IF('Outil Recensement'!BW59>0,'Outil Recensement'!BW59,\"\")","v":""},{"$f":"IF('Outil Recensement'!BX59>0,'Outil Recensement'!BX59,\"\")","v":""},{"$f":"IF('Outil Recensement'!BY59>0,'Outil Recensement'!BY59,\"\")","v":""},{"$f":"IF('Outil Recensement'!BZ59=\"Male\",\"Male\",IF('Outil Recensement'!BZ59=\"Female\",\"Female\",IF('Outil Recensement'!BZ59=\"M\",\"Male\",IF('Outil Recensement'!BZ59=\"F\",\"Female\",\"\"))))","v":""},{"$f":"IF('Outil Recensement'!CA59=\"Yes\",\"Yes\",IF('Outil Recensement'!CA59=\"No\",\"No\",IF('Outil Recensement'!CA59=\"Y\",\"Yes\",IF('Outil Recensement'!CA59=\"N\",\"No\",\"\"))))","v":""},{"$f":"IF('Outil Recensement'!CB59=\"Yes\",\"Yes\",IF('Outil Recensement'!CB59=\"No\",\"No\",IF('Outil Recensement'!CB59=\"Y\",\"Yes\",IF('Outil Recensement'!CB59=\"N\",\"No\",\"\"))))","v":""},{"$f":"IF('Outil Recensement'!CH59>0,'Outil Recensement'!CH59,\"\")","v":"    "}]
[{"$f":"IF('Outil Recensement'!A60>0,'Outil Recensement'!A60,\"\")","v":""},{"$f":"IF('Outil Recensement'!B60>0,'Outil Recensement'!B60,\"\")","v":""},{"$f":"IF('Outil Recensement'!C60>0,'Outil Recensement'!C60,\"\")","v":""},{"$f":"IF('Outil Recensement'!D60>0,'Outil Recensement'!D60,\"\")","v":""},{"$f":"IF('Outil Recensement'!P60>0,TEXT('Outil Recensement'!P60,\"000\"),\"\")","v":""},{"$f":"IF('Outil Recensement'!Q60>0,'Outil Recensement'!Q60,\"\")","v":""},{"$f":"IF('Outil Recensement'!R60>0,'Outil Recensement'!R60,\"\")","v":""},{"$f":"IF('Outil Recensement'!F60>0,DATEVALUE(TEXT('Outil Recensement'!F60,\"yyyy-mm-dd\")),\"\")","v":""},{"$f":"IF('Outil Recensement'!L60>0,DATEVALUE(TEXT('Outil Recensement'!L60,\"yyyy-mm-dd\")),\"\")","v":""},{"$f":"IF('Outil Recensement'!Y60>0,'Outil Recensement'!Y60,\"\")","v":""},{"$f":"IF('Outil Recensement'!T60>0,'Outil Recensement'!T60,\"\")","v":""},{"$f":"IF('Outil Recensement'!G60=\"Homme\",\"Male\",IF('Outil Recensement'!G60=\"Femme\",\"Female\",IF('Outil Recensement'!G60=\"H\",\"Male\",IF('Outil Recensement'!G60=\"F\",\"Female\",\"\"))))","v":""},{"$f":"IF('Outil Recensement'!U60=\"Yes\",\"Yes\",IF('Outil Recensement'!U60=\"No\",\"No\",IF('Outil Recensement'!U60=\"Y\",\"Yes\",IF('Outil Recensement'!U60=\"N\",\"No\",\"\"))))","v":""},{"$f":"IF('Outil Recensement'!I60=\"Individuelle\",\"Single\",IF('Outil Recensement'!I60=\"Familiale\",\"Family\",IF('Outil Recensement'!I60=\"Refus\",\"Family\",IF('Outil Recensement'!I60=\"Parent seul\",\"Family\",IF('Outil Recensement'!I60=\"Couple\",\"Family\",IF('Outil Recensement'!I60=\"In force\",\"Family\",IF('Outil Recensement'!I60=\"Applies\",\"Family\",IF('Outil Recensement'!I60=\"Applicable\",\"Family\",\"\"))))))))","v":""},{"$f":"IF('Outil Recensement'!AC60=\"Anglais\",\"English\",IF('Outil Recensement'!AC60=\"Français\",\"French\",IF('Outil Recensement'!AC60=\"A\",\"English\",IF('Outil Recensement'!AC60=\"F\",\"French\",\"\"))))","v":""},{"$f":"IF('Outil Recensement'!AB60=\"Oui\",\"Yes\",IF('Outil Recensement'!AB60=\"Non\",\"No\",IF('Outil Recensement'!AB60=\"O\",\"Yes\",IF('Outil Recensement'!AB60=\"N\",\"No\",\"\"))))","v":""},{"$f":"IF('Outil Recensement'!AD60>0,'Outil Recensement'!AD60,\"\")","v":""},{"$f":"IF('Outil Recensement'!M60=\"Annuel\",\"Annually\",IF('Outil Recensement'!M60=\"Mensuel\",\"Monthly\",IF('Outil Recensement'!M60=\"Bihebdomadaire\",\"Biweekly\",IF('Outil Recensement'!M60=\"Hebdomadaire\",\"Weekly\",IF('Outil Recensement'!M60=\"Horaire\",\"Hourly\",IF('Outil Recensement'!M60=\"Semi-mensuel\",\"Semi-monthly\",IF('Outil Recensement'!M60=\"Applies\",\"Annual\",IF('Outil Recensement'!M60=\"Applicable\",\"Annual\",\"\"))))))))","v":""},{"$f":"IF('Outil Recensement'!N60>0,'Outil Recensement'!N60,\"\")","v":""},{"$f":"IF('Outil Recensement'!O60>0,'Outil Recensement'!O60,\"\")","v":""},{"$f":"IF('Outil Recensement'!I60=\"Refus\",\"Yes\",\"\")","v":""},{"$f":"IF('Outil Recensement'!I60=\"Refus\",\"Yes\",\"\")","v":""},{"$f":"IF('Outil Recensement'!AE60>0,'Outil Recensement'!AE60,\"\")","v":""},{"$f":"IF('Outil Recensement'!AF60>0,'Outil Recensement'!AF60,\"\")","v":""},{"$f":"IF('Outil Recensement'!AG60>0,'Outil Recensement'!AG60,\"\")","v":""},{"$f":"IF('Outil Recensement'!AH60>0,'Outil Recensement'!AH60,\"\")","v":""},{"$f":"IF('Outil Recensement'!AI60>0,'Outil Recensement'!AI60,\"\")","v":" "},{"$f":"IF('Outil Recensement'!AJ60>0,'Outil Recensement'!AJ60,\"\")","v":" "},{"$f":"IF('Outil Recensement'!W60>0,'Outil Recensement'!W60&\" \",\"\")&IF('Outil Recensement'!V60>0,'Outil Recensement'!V60,\"\")","v":""},null,{"$f":"IF('Outil Recensement'!X60>0,'Outil Recensement'!X60,\"\")","v":""},{"$f":"IF('Outil Recensement'!Y60>0,'Outil Recensement'!Y60,\"\")","v":""},{"$f":"IF('Outil Recensement'!Z60>0,'Outil Recensement'!Z60,\"\")","v":""},{"$f":"IF('Outil Recensement'!AA60>0,'Outil Recensement'!AA60,\"\")","v":""},{"$f":"IF('Outil Recensement'!E60>0,'Outil Recensement'!E60,\"\")","v":""},{"$f":"IF('Outil Recensement'!AK60>0,'Outil Recensement'!AK60,\"\")","v":""},{"$f":"IF('Outil Recensement'!AL60>0,'Outil Recensement'!AL60,\"\")","v":""},{"$f":"IF('Outil Recensement'!AM60>0,'Outil Recensement'!AM60,\"\")","v":""},{"$f":"IF('Outil Recensement'!AN60=\"Male\",\"Male\",IF('Outil Recensement'!AN60=\"Female\",\"Female\",IF('Outil Recensement'!AN60=\"M\",\"Male\",IF('Outil Recensement'!AN60=\"F\",\"Female\",\"\"))))","v":""},{"$f":"IF('Outil Recensement'!AO60=\"Single\",\"Single\",IF('Outil Recensement'!AO60=\"Family\",\"Family\",IF('Outil Recensement'!AO60=\"S\",\"Single\",IF('Outil Recensement'!AO60=\"F\",\"Family\",\"\"))))","v":""},{"$f":"IF('Outil Recensement'!AP60=\"Single\",\"Single\",IF('Outil Recensement'!AP60=\"Family\",\"Family\",IF('Outil Recensement'!AP60=\"S\",\"Single\",IF('Outil Recensement'!AP60=\"F\",\"Family\",\"\"))))","v":""},{"$f":"IF('Outil Recensement'!AQ60>0,'Outil Recensement'!AQ60,\"\")","v":""},{"$f":"IF('Outil Recensement'!AR60=\"Yes\",\"Yes\",IF('Outil Recensement'!AR60=\"No\",\"No\",IF('Outil Recensement'!AR60=\"Y\",\"Yes\",IF('Outil Recensement'!AR60=\"N\",\"No\",\"\"))))","v":""},{"$f":"IF('Outil Recensement'!AS60>0,'Outil Recensement'!AS60,\"\")","v":""},{"$f":"IF('Outil Recensement'!AT60>0,'Outil Recensement'!AT60,\"\")","v":""},{"$f":"IF('Outil Recensement'!AU60>0,'Outil Recensement'!AU60,\"\")","v":""},{"$f":"IF('Outil Recensement'!AV60=\"Male\",\"Male\",IF('Outil Recensement'!AV60=\"Female\",\"Female\",IF('Outil Recensement'!AV60=\"M\",\"Male\",IF('Outil Recensement'!AV60=\"F\",\"Female\",\"\"))))","v":""},{"$f":"IF('Outil Recensement'!AW60=\"Yes\",\"Yes\",IF('Outil Recensement'!AW60=\"No\",\"No\",IF('Outil Recensement'!AW60=\"Y\",\"Yes\",IF('Outil Recensement'!AW60=\"N\",\"No\",\"\"))))","v":""},{"$f":"IF('Outil Recensement'!AX60=\"Yes\",\"Yes\",IF('Outil Recensement'!AX60=\"No\",\"No\",IF('Outil Recensement'!AX60=\"Y\",\"Yes\",IF('Outil Recensement'!AX60=\"N\",\"No\",\"\"))))","v":""},{"$f":"IF('Outil Recensement'!AY60>0,'Outil Recensement'!AY60,\"\")","v":""},{"$f":"IF('Outil Recensement'!AZ60>0,'Outil Recensement'!AZ60,\"\")","v":""},{"$f":"IF('Outil Recensement'!BA60>0,'Outil Recensement'!BA60,\"\")","v":""},{"$f":"IF('Outil Recensement'!BB60=\"Male\",\"Male\",IF('Outil Recensement'!BB60=\"Female\",\"Female\",IF('Outil Recensement'!BB60=\"M\",\"Male\",IF('Outil Recensement'!BB60=\"F\",\"Female\",\"\"))))","v":""},{"$f":"IF('Outil Recensement'!BC60=\"Yes\",\"Yes\",IF('Outil Recensement'!BC60=\"No\",\"No\",IF('Outil Recensement'!BC60=\"Y\",\"Yes\",IF('Outil Recensement'!BC60=\"N\",\"No\",\"\"))))","v":""},{"$f":"IF('Outil Recensement'!BD60=\"Yes\",\"Yes\",IF('Outil Recensement'!BD60=\"No\",\"No\",IF('Outil Recensement'!BD60=\"Y\",\"Yes\",IF('Outil Recensement'!BD60=\"N\",\"No\",\"\"))))","v":""},{"$f":"IF('Outil Recensement'!BE60>0,'Outil Recensement'!BE60,\"\")","v":""},{"$f":"IF('Outil Recensement'!BF60>0,'Outil Recensement'!BF60,\"\")","v":""},{"$f":"IF('Outil Recensement'!BG60>0,'Outil Recensement'!BG60,\"\")","v":""},{"$f":"IF('Outil Recensement'!BH60=\"Male\",\"Male\",IF('Outil Recensement'!BH60=\"Female\",\"Female\",IF('Outil Recensement'!BH60=\"M\",\"Male\",IF('Outil Recensement'!BH60=\"F\",\"Female\",\"\"))))","v":""},{"$f":"IF('Outil Recensement'!BI60=\"Yes\",\"Yes\",IF('Outil Recensement'!BI60=\"No\",\"No\",IF('Outil Recensement'!BI60=\"Y\",\"Yes\",IF('Outil Recensement'!BI60=\"N\",\"No\",\"\"))))","v":""},{"$f":"IF('Outil Recensement'!BJ60=\"Yes\",\"Yes\",IF('Outil Recensement'!BJ60=\"No\",\"No\",IF('Outil Recensement'!BJ60=\"Y\",\"Yes\",IF('Outil Recensement'!BJ60=\"N\",\"No\",\"\"))))","v":""},{"$f":"IF('Outil Recensement'!BK60>0,'Outil Recensement'!BK60,\"\")","v":""},{"$f":"IF('Outil Recensement'!BL60>0,'Outil Recensement'!BL60,\"\")","v":""},{"$f":"IF('Outil Recensement'!BM60>0,'Outil Recensement'!BM60,\"\")","v":""},{"$f":"IF('Outil Recensement'!BN60=\"Male\",\"Male\",IF('Outil Recensement'!BN60=\"Female\",\"Female\",IF('Outil Recensement'!BN60=\"M\",\"Male\",IF('Outil Recensement'!BN60=\"F\",\"Female\",\"\"))))","v":""},{"$f":"IF('Outil Recensement'!BO60=\"Yes\",\"Yes\",IF('Outil Recensement'!BO60=\"No\",\"No\",IF('Outil Recensement'!BO60=\"Y\",\"Yes\",IF('Outil Recensement'!BO60=\"N\",\"No\",\"\"))))","v":""},{"$f":"IF('Outil Recensement'!BP60=\"Yes\",\"Yes\",IF('Outil Recensement'!BP60=\"No\",\"No\",IF('Outil Recensement'!BP60=\"Y\",\"Yes\",IF('Outil Recensement'!BP60=\"N\",\"No\",\"\"))))","v":""},{"$f":"IF('Outil Recensement'!BQ60>0,'Outil Recensement'!BQ60,\"\")","v":""},{"$f":"IF('Outil Recensement'!BR60>0,'Outil Recensement'!BR60,\"\")","v":""},{"$f":"IF('Outil Recensement'!BS60>0,'Outil Recensement'!BS60,\"\")","v":""},{"$f":"IF('Outil Recensement'!BT60=\"Male\",\"Male\",IF('Outil Recensement'!BT60=\"Female\",\"Female\",IF('Outil Recensement'!BT60=\"M\",\"Male\",IF('Outil Recensement'!BT60=\"F\",\"Female\",\"\"))))","v":""},{"$f":"IF('Outil Recensement'!BU60=\"Yes\",\"Yes\",IF('Outil Recensement'!BU60=\"No\",\"No\",IF('Outil Recensement'!BU60=\"Y\",\"Yes\",IF('Outil Recensement'!BU60=\"N\",\"No\",\"\"))))","v":""},{"$f":"IF('Outil Recensement'!BV60=\"Yes\",\"Yes\",IF('Outil Recensement'!BV60=\"No\",\"No\",IF('Outil Recensement'!BV60=\"Y\",\"Yes\",IF('Outil Recensement'!BV60=\"N\",\"No\",\"\"))))","v":""},{"$f":"IF('Outil Recensement'!BW60>0,'Outil Recensement'!BW60,\"\")","v":""},{"$f":"IF('Outil Recensement'!BX60>0,'Outil Recensement'!BX60,\"\")","v":""},{"$f":"IF('Outil Recensement'!BY60>0,'Outil Recensement'!BY60,\"\")","v":""},{"$f":"IF('Outil Recensement'!BZ60=\"Male\",\"Male\",IF('Outil Recensement'!BZ60=\"Female\",\"Female\",IF('Outil Recensement'!BZ60=\"M\",\"Male\",IF('Outil Recensement'!BZ60=\"F\",\"Female\",\"\"))))","v":""},{"$f":"IF('Outil Recensement'!CA60=\"Yes\",\"Yes\",IF('Outil Recensement'!CA60=\"No\",\"No\",IF('Outil Recensement'!CA60=\"Y\",\"Yes\",IF('Outil Recensement'!CA60=\"N\",\"No\",\"\"))))","v":""},{"$f":"IF('Outil Recensement'!CB60=\"Yes\",\"Yes\",IF('Outil Recensement'!CB60=\"No\",\"No\",IF('Outil Recensement'!CB60=\"Y\",\"Yes\",IF('Outil Recensement'!CB60=\"N\",\"No\",\"\"))))","v":""},{"$f":"IF('Outil Recensement'!CH60>0,'Outil Recensement'!CH60,\"\")","v":"    "}]
[{"$f":"IF('Outil Recensement'!A61>0,'Outil Recensement'!A61,\"\")","v":""},{"$f":"IF('Outil Recensement'!B61>0,'Outil Recensement'!B61,\"\")","v":""},{"$f":"IF('Outil Recensement'!C61>0,'Outil Recensement'!C61,\"\")","v":""},{"$f":"IF('Outil Recensement'!D61>0,'Outil Recensement'!D61,\"\")","v":""},{"$f":"IF('Outil Recensement'!P61>0,TEXT('Outil Recensement'!P61,\"000\"),\"\")","v":""},{"$f":"IF('Outil Recensement'!Q61>0,'Outil Recensement'!Q61,\"\")","v":""},{"$f":"IF('Outil Recensement'!R61>0,'Outil Recensement'!R61,\"\")","v":""},{"$f":"IF('Outil Recensement'!F61>0,DATEVALUE(TEXT('Outil Recensement'!F61,\"yyyy-mm-dd\")),\"\")","v":""},{"$f":"IF('Outil Recensement'!L61>0,DATEVALUE(TEXT('Outil Recensement'!L61,\"yyyy-mm-dd\")),\"\")","v":""},{"$f":"IF('Outil Recensement'!Y61>0,'Outil Recensement'!Y61,\"\")","v":""},{"$f":"IF('Outil Recensement'!T61>0,'Outil Recensement'!T61,\"\")","v":""},{"$f":"IF('Outil Recensement'!G61=\"Homme\",\"Male\",IF('Outil Recensement'!G61=\"Femme\",\"Female\",IF('Outil Recensement'!G61=\"H\",\"Male\",IF('Outil Recensement'!G61=\"F\",\"Female\",\"\"))))","v":""},{"$f":"IF('Outil Recensement'!U61=\"Yes\",\"Yes\",IF('Outil Recensement'!U61=\"No\",\"No\",IF('Outil Recensement'!U61=\"Y\",\"Yes\",IF('Outil Recensement'!U61=\"N\",\"No\",\"\"))))","v":""},{"$f":"IF('Outil Recensement'!I61=\"Individuelle\",\"Single\",IF('Outil Recensement'!I61=\"Familiale\",\"Family\",IF('Outil Recensement'!I61=\"Refus\",\"Family\",IF('Outil Recensement'!I61=\"Parent seul\",\"Family\",IF('Outil Recensement'!I61=\"Couple\",\"Family\",IF('Outil Recensement'!I61=\"In force\",\"Family\",IF('Outil Recensement'!I61=\"Applies\",\"Family\",IF('Outil Recensement'!I61=\"Applicable\",\"Family\",\"\"))))))))","v":""},{"$f":"IF('Outil Recensement'!AC61=\"Anglais\",\"English\",IF('Outil Recensement'!AC61=\"Français\",\"French\",IF('Outil Recensement'!AC61=\"A\",\"English\",IF('Outil Recensement'!AC61=\"F\",\"French\",\"\"))))","v":""},{"$f":"IF('Outil Recensement'!AB61=\"Oui\",\"Yes\",IF('Outil Recensement'!AB61=\"Non\",\"No\",IF('Outil Recensement'!AB61=\"O\",\"Yes\",IF('Outil Recensement'!AB61=\"N\",\"No\",\"\"))))","v":""},{"$f":"IF('Outil Recensement'!AD61>0,'Outil Recensement'!AD61,\"\")","v":""},{"$f":"IF('Outil Recensement'!M61=\"Annuel\",\"Annually\",IF('Outil Recensement'!M61=\"Mensuel\",\"Monthly\",IF('Outil Recensement'!M61=\"Bihebdomadaire\",\"Biweekly\",IF('Outil Recensement'!M61=\"Hebdomadaire\",\"Weekly\",IF('Outil Recensement'!M61=\"Horaire\",\"Hourly\",IF('Outil Recensement'!M61=\"Semi-mensuel\",\"Semi-monthly\",IF('Outil Recensement'!M61=\"Applies\",\"Annual\",IF('Outil Recensement'!M61=\"Applicable\",\"Annual\",\"\"))))))))","v":""},{"$f":"IF('Outil Recensement'!N61>0,'Outil Recensement'!N61,\"\")","v":""},{"$f":"IF('Outil Recensement'!O61>0,'Outil Recensement'!O61,\"\")","v":""},{"$f":"IF('Outil Recensement'!I61=\"Refus\",\"Yes\",\"\")","v":""},{"$f":"IF('Outil Recensement'!I61=\"Refus\",\"Yes\",\"\")","v":""},{"$f":"IF('Outil Recensement'!AE61>0,'Outil Recensement'!AE61,\"\")","v":""},{"$f":"IF('Outil Recensement'!AF61>0,'Outil Recensement'!AF61,\"\")","v":""},{"$f":"IF('Outil Recensement'!AG61>0,'Outil Recensement'!AG61,\"\")","v":""},{"$f":"IF('Outil Recensement'!AH61>0,'Outil Recensement'!AH61,\"\")","v":""},{"$f":"IF('Outil Recensement'!AI61>0,'Outil Recensement'!AI61,\"\")","v":" "},{"$f":"IF('Outil Recensement'!AJ61>0,'Outil Recensement'!AJ61,\"\")","v":" "},{"$f":"IF('Outil Recensement'!W61>0,'Outil Recensement'!W61&\" \",\"\")&IF('Outil Recensement'!V61>0,'Outil Recensement'!V61,\"\")","v":""},null,{"$f":"IF('Outil Recensement'!X61>0,'Outil Recensement'!X61,\"\")","v":""},{"$f":"IF('Outil Recensement'!Y61>0,'Outil Recensement'!Y61,\"\")","v":""},{"$f":"IF('Outil Recensement'!Z61>0,'Outil Recensement'!Z61,\"\")","v":""},{"$f":"IF('Outil Recensement'!AA61>0,'Outil Recensement'!AA61,\"\")","v":""},{"$f":"IF('Outil Recensement'!E61>0,'Outil Recensement'!E61,\"\")","v":""},{"$f":"IF('Outil Recensement'!AK61>0,'Outil Recensement'!AK61,\"\")","v":""},{"$f":"IF('Outil Recensement'!AL61>0,'Outil Recensement'!AL61,\"\")","v":""},{"$f":"IF('Outil Recensement'!AM61>0,'Outil Recensement'!AM61,\"\")","v":""},{"$f":"IF('Outil Recensement'!AN61=\"Male\",\"Male\",IF('Outil Recensement'!AN61=\"Female\",\"Female\",IF('Outil Recensement'!AN61=\"M\",\"Male\",IF('Outil Recensement'!AN61=\"F\",\"Female\",\"\"))))","v":""},{"$f":"IF('Outil Recensement'!AO61=\"Single\",\"Single\",IF('Outil Recensement'!AO61=\"Family\",\"Family\",IF('Outil Recensement'!AO61=\"S\",\"Single\",IF('Outil Recensement'!AO61=\"F\",\"Family\",\"\"))))","v":""},{"$f":"IF('Outil Recensement'!AP61=\"Single\",\"Single\",IF('Outil Recensement'!AP61=\"Family\",\"Family\",IF('Outil Recensement'!AP61=\"S\",\"Single\",IF('Outil Recensement'!AP61=\"F\",\"Family\",\"\"))))","v":""},{"$f":"IF('Outil Recensement'!AQ61>0,'Outil Recensement'!AQ61,\"\")","v":""},{"$f":"IF('Outil Recensement'!AR61=\"Yes\",\"Yes\",IF('Outil Recensement'!AR61=\"No\",\"No\",IF('Outil Recensement'!AR61=\"Y\",\"Yes\",IF('Outil Recensement'!AR61=\"N\",\"No\",\"\"))))","v":""},{"$f":"IF('Outil Recensement'!AS61>0,'Outil Recensement'!AS61,\"\")","v":""},{"$f":"IF('Outil Recensement'!AT61>0,'Outil Recensement'!AT61,\"\")","v":""},{"$f":"IF('Outil Recensement'!AU61>0,'Outil Recensement'!AU61,\"\")","v":""},{"$f":"IF('Outil Recensement'!AV61=\"Male\",\"Male\",IF('Outil Recensement'!AV61=\"Female\",\"Female\",IF('Outil Recensement'!AV61=\"M\",\"Male\",IF('Outil Recensement'!AV61=\"F\",\"Female\",\"\"))))","v":""},{"$f":"IF('Outil Recensement'!AW61=\"Yes\",\"Yes\",IF('Outil Recensement'!AW61=\"No\",\"No\",IF('Outil Recensement'!AW61=\"Y\",\"Yes\",IF('Outil Recensement'!AW61=\"N\",\"No\",\"\"))))","v":""},{"$f":"IF('Outil Recensement'!AX61=\"Yes\",\"Yes\",IF('Outil Recensement'!AX61=\"No\",\"No\",IF('Outil Recensement'!AX61=\"Y\",\"Yes\",IF('Outil Recensement'!AX61=\"N\",\"No\",\"\"))))","v":""},{"$f":"IF('Outil Recensement'!AY61>0,'Outil Recensement'!AY61,\"\")","v":""},{"$f":"IF('Outil Recensement'!AZ61>0,'Outil Recensement'!AZ61,\"\")","v":""},{"$f":"IF('Outil Recensement'!BA61>0,'Outil Recensement'!BA61,\"\")","v":""},{"$f":"IF('Outil Recensement'!BB61=\"Male\",\"Male\",IF('Outil Recensement'!BB61=\"Female\",\"Female\",IF('Outil Recensement'!BB61=\"M\",\"Male\",IF('Outil Recensement'!BB61=\"F\",\"Female\",\"\"))))","v":""},{"$f":"IF('Outil Recensement'!BC61=\"Yes\",\"Yes\",IF('Outil Recensement'!BC61=\"No\",\"No\",IF('Outil Recensement'!BC61=\"Y\",\"Yes\",IF('Outil Recensement'!BC61=\"N\",\"No\",\"\"))))","v":""},{"$f":"IF('Outil Recensement'!BD61=\"Yes\",\"Yes\",IF('Outil Recensement'!BD61=\"No\",\"No\",IF('Outil Recensement'!BD61=\"Y\",\"Yes\",IF('Outil Recensement'!BD61=\"N\",\"No\",\"\"))))","v":""},{"$f":"IF('Outil Recensement'!BE61>0,'Outil Recensement'!BE61,\"\")","v":""},{"$f":"IF('Outil Recensement'!BF61>0,'Outil Recensement'!BF61,\"\")","v":""},{"$f":"IF('Outil Recensement'!BG61>0,'Outil Recensement'!BG61,\"\")","v":""},{"$f":"IF('Outil Recensement'!BH61=\"Male\",\"Male\",IF('Outil Recensement'!BH61=\"Female\",\"Female\",IF('Outil Recensement'!BH61=\"M\",\"Male\",IF('Outil Recensement'!BH61=\"F\",\"Female\",\"\"))))","v":""},{"$f":"IF('Outil Recensement'!BI61=\"Yes\",\"Yes\",IF('Outil Recensement'!BI61=\"No\",\"No\",IF('Outil Recensement'!BI61=\"Y\",\"Yes\",IF('Outil Recensement'!BI61=\"N\",\"No\",\"\"))))","v":""},{"$f":"IF('Outil Recensement'!BJ61=\"Yes\",\"Yes\",IF('Outil Recensement'!BJ61=\"No\",\"No\",IF('Outil Recensement'!BJ61=\"Y\",\"Yes\",IF('Outil Recensement'!BJ61=\"N\",\"No\",\"\"))))","v":""},{"$f":"IF('Outil Recensement'!BK61>0,'Outil Recensement'!BK61,\"\")","v":""},{"$f":"IF('Outil Recensement'!BL61>0,'Outil Recensement'!BL61,\"\")","v":""},{"$f":"IF('Outil Recensement'!BM61>0,'Outil Recensement'!BM61,\"\")","v":""},{"$f":"IF('Outil Recensement'!BN61=\"Male\",\"Male\",IF('Outil Recensement'!BN61=\"Female\",\"Female\",IF('Outil Recensement'!BN61=\"M\",\"Male\",IF('Outil Recensement'!BN61=\"F\",\"Female\",\"\"))))","v":""},{"$f":"IF('Outil Recensement'!BO61=\"Yes\",\"Yes\",IF('Outil Recensement'!BO61=\"No\",\"No\",IF('Outil Recensement'!BO61=\"Y\",\"Yes\",IF('Outil Recensement'!BO61=\"N\",\"No\",\"\"))))","v":""},{"$f":"IF('Outil Recensement'!BP61=\"Yes\",\"Yes\",IF('Outil Recensement'!BP61=\"No\",\"No\",IF('Outil Recensement'!BP61=\"Y\",\"Yes\",IF('Outil Recensement'!BP61=\"N\",\"No\",\"\"))))","v":""},{"$f":"IF('Outil Recensement'!BQ61>0,'Outil Recensement'!BQ61,\"\")","v":""},{"$f":"IF('Outil Recensement'!BR61>0,'Outil Recensement'!BR61,\"\")","v":""},{"$f":"IF('Outil Recensement'!BS61>0,'Outil Recensement'!BS61,\"\")","v":""},{"$f":"IF('Outil Recensement'!BT61=\"Male\",\"Male\",IF('Outil Recensement'!BT61=\"Female\",\"Female\",IF('Outil Recensement'!BT61=\"M\",\"Male\",IF('Outil Recensement'!BT61=\"F\",\"Female\",\"\"))))","v":""},{"$f":"IF('Outil Recensement'!BU61=\"Yes\",\"Yes\",IF('Outil Recensement'!BU61=\"No\",\"No\",IF('Outil Recensement'!BU61=\"Y\",\"Yes\",IF('Outil Recensement'!BU61=\"N\",\"No\",\"\"))))","v":""},{"$f":"IF('Outil Recensement'!BV61=\"Yes\",\"Yes\",IF('Outil Recensement'!BV61=\"No\",\"No\",IF('Outil Recensement'!BV61=\"Y\",\"Yes\",IF('Outil Recensement'!BV61=\"N\",\"No\",\"\"))))","v":""},{"$f":"IF('Outil Recensement'!BW61>0,'Outil Recensement'!BW61,\"\")","v":""},{"$f":"IF('Outil Recensement'!BX61>0,'Outil Recensement'!BX61,\"\")","v":""},{"$f":"IF('Outil Recensement'!BY61>0,'Outil Recensement'!BY61,\"\")","v":""},{"$f":"IF('Outil Recensement'!BZ61=\"Male\",\"Male\",IF('Outil Recensement'!BZ61=\"Female\",\"Female\",IF('Outil Recensement'!BZ61=\"M\",\"Male\",IF('Outil Recensement'!BZ61=\"F\",\"Female\",\"\"))))","v":""},{"$f":"IF('Outil Recensement'!CA61=\"Yes\",\"Yes\",IF('Outil Recensement'!CA61=\"No\",\"No\",IF('Outil Recensement'!CA61=\"Y\",\"Yes\",IF('Outil Recensement'!CA61=\"N\",\"No\",\"\"))))","v":""},{"$f":"IF('Outil Recensement'!CB61=\"Yes\",\"Yes\",IF('Outil Recensement'!CB61=\"No\",\"No\",IF('Outil Recensement'!CB61=\"Y\",\"Yes\",IF('Outil Recensement'!CB61=\"N\",\"No\",\"\"))))","v":""},{"$f":"IF('Outil Recensement'!CH61>0,'Outil Recensement'!CH61,\"\")","v":"    "}]
[{"$f":"IF('Outil Recensement'!A62>0,'Outil Recensement'!A62,\"\")","v":""},{"$f":"IF('Outil Recensement'!B62>0,'Outil Recensement'!B62,\"\")","v":""},{"$f":"IF('Outil Recensement'!C62>0,'Outil Recensement'!C62,\"\")","v":""},{"$f":"IF('Outil Recensement'!D62>0,'Outil Recensement'!D62,\"\")","v":""},{"$f":"IF('Outil Recensement'!P62>0,TEXT('Outil Recensement'!P62,\"000\"),\"\")","v":""},{"$f":"IF('Outil Recensement'!Q62>0,'Outil Recensement'!Q62,\"\")","v":""},{"$f":"IF('Outil Recensement'!R62>0,'Outil Recensement'!R62,\"\")","v":""},{"$f":"IF('Outil Recensement'!F62>0,DATEVALUE(TEXT('Outil Recensement'!F62,\"yyyy-mm-dd\")),\"\")","v":""},{"$f":"IF('Outil Recensement'!L62>0,DATEVALUE(TEXT('Outil Recensement'!L62,\"yyyy-mm-dd\")),\"\")","v":""},{"$f":"IF('Outil Recensement'!Y62>0,'Outil Recensement'!Y62,\"\")","v":""},{"$f":"IF('Outil Recensement'!T62>0,'Outil Recensement'!T62,\"\")","v":""},{"$f":"IF('Outil Recensement'!G62=\"Homme\",\"Male\",IF('Outil Recensement'!G62=\"Femme\",\"Female\",IF('Outil Recensement'!G62=\"H\",\"Male\",IF('Outil Recensement'!G62=\"F\",\"Female\",\"\"))))","v":""},{"$f":"IF('Outil Recensement'!U62=\"Yes\",\"Yes\",IF('Outil Recensement'!U62=\"No\",\"No\",IF('Outil Recensement'!U62=\"Y\",\"Yes\",IF('Outil Recensement'!U62=\"N\",\"No\",\"\"))))","v":""},{"$f":"IF('Outil Recensement'!I62=\"Individuelle\",\"Single\",IF('Outil Recensement'!I62=\"Familiale\",\"Family\",IF('Outil Recensement'!I62=\"Refus\",\"Family\",IF('Outil Recensement'!I62=\"Parent seul\",\"Family\",IF('Outil Recensement'!I62=\"Couple\",\"Family\",IF('Outil Recensement'!I62=\"In force\",\"Family\",IF('Outil Recensement'!I62=\"Applies\",\"Family\",IF('Outil Recensement'!I62=\"Applicable\",\"Family\",\"\"))))))))","v":""},{"$f":"IF('Outil Recensement'!AC62=\"Anglais\",\"English\",IF('Outil Recensement'!AC62=\"Français\",\"French\",IF('Outil Recensement'!AC62=\"A\",\"English\",IF('Outil Recensement'!AC62=\"F\",\"French\",\"\"))))","v":""},{"$f":"IF('Outil Recensement'!AB62=\"Oui\",\"Yes\",IF('Outil Recensement'!AB62=\"Non\",\"No\",IF('Outil Recensement'!AB62=\"O\",\"Yes\",IF('Outil Recensement'!AB62=\"N\",\"No\",\"\"))))","v":""},{"$f":"IF('Outil Recensement'!AD62>0,'Outil Recensement'!AD62,\"\")","v":""},{"$f":"IF('Outil Recensement'!M62=\"Annuel\",\"Annually\",IF('Outil Recensement'!M62=\"Mensuel\",\"Monthly\",IF('Outil Recensement'!M62=\"Bihebdomadaire\",\"Biweekly\",IF('Outil Recensement'!M62=\"Hebdomadaire\",\"Weekly\",IF('Outil Recensement'!M62=\"Horaire\",\"Hourly\",IF('Outil Recensement'!M62=\"Semi-mensuel\",\"Semi-monthly\",IF('Outil Recensement'!M62=\"Applies\",\"Annual\",IF('Outil Recensement'!M62=\"Applicable\",\"Annual\",\"\"))))))))","v":""},{"$f":"IF('Outil Recensement'!N62>0,'Outil Recensement'!N62,\"\")","v":""},{"$f":"IF('Outil Recensement'!O62>0,'Outil Recensement'!O62,\"\")","v":""},{"$f":"IF('Outil Recensement'!I62=\"Refus\",\"Yes\",\"\")","v":""},{"$f":"IF('Outil Recensement'!I62=\"Refus\",\"Yes\",\"\")","v":""},{"$f":"IF('Outil Recensement'!AE62>0,'Outil Recensement'!AE62,\"\")","v":""},{"$f":"IF('Outil Recensement'!AF62>0,'Outil Recensement'!AF62,\"\")","v":""},{"$f":"IF('Outil Recensement'!AG62>0,'Outil Recensement'!AG62,\"\")","v":""},{"$f":"IF('Outil Recensement'!AH62>0,'Outil Recensement'!AH62,\"\")","v":""},{"$f":"IF('Outil Recensement'!AI62>0,'Outil Recensement'!AI62,\"\")","v":" "},{"$f":"IF('Outil Recensement'!AJ62>0,'Outil Recensement'!AJ62,\"\")","v":" "},{"$f":"IF('Outil Recensement'!W62>0,'Outil Recensement'!W62&\" \",\"\")&IF('Outil Recensement'!V62>0,'Outil Recensement'!V62,\"\")","v":""},null,{"$f":"IF('Outil Recensement'!X62>0,'Outil Recensement'!X62,\"\")","v":""},{"$f":"IF('Outil Recensement'!Y62>0,'Outil Recensement'!Y62,\"\")","v":""},{"$f":"IF('Outil Recensement'!Z62>0,'Outil Recensement'!Z62,\"\")","v":""},{"$f":"IF('Outil Recensement'!AA62>0,'Outil Recensement'!AA62,\"\")","v":""},{"$f":"IF('Outil Recensement'!E62>0,'Outil Recensement'!E62,\"\")","v":""},{"$f":"IF('Outil Recensement'!AK62>0,'Outil Recensement'!AK62,\"\")","v":""},{"$f":"IF('Outil Recensement'!AL62>0,'Outil Recensement'!AL62,\"\")","v":""},{"$f":"IF('Outil Recensement'!AM62>0,'Outil Recensement'!AM62,\"\")","v":""},{"$f":"IF('Outil Recensement'!AN62=\"Male\",\"Male\",IF('Outil Recensement'!AN62=\"Female\",\"Female\",IF('Outil Recensement'!AN62=\"M\",\"Male\",IF('Outil Recensement'!AN62=\"F\",\"Female\",\"\"))))","v":""},{"$f":"IF('Outil Recensement'!AO62=\"Single\",\"Single\",IF('Outil Recensement'!AO62=\"Family\",\"Family\",IF('Outil Recensement'!AO62=\"S\",\"Single\",IF('Outil Recensement'!AO62=\"F\",\"Family\",\"\"))))","v":""},{"$f":"IF('Outil Recensement'!AP62=\"Single\",\"Single\",IF('Outil Recensement'!AP62=\"Family\",\"Family\",IF('Outil Recensement'!AP62=\"S\",\"Single\",IF('Outil Recensement'!AP62=\"F\",\"Family\",\"\"))))","v":""},{"$f":"IF('Outil Recensement'!AQ62>0,'Outil Recensement'!AQ62,\"\")","v":""},{"$f":"IF('Outil Recensement'!AR62=\"Yes\",\"Yes\",IF('Outil Recensement'!AR62=\"No\",\"No\",IF('Outil Recensement'!AR62=\"Y\",\"Yes\",IF('Outil Recensement'!AR62=\"N\",\"No\",\"\"))))","v":""},{"$f":"IF('Outil Recensement'!AS62>0,'Outil Recensement'!AS62,\"\")","v":""},{"$f":"IF('Outil Recensement'!AT62>0,'Outil Recensement'!AT62,\"\")","v":""},{"$f":"IF('Outil Recensement'!AU62>0,'Outil Recensement'!AU62,\"\")","v":""},{"$f":"IF('Outil Recensement'!AV62=\"Male\",\"Male\",IF('Outil Recensement'!AV62=\"Female\",\"Female\",IF('Outil Recensement'!AV62=\"M\",\"Male\",IF('Outil Recensement'!AV62=\"F\",\"Female\",\"\"))))","v":""},{"$f":"IF('Outil Recensement'!AW62=\"Yes\",\"Yes\",IF('Outil Recensement'!AW62=\"No\",\"No\",IF('Outil Recensement'!AW62=\"Y\",\"Yes\",IF('Outil Recensement'!AW62=\"N\",\"No\",\"\"))))","v":""},{"$f":"IF('Outil Recensement'!AX62=\"Yes\",\"Yes\",IF('Outil Recensement'!AX62=\"No\",\"No\",IF('Outil Recensement'!AX62=\"Y\",\"Yes\",IF('Outil Recensement'!AX62=\"N\",\"No\",\"\"))))","v":""},{"$f":"IF('Outil Recensement'!AY62>0,'Outil Recensement'!AY62,\"\")","v":""},{"$f":"IF('Outil Recensement'!AZ62>0,'Outil Recensement'!AZ62,\"\")","v":""},{"$f":"IF('Outil Recensement'!BA62>0,'Outil Recensement'!BA62,\"\")","v":""},{"$f":"IF('Outil Recensement'!BB62=\"Male\",\"Male\",IF('Outil Recensement'!BB62=\"Female\",\"Female\",IF('Outil Recensement'!BB62=\"M\",\"Male\",IF('Outil Recensement'!BB62=\"F\",\"Female\",\"\"))))","v":""},{"$f":"IF('Outil Recensement'!BC62=\"Yes\",\"Yes\",IF('Outil Recensement'!BC62=\"No\",\"No\",IF('Outil Recensement'!BC62=\"Y\",\"Yes\",IF('Outil Recensement'!BC62=\"N\",\"No\",\"\"))))","v":""},{"$f":"IF('Outil Recensement'!BD62=\"Yes\",\"Yes\",IF('Outil Recensement'!BD62=\"No\",\"No\",IF('Outil Recensement'!BD62=\"Y\",\"Yes\",IF('Outil Recensement'!BD62=\"N\",\"No\",\"\"))))","v":""},{"$f":"IF('Outil Recensement'!BE62>0,'Outil Recensement'!BE62,\"\")","v":""},{"$f":"IF('Outil Recensement'!BF62>0,'Outil Recensement'!BF62,\"\")","v":""},{"$f":"IF('Outil Recensement'!BG62>0,'Outil Recensement'!BG62,\"\")","v":""},{"$f":"IF('Outil Recensement'!BH62=\"Male\",\"Male\",IF('Outil Recensement'!BH62=\"Female\",\"Female\",IF('Outil Recensement'!BH62=\"M\",\"Male\",IF('Outil Recensement'!BH62=\"F\",\"Female\",\"\"))))","v":""},{"$f":"IF('Outil Recensement'!BI62=\"Yes\",\"Yes\",IF('Outil Recensement'!BI62=\"No\",\"No\",IF('Outil Recensement'!BI62=\"Y\",\"Yes\",IF('Outil Recensement'!BI62=\"N\",\"No\",\"\"))))","v":""},{"$f":"IF('Outil Recensement'!BJ62=\"Yes\",\"Yes\",IF('Outil Recensement'!BJ62=\"No\",\"No\",IF('Outil Recensement'!BJ62=\"Y\",\"Yes\",IF('Outil Recensement'!BJ62=\"N\",\"No\",\"\"))))","v":""},{"$f":"IF('Outil Recensement'!BK62>0,'Outil Recensement'!BK62,\"\")","v":""},{"$f":"IF('Outil Recensement'!BL62>0,'Outil Recensement'!BL62,\"\")","v":""},{"$f":"IF('Outil Recensement'!BM62>0,'Outil Recensement'!BM62,\"\")","v":""},{"$f":"IF('Outil Recensement'!BN62=\"Male\",\"Male\",IF('Outil Recensement'!BN62=\"Female\",\"Female\",IF('Outil Recensement'!BN62=\"M\",\"Male\",IF('Outil Recensement'!BN62=\"F\",\"Female\",\"\"))))","v":""},{"$f":"IF('Outil Recensement'!BO62=\"Yes\",\"Yes\",IF('Outil Recensement'!BO62=\"No\",\"No\",IF('Outil Recensement'!BO62=\"Y\",\"Yes\",IF('Outil Recensement'!BO62=\"N\",\"No\",\"\"))))","v":""},{"$f":"IF('Outil Recensement'!BP62=\"Yes\",\"Yes\",IF('Outil Recensement'!BP62=\"No\",\"No\",IF('Outil Recensement'!BP62=\"Y\",\"Yes\",IF('Outil Recensement'!BP62=\"N\",\"No\",\"\"))))","v":""},{"$f":"IF('Outil Recensement'!BQ62>0,'Outil Recensement'!BQ62,\"\")","v":""},{"$f":"IF('Outil Recensement'!BR62>0,'Outil Recensement'!BR62,\"\")","v":""},{"$f":"IF('Outil Recensement'!BS62>0,'Outil Recensement'!BS62,\"\")","v":""},{"$f":"IF('Outil Recensement'!BT62=\"Male\",\"Male\",IF('Outil Recensement'!BT62=\"Female\",\"Female\",IF('Outil Recensement'!BT62=\"M\",\"Male\",IF('Outil Recensement'!BT62=\"F\",\"Female\",\"\"))))","v":""},{"$f":"IF('Outil Recensement'!BU62=\"Yes\",\"Yes\",IF('Outil Recensement'!BU62=\"No\",\"No\",IF('Outil Recensement'!BU62=\"Y\",\"Yes\",IF('Outil Recensement'!BU62=\"N\",\"No\",\"\"))))","v":""},{"$f":"IF('Outil Recensement'!BV62=\"Yes\",\"Yes\",IF('Outil Recensement'!BV62=\"No\",\"No\",IF('Outil Recensement'!BV62=\"Y\",\"Yes\",IF('Outil Recensement'!BV62=\"N\",\"No\",\"\"))))","v":""},{"$f":"IF('Outil Recensement'!BW62>0,'Outil Recensement'!BW62,\"\")","v":""},{"$f":"IF('Outil Recensement'!BX62>0,'Outil Recensement'!BX62,\"\")","v":""},{"$f":"IF('Outil Recensement'!BY62>0,'Outil Recensement'!BY62,\"\")","v":""},{"$f":"IF('Outil Recensement'!BZ62=\"Male\",\"Male\",IF('Outil Recensement'!BZ62=\"Female\",\"Female\",IF('Outil Recensement'!BZ62=\"M\",\"Male\",IF('Outil Recensement'!BZ62=\"F\",\"Female\",\"\"))))","v":""},{"$f":"IF('Outil Recensement'!CA62=\"Yes\",\"Yes\",IF('Outil Recensement'!CA62=\"No\",\"No\",IF('Outil Recensement'!CA62=\"Y\",\"Yes\",IF('Outil Recensement'!CA62=\"N\",\"No\",\"\"))))","v":""},{"$f":"IF('Outil Recensement'!CB62=\"Yes\",\"Yes\",IF('Outil Recensement'!CB62=\"No\",\"No\",IF('Outil Recensement'!CB62=\"Y\",\"Yes\",IF('Outil Recensement'!CB62=\"N\",\"No\",\"\"))))","v":""},{"$f":"IF('Outil Recensement'!CH62>0,'Outil Recensement'!CH62,\"\")","v":"    "}]
[{"$f":"IF('Outil Recensement'!A63>0,'Outil Recensement'!A63,\"\")","v":""},{"$f":"IF('Outil Recensement'!B63>0,'Outil Recensement'!B63,\"\")","v":""},{"$f":"IF('Outil Recensement'!C63>0,'Outil Recensement'!C63,\"\")","v":""},{"$f":"IF('Outil Recensement'!D63>0,'Outil Recensement'!D63,\"\")","v":""},{"$f":"IF('Outil Recensement'!P63>0,TEXT('Outil Recensement'!P63,\"000\"),\"\")","v":""},{"$f":"IF('Outil Recensement'!Q63>0,'Outil Recensement'!Q63,\"\")","v":""},{"$f":"IF('Outil Recensement'!R63>0,'Outil Recensement'!R63,\"\")","v":""},{"$f":"IF('Outil Recensement'!F63>0,DATEVALUE(TEXT('Outil Recensement'!F63,\"yyyy-mm-dd\")),\"\")","v":""},{"$f":"IF('Outil Recensement'!L63>0,DATEVALUE(TEXT('Outil Recensement'!L63,\"yyyy-mm-dd\")),\"\")","v":""},{"$f":"IF('Outil Recensement'!Y63>0,'Outil Recensement'!Y63,\"\")","v":""},{"$f":"IF('Outil Recensement'!T63>0,'Outil Recensement'!T63,\"\")","v":""},{"$f":"IF('Outil Recensement'!G63=\"Homme\",\"Male\",IF('Outil Recensement'!G63=\"Femme\",\"Female\",IF('Outil Recensement'!G63=\"H\",\"Male\",IF('Outil Recensement'!G63=\"F\",\"Female\",\"\"))))","v":""},{"$f":"IF('Outil Recensement'!U63=\"Yes\",\"Yes\",IF('Outil Recensement'!U63=\"No\",\"No\",IF('Outil Recensement'!U63=\"Y\",\"Yes\",IF('Outil Recensement'!U63=\"N\",\"No\",\"\"))))","v":""},{"$f":"IF('Outil Recensement'!I63=\"Individuelle\",\"Single\",IF('Outil Recensement'!I63=\"Familiale\",\"Family\",IF('Outil Recensement'!I63=\"Refus\",\"Family\",IF('Outil Recensement'!I63=\"Parent seul\",\"Family\",IF('Outil Recensement'!I63=\"Couple\",\"Family\",IF('Outil Recensement'!I63=\"In force\",\"Family\",IF('Outil Recensement'!I63=\"Applies\",\"Family\",IF('Outil Recensement'!I63=\"Applicable\",\"Family\",\"\"))))))))","v":""},{"$f":"IF('Outil Recensement'!AC63=\"Anglais\",\"English\",IF('Outil Recensement'!AC63=\"Français\",\"French\",IF('Outil Recensement'!AC63=\"A\",\"English\",IF('Outil Recensement'!AC63=\"F\",\"French\",\"\"))))","v":""},{"$f":"IF('Outil Recensement'!AB63=\"Oui\",\"Yes\",IF('Outil Recensement'!AB63=\"Non\",\"No\",IF('Outil Recensement'!AB63=\"O\",\"Yes\",IF('Outil Recensement'!AB63=\"N\",\"No\",\"\"))))","v":""},{"$f":"IF('Outil Recensement'!AD63>0,'Outil Recensement'!AD63,\"\")","v":""},{"$f":"IF('Outil Recensement'!M63=\"Annuel\",\"Annually\",IF('Outil Recensement'!M63=\"Mensuel\",\"Monthly\",IF('Outil Recensement'!M63=\"Bihebdomadaire\",\"Biweekly\",IF('Outil Recensement'!M63=\"Hebdomadaire\",\"Weekly\",IF('Outil Recensement'!M63=\"Horaire\",\"Hourly\",IF('Outil Recensement'!M63=\"Semi-mensuel\",\"Semi-monthly\",IF('Outil Recensement'!M63=\"Applies\",\"Annual\",IF('Outil Recensement'!M63=\"Applicable\",\"Annual\",\"\"))))))))","v":""},{"$f":"IF('Outil Recensement'!N63>0,'Outil Recensement'!N63,\"\")","v":""},{"$f":"IF('Outil Recensement'!O63>0,'Outil Recensement'!O63,\"\")","v":""},{"$f":"IF('Outil Recensement'!I63=\"Refus\",\"Yes\",\"\")","v":""},{"$f":"IF('Outil Recensement'!I63=\"Refus\",\"Yes\",\"\")","v":""},{"$f":"IF('Outil Recensement'!AE63>0,'Outil Recensement'!AE63,\"\")","v":""},{"$f":"IF('Outil Recensement'!AF63>0,'Outil Recensement'!AF63,\"\")","v":""},{"$f":"IF('Outil Recensement'!AG63>0,'Outil Recensement'!AG63,\"\")","v":""},{"$f":"IF('Outil Recensement'!AH63>0,'Outil Recensement'!AH63,\"\")","v":""},{"$f":"IF('Outil Recensement'!AI63>0,'Outil Recensement'!AI63,\"\")","v":" "},{"$f":"IF('Outil Recensement'!AJ63>0,'Outil Recensement'!AJ63,\"\")","v":" "},{"$f":"IF('Outil Recensement'!W63>0,'Outil Recensement'!W63&\" \",\"\")&IF('Outil Recensement'!V63>0,'Outil Recensement'!V63,\"\")","v":""},null,{"$f":"IF('Outil Recensement'!X63>0,'Outil Recensement'!X63,\"\")","v":""},{"$f":"IF('Outil Recensement'!Y63>0,'Outil Recensement'!Y63,\"\")","v":""},{"$f":"IF('Outil Recensement'!Z63>0,'Outil Recensement'!Z63,\"\")","v":""},{"$f":"IF('Outil Recensement'!AA63>0,'Outil Recensement'!AA63,\"\")","v":""},{"$f":"IF('Outil Recensement'!E63>0,'Outil Recensement'!E63,\"\")","v":""},{"$f":"IF('Outil Recensement'!AK63>0,'Outil Recensement'!AK63,\"\")","v":""},{"$f":"IF('Outil Recensement'!AL63>0,'Outil Recensement'!AL63,\"\")","v":""},{"$f":"IF('Outil Recensement'!AM63>0,'Outil Recensement'!AM63,\"\")","v":""},{"$f":"IF('Outil Recensement'!AN63=\"Male\",\"Male\",IF('Outil Recensement'!AN63=\"Female\",\"Female\",IF('Outil Recensement'!AN63=\"M\",\"Male\",IF('Outil Recensement'!AN63=\"F\",\"Female\",\"\"))))","v":""},{"$f":"IF('Outil Recensement'!AO63=\"Single\",\"Single\",IF('Outil Recensement'!AO63=\"Family\",\"Family\",IF('Outil Recensement'!AO63=\"S\",\"Single\",IF('Outil Recensement'!AO63=\"F\",\"Family\",\"\"))))","v":""},{"$f":"IF('Outil Recensement'!AP63=\"Single\",\"Single\",IF('Outil Recensement'!AP63=\"Family\",\"Family\",IF('Outil Recensement'!AP63=\"S\",\"Single\",IF('Outil Recensement'!AP63=\"F\",\"Family\",\"\"))))","v":""},{"$f":"IF('Outil Recensement'!AQ63>0,'Outil Recensement'!AQ63,\"\")","v":""},{"$f":"IF('Outil Recensement'!AR63=\"Yes\",\"Yes\",IF('Outil Recensement'!AR63=\"No\",\"No\",IF('Outil Recensement'!AR63=\"Y\",\"Yes\",IF('Outil Recensement'!AR63=\"N\",\"No\",\"\"))))","v":""},{"$f":"IF('Outil Recensement'!AS63>0,'Outil Recensement'!AS63,\"\")","v":""},{"$f":"IF('Outil Recensement'!AT63>0,'Outil Recensement'!AT63,\"\")","v":""},{"$f":"IF('Outil Recensement'!AU63>0,'Outil Recensement'!AU63,\"\")","v":""},{"$f":"IF('Outil Recensement'!AV63=\"Male\",\"Male\",IF('Outil Recensement'!AV63=\"Female\",\"Female\",IF('Outil Recensement'!AV63=\"M\",\"Male\",IF('Outil Recensement'!AV63=\"F\",\"Female\",\"\"))))","v":""},{"$f":"IF('Outil Recensement'!AW63=\"Yes\",\"Yes\",IF('Outil Recensement'!AW63=\"No\",\"No\",IF('Outil Recensement'!AW63=\"Y\",\"Yes\",IF('Outil Recensement'!AW63=\"N\",\"No\",\"\"))))","v":""},{"$f":"IF('Outil Recensement'!AX63=\"Yes\",\"Yes\",IF('Outil Recensement'!AX63=\"No\",\"No\",IF('Outil Recensement'!AX63=\"Y\",\"Yes\",IF('Outil Recensement'!AX63=\"N\",\"No\",\"\"))))","v":""},{"$f":"IF('Outil Recensement'!AY63>0,'Outil Recensement'!AY63,\"\")","v":""},{"$f":"IF('Outil Recensement'!AZ63>0,'Outil Recensement'!AZ63,\"\")","v":""},{"$f":"IF('Outil Recensement'!BA63>0,'Outil Recensement'!BA63,\"\")","v":""},{"$f":"IF('Outil Recensement'!BB63=\"Male\",\"Male\",IF('Outil Recensement'!BB63=\"Female\",\"Female\",IF('Outil Recensement'!BB63=\"M\",\"Male\",IF('Outil Recensement'!BB63=\"F\",\"Female\",\"\"))))","v":""},{"$f":"IF('Outil Recensement'!BC63=\"Yes\",\"Yes\",IF('Outil Recensement'!BC63=\"No\",\"No\",IF('Outil Recensement'!BC63=\"Y\",\"Yes\",IF('Outil Recensement'!BC63=\"N\",\"No\",\"\"))))","v":""},{"$f":"IF('Outil Recensement'!BD63=\"Yes\",\"Yes\",IF('Outil Recensement'!BD63=\"No\",\"No\",IF('Outil Recensement'!BD63=\"Y\",\"Yes\",IF('Outil Recensement'!BD63=\"N\",\"No\",\"\"))))","v":""},{"$f":"IF('Outil Recensement'!BE63>0,'Outil Recensement'!BE63,\"\")","v":""},{"$f":"IF('Outil Recensement'!BF63>0,'Outil Recensement'!BF63,\"\")","v":""},{"$f":"IF('Outil Recensement'!BG63>0,'Outil Recensement'!BG63,\"\")","v":""},{"$f":"IF('Outil Recensement'!BH63=\"Male\",\"Male\",IF('Outil Recensement'!BH63=\"Female\",\"Female\",IF('Outil Recensement'!BH63=\"M\",\"Male\",IF('Outil Recensement'!BH63=\"F\",\"Female\",\"\"))))","v":""},{"$f":"IF('Outil Recensement'!BI63=\"Yes\",\"Yes\",IF('Outil Recensement'!BI63=\"No\",\"No\",IF('Outil Recensement'!BI63=\"Y\",\"Yes\",IF('Outil Recensement'!BI63=\"N\",\"No\",\"\"))))","v":""},{"$f":"IF('Outil Recensement'!BJ63=\"Yes\",\"Yes\",IF('Outil Recensement'!BJ63=\"No\",\"No\",IF('Outil Recensement'!BJ63=\"Y\",\"Yes\",IF('Outil Recensement'!BJ63=\"N\",\"No\",\"\"))))","v":""},{"$f":"IF('Outil Recensement'!BK63>0,'Outil Recensement'!BK63,\"\")","v":""},{"$f":"IF('Outil Recensement'!BL63>0,'Outil Recensement'!BL63,\"\")","v":""},{"$f":"IF('Outil Recensement'!BM63>0,'Outil Recensement'!BM63,\"\")","v":""},{"$f":"IF('Outil Recensement'!BN63=\"Male\",\"Male\",IF('Outil Recensement'!BN63=\"Female\",\"Female\",IF('Outil Recensement'!BN63=\"M\",\"Male\",IF('Outil Recensement'!BN63=\"F\",\"Female\",\"\"))))","v":""},{"$f":"IF('Outil Recensement'!BO63=\"Yes\",\"Yes\",IF('Outil Recensement'!BO63=\"No\",\"No\",IF('Outil Recensement'!BO63=\"Y\",\"Yes\",IF('Outil Recensement'!BO63=\"N\",\"No\",\"\"))))","v":""},{"$f":"IF('Outil Recensement'!BP63=\"Yes\",\"Yes\",IF('Outil Recensement'!BP63=\"No\",\"No\",IF('Outil Recensement'!BP63=\"Y\",\"Yes\",IF('Outil Recensement'!BP63=\"N\",\"No\",\"\"))))","v":""},{"$f":"IF('Outil Recensement'!BQ63>0,'Outil Recensement'!BQ63,\"\")","v":""},{"$f":"IF('Outil Recensement'!BR63>0,'Outil Recensement'!BR63,\"\")","v":""},{"$f":"IF('Outil Recensement'!BS63>0,'Outil Recensement'!BS63,\"\")","v":""},{"$f":"IF('Outil Recensement'!BT63=\"Male\",\"Male\",IF('Outil Recensement'!BT63=\"Female\",\"Female\",IF('Outil Recensement'!BT63=\"M\",\"Male\",IF('Outil Recensement'!BT63=\"F\",\"Female\",\"\"))))","v":""},{"$f":"IF('Outil Recensement'!BU63=\"Yes\",\"Yes\",IF('Outil Recensement'!BU63=\"No\",\"No\",IF('Outil Recensement'!BU63=\"Y\",\"Yes\",IF('Outil Recensement'!BU63=\"N\",\"No\",\"\"))))","v":""},{"$f":"IF('Outil Recensement'!BV63=\"Yes\",\"Yes\",IF('Outil Recensement'!BV63=\"No\",\"No\",IF('Outil Recensement'!BV63=\"Y\",\"Yes\",IF('Outil Recensement'!BV63=\"N\",\"No\",\"\"))))","v":""},{"$f":"IF('Outil Recensement'!BW63>0,'Outil Recensement'!BW63,\"\")","v":""},{"$f":"IF('Outil Recensement'!BX63>0,'Outil Recensement'!BX63,\"\")","v":""},{"$f":"IF('Outil Recensement'!BY63>0,'Outil Recensement'!BY63,\"\")","v":""},{"$f":"IF('Outil Recensement'!BZ63=\"Male\",\"Male\",IF('Outil Recensement'!BZ63=\"Female\",\"Female\",IF('Outil Recensement'!BZ63=\"M\",\"Male\",IF('Outil Recensement'!BZ63=\"F\",\"Female\",\"\"))))","v":""},{"$f":"IF('Outil Recensement'!CA63=\"Yes\",\"Yes\",IF('Outil Recensement'!CA63=\"No\",\"No\",IF('Outil Recensement'!CA63=\"Y\",\"Yes\",IF('Outil Recensement'!CA63=\"N\",\"No\",\"\"))))","v":""},{"$f":"IF('Outil Recensement'!CB63=\"Yes\",\"Yes\",IF('Outil Recensement'!CB63=\"No\",\"No\",IF('Outil Recensement'!CB63=\"Y\",\"Yes\",IF('Outil Recensement'!CB63=\"N\",\"No\",\"\"))))","v":""},{"$f":"IF('Outil Recensement'!CH63>0,'Outil Recensement'!CH63,\"\")","v":"    "}]
[{"$f":"IF('Outil Recensement'!A64>0,'Outil Recensement'!A64,\"\")","v":""},{"$f":"IF('Outil Recensement'!B64>0,'Outil Recensement'!B64,\"\")","v":""},{"$f":"IF('Outil Recensement'!C64>0,'Outil Recensement'!C64,\"\")","v":""},{"$f":"IF('Outil Recensement'!D64>0,'Outil Recensement'!D64,\"\")","v":""},{"$f":"IF('Outil Recensement'!P64>0,TEXT('Outil Recensement'!P64,\"000\"),\"\")","v":""},{"$f":"IF('Outil Recensement'!Q64>0,'Outil Recensement'!Q64,\"\")","v":""},{"$f":"IF('Outil Recensement'!R64>0,'Outil Recensement'!R64,\"\")","v":""},{"$f":"IF('Outil Recensement'!F64>0,DATEVALUE(TEXT('Outil Recensement'!F64,\"yyyy-mm-dd\")),\"\")","v":""},{"$f":"IF('Outil Recensement'!L64>0,DATEVALUE(TEXT('Outil Recensement'!L64,\"yyyy-mm-dd\")),\"\")","v":""},{"$f":"IF('Outil Recensement'!Y64>0,'Outil Recensement'!Y64,\"\")","v":""},{"$f":"IF('Outil Recensement'!T64>0,'Outil Recensement'!T64,\"\")","v":""},{"$f":"IF('Outil Recensement'!G64=\"Homme\",\"Male\",IF('Outil Recensement'!G64=\"Femme\",\"Female\",IF('Outil Recensement'!G64=\"H\",\"Male\",IF('Outil Recensement'!G64=\"F\",\"Female\",\"\"))))","v":""},{"$f":"IF('Outil Recensement'!U64=\"Yes\",\"Yes\",IF('Outil Recensement'!U64=\"No\",\"No\",IF('Outil Recensement'!U64=\"Y\",\"Yes\",IF('Outil Recensement'!U64=\"N\",\"No\",\"\"))))","v":""},{"$f":"IF('Outil Recensement'!I64=\"Individuelle\",\"Single\",IF('Outil Recensement'!I64=\"Familiale\",\"Family\",IF('Outil Recensement'!I64=\"Refus\",\"Family\",IF('Outil Recensement'!I64=\"Parent seul\",\"Family\",IF('Outil Recensement'!I64=\"Couple\",\"Family\",IF('Outil Recensement'!I64=\"In force\",\"Family\",IF('Outil Recensement'!I64=\"Applies\",\"Family\",IF('Outil Recensement'!I64=\"Applicable\",\"Family\",\"\"))))))))","v":""},{"$f":"IF('Outil Recensement'!AC64=\"Anglais\",\"English\",IF('Outil Recensement'!AC64=\"Français\",\"French\",IF('Outil Recensement'!AC64=\"A\",\"English\",IF('Outil Recensement'!AC64=\"F\",\"French\",\"\"))))","v":""},{"$f":"IF('Outil Recensement'!AB64=\"Oui\",\"Yes\",IF('Outil Recensement'!AB64=\"Non\",\"No\",IF('Outil Recensement'!AB64=\"O\",\"Yes\",IF('Outil Recensement'!AB64=\"N\",\"No\",\"\"))))","v":""},{"$f":"IF('Outil Recensement'!AD64>0,'Outil Recensement'!AD64,\"\")","v":""},{"$f":"IF('Outil Recensement'!M64=\"Annuel\",\"Annually\",IF('Outil Recensement'!M64=\"Mensuel\",\"Monthly\",IF('Outil Recensement'!M64=\"Bihebdomadaire\",\"Biweekly\",IF('Outil Recensement'!M64=\"Hebdomadaire\",\"Weekly\",IF('Outil Recensement'!M64=\"Horaire\",\"Hourly\",IF('Outil Recensement'!M64=\"Semi-mensuel\",\"Semi-monthly\",IF('Outil Recensement'!M64=\"Applies\",\"Annual\",IF('Outil Recensement'!M64=\"Applicable\",\"Annual\",\"\"))))))))","v":""},{"$f":"IF('Outil Recensement'!N64>0,'Outil Recensement'!N64,\"\")","v":""},{"$f":"IF('Outil Recensement'!O64>0,'Outil Recensement'!O64,\"\")","v":""},{"$f":"IF('Outil Recensement'!I64=\"Refus\",\"Yes\",\"\")","v":""},{"$f":"IF('Outil Recensement'!I64=\"Refus\",\"Yes\",\"\")","v":""},{"$f":"IF('Outil Recensement'!AE64>0,'Outil Recensement'!AE64,\"\")","v":""},{"$f":"IF('Outil Recensement'!AF64>0,'Outil Recensement'!AF64,\"\")","v":""},{"$f":"IF('Outil Recensement'!AG64>0,'Outil Recensement'!AG64,\"\")","v":""},{"$f":"IF('Outil Recensement'!AH64>0,'Outil Recensement'!AH64,\"\")","v":""},{"$f":"IF('Outil Recensement'!AI64>0,'Outil Recensement'!AI64,\"\")","v":" "},{"$f":"IF('Outil Recensement'!AJ64>0,'Outil Recensement'!AJ64,\"\")","v":" "},{"$f":"IF('Outil Recensement'!W64>0,'Outil Recensement'!W64&\" \",\"\")&IF('Outil Recensement'!V64>0,'Outil Recensement'!V64,\"\")","v":""},null,{"$f":"IF('Outil Recensement'!X64>0,'Outil Recensement'!X64,\"\")","v":""},{"$f":"IF('Outil Recensement'!Y64>0,'Outil Recensement'!Y64,\"\")","v":""},{"$f":"IF('Outil Recensement'!Z64>0,'Outil Recensement'!Z64,\"\")","v":""},{"$f":"IF('Outil Recensement'!AA64>0,'Outil Recensement'!AA64,\"\")","v":""},{"$f":"IF('Outil Recensement'!E64>0,'Outil Recensement'!E64,\"\")","v":""},{"$f":"IF('Outil Recensement'!AK64>0,'Outil Recensement'!AK64,\"\")","v":""},{"$f":"IF('Outil Recensement'!AL64>0,'Outil Recensement'!AL64,\"\")","v":""},{"$f":"IF('Outil Recensement'!AM64>0,'Outil Recensement'!AM64,\"\")","v":""},{"$f":"IF('Outil Recensement'!AN64=\"Male\",\"Male\",IF('Outil Recensement'!AN64=\"Female\",\"Female\",IF('Outil Recensement'!AN64=\"M\",\"Male\",IF('Outil Recensement'!AN64=\"F\",\"Female\",\"\"))))","v":""},{"$f":"IF('Outil Recensement'!AO64=\"Single\",\"Single\",IF('Outil Recensement'!AO64=\"Family\",\"Family\",IF('Outil Recensement'!AO64=\"S\",\"Single\",IF('Outil Recensement'!AO64=\"F\",\"Family\",\"\"))))","v":""},{"$f":"IF('Outil Recensement'!AP64=\"Single\",\"Single\",IF('Outil Recensement'!AP64=\"Family\",\"Family\",IF('Outil Recensement'!AP64=\"S\",\"Single\",IF('Outil Recensement'!AP64=\"F\",\"Family\",\"\"))))","v":""},{"$f":"IF('Outil Recensement'!AQ64>0,'Outil Recensement'!AQ64,\"\")","v":""},{"$f":"IF('Outil Recensement'!AR64=\"Yes\",\"Yes\",IF('Outil Recensement'!AR64=\"No\",\"No\",IF('Outil Recensement'!AR64=\"Y\",\"Yes\",IF('Outil Recensement'!AR64=\"N\",\"No\",\"\"))))","v":""},{"$f":"IF('Outil Recensement'!AS64>0,'Outil Recensement'!AS64,\"\")","v":""},{"$f":"IF('Outil Recensement'!AT64>0,'Outil Recensement'!AT64,\"\")","v":""},{"$f":"IF('Outil Recensement'!AU64>0,'Outil Recensement'!AU64,\"\")","v":""},{"$f":"IF('Outil Recensement'!AV64=\"Male\",\"Male\",IF('Outil Recensement'!AV64=\"Female\",\"Female\",IF('Outil Recensement'!AV64=\"M\",\"Male\",IF('Outil Recensement'!AV64=\"F\",\"Female\",\"\"))))","v":""},{"$f":"IF('Outil Recensement'!AW64=\"Yes\",\"Yes\",IF('Outil Recensement'!AW64=\"No\",\"No\",IF('Outil Recensement'!AW64=\"Y\",\"Yes\",IF('Outil Recensement'!AW64=\"N\",\"No\",\"\"))))","v":""},{"$f":"IF('Outil Recensement'!AX64=\"Yes\",\"Yes\",IF('Outil Recensement'!AX64=\"No\",\"No\",IF('Outil Recensement'!AX64=\"Y\",\"Yes\",IF('Outil Recensement'!AX64=\"N\",\"No\",\"\"))))","v":""},{"$f":"IF('Outil Recensement'!AY64>0,'Outil Recensement'!AY64,\"\")","v":""},{"$f":"IF('Outil Recensement'!AZ64>0,'Outil Recensement'!AZ64,\"\")","v":""},{"$f":"IF('Outil Recensement'!BA64>0,'Outil Recensement'!BA64,\"\")","v":""},{"$f":"IF('Outil Recensement'!BB64=\"Male\",\"Male\",IF('Outil Recensement'!BB64=\"Female\",\"Female\",IF('Outil Recensement'!BB64=\"M\",\"Male\",IF('Outil Recensement'!BB64=\"F\",\"Female\",\"\"))))","v":""},{"$f":"IF('Outil Recensement'!BC64=\"Yes\",\"Yes\",IF('Outil Recensement'!BC64=\"No\",\"No\",IF('Outil Recensement'!BC64=\"Y\",\"Yes\",IF('Outil Recensement'!BC64=\"N\",\"No\",\"\"))))","v":""},{"$f":"IF('Outil Recensement'!BD64=\"Yes\",\"Yes\",IF('Outil Recensement'!BD64=\"No\",\"No\",IF('Outil Recensement'!BD64=\"Y\",\"Yes\",IF('Outil Recensement'!BD64=\"N\",\"No\",\"\"))))","v":""},{"$f":"IF('Outil Recensement'!BE64>0,'Outil Recensement'!BE64,\"\")","v":""},{"$f":"IF('Outil Recensement'!BF64>0,'Outil Recensement'!BF64,\"\")","v":""},{"$f":"IF('Outil Recensement'!BG64>0,'Outil Recensement'!BG64,\"\")","v":""},{"$f":"IF('Outil Recensement'!BH64=\"Male\",\"Male\",IF('Outil Recensement'!BH64=\"Female\",\"Female\",IF('Outil Recensement'!BH64=\"M\",\"Male\",IF('Outil Recensement'!BH64=\"F\",\"Female\",\"\"))))","v":""},{"$f":"IF('Outil Recensement'!BI64=\"Yes\",\"Yes\",IF('Outil Recensement'!BI64=\"No\",\"No\",IF('Outil Recensement'!BI64=\"Y\",\"Yes\",IF('Outil Recensement'!BI64=\"N\",\"No\",\"\"))))","v":""},{"$f":"IF('Outil Recensement'!BJ64=\"Yes\",\"Yes\",IF('Outil Recensement'!BJ64=\"No\",\"No\",IF('Outil Recensement'!BJ64=\"Y\",\"Yes\",IF('Outil Recensement'!BJ64=\"N\",\"No\",\"\"))))","v":""},{"$f":"IF('Outil Recensement'!BK64>0,'Outil Recensement'!BK64,\"\")","v":""},{"$f":"IF('Outil Recensement'!BL64>0,'Outil Recensement'!BL64,\"\")","v":""},{"$f":"IF('Outil Recensement'!BM64>0,'Outil Recensement'!BM64,\"\")","v":""},{"$f":"IF('Outil Recensement'!BN64=\"Male\",\"Male\",IF('Outil Recensement'!BN64=\"Female\",\"Female\",IF('Outil Recensement'!BN64=\"M\",\"Male\",IF('Outil Recensement'!BN64=\"F\",\"Female\",\"\"))))","v":""},{"$f":"IF('Outil Recensement'!BO64=\"Yes\",\"Yes\",IF('Outil Recensement'!BO64=\"No\",\"No\",IF('Outil Recensement'!BO64=\"Y\",\"Yes\",IF('Outil Recensement'!BO64=\"N\",\"No\",\"\"))))","v":""},{"$f":"IF('Outil Recensement'!BP64=\"Yes\",\"Yes\",IF('Outil Recensement'!BP64=\"No\",\"No\",IF('Outil Recensement'!BP64=\"Y\",\"Yes\",IF('Outil Recensement'!BP64=\"N\",\"No\",\"\"))))","v":""},{"$f":"IF('Outil Recensement'!BQ64>0,'Outil Recensement'!BQ64,\"\")","v":""},{"$f":"IF('Outil Recensement'!BR64>0,'Outil Recensement'!BR64,\"\")","v":""},{"$f":"IF('Outil Recensement'!BS64>0,'Outil Recensement'!BS64,\"\")","v":""},{"$f":"IF('Outil Recensement'!BT64=\"Male\",\"Male\",IF('Outil Recensement'!BT64=\"Female\",\"Female\",IF('Outil Recensement'!BT64=\"M\",\"Male\",IF('Outil Recensement'!BT64=\"F\",\"Female\",\"\"))))","v":""},{"$f":"IF('Outil Recensement'!BU64=\"Yes\",\"Yes\",IF('Outil Recensement'!BU64=\"No\",\"No\",IF('Outil Recensement'!BU64=\"Y\",\"Yes\",IF('Outil Recensement'!BU64=\"N\",\"No\",\"\"))))","v":""},{"$f":"IF('Outil Recensement'!BV64=\"Yes\",\"Yes\",IF('Outil Recensement'!BV64=\"No\",\"No\",IF('Outil Recensement'!BV64=\"Y\",\"Yes\",IF('Outil Recensement'!BV64=\"N\",\"No\",\"\"))))","v":""},{"$f":"IF('Outil Recensement'!BW64>0,'Outil Recensement'!BW64,\"\")","v":""},{"$f":"IF('Outil Recensement'!BX64>0,'Outil Recensement'!BX64,\"\")","v":""},{"$f":"IF('Outil Recensement'!BY64>0,'Outil Recensement'!BY64,\"\")","v":""},{"$f":"IF('Outil Recensement'!BZ64=\"Male\",\"Male\",IF('Outil Recensement'!BZ64=\"Female\",\"Female\",IF('Outil Recensement'!BZ64=\"M\",\"Male\",IF('Outil Recensement'!BZ64=\"F\",\"Female\",\"\"))))","v":""},{"$f":"IF('Outil Recensement'!CA64=\"Yes\",\"Yes\",IF('Outil Recensement'!CA64=\"No\",\"No\",IF('Outil Recensement'!CA64=\"Y\",\"Yes\",IF('Outil Recensement'!CA64=\"N\",\"No\",\"\"))))","v":""},{"$f":"IF('Outil Recensement'!CB64=\"Yes\",\"Yes\",IF('Outil Recensement'!CB64=\"No\",\"No\",IF('Outil Recensement'!CB64=\"Y\",\"Yes\",IF('Outil Recensement'!CB64=\"N\",\"No\",\"\"))))","v":""},{"$f":"IF('Outil Recensement'!CH64>0,'Outil Recensement'!CH64,\"\")","v":"    "}]
[{"$f":"IF('Outil Recensement'!A65>0,'Outil Recensement'!A65,\"\")","v":""},{"$f":"IF('Outil Recensement'!B65>0,'Outil Recensement'!B65,\"\")","v":""},{"$f":"IF('Outil Recensement'!C65>0,'Outil Recensement'!C65,\"\")","v":""},{"$f":"IF('Outil Recensement'!D65>0,'Outil Recensement'!D65,\"\")","v":""},{"$f":"IF('Outil Recensement'!P65>0,TEXT('Outil Recensement'!P65,\"000\"),\"\")","v":""},{"$f":"IF('Outil Recensement'!Q65>0,'Outil Recensement'!Q65,\"\")","v":""},{"$f":"IF('Outil Recensement'!R65>0,'Outil Recensement'!R65,\"\")","v":""},{"$f":"IF('Outil Recensement'!F65>0,DATEVALUE(TEXT('Outil Recensement'!F65,\"yyyy-mm-dd\")),\"\")","v":""},{"$f":"IF('Outil Recensement'!L65>0,DATEVALUE(TEXT('Outil Recensement'!L65,\"yyyy-mm-dd\")),\"\")","v":""},{"$f":"IF('Outil Recensement'!Y65>0,'Outil Recensement'!Y65,\"\")","v":""},{"$f":"IF('Outil Recensement'!T65>0,'Outil Recensement'!T65,\"\")","v":""},{"$f":"IF('Outil Recensement'!G65=\"Homme\",\"Male\",IF('Outil Recensement'!G65=\"Femme\",\"Female\",IF('Outil Recensement'!G65=\"H\",\"Male\",IF('Outil Recensement'!G65=\"F\",\"Female\",\"\"))))","v":""},{"$f":"IF('Outil Recensement'!U65=\"Yes\",\"Yes\",IF('Outil Recensement'!U65=\"No\",\"No\",IF('Outil Recensement'!U65=\"Y\",\"Yes\",IF('Outil Recensement'!U65=\"N\",\"No\",\"\"))))","v":""},{"$f":"IF('Outil Recensement'!I65=\"Individuelle\",\"Single\",IF('Outil Recensement'!I65=\"Familiale\",\"Family\",IF('Outil Recensement'!I65=\"Refus\",\"Family\",IF('Outil Recensement'!I65=\"Parent seul\",\"Family\",IF('Outil Recensement'!I65=\"Couple\",\"Family\",IF('Outil Recensement'!I65=\"In force\",\"Family\",IF('Outil Recensement'!I65=\"Applies\",\"Family\",IF('Outil Recensement'!I65=\"Applicable\",\"Family\",\"\"))))))))","v":""},{"$f":"IF('Outil Recensement'!AC65=\"Anglais\",\"English\",IF('Outil Recensement'!AC65=\"Français\",\"French\",IF('Outil Recensement'!AC65=\"A\",\"English\",IF('Outil Recensement'!AC65=\"F\",\"French\",\"\"))))","v":""},{"$f":"IF('Outil Recensement'!AB65=\"Oui\",\"Yes\",IF('Outil Recensement'!AB65=\"Non\",\"No\",IF('Outil Recensement'!AB65=\"O\",\"Yes\",IF('Outil Recensement'!AB65=\"N\",\"No\",\"\"))))","v":""},{"$f":"IF('Outil Recensement'!AD65>0,'Outil Recensement'!AD65,\"\")","v":""},{"$f":"IF('Outil Recensement'!M65=\"Annuel\",\"Annually\",IF('Outil Recensement'!M65=\"Mensuel\",\"Monthly\",IF('Outil Recensement'!M65=\"Bihebdomadaire\",\"Biweekly\",IF('Outil Recensement'!M65=\"Hebdomadaire\",\"Weekly\",IF('Outil Recensement'!M65=\"Horaire\",\"Hourly\",IF('Outil Recensement'!M65=\"Semi-mensuel\",\"Semi-monthly\",IF('Outil Recensement'!M65=\"Applies\",\"Annual\",IF('Outil Recensement'!M65=\"Applicable\",\"Annual\",\"\"))))))))","v":""},{"$f":"IF('Outil Recensement'!N65>0,'Outil Recensement'!N65,\"\")","v":""},{"$f":"IF('Outil Recensement'!O65>0,'Outil Recensement'!O65,\"\")","v":""},{"$f":"IF('Outil Recensement'!I65=\"Refus\",\"Yes\",\"\")","v":""},{"$f":"IF('Outil Recensement'!I65=\"Refus\",\"Yes\",\"\")","v":""},{"$f":"IF('Outil Recensement'!AE65>0,'Outil Recensement'!AE65,\"\")","v":""},{"$f":"IF('Outil Recensement'!AF65>0,'Outil Recensement'!AF65,\"\")","v":""},{"$f":"IF('Outil Recensement'!AG65>0,'Outil Recensement'!AG65,\"\")","v":""},{"$f":"IF('Outil Recensement'!AH65>0,'Outil Recensement'!AH65,\"\")","v":""},{"$f":"IF('Outil Recensement'!AI65>0,'Outil Recensement'!AI65,\"\")","v":" "},{"$f":"IF('Outil Recensement'!AJ65>0,'Outil Recensement'!AJ65,\"\")","v":" "},{"$f":"IF('Outil Recensement'!W65>0,'Outil Recensement'!W65&\" \",\"\")&IF('Outil Recensement'!V65>0,'Outil Recensement'!V65,\"\")","v":""},null,{"$f":"IF('Outil Recensement'!X65>0,'Outil Recensement'!X65,\"\")","v":""},{"$f":"IF('Outil Recensement'!Y65>0,'Outil Recensement'!Y65,\"\")","v":""},{"$f":"IF('Outil Recensement'!Z65>0,'Outil Recensement'!Z65,\"\")","v":""},{"$f":"IF('Outil Recensement'!AA65>0,'Outil Recensement'!AA65,\"\")","v":""},{"$f":"IF('Outil Recensement'!E65>0,'Outil Recensement'!E65,\"\")","v":""},{"$f":"IF('Outil Recensement'!AK65>0,'Outil Recensement'!AK65,\"\")","v":""},{"$f":"IF('Outil Recensement'!AL65>0,'Outil Recensement'!AL65,\"\")","v":""},{"$f":"IF('Outil Recensement'!AM65>0,'Outil Recensement'!AM65,\"\")","v":""},{"$f":"IF('Outil Recensement'!AN65=\"Male\",\"Male\",IF('Outil Recensement'!AN65=\"Female\",\"Female\",IF('Outil Recensement'!AN65=\"M\",\"Male\",IF('Outil Recensement'!AN65=\"F\",\"Female\",\"\"))))","v":""},{"$f":"IF('Outil Recensement'!AO65=\"Single\",\"Single\",IF('Outil Recensement'!AO65=\"Family\",\"Family\",IF('Outil Recensement'!AO65=\"S\",\"Single\",IF('Outil Recensement'!AO65=\"F\",\"Family\",\"\"))))","v":""},{"$f":"IF('Outil Recensement'!AP65=\"Single\",\"Single\",IF('Outil Recensement'!AP65=\"Family\",\"Family\",IF('Outil Recensement'!AP65=\"S\",\"Single\",IF('Outil Recensement'!AP65=\"F\",\"Family\",\"\"))))","v":""},{"$f":"IF('Outil Recensement'!AQ65>0,'Outil Recensement'!AQ65,\"\")","v":""},{"$f":"IF('Outil Recensement'!AR65=\"Yes\",\"Yes\",IF('Outil Recensement'!AR65=\"No\",\"No\",IF('Outil Recensement'!AR65=\"Y\",\"Yes\",IF('Outil Recensement'!AR65=\"N\",\"No\",\"\"))))","v":""},{"$f":"IF('Outil Recensement'!AS65>0,'Outil Recensement'!AS65,\"\")","v":""},{"$f":"IF('Outil Recensement'!AT65>0,'Outil Recensement'!AT65,\"\")","v":""},{"$f":"IF('Outil Recensement'!AU65>0,'Outil Recensement'!AU65,\"\")","v":""},{"$f":"IF('Outil Recensement'!AV65=\"Male\",\"Male\",IF('Outil Recensement'!AV65=\"Female\",\"Female\",IF('Outil Recensement'!AV65=\"M\",\"Male\",IF('Outil Recensement'!AV65=\"F\",\"Female\",\"\"))))","v":""},{"$f":"IF('Outil Recensement'!AW65=\"Yes\",\"Yes\",IF('Outil Recensement'!AW65=\"No\",\"No\",IF('Outil Recensement'!AW65=\"Y\",\"Yes\",IF('Outil Recensement'!AW65=\"N\",\"No\",\"\"))))","v":""},{"$f":"IF('Outil Recensement'!AX65=\"Yes\",\"Yes\",IF('Outil Recensement'!AX65=\"No\",\"No\",IF('Outil Recensement'!AX65=\"Y\",\"Yes\",IF('Outil Recensement'!AX65=\"N\",\"No\",\"\"))))","v":""},{"$f":"IF('Outil Recensement'!AY65>0,'Outil Recensement'!AY65,\"\")","v":""},{"$f":"IF('Outil Recensement'!AZ65>0,'Outil Recensement'!AZ65,\"\")","v":""},{"$f":"IF('Outil Recensement'!BA65>0,'Outil Recensement'!BA65,\"\")","v":""},{"$f":"IF('Outil Recensement'!BB65=\"Male\",\"Male\",IF('Outil Recensement'!BB65=\"Female\",\"Female\",IF('Outil Recensement'!BB65=\"M\",\"Male\",IF('Outil Recensement'!BB65=\"F\",\"Female\",\"\"))))","v":""},{"$f":"IF('Outil Recensement'!BC65=\"Yes\",\"Yes\",IF('Outil Recensement'!BC65=\"No\",\"No\",IF('Outil Recensement'!BC65=\"Y\",\"Yes\",IF('Outil Recensement'!BC65=\"N\",\"No\",\"\"))))","v":""},{"$f":"IF('Outil Recensement'!BD65=\"Yes\",\"Yes\",IF('Outil Recensement'!BD65=\"No\",\"No\",IF('Outil Recensement'!BD65=\"Y\",\"Yes\",IF('Outil Recensement'!BD65=\"N\",\"No\",\"\"))))","v":""},{"$f":"IF('Outil Recensement'!BE65>0,'Outil Recensement'!BE65,\"\")","v":""},{"$f":"IF('Outil Recensement'!BF65>0,'Outil Recensement'!BF65,\"\")","v":""},{"$f":"IF('Outil Recensement'!BG65>0,'Outil Recensement'!BG65,\"\")","v":""},{"$f":"IF('Outil Recensement'!BH65=\"Male\",\"Male\",IF('Outil Recensement'!BH65=\"Female\",\"Female\",IF('Outil Recensement'!BH65=\"M\",\"Male\",IF('Outil Recensement'!BH65=\"F\",\"Female\",\"\"))))","v":""},{"$f":"IF('Outil Recensement'!BI65=\"Yes\",\"Yes\",IF('Outil Recensement'!BI65=\"No\",\"No\",IF('Outil Recensement'!BI65=\"Y\",\"Yes\",IF('Outil Recensement'!BI65=\"N\",\"No\",\"\"))))","v":""},{"$f":"IF('Outil Recensement'!BJ65=\"Yes\",\"Yes\",IF('Outil Recensement'!BJ65=\"No\",\"No\",IF('Outil Recensement'!BJ65=\"Y\",\"Yes\",IF('Outil Recensement'!BJ65=\"N\",\"No\",\"\"))))","v":""},{"$f":"IF('Outil Recensement'!BK65>0,'Outil Recensement'!BK65,\"\")","v":""},{"$f":"IF('Outil Recensement'!BL65>0,'Outil Recensement'!BL65,\"\")","v":""},{"$f":"IF('Outil Recensement'!BM65>0,'Outil Recensement'!BM65,\"\")","v":""},{"$f":"IF('Outil Recensement'!BN65=\"Male\",\"Male\",IF('Outil Recensement'!BN65=\"Female\",\"Female\",IF('Outil Recensement'!BN65=\"M\",\"Male\",IF('Outil Recensement'!BN65=\"F\",\"Female\",\"\"))))","v":""},{"$f":"IF('Outil Recensement'!BO65=\"Yes\",\"Yes\",IF('Outil Recensement'!BO65=\"No\",\"No\",IF('Outil Recensement'!BO65=\"Y\",\"Yes\",IF('Outil Recensement'!BO65=\"N\",\"No\",\"\"))))","v":""},{"$f":"IF('Outil Recensement'!BP65=\"Yes\",\"Yes\",IF('Outil Recensement'!BP65=\"No\",\"No\",IF('Outil Recensement'!BP65=\"Y\",\"Yes\",IF('Outil Recensement'!BP65=\"N\",\"No\",\"\"))))","v":""},{"$f":"IF('Outil Recensement'!BQ65>0,'Outil Recensement'!BQ65,\"\")","v":""},{"$f":"IF('Outil Recensement'!BR65>0,'Outil Recensement'!BR65,\"\")","v":""},{"$f":"IF('Outil Recensement'!BS65>0,'Outil Recensement'!BS65,\"\")","v":""},{"$f":"IF('Outil Recensement'!BT65=\"Male\",\"Male\",IF('Outil Recensement'!BT65=\"Female\",\"Female\",IF('Outil Recensement'!BT65=\"M\",\"Male\",IF('Outil Recensement'!BT65=\"F\",\"Female\",\"\"))))","v":""},{"$f":"IF('Outil Recensement'!BU65=\"Yes\",\"Yes\",IF('Outil Recensement'!BU65=\"No\",\"No\",IF('Outil Recensement'!BU65=\"Y\",\"Yes\",IF('Outil Recensement'!BU65=\"N\",\"No\",\"\"))))","v":""},{"$f":"IF('Outil Recensement'!BV65=\"Yes\",\"Yes\",IF('Outil Recensement'!BV65=\"No\",\"No\",IF('Outil Recensement'!BV65=\"Y\",\"Yes\",IF('Outil Recensement'!BV65=\"N\",\"No\",\"\"))))","v":""},{"$f":"IF('Outil Recensement'!BW65>0,'Outil Recensement'!BW65,\"\")","v":""},{"$f":"IF('Outil Recensement'!BX65>0,'Outil Recensement'!BX65,\"\")","v":""},{"$f":"IF('Outil Recensement'!BY65>0,'Outil Recensement'!BY65,\"\")","v":""},{"$f":"IF('Outil Recensement'!BZ65=\"Male\",\"Male\",IF('Outil Recensement'!BZ65=\"Female\",\"Female\",IF('Outil Recensement'!BZ65=\"M\",\"Male\",IF('Outil Recensement'!BZ65=\"F\",\"Female\",\"\"))))","v":""},{"$f":"IF('Outil Recensement'!CA65=\"Yes\",\"Yes\",IF('Outil Recensement'!CA65=\"No\",\"No\",IF('Outil Recensement'!CA65=\"Y\",\"Yes\",IF('Outil Recensement'!CA65=\"N\",\"No\",\"\"))))","v":""},{"$f":"IF('Outil Recensement'!CB65=\"Yes\",\"Yes\",IF('Outil Recensement'!CB65=\"No\",\"No\",IF('Outil Recensement'!CB65=\"Y\",\"Yes\",IF('Outil Recensement'!CB65=\"N\",\"No\",\"\"))))","v":""},{"$f":"IF('Outil Recensement'!CH65>0,'Outil Recensement'!CH65,\"\")","v":"    "}]
[{"$f":"IF('Outil Recensement'!A66>0,'Outil Recensement'!A66,\"\")","v":""},{"$f":"IF('Outil Recensement'!B66>0,'Outil Recensement'!B66,\"\")","v":""},{"$f":"IF('Outil Recensement'!C66>0,'Outil Recensement'!C66,\"\")","v":""},{"$f":"IF('Outil Recensement'!D66>0,'Outil Recensement'!D66,\"\")","v":""},{"$f":"IF('Outil Recensement'!P66>0,TEXT('Outil Recensement'!P66,\"000\"),\"\")","v":""},{"$f":"IF('Outil Recensement'!Q66>0,'Outil Recensement'!Q66,\"\")","v":""},{"$f":"IF('Outil Recensement'!R66>0,'Outil Recensement'!R66,\"\")","v":""},{"$f":"IF('Outil Recensement'!F66>0,DATEVALUE(TEXT('Outil Recensement'!F66,\"yyyy-mm-dd\")),\"\")","v":""},{"$f":"IF('Outil Recensement'!L66>0,DATEVALUE(TEXT('Outil Recensement'!L66,\"yyyy-mm-dd\")),\"\")","v":""},{"$f":"IF('Outil Recensement'!Y66>0,'Outil Recensement'!Y66,\"\")","v":""},{"$f":"IF('Outil Recensement'!T66>0,'Outil Recensement'!T66,\"\")","v":""},{"$f":"IF('Outil Recensement'!G66=\"Homme\",\"Male\",IF('Outil Recensement'!G66=\"Femme\",\"Female\",IF('Outil Recensement'!G66=\"H\",\"Male\",IF('Outil Recensement'!G66=\"F\",\"Female\",\"\"))))","v":""},{"$f":"IF('Outil Recensement'!U66=\"Yes\",\"Yes\",IF('Outil Recensement'!U66=\"No\",\"No\",IF('Outil Recensement'!U66=\"Y\",\"Yes\",IF('Outil Recensement'!U66=\"N\",\"No\",\"\"))))","v":""},{"$f":"IF('Outil Recensement'!I66=\"Individuelle\",\"Single\",IF('Outil Recensement'!I66=\"Familiale\",\"Family\",IF('Outil Recensement'!I66=\"Refus\",\"Family\",IF('Outil Recensement'!I66=\"Parent seul\",\"Family\",IF('Outil Recensement'!I66=\"Couple\",\"Family\",IF('Outil Recensement'!I66=\"In force\",\"Family\",IF('Outil Recensement'!I66=\"Applies\",\"Family\",IF('Outil Recensement'!I66=\"Applicable\",\"Family\",\"\"))))))))","v":""},{"$f":"IF('Outil Recensement'!AC66=\"Anglais\",\"English\",IF('Outil Recensement'!AC66=\"Français\",\"French\",IF('Outil Recensement'!AC66=\"A\",\"English\",IF('Outil Recensement'!AC66=\"F\",\"French\",\"\"))))","v":""},{"$f":"IF('Outil Recensement'!AB66=\"Oui\",\"Yes\",IF('Outil Recensement'!AB66=\"Non\",\"No\",IF('Outil Recensement'!AB66=\"O\",\"Yes\",IF('Outil Recensement'!AB66=\"N\",\"No\",\"\"))))","v":""},{"$f":"IF('Outil Recensement'!AD66>0,'Outil Recensement'!AD66,\"\")","v":""},{"$f":"IF('Outil Recensement'!M66=\"Annuel\",\"Annually\",IF('Outil Recensement'!M66=\"Mensuel\",\"Monthly\",IF('Outil Recensement'!M66=\"Bihebdomadaire\",\"Biweekly\",IF('Outil Recensement'!M66=\"Hebdomadaire\",\"Weekly\",IF('Outil Recensement'!M66=\"Horaire\",\"Hourly\",IF('Outil Recensement'!M66=\"Semi-mensuel\",\"Semi-monthly\",IF('Outil Recensement'!M66=\"Applies\",\"Annual\",IF('Outil Recensement'!M66=\"Applicable\",\"Annual\",\"\"))))))))","v":""},{"$f":"IF('Outil Recensement'!N66>0,'Outil Recensement'!N66,\"\")","v":""},{"$f":"IF('Outil Recensement'!O66>0,'Outil Recensement'!O66,\"\")","v":""},{"$f":"IF('Outil Recensement'!I66=\"Refus\",\"Yes\",\"\")","v":""},{"$f":"IF('Outil Recensement'!I66=\"Refus\",\"Yes\",\"\")","v":""},{"$f":"IF('Outil Recensement'!AE66>0,'Outil Recensement'!AE66,\"\")","v":""},{"$f":"IF('Outil Recensement'!AF66>0,'Outil Recensement'!AF66,\"\")","v":""},{"$f":"IF('Outil Recensement'!AG66>0,'Outil Recensement'!AG66,\"\")","v":""},{"$f":"IF('Outil Recensement'!AH66>0,'Outil Recensement'!AH66,\"\")","v":""},{"$f":"IF('Outil Recensement'!AI66>0,'Outil Recensement'!AI66,\"\")","v":" "},{"$f":"IF('Outil Recensement'!AJ66>0,'Outil Recensement'!AJ66,\"\")","v":" "},{"$f":"IF('Outil Recensement'!W66>0,'Outil Recensement'!W66&\" \",\"\")&IF('Outil Recensement'!V66>0,'Outil Recensement'!V66,\"\")","v":""},null,{"$f":"IF('Outil Recensement'!X66>0,'Outil Recensement'!X66,\"\")","v":""},{"$f":"IF('Outil Recensement'!Y66>0,'Outil Recensement'!Y66,\"\")","v":""},{"$f":"IF('Outil Recensement'!Z66>0,'Outil Recensement'!Z66,\"\")","v":""},{"$f":"IF('Outil Recensement'!AA66>0,'Outil Recensement'!AA66,\"\")","v":""},{"$f":"IF('Outil Recensement'!E66>0,'Outil Recensement'!E66,\"\")","v":""},{"$f":"IF('Outil Recensement'!AK66>0,'Outil Recensement'!AK66,\"\")","v":""},{"$f":"IF('Outil Recensement'!AL66>0,'Outil Recensement'!AL66,\"\")","v":""},{"$f":"IF('Outil Recensement'!AM66>0,'Outil Recensement'!AM66,\"\")","v":""},{"$f":"IF('Outil Recensement'!AN66=\"Male\",\"Male\",IF('Outil Recensement'!AN66=\"Female\",\"Female\",IF('Outil Recensement'!AN66=\"M\",\"Male\",IF('Outil Recensement'!AN66=\"F\",\"Female\",\"\"))))","v":""},{"$f":"IF('Outil Recensement'!AO66=\"Single\",\"Single\",IF('Outil Recensement'!AO66=\"Family\",\"Family\",IF('Outil Recensement'!AO66=\"S\",\"Single\",IF('Outil Recensement'!AO66=\"F\",\"Family\",\"\"))))","v":""},{"$f":"IF('Outil Recensement'!AP66=\"Single\",\"Single\",IF('Outil Recensement'!AP66=\"Family\",\"Family\",IF('Outil Recensement'!AP66=\"S\",\"Single\",IF('Outil Recensement'!AP66=\"F\",\"Family\",\"\"))))","v":""},{"$f":"IF('Outil Recensement'!AQ66>0,'Outil Recensement'!AQ66,\"\")","v":""},{"$f":"IF('Outil Recensement'!AR66=\"Yes\",\"Yes\",IF('Outil Recensement'!AR66=\"No\",\"No\",IF('Outil Recensement'!AR66=\"Y\",\"Yes\",IF('Outil Recensement'!AR66=\"N\",\"No\",\"\"))))","v":""},{"$f":"IF('Outil Recensement'!AS66>0,'Outil Recensement'!AS66,\"\")","v":""},{"$f":"IF('Outil Recensement'!AT66>0,'Outil Recensement'!AT66,\"\")","v":""},{"$f":"IF('Outil Recensement'!AU66>0,'Outil Recensement'!AU66,\"\")","v":""},{"$f":"IF('Outil Recensement'!AV66=\"Male\",\"Male\",IF('Outil Recensement'!AV66=\"Female\",\"Female\",IF('Outil Recensement'!AV66=\"M\",\"Male\",IF('Outil Recensement'!AV66=\"F\",\"Female\",\"\"))))","v":""},{"$f":"IF('Outil Recensement'!AW66=\"Yes\",\"Yes\",IF('Outil Recensement'!AW66=\"No\",\"No\",IF('Outil Recensement'!AW66=\"Y\",\"Yes\",IF('Outil Recensement'!AW66=\"N\",\"No\",\"\"))))","v":""},{"$f":"IF('Outil Recensement'!AX66=\"Yes\",\"Yes\",IF('Outil Recensement'!AX66=\"No\",\"No\",IF('Outil Recensement'!AX66=\"Y\",\"Yes\",IF('Outil Recensement'!AX66=\"N\",\"No\",\"\"))))","v":""},{"$f":"IF('Outil Recensement'!AY66>0,'Outil Recensement'!AY66,\"\")","v":""},{"$f":"IF('Outil Recensement'!AZ66>0,'Outil Recensement'!AZ66,\"\")","v":""},{"$f":"IF('Outil Recensement'!BA66>0,'Outil Recensement'!BA66,\"\")","v":""},{"$f":"IF('Outil Recensement'!BB66=\"Male\",\"Male\",IF('Outil Recensement'!BB66=\"Female\",\"Female\",IF('Outil Recensement'!BB66=\"M\",\"Male\",IF('Outil Recensement'!BB66=\"F\",\"Female\",\"\"))))","v":""},{"$f":"IF('Outil Recensement'!BC66=\"Yes\",\"Yes\",IF('Outil Recensement'!BC66=\"No\",\"No\",IF('Outil Recensement'!BC66=\"Y\",\"Yes\",IF('Outil Recensement'!BC66=\"N\",\"No\",\"\"))))","v":""},{"$f":"IF('Outil Recensement'!BD66=\"Yes\",\"Yes\",IF('Outil Recensement'!BD66=\"No\",\"No\",IF('Outil Recensement'!BD66=\"Y\",\"Yes\",IF('Outil Recensement'!BD66=\"N\",\"No\",\"\"))))","v":""},{"$f":"IF('Outil Recensement'!BE66>0,'Outil Recensement'!BE66,\"\")","v":""},{"$f":"IF('Outil Recensement'!BF66>0,'Outil Recensement'!BF66,\"\")","v":""},{"$f":"IF('Outil Recensement'!BG66>0,'Outil Recensement'!BG66,\"\")","v":""},{"$f":"IF('Outil Recensement'!BH66=\"Male\",\"Male\",IF('Outil Recensement'!BH66=\"Female\",\"Female\",IF('Outil Recensement'!BH66=\"M\",\"Male\",IF('Outil Recensement'!BH66=\"F\",\"Female\",\"\"))))","v":""},{"$f":"IF('Outil Recensement'!BI66=\"Yes\",\"Yes\",IF('Outil Recensement'!BI66=\"No\",\"No\",IF('Outil Recensement'!BI66=\"Y\",\"Yes\",IF('Outil Recensement'!BI66=\"N\",\"No\",\"\"))))","v":""},{"$f":"IF('Outil Recensement'!BJ66=\"Yes\",\"Yes\",IF('Outil Recensement'!BJ66=\"No\",\"No\",IF('Outil Recensement'!BJ66=\"Y\",\"Yes\",IF('Outil Recensement'!BJ66=\"N\",\"No\",\"\"))))","v":""},{"$f":"IF('Outil Recensement'!BK66>0,'Outil Recensement'!BK66,\"\")","v":""},{"$f":"IF('Outil Recensement'!BL66>0,'Outil Recensement'!BL66,\"\")","v":""},{"$f":"IF('Outil Recensement'!BM66>0,'Outil Recensement'!BM66,\"\")","v":""},{"$f":"IF('Outil Recensement'!BN66=\"Male\",\"Male\",IF('Outil Recensement'!BN66=\"Female\",\"Female\",IF('Outil Recensement'!BN66=\"M\",\"Male\",IF('Outil Recensement'!BN66=\"F\",\"Female\",\"\"))))","v":""},{"$f":"IF('Outil Recensement'!BO66=\"Yes\",\"Yes\",IF('Outil Recensement'!BO66=\"No\",\"No\",IF('Outil Recensement'!BO66=\"Y\",\"Yes\",IF('Outil Recensement'!BO66=\"N\",\"No\",\"\"))))","v":""},{"$f":"IF('Outil Recensement'!BP66=\"Yes\",\"Yes\",IF('Outil Recensement'!BP66=\"No\",\"No\",IF('Outil Recensement'!BP66=\"Y\",\"Yes\",IF('Outil Recensement'!BP66=\"N\",\"No\",\"\"))))","v":""},{"$f":"IF('Outil Recensement'!BQ66>0,'Outil Recensement'!BQ66,\"\")","v":""},{"$f":"IF('Outil Recensement'!BR66>0,'Outil Recensement'!BR66,\"\")","v":""},{"$f":"IF('Outil Recensement'!BS66>0,'Outil Recensement'!BS66,\"\")","v":""},{"$f":"IF('Outil Recensement'!BT66=\"Male\",\"Male\",IF('Outil Recensement'!BT66=\"Female\",\"Female\",IF('Outil Recensement'!BT66=\"M\",\"Male\",IF('Outil Recensement'!BT66=\"F\",\"Female\",\"\"))))","v":""},{"$f":"IF('Outil Recensement'!BU66=\"Yes\",\"Yes\",IF('Outil Recensement'!BU66=\"No\",\"No\",IF('Outil Recensement'!BU66=\"Y\",\"Yes\",IF('Outil Recensement'!BU66=\"N\",\"No\",\"\"))))","v":""},{"$f":"IF('Outil Recensement'!BV66=\"Yes\",\"Yes\",IF('Outil Recensement'!BV66=\"No\",\"No\",IF('Outil Recensement'!BV66=\"Y\",\"Yes\",IF('Outil Recensement'!BV66=\"N\",\"No\",\"\"))))","v":""},{"$f":"IF('Outil Recensement'!BW66>0,'Outil Recensement'!BW66,\"\")","v":""},{"$f":"IF('Outil Recensement'!BX66>0,'Outil Recensement'!BX66,\"\")","v":""},{"$f":"IF('Outil Recensement'!BY66>0,'Outil Recensement'!BY66,\"\")","v":""},{"$f":"IF('Outil Recensement'!BZ66=\"Male\",\"Male\",IF('Outil Recensement'!BZ66=\"Female\",\"Female\",IF('Outil Recensement'!BZ66=\"M\",\"Male\",IF('Outil Recensement'!BZ66=\"F\",\"Female\",\"\"))))","v":""},{"$f":"IF('Outil Recensement'!CA66=\"Yes\",\"Yes\",IF('Outil Recensement'!CA66=\"No\",\"No\",IF('Outil Recensement'!CA66=\"Y\",\"Yes\",IF('Outil Recensement'!CA66=\"N\",\"No\",\"\"))))","v":""},{"$f":"IF('Outil Recensement'!CB66=\"Yes\",\"Yes\",IF('Outil Recensement'!CB66=\"No\",\"No\",IF('Outil Recensement'!CB66=\"Y\",\"Yes\",IF('Outil Recensement'!CB66=\"N\",\"No\",\"\"))))","v":""},{"$f":"IF('Outil Recensement'!CH66>0,'Outil Recensement'!CH66,\"\")","v":"    "}]
[{"$f":"IF('Outil Recensement'!A67>0,'Outil Recensement'!A67,\"\")","v":""},{"$f":"IF('Outil Recensement'!B67>0,'Outil Recensement'!B67,\"\")","v":""},{"$f":"IF('Outil Recensement'!C67>0,'Outil Recensement'!C67,\"\")","v":""},{"$f":"IF('Outil Recensement'!D67>0,'Outil Recensement'!D67,\"\")","v":""},{"$f":"IF('Outil Recensement'!P67>0,TEXT('Outil Recensement'!P67,\"000\"),\"\")","v":""},{"$f":"IF('Outil Recensement'!Q67>0,'Outil Recensement'!Q67,\"\")","v":""},{"$f":"IF('Outil Recensement'!R67>0,'Outil Recensement'!R67,\"\")","v":""},{"$f":"IF('Outil Recensement'!F67>0,DATEVALUE(TEXT('Outil Recensement'!F67,\"yyyy-mm-dd\")),\"\")","v":""},{"$f":"IF('Outil Recensement'!L67>0,DATEVALUE(TEXT('Outil Recensement'!L67,\"yyyy-mm-dd\")),\"\")","v":""},{"$f":"IF('Outil Recensement'!Y67>0,'Outil Recensement'!Y67,\"\")","v":""},{"$f":"IF('Outil Recensement'!T67>0,'Outil Recensement'!T67,\"\")","v":""},{"$f":"IF('Outil Recensement'!G67=\"Homme\",\"Male\",IF('Outil Recensement'!G67=\"Femme\",\"Female\",IF('Outil Recensement'!G67=\"H\",\"Male\",IF('Outil Recensement'!G67=\"F\",\"Female\",\"\"))))","v":""},{"$f":"IF('Outil Recensement'!U67=\"Yes\",\"Yes\",IF('Outil Recensement'!U67=\"No\",\"No\",IF('Outil Recensement'!U67=\"Y\",\"Yes\",IF('Outil Recensement'!U67=\"N\",\"No\",\"\"))))","v":""},{"$f":"IF('Outil Recensement'!I67=\"Individuelle\",\"Single\",IF('Outil Recensement'!I67=\"Familiale\",\"Family\",IF('Outil Recensement'!I67=\"Refus\",\"Family\",IF('Outil Recensement'!I67=\"Parent seul\",\"Family\",IF('Outil Recensement'!I67=\"Couple\",\"Family\",IF('Outil Recensement'!I67=\"In force\",\"Family\",IF('Outil Recensement'!I67=\"Applies\",\"Family\",IF('Outil Recensement'!I67=\"Applicable\",\"Family\",\"\"))))))))","v":""},{"$f":"IF('Outil Recensement'!AC67=\"Anglais\",\"English\",IF('Outil Recensement'!AC67=\"Français\",\"French\",IF('Outil Recensement'!AC67=\"A\",\"English\",IF('Outil Recensement'!AC67=\"F\",\"French\",\"\"))))","v":""},{"$f":"IF('Outil Recensement'!AB67=\"Oui\",\"Yes\",IF('Outil Recensement'!AB67=\"Non\",\"No\",IF('Outil Recensement'!AB67=\"O\",\"Yes\",IF('Outil Recensement'!AB67=\"N\",\"No\",\"\"))))","v":""},{"$f":"IF('Outil Recensement'!AD67>0,'Outil Recensement'!AD67,\"\")","v":""},{"$f":"IF('Outil Recensement'!M67=\"Annuel\",\"Annually\",IF('Outil Recensement'!M67=\"Mensuel\",\"Monthly\",IF('Outil Recensement'!M67=\"Bihebdomadaire\",\"Biweekly\",IF('Outil Recensement'!M67=\"Hebdomadaire\",\"Weekly\",IF('Outil Recensement'!M67=\"Horaire\",\"Hourly\",IF('Outil Recensement'!M67=\"Semi-mensuel\",\"Semi-monthly\",IF('Outil Recensement'!M67=\"Applies\",\"Annual\",IF('Outil Recensement'!M67=\"Applicable\",\"Annual\",\"\"))))))))","v":""},{"$f":"IF('Outil Recensement'!N67>0,'Outil Recensement'!N67,\"\")","v":""},{"$f":"IF('Outil Recensement'!O67>0,'Outil Recensement'!O67,\"\")","v":""},{"$f":"IF('Outil Recensement'!I67=\"Refus\",\"Yes\",\"\")","v":""},{"$f":"IF('Outil Recensement'!I67=\"Refus\",\"Yes\",\"\")","v":""},{"$f":"IF('Outil Recensement'!AE67>0,'Outil Recensement'!AE67,\"\")","v":""},{"$f":"IF('Outil Recensement'!AF67>0,'Outil Recensement'!AF67,\"\")","v":""},{"$f":"IF('Outil Recensement'!AG67>0,'Outil Recensement'!AG67,\"\")","v":""},{"$f":"IF('Outil Recensement'!AH67>0,'Outil Recensement'!AH67,\"\")","v":""},{"$f":"IF('Outil Recensement'!AI67>0,'Outil Recensement'!AI67,\"\")","v":" "},{"$f":"IF('Outil Recensement'!AJ67>0,'Outil Recensement'!AJ67,\"\")","v":" "},{"$f":"IF('Outil Recensement'!W67>0,'Outil Recensement'!W67&\" \",\"\")&IF('Outil Recensement'!V67>0,'Outil Recensement'!V67,\"\")","v":""},null,{"$f":"IF('Outil Recensement'!X67>0,'Outil Recensement'!X67,\"\")","v":""},{"$f":"IF('Outil Recensement'!Y67>0,'Outil Recensement'!Y67,\"\")","v":""},{"$f":"IF('Outil Recensement'!Z67>0,'Outil Recensement'!Z67,\"\")","v":""},{"$f":"IF('Outil Recensement'!AA67>0,'Outil Recensement'!AA67,\"\")","v":""},{"$f":"IF('Outil Recensement'!E67>0,'Outil Recensement'!E67,\"\")","v":""},{"$f":"IF('Outil Recensement'!AK67>0,'Outil Recensement'!AK67,\"\")","v":""},{"$f":"IF('Outil Recensement'!AL67>0,'Outil Recensement'!AL67,\"\")","v":""},{"$f":"IF('Outil Recensement'!AM67>0,'Outil Recensement'!AM67,\"\")","v":""},{"$f":"IF('Outil Recensement'!AN67=\"Male\",\"Male\",IF('Outil Recensement'!AN67=\"Female\",\"Female\",IF('Outil Recensement'!AN67=\"M\",\"Male\",IF('Outil Recensement'!AN67=\"F\",\"Female\",\"\"))))","v":""},{"$f":"IF('Outil Recensement'!AO67=\"Single\",\"Single\",IF('Outil Recensement'!AO67=\"Family\",\"Family\",IF('Outil Recensement'!AO67=\"S\",\"Single\",IF('Outil Recensement'!AO67=\"F\",\"Family\",\"\"))))","v":""},{"$f":"IF('Outil Recensement'!AP67=\"Single\",\"Single\",IF('Outil Recensement'!AP67=\"Family\",\"Family\",IF('Outil Recensement'!AP67=\"S\",\"Single\",IF('Outil Recensement'!AP67=\"F\",\"Family\",\"\"))))","v":""},{"$f":"IF('Outil Recensement'!AQ67>0,'Outil Recensement'!AQ67,\"\")","v":""},{"$f":"IF('Outil Recensement'!AR67=\"Yes\",\"Yes\",IF('Outil Recensement'!AR67=\"No\",\"No\",IF('Outil Recensement'!AR67=\"Y\",\"Yes\",IF('Outil Recensement'!AR67=\"N\",\"No\",\"\"))))","v":""},{"$f":"IF('Outil Recensement'!AS67>0,'Outil Recensement'!AS67,\"\")","v":""},{"$f":"IF('Outil Recensement'!AT67>0,'Outil Recensement'!AT67,\"\")","v":""},{"$f":"IF('Outil Recensement'!AU67>0,'Outil Recensement'!AU67,\"\")","v":""},{"$f":"IF('Outil Recensement'!AV67=\"Male\",\"Male\",IF('Outil Recensement'!AV67=\"Female\",\"Female\",IF('Outil Recensement'!AV67=\"M\",\"Male\",IF('Outil Recensement'!AV67=\"F\",\"Female\",\"\"))))","v":""},{"$f":"IF('Outil Recensement'!AW67=\"Yes\",\"Yes\",IF('Outil Recensement'!AW67=\"No\",\"No\",IF('Outil Recensement'!AW67=\"Y\",\"Yes\",IF('Outil Recensement'!AW67=\"N\",\"No\",\"\"))))","v":""},{"$f":"IF('Outil Recensement'!AX67=\"Yes\",\"Yes\",IF('Outil Recensement'!AX67=\"No\",\"No\",IF('Outil Recensement'!AX67=\"Y\",\"Yes\",IF('Outil Recensement'!AX67=\"N\",\"No\",\"\"))))","v":""},{"$f":"IF('Outil Recensement'!AY67>0,'Outil Recensement'!AY67,\"\")","v":""},{"$f":"IF('Outil Recensement'!AZ67>0,'Outil Recensement'!AZ67,\"\")","v":""},{"$f":"IF('Outil Recensement'!BA67>0,'Outil Recensement'!BA67,\"\")","v":""},{"$f":"IF('Outil Recensement'!BB67=\"Male\",\"Male\",IF('Outil Recensement'!BB67=\"Female\",\"Female\",IF('Outil Recensement'!BB67=\"M\",\"Male\",IF('Outil Recensement'!BB67=\"F\",\"Female\",\"\"))))","v":""},{"$f":"IF('Outil Recensement'!BC67=\"Yes\",\"Yes\",IF('Outil Recensement'!BC67=\"No\",\"No\",IF('Outil Recensement'!BC67=\"Y\",\"Yes\",IF('Outil Recensement'!BC67=\"N\",\"No\",\"\"))))","v":""},{"$f":"IF('Outil Recensement'!BD67=\"Yes\",\"Yes\",IF('Outil Recensement'!BD67=\"No\",\"No\",IF('Outil Recensement'!BD67=\"Y\",\"Yes\",IF('Outil Recensement'!BD67=\"N\",\"No\",\"\"))))","v":""},{"$f":"IF('Outil Recensement'!BE67>0,'Outil Recensement'!BE67,\"\")","v":""},{"$f":"IF('Outil Recensement'!BF67>0,'Outil Recensement'!BF67,\"\")","v":""},{"$f":"IF('Outil Recensement'!BG67>0,'Outil Recensement'!BG67,\"\")","v":""},{"$f":"IF('Outil Recensement'!BH67=\"Male\",\"Male\",IF('Outil Recensement'!BH67=\"Female\",\"Female\",IF('Outil Recensement'!BH67=\"M\",\"Male\",IF('Outil Recensement'!BH67=\"F\",\"Female\",\"\"))))","v":""},{"$f":"IF('Outil Recensement'!BI67=\"Yes\",\"Yes\",IF('Outil Recensement'!BI67=\"No\",\"No\",IF('Outil Recensement'!BI67=\"Y\",\"Yes\",IF('Outil Recensement'!BI67=\"N\",\"No\",\"\"))))","v":""},{"$f":"IF('Outil Recensement'!BJ67=\"Yes\",\"Yes\",IF('Outil Recensement'!BJ67=\"No\",\"No\",IF('Outil Recensement'!BJ67=\"Y\",\"Yes\",IF('Outil Recensement'!BJ67=\"N\",\"No\",\"\"))))","v":""},{"$f":"IF('Outil Recensement'!BK67>0,'Outil Recensement'!BK67,\"\")","v":""},{"$f":"IF('Outil Recensement'!BL67>0,'Outil Recensement'!BL67,\"\")","v":""},{"$f":"IF('Outil Recensement'!BM67>0,'Outil Recensement'!BM67,\"\")","v":""},{"$f":"IF('Outil Recensement'!BN67=\"Male\",\"Male\",IF('Outil Recensement'!BN67=\"Female\",\"Female\",IF('Outil Recensement'!BN67=\"M\",\"Male\",IF('Outil Recensement'!BN67=\"F\",\"Female\",\"\"))))","v":""},{"$f":"IF('Outil Recensement'!BO67=\"Yes\",\"Yes\",IF('Outil Recensement'!BO67=\"No\",\"No\",IF('Outil Recensement'!BO67=\"Y\",\"Yes\",IF('Outil Recensement'!BO67=\"N\",\"No\",\"\"))))","v":""},{"$f":"IF('Outil Recensement'!BP67=\"Yes\",\"Yes\",IF('Outil Recensement'!BP67=\"No\",\"No\",IF('Outil Recensement'!BP67=\"Y\",\"Yes\",IF('Outil Recensement'!BP67=\"N\",\"No\",\"\"))))","v":""},{"$f":"IF('Outil Recensement'!BQ67>0,'Outil Recensement'!BQ67,\"\")","v":""},{"$f":"IF('Outil Recensement'!BR67>0,'Outil Recensement'!BR67,\"\")","v":""},{"$f":"IF('Outil Recensement'!BS67>0,'Outil Recensement'!BS67,\"\")","v":""},{"$f":"IF('Outil Recensement'!BT67=\"Male\",\"Male\",IF('Outil Recensement'!BT67=\"Female\",\"Female\",IF('Outil Recensement'!BT67=\"M\",\"Male\",IF('Outil Recensement'!BT67=\"F\",\"Female\",\"\"))))","v":""},{"$f":"IF('Outil Recensement'!BU67=\"Yes\",\"Yes\",IF('Outil Recensement'!BU67=\"No\",\"No\",IF('Outil Recensement'!BU67=\"Y\",\"Yes\",IF('Outil Recensement'!BU67=\"N\",\"No\",\"\"))))","v":""},{"$f":"IF('Outil Recensement'!BV67=\"Yes\",\"Yes\",IF('Outil Recensement'!BV67=\"No\",\"No\",IF('Outil Recensement'!BV67=\"Y\",\"Yes\",IF('Outil Recensement'!BV67=\"N\",\"No\",\"\"))))","v":""},{"$f":"IF('Outil Recensement'!BW67>0,'Outil Recensement'!BW67,\"\")","v":""},{"$f":"IF('Outil Recensement'!BX67>0,'Outil Recensement'!BX67,\"\")","v":""},{"$f":"IF('Outil Recensement'!BY67>0,'Outil Recensement'!BY67,\"\")","v":""},{"$f":"IF('Outil Recensement'!BZ67=\"Male\",\"Male\",IF('Outil Recensement'!BZ67=\"Female\",\"Female\",IF('Outil Recensement'!BZ67=\"M\",\"Male\",IF('Outil Recensement'!BZ67=\"F\",\"Female\",\"\"))))","v":""},{"$f":"IF('Outil Recensement'!CA67=\"Yes\",\"Yes\",IF('Outil Recensement'!CA67=\"No\",\"No\",IF('Outil Recensement'!CA67=\"Y\",\"Yes\",IF('Outil Recensement'!CA67=\"N\",\"No\",\"\"))))","v":""},{"$f":"IF('Outil Recensement'!CB67=\"Yes\",\"Yes\",IF('Outil Recensement'!CB67=\"No\",\"No\",IF('Outil Recensement'!CB67=\"Y\",\"Yes\",IF('Outil Recensement'!CB67=\"N\",\"No\",\"\"))))","v":""},{"$f":"IF('Outil Recensement'!CH67>0,'Outil Recensement'!CH67,\"\")","v":"    "}]
[{"$f":"IF('Outil Recensement'!A68>0,'Outil Recensement'!A68,\"\")","v":""},{"$f":"IF('Outil Recensement'!B68>0,'Outil Recensement'!B68,\"\")","v":""},{"$f":"IF('Outil Recensement'!C68>0,'Outil Recensement'!C68,\"\")","v":""},{"$f":"IF('Outil Recensement'!D68>0,'Outil Recensement'!D68,\"\")","v":""},{"$f":"IF('Outil Recensement'!P68>0,TEXT('Outil Recensement'!P68,\"000\"),\"\")","v":""},{"$f":"IF('Outil Recensement'!Q68>0,'Outil Recensement'!Q68,\"\")","v":""},{"$f":"IF('Outil Recensement'!R68>0,'Outil Recensement'!R68,\"\")","v":""},{"$f":"IF('Outil Recensement'!F68>0,DATEVALUE(TEXT('Outil Recensement'!F68,\"yyyy-mm-dd\")),\"\")","v":""},{"$f":"IF('Outil Recensement'!L68>0,DATEVALUE(TEXT('Outil Recensement'!L68,\"yyyy-mm-dd\")),\"\")","v":""},{"$f":"IF('Outil Recensement'!Y68>0,'Outil Recensement'!Y68,\"\")","v":""},{"$f":"IF('Outil Recensement'!T68>0,'Outil Recensement'!T68,\"\")","v":""},{"$f":"IF('Outil Recensement'!G68=\"Homme\",\"Male\",IF('Outil Recensement'!G68=\"Femme\",\"Female\",IF('Outil Recensement'!G68=\"H\",\"Male\",IF('Outil Recensement'!G68=\"F\",\"Female\",\"\"))))","v":""},{"$f":"IF('Outil Recensement'!U68=\"Yes\",\"Yes\",IF('Outil Recensement'!U68=\"No\",\"No\",IF('Outil Recensement'!U68=\"Y\",\"Yes\",IF('Outil Recensement'!U68=\"N\",\"No\",\"\"))))","v":""},{"$f":"IF('Outil Recensement'!I68=\"Individuelle\",\"Single\",IF('Outil Recensement'!I68=\"Familiale\",\"Family\",IF('Outil Recensement'!I68=\"Refus\",\"Family\",IF('Outil Recensement'!I68=\"Parent seul\",\"Family\",IF('Outil Recensement'!I68=\"Couple\",\"Family\",IF('Outil Recensement'!I68=\"In force\",\"Family\",IF('Outil Recensement'!I68=\"Applies\",\"Family\",IF('Outil Recensement'!I68=\"Applicable\",\"Family\",\"\"))))))))","v":""},{"$f":"IF('Outil Recensement'!AC68=\"Anglais\",\"English\",IF('Outil Recensement'!AC68=\"Français\",\"French\",IF('Outil Recensement'!AC68=\"A\",\"English\",IF('Outil Recensement'!AC68=\"F\",\"French\",\"\"))))","v":""},{"$f":"IF('Outil Recensement'!AB68=\"Oui\",\"Yes\",IF('Outil Recensement'!AB68=\"Non\",\"No\",IF('Outil Recensement'!AB68=\"O\",\"Yes\",IF('Outil Recensement'!AB68=\"N\",\"No\",\"\"))))","v":""},{"$f":"IF('Outil Recensement'!AD68>0,'Outil Recensement'!AD68,\"\")","v":""},{"$f":"IF('Outil Recensement'!M68=\"Annuel\",\"Annually\",IF('Outil Recensement'!M68=\"Mensuel\",\"Monthly\",IF('Outil Recensement'!M68=\"Bihebdomadaire\",\"Biweekly\",IF('Outil Recensement'!M68=\"Hebdomadaire\",\"Weekly\",IF('Outil Recensement'!M68=\"Horaire\",\"Hourly\",IF('Outil Recensement'!M68=\"Semi-mensuel\",\"Semi-monthly\",IF('Outil Recensement'!M68=\"Applies\",\"Annual\",IF('Outil Recensement'!M68=\"Applicable\",\"Annual\",\"\"))))))))","v":""},{"$f":"IF('Outil Recensement'!N68>0,'Outil Recensement'!N68,\"\")","v":""},{"$f":"IF('Outil Recensement'!O68>0,'Outil Recensement'!O68,\"\")","v":""},{"$f":"IF('Outil Recensement'!I68=\"Refus\",\"Yes\",\"\")","v":""},{"$f":"IF('Outil Recensement'!I68=\"Refus\",\"Yes\",\"\")","v":""},{"$f":"IF('Outil Recensement'!AE68>0,'Outil Recensement'!AE68,\"\")","v":""},{"$f":"IF('Outil Recensement'!AF68>0,'Outil Recensement'!AF68,\"\")","v":""},{"$f":"IF('Outil Recensement'!AG68>0,'Outil Recensement'!AG68,\"\")","v":""},{"$f":"IF('Outil Recensement'!AH68>0,'Outil Recensement'!AH68,\"\")","v":""},{"$f":"IF('Outil Recensement'!AI68>0,'Outil Recensement'!AI68,\"\")","v":" "},{"$f":"IF('Outil Recensement'!AJ68>0,'Outil Recensement'!AJ68,\"\")","v":" "},{"$f":"IF('Outil Recensement'!W68>0,'Outil Recensement'!W68&\" \",\"\")&IF('Outil Recensement'!V68>0,'Outil Recensement'!V68,\"\")","v":""},null,{"$f":"IF('Outil Recensement'!X68>0,'Outil Recensement'!X68,\"\")","v":""},{"$f":"IF('Outil Recensement'!Y68>0,'Outil Recensement'!Y68,\"\")","v":""},{"$f":"IF('Outil Recensement'!Z68>0,'Outil Recensement'!Z68,\"\")","v":""},{"$f":"IF('Outil Recensement'!AA68>0,'Outil Recensement'!AA68,\"\")","v":""},{"$f":"IF('Outil Recensement'!E68>0,'Outil Recensement'!E68,\"\")","v":""},{"$f":"IF('Outil Recensement'!AK68>0,'Outil Recensement'!AK68,\"\")","v":""},{"$f":"IF('Outil Recensement'!AL68>0,'Outil Recensement'!AL68,\"\")","v":""},{"$f":"IF('Outil Recensement'!AM68>0,'Outil Recensement'!AM68,\"\")","v":""},{"$f":"IF('Outil Recensement'!AN68=\"Male\",\"Male\",IF('Outil Recensement'!AN68=\"Female\",\"Female\",IF('Outil Recensement'!AN68=\"M\",\"Male\",IF('Outil Recensement'!AN68=\"F\",\"Female\",\"\"))))","v":""},{"$f":"IF('Outil Recensement'!AO68=\"Single\",\"Single\",IF('Outil Recensement'!AO68=\"Family\",\"Family\",IF('Outil Recensement'!AO68=\"S\",\"Single\",IF('Outil Recensement'!AO68=\"F\",\"Family\",\"\"))))","v":""},{"$f":"IF('Outil Recensement'!AP68=\"Single\",\"Single\",IF('Outil Recensement'!AP68=\"Family\",\"Family\",IF('Outil Recensement'!AP68=\"S\",\"Single\",IF('Outil Recensement'!AP68=\"F\",\"Family\",\"\"))))","v":""},{"$f":"IF('Outil Recensement'!AQ68>0,'Outil Recensement'!AQ68,\"\")","v":""},{"$f":"IF('Outil Recensement'!AR68=\"Yes\",\"Yes\",IF('Outil Recensement'!AR68=\"No\",\"No\",IF('Outil Recensement'!AR68=\"Y\",\"Yes\",IF('Outil Recensement'!AR68=\"N\",\"No\",\"\"))))","v":""},{"$f":"IF('Outil Recensement'!AS68>0,'Outil Recensement'!AS68,\"\")","v":""},{"$f":"IF('Outil Recensement'!AT68>0,'Outil Recensement'!AT68,\"\")","v":""},{"$f":"IF('Outil Recensement'!AU68>0,'Outil Recensement'!AU68,\"\")","v":""},{"$f":"IF('Outil Recensement'!AV68=\"Male\",\"Male\",IF('Outil Recensement'!AV68=\"Female\",\"Female\",IF('Outil Recensement'!AV68=\"M\",\"Male\",IF('Outil Recensement'!AV68=\"F\",\"Female\",\"\"))))","v":""},{"$f":"IF('Outil Recensement'!AW68=\"Yes\",\"Yes\",IF('Outil Recensement'!AW68=\"No\",\"No\",IF('Outil Recensement'!AW68=\"Y\",\"Yes\",IF('Outil Recensement'!AW68=\"N\",\"No\",\"\"))))","v":""},{"$f":"IF('Outil Recensement'!AX68=\"Yes\",\"Yes\",IF('Outil Recensement'!AX68=\"No\",\"No\",IF('Outil Recensement'!AX68=\"Y\",\"Yes\",IF('Outil Recensement'!AX68=\"N\",\"No\",\"\"))))","v":""},{"$f":"IF('Outil Recensement'!AY68>0,'Outil Recensement'!AY68,\"\")","v":""},{"$f":"IF('Outil Recensement'!AZ68>0,'Outil Recensement'!AZ68,\"\")","v":""},{"$f":"IF('Outil Recensement'!BA68>0,'Outil Recensement'!BA68,\"\")","v":""},{"$f":"IF('Outil Recensement'!BB68=\"Male\",\"Male\",IF('Outil Recensement'!BB68=\"Female\",\"Female\",IF('Outil Recensement'!BB68=\"M\",\"Male\",IF('Outil Recensement'!BB68=\"F\",\"Female\",\"\"))))","v":""},{"$f":"IF('Outil Recensement'!BC68=\"Yes\",\"Yes\",IF('Outil Recensement'!BC68=\"No\",\"No\",IF('Outil Recensement'!BC68=\"Y\",\"Yes\",IF('Outil Recensement'!BC68=\"N\",\"No\",\"\"))))","v":""},{"$f":"IF('Outil Recensement'!BD68=\"Yes\",\"Yes\",IF('Outil Recensement'!BD68=\"No\",\"No\",IF('Outil Recensement'!BD68=\"Y\",\"Yes\",IF('Outil Recensement'!BD68=\"N\",\"No\",\"\"))))","v":""},{"$f":"IF('Outil Recensement'!BE68>0,'Outil Recensement'!BE68,\"\")","v":""},{"$f":"IF('Outil Recensement'!BF68>0,'Outil Recensement'!BF68,\"\")","v":""},{"$f":"IF('Outil Recensement'!BG68>0,'Outil Recensement'!BG68,\"\")","v":""},{"$f":"IF('Outil Recensement'!BH68=\"Male\",\"Male\",IF('Outil Recensement'!BH68=\"Female\",\"Female\",IF('Outil Recensement'!BH68=\"M\",\"Male\",IF('Outil Recensement'!BH68=\"F\",\"Female\",\"\"))))","v":""},{"$f":"IF('Outil Recensement'!BI68=\"Yes\",\"Yes\",IF('Outil Recensement'!BI68=\"No\",\"No\",IF('Outil Recensement'!BI68=\"Y\",\"Yes\",IF('Outil Recensement'!BI68=\"N\",\"No\",\"\"))))","v":""},{"$f":"IF('Outil Recensement'!BJ68=\"Yes\",\"Yes\",IF('Outil Recensement'!BJ68=\"No\",\"No\",IF('Outil Recensement'!BJ68=\"Y\",\"Yes\",IF('Outil Recensement'!BJ68=\"N\",\"No\",\"\"))))","v":""},{"$f":"IF('Outil Recensement'!BK68>0,'Outil Recensement'!BK68,\"\")","v":""},{"$f":"IF('Outil Recensement'!BL68>0,'Outil Recensement'!BL68,\"\")","v":""},{"$f":"IF('Outil Recensement'!BM68>0,'Outil Recensement'!BM68,\"\")","v":""},{"$f":"IF('Outil Recensement'!BN68=\"Male\",\"Male\",IF('Outil Recensement'!BN68=\"Female\",\"Female\",IF('Outil Recensement'!BN68=\"M\",\"Male\",IF('Outil Recensement'!BN68=\"F\",\"Female\",\"\"))))","v":""},{"$f":"IF('Outil Recensement'!BO68=\"Yes\",\"Yes\",IF('Outil Recensement'!BO68=\"No\",\"No\",IF('Outil Recensement'!BO68=\"Y\",\"Yes\",IF('Outil Recensement'!BO68=\"N\",\"No\",\"\"))))","v":""},{"$f":"IF('Outil Recensement'!BP68=\"Yes\",\"Yes\",IF('Outil Recensement'!BP68=\"No\",\"No\",IF('Outil Recensement'!BP68=\"Y\",\"Yes\",IF('Outil Recensement'!BP68=\"N\",\"No\",\"\"))))","v":""},{"$f":"IF('Outil Recensement'!BQ68>0,'Outil Recensement'!BQ68,\"\")","v":""},{"$f":"IF('Outil Recensement'!BR68>0,'Outil Recensement'!BR68,\"\")","v":""},{"$f":"IF('Outil Recensement'!BS68>0,'Outil Recensement'!BS68,\"\")","v":""},{"$f":"IF('Outil Recensement'!BT68=\"Male\",\"Male\",IF('Outil Recensement'!BT68=\"Female\",\"Female\",IF('Outil Recensement'!BT68=\"M\",\"Male\",IF('Outil Recensement'!BT68=\"F\",\"Female\",\"\"))))","v":""},{"$f":"IF('Outil Recensement'!BU68=\"Yes\",\"Yes\",IF('Outil Recensement'!BU68=\"No\",\"No\",IF('Outil Recensement'!BU68=\"Y\",\"Yes\",IF('Outil Recensement'!BU68=\"N\",\"No\",\"\"))))","v":""},{"$f":"IF('Outil Recensement'!BV68=\"Yes\",\"Yes\",IF('Outil Recensement'!BV68=\"No\",\"No\",IF('Outil Recensement'!BV68=\"Y\",\"Yes\",IF('Outil Recensement'!BV68=\"N\",\"No\",\"\"))))","v":""},{"$f":"IF('Outil Recensement'!BW68>0,'Outil Recensement'!BW68,\"\")","v":""},{"$f":"IF('Outil Recensement'!BX68>0,'Outil Recensement'!BX68,\"\")","v":""},{"$f":"IF('Outil Recensement'!BY68>0,'Outil Recensement'!BY68,\"\")","v":""},{"$f":"IF('Outil Recensement'!BZ68=\"Male\",\"Male\",IF('Outil Recensement'!BZ68=\"Female\",\"Female\",IF('Outil Recensement'!BZ68=\"M\",\"Male\",IF('Outil Recensement'!BZ68=\"F\",\"Female\",\"\"))))","v":""},{"$f":"IF('Outil Recensement'!CA68=\"Yes\",\"Yes\",IF('Outil Recensement'!CA68=\"No\",\"No\",IF('Outil Recensement'!CA68=\"Y\",\"Yes\",IF('Outil Recensement'!CA68=\"N\",\"No\",\"\"))))","v":""},{"$f":"IF('Outil Recensement'!CB68=\"Yes\",\"Yes\",IF('Outil Recensement'!CB68=\"No\",\"No\",IF('Outil Recensement'!CB68=\"Y\",\"Yes\",IF('Outil Recensement'!CB68=\"N\",\"No\",\"\"))))","v":""},{"$f":"IF('Outil Recensement'!CH68>0,'Outil Recensement'!CH68,\"\")","v":"    "}]
[{"$f":"IF('Outil Recensement'!A69>0,'Outil Recensement'!A69,\"\")","v":""},{"$f":"IF('Outil Recensement'!B69>0,'Outil Recensement'!B69,\"\")","v":""},{"$f":"IF('Outil Recensement'!C69>0,'Outil Recensement'!C69,\"\")","v":""},{"$f":"IF('Outil Recensement'!D69>0,'Outil Recensement'!D69,\"\")","v":""},{"$f":"IF('Outil Recensement'!P69>0,TEXT('Outil Recensement'!P69,\"000\"),\"\")","v":""},{"$f":"IF('Outil Recensement'!Q69>0,'Outil Recensement'!Q69,\"\")","v":""},{"$f":"IF('Outil Recensement'!R69>0,'Outil Recensement'!R69,\"\")","v":""},{"$f":"IF('Outil Recensement'!F69>0,DATEVALUE(TEXT('Outil Recensement'!F69,\"yyyy-mm-dd\")),\"\")","v":""},{"$f":"IF('Outil Recensement'!L69>0,DATEVALUE(TEXT('Outil Recensement'!L69,\"yyyy-mm-dd\")),\"\")","v":""},{"$f":"IF('Outil Recensement'!Y69>0,'Outil Recensement'!Y69,\"\")","v":""},{"$f":"IF('Outil Recensement'!T69>0,'Outil Recensement'!T69,\"\")","v":""},{"$f":"IF('Outil Recensement'!G69=\"Homme\",\"Male\",IF('Outil Recensement'!G69=\"Femme\",\"Female\",IF('Outil Recensement'!G69=\"H\",\"Male\",IF('Outil Recensement'!G69=\"F\",\"Female\",\"\"))))","v":""},{"$f":"IF('Outil Recensement'!U69=\"Yes\",\"Yes\",IF('Outil Recensement'!U69=\"No\",\"No\",IF('Outil Recensement'!U69=\"Y\",\"Yes\",IF('Outil Recensement'!U69=\"N\",\"No\",\"\"))))","v":""},{"$f":"IF('Outil Recensement'!I69=\"Individuelle\",\"Single\",IF('Outil Recensement'!I69=\"Familiale\",\"Family\",IF('Outil Recensement'!I69=\"Refus\",\"Family\",IF('Outil Recensement'!I69=\"Parent seul\",\"Family\",IF('Outil Recensement'!I69=\"Couple\",\"Family\",IF('Outil Recensement'!I69=\"In force\",\"Family\",IF('Outil Recensement'!I69=\"Applies\",\"Family\",IF('Outil Recensement'!I69=\"Applicable\",\"Family\",\"\"))))))))","v":""},{"$f":"IF('Outil Recensement'!AC69=\"Anglais\",\"English\",IF('Outil Recensement'!AC69=\"Français\",\"French\",IF('Outil Recensement'!AC69=\"A\",\"English\",IF('Outil Recensement'!AC69=\"F\",\"French\",\"\"))))","v":""},{"$f":"IF('Outil Recensement'!AB69=\"Oui\",\"Yes\",IF('Outil Recensement'!AB69=\"Non\",\"No\",IF('Outil Recensement'!AB69=\"O\",\"Yes\",IF('Outil Recensement'!AB69=\"N\",\"No\",\"\"))))","v":""},{"$f":"IF('Outil Recensement'!AD69>0,'Outil Recensement'!AD69,\"\")","v":""},{"$f":"IF('Outil Recensement'!M69=\"Annuel\",\"Annually\",IF('Outil Recensement'!M69=\"Mensuel\",\"Monthly\",IF('Outil Recensement'!M69=\"Bihebdomadaire\",\"Biweekly\",IF('Outil Recensement'!M69=\"Hebdomadaire\",\"Weekly\",IF('Outil Recensement'!M69=\"Horaire\",\"Hourly\",IF('Outil Recensement'!M69=\"Semi-mensuel\",\"Semi-monthly\",IF('Outil Recensement'!M69=\"Applies\",\"Annual\",IF('Outil Recensement'!M69=\"Applicable\",\"Annual\",\"\"))))))))","v":""},{"$f":"IF('Outil Recensement'!N69>0,'Outil Recensement'!N69,\"\")","v":""},{"$f":"IF('Outil Recensement'!O69>0,'Outil Recensement'!O69,\"\")","v":""},{"$f":"IF('Outil Recensement'!I69=\"Refus\",\"Yes\",\"\")","v":""},{"$f":"IF('Outil Recensement'!I69=\"Refus\",\"Yes\",\"\")","v":""},{"$f":"IF('Outil Recensement'!AE69>0,'Outil Recensement'!AE69,\"\")","v":""},{"$f":"IF('Outil Recensement'!AF69>0,'Outil Recensement'!AF69,\"\")","v":""},{"$f":"IF('Outil Recensement'!AG69>0,'Outil Recensement'!AG69,\"\")","v":""},{"$f":"IF('Outil Recensement'!AH69>0,'Outil Recensement'!AH69,\"\")","v":""},{"$f":"IF('Outil Recensement'!AI69>0,'Outil Recensement'!AI69,\"\")","v":" "},{"$f":"IF('Outil Recensement'!AJ69>0,'Outil Recensement'!AJ69,\"\")","v":" "},{"$f":"IF('Outil Recensement'!W69>0,'Outil Recensement'!W69&\" \",\"\")&IF('Outil Recensement'!V69>0,'Outil Recensement'!V69,\"\")","v":""},null,{"$f":"IF('Outil Recensement'!X69>0,'Outil Recensement'!X69,\"\")","v":""},{"$f":"IF('Outil Recensement'!Y69>0,'Outil Recensement'!Y69,\"\")","v":""},{"$f":"IF('Outil Recensement'!Z69>0,'Outil Recensement'!Z69,\"\")","v":""},{"$f":"IF('Outil Recensement'!AA69>0,'Outil Recensement'!AA69,\"\")","v":""},{"$f":"IF('Outil Recensement'!E69>0,'Outil Recensement'!E69,\"\")","v":""},{"$f":"IF('Outil Recensement'!AK69>0,'Outil Recensement'!AK69,\"\")","v":""},{"$f":"IF('Outil Recensement'!AL69>0,'Outil Recensement'!AL69,\"\")","v":""},{"$f":"IF('Outil Recensement'!AM69>0,'Outil Recensement'!AM69,\"\")","v":""},{"$f":"IF('Outil Recensement'!AN69=\"Male\",\"Male\",IF('Outil Recensement'!AN69=\"Female\",\"Female\",IF('Outil Recensement'!AN69=\"M\",\"Male\",IF('Outil Recensement'!AN69=\"F\",\"Female\",\"\"))))","v":""},{"$f":"IF('Outil Recensement'!AO69=\"Single\",\"Single\",IF('Outil Recensement'!AO69=\"Family\",\"Family\",IF('Outil Recensement'!AO69=\"S\",\"Single\",IF('Outil Recensement'!AO69=\"F\",\"Family\",\"\"))))","v":""},{"$f":"IF('Outil Recensement'!AP69=\"Single\",\"Single\",IF('Outil Recensement'!AP69=\"Family\",\"Family\",IF('Outil Recensement'!AP69=\"S\",\"Single\",IF('Outil Recensement'!AP69=\"F\",\"Family\",\"\"))))","v":""},{"$f":"IF('Outil Recensement'!AQ69>0,'Outil Recensement'!AQ69,\"\")","v":""},{"$f":"IF('Outil Recensement'!AR69=\"Yes\",\"Yes\",IF('Outil Recensement'!AR69=\"No\",\"No\",IF('Outil Recensement'!AR69=\"Y\",\"Yes\",IF('Outil Recensement'!AR69=\"N\",\"No\",\"\"))))","v":""},{"$f":"IF('Outil Recensement'!AS69>0,'Outil Recensement'!AS69,\"\")","v":""},{"$f":"IF('Outil Recensement'!AT69>0,'Outil Recensement'!AT69,\"\")","v":""},{"$f":"IF('Outil Recensement'!AU69>0,'Outil Recensement'!AU69,\"\")","v":""},{"$f":"IF('Outil Recensement'!AV69=\"Male\",\"Male\",IF('Outil Recensement'!AV69=\"Female\",\"Female\",IF('Outil Recensement'!AV69=\"M\",\"Male\",IF('Outil Recensement'!AV69=\"F\",\"Female\",\"\"))))","v":""},{"$f":"IF('Outil Recensement'!AW69=\"Yes\",\"Yes\",IF('Outil Recensement'!AW69=\"No\",\"No\",IF('Outil Recensement'!AW69=\"Y\",\"Yes\",IF('Outil Recensement'!AW69=\"N\",\"No\",\"\"))))","v":""},{"$f":"IF('Outil Recensement'!AX69=\"Yes\",\"Yes\",IF('Outil Recensement'!AX69=\"No\",\"No\",IF('Outil Recensement'!AX69=\"Y\",\"Yes\",IF('Outil Recensement'!AX69=\"N\",\"No\",\"\"))))","v":""},{"$f":"IF('Outil Recensement'!AY69>0,'Outil Recensement'!AY69,\"\")","v":""},{"$f":"IF('Outil Recensement'!AZ69>0,'Outil Recensement'!AZ69,\"\")","v":""},{"$f":"IF('Outil Recensement'!BA69>0,'Outil Recensement'!BA69,\"\")","v":""},{"$f":"IF('Outil Recensement'!BB69=\"Male\",\"Male\",IF('Outil Recensement'!BB69=\"Female\",\"Female\",IF('Outil Recensement'!BB69=\"M\",\"Male\",IF('Outil Recensement'!BB69=\"F\",\"Female\",\"\"))))","v":""},{"$f":"IF('Outil Recensement'!BC69=\"Yes\",\"Yes\",IF('Outil Recensement'!BC69=\"No\",\"No\",IF('Outil Recensement'!BC69=\"Y\",\"Yes\",IF('Outil Recensement'!BC69=\"N\",\"No\",\"\"))))","v":""},{"$f":"IF('Outil Recensement'!BD69=\"Yes\",\"Yes\",IF('Outil Recensement'!BD69=\"No\",\"No\",IF('Outil Recensement'!BD69=\"Y\",\"Yes\",IF('Outil Recensement'!BD69=\"N\",\"No\",\"\"))))","v":""},{"$f":"IF('Outil Recensement'!BE69>0,'Outil Recensement'!BE69,\"\")","v":""},{"$f":"IF('Outil Recensement'!BF69>0,'Outil Recensement'!BF69,\"\")","v":""},{"$f":"IF('Outil Recensement'!BG69>0,'Outil Recensement'!BG69,\"\")","v":""},{"$f":"IF('Outil Recensement'!BH69=\"Male\",\"Male\",IF('Outil Recensement'!BH69=\"Female\",\"Female\",IF('Outil Recensement'!BH69=\"M\",\"Male\",IF('Outil Recensement'!BH69=\"F\",\"Female\",\"\"))))","v":""},{"$f":"IF('Outil Recensement'!BI69=\"Yes\",\"Yes\",IF('Outil Recensement'!BI69=\"No\",\"No\",IF('Outil Recensement'!BI69=\"Y\",\"Yes\",IF('Outil Recensement'!BI69=\"N\",\"No\",\"\"))))","v":""},{"$f":"IF('Outil Recensement'!BJ69=\"Yes\",\"Yes\",IF('Outil Recensement'!BJ69=\"No\",\"No\",IF('Outil Recensement'!BJ69=\"Y\",\"Yes\",IF('Outil Recensement'!BJ69=\"N\",\"No\",\"\"))))","v":""},{"$f":"IF('Outil Recensement'!BK69>0,'Outil Recensement'!BK69,\"\")","v":""},{"$f":"IF('Outil Recensement'!BL69>0,'Outil Recensement'!BL69,\"\")","v":""},{"$f":"IF('Outil Recensement'!BM69>0,'Outil Recensement'!BM69,\"\")","v":""},{"$f":"IF('Outil Recensement'!BN69=\"Male\",\"Male\",IF('Outil Recensement'!BN69=\"Female\",\"Female\",IF('Outil Recensement'!BN69=\"M\",\"Male\",IF('Outil Recensement'!BN69=\"F\",\"Female\",\"\"))))","v":""},{"$f":"IF('Outil Recensement'!BO69=\"Yes\",\"Yes\",IF('Outil Recensement'!BO69=\"No\",\"No\",IF('Outil Recensement'!BO69=\"Y\",\"Yes\",IF('Outil Recensement'!BO69=\"N\",\"No\",\"\"))))","v":""},{"$f":"IF('Outil Recensement'!BP69=\"Yes\",\"Yes\",IF('Outil Recensement'!BP69=\"No\",\"No\",IF('Outil Recensement'!BP69=\"Y\",\"Yes\",IF('Outil Recensement'!BP69=\"N\",\"No\",\"\"))))","v":""},{"$f":"IF('Outil Recensement'!BQ69>0,'Outil Recensement'!BQ69,\"\")","v":""},{"$f":"IF('Outil Recensement'!BR69>0,'Outil Recensement'!BR69,\"\")","v":""},{"$f":"IF('Outil Recensement'!BS69>0,'Outil Recensement'!BS69,\"\")","v":""},{"$f":"IF('Outil Recensement'!BT69=\"Male\",\"Male\",IF('Outil Recensement'!BT69=\"Female\",\"Female\",IF('Outil Recensement'!BT69=\"M\",\"Male\",IF('Outil Recensement'!BT69=\"F\",\"Female\",\"\"))))","v":""},{"$f":"IF('Outil Recensement'!BU69=\"Yes\",\"Yes\",IF('Outil Recensement'!BU69=\"No\",\"No\",IF('Outil Recensement'!BU69=\"Y\",\"Yes\",IF('Outil Recensement'!BU69=\"N\",\"No\",\"\"))))","v":""},{"$f":"IF('Outil Recensement'!BV69=\"Yes\",\"Yes\",IF('Outil Recensement'!BV69=\"No\",\"No\",IF('Outil Recensement'!BV69=\"Y\",\"Yes\",IF('Outil Recensement'!BV69=\"N\",\"No\",\"\"))))","v":""},{"$f":"IF('Outil Recensement'!BW69>0,'Outil Recensement'!BW69,\"\")","v":""},{"$f":"IF('Outil Recensement'!BX69>0,'Outil Recensement'!BX69,\"\")","v":""},{"$f":"IF('Outil Recensement'!BY69>0,'Outil Recensement'!BY69,\"\")","v":""},{"$f":"IF('Outil Recensement'!BZ69=\"Male\",\"Male\",IF('Outil Recensement'!BZ69=\"Female\",\"Female\",IF('Outil Recensement'!BZ69=\"M\",\"Male\",IF('Outil Recensement'!BZ69=\"F\",\"Female\",\"\"))))","v":""},{"$f":"IF('Outil Recensement'!CA69=\"Yes\",\"Yes\",IF('Outil Recensement'!CA69=\"No\",\"No\",IF('Outil Recensement'!CA69=\"Y\",\"Yes\",IF('Outil Recensement'!CA69=\"N\",\"No\",\"\"))))","v":""},{"$f":"IF('Outil Recensement'!CB69=\"Yes\",\"Yes\",IF('Outil Recensement'!CB69=\"No\",\"No\",IF('Outil Recensement'!CB69=\"Y\",\"Yes\",IF('Outil Recensement'!CB69=\"N\",\"No\",\"\"))))","v":""},{"$f":"IF('Outil Recensement'!CH69>0,'Outil Recensement'!CH69,\"\")","v":"    "}]
[{"$f":"IF('Outil Recensement'!A70>0,'Outil Recensement'!A70,\"\")","v":""},{"$f":"IF('Outil Recensement'!B70>0,'Outil Recensement'!B70,\"\")","v":""},{"$f":"IF('Outil Recensement'!C70>0,'Outil Recensement'!C70,\"\")","v":""},{"$f":"IF('Outil Recensement'!D70>0,'Outil Recensement'!D70,\"\")","v":""},{"$f":"IF('Outil Recensement'!P70>0,TEXT('Outil Recensement'!P70,\"000\"),\"\")","v":""},{"$f":"IF('Outil Recensement'!Q70>0,'Outil Recensement'!Q70,\"\")","v":""},{"$f":"IF('Outil Recensement'!R70>0,'Outil Recensement'!R70,\"\")","v":""},{"$f":"IF('Outil Recensement'!F70>0,DATEVALUE(TEXT('Outil Recensement'!F70,\"yyyy-mm-dd\")),\"\")","v":""},{"$f":"IF('Outil Recensement'!L70>0,DATEVALUE(TEXT('Outil Recensement'!L70,\"yyyy-mm-dd\")),\"\")","v":""},{"$f":"IF('Outil Recensement'!Y70>0,'Outil Recensement'!Y70,\"\")","v":""},{"$f":"IF('Outil Recensement'!T70>0,'Outil Recensement'!T70,\"\")","v":""},{"$f":"IF('Outil Recensement'!G70=\"Homme\",\"Male\",IF('Outil Recensement'!G70=\"Femme\",\"Female\",IF('Outil Recensement'!G70=\"H\",\"Male\",IF('Outil Recensement'!G70=\"F\",\"Female\",\"\"))))","v":""},{"$f":"IF('Outil Recensement'!U70=\"Yes\",\"Yes\",IF('Outil Recensement'!U70=\"No\",\"No\",IF('Outil Recensement'!U70=\"Y\",\"Yes\",IF('Outil Recensement'!U70=\"N\",\"No\",\"\"))))","v":""},{"$f":"IF('Outil Recensement'!I70=\"Individuelle\",\"Single\",IF('Outil Recensement'!I70=\"Familiale\",\"Family\",IF('Outil Recensement'!I70=\"Refus\",\"Family\",IF('Outil Recensement'!I70=\"Parent seul\",\"Family\",IF('Outil Recensement'!I70=\"Couple\",\"Family\",IF('Outil Recensement'!I70=\"In force\",\"Family\",IF('Outil Recensement'!I70=\"Applies\",\"Family\",IF('Outil Recensement'!I70=\"Applicable\",\"Family\",\"\"))))))))","v":""},{"$f":"IF('Outil Recensement'!AC70=\"Anglais\",\"English\",IF('Outil Recensement'!AC70=\"Français\",\"French\",IF('Outil Recensement'!AC70=\"A\",\"English\",IF('Outil Recensement'!AC70=\"F\",\"French\",\"\"))))","v":""},{"$f":"IF('Outil Recensement'!AB70=\"Oui\",\"Yes\",IF('Outil Recensement'!AB70=\"Non\",\"No\",IF('Outil Recensement'!AB70=\"O\",\"Yes\",IF('Outil Recensement'!AB70=\"N\",\"No\",\"\"))))","v":""},{"$f":"IF('Outil Recensement'!AD70>0,'Outil Recensement'!AD70,\"\")","v":""},{"$f":"IF('Outil Recensement'!M70=\"Annuel\",\"Annually\",IF('Outil Recensement'!M70=\"Mensuel\",\"Monthly\",IF('Outil Recensement'!M70=\"Bihebdomadaire\",\"Biweekly\",IF('Outil Recensement'!M70=\"Hebdomadaire\",\"Weekly\",IF('Outil Recensement'!M70=\"Horaire\",\"Hourly\",IF('Outil Recensement'!M70=\"Semi-mensuel\",\"Semi-monthly\",IF('Outil Recensement'!M70=\"Applies\",\"Annual\",IF('Outil Recensement'!M70=\"Applicable\",\"Annual\",\"\"))))))))","v":""},{"$f":"IF('Outil Recensement'!N70>0,'Outil Recensement'!N70,\"\")","v":""},{"$f":"IF('Outil Recensement'!O70>0,'Outil Recensement'!O70,\"\")","v":""},{"$f":"IF('Outil Recensement'!I70=\"Refus\",\"Yes\",\"\")","v":""},{"$f":"IF('Outil Recensement'!I70=\"Refus\",\"Yes\",\"\")","v":""},{"$f":"IF('Outil Recensement'!AE70>0,'Outil Recensement'!AE70,\"\")","v":""},{"$f":"IF('Outil Recensement'!AF70>0,'Outil Recensement'!AF70,\"\")","v":""},{"$f":"IF('Outil Recensement'!AG70>0,'Outil Recensement'!AG70,\"\")","v":""},{"$f":"IF('Outil Recensement'!AH70>0,'Outil Recensement'!AH70,\"\")","v":""},{"$f":"IF('Outil Recensement'!AI70>0,'Outil Recensement'!AI70,\"\")","v":" "},{"$f":"IF('Outil Recensement'!AJ70>0,'Outil Recensement'!AJ70,\"\")","v":" "},{"$f":"IF('Outil Recensement'!W70>0,'Outil Recensement'!W70&\" \",\"\")&IF('Outil Recensement'!V70>0,'Outil Recensement'!V70,\"\")","v":""},null,{"$f":"IF('Outil Recensement'!X70>0,'Outil Recensement'!X70,\"\")","v":""},{"$f":"IF('Outil Recensement'!Y70>0,'Outil Recensement'!Y70,\"\")","v":""},{"$f":"IF('Outil Recensement'!Z70>0,'Outil Recensement'!Z70,\"\")","v":""},{"$f":"IF('Outil Recensement'!AA70>0,'Outil Recensement'!AA70,\"\")","v":""},{"$f":"IF('Outil Recensement'!E70>0,'Outil Recensement'!E70,\"\")","v":""},{"$f":"IF('Outil Recensement'!AK70>0,'Outil Recensement'!AK70,\"\")","v":""},{"$f":"IF('Outil Recensement'!AL70>0,'Outil Recensement'!AL70,\"\")","v":""},{"$f":"IF('Outil Recensement'!AM70>0,'Outil Recensement'!AM70,\"\")","v":""},{"$f":"IF('Outil Recensement'!AN70=\"Male\",\"Male\",IF('Outil Recensement'!AN70=\"Female\",\"Female\",IF('Outil Recensement'!AN70=\"M\",\"Male\",IF('Outil Recensement'!AN70=\"F\",\"Female\",\"\"))))","v":""},{"$f":"IF('Outil Recensement'!AO70=\"Single\",\"Single\",IF('Outil Recensement'!AO70=\"Family\",\"Family\",IF('Outil Recensement'!AO70=\"S\",\"Single\",IF('Outil Recensement'!AO70=\"F\",\"Family\",\"\"))))","v":""},{"$f":"IF('Outil Recensement'!AP70=\"Single\",\"Single\",IF('Outil Recensement'!AP70=\"Family\",\"Family\",IF('Outil Recensement'!AP70=\"S\",\"Single\",IF('Outil Recensement'!AP70=\"F\",\"Family\",\"\"))))","v":""},{"$f":"IF('Outil Recensement'!AQ70>0,'Outil Recensement'!AQ70,\"\")","v":""},{"$f":"IF('Outil Recensement'!AR70=\"Yes\",\"Yes\",IF('Outil Recensement'!AR70=\"No\",\"No\",IF('Outil Recensement'!AR70=\"Y\",\"Yes\",IF('Outil Recensement'!AR70=\"N\",\"No\",\"\"))))","v":""},{"$f":"IF('Outil Recensement'!AS70>0,'Outil Recensement'!AS70,\"\")","v":""},{"$f":"IF('Outil Recensement'!AT70>0,'Outil Recensement'!AT70,\"\")","v":""},{"$f":"IF('Outil Recensement'!AU70>0,'Outil Recensement'!AU70,\"\")","v":""},{"$f":"IF('Outil Recensement'!AV70=\"Male\",\"Male\",IF('Outil Recensement'!AV70=\"Female\",\"Female\",IF('Outil Recensement'!AV70=\"M\",\"Male\",IF('Outil Recensement'!AV70=\"F\",\"Female\",\"\"))))","v":""},{"$f":"IF('Outil Recensement'!AW70=\"Yes\",\"Yes\",IF('Outil Recensement'!AW70=\"No\",\"No\",IF('Outil Recensement'!AW70=\"Y\",\"Yes\",IF('Outil Recensement'!AW70=\"N\",\"No\",\"\"))))","v":""},{"$f":"IF('Outil Recensement'!AX70=\"Yes\",\"Yes\",IF('Outil Recensement'!AX70=\"No\",\"No\",IF('Outil Recensement'!AX70=\"Y\",\"Yes\",IF('Outil Recensement'!AX70=\"N\",\"No\",\"\"))))","v":""},{"$f":"IF('Outil Recensement'!AY70>0,'Outil Recensement'!AY70,\"\")","v":""},{"$f":"IF('Outil Recensement'!AZ70>0,'Outil Recensement'!AZ70,\"\")","v":""},{"$f":"IF('Outil Recensement'!BA70>0,'Outil Recensement'!BA70,\"\")","v":""},{"$f":"IF('Outil Recensement'!BB70=\"Male\",\"Male\",IF('Outil Recensement'!BB70=\"Female\",\"Female\",IF('Outil Recensement'!BB70=\"M\",\"Male\",IF('Outil Recensement'!BB70=\"F\",\"Female\",\"\"))))","v":""},{"$f":"IF('Outil Recensement'!BC70=\"Yes\",\"Yes\",IF('Outil Recensement'!BC70=\"No\",\"No\",IF('Outil Recensement'!BC70=\"Y\",\"Yes\",IF('Outil Recensement'!BC70=\"N\",\"No\",\"\"))))","v":""},{"$f":"IF('Outil Recensement'!BD70=\"Yes\",\"Yes\",IF('Outil Recensement'!BD70=\"No\",\"No\",IF('Outil Recensement'!BD70=\"Y\",\"Yes\",IF('Outil Recensement'!BD70=\"N\",\"No\",\"\"))))","v":""},{"$f":"IF('Outil Recensement'!BE70>0,'Outil Recensement'!BE70,\"\")","v":""},{"$f":"IF('Outil Recensement'!BF70>0,'Outil Recensement'!BF70,\"\")","v":""},{"$f":"IF('Outil Recensement'!BG70>0,'Outil Recensement'!BG70,\"\")","v":""},{"$f":"IF('Outil Recensement'!BH70=\"Male\",\"Male\",IF('Outil Recensement'!BH70=\"Female\",\"Female\",IF('Outil Recensement'!BH70=\"M\",\"Male\",IF('Outil Recensement'!BH70=\"F\",\"Female\",\"\"))))","v":""},{"$f":"IF('Outil Recensement'!BI70=\"Yes\",\"Yes\",IF('Outil Recensement'!BI70=\"No\",\"No\",IF('Outil Recensement'!BI70=\"Y\",\"Yes\",IF('Outil Recensement'!BI70=\"N\",\"No\",\"\"))))","v":""},{"$f":"IF('Outil Recensement'!BJ70=\"Yes\",\"Yes\",IF('Outil Recensement'!BJ70=\"No\",\"No\",IF('Outil Recensement'!BJ70=\"Y\",\"Yes\",IF('Outil Recensement'!BJ70=\"N\",\"No\",\"\"))))","v":""},{"$f":"IF('Outil Recensement'!BK70>0,'Outil Recensement'!BK70,\"\")","v":""},{"$f":"IF('Outil Recensement'!BL70>0,'Outil Recensement'!BL70,\"\")","v":""},{"$f":"IF('Outil Recensement'!BM70>0,'Outil Recensement'!BM70,\"\")","v":""},{"$f":"IF('Outil Recensement'!BN70=\"Male\",\"Male\",IF('Outil Recensement'!BN70=\"Female\",\"Female\",IF('Outil Recensement'!BN70=\"M\",\"Male\",IF('Outil Recensement'!BN70=\"F\",\"Female\",\"\"))))","v":""},{"$f":"IF('Outil Recensement'!BO70=\"Yes\",\"Yes\",IF('Outil Recensement'!BO70=\"No\",\"No\",IF('Outil Recensement'!BO70=\"Y\",\"Yes\",IF('Outil Recensement'!BO70=\"N\",\"No\",\"\"))))","v":""},{"$f":"IF('Outil Recensement'!BP70=\"Yes\",\"Yes\",IF('Outil Recensement'!BP70=\"No\",\"No\",IF('Outil Recensement'!BP70=\"Y\",\"Yes\",IF('Outil Recensement'!BP70=\"N\",\"No\",\"\"))))","v":""},{"$f":"IF('Outil Recensement'!BQ70>0,'Outil Recensement'!BQ70,\"\")","v":""},{"$f":"IF('Outil Recensement'!BR70>0,'Outil Recensement'!BR70,\"\")","v":""},{"$f":"IF('Outil Recensement'!BS70>0,'Outil Recensement'!BS70,\"\")","v":""},{"$f":"IF('Outil Recensement'!BT70=\"Male\",\"Male\",IF('Outil Recensement'!BT70=\"Female\",\"Female\",IF('Outil Recensement'!BT70=\"M\",\"Male\",IF('Outil Recensement'!BT70=\"F\",\"Female\",\"\"))))","v":""},{"$f":"IF('Outil Recensement'!BU70=\"Yes\",\"Yes\",IF('Outil Recensement'!BU70=\"No\",\"No\",IF('Outil Recensement'!BU70=\"Y\",\"Yes\",IF('Outil Recensement'!BU70=\"N\",\"No\",\"\"))))","v":""},{"$f":"IF('Outil Recensement'!BV70=\"Yes\",\"Yes\",IF('Outil Recensement'!BV70=\"No\",\"No\",IF('Outil Recensement'!BV70=\"Y\",\"Yes\",IF('Outil Recensement'!BV70=\"N\",\"No\",\"\"))))","v":""},{"$f":"IF('Outil Recensement'!BW70>0,'Outil Recensement'!BW70,\"\")","v":""},{"$f":"IF('Outil Recensement'!BX70>0,'Outil Recensement'!BX70,\"\")","v":""},{"$f":"IF('Outil Recensement'!BY70>0,'Outil Recensement'!BY70,\"\")","v":""},{"$f":"IF('Outil Recensement'!BZ70=\"Male\",\"Male\",IF('Outil Recensement'!BZ70=\"Female\",\"Female\",IF('Outil Recensement'!BZ70=\"M\",\"Male\",IF('Outil Recensement'!BZ70=\"F\",\"Female\",\"\"))))","v":""},{"$f":"IF('Outil Recensement'!CA70=\"Yes\",\"Yes\",IF('Outil Recensement'!CA70=\"No\",\"No\",IF('Outil Recensement'!CA70=\"Y\",\"Yes\",IF('Outil Recensement'!CA70=\"N\",\"No\",\"\"))))","v":""},{"$f":"IF('Outil Recensement'!CB70=\"Yes\",\"Yes\",IF('Outil Recensement'!CB70=\"No\",\"No\",IF('Outil Recensement'!CB70=\"Y\",\"Yes\",IF('Outil Recensement'!CB70=\"N\",\"No\",\"\"))))","v":""},{"$f":"IF('Outil Recensement'!CH70>0,'Outil Recensement'!CH70,\"\")","v":"    "}]
[{"$f":"IF('Outil Recensement'!A71>0,'Outil Recensement'!A71,\"\")","v":""},{"$f":"IF('Outil Recensement'!B71>0,'Outil Recensement'!B71,\"\")","v":""},{"$f":"IF('Outil Recensement'!C71>0,'Outil Recensement'!C71,\"\")","v":""},{"$f":"IF('Outil Recensement'!D71>0,'Outil Recensement'!D71,\"\")","v":""},{"$f":"IF('Outil Recensement'!P71>0,TEXT('Outil Recensement'!P71,\"000\"),\"\")","v":""},{"$f":"IF('Outil Recensement'!Q71>0,'Outil Recensement'!Q71,\"\")","v":""},{"$f":"IF('Outil Recensement'!R71>0,'Outil Recensement'!R71,\"\")","v":""},{"$f":"IF('Outil Recensement'!F71>0,DATEVALUE(TEXT('Outil Recensement'!F71,\"yyyy-mm-dd\")),\"\")","v":""},{"$f":"IF('Outil Recensement'!L71>0,DATEVALUE(TEXT('Outil Recensement'!L71,\"yyyy-mm-dd\")),\"\")","v":""},{"$f":"IF('Outil Recensement'!Y71>0,'Outil Recensement'!Y71,\"\")","v":""},{"$f":"IF('Outil Recensement'!T71>0,'Outil Recensement'!T71,\"\")","v":""},{"$f":"IF('Outil Recensement'!G71=\"Homme\",\"Male\",IF('Outil Recensement'!G71=\"Femme\",\"Female\",IF('Outil Recensement'!G71=\"H\",\"Male\",IF('Outil Recensement'!G71=\"F\",\"Female\",\"\"))))","v":""},{"$f":"IF('Outil Recensement'!U71=\"Yes\",\"Yes\",IF('Outil Recensement'!U71=\"No\",\"No\",IF('Outil Recensement'!U71=\"Y\",\"Yes\",IF('Outil Recensement'!U71=\"N\",\"No\",\"\"))))","v":""},{"$f":"IF('Outil Recensement'!I71=\"Individuelle\",\"Single\",IF('Outil Recensement'!I71=\"Familiale\",\"Family\",IF('Outil Recensement'!I71=\"Refus\",\"Family\",IF('Outil Recensement'!I71=\"Parent seul\",\"Family\",IF('Outil Recensement'!I71=\"Couple\",\"Family\",IF('Outil Recensement'!I71=\"In force\",\"Family\",IF('Outil Recensement'!I71=\"Applies\",\"Family\",IF('Outil Recensement'!I71=\"Applicable\",\"Family\",\"\"))))))))","v":""},{"$f":"IF('Outil Recensement'!AC71=\"Anglais\",\"English\",IF('Outil Recensement'!AC71=\"Français\",\"French\",IF('Outil Recensement'!AC71=\"A\",\"English\",IF('Outil Recensement'!AC71=\"F\",\"French\",\"\"))))","v":""},{"$f":"IF('Outil Recensement'!AB71=\"Oui\",\"Yes\",IF('Outil Recensement'!AB71=\"Non\",\"No\",IF('Outil Recensement'!AB71=\"O\",\"Yes\",IF('Outil Recensement'!AB71=\"N\",\"No\",\"\"))))","v":""},{"$f":"IF('Outil Recensement'!AD71>0,'Outil Recensement'!AD71,\"\")","v":""},{"$f":"IF('Outil Recensement'!M71=\"Annuel\",\"Annually\",IF('Outil Recensement'!M71=\"Mensuel\",\"Monthly\",IF('Outil Recensement'!M71=\"Bihebdomadaire\",\"Biweekly\",IF('Outil Recensement'!M71=\"Hebdomadaire\",\"Weekly\",IF('Outil Recensement'!M71=\"Horaire\",\"Hourly\",IF('Outil Recensement'!M71=\"Semi-mensuel\",\"Semi-monthly\",IF('Outil Recensement'!M71=\"Applies\",\"Annual\",IF('Outil Recensement'!M71=\"Applicable\",\"Annual\",\"\"))))))))","v":""},{"$f":"IF('Outil Recensement'!N71>0,'Outil Recensement'!N71,\"\")","v":""},{"$f":"IF('Outil Recensement'!O71>0,'Outil Recensement'!O71,\"\")","v":""},{"$f":"IF('Outil Recensement'!I71=\"Refus\",\"Yes\",\"\")","v":""},{"$f":"IF('Outil Recensement'!I71=\"Refus\",\"Yes\",\"\")","v":""},{"$f":"IF('Outil Recensement'!AE71>0,'Outil Recensement'!AE71,\"\")","v":""},{"$f":"IF('Outil Recensement'!AF71>0,'Outil Recensement'!AF71,\"\")","v":""},{"$f":"IF('Outil Recensement'!AG71>0,'Outil Recensement'!AG71,\"\")","v":""},{"$f":"IF('Outil Recensement'!AH71>0,'Outil Recensement'!AH71,\"\")","v":""},{"$f":"IF('Outil Recensement'!AI71>0,'Outil Recensement'!AI71,\"\")","v":" "},{"$f":"IF('Outil Recensement'!AJ71>0,'Outil Recensement'!AJ71,\"\")","v":" "},{"$f":"IF('Outil Recensement'!W71>0,'Outil Recensement'!W71&\" \",\"\")&IF('Outil Recensement'!V71>0,'Outil Recensement'!V71,\"\")","v":""},null,{"$f":"IF('Outil Recensement'!X71>0,'Outil Recensement'!X71,\"\")","v":""},{"$f":"IF('Outil Recensement'!Y71>0,'Outil Recensement'!Y71,\"\")","v":""},{"$f":"IF('Outil Recensement'!Z71>0,'Outil Recensement'!Z71,\"\")","v":""},{"$f":"IF('Outil Recensement'!AA71>0,'Outil Recensement'!AA71,\"\")","v":""},{"$f":"IF('Outil Recensement'!E71>0,'Outil Recensement'!E71,\"\")","v":""},{"$f":"IF('Outil Recensement'!AK71>0,'Outil Recensement'!AK71,\"\")","v":""},{"$f":"IF('Outil Recensement'!AL71>0,'Outil Recensement'!AL71,\"\")","v":""},{"$f":"IF('Outil Recensement'!AM71>0,'Outil Recensement'!AM71,\"\")","v":""},{"$f":"IF('Outil Recensement'!AN71=\"Male\",\"Male\",IF('Outil Recensement'!AN71=\"Female\",\"Female\",IF('Outil Recensement'!AN71=\"M\",\"Male\",IF('Outil Recensement'!AN71=\"F\",\"Female\",\"\"))))","v":""},{"$f":"IF('Outil Recensement'!AO71=\"Single\",\"Single\",IF('Outil Recensement'!AO71=\"Family\",\"Family\",IF('Outil Recensement'!AO71=\"S\",\"Single\",IF('Outil Recensement'!AO71=\"F\",\"Family\",\"\"))))","v":""},{"$f":"IF('Outil Recensement'!AP71=\"Single\",\"Single\",IF('Outil Recensement'!AP71=\"Family\",\"Family\",IF('Outil Recensement'!AP71=\"S\",\"Single\",IF('Outil Recensement'!AP71=\"F\",\"Family\",\"\"))))","v":""},{"$f":"IF('Outil Recensement'!AQ71>0,'Outil Recensement'!AQ71,\"\")","v":""},{"$f":"IF('Outil Recensement'!AR71=\"Yes\",\"Yes\",IF('Outil Recensement'!AR71=\"No\",\"No\",IF('Outil Recensement'!AR71=\"Y\",\"Yes\",IF('Outil Recensement'!AR71=\"N\",\"No\",\"\"))))","v":""},{"$f":"IF('Outil Recensement'!AS71>0,'Outil Recensement'!AS71,\"\")","v":""},{"$f":"IF('Outil Recensement'!AT71>0,'Outil Recensement'!AT71,\"\")","v":""},{"$f":"IF('Outil Recensement'!AU71>0,'Outil Recensement'!AU71,\"\")","v":""},{"$f":"IF('Outil Recensement'!AV71=\"Male\",\"Male\",IF('Outil Recensement'!AV71=\"Female\",\"Female\",IF('Outil Recensement'!AV71=\"M\",\"Male\",IF('Outil Recensement'!AV71=\"F\",\"Female\",\"\"))))","v":""},{"$f":"IF('Outil Recensement'!AW71=\"Yes\",\"Yes\",IF('Outil Recensement'!AW71=\"No\",\"No\",IF('Outil Recensement'!AW71=\"Y\",\"Yes\",IF('Outil Recensement'!AW71=\"N\",\"No\",\"\"))))","v":""},{"$f":"IF('Outil Recensement'!AX71=\"Yes\",\"Yes\",IF('Outil Recensement'!AX71=\"No\",\"No\",IF('Outil Recensement'!AX71=\"Y\",\"Yes\",IF('Outil Recensement'!AX71=\"N\",\"No\",\"\"))))","v":""},{"$f":"IF('Outil Recensement'!AY71>0,'Outil Recensement'!AY71,\"\")","v":""},{"$f":"IF('Outil Recensement'!AZ71>0,'Outil Recensement'!AZ71,\"\")","v":""},{"$f":"IF('Outil Recensement'!BA71>0,'Outil Recensement'!BA71,\"\")","v":""},{"$f":"IF('Outil Recensement'!BB71=\"Male\",\"Male\",IF('Outil Recensement'!BB71=\"Female\",\"Female\",IF('Outil Recensement'!BB71=\"M\",\"Male\",IF('Outil Recensement'!BB71=\"F\",\"Female\",\"\"))))","v":""},{"$f":"IF('Outil Recensement'!BC71=\"Yes\",\"Yes\",IF('Outil Recensement'!BC71=\"No\",\"No\",IF('Outil Recensement'!BC71=\"Y\",\"Yes\",IF('Outil Recensement'!BC71=\"N\",\"No\",\"\"))))","v":""},{"$f":"IF('Outil Recensement'!BD71=\"Yes\",\"Yes\",IF('Outil Recensement'!BD71=\"No\",\"No\",IF('Outil Recensement'!BD71=\"Y\",\"Yes\",IF('Outil Recensement'!BD71=\"N\",\"No\",\"\"))))","v":""},{"$f":"IF('Outil Recensement'!BE71>0,'Outil Recensement'!BE71,\"\")","v":""},{"$f":"IF('Outil Recensement'!BF71>0,'Outil Recensement'!BF71,\"\")","v":""},{"$f":"IF('Outil Recensement'!BG71>0,'Outil Recensement'!BG71,\"\")","v":""},{"$f":"IF('Outil Recensement'!BH71=\"Male\",\"Male\",IF('Outil Recensement'!BH71=\"Female\",\"Female\",IF('Outil Recensement'!BH71=\"M\",\"Male\",IF('Outil Recensement'!BH71=\"F\",\"Female\",\"\"))))","v":""},{"$f":"IF('Outil Recensement'!BI71=\"Yes\",\"Yes\",IF('Outil Recensement'!BI71=\"No\",\"No\",IF('Outil Recensement'!BI71=\"Y\",\"Yes\",IF('Outil Recensement'!BI71=\"N\",\"No\",\"\"))))","v":""},{"$f":"IF('Outil Recensement'!BJ71=\"Yes\",\"Yes\",IF('Outil Recensement'!BJ71=\"No\",\"No\",IF('Outil Recensement'!BJ71=\"Y\",\"Yes\",IF('Outil Recensement'!BJ71=\"N\",\"No\",\"\"))))","v":""},{"$f":"IF('Outil Recensement'!BK71>0,'Outil Recensement'!BK71,\"\")","v":""},{"$f":"IF('Outil Recensement'!BL71>0,'Outil Recensement'!BL71,\"\")","v":""},{"$f":"IF('Outil Recensement'!BM71>0,'Outil Recensement'!BM71,\"\")","v":""},{"$f":"IF('Outil Recensement'!BN71=\"Male\",\"Male\",IF('Outil Recensement'!BN71=\"Female\",\"Female\",IF('Outil Recensement'!BN71=\"M\",\"Male\",IF('Outil Recensement'!BN71=\"F\",\"Female\",\"\"))))","v":""},{"$f":"IF('Outil Recensement'!BO71=\"Yes\",\"Yes\",IF('Outil Recensement'!BO71=\"No\",\"No\",IF('Outil Recensement'!BO71=\"Y\",\"Yes\",IF('Outil Recensement'!BO71=\"N\",\"No\",\"\"))))","v":""},{"$f":"IF('Outil Recensement'!BP71=\"Yes\",\"Yes\",IF('Outil Recensement'!BP71=\"No\",\"No\",IF('Outil Recensement'!BP71=\"Y\",\"Yes\",IF('Outil Recensement'!BP71=\"N\",\"No\",\"\"))))","v":""},{"$f":"IF('Outil Recensement'!BQ71>0,'Outil Recensement'!BQ71,\"\")","v":""},{"$f":"IF('Outil Recensement'!BR71>0,'Outil Recensement'!BR71,\"\")","v":""},{"$f":"IF('Outil Recensement'!BS71>0,'Outil Recensement'!BS71,\"\")","v":""},{"$f":"IF('Outil Recensement'!BT71=\"Male\",\"Male\",IF('Outil Recensement'!BT71=\"Female\",\"Female\",IF('Outil Recensement'!BT71=\"M\",\"Male\",IF('Outil Recensement'!BT71=\"F\",\"Female\",\"\"))))","v":""},{"$f":"IF('Outil Recensement'!BU71=\"Yes\",\"Yes\",IF('Outil Recensement'!BU71=\"No\",\"No\",IF('Outil Recensement'!BU71=\"Y\",\"Yes\",IF('Outil Recensement'!BU71=\"N\",\"No\",\"\"))))","v":""},{"$f":"IF('Outil Recensement'!BV71=\"Yes\",\"Yes\",IF('Outil Recensement'!BV71=\"No\",\"No\",IF('Outil Recensement'!BV71=\"Y\",\"Yes\",IF('Outil Recensement'!BV71=\"N\",\"No\",\"\"))))","v":""},{"$f":"IF('Outil Recensement'!BW71>0,'Outil Recensement'!BW71,\"\")","v":""},{"$f":"IF('Outil Recensement'!BX71>0,'Outil Recensement'!BX71,\"\")","v":""},{"$f":"IF('Outil Recensement'!BY71>0,'Outil Recensement'!BY71,\"\")","v":""},{"$f":"IF('Outil Recensement'!BZ71=\"Male\",\"Male\",IF('Outil Recensement'!BZ71=\"Female\",\"Female\",IF('Outil Recensement'!BZ71=\"M\",\"Male\",IF('Outil Recensement'!BZ71=\"F\",\"Female\",\"\"))))","v":""},{"$f":"IF('Outil Recensement'!CA71=\"Yes\",\"Yes\",IF('Outil Recensement'!CA71=\"No\",\"No\",IF('Outil Recensement'!CA71=\"Y\",\"Yes\",IF('Outil Recensement'!CA71=\"N\",\"No\",\"\"))))","v":""},{"$f":"IF('Outil Recensement'!CB71=\"Yes\",\"Yes\",IF('Outil Recensement'!CB71=\"No\",\"No\",IF('Outil Recensement'!CB71=\"Y\",\"Yes\",IF('Outil Recensement'!CB71=\"N\",\"No\",\"\"))))","v":""},{"$f":"IF('Outil Recensement'!CH71>0,'Outil Recensement'!CH71,\"\")","v":"    "}]
[{"$f":"IF('Outil Recensement'!A72>0,'Outil Recensement'!A72,\"\")","v":""},{"$f":"IF('Outil Recensement'!B72>0,'Outil Recensement'!B72,\"\")","v":""},{"$f":"IF('Outil Recensement'!C72>0,'Outil Recensement'!C72,\"\")","v":""},{"$f":"IF('Outil Recensement'!D72>0,'Outil Recensement'!D72,\"\")","v":""},{"$f":"IF('Outil Recensement'!P72>0,TEXT('Outil Recensement'!P72,\"000\"),\"\")","v":""},{"$f":"IF('Outil Recensement'!Q72>0,'Outil Recensement'!Q72,\"\")","v":""},{"$f":"IF('Outil Recensement'!R72>0,'Outil Recensement'!R72,\"\")","v":""},{"$f":"IF('Outil Recensement'!F72>0,DATEVALUE(TEXT('Outil Recensement'!F72,\"yyyy-mm-dd\")),\"\")","v":""},{"$f":"IF('Outil Recensement'!L72>0,DATEVALUE(TEXT('Outil Recensement'!L72,\"yyyy-mm-dd\")),\"\")","v":""},{"$f":"IF('Outil Recensement'!Y72>0,'Outil Recensement'!Y72,\"\")","v":""},{"$f":"IF('Outil Recensement'!T72>0,'Outil Recensement'!T72,\"\")","v":""},{"$f":"IF('Outil Recensement'!G72=\"Homme\",\"Male\",IF('Outil Recensement'!G72=\"Femme\",\"Female\",IF('Outil Recensement'!G72=\"H\",\"Male\",IF('Outil Recensement'!G72=\"F\",\"Female\",\"\"))))","v":""},{"$f":"IF('Outil Recensement'!U72=\"Yes\",\"Yes\",IF('Outil Recensement'!U72=\"No\",\"No\",IF('Outil Recensement'!U72=\"Y\",\"Yes\",IF('Outil Recensement'!U72=\"N\",\"No\",\"\"))))","v":""},{"$f":"IF('Outil Recensement'!I72=\"Individuelle\",\"Single\",IF('Outil Recensement'!I72=\"Familiale\",\"Family\",IF('Outil Recensement'!I72=\"Refus\",\"Family\",IF('Outil Recensement'!I72=\"Parent seul\",\"Family\",IF('Outil Recensement'!I72=\"Couple\",\"Family\",IF('Outil Recensement'!I72=\"In force\",\"Family\",IF('Outil Recensement'!I72=\"Applies\",\"Family\",IF('Outil Recensement'!I72=\"Applicable\",\"Family\",\"\"))))))))","v":""},{"$f":"IF('Outil Recensement'!AC72=\"Anglais\",\"English\",IF('Outil Recensement'!AC72=\"Français\",\"French\",IF('Outil Recensement'!AC72=\"A\",\"English\",IF('Outil Recensement'!AC72=\"F\",\"French\",\"\"))))","v":""},{"$f":"IF('Outil Recensement'!AB72=\"Oui\",\"Yes\",IF('Outil Recensement'!AB72=\"Non\",\"No\",IF('Outil Recensement'!AB72=\"O\",\"Yes\",IF('Outil Recensement'!AB72=\"N\",\"No\",\"\"))))","v":""},{"$f":"IF('Outil Recensement'!AD72>0,'Outil Recensement'!AD72,\"\")","v":""},{"$f":"IF('Outil Recensement'!M72=\"Annuel\",\"Annually\",IF('Outil Recensement'!M72=\"Mensuel\",\"Monthly\",IF('Outil Recensement'!M72=\"Bihebdomadaire\",\"Biweekly\",IF('Outil Recensement'!M72=\"Hebdomadaire\",\"Weekly\",IF('Outil Recensement'!M72=\"Horaire\",\"Hourly\",IF('Outil Recensement'!M72=\"Semi-mensuel\",\"Semi-monthly\",IF('Outil Recensement'!M72=\"Applies\",\"Annual\",IF('Outil Recensement'!M72=\"Applicable\",\"Annual\",\"\"))))))))","v":""},{"$f":"IF('Outil Recensement'!N72>0,'Outil Recensement'!N72,\"\")","v":""},{"$f":"IF('Outil Recensement'!O72>0,'Outil Recensement'!O72,\"\")","v":""},{"$f":"IF('Outil Recensement'!I72=\"Refus\",\"Yes\",\"\")","v":""},{"$f":"IF('Outil Recensement'!I72=\"Refus\",\"Yes\",\"\")","v":""},{"$f":"IF('Outil Recensement'!AE72>0,'Outil Recensement'!AE72,\"\")","v":""},{"$f":"IF('Outil Recensement'!AF72>0,'Outil Recensement'!AF72,\"\")","v":""},{"$f":"IF('Outil Recensement'!AG72>0,'Outil Recensement'!AG72,\"\")","v":""},{"$f":"IF('Outil Recensement'!AH72>0,'Outil Recensement'!AH72,\"\")","v":""},{"$f":"IF('Outil Recensement'!AI72>0,'Outil Recensement'!AI72,\"\")","v":" "},{"$f":"IF('Outil Recensement'!AJ72>0,'Outil Recensement'!AJ72,\"\")","v":" "},{"$f":"IF('Outil Recensement'!W72>0,'Outil Recensement'!W72&\" \",\"\")&IF('Outil Recensement'!V72>0,'Outil Recensement'!V72,\"\")","v":""},null,{"$f":"IF('Outil Recensement'!X72>0,'Outil Recensement'!X72,\"\")","v":""},{"$f":"IF('Outil Recensement'!Y72>0,'Outil Recensement'!Y72,\"\")","v":""},{"$f":"IF('Outil Recensement'!Z72>0,'Outil Recensement'!Z72,\"\")","v":""},{"$f":"IF('Outil Recensement'!AA72>0,'Outil Recensement'!AA72,\"\")","v":""},{"$f":"IF('Outil Recensement'!E72>0,'Outil Recensement'!E72,\"\")","v":""},{"$f":"IF('Outil Recensement'!AK72>0,'Outil Recensement'!AK72,\"\")","v":""},{"$f":"IF('Outil Recensement'!AL72>0,'Outil Recensement'!AL72,\"\")","v":""},{"$f":"IF('Outil Recensement'!AM72>0,'Outil Recensement'!AM72,\"\")","v":""},{"$f":"IF('Outil Recensement'!AN72=\"Male\",\"Male\",IF('Outil Recensement'!AN72=\"Female\",\"Female\",IF('Outil Recensement'!AN72=\"M\",\"Male\",IF('Outil Recensement'!AN72=\"F\",\"Female\",\"\"))))","v":""},{"$f":"IF('Outil Recensement'!AO72=\"Single\",\"Single\",IF('Outil Recensement'!AO72=\"Family\",\"Family\",IF('Outil Recensement'!AO72=\"S\",\"Single\",IF('Outil Recensement'!AO72=\"F\",\"Family\",\"\"))))","v":""},{"$f":"IF('Outil Recensement'!AP72=\"Single\",\"Single\",IF('Outil Recensement'!AP72=\"Family\",\"Family\",IF('Outil Recensement'!AP72=\"S\",\"Single\",IF('Outil Recensement'!AP72=\"F\",\"Family\",\"\"))))","v":""},{"$f":"IF('Outil Recensement'!AQ72>0,'Outil Recensement'!AQ72,\"\")","v":""},{"$f":"IF('Outil Recensement'!AR72=\"Yes\",\"Yes\",IF('Outil Recensement'!AR72=\"No\",\"No\",IF('Outil Recensement'!AR72=\"Y\",\"Yes\",IF('Outil Recensement'!AR72=\"N\",\"No\",\"\"))))","v":""},{"$f":"IF('Outil Recensement'!AS72>0,'Outil Recensement'!AS72,\"\")","v":""},{"$f":"IF('Outil Recensement'!AT72>0,'Outil Recensement'!AT72,\"\")","v":""},{"$f":"IF('Outil Recensement'!AU72>0,'Outil Recensement'!AU72,\"\")","v":""},{"$f":"IF('Outil Recensement'!AV72=\"Male\",\"Male\",IF('Outil Recensement'!AV72=\"Female\",\"Female\",IF('Outil Recensement'!AV72=\"M\",\"Male\",IF('Outil Recensement'!AV72=\"F\",\"Female\",\"\"))))","v":""},{"$f":"IF('Outil Recensement'!AW72=\"Yes\",\"Yes\",IF('Outil Recensement'!AW72=\"No\",\"No\",IF('Outil Recensement'!AW72=\"Y\",\"Yes\",IF('Outil Recensement'!AW72=\"N\",\"No\",\"\"))))","v":""},{"$f":"IF('Outil Recensement'!AX72=\"Yes\",\"Yes\",IF('Outil Recensement'!AX72=\"No\",\"No\",IF('Outil Recensement'!AX72=\"Y\",\"Yes\",IF('Outil Recensement'!AX72=\"N\",\"No\",\"\"))))","v":""},{"$f":"IF('Outil Recensement'!AY72>0,'Outil Recensement'!AY72,\"\")","v":""},{"$f":"IF('Outil Recensement'!AZ72>0,'Outil Recensement'!AZ72,\"\")","v":""},{"$f":"IF('Outil Recensement'!BA72>0,'Outil Recensement'!BA72,\"\")","v":""},{"$f":"IF('Outil Recensement'!BB72=\"Male\",\"Male\",IF('Outil Recensement'!BB72=\"Female\",\"Female\",IF('Outil Recensement'!BB72=\"M\",\"Male\",IF('Outil Recensement'!BB72=\"F\",\"Female\",\"\"))))","v":""},{"$f":"IF('Outil Recensement'!BC72=\"Yes\",\"Yes\",IF('Outil Recensement'!BC72=\"No\",\"No\",IF('Outil Recensement'!BC72=\"Y\",\"Yes\",IF('Outil Recensement'!BC72=\"N\",\"No\",\"\"))))","v":""},{"$f":"IF('Outil Recensement'!BD72=\"Yes\",\"Yes\",IF('Outil Recensement'!BD72=\"No\",\"No\",IF('Outil Recensement'!BD72=\"Y\",\"Yes\",IF('Outil Recensement'!BD72=\"N\",\"No\",\"\"))))","v":""},{"$f":"IF('Outil Recensement'!BE72>0,'Outil Recensement'!BE72,\"\")","v":""},{"$f":"IF('Outil Recensement'!BF72>0,'Outil Recensement'!BF72,\"\")","v":""},{"$f":"IF('Outil Recensement'!BG72>0,'Outil Recensement'!BG72,\"\")","v":""},{"$f":"IF('Outil Recensement'!BH72=\"Male\",\"Male\",IF('Outil Recensement'!BH72=\"Female\",\"Female\",IF('Outil Recensement'!BH72=\"M\",\"Male\",IF('Outil Recensement'!BH72=\"F\",\"Female\",\"\"))))","v":""},{"$f":"IF('Outil Recensement'!BI72=\"Yes\",\"Yes\",IF('Outil Recensement'!BI72=\"No\",\"No\",IF('Outil Recensement'!BI72=\"Y\",\"Yes\",IF('Outil Recensement'!BI72=\"N\",\"No\",\"\"))))","v":""},{"$f":"IF('Outil Recensement'!BJ72=\"Yes\",\"Yes\",IF('Outil Recensement'!BJ72=\"No\",\"No\",IF('Outil Recensement'!BJ72=\"Y\",\"Yes\",IF('Outil Recensement'!BJ72=\"N\",\"No\",\"\"))))","v":""},{"$f":"IF('Outil Recensement'!BK72>0,'Outil Recensement'!BK72,\"\")","v":""},{"$f":"IF('Outil Recensement'!BL72>0,'Outil Recensement'!BL72,\"\")","v":""},{"$f":"IF('Outil Recensement'!BM72>0,'Outil Recensement'!BM72,\"\")","v":""},{"$f":"IF('Outil Recensement'!BN72=\"Male\",\"Male\",IF('Outil Recensement'!BN72=\"Female\",\"Female\",IF('Outil Recensement'!BN72=\"M\",\"Male\",IF('Outil Recensement'!BN72=\"F\",\"Female\",\"\"))))","v":""},{"$f":"IF('Outil Recensement'!BO72=\"Yes\",\"Yes\",IF('Outil Recensement'!BO72=\"No\",\"No\",IF('Outil Recensement'!BO72=\"Y\",\"Yes\",IF('Outil Recensement'!BO72=\"N\",\"No\",\"\"))))","v":""},{"$f":"IF('Outil Recensement'!BP72=\"Yes\",\"Yes\",IF('Outil Recensement'!BP72=\"No\",\"No\",IF('Outil Recensement'!BP72=\"Y\",\"Yes\",IF('Outil Recensement'!BP72=\"N\",\"No\",\"\"))))","v":""},{"$f":"IF('Outil Recensement'!BQ72>0,'Outil Recensement'!BQ72,\"\")","v":""},{"$f":"IF('Outil Recensement'!BR72>0,'Outil Recensement'!BR72,\"\")","v":""},{"$f":"IF('Outil Recensement'!BS72>0,'Outil Recensement'!BS72,\"\")","v":""},{"$f":"IF('Outil Recensement'!BT72=\"Male\",\"Male\",IF('Outil Recensement'!BT72=\"Female\",\"Female\",IF('Outil Recensement'!BT72=\"M\",\"Male\",IF('Outil Recensement'!BT72=\"F\",\"Female\",\"\"))))","v":""},{"$f":"IF('Outil Recensement'!BU72=\"Yes\",\"Yes\",IF('Outil Recensement'!BU72=\"No\",\"No\",IF('Outil Recensement'!BU72=\"Y\",\"Yes\",IF('Outil Recensement'!BU72=\"N\",\"No\",\"\"))))","v":""},{"$f":"IF('Outil Recensement'!BV72=\"Yes\",\"Yes\",IF('Outil Recensement'!BV72=\"No\",\"No\",IF('Outil Recensement'!BV72=\"Y\",\"Yes\",IF('Outil Recensement'!BV72=\"N\",\"No\",\"\"))))","v":""},{"$f":"IF('Outil Recensement'!BW72>0,'Outil Recensement'!BW72,\"\")","v":""},{"$f":"IF('Outil Recensement'!BX72>0,'Outil Recensement'!BX72,\"\")","v":""},{"$f":"IF('Outil Recensement'!BY72>0,'Outil Recensement'!BY72,\"\")","v":""},{"$f":"IF('Outil Recensement'!BZ72=\"Male\",\"Male\",IF('Outil Recensement'!BZ72=\"Female\",\"Female\",IF('Outil Recensement'!BZ72=\"M\",\"Male\",IF('Outil Recensement'!BZ72=\"F\",\"Female\",\"\"))))","v":""},{"$f":"IF('Outil Recensement'!CA72=\"Yes\",\"Yes\",IF('Outil Recensement'!CA72=\"No\",\"No\",IF('Outil Recensement'!CA72=\"Y\",\"Yes\",IF('Outil Recensement'!CA72=\"N\",\"No\",\"\"))))","v":""},{"$f":"IF('Outil Recensement'!CB72=\"Yes\",\"Yes\",IF('Outil Recensement'!CB72=\"No\",\"No\",IF('Outil Recensement'!CB72=\"Y\",\"Yes\",IF('Outil Recensement'!CB72=\"N\",\"No\",\"\"))))","v":""},{"$f":"IF('Outil Recensement'!CH72>0,'Outil Recensement'!CH72,\"\")","v":"    "}]
[{"$f":"IF('Outil Recensement'!A73>0,'Outil Recensement'!A73,\"\")","v":""},{"$f":"IF('Outil Recensement'!B73>0,'Outil Recensement'!B73,\"\")","v":""},{"$f":"IF('Outil Recensement'!C73>0,'Outil Recensement'!C73,\"\")","v":""},{"$f":"IF('Outil Recensement'!D73>0,'Outil Recensement'!D73,\"\")","v":""},{"$f":"IF('Outil Recensement'!P73>0,TEXT('Outil Recensement'!P73,\"000\"),\"\")","v":""},{"$f":"IF('Outil Recensement'!Q73>0,'Outil Recensement'!Q73,\"\")","v":""},{"$f":"IF('Outil Recensement'!R73>0,'Outil Recensement'!R73,\"\")","v":""},{"$f":"IF('Outil Recensement'!F73>0,DATEVALUE(TEXT('Outil Recensement'!F73,\"yyyy-mm-dd\")),\"\")","v":""},{"$f":"IF('Outil Recensement'!L73>0,DATEVALUE(TEXT('Outil Recensement'!L73,\"yyyy-mm-dd\")),\"\")","v":""},{"$f":"IF('Outil Recensement'!Y73>0,'Outil Recensement'!Y73,\"\")","v":""},{"$f":"IF('Outil Recensement'!T73>0,'Outil Recensement'!T73,\"\")","v":""},{"$f":"IF('Outil Recensement'!G73=\"Homme\",\"Male\",IF('Outil Recensement'!G73=\"Femme\",\"Female\",IF('Outil Recensement'!G73=\"H\",\"Male\",IF('Outil Recensement'!G73=\"F\",\"Female\",\"\"))))","v":""},{"$f":"IF('Outil Recensement'!U73=\"Yes\",\"Yes\",IF('Outil Recensement'!U73=\"No\",\"No\",IF('Outil Recensement'!U73=\"Y\",\"Yes\",IF('Outil Recensement'!U73=\"N\",\"No\",\"\"))))","v":""},{"$f":"IF('Outil Recensement'!I73=\"Individuelle\",\"Single\",IF('Outil Recensement'!I73=\"Familiale\",\"Family\",IF('Outil Recensement'!I73=\"Refus\",\"Family\",IF('Outil Recensement'!I73=\"Parent seul\",\"Family\",IF('Outil Recensement'!I73=\"Couple\",\"Family\",IF('Outil Recensement'!I73=\"In force\",\"Family\",IF('Outil Recensement'!I73=\"Applies\",\"Family\",IF('Outil Recensement'!I73=\"Applicable\",\"Family\",\"\"))))))))","v":""},{"$f":"IF('Outil Recensement'!AC73=\"Anglais\",\"English\",IF('Outil Recensement'!AC73=\"Français\",\"French\",IF('Outil Recensement'!AC73=\"A\",\"English\",IF('Outil Recensement'!AC73=\"F\",\"French\",\"\"))))","v":""},{"$f":"IF('Outil Recensement'!AB73=\"Oui\",\"Yes\",IF('Outil Recensement'!AB73=\"Non\",\"No\",IF('Outil Recensement'!AB73=\"O\",\"Yes\",IF('Outil Recensement'!AB73=\"N\",\"No\",\"\"))))","v":""},{"$f":"IF('Outil Recensement'!AD73>0,'Outil Recensement'!AD73,\"\")","v":""},{"$f":"IF('Outil Recensement'!M73=\"Annuel\",\"Annually\",IF('Outil Recensement'!M73=\"Mensuel\",\"Monthly\",IF('Outil Recensement'!M73=\"Bihebdomadaire\",\"Biweekly\",IF('Outil Recensement'!M73=\"Hebdomadaire\",\"Weekly\",IF('Outil Recensement'!M73=\"Horaire\",\"Hourly\",IF('Outil Recensement'!M73=\"Semi-mensuel\",\"Semi-monthly\",IF('Outil Recensement'!M73=\"Applies\",\"Annual\",IF('Outil Recensement'!M73=\"Applicable\",\"Annual\",\"\"))))))))","v":""},{"$f":"IF('Outil Recensement'!N73>0,'Outil Recensement'!N73,\"\")","v":""},{"$f":"IF('Outil Recensement'!O73>0,'Outil Recensement'!O73,\"\")","v":""},{"$f":"IF('Outil Recensement'!I73=\"Refus\",\"Yes\",\"\")","v":""},{"$f":"IF('Outil Recensement'!I73=\"Refus\",\"Yes\",\"\")","v":""},{"$f":"IF('Outil Recensement'!AE73>0,'Outil Recensement'!AE73,\"\")","v":""},{"$f":"IF('Outil Recensement'!AF73>0,'Outil Recensement'!AF73,\"\")","v":""},{"$f":"IF('Outil Recensement'!AG73>0,'Outil Recensement'!AG73,\"\")","v":""},{"$f":"IF('Outil Recensement'!AH73>0,'Outil Recensement'!AH73,\"\")","v":""},{"$f":"IF('Outil Recensement'!AI73>0,'Outil Recensement'!AI73,\"\")","v":" "},{"$f":"IF('Outil Recensement'!AJ73>0,'Outil Recensement'!AJ73,\"\")","v":" "},{"$f":"IF('Outil Recensement'!W73>0,'Outil Recensement'!W73&\" \",\"\")&IF('Outil Recensement'!V73>0,'Outil Recensement'!V73,\"\")","v":""},null,{"$f":"IF('Outil Recensement'!X73>0,'Outil Recensement'!X73,\"\")","v":""},{"$f":"IF('Outil Recensement'!Y73>0,'Outil Recensement'!Y73,\"\")","v":""},{"$f":"IF('Outil Recensement'!Z73>0,'Outil Recensement'!Z73,\"\")","v":""},{"$f":"IF('Outil Recensement'!AA73>0,'Outil Recensement'!AA73,\"\")","v":""},{"$f":"IF('Outil Recensement'!E73>0,'Outil Recensement'!E73,\"\")","v":""},{"$f":"IF('Outil Recensement'!AK73>0,'Outil Recensement'!AK73,\"\")","v":""},{"$f":"IF('Outil Recensement'!AL73>0,'Outil Recensement'!AL73,\"\")","v":""},{"$f":"IF('Outil Recensement'!AM73>0,'Outil Recensement'!AM73,\"\")","v":""},{"$f":"IF('Outil Recensement'!AN73=\"Male\",\"Male\",IF('Outil Recensement'!AN73=\"Female\",\"Female\",IF('Outil Recensement'!AN73=\"M\",\"Male\",IF('Outil Recensement'!AN73=\"F\",\"Female\",\"\"))))","v":""},{"$f":"IF('Outil Recensement'!AO73=\"Single\",\"Single\",IF('Outil Recensement'!AO73=\"Family\",\"Family\",IF('Outil Recensement'!AO73=\"S\",\"Single\",IF('Outil Recensement'!AO73=\"F\",\"Family\",\"\"))))","v":""},{"$f":"IF('Outil Recensement'!AP73=\"Single\",\"Single\",IF('Outil Recensement'!AP73=\"Family\",\"Family\",IF('Outil Recensement'!AP73=\"S\",\"Single\",IF('Outil Recensement'!AP73=\"F\",\"Family\",\"\"))))","v":""},{"$f":"IF('Outil Recensement'!AQ73>0,'Outil Recensement'!AQ73,\"\")","v":""},{"$f":"IF('Outil Recensement'!AR73=\"Yes\",\"Yes\",IF('Outil Recensement'!AR73=\"No\",\"No\",IF('Outil Recensement'!AR73=\"Y\",\"Yes\",IF('Outil Recensement'!AR73=\"N\",\"No\",\"\"))))","v":""},{"$f":"IF('Outil Recensement'!AS73>0,'Outil Recensement'!AS73,\"\")","v":""},{"$f":"IF('Outil Recensement'!AT73>0,'Outil Recensement'!AT73,\"\")","v":""},{"$f":"IF('Outil Recensement'!AU73>0,'Outil Recensement'!AU73,\"\")","v":""},{"$f":"IF('Outil Recensement'!AV73=\"Male\",\"Male\",IF('Outil Recensement'!AV73=\"Female\",\"Female\",IF('Outil Recensement'!AV73=\"M\",\"Male\",IF('Outil Recensement'!AV73=\"F\",\"Female\",\"\"))))","v":""},{"$f":"IF('Outil Recensement'!AW73=\"Yes\",\"Yes\",IF('Outil Recensement'!AW73=\"No\",\"No\",IF('Outil Recensement'!AW73=\"Y\",\"Yes\",IF('Outil Recensement'!AW73=\"N\",\"No\",\"\"))))","v":""},{"$f":"IF('Outil Recensement'!AX73=\"Yes\",\"Yes\",IF('Outil Recensement'!AX73=\"No\",\"No\",IF('Outil Recensement'!AX73=\"Y\",\"Yes\",IF('Outil Recensement'!AX73=\"N\",\"No\",\"\"))))","v":""},{"$f":"IF('Outil Recensement'!AY73>0,'Outil Recensement'!AY73,\"\")","v":""},{"$f":"IF('Outil Recensement'!AZ73>0,'Outil Recensement'!AZ73,\"\")","v":""},{"$f":"IF('Outil Recensement'!BA73>0,'Outil Recensement'!BA73,\"\")","v":""},{"$f":"IF('Outil Recensement'!BB73=\"Male\",\"Male\",IF('Outil Recensement'!BB73=\"Female\",\"Female\",IF('Outil Recensement'!BB73=\"M\",\"Male\",IF('Outil Recensement'!BB73=\"F\",\"Female\",\"\"))))","v":""},{"$f":"IF('Outil Recensement'!BC73=\"Yes\",\"Yes\",IF('Outil Recensement'!BC73=\"No\",\"No\",IF('Outil Recensement'!BC73=\"Y\",\"Yes\",IF('Outil Recensement'!BC73=\"N\",\"No\",\"\"))))","v":""},{"$f":"IF('Outil Recensement'!BD73=\"Yes\",\"Yes\",IF('Outil Recensement'!BD73=\"No\",\"No\",IF('Outil Recensement'!BD73=\"Y\",\"Yes\",IF('Outil Recensement'!BD73=\"N\",\"No\",\"\"))))","v":""},{"$f":"IF('Outil Recensement'!BE73>0,'Outil Recensement'!BE73,\"\")","v":""},{"$f":"IF('Outil Recensement'!BF73>0,'Outil Recensement'!BF73,\"\")","v":""},{"$f":"IF('Outil Recensement'!BG73>0,'Outil Recensement'!BG73,\"\")","v":""},{"$f":"IF('Outil Recensement'!BH73=\"Male\",\"Male\",IF('Outil Recensement'!BH73=\"Female\",\"Female\",IF('Outil Recensement'!BH73=\"M\",\"Male\",IF('Outil Recensement'!BH73=\"F\",\"Female\",\"\"))))","v":""},{"$f":"IF('Outil Recensement'!BI73=\"Yes\",\"Yes\",IF('Outil Recensement'!BI73=\"No\",\"No\",IF('Outil Recensement'!BI73=\"Y\",\"Yes\",IF('Outil Recensement'!BI73=\"N\",\"No\",\"\"))))","v":""},{"$f":"IF('Outil Recensement'!BJ73=\"Yes\",\"Yes\",IF('Outil Recensement'!BJ73=\"No\",\"No\",IF('Outil Recensement'!BJ73=\"Y\",\"Yes\",IF('Outil Recensement'!BJ73=\"N\",\"No\",\"\"))))","v":""},{"$f":"IF('Outil Recensement'!BK73>0,'Outil Recensement'!BK73,\"\")","v":""},{"$f":"IF('Outil Recensement'!BL73>0,'Outil Recensement'!BL73,\"\")","v":""},{"$f":"IF('Outil Recensement'!BM73>0,'Outil Recensement'!BM73,\"\")","v":""},{"$f":"IF('Outil Recensement'!BN73=\"Male\",\"Male\",IF('Outil Recensement'!BN73=\"Female\",\"Female\",IF('Outil Recensement'!BN73=\"M\",\"Male\",IF('Outil Recensement'!BN73=\"F\",\"Female\",\"\"))))","v":""},{"$f":"IF('Outil Recensement'!BO73=\"Yes\",\"Yes\",IF('Outil Recensement'!BO73=\"No\",\"No\",IF('Outil Recensement'!BO73=\"Y\",\"Yes\",IF('Outil Recensement'!BO73=\"N\",\"No\",\"\"))))","v":""},{"$f":"IF('Outil Recensement'!BP73=\"Yes\",\"Yes\",IF('Outil Recensement'!BP73=\"No\",\"No\",IF('Outil Recensement'!BP73=\"Y\",\"Yes\",IF('Outil Recensement'!BP73=\"N\",\"No\",\"\"))))","v":""},{"$f":"IF('Outil Recensement'!BQ73>0,'Outil Recensement'!BQ73,\"\")","v":""},{"$f":"IF('Outil Recensement'!BR73>0,'Outil Recensement'!BR73,\"\")","v":""},{"$f":"IF('Outil Recensement'!BS73>0,'Outil Recensement'!BS73,\"\")","v":""},{"$f":"IF('Outil Recensement'!BT73=\"Male\",\"Male\",IF('Outil Recensement'!BT73=\"Female\",\"Female\",IF('Outil Recensement'!BT73=\"M\",\"Male\",IF('Outil Recensement'!BT73=\"F\",\"Female\",\"\"))))","v":""},{"$f":"IF('Outil Recensement'!BU73=\"Yes\",\"Yes\",IF('Outil Recensement'!BU73=\"No\",\"No\",IF('Outil Recensement'!BU73=\"Y\",\"Yes\",IF('Outil Recensement'!BU73=\"N\",\"No\",\"\"))))","v":""},{"$f":"IF('Outil Recensement'!BV73=\"Yes\",\"Yes\",IF('Outil Recensement'!BV73=\"No\",\"No\",IF('Outil Recensement'!BV73=\"Y\",\"Yes\",IF('Outil Recensement'!BV73=\"N\",\"No\",\"\"))))","v":""},{"$f":"IF('Outil Recensement'!BW73>0,'Outil Recensement'!BW73,\"\")","v":""},{"$f":"IF('Outil Recensement'!BX73>0,'Outil Recensement'!BX73,\"\")","v":""},{"$f":"IF('Outil Recensement'!BY73>0,'Outil Recensement'!BY73,\"\")","v":""},{"$f":"IF('Outil Recensement'!BZ73=\"Male\",\"Male\",IF('Outil Recensement'!BZ73=\"Female\",\"Female\",IF('Outil Recensement'!BZ73=\"M\",\"Male\",IF('Outil Recensement'!BZ73=\"F\",\"Female\",\"\"))))","v":""},{"$f":"IF('Outil Recensement'!CA73=\"Yes\",\"Yes\",IF('Outil Recensement'!CA73=\"No\",\"No\",IF('Outil Recensement'!CA73=\"Y\",\"Yes\",IF('Outil Recensement'!CA73=\"N\",\"No\",\"\"))))","v":""},{"$f":"IF('Outil Recensement'!CB73=\"Yes\",\"Yes\",IF('Outil Recensement'!CB73=\"No\",\"No\",IF('Outil Recensement'!CB73=\"Y\",\"Yes\",IF('Outil Recensement'!CB73=\"N\",\"No\",\"\"))))","v":""},{"$f":"IF('Outil Recensement'!CH73>0,'Outil Recensement'!CH73,\"\")","v":"    "}]
[{"$f":"IF('Outil Recensement'!A74>0,'Outil Recensement'!A74,\"\")","v":""},{"$f":"IF('Outil Recensement'!B74>0,'Outil Recensement'!B74,\"\")","v":""},{"$f":"IF('Outil Recensement'!C74>0,'Outil Recensement'!C74,\"\")","v":""},{"$f":"IF('Outil Recensement'!D74>0,'Outil Recensement'!D74,\"\")","v":""},{"$f":"IF('Outil Recensement'!P74>0,TEXT('Outil Recensement'!P74,\"000\"),\"\")","v":""},{"$f":"IF('Outil Recensement'!Q74>0,'Outil Recensement'!Q74,\"\")","v":""},{"$f":"IF('Outil Recensement'!R74>0,'Outil Recensement'!R74,\"\")","v":""},{"$f":"IF('Outil Recensement'!F74>0,DATEVALUE(TEXT('Outil Recensement'!F74,\"yyyy-mm-dd\")),\"\")","v":""},{"$f":"IF('Outil Recensement'!L74>0,DATEVALUE(TEXT('Outil Recensement'!L74,\"yyyy-mm-dd\")),\"\")","v":""},{"$f":"IF('Outil Recensement'!Y74>0,'Outil Recensement'!Y74,\"\")","v":""},{"$f":"IF('Outil Recensement'!T74>0,'Outil Recensement'!T74,\"\")","v":""},{"$f":"IF('Outil Recensement'!G74=\"Homme\",\"Male\",IF('Outil Recensement'!G74=\"Femme\",\"Female\",IF('Outil Recensement'!G74=\"H\",\"Male\",IF('Outil Recensement'!G74=\"F\",\"Female\",\"\"))))","v":""},{"$f":"IF('Outil Recensement'!U74=\"Yes\",\"Yes\",IF('Outil Recensement'!U74=\"No\",\"No\",IF('Outil Recensement'!U74=\"Y\",\"Yes\",IF('Outil Recensement'!U74=\"N\",\"No\",\"\"))))","v":""},{"$f":"IF('Outil Recensement'!I74=\"Individuelle\",\"Single\",IF('Outil Recensement'!I74=\"Familiale\",\"Family\",IF('Outil Recensement'!I74=\"Refus\",\"Family\",IF('Outil Recensement'!I74=\"Parent seul\",\"Family\",IF('Outil Recensement'!I74=\"Couple\",\"Family\",IF('Outil Recensement'!I74=\"In force\",\"Family\",IF('Outil Recensement'!I74=\"Applies\",\"Family\",IF('Outil Recensement'!I74=\"Applicable\",\"Family\",\"\"))))))))","v":""},{"$f":"IF('Outil Recensement'!AC74=\"Anglais\",\"English\",IF('Outil Recensement'!AC74=\"Français\",\"French\",IF('Outil Recensement'!AC74=\"A\",\"English\",IF('Outil Recensement'!AC74=\"F\",\"French\",\"\"))))","v":""},{"$f":"IF('Outil Recensement'!AB74=\"Oui\",\"Yes\",IF('Outil Recensement'!AB74=\"Non\",\"No\",IF('Outil Recensement'!AB74=\"O\",\"Yes\",IF('Outil Recensement'!AB74=\"N\",\"No\",\"\"))))","v":""},{"$f":"IF('Outil Recensement'!AD74>0,'Outil Recensement'!AD74,\"\")","v":""},{"$f":"IF('Outil Recensement'!M74=\"Annuel\",\"Annually\",IF('Outil Recensement'!M74=\"Mensuel\",\"Monthly\",IF('Outil Recensement'!M74=\"Bihebdomadaire\",\"Biweekly\",IF('Outil Recensement'!M74=\"Hebdomadaire\",\"Weekly\",IF('Outil Recensement'!M74=\"Horaire\",\"Hourly\",IF('Outil Recensement'!M74=\"Semi-mensuel\",\"Semi-monthly\",IF('Outil Recensement'!M74=\"Applies\",\"Annual\",IF('Outil Recensement'!M74=\"Applicable\",\"Annual\",\"\"))))))))","v":""},{"$f":"IF('Outil Recensement'!N74>0,'Outil Recensement'!N74,\"\")","v":""},{"$f":"IF('Outil Recensement'!O74>0,'Outil Recensement'!O74,\"\")","v":""},{"$f":"IF('Outil Recensement'!I74=\"Refus\",\"Yes\",\"\")","v":""},{"$f":"IF('Outil Recensement'!I74=\"Refus\",\"Yes\",\"\")","v":""},{"$f":"IF('Outil Recensement'!AE74>0,'Outil Recensement'!AE74,\"\")","v":""},{"$f":"IF('Outil Recensement'!AF74>0,'Outil Recensement'!AF74,\"\")","v":""},{"$f":"IF('Outil Recensement'!AG74>0,'Outil Recensement'!AG74,\"\")","v":""},{"$f":"IF('Outil Recensement'!AH74>0,'Outil Recensement'!AH74,\"\")","v":""},{"$f":"IF('Outil Recensement'!AI74>0,'Outil Recensement'!AI74,\"\")","v":" "},{"$f":"IF('Outil Recensement'!AJ74>0,'Outil Recensement'!AJ74,\"\")","v":" "},{"$f":"IF('Outil Recensement'!W74>0,'Outil Recensement'!W74&\" \",\"\")&IF('Outil Recensement'!V74>0,'Outil Recensement'!V74,\"\")","v":""},null,{"$f":"IF('Outil Recensement'!X74>0,'Outil Recensement'!X74,\"\")","v":""},{"$f":"IF('Outil Recensement'!Y74>0,'Outil Recensement'!Y74,\"\")","v":""},{"$f":"IF('Outil Recensement'!Z74>0,'Outil Recensement'!Z74,\"\")","v":""},{"$f":"IF('Outil Recensement'!AA74>0,'Outil Recensement'!AA74,\"\")","v":""},{"$f":"IF('Outil Recensement'!E74>0,'Outil Recensement'!E74,\"\")","v":""},{"$f":"IF('Outil Recensement'!AK74>0,'Outil Recensement'!AK74,\"\")","v":""},{"$f":"IF('Outil Recensement'!AL74>0,'Outil Recensement'!AL74,\"\")","v":""},{"$f":"IF('Outil Recensement'!AM74>0,'Outil Recensement'!AM74,\"\")","v":""},{"$f":"IF('Outil Recensement'!AN74=\"Male\",\"Male\",IF('Outil Recensement'!AN74=\"Female\",\"Female\",IF('Outil Recensement'!AN74=\"M\",\"Male\",IF('Outil Recensement'!AN74=\"F\",\"Female\",\"\"))))","v":""},{"$f":"IF('Outil Recensement'!AO74=\"Single\",\"Single\",IF('Outil Recensement'!AO74=\"Family\",\"Family\",IF('Outil Recensement'!AO74=\"S\",\"Single\",IF('Outil Recensement'!AO74=\"F\",\"Family\",\"\"))))","v":""},{"$f":"IF('Outil Recensement'!AP74=\"Single\",\"Single\",IF('Outil Recensement'!AP74=\"Family\",\"Family\",IF('Outil Recensement'!AP74=\"S\",\"Single\",IF('Outil Recensement'!AP74=\"F\",\"Family\",\"\"))))","v":""},{"$f":"IF('Outil Recensement'!AQ74>0,'Outil Recensement'!AQ74,\"\")","v":""},{"$f":"IF('Outil Recensement'!AR74=\"Yes\",\"Yes\",IF('Outil Recensement'!AR74=\"No\",\"No\",IF('Outil Recensement'!AR74=\"Y\",\"Yes\",IF('Outil Recensement'!AR74=\"N\",\"No\",\"\"))))","v":""},{"$f":"IF('Outil Recensement'!AS74>0,'Outil Recensement'!AS74,\"\")","v":""},{"$f":"IF('Outil Recensement'!AT74>0,'Outil Recensement'!AT74,\"\")","v":""},{"$f":"IF('Outil Recensement'!AU74>0,'Outil Recensement'!AU74,\"\")","v":""},{"$f":"IF('Outil Recensement'!AV74=\"Male\",\"Male\",IF('Outil Recensement'!AV74=\"Female\",\"Female\",IF('Outil Recensement'!AV74=\"M\",\"Male\",IF('Outil Recensement'!AV74=\"F\",\"Female\",\"\"))))","v":""},{"$f":"IF('Outil Recensement'!AW74=\"Yes\",\"Yes\",IF('Outil Recensement'!AW74=\"No\",\"No\",IF('Outil Recensement'!AW74=\"Y\",\"Yes\",IF('Outil Recensement'!AW74=\"N\",\"No\",\"\"))))","v":""},{"$f":"IF('Outil Recensement'!AX74=\"Yes\",\"Yes\",IF('Outil Recensement'!AX74=\"No\",\"No\",IF('Outil Recensement'!AX74=\"Y\",\"Yes\",IF('Outil Recensement'!AX74=\"N\",\"No\",\"\"))))","v":""},{"$f":"IF('Outil Recensement'!AY74>0,'Outil Recensement'!AY74,\"\")","v":""},{"$f":"IF('Outil Recensement'!AZ74>0,'Outil Recensement'!AZ74,\"\")","v":""},{"$f":"IF('Outil Recensement'!BA74>0,'Outil Recensement'!BA74,\"\")","v":""},{"$f":"IF('Outil Recensement'!BB74=\"Male\",\"Male\",IF('Outil Recensement'!BB74=\"Female\",\"Female\",IF('Outil Recensement'!BB74=\"M\",\"Male\",IF('Outil Recensement'!BB74=\"F\",\"Female\",\"\"))))","v":""},{"$f":"IF('Outil Recensement'!BC74=\"Yes\",\"Yes\",IF('Outil Recensement'!BC74=\"No\",\"No\",IF('Outil Recensement'!BC74=\"Y\",\"Yes\",IF('Outil Recensement'!BC74=\"N\",\"No\",\"\"))))","v":""},{"$f":"IF('Outil Recensement'!BD74=\"Yes\",\"Yes\",IF('Outil Recensement'!BD74=\"No\",\"No\",IF('Outil Recensement'!BD74=\"Y\",\"Yes\",IF('Outil Recensement'!BD74=\"N\",\"No\",\"\"))))","v":""},{"$f":"IF('Outil Recensement'!BE74>0,'Outil Recensement'!BE74,\"\")","v":""},{"$f":"IF('Outil Recensement'!BF74>0,'Outil Recensement'!BF74,\"\")","v":""},{"$f":"IF('Outil Recensement'!BG74>0,'Outil Recensement'!BG74,\"\")","v":""},{"$f":"IF('Outil Recensement'!BH74=\"Male\",\"Male\",IF('Outil Recensement'!BH74=\"Female\",\"Female\",IF('Outil Recensement'!BH74=\"M\",\"Male\",IF('Outil Recensement'!BH74=\"F\",\"Female\",\"\"))))","v":""},{"$f":"IF('Outil Recensement'!BI74=\"Yes\",\"Yes\",IF('Outil Recensement'!BI74=\"No\",\"No\",IF('Outil Recensement'!BI74=\"Y\",\"Yes\",IF('Outil Recensement'!BI74=\"N\",\"No\",\"\"))))","v":""},{"$f":"IF('Outil Recensement'!BJ74=\"Yes\",\"Yes\",IF('Outil Recensement'!BJ74=\"No\",\"No\",IF('Outil Recensement'!BJ74=\"Y\",\"Yes\",IF('Outil Recensement'!BJ74=\"N\",\"No\",\"\"))))","v":""},{"$f":"IF('Outil Recensement'!BK74>0,'Outil Recensement'!BK74,\"\")","v":""},{"$f":"IF('Outil Recensement'!BL74>0,'Outil Recensement'!BL74,\"\")","v":""},{"$f":"IF('Outil Recensement'!BM74>0,'Outil Recensement'!BM74,\"\")","v":""},{"$f":"IF('Outil Recensement'!BN74=\"Male\",\"Male\",IF('Outil Recensement'!BN74=\"Female\",\"Female\",IF('Outil Recensement'!BN74=\"M\",\"Male\",IF('Outil Recensement'!BN74=\"F\",\"Female\",\"\"))))","v":""},{"$f":"IF('Outil Recensement'!BO74=\"Yes\",\"Yes\",IF('Outil Recensement'!BO74=\"No\",\"No\",IF('Outil Recensement'!BO74=\"Y\",\"Yes\",IF('Outil Recensement'!BO74=\"N\",\"No\",\"\"))))","v":""},{"$f":"IF('Outil Recensement'!BP74=\"Yes\",\"Yes\",IF('Outil Recensement'!BP74=\"No\",\"No\",IF('Outil Recensement'!BP74=\"Y\",\"Yes\",IF('Outil Recensement'!BP74=\"N\",\"No\",\"\"))))","v":""},{"$f":"IF('Outil Recensement'!BQ74>0,'Outil Recensement'!BQ74,\"\")","v":""},{"$f":"IF('Outil Recensement'!BR74>0,'Outil Recensement'!BR74,\"\")","v":""},{"$f":"IF('Outil Recensement'!BS74>0,'Outil Recensement'!BS74,\"\")","v":""},{"$f":"IF('Outil Recensement'!BT74=\"Male\",\"Male\",IF('Outil Recensement'!BT74=\"Female\",\"Female\",IF('Outil Recensement'!BT74=\"M\",\"Male\",IF('Outil Recensement'!BT74=\"F\",\"Female\",\"\"))))","v":""},{"$f":"IF('Outil Recensement'!BU74=\"Yes\",\"Yes\",IF('Outil Recensement'!BU74=\"No\",\"No\",IF('Outil Recensement'!BU74=\"Y\",\"Yes\",IF('Outil Recensement'!BU74=\"N\",\"No\",\"\"))))","v":""},{"$f":"IF('Outil Recensement'!BV74=\"Yes\",\"Yes\",IF('Outil Recensement'!BV74=\"No\",\"No\",IF('Outil Recensement'!BV74=\"Y\",\"Yes\",IF('Outil Recensement'!BV74=\"N\",\"No\",\"\"))))","v":""},{"$f":"IF('Outil Recensement'!BW74>0,'Outil Recensement'!BW74,\"\")","v":""},{"$f":"IF('Outil Recensement'!BX74>0,'Outil Recensement'!BX74,\"\")","v":""},{"$f":"IF('Outil Recensement'!BY74>0,'Outil Recensement'!BY74,\"\")","v":""},{"$f":"IF('Outil Recensement'!BZ74=\"Male\",\"Male\",IF('Outil Recensement'!BZ74=\"Female\",\"Female\",IF('Outil Recensement'!BZ74=\"M\",\"Male\",IF('Outil Recensement'!BZ74=\"F\",\"Female\",\"\"))))","v":""},{"$f":"IF('Outil Recensement'!CA74=\"Yes\",\"Yes\",IF('Outil Recensement'!CA74=\"No\",\"No\",IF('Outil Recensement'!CA74=\"Y\",\"Yes\",IF('Outil Recensement'!CA74=\"N\",\"No\",\"\"))))","v":""},{"$f":"IF('Outil Recensement'!CB74=\"Yes\",\"Yes\",IF('Outil Recensement'!CB74=\"No\",\"No\",IF('Outil Recensement'!CB74=\"Y\",\"Yes\",IF('Outil Recensement'!CB74=\"N\",\"No\",\"\"))))","v":""},{"$f":"IF('Outil Recensement'!CH74>0,'Outil Recensement'!CH74,\"\")","v":"    "}]
[{"$f":"IF('Outil Recensement'!A75>0,'Outil Recensement'!A75,\"\")","v":""},{"$f":"IF('Outil Recensement'!B75>0,'Outil Recensement'!B75,\"\")","v":""},{"$f":"IF('Outil Recensement'!C75>0,'Outil Recensement'!C75,\"\")","v":""},{"$f":"IF('Outil Recensement'!D75>0,'Outil Recensement'!D75,\"\")","v":""},{"$f":"IF('Outil Recensement'!P75>0,TEXT('Outil Recensement'!P75,\"000\"),\"\")","v":""},{"$f":"IF('Outil Recensement'!Q75>0,'Outil Recensement'!Q75,\"\")","v":""},{"$f":"IF('Outil Recensement'!R75>0,'Outil Recensement'!R75,\"\")","v":""},{"$f":"IF('Outil Recensement'!F75>0,DATEVALUE(TEXT('Outil Recensement'!F75,\"yyyy-mm-dd\")),\"\")","v":""},{"$f":"IF('Outil Recensement'!L75>0,DATEVALUE(TEXT('Outil Recensement'!L75,\"yyyy-mm-dd\")),\"\")","v":""},{"$f":"IF('Outil Recensement'!Y75>0,'Outil Recensement'!Y75,\"\")","v":""},{"$f":"IF('Outil Recensement'!T75>0,'Outil Recensement'!T75,\"\")","v":""},{"$f":"IF('Outil Recensement'!G75=\"Homme\",\"Male\",IF('Outil Recensement'!G75=\"Femme\",\"Female\",IF('Outil Recensement'!G75=\"H\",\"Male\",IF('Outil Recensement'!G75=\"F\",\"Female\",\"\"))))","v":""},{"$f":"IF('Outil Recensement'!U75=\"Yes\",\"Yes\",IF('Outil Recensement'!U75=\"No\",\"No\",IF('Outil Recensement'!U75=\"Y\",\"Yes\",IF('Outil Recensement'!U75=\"N\",\"No\",\"\"))))","v":""},{"$f":"IF('Outil Recensement'!I75=\"Individuelle\",\"Single\",IF('Outil Recensement'!I75=\"Familiale\",\"Family\",IF('Outil Recensement'!I75=\"Refus\",\"Family\",IF('Outil Recensement'!I75=\"Parent seul\",\"Family\",IF('Outil Recensement'!I75=\"Couple\",\"Family\",IF('Outil Recensement'!I75=\"In force\",\"Family\",IF('Outil Recensement'!I75=\"Applies\",\"Family\",IF('Outil Recensement'!I75=\"Applicable\",\"Family\",\"\"))))))))","v":""},{"$f":"IF('Outil Recensement'!AC75=\"Anglais\",\"English\",IF('Outil Recensement'!AC75=\"Français\",\"French\",IF('Outil Recensement'!AC75=\"A\",\"English\",IF('Outil Recensement'!AC75=\"F\",\"French\",\"\"))))","v":""},{"$f":"IF('Outil Recensement'!AB75=\"Oui\",\"Yes\",IF('Outil Recensement'!AB75=\"Non\",\"No\",IF('Outil Recensement'!AB75=\"O\",\"Yes\",IF('Outil Recensement'!AB75=\"N\",\"No\",\"\"))))","v":""},{"$f":"IF('Outil Recensement'!AD75>0,'Outil Recensement'!AD75,\"\")","v":""},{"$f":"IF('Outil Recensement'!M75=\"Annuel\",\"Annually\",IF('Outil Recensement'!M75=\"Mensuel\",\"Monthly\",IF('Outil Recensement'!M75=\"Bihebdomadaire\",\"Biweekly\",IF('Outil Recensement'!M75=\"Hebdomadaire\",\"Weekly\",IF('Outil Recensement'!M75=\"Horaire\",\"Hourly\",IF('Outil Recensement'!M75=\"Semi-mensuel\",\"Semi-monthly\",IF('Outil Recensement'!M75=\"Applies\",\"Annual\",IF('Outil Recensement'!M75=\"Applicable\",\"Annual\",\"\"))))))))","v":""},{"$f":"IF('Outil Recensement'!N75>0,'Outil Recensement'!N75,\"\")","v":""},{"$f":"IF('Outil Recensement'!O75>0,'Outil Recensement'!O75,\"\")","v":""},{"$f":"IF('Outil Recensement'!I75=\"Refus\",\"Yes\",\"\")","v":""},{"$f":"IF('Outil Recensement'!I75=\"Refus\",\"Yes\",\"\")","v":""},{"$f":"IF('Outil Recensement'!AE75>0,'Outil Recensement'!AE75,\"\")","v":""},{"$f":"IF('Outil Recensement'!AF75>0,'Outil Recensement'!AF75,\"\")","v":""},{"$f":"IF('Outil Recensement'!AG75>0,'Outil Recensement'!AG75,\"\")","v":""},{"$f":"IF('Outil Recensement'!AH75>0,'Outil Recensement'!AH75,\"\")","v":""},{"$f":"IF('Outil Recensement'!AI75>0,'Outil Recensement'!AI75,\"\")","v":" "},{"$f":"IF('Outil Recensement'!AJ75>0,'Outil Recensement'!AJ75,\"\")","v":" "},{"$f":"IF('Outil Recensement'!W75>0,'Outil Recensement'!W75&\" \",\"\")&IF('Outil Recensement'!V75>0,'Outil Recensement'!V75,\"\")","v":""},null,{"$f":"IF('Outil Recensement'!X75>0,'Outil Recensement'!X75,\"\")","v":""},{"$f":"IF('Outil Recensement'!Y75>0,'Outil Recensement'!Y75,\"\")","v":""},{"$f":"IF('Outil Recensement'!Z75>0,'Outil Recensement'!Z75,\"\")","v":""},{"$f":"IF('Outil Recensement'!AA75>0,'Outil Recensement'!AA75,\"\")","v":""},{"$f":"IF('Outil Recensement'!E75>0,'Outil Recensement'!E75,\"\")","v":""},{"$f":"IF('Outil Recensement'!AK75>0,'Outil Recensement'!AK75,\"\")","v":""},{"$f":"IF('Outil Recensement'!AL75>0,'Outil Recensement'!AL75,\"\")","v":""},{"$f":"IF('Outil Recensement'!AM75>0,'Outil Recensement'!AM75,\"\")","v":""},{"$f":"IF('Outil Recensement'!AN75=\"Male\",\"Male\",IF('Outil Recensement'!AN75=\"Female\",\"Female\",IF('Outil Recensement'!AN75=\"M\",\"Male\",IF('Outil Recensement'!AN75=\"F\",\"Female\",\"\"))))","v":""},{"$f":"IF('Outil Recensement'!AO75=\"Single\",\"Single\",IF('Outil Recensement'!AO75=\"Family\",\"Family\",IF('Outil Recensement'!AO75=\"S\",\"Single\",IF('Outil Recensement'!AO75=\"F\",\"Family\",\"\"))))","v":""},{"$f":"IF('Outil Recensement'!AP75=\"Single\",\"Single\",IF('Outil Recensement'!AP75=\"Family\",\"Family\",IF('Outil Recensement'!AP75=\"S\",\"Single\",IF('Outil Recensement'!AP75=\"F\",\"Family\",\"\"))))","v":""},{"$f":"IF('Outil Recensement'!AQ75>0,'Outil Recensement'!AQ75,\"\")","v":""},{"$f":"IF('Outil Recensement'!AR75=\"Yes\",\"Yes\",IF('Outil Recensement'!AR75=\"No\",\"No\",IF('Outil Recensement'!AR75=\"Y\",\"Yes\",IF('Outil Recensement'!AR75=\"N\",\"No\",\"\"))))","v":""},{"$f":"IF('Outil Recensement'!AS75>0,'Outil Recensement'!AS75,\"\")","v":""},{"$f":"IF('Outil Recensement'!AT75>0,'Outil Recensement'!AT75,\"\")","v":""},{"$f":"IF('Outil Recensement'!AU75>0,'Outil Recensement'!AU75,\"\")","v":""},{"$f":"IF('Outil Recensement'!AV75=\"Male\",\"Male\",IF('Outil Recensement'!AV75=\"Female\",\"Female\",IF('Outil Recensement'!AV75=\"M\",\"Male\",IF('Outil Recensement'!AV75=\"F\",\"Female\",\"\"))))","v":""},{"$f":"IF('Outil Recensement'!AW75=\"Yes\",\"Yes\",IF('Outil Recensement'!AW75=\"No\",\"No\",IF('Outil Recensement'!AW75=\"Y\",\"Yes\",IF('Outil Recensement'!AW75=\"N\",\"No\",\"\"))))","v":""},{"$f":"IF('Outil Recensement'!AX75=\"Yes\",\"Yes\",IF('Outil Recensement'!AX75=\"No\",\"No\",IF('Outil Recensement'!AX75=\"Y\",\"Yes\",IF('Outil Recensement'!AX75=\"N\",\"No\",\"\"))))","v":""},{"$f":"IF('Outil Recensement'!AY75>0,'Outil Recensement'!AY75,\"\")","v":""},{"$f":"IF('Outil Recensement'!AZ75>0,'Outil Recensement'!AZ75,\"\")","v":""},{"$f":"IF('Outil Recensement'!BA75>0,'Outil Recensement'!BA75,\"\")","v":""},{"$f":"IF('Outil Recensement'!BB75=\"Male\",\"Male\",IF('Outil Recensement'!BB75=\"Female\",\"Female\",IF('Outil Recensement'!BB75=\"M\",\"Male\",IF('Outil Recensement'!BB75=\"F\",\"Female\",\"\"))))","v":""},{"$f":"IF('Outil Recensement'!BC75=\"Yes\",\"Yes\",IF('Outil Recensement'!BC75=\"No\",\"No\",IF('Outil Recensement'!BC75=\"Y\",\"Yes\",IF('Outil Recensement'!BC75=\"N\",\"No\",\"\"))))","v":""},{"$f":"IF('Outil Recensement'!BD75=\"Yes\",\"Yes\",IF('Outil Recensement'!BD75=\"No\",\"No\",IF('Outil Recensement'!BD75=\"Y\",\"Yes\",IF('Outil Recensement'!BD75=\"N\",\"No\",\"\"))))","v":""},{"$f":"IF('Outil Recensement'!BE75>0,'Outil Recensement'!BE75,\"\")","v":""},{"$f":"IF('Outil Recensement'!BF75>0,'Outil Recensement'!BF75,\"\")","v":""},{"$f":"IF('Outil Recensement'!BG75>0,'Outil Recensement'!BG75,\"\")","v":""},{"$f":"IF('Outil Recensement'!BH75=\"Male\",\"Male\",IF('Outil Recensement'!BH75=\"Female\",\"Female\",IF('Outil Recensement'!BH75=\"M\",\"Male\",IF('Outil Recensement'!BH75=\"F\",\"Female\",\"\"))))","v":""},{"$f":"IF('Outil Recensement'!BI75=\"Yes\",\"Yes\",IF('Outil Recensement'!BI75=\"No\",\"No\",IF('Outil Recensement'!BI75=\"Y\",\"Yes\",IF('Outil Recensement'!BI75=\"N\",\"No\",\"\"))))","v":""},{"$f":"IF('Outil Recensement'!BJ75=\"Yes\",\"Yes\",IF('Outil Recensement'!BJ75=\"No\",\"No\",IF('Outil Recensement'!BJ75=\"Y\",\"Yes\",IF('Outil Recensement'!BJ75=\"N\",\"No\",\"\"))))","v":""},{"$f":"IF('Outil Recensement'!BK75>0,'Outil Recensement'!BK75,\"\")","v":""},{"$f":"IF('Outil Recensement'!BL75>0,'Outil Recensement'!BL75,\"\")","v":""},{"$f":"IF('Outil Recensement'!BM75>0,'Outil Recensement'!BM75,\"\")","v":""},{"$f":"IF('Outil Recensement'!BN75=\"Male\",\"Male\",IF('Outil Recensement'!BN75=\"Female\",\"Female\",IF('Outil Recensement'!BN75=\"M\",\"Male\",IF('Outil Recensement'!BN75=\"F\",\"Female\",\"\"))))","v":""},{"$f":"IF('Outil Recensement'!BO75=\"Yes\",\"Yes\",IF('Outil Recensement'!BO75=\"No\",\"No\",IF('Outil Recensement'!BO75=\"Y\",\"Yes\",IF('Outil Recensement'!BO75=\"N\",\"No\",\"\"))))","v":""},{"$f":"IF('Outil Recensement'!BP75=\"Yes\",\"Yes\",IF('Outil Recensement'!BP75=\"No\",\"No\",IF('Outil Recensement'!BP75=\"Y\",\"Yes\",IF('Outil Recensement'!BP75=\"N\",\"No\",\"\"))))","v":""},{"$f":"IF('Outil Recensement'!BQ75>0,'Outil Recensement'!BQ75,\"\")","v":""},{"$f":"IF('Outil Recensement'!BR75>0,'Outil Recensement'!BR75,\"\")","v":""},{"$f":"IF('Outil Recensement'!BS75>0,'Outil Recensement'!BS75,\"\")","v":""},{"$f":"IF('Outil Recensement'!BT75=\"Male\",\"Male\",IF('Outil Recensement'!BT75=\"Female\",\"Female\",IF('Outil Recensement'!BT75=\"M\",\"Male\",IF('Outil Recensement'!BT75=\"F\",\"Female\",\"\"))))","v":""},{"$f":"IF('Outil Recensement'!BU75=\"Yes\",\"Yes\",IF('Outil Recensement'!BU75=\"No\",\"No\",IF('Outil Recensement'!BU75=\"Y\",\"Yes\",IF('Outil Recensement'!BU75=\"N\",\"No\",\"\"))))","v":""},{"$f":"IF('Outil Recensement'!BV75=\"Yes\",\"Yes\",IF('Outil Recensement'!BV75=\"No\",\"No\",IF('Outil Recensement'!BV75=\"Y\",\"Yes\",IF('Outil Recensement'!BV75=\"N\",\"No\",\"\"))))","v":""},{"$f":"IF('Outil Recensement'!BW75>0,'Outil Recensement'!BW75,\"\")","v":""},{"$f":"IF('Outil Recensement'!BX75>0,'Outil Recensement'!BX75,\"\")","v":""},{"$f":"IF('Outil Recensement'!BY75>0,'Outil Recensement'!BY75,\"\")","v":""},{"$f":"IF('Outil Recensement'!BZ75=\"Male\",\"Male\",IF('Outil Recensement'!BZ75=\"Female\",\"Female\",IF('Outil Recensement'!BZ75=\"M\",\"Male\",IF('Outil Recensement'!BZ75=\"F\",\"Female\",\"\"))))","v":""},{"$f":"IF('Outil Recensement'!CA75=\"Yes\",\"Yes\",IF('Outil Recensement'!CA75=\"No\",\"No\",IF('Outil Recensement'!CA75=\"Y\",\"Yes\",IF('Outil Recensement'!CA75=\"N\",\"No\",\"\"))))","v":""},{"$f":"IF('Outil Recensement'!CB75=\"Yes\",\"Yes\",IF('Outil Recensement'!CB75=\"No\",\"No\",IF('Outil Recensement'!CB75=\"Y\",\"Yes\",IF('Outil Recensement'!CB75=\"N\",\"No\",\"\"))))","v":""},{"$f":"IF('Outil Recensement'!CH75>0,'Outil Recensement'!CH75,\"\")","v":"    "}]
[{"$f":"IF('Outil Recensement'!A76>0,'Outil Recensement'!A76,\"\")","v":""},{"$f":"IF('Outil Recensement'!B76>0,'Outil Recensement'!B76,\"\")","v":""},{"$f":"IF('Outil Recensement'!C76>0,'Outil Recensement'!C76,\"\")","v":""},{"$f":"IF('Outil Recensement'!D76>0,'Outil Recensement'!D76,\"\")","v":""},{"$f":"IF('Outil Recensement'!P76>0,TEXT('Outil Recensement'!P76,\"000\"),\"\")","v":""},{"$f":"IF('Outil Recensement'!Q76>0,'Outil Recensement'!Q76,\"\")","v":""},{"$f":"IF('Outil Recensement'!R76>0,'Outil Recensement'!R76,\"\")","v":""},{"$f":"IF('Outil Recensement'!F76>0,DATEVALUE(TEXT('Outil Recensement'!F76,\"yyyy-mm-dd\")),\"\")","v":""},{"$f":"IF('Outil Recensement'!L76>0,DATEVALUE(TEXT('Outil Recensement'!L76,\"yyyy-mm-dd\")),\"\")","v":""},{"$f":"IF('Outil Recensement'!Y76>0,'Outil Recensement'!Y76,\"\")","v":""},{"$f":"IF('Outil Recensement'!T76>0,'Outil Recensement'!T76,\"\")","v":""},{"$f":"IF('Outil Recensement'!G76=\"Homme\",\"Male\",IF('Outil Recensement'!G76=\"Femme\",\"Female\",IF('Outil Recensement'!G76=\"H\",\"Male\",IF('Outil Recensement'!G76=\"F\",\"Female\",\"\"))))","v":""},{"$f":"IF('Outil Recensement'!U76=\"Yes\",\"Yes\",IF('Outil Recensement'!U76=\"No\",\"No\",IF('Outil Recensement'!U76=\"Y\",\"Yes\",IF('Outil Recensement'!U76=\"N\",\"No\",\"\"))))","v":""},{"$f":"IF('Outil Recensement'!I76=\"Individuelle\",\"Single\",IF('Outil Recensement'!I76=\"Familiale\",\"Family\",IF('Outil Recensement'!I76=\"Refus\",\"Family\",IF('Outil Recensement'!I76=\"Parent seul\",\"Family\",IF('Outil Recensement'!I76=\"Couple\",\"Family\",IF('Outil Recensement'!I76=\"In force\",\"Family\",IF('Outil Recensement'!I76=\"Applies\",\"Family\",IF('Outil Recensement'!I76=\"Applicable\",\"Family\",\"\"))))))))","v":""},{"$f":"IF('Outil Recensement'!AC76=\"Anglais\",\"English\",IF('Outil Recensement'!AC76=\"Français\",\"French\",IF('Outil Recensement'!AC76=\"A\",\"English\",IF('Outil Recensement'!AC76=\"F\",\"French\",\"\"))))","v":""},{"$f":"IF('Outil Recensement'!AB76=\"Oui\",\"Yes\",IF('Outil Recensement'!AB76=\"Non\",\"No\",IF('Outil Recensement'!AB76=\"O\",\"Yes\",IF('Outil Recensement'!AB76=\"N\",\"No\",\"\"))))","v":""},{"$f":"IF('Outil Recensement'!AD76>0,'Outil Recensement'!AD76,\"\")","v":""},{"$f":"IF('Outil Recensement'!M76=\"Annuel\",\"Annually\",IF('Outil Recensement'!M76=\"Mensuel\",\"Monthly\",IF('Outil Recensement'!M76=\"Bihebdomadaire\",\"Biweekly\",IF('Outil Recensement'!M76=\"Hebdomadaire\",\"Weekly\",IF('Outil Recensement'!M76=\"Horaire\",\"Hourly\",IF('Outil Recensement'!M76=\"Semi-mensuel\",\"Semi-monthly\",IF('Outil Recensement'!M76=\"Applies\",\"Annual\",IF('Outil Recensement'!M76=\"Applicable\",\"Annual\",\"\"))))))))","v":""},{"$f":"IF('Outil Recensement'!N76>0,'Outil Recensement'!N76,\"\")","v":""},{"$f":"IF('Outil Recensement'!O76>0,'Outil Recensement'!O76,\"\")","v":""},{"$f":"IF('Outil Recensement'!I76=\"Refus\",\"Yes\",\"\")","v":""},{"$f":"IF('Outil Recensement'!I76=\"Refus\",\"Yes\",\"\")","v":""},{"$f":"IF('Outil Recensement'!AE76>0,'Outil Recensement'!AE76,\"\")","v":""},{"$f":"IF('Outil Recensement'!AF76>0,'Outil Recensement'!AF76,\"\")","v":""},{"$f":"IF('Outil Recensement'!AG76>0,'Outil Recensement'!AG76,\"\")","v":""},{"$f":"IF('Outil Recensement'!AH76>0,'Outil Recensement'!AH76,\"\")","v":""},{"$f":"IF('Outil Recensement'!AI76>0,'Outil Recensement'!AI76,\"\")","v":" "},{"$f":"IF('Outil Recensement'!AJ76>0,'Outil Recensement'!AJ76,\"\")","v":" "},{"$f":"IF('Outil Recensement'!W76>0,'Outil Recensement'!W76&\" \",\"\")&IF('Outil Recensement'!V76>0,'Outil Recensement'!V76,\"\")","v":""},null,{"$f":"IF('Outil Recensement'!X76>0,'Outil Recensement'!X76,\"\")","v":""},{"$f":"IF('Outil Recensement'!Y76>0,'Outil Recensement'!Y76,\"\")","v":""},{"$f":"IF('Outil Recensement'!Z76>0,'Outil Recensement'!Z76,\"\")","v":""},{"$f":"IF('Outil Recensement'!AA76>0,'Outil Recensement'!AA76,\"\")","v":""},{"$f":"IF('Outil Recensement'!E76>0,'Outil Recensement'!E76,\"\")","v":""},{"$f":"IF('Outil Recensement'!AK76>0,'Outil Recensement'!AK76,\"\")","v":""},{"$f":"IF('Outil Recensement'!AL76>0,'Outil Recensement'!AL76,\"\")","v":""},{"$f":"IF('Outil Recensement'!AM76>0,'Outil Recensement'!AM76,\"\")","v":""},{"$f":"IF('Outil Recensement'!AN76=\"Male\",\"Male\",IF('Outil Recensement'!AN76=\"Female\",\"Female\",IF('Outil Recensement'!AN76=\"M\",\"Male\",IF('Outil Recensement'!AN76=\"F\",\"Female\",\"\"))))","v":""},{"$f":"IF('Outil Recensement'!AO76=\"Single\",\"Single\",IF('Outil Recensement'!AO76=\"Family\",\"Family\",IF('Outil Recensement'!AO76=\"S\",\"Single\",IF('Outil Recensement'!AO76=\"F\",\"Family\",\"\"))))","v":""},{"$f":"IF('Outil Recensement'!AP76=\"Single\",\"Single\",IF('Outil Recensement'!AP76=\"Family\",\"Family\",IF('Outil Recensement'!AP76=\"S\",\"Single\",IF('Outil Recensement'!AP76=\"F\",\"Family\",\"\"))))","v":""},{"$f":"IF('Outil Recensement'!AQ76>0,'Outil Recensement'!AQ76,\"\")","v":""},{"$f":"IF('Outil Recensement'!AR76=\"Yes\",\"Yes\",IF('Outil Recensement'!AR76=\"No\",\"No\",IF('Outil Recensement'!AR76=\"Y\",\"Yes\",IF('Outil Recensement'!AR76=\"N\",\"No\",\"\"))))","v":""},{"$f":"IF('Outil Recensement'!AS76>0,'Outil Recensement'!AS76,\"\")","v":""},{"$f":"IF('Outil Recensement'!AT76>0,'Outil Recensement'!AT76,\"\")","v":""},{"$f":"IF('Outil Recensement'!AU76>0,'Outil Recensement'!AU76,\"\")","v":""},{"$f":"IF('Outil Recensement'!AV76=\"Male\",\"Male\",IF('Outil Recensement'!AV76=\"Female\",\"Female\",IF('Outil Recensement'!AV76=\"M\",\"Male\",IF('Outil Recensement'!AV76=\"F\",\"Female\",\"\"))))","v":""},{"$f":"IF('Outil Recensement'!AW76=\"Yes\",\"Yes\",IF('Outil Recensement'!AW76=\"No\",\"No\",IF('Outil Recensement'!AW76=\"Y\",\"Yes\",IF('Outil Recensement'!AW76=\"N\",\"No\",\"\"))))","v":""},{"$f":"IF('Outil Recensement'!AX76=\"Yes\",\"Yes\",IF('Outil Recensement'!AX76=\"No\",\"No\",IF('Outil Recensement'!AX76=\"Y\",\"Yes\",IF('Outil Recensement'!AX76=\"N\",\"No\",\"\"))))","v":""},{"$f":"IF('Outil Recensement'!AY76>0,'Outil Recensement'!AY76,\"\")","v":""},{"$f":"IF('Outil Recensement'!AZ76>0,'Outil Recensement'!AZ76,\"\")","v":""},{"$f":"IF('Outil Recensement'!BA76>0,'Outil Recensement'!BA76,\"\")","v":""},{"$f":"IF('Outil Recensement'!BB76=\"Male\",\"Male\",IF('Outil Recensement'!BB76=\"Female\",\"Female\",IF('Outil Recensement'!BB76=\"M\",\"Male\",IF('Outil Recensement'!BB76=\"F\",\"Female\",\"\"))))","v":""},{"$f":"IF('Outil Recensement'!BC76=\"Yes\",\"Yes\",IF('Outil Recensement'!BC76=\"No\",\"No\",IF('Outil Recensement'!BC76=\"Y\",\"Yes\",IF('Outil Recensement'!BC76=\"N\",\"No\",\"\"))))","v":""},{"$f":"IF('Outil Recensement'!BD76=\"Yes\",\"Yes\",IF('Outil Recensement'!BD76=\"No\",\"No\",IF('Outil Recensement'!BD76=\"Y\",\"Yes\",IF('Outil Recensement'!BD76=\"N\",\"No\",\"\"))))","v":""},{"$f":"IF('Outil Recensement'!BE76>0,'Outil Recensement'!BE76,\"\")","v":""},{"$f":"IF('Outil Recensement'!BF76>0,'Outil Recensement'!BF76,\"\")","v":""},{"$f":"IF('Outil Recensement'!BG76>0,'Outil Recensement'!BG76,\"\")","v":""},{"$f":"IF('Outil Recensement'!BH76=\"Male\",\"Male\",IF('Outil Recensement'!BH76=\"Female\",\"Female\",IF('Outil Recensement'!BH76=\"M\",\"Male\",IF('Outil Recensement'!BH76=\"F\",\"Female\",\"\"))))","v":""},{"$f":"IF('Outil Recensement'!BI76=\"Yes\",\"Yes\",IF('Outil Recensement'!BI76=\"No\",\"No\",IF('Outil Recensement'!BI76=\"Y\",\"Yes\",IF('Outil Recensement'!BI76=\"N\",\"No\",\"\"))))","v":""},{"$f":"IF('Outil Recensement'!BJ76=\"Yes\",\"Yes\",IF('Outil Recensement'!BJ76=\"No\",\"No\",IF('Outil Recensement'!BJ76=\"Y\",\"Yes\",IF('Outil Recensement'!BJ76=\"N\",\"No\",\"\"))))","v":""},{"$f":"IF('Outil Recensement'!BK76>0,'Outil Recensement'!BK76,\"\")","v":""},{"$f":"IF('Outil Recensement'!BL76>0,'Outil Recensement'!BL76,\"\")","v":""},{"$f":"IF('Outil Recensement'!BM76>0,'Outil Recensement'!BM76,\"\")","v":""},{"$f":"IF('Outil Recensement'!BN76=\"Male\",\"Male\",IF('Outil Recensement'!BN76=\"Female\",\"Female\",IF('Outil Recensement'!BN76=\"M\",\"Male\",IF('Outil Recensement'!BN76=\"F\",\"Female\",\"\"))))","v":""},{"$f":"IF('Outil Recensement'!BO76=\"Yes\",\"Yes\",IF('Outil Recensement'!BO76=\"No\",\"No\",IF('Outil Recensement'!BO76=\"Y\",\"Yes\",IF('Outil Recensement'!BO76=\"N\",\"No\",\"\"))))","v":""},{"$f":"IF('Outil Recensement'!BP76=\"Yes\",\"Yes\",IF('Outil Recensement'!BP76=\"No\",\"No\",IF('Outil Recensement'!BP76=\"Y\",\"Yes\",IF('Outil Recensement'!BP76=\"N\",\"No\",\"\"))))","v":""},{"$f":"IF('Outil Recensement'!BQ76>0,'Outil Recensement'!BQ76,\"\")","v":""},{"$f":"IF('Outil Recensement'!BR76>0,'Outil Recensement'!BR76,\"\")","v":""},{"$f":"IF('Outil Recensement'!BS76>0,'Outil Recensement'!BS76,\"\")","v":""},{"$f":"IF('Outil Recensement'!BT76=\"Male\",\"Male\",IF('Outil Recensement'!BT76=\"Female\",\"Female\",IF('Outil Recensement'!BT76=\"M\",\"Male\",IF('Outil Recensement'!BT76=\"F\",\"Female\",\"\"))))","v":""},{"$f":"IF('Outil Recensement'!BU76=\"Yes\",\"Yes\",IF('Outil Recensement'!BU76=\"No\",\"No\",IF('Outil Recensement'!BU76=\"Y\",\"Yes\",IF('Outil Recensement'!BU76=\"N\",\"No\",\"\"))))","v":""},{"$f":"IF('Outil Recensement'!BV76=\"Yes\",\"Yes\",IF('Outil Recensement'!BV76=\"No\",\"No\",IF('Outil Recensement'!BV76=\"Y\",\"Yes\",IF('Outil Recensement'!BV76=\"N\",\"No\",\"\"))))","v":""},{"$f":"IF('Outil Recensement'!BW76>0,'Outil Recensement'!BW76,\"\")","v":""},{"$f":"IF('Outil Recensement'!BX76>0,'Outil Recensement'!BX76,\"\")","v":""},{"$f":"IF('Outil Recensement'!BY76>0,'Outil Recensement'!BY76,\"\")","v":""},{"$f":"IF('Outil Recensement'!BZ76=\"Male\",\"Male\",IF('Outil Recensement'!BZ76=\"Female\",\"Female\",IF('Outil Recensement'!BZ76=\"M\",\"Male\",IF('Outil Recensement'!BZ76=\"F\",\"Female\",\"\"))))","v":""},{"$f":"IF('Outil Recensement'!CA76=\"Yes\",\"Yes\",IF('Outil Recensement'!CA76=\"No\",\"No\",IF('Outil Recensement'!CA76=\"Y\",\"Yes\",IF('Outil Recensement'!CA76=\"N\",\"No\",\"\"))))","v":""},{"$f":"IF('Outil Recensement'!CB76=\"Yes\",\"Yes\",IF('Outil Recensement'!CB76=\"No\",\"No\",IF('Outil Recensement'!CB76=\"Y\",\"Yes\",IF('Outil Recensement'!CB76=\"N\",\"No\",\"\"))))","v":""},{"$f":"IF('Outil Recensement'!CH76>0,'Outil Recensement'!CH76,\"\")","v":"    "}]
[{"$f":"IF('Outil Recensement'!A77>0,'Outil Recensement'!A77,\"\")","v":""},{"$f":"IF('Outil Recensement'!B77>0,'Outil Recensement'!B77,\"\")","v":""},{"$f":"IF('Outil Recensement'!C77>0,'Outil Recensement'!C77,\"\")","v":""},{"$f":"IF('Outil Recensement'!D77>0,'Outil Recensement'!D77,\"\")","v":""},{"$f":"IF('Outil Recensement'!P77>0,TEXT('Outil Recensement'!P77,\"000\"),\"\")","v":""},{"$f":"IF('Outil Recensement'!Q77>0,'Outil Recensement'!Q77,\"\")","v":""},{"$f":"IF('Outil Recensement'!R77>0,'Outil Recensement'!R77,\"\")","v":""},{"$f":"IF('Outil Recensement'!F77>0,DATEVALUE(TEXT('Outil Recensement'!F77,\"yyyy-mm-dd\")),\"\")","v":""},{"$f":"IF('Outil Recensement'!L77>0,DATEVALUE(TEXT('Outil Recensement'!L77,\"yyyy-mm-dd\")),\"\")","v":""},{"$f":"IF('Outil Recensement'!Y77>0,'Outil Recensement'!Y77,\"\")","v":""},{"$f":"IF('Outil Recensement'!T77>0,'Outil Recensement'!T77,\"\")","v":""},{"$f":"IF('Outil Recensement'!G77=\"Homme\",\"Male\",IF('Outil Recensement'!G77=\"Femme\",\"Female\",IF('Outil Recensement'!G77=\"H\",\"Male\",IF('Outil Recensement'!G77=\"F\",\"Female\",\"\"))))","v":""},{"$f":"IF('Outil Recensement'!U77=\"Yes\",\"Yes\",IF('Outil Recensement'!U77=\"No\",\"No\",IF('Outil Recensement'!U77=\"Y\",\"Yes\",IF('Outil Recensement'!U77=\"N\",\"No\",\"\"))))","v":""},{"$f":"IF('Outil Recensement'!I77=\"Individuelle\",\"Single\",IF('Outil Recensement'!I77=\"Familiale\",\"Family\",IF('Outil Recensement'!I77=\"Refus\",\"Family\",IF('Outil Recensement'!I77=\"Parent seul\",\"Family\",IF('Outil Recensement'!I77=\"Couple\",\"Family\",IF('Outil Recensement'!I77=\"In force\",\"Family\",IF('Outil Recensement'!I77=\"Applies\",\"Family\",IF('Outil Recensement'!I77=\"Applicable\",\"Family\",\"\"))))))))","v":""},{"$f":"IF('Outil Recensement'!AC77=\"Anglais\",\"English\",IF('Outil Recensement'!AC77=\"Français\",\"French\",IF('Outil Recensement'!AC77=\"A\",\"English\",IF('Outil Recensement'!AC77=\"F\",\"French\",\"\"))))","v":""},{"$f":"IF('Outil Recensement'!AB77=\"Oui\",\"Yes\",IF('Outil Recensement'!AB77=\"Non\",\"No\",IF('Outil Recensement'!AB77=\"O\",\"Yes\",IF('Outil Recensement'!AB77=\"N\",\"No\",\"\"))))","v":""},{"$f":"IF('Outil Recensement'!AD77>0,'Outil Recensement'!AD77,\"\")","v":""},{"$f":"IF('Outil Recensement'!M77=\"Annuel\",\"Annually\",IF('Outil Recensement'!M77=\"Mensuel\",\"Monthly\",IF('Outil Recensement'!M77=\"Bihebdomadaire\",\"Biweekly\",IF('Outil Recensement'!M77=\"Hebdomadaire\",\"Weekly\",IF('Outil Recensement'!M77=\"Horaire\",\"Hourly\",IF('Outil Recensement'!M77=\"Semi-mensuel\",\"Semi-monthly\",IF('Outil Recensement'!M77=\"Applies\",\"Annual\",IF('Outil Recensement'!M77=\"Applicable\",\"Annual\",\"\"))))))))","v":""},{"$f":"IF('Outil Recensement'!N77>0,'Outil Recensement'!N77,\"\")","v":""},{"$f":"IF('Outil Recensement'!O77>0,'Outil Recensement'!O77,\"\")","v":""},{"$f":"IF('Outil Recensement'!I77=\"Refus\",\"Yes\",\"\")","v":""},{"$f":"IF('Outil Recensement'!I77=\"Refus\",\"Yes\",\"\")","v":""},{"$f":"IF('Outil Recensement'!AE77>0,'Outil Recensement'!AE77,\"\")","v":""},{"$f":"IF('Outil Recensement'!AF77>0,'Outil Recensement'!AF77,\"\")","v":""},{"$f":"IF('Outil Recensement'!AG77>0,'Outil Recensement'!AG77,\"\")","v":""},{"$f":"IF('Outil Recensement'!AH77>0,'Outil Recensement'!AH77,\"\")","v":""},{"$f":"IF('Outil Recensement'!AI77>0,'Outil Recensement'!AI77,\"\")","v":" "},{"$f":"IF('Outil Recensement'!AJ77>0,'Outil Recensement'!AJ77,\"\")","v":" "},{"$f":"IF('Outil Recensement'!W77>0,'Outil Recensement'!W77&\" \",\"\")&IF('Outil Recensement'!V77>0,'Outil Recensement'!V77,\"\")","v":""},null,{"$f":"IF('Outil Recensement'!X77>0,'Outil Recensement'!X77,\"\")","v":""},{"$f":"IF('Outil Recensement'!Y77>0,'Outil Recensement'!Y77,\"\")","v":""},{"$f":"IF('Outil Recensement'!Z77>0,'Outil Recensement'!Z77,\"\")","v":""},{"$f":"IF('Outil Recensement'!AA77>0,'Outil Recensement'!AA77,\"\")","v":""},{"$f":"IF('Outil Recensement'!E77>0,'Outil Recensement'!E77,\"\")","v":""},{"$f":"IF('Outil Recensement'!AK77>0,'Outil Recensement'!AK77,\"\")","v":""},{"$f":"IF('Outil Recensement'!AL77>0,'Outil Recensement'!AL77,\"\")","v":""},{"$f":"IF('Outil Recensement'!AM77>0,'Outil Recensement'!AM77,\"\")","v":""},{"$f":"IF('Outil Recensement'!AN77=\"Male\",\"Male\",IF('Outil Recensement'!AN77=\"Female\",\"Female\",IF('Outil Recensement'!AN77=\"M\",\"Male\",IF('Outil Recensement'!AN77=\"F\",\"Female\",\"\"))))","v":""},{"$f":"IF('Outil Recensement'!AO77=\"Single\",\"Single\",IF('Outil Recensement'!AO77=\"Family\",\"Family\",IF('Outil Recensement'!AO77=\"S\",\"Single\",IF('Outil Recensement'!AO77=\"F\",\"Family\",\"\"))))","v":""},{"$f":"IF('Outil Recensement'!AP77=\"Single\",\"Single\",IF('Outil Recensement'!AP77=\"Family\",\"Family\",IF('Outil Recensement'!AP77=\"S\",\"Single\",IF('Outil Recensement'!AP77=\"F\",\"Family\",\"\"))))","v":""},{"$f":"IF('Outil Recensement'!AQ77>0,'Outil Recensement'!AQ77,\"\")","v":""},{"$f":"IF('Outil Recensement'!AR77=\"Yes\",\"Yes\",IF('Outil Recensement'!AR77=\"No\",\"No\",IF('Outil Recensement'!AR77=\"Y\",\"Yes\",IF('Outil Recensement'!AR77=\"N\",\"No\",\"\"))))","v":""},{"$f":"IF('Outil Recensement'!AS77>0,'Outil Recensement'!AS77,\"\")","v":""},{"$f":"IF('Outil Recensement'!AT77>0,'Outil Recensement'!AT77,\"\")","v":""},{"$f":"IF('Outil Recensement'!AU77>0,'Outil Recensement'!AU77,\"\")","v":""},{"$f":"IF('Outil Recensement'!AV77=\"Male\",\"Male\",IF('Outil Recensement'!AV77=\"Female\",\"Female\",IF('Outil Recensement'!AV77=\"M\",\"Male\",IF('Outil Recensement'!AV77=\"F\",\"Female\",\"\"))))","v":""},{"$f":"IF('Outil Recensement'!AW77=\"Yes\",\"Yes\",IF('Outil Recensement'!AW77=\"No\",\"No\",IF('Outil Recensement'!AW77=\"Y\",\"Yes\",IF('Outil Recensement'!AW77=\"N\",\"No\",\"\"))))","v":""},{"$f":"IF('Outil Recensement'!AX77=\"Yes\",\"Yes\",IF('Outil Recensement'!AX77=\"No\",\"No\",IF('Outil Recensement'!AX77=\"Y\",\"Yes\",IF('Outil Recensement'!AX77=\"N\",\"No\",\"\"))))","v":""},{"$f":"IF('Outil Recensement'!AY77>0,'Outil Recensement'!AY77,\"\")","v":""},{"$f":"IF('Outil Recensement'!AZ77>0,'Outil Recensement'!AZ77,\"\")","v":""},{"$f":"IF('Outil Recensement'!BA77>0,'Outil Recensement'!BA77,\"\")","v":""},{"$f":"IF('Outil Recensement'!BB77=\"Male\",\"Male\",IF('Outil Recensement'!BB77=\"Female\",\"Female\",IF('Outil Recensement'!BB77=\"M\",\"Male\",IF('Outil Recensement'!BB77=\"F\",\"Female\",\"\"))))","v":""},{"$f":"IF('Outil Recensement'!BC77=\"Yes\",\"Yes\",IF('Outil Recensement'!BC77=\"No\",\"No\",IF('Outil Recensement'!BC77=\"Y\",\"Yes\",IF('Outil Recensement'!BC77=\"N\",\"No\",\"\"))))","v":""},{"$f":"IF('Outil Recensement'!BD77=\"Yes\",\"Yes\",IF('Outil Recensement'!BD77=\"No\",\"No\",IF('Outil Recensement'!BD77=\"Y\",\"Yes\",IF('Outil Recensement'!BD77=\"N\",\"No\",\"\"))))","v":""},{"$f":"IF('Outil Recensement'!BE77>0,'Outil Recensement'!BE77,\"\")","v":""},{"$f":"IF('Outil Recensement'!BF77>0,'Outil Recensement'!BF77,\"\")","v":""},{"$f":"IF('Outil Recensement'!BG77>0,'Outil Recensement'!BG77,\"\")","v":""},{"$f":"IF('Outil Recensement'!BH77=\"Male\",\"Male\",IF('Outil Recensement'!BH77=\"Female\",\"Female\",IF('Outil Recensement'!BH77=\"M\",\"Male\",IF('Outil Recensement'!BH77=\"F\",\"Female\",\"\"))))","v":""},{"$f":"IF('Outil Recensement'!BI77=\"Yes\",\"Yes\",IF('Outil Recensement'!BI77=\"No\",\"No\",IF('Outil Recensement'!BI77=\"Y\",\"Yes\",IF('Outil Recensement'!BI77=\"N\",\"No\",\"\"))))","v":""},{"$f":"IF('Outil Recensement'!BJ77=\"Yes\",\"Yes\",IF('Outil Recensement'!BJ77=\"No\",\"No\",IF('Outil Recensement'!BJ77=\"Y\",\"Yes\",IF('Outil Recensement'!BJ77=\"N\",\"No\",\"\"))))","v":""},{"$f":"IF('Outil Recensement'!BK77>0,'Outil Recensement'!BK77,\"\")","v":""},{"$f":"IF('Outil Recensement'!BL77>0,'Outil Recensement'!BL77,\"\")","v":""},{"$f":"IF('Outil Recensement'!BM77>0,'Outil Recensement'!BM77,\"\")","v":""},{"$f":"IF('Outil Recensement'!BN77=\"Male\",\"Male\",IF('Outil Recensement'!BN77=\"Female\",\"Female\",IF('Outil Recensement'!BN77=\"M\",\"Male\",IF('Outil Recensement'!BN77=\"F\",\"Female\",\"\"))))","v":""},{"$f":"IF('Outil Recensement'!BO77=\"Yes\",\"Yes\",IF('Outil Recensement'!BO77=\"No\",\"No\",IF('Outil Recensement'!BO77=\"Y\",\"Yes\",IF('Outil Recensement'!BO77=\"N\",\"No\",\"\"))))","v":""},{"$f":"IF('Outil Recensement'!BP77=\"Yes\",\"Yes\",IF('Outil Recensement'!BP77=\"No\",\"No\",IF('Outil Recensement'!BP77=\"Y\",\"Yes\",IF('Outil Recensement'!BP77=\"N\",\"No\",\"\"))))","v":""},{"$f":"IF('Outil Recensement'!BQ77>0,'Outil Recensement'!BQ77,\"\")","v":""},{"$f":"IF('Outil Recensement'!BR77>0,'Outil Recensement'!BR77,\"\")","v":""},{"$f":"IF('Outil Recensement'!BS77>0,'Outil Recensement'!BS77,\"\")","v":""},{"$f":"IF('Outil Recensement'!BT77=\"Male\",\"Male\",IF('Outil Recensement'!BT77=\"Female\",\"Female\",IF('Outil Recensement'!BT77=\"M\",\"Male\",IF('Outil Recensement'!BT77=\"F\",\"Female\",\"\"))))","v":""},{"$f":"IF('Outil Recensement'!BU77=\"Yes\",\"Yes\",IF('Outil Recensement'!BU77=\"No\",\"No\",IF('Outil Recensement'!BU77=\"Y\",\"Yes\",IF('Outil Recensement'!BU77=\"N\",\"No\",\"\"))))","v":""},{"$f":"IF('Outil Recensement'!BV77=\"Yes\",\"Yes\",IF('Outil Recensement'!BV77=\"No\",\"No\",IF('Outil Recensement'!BV77=\"Y\",\"Yes\",IF('Outil Recensement'!BV77=\"N\",\"No\",\"\"))))","v":""},{"$f":"IF('Outil Recensement'!BW77>0,'Outil Recensement'!BW77,\"\")","v":""},{"$f":"IF('Outil Recensement'!BX77>0,'Outil Recensement'!BX77,\"\")","v":""},{"$f":"IF('Outil Recensement'!BY77>0,'Outil Recensement'!BY77,\"\")","v":""},{"$f":"IF('Outil Recensement'!BZ77=\"Male\",\"Male\",IF('Outil Recensement'!BZ77=\"Female\",\"Female\",IF('Outil Recensement'!BZ77=\"M\",\"Male\",IF('Outil Recensement'!BZ77=\"F\",\"Female\",\"\"))))","v":""},{"$f":"IF('Outil Recensement'!CA77=\"Yes\",\"Yes\",IF('Outil Recensement'!CA77=\"No\",\"No\",IF('Outil Recensement'!CA77=\"Y\",\"Yes\",IF('Outil Recensement'!CA77=\"N\",\"No\",\"\"))))","v":""},{"$f":"IF('Outil Recensement'!CB77=\"Yes\",\"Yes\",IF('Outil Recensement'!CB77=\"No\",\"No\",IF('Outil Recensement'!CB77=\"Y\",\"Yes\",IF('Outil Recensement'!CB77=\"N\",\"No\",\"\"))))","v":""},{"$f":"IF('Outil Recensement'!CH77>0,'Outil Recensement'!CH77,\"\")","v":"    "}]
[{"$f":"IF('Outil Recensement'!A78>0,'Outil Recensement'!A78,\"\")","v":""},{"$f":"IF('Outil Recensement'!B78>0,'Outil Recensement'!B78,\"\")","v":""},{"$f":"IF('Outil Recensement'!C78>0,'Outil Recensement'!C78,\"\")","v":""},{"$f":"IF('Outil Recensement'!D78>0,'Outil Recensement'!D78,\"\")","v":""},{"$f":"IF('Outil Recensement'!P78>0,TEXT('Outil Recensement'!P78,\"000\"),\"\")","v":""},{"$f":"IF('Outil Recensement'!Q78>0,'Outil Recensement'!Q78,\"\")","v":""},{"$f":"IF('Outil Recensement'!R78>0,'Outil Recensement'!R78,\"\")","v":""},{"$f":"IF('Outil Recensement'!F78>0,DATEVALUE(TEXT('Outil Recensement'!F78,\"yyyy-mm-dd\")),\"\")","v":""},{"$f":"IF('Outil Recensement'!L78>0,DATEVALUE(TEXT('Outil Recensement'!L78,\"yyyy-mm-dd\")),\"\")","v":""},{"$f":"IF('Outil Recensement'!Y78>0,'Outil Recensement'!Y78,\"\")","v":""},{"$f":"IF('Outil Recensement'!T78>0,'Outil Recensement'!T78,\"\")","v":""},{"$f":"IF('Outil Recensement'!G78=\"Homme\",\"Male\",IF('Outil Recensement'!G78=\"Femme\",\"Female\",IF('Outil Recensement'!G78=\"H\",\"Male\",IF('Outil Recensement'!G78=\"F\",\"Female\",\"\"))))","v":""},{"$f":"IF('Outil Recensement'!U78=\"Yes\",\"Yes\",IF('Outil Recensement'!U78=\"No\",\"No\",IF('Outil Recensement'!U78=\"Y\",\"Yes\",IF('Outil Recensement'!U78=\"N\",\"No\",\"\"))))","v":""},{"$f":"IF('Outil Recensement'!I78=\"Individuelle\",\"Single\",IF('Outil Recensement'!I78=\"Familiale\",\"Family\",IF('Outil Recensement'!I78=\"Refus\",\"Family\",IF('Outil Recensement'!I78=\"Parent seul\",\"Family\",IF('Outil Recensement'!I78=\"Couple\",\"Family\",IF('Outil Recensement'!I78=\"In force\",\"Family\",IF('Outil Recensement'!I78=\"Applies\",\"Family\",IF('Outil Recensement'!I78=\"Applicable\",\"Family\",\"\"))))))))","v":""},{"$f":"IF('Outil Recensement'!AC78=\"Anglais\",\"English\",IF('Outil Recensement'!AC78=\"Français\",\"French\",IF('Outil Recensement'!AC78=\"A\",\"English\",IF('Outil Recensement'!AC78=\"F\",\"French\",\"\"))))","v":""},{"$f":"IF('Outil Recensement'!AB78=\"Oui\",\"Yes\",IF('Outil Recensement'!AB78=\"Non\",\"No\",IF('Outil Recensement'!AB78=\"O\",\"Yes\",IF('Outil Recensement'!AB78=\"N\",\"No\",\"\"))))","v":""},{"$f":"IF('Outil Recensement'!AD78>0,'Outil Recensement'!AD78,\"\")","v":""},{"$f":"IF('Outil Recensement'!M78=\"Annuel\",\"Annually\",IF('Outil Recensement'!M78=\"Mensuel\",\"Monthly\",IF('Outil Recensement'!M78=\"Bihebdomadaire\",\"Biweekly\",IF('Outil Recensement'!M78=\"Hebdomadaire\",\"Weekly\",IF('Outil Recensement'!M78=\"Horaire\",\"Hourly\",IF('Outil Recensement'!M78=\"Semi-mensuel\",\"Semi-monthly\",IF('Outil Recensement'!M78=\"Applies\",\"Annual\",IF('Outil Recensement'!M78=\"Applicable\",\"Annual\",\"\"))))))))","v":""},{"$f":"IF('Outil Recensement'!N78>0,'Outil Recensement'!N78,\"\")","v":""},{"$f":"IF('Outil Recensement'!O78>0,'Outil Recensement'!O78,\"\")","v":""},{"$f":"IF('Outil Recensement'!I78=\"Refus\",\"Yes\",\"\")","v":""},{"$f":"IF('Outil Recensement'!I78=\"Refus\",\"Yes\",\"\")","v":""},{"$f":"IF('Outil Recensement'!AE78>0,'Outil Recensement'!AE78,\"\")","v":""},{"$f":"IF('Outil Recensement'!AF78>0,'Outil Recensement'!AF78,\"\")","v":""},{"$f":"IF('Outil Recensement'!AG78>0,'Outil Recensement'!AG78,\"\")","v":""},{"$f":"IF('Outil Recensement'!AH78>0,'Outil Recensement'!AH78,\"\")","v":""},{"$f":"IF('Outil Recensement'!AI78>0,'Outil Recensement'!AI78,\"\")","v":" "},{"$f":"IF('Outil Recensement'!AJ78>0,'Outil Recensement'!AJ78,\"\")","v":" "},{"$f":"IF('Outil Recensement'!W78>0,'Outil Recensement'!W78&\" \",\"\")&IF('Outil Recensement'!V78>0,'Outil Recensement'!V78,\"\")","v":""},null,{"$f":"IF('Outil Recensement'!X78>0,'Outil Recensement'!X78,\"\")","v":""},{"$f":"IF('Outil Recensement'!Y78>0,'Outil Recensement'!Y78,\"\")","v":""},{"$f":"IF('Outil Recensement'!Z78>0,'Outil Recensement'!Z78,\"\")","v":""},{"$f":"IF('Outil Recensement'!AA78>0,'Outil Recensement'!AA78,\"\")","v":""},{"$f":"IF('Outil Recensement'!E78>0,'Outil Recensement'!E78,\"\")","v":""},{"$f":"IF('Outil Recensement'!AK78>0,'Outil Recensement'!AK78,\"\")","v":""},{"$f":"IF('Outil Recensement'!AL78>0,'Outil Recensement'!AL78,\"\")","v":""},{"$f":"IF('Outil Recensement'!AM78>0,'Outil Recensement'!AM78,\"\")","v":""},{"$f":"IF('Outil Recensement'!AN78=\"Male\",\"Male\",IF('Outil Recensement'!AN78=\"Female\",\"Female\",IF('Outil Recensement'!AN78=\"M\",\"Male\",IF('Outil Recensement'!AN78=\"F\",\"Female\",\"\"))))","v":""},{"$f":"IF('Outil Recensement'!AO78=\"Single\",\"Single\",IF('Outil Recensement'!AO78=\"Family\",\"Family\",IF('Outil Recensement'!AO78=\"S\",\"Single\",IF('Outil Recensement'!AO78=\"F\",\"Family\",\"\"))))","v":""},{"$f":"IF('Outil Recensement'!AP78=\"Single\",\"Single\",IF('Outil Recensement'!AP78=\"Family\",\"Family\",IF('Outil Recensement'!AP78=\"S\",\"Single\",IF('Outil Recensement'!AP78=\"F\",\"Family\",\"\"))))","v":""},{"$f":"IF('Outil Recensement'!AQ78>0,'Outil Recensement'!AQ78,\"\")","v":""},{"$f":"IF('Outil Recensement'!AR78=\"Yes\",\"Yes\",IF('Outil Recensement'!AR78=\"No\",\"No\",IF('Outil Recensement'!AR78=\"Y\",\"Yes\",IF('Outil Recensement'!AR78=\"N\",\"No\",\"\"))))","v":""},{"$f":"IF('Outil Recensement'!AS78>0,'Outil Recensement'!AS78,\"\")","v":""},{"$f":"IF('Outil Recensement'!AT78>0,'Outil Recensement'!AT78,\"\")","v":""},{"$f":"IF('Outil Recensement'!AU78>0,'Outil Recensement'!AU78,\"\")","v":""},{"$f":"IF('Outil Recensement'!AV78=\"Male\",\"Male\",IF('Outil Recensement'!AV78=\"Female\",\"Female\",IF('Outil Recensement'!AV78=\"M\",\"Male\",IF('Outil Recensement'!AV78=\"F\",\"Female\",\"\"))))","v":""},{"$f":"IF('Outil Recensement'!AW78=\"Yes\",\"Yes\",IF('Outil Recensement'!AW78=\"No\",\"No\",IF('Outil Recensement'!AW78=\"Y\",\"Yes\",IF('Outil Recensement'!AW78=\"N\",\"No\",\"\"))))","v":""},{"$f":"IF('Outil Recensement'!AX78=\"Yes\",\"Yes\",IF('Outil Recensement'!AX78=\"No\",\"No\",IF('Outil Recensement'!AX78=\"Y\",\"Yes\",IF('Outil Recensement'!AX78=\"N\",\"No\",\"\"))))","v":""},{"$f":"IF('Outil Recensement'!AY78>0,'Outil Recensement'!AY78,\"\")","v":""},{"$f":"IF('Outil Recensement'!AZ78>0,'Outil Recensement'!AZ78,\"\")","v":""},{"$f":"IF('Outil Recensement'!BA78>0,'Outil Recensement'!BA78,\"\")","v":""},{"$f":"IF('Outil Recensement'!BB78=\"Male\",\"Male\",IF('Outil Recensement'!BB78=\"Female\",\"Female\",IF('Outil Recensement'!BB78=\"M\",\"Male\",IF('Outil Recensement'!BB78=\"F\",\"Female\",\"\"))))","v":""},{"$f":"IF('Outil Recensement'!BC78=\"Yes\",\"Yes\",IF('Outil Recensement'!BC78=\"No\",\"No\",IF('Outil Recensement'!BC78=\"Y\",\"Yes\",IF('Outil Recensement'!BC78=\"N\",\"No\",\"\"))))","v":""},{"$f":"IF('Outil Recensement'!BD78=\"Yes\",\"Yes\",IF('Outil Recensement'!BD78=\"No\",\"No\",IF('Outil Recensement'!BD78=\"Y\",\"Yes\",IF('Outil Recensement'!BD78=\"N\",\"No\",\"\"))))","v":""},{"$f":"IF('Outil Recensement'!BE78>0,'Outil Recensement'!BE78,\"\")","v":""},{"$f":"IF('Outil Recensement'!BF78>0,'Outil Recensement'!BF78,\"\")","v":""},{"$f":"IF('Outil Recensement'!BG78>0,'Outil Recensement'!BG78,\"\")","v":""},{"$f":"IF('Outil Recensement'!BH78=\"Male\",\"Male\",IF('Outil Recensement'!BH78=\"Female\",\"Female\",IF('Outil Recensement'!BH78=\"M\",\"Male\",IF('Outil Recensement'!BH78=\"F\",\"Female\",\"\"))))","v":""},{"$f":"IF('Outil Recensement'!BI78=\"Yes\",\"Yes\",IF('Outil Recensement'!BI78=\"No\",\"No\",IF('Outil Recensement'!BI78=\"Y\",\"Yes\",IF('Outil Recensement'!BI78=\"N\",\"No\",\"\"))))","v":""},{"$f":"IF('Outil Recensement'!BJ78=\"Yes\",\"Yes\",IF('Outil Recensement'!BJ78=\"No\",\"No\",IF('Outil Recensement'!BJ78=\"Y\",\"Yes\",IF('Outil Recensement'!BJ78=\"N\",\"No\",\"\"))))","v":""},{"$f":"IF('Outil Recensement'!BK78>0,'Outil Recensement'!BK78,\"\")","v":""},{"$f":"IF('Outil Recensement'!BL78>0,'Outil Recensement'!BL78,\"\")","v":""},{"$f":"IF('Outil Recensement'!BM78>0,'Outil Recensement'!BM78,\"\")","v":""},{"$f":"IF('Outil Recensement'!BN78=\"Male\",\"Male\",IF('Outil Recensement'!BN78=\"Female\",\"Female\",IF('Outil Recensement'!BN78=\"M\",\"Male\",IF('Outil Recensement'!BN78=\"F\",\"Female\",\"\"))))","v":""},{"$f":"IF('Outil Recensement'!BO78=\"Yes\",\"Yes\",IF('Outil Recensement'!BO78=\"No\",\"No\",IF('Outil Recensement'!BO78=\"Y\",\"Yes\",IF('Outil Recensement'!BO78=\"N\",\"No\",\"\"))))","v":""},{"$f":"IF('Outil Recensement'!BP78=\"Yes\",\"Yes\",IF('Outil Recensement'!BP78=\"No\",\"No\",IF('Outil Recensement'!BP78=\"Y\",\"Yes\",IF('Outil Recensement'!BP78=\"N\",\"No\",\"\"))))","v":""},{"$f":"IF('Outil Recensement'!BQ78>0,'Outil Recensement'!BQ78,\"\")","v":""},{"$f":"IF('Outil Recensement'!BR78>0,'Outil Recensement'!BR78,\"\")","v":""},{"$f":"IF('Outil Recensement'!BS78>0,'Outil Recensement'!BS78,\"\")","v":""},{"$f":"IF('Outil Recensement'!BT78=\"Male\",\"Male\",IF('Outil Recensement'!BT78=\"Female\",\"Female\",IF('Outil Recensement'!BT78=\"M\",\"Male\",IF('Outil Recensement'!BT78=\"F\",\"Female\",\"\"))))","v":""},{"$f":"IF('Outil Recensement'!BU78=\"Yes\",\"Yes\",IF('Outil Recensement'!BU78=\"No\",\"No\",IF('Outil Recensement'!BU78=\"Y\",\"Yes\",IF('Outil Recensement'!BU78=\"N\",\"No\",\"\"))))","v":""},{"$f":"IF('Outil Recensement'!BV78=\"Yes\",\"Yes\",IF('Outil Recensement'!BV78=\"No\",\"No\",IF('Outil Recensement'!BV78=\"Y\",\"Yes\",IF('Outil Recensement'!BV78=\"N\",\"No\",\"\"))))","v":""},{"$f":"IF('Outil Recensement'!BW78>0,'Outil Recensement'!BW78,\"\")","v":""},{"$f":"IF('Outil Recensement'!BX78>0,'Outil Recensement'!BX78,\"\")","v":""},{"$f":"IF('Outil Recensement'!BY78>0,'Outil Recensement'!BY78,\"\")","v":""},{"$f":"IF('Outil Recensement'!BZ78=\"Male\",\"Male\",IF('Outil Recensement'!BZ78=\"Female\",\"Female\",IF('Outil Recensement'!BZ78=\"M\",\"Male\",IF('Outil Recensement'!BZ78=\"F\",\"Female\",\"\"))))","v":""},{"$f":"IF('Outil Recensement'!CA78=\"Yes\",\"Yes\",IF('Outil Recensement'!CA78=\"No\",\"No\",IF('Outil Recensement'!CA78=\"Y\",\"Yes\",IF('Outil Recensement'!CA78=\"N\",\"No\",\"\"))))","v":""},{"$f":"IF('Outil Recensement'!CB78=\"Yes\",\"Yes\",IF('Outil Recensement'!CB78=\"No\",\"No\",IF('Outil Recensement'!CB78=\"Y\",\"Yes\",IF('Outil Recensement'!CB78=\"N\",\"No\",\"\"))))","v":""},{"$f":"IF('Outil Recensement'!CH78>0,'Outil Recensement'!CH78,\"\")","v":"    "}]
[{"$f":"IF('Outil Recensement'!A79>0,'Outil Recensement'!A79,\"\")","v":""},{"$f":"IF('Outil Recensement'!B79>0,'Outil Recensement'!B79,\"\")","v":""},{"$f":"IF('Outil Recensement'!C79>0,'Outil Recensement'!C79,\"\")","v":""},{"$f":"IF('Outil Recensement'!D79>0,'Outil Recensement'!D79,\"\")","v":""},{"$f":"IF('Outil Recensement'!P79>0,TEXT('Outil Recensement'!P79,\"000\"),\"\")","v":""},{"$f":"IF('Outil Recensement'!Q79>0,'Outil Recensement'!Q79,\"\")","v":""},{"$f":"IF('Outil Recensement'!R79>0,'Outil Recensement'!R79,\"\")","v":""},{"$f":"IF('Outil Recensement'!F79>0,DATEVALUE(TEXT('Outil Recensement'!F79,\"yyyy-mm-dd\")),\"\")","v":""},{"$f":"IF('Outil Recensement'!L79>0,DATEVALUE(TEXT('Outil Recensement'!L79,\"yyyy-mm-dd\")),\"\")","v":""},{"$f":"IF('Outil Recensement'!Y79>0,'Outil Recensement'!Y79,\"\")","v":""},{"$f":"IF('Outil Recensement'!T79>0,'Outil Recensement'!T79,\"\")","v":""},{"$f":"IF('Outil Recensement'!G79=\"Homme\",\"Male\",IF('Outil Recensement'!G79=\"Femme\",\"Female\",IF('Outil Recensement'!G79=\"H\",\"Male\",IF('Outil Recensement'!G79=\"F\",\"Female\",\"\"))))","v":""},{"$f":"IF('Outil Recensement'!U79=\"Yes\",\"Yes\",IF('Outil Recensement'!U79=\"No\",\"No\",IF('Outil Recensement'!U79=\"Y\",\"Yes\",IF('Outil Recensement'!U79=\"N\",\"No\",\"\"))))","v":""},{"$f":"IF('Outil Recensement'!I79=\"Individuelle\",\"Single\",IF('Outil Recensement'!I79=\"Familiale\",\"Family\",IF('Outil Recensement'!I79=\"Refus\",\"Family\",IF('Outil Recensement'!I79=\"Parent seul\",\"Family\",IF('Outil Recensement'!I79=\"Couple\",\"Family\",IF('Outil Recensement'!I79=\"In force\",\"Family\",IF('Outil Recensement'!I79=\"Applies\",\"Family\",IF('Outil Recensement'!I79=\"Applicable\",\"Family\",\"\"))))))))","v":""},{"$f":"IF('Outil Recensement'!AC79=\"Anglais\",\"English\",IF('Outil Recensement'!AC79=\"Français\",\"French\",IF('Outil Recensement'!AC79=\"A\",\"English\",IF('Outil Recensement'!AC79=\"F\",\"French\",\"\"))))","v":""},{"$f":"IF('Outil Recensement'!AB79=\"Oui\",\"Yes\",IF('Outil Recensement'!AB79=\"Non\",\"No\",IF('Outil Recensement'!AB79=\"O\",\"Yes\",IF('Outil Recensement'!AB79=\"N\",\"No\",\"\"))))","v":""},{"$f":"IF('Outil Recensement'!AD79>0,'Outil Recensement'!AD79,\"\")","v":""},{"$f":"IF('Outil Recensement'!M79=\"Annuel\",\"Annually\",IF('Outil Recensement'!M79=\"Mensuel\",\"Monthly\",IF('Outil Recensement'!M79=\"Bihebdomadaire\",\"Biweekly\",IF('Outil Recensement'!M79=\"Hebdomadaire\",\"Weekly\",IF('Outil Recensement'!M79=\"Horaire\",\"Hourly\",IF('Outil Recensement'!M79=\"Semi-mensuel\",\"Semi-monthly\",IF('Outil Recensement'!M79=\"Applies\",\"Annual\",IF('Outil Recensement'!M79=\"Applicable\",\"Annual\",\"\"))))))))","v":""},{"$f":"IF('Outil Recensement'!N79>0,'Outil Recensement'!N79,\"\")","v":""},{"$f":"IF('Outil Recensement'!O79>0,'Outil Recensement'!O79,\"\")","v":""},{"$f":"IF('Outil Recensement'!I79=\"Refus\",\"Yes\",\"\")","v":""},{"$f":"IF('Outil Recensement'!I79=\"Refus\",\"Yes\",\"\")","v":""},{"$f":"IF('Outil Recensement'!AE79>0,'Outil Recensement'!AE79,\"\")","v":""},{"$f":"IF('Outil Recensement'!AF79>0,'Outil Recensement'!AF79,\"\")","v":""},{"$f":"IF('Outil Recensement'!AG79>0,'Outil Recensement'!AG79,\"\")","v":""},{"$f":"IF('Outil Recensement'!AH79>0,'Outil Recensement'!AH79,\"\")","v":""},{"$f":"IF('Outil Recensement'!AI79>0,'Outil Recensement'!AI79,\"\")","v":" "},{"$f":"IF('Outil Recensement'!AJ79>0,'Outil Recensement'!AJ79,\"\")","v":" "},{"$f":"IF('Outil Recensement'!W79>0,'Outil Recensement'!W79&\" \",\"\")&IF('Outil Recensement'!V79>0,'Outil Recensement'!V79,\"\")","v":""},null,{"$f":"IF('Outil Recensement'!X79>0,'Outil Recensement'!X79,\"\")","v":""},{"$f":"IF('Outil Recensement'!Y79>0,'Outil Recensement'!Y79,\"\")","v":""},{"$f":"IF('Outil Recensement'!Z79>0,'Outil Recensement'!Z79,\"\")","v":""},{"$f":"IF('Outil Recensement'!AA79>0,'Outil Recensement'!AA79,\"\")","v":""},{"$f":"IF('Outil Recensement'!E79>0,'Outil Recensement'!E79,\"\")","v":""},{"$f":"IF('Outil Recensement'!AK79>0,'Outil Recensement'!AK79,\"\")","v":""},{"$f":"IF('Outil Recensement'!AL79>0,'Outil Recensement'!AL79,\"\")","v":""},{"$f":"IF('Outil Recensement'!AM79>0,'Outil Recensement'!AM79,\"\")","v":""},{"$f":"IF('Outil Recensement'!AN79=\"Male\",\"Male\",IF('Outil Recensement'!AN79=\"Female\",\"Female\",IF('Outil Recensement'!AN79=\"M\",\"Male\",IF('Outil Recensement'!AN79=\"F\",\"Female\",\"\"))))","v":""},{"$f":"IF('Outil Recensement'!AO79=\"Single\",\"Single\",IF('Outil Recensement'!AO79=\"Family\",\"Family\",IF('Outil Recensement'!AO79=\"S\",\"Single\",IF('Outil Recensement'!AO79=\"F\",\"Family\",\"\"))))","v":""},{"$f":"IF('Outil Recensement'!AP79=\"Single\",\"Single\",IF('Outil Recensement'!AP79=\"Family\",\"Family\",IF('Outil Recensement'!AP79=\"S\",\"Single\",IF('Outil Recensement'!AP79=\"F\",\"Family\",\"\"))))","v":""},{"$f":"IF('Outil Recensement'!AQ79>0,'Outil Recensement'!AQ79,\"\")","v":""},{"$f":"IF('Outil Recensement'!AR79=\"Yes\",\"Yes\",IF('Outil Recensement'!AR79=\"No\",\"No\",IF('Outil Recensement'!AR79=\"Y\",\"Yes\",IF('Outil Recensement'!AR79=\"N\",\"No\",\"\"))))","v":""},{"$f":"IF('Outil Recensement'!AS79>0,'Outil Recensement'!AS79,\"\")","v":""},{"$f":"IF('Outil Recensement'!AT79>0,'Outil Recensement'!AT79,\"\")","v":""},{"$f":"IF('Outil Recensement'!AU79>0,'Outil Recensement'!AU79,\"\")","v":""},{"$f":"IF('Outil Recensement'!AV79=\"Male\",\"Male\",IF('Outil Recensement'!AV79=\"Female\",\"Female\",IF('Outil Recensement'!AV79=\"M\",\"Male\",IF('Outil Recensement'!AV79=\"F\",\"Female\",\"\"))))","v":""},{"$f":"IF('Outil Recensement'!AW79=\"Yes\",\"Yes\",IF('Outil Recensement'!AW79=\"No\",\"No\",IF('Outil Recensement'!AW79=\"Y\",\"Yes\",IF('Outil Recensement'!AW79=\"N\",\"No\",\"\"))))","v":""},{"$f":"IF('Outil Recensement'!AX79=\"Yes\",\"Yes\",IF('Outil Recensement'!AX79=\"No\",\"No\",IF('Outil Recensement'!AX79=\"Y\",\"Yes\",IF('Outil Recensement'!AX79=\"N\",\"No\",\"\"))))","v":""},{"$f":"IF('Outil Recensement'!AY79>0,'Outil Recensement'!AY79,\"\")","v":""},{"$f":"IF('Outil Recensement'!AZ79>0,'Outil Recensement'!AZ79,\"\")","v":""},{"$f":"IF('Outil Recensement'!BA79>0,'Outil Recensement'!BA79,\"\")","v":""},{"$f":"IF('Outil Recensement'!BB79=\"Male\",\"Male\",IF('Outil Recensement'!BB79=\"Female\",\"Female\",IF('Outil Recensement'!BB79=\"M\",\"Male\",IF('Outil Recensement'!BB79=\"F\",\"Female\",\"\"))))","v":""},{"$f":"IF('Outil Recensement'!BC79=\"Yes\",\"Yes\",IF('Outil Recensement'!BC79=\"No\",\"No\",IF('Outil Recensement'!BC79=\"Y\",\"Yes\",IF('Outil Recensement'!BC79=\"N\",\"No\",\"\"))))","v":""},{"$f":"IF('Outil Recensement'!BD79=\"Yes\",\"Yes\",IF('Outil Recensement'!BD79=\"No\",\"No\",IF('Outil Recensement'!BD79=\"Y\",\"Yes\",IF('Outil Recensement'!BD79=\"N\",\"No\",\"\"))))","v":""},{"$f":"IF('Outil Recensement'!BE79>0,'Outil Recensement'!BE79,\"\")","v":""},{"$f":"IF('Outil Recensement'!BF79>0,'Outil Recensement'!BF79,\"\")","v":""},{"$f":"IF('Outil Recensement'!BG79>0,'Outil Recensement'!BG79,\"\")","v":""},{"$f":"IF('Outil Recensement'!BH79=\"Male\",\"Male\",IF('Outil Recensement'!BH79=\"Female\",\"Female\",IF('Outil Recensement'!BH79=\"M\",\"Male\",IF('Outil Recensement'!BH79=\"F\",\"Female\",\"\"))))","v":""},{"$f":"IF('Outil Recensement'!BI79=\"Yes\",\"Yes\",IF('Outil Recensement'!BI79=\"No\",\"No\",IF('Outil Recensement'!BI79=\"Y\",\"Yes\",IF('Outil Recensement'!BI79=\"N\",\"No\",\"\"))))","v":""},{"$f":"IF('Outil Recensement'!BJ79=\"Yes\",\"Yes\",IF('Outil Recensement'!BJ79=\"No\",\"No\",IF('Outil Recensement'!BJ79=\"Y\",\"Yes\",IF('Outil Recensement'!BJ79=\"N\",\"No\",\"\"))))","v":""},{"$f":"IF('Outil Recensement'!BK79>0,'Outil Recensement'!BK79,\"\")","v":""},{"$f":"IF('Outil Recensement'!BL79>0,'Outil Recensement'!BL79,\"\")","v":""},{"$f":"IF('Outil Recensement'!BM79>0,'Outil Recensement'!BM79,\"\")","v":""},{"$f":"IF('Outil Recensement'!BN79=\"Male\",\"Male\",IF('Outil Recensement'!BN79=\"Female\",\"Female\",IF('Outil Recensement'!BN79=\"M\",\"Male\",IF('Outil Recensement'!BN79=\"F\",\"Female\",\"\"))))","v":""},{"$f":"IF('Outil Recensement'!BO79=\"Yes\",\"Yes\",IF('Outil Recensement'!BO79=\"No\",\"No\",IF('Outil Recensement'!BO79=\"Y\",\"Yes\",IF('Outil Recensement'!BO79=\"N\",\"No\",\"\"))))","v":""},{"$f":"IF('Outil Recensement'!BP79=\"Yes\",\"Yes\",IF('Outil Recensement'!BP79=\"No\",\"No\",IF('Outil Recensement'!BP79=\"Y\",\"Yes\",IF('Outil Recensement'!BP79=\"N\",\"No\",\"\"))))","v":""},{"$f":"IF('Outil Recensement'!BQ79>0,'Outil Recensement'!BQ79,\"\")","v":""},{"$f":"IF('Outil Recensement'!BR79>0,'Outil Recensement'!BR79,\"\")","v":""},{"$f":"IF('Outil Recensement'!BS79>0,'Outil Recensement'!BS79,\"\")","v":""},{"$f":"IF('Outil Recensement'!BT79=\"Male\",\"Male\",IF('Outil Recensement'!BT79=\"Female\",\"Female\",IF('Outil Recensement'!BT79=\"M\",\"Male\",IF('Outil Recensement'!BT79=\"F\",\"Female\",\"\"))))","v":""},{"$f":"IF('Outil Recensement'!BU79=\"Yes\",\"Yes\",IF('Outil Recensement'!BU79=\"No\",\"No\",IF('Outil Recensement'!BU79=\"Y\",\"Yes\",IF('Outil Recensement'!BU79=\"N\",\"No\",\"\"))))","v":""},{"$f":"IF('Outil Recensement'!BV79=\"Yes\",\"Yes\",IF('Outil Recensement'!BV79=\"No\",\"No\",IF('Outil Recensement'!BV79=\"Y\",\"Yes\",IF('Outil Recensement'!BV79=\"N\",\"No\",\"\"))))","v":""},{"$f":"IF('Outil Recensement'!BW79>0,'Outil Recensement'!BW79,\"\")","v":""},{"$f":"IF('Outil Recensement'!BX79>0,'Outil Recensement'!BX79,\"\")","v":""},{"$f":"IF('Outil Recensement'!BY79>0,'Outil Recensement'!BY79,\"\")","v":""},{"$f":"IF('Outil Recensement'!BZ79=\"Male\",\"Male\",IF('Outil Recensement'!BZ79=\"Female\",\"Female\",IF('Outil Recensement'!BZ79=\"M\",\"Male\",IF('Outil Recensement'!BZ79=\"F\",\"Female\",\"\"))))","v":""},{"$f":"IF('Outil Recensement'!CA79=\"Yes\",\"Yes\",IF('Outil Recensement'!CA79=\"No\",\"No\",IF('Outil Recensement'!CA79=\"Y\",\"Yes\",IF('Outil Recensement'!CA79=\"N\",\"No\",\"\"))))","v":""},{"$f":"IF('Outil Recensement'!CB79=\"Yes\",\"Yes\",IF('Outil Recensement'!CB79=\"No\",\"No\",IF('Outil Recensement'!CB79=\"Y\",\"Yes\",IF('Outil Recensement'!CB79=\"N\",\"No\",\"\"))))","v":""},{"$f":"IF('Outil Recensement'!CH79>0,'Outil Recensement'!CH79,\"\")","v":"    "}]
[{"$f":"IF('Outil Recensement'!A80>0,'Outil Recensement'!A80,\"\")","v":""},{"$f":"IF('Outil Recensement'!B80>0,'Outil Recensement'!B80,\"\")","v":""},{"$f":"IF('Outil Recensement'!C80>0,'Outil Recensement'!C80,\"\")","v":""},{"$f":"IF('Outil Recensement'!D80>0,'Outil Recensement'!D80,\"\")","v":""},{"$f":"IF('Outil Recensement'!P80>0,TEXT('Outil Recensement'!P80,\"000\"),\"\")","v":""},{"$f":"IF('Outil Recensement'!Q80>0,'Outil Recensement'!Q80,\"\")","v":""},{"$f":"IF('Outil Recensement'!R80>0,'Outil Recensement'!R80,\"\")","v":""},{"$f":"IF('Outil Recensement'!F80>0,DATEVALUE(TEXT('Outil Recensement'!F80,\"yyyy-mm-dd\")),\"\")","v":""},{"$f":"IF('Outil Recensement'!L80>0,DATEVALUE(TEXT('Outil Recensement'!L80,\"yyyy-mm-dd\")),\"\")","v":""},{"$f":"IF('Outil Recensement'!Y80>0,'Outil Recensement'!Y80,\"\")","v":""},{"$f":"IF('Outil Recensement'!T80>0,'Outil Recensement'!T80,\"\")","v":""},{"$f":"IF('Outil Recensement'!G80=\"Homme\",\"Male\",IF('Outil Recensement'!G80=\"Femme\",\"Female\",IF('Outil Recensement'!G80=\"H\",\"Male\",IF('Outil Recensement'!G80=\"F\",\"Female\",\"\"))))","v":""},{"$f":"IF('Outil Recensement'!U80=\"Yes\",\"Yes\",IF('Outil Recensement'!U80=\"No\",\"No\",IF('Outil Recensement'!U80=\"Y\",\"Yes\",IF('Outil Recensement'!U80=\"N\",\"No\",\"\"))))","v":""},{"$f":"IF('Outil Recensement'!I80=\"Individuelle\",\"Single\",IF('Outil Recensement'!I80=\"Familiale\",\"Family\",IF('Outil Recensement'!I80=\"Refus\",\"Family\",IF('Outil Recensement'!I80=\"Parent seul\",\"Family\",IF('Outil Recensement'!I80=\"Couple\",\"Family\",IF('Outil Recensement'!I80=\"In force\",\"Family\",IF('Outil Recensement'!I80=\"Applies\",\"Family\",IF('Outil Recensement'!I80=\"Applicable\",\"Family\",\"\"))))))))","v":""},{"$f":"IF('Outil Recensement'!AC80=\"Anglais\",\"English\",IF('Outil Recensement'!AC80=\"Français\",\"French\",IF('Outil Recensement'!AC80=\"A\",\"English\",IF('Outil Recensement'!AC80=\"F\",\"French\",\"\"))))","v":""},{"$f":"IF('Outil Recensement'!AB80=\"Oui\",\"Yes\",IF('Outil Recensement'!AB80=\"Non\",\"No\",IF('Outil Recensement'!AB80=\"O\",\"Yes\",IF('Outil Recensement'!AB80=\"N\",\"No\",\"\"))))","v":""},{"$f":"IF('Outil Recensement'!AD80>0,'Outil Recensement'!AD80,\"\")","v":""},{"$f":"IF('Outil Recensement'!M80=\"Annuel\",\"Annually\",IF('Outil Recensement'!M80=\"Mensuel\",\"Monthly\",IF('Outil Recensement'!M80=\"Bihebdomadaire\",\"Biweekly\",IF('Outil Recensement'!M80=\"Hebdomadaire\",\"Weekly\",IF('Outil Recensement'!M80=\"Horaire\",\"Hourly\",IF('Outil Recensement'!M80=\"Semi-mensuel\",\"Semi-monthly\",IF('Outil Recensement'!M80=\"Applies\",\"Annual\",IF('Outil Recensement'!M80=\"Applicable\",\"Annual\",\"\"))))))))","v":""},{"$f":"IF('Outil Recensement'!N80>0,'Outil Recensement'!N80,\"\")","v":""},{"$f":"IF('Outil Recensement'!O80>0,'Outil Recensement'!O80,\"\")","v":""},{"$f":"IF('Outil Recensement'!I80=\"Refus\",\"Yes\",\"\")","v":""},{"$f":"IF('Outil Recensement'!I80=\"Refus\",\"Yes\",\"\")","v":""},{"$f":"IF('Outil Recensement'!AE80>0,'Outil Recensement'!AE80,\"\")","v":""},{"$f":"IF('Outil Recensement'!AF80>0,'Outil Recensement'!AF80,\"\")","v":""},{"$f":"IF('Outil Recensement'!AG80>0,'Outil Recensement'!AG80,\"\")","v":""},{"$f":"IF('Outil Recensement'!AH80>0,'Outil Recensement'!AH80,\"\")","v":""},{"$f":"IF('Outil Recensement'!AI80>0,'Outil Recensement'!AI80,\"\")","v":" "},{"$f":"IF('Outil Recensement'!AJ80>0,'Outil Recensement'!AJ80,\"\")","v":" "},{"$f":"IF('Outil Recensement'!W80>0,'Outil Recensement'!W80&\" \",\"\")&IF('Outil Recensement'!V80>0,'Outil Recensement'!V80,\"\")","v":""},null,{"$f":"IF('Outil Recensement'!X80>0,'Outil Recensement'!X80,\"\")","v":""},{"$f":"IF('Outil Recensement'!Y80>0,'Outil Recensement'!Y80,\"\")","v":""},{"$f":"IF('Outil Recensement'!Z80>0,'Outil Recensement'!Z80,\"\")","v":""},{"$f":"IF('Outil Recensement'!AA80>0,'Outil Recensement'!AA80,\"\")","v":""},{"$f":"IF('Outil Recensement'!E80>0,'Outil Recensement'!E80,\"\")","v":""},{"$f":"IF('Outil Recensement'!AK80>0,'Outil Recensement'!AK80,\"\")","v":""},{"$f":"IF('Outil Recensement'!AL80>0,'Outil Recensement'!AL80,\"\")","v":""},{"$f":"IF('Outil Recensement'!AM80>0,'Outil Recensement'!AM80,\"\")","v":""},{"$f":"IF('Outil Recensement'!AN80=\"Male\",\"Male\",IF('Outil Recensement'!AN80=\"Female\",\"Female\",IF('Outil Recensement'!AN80=\"M\",\"Male\",IF('Outil Recensement'!AN80=\"F\",\"Female\",\"\"))))","v":""},{"$f":"IF('Outil Recensement'!AO80=\"Single\",\"Single\",IF('Outil Recensement'!AO80=\"Family\",\"Family\",IF('Outil Recensement'!AO80=\"S\",\"Single\",IF('Outil Recensement'!AO80=\"F\",\"Family\",\"\"))))","v":""},{"$f":"IF('Outil Recensement'!AP80=\"Single\",\"Single\",IF('Outil Recensement'!AP80=\"Family\",\"Family\",IF('Outil Recensement'!AP80=\"S\",\"Single\",IF('Outil Recensement'!AP80=\"F\",\"Family\",\"\"))))","v":""},{"$f":"IF('Outil Recensement'!AQ80>0,'Outil Recensement'!AQ80,\"\")","v":""},{"$f":"IF('Outil Recensement'!AR80=\"Yes\",\"Yes\",IF('Outil Recensement'!AR80=\"No\",\"No\",IF('Outil Recensement'!AR80=\"Y\",\"Yes\",IF('Outil Recensement'!AR80=\"N\",\"No\",\"\"))))","v":""},{"$f":"IF('Outil Recensement'!AS80>0,'Outil Recensement'!AS80,\"\")","v":""},{"$f":"IF('Outil Recensement'!AT80>0,'Outil Recensement'!AT80,\"\")","v":""},{"$f":"IF('Outil Recensement'!AU80>0,'Outil Recensement'!AU80,\"\")","v":""},{"$f":"IF('Outil Recensement'!AV80=\"Male\",\"Male\",IF('Outil Recensement'!AV80=\"Female\",\"Female\",IF('Outil Recensement'!AV80=\"M\",\"Male\",IF('Outil Recensement'!AV80=\"F\",\"Female\",\"\"))))","v":""},{"$f":"IF('Outil Recensement'!AW80=\"Yes\",\"Yes\",IF('Outil Recensement'!AW80=\"No\",\"No\",IF('Outil Recensement'!AW80=\"Y\",\"Yes\",IF('Outil Recensement'!AW80=\"N\",\"No\",\"\"))))","v":""},{"$f":"IF('Outil Recensement'!AX80=\"Yes\",\"Yes\",IF('Outil Recensement'!AX80=\"No\",\"No\",IF('Outil Recensement'!AX80=\"Y\",\"Yes\",IF('Outil Recensement'!AX80=\"N\",\"No\",\"\"))))","v":""},{"$f":"IF('Outil Recensement'!AY80>0,'Outil Recensement'!AY80,\"\")","v":""},{"$f":"IF('Outil Recensement'!AZ80>0,'Outil Recensement'!AZ80,\"\")","v":""},{"$f":"IF('Outil Recensement'!BA80>0,'Outil Recensement'!BA80,\"\")","v":""},{"$f":"IF('Outil Recensement'!BB80=\"Male\",\"Male\",IF('Outil Recensement'!BB80=\"Female\",\"Female\",IF('Outil Recensement'!BB80=\"M\",\"Male\",IF('Outil Recensement'!BB80=\"F\",\"Female\",\"\"))))","v":""},{"$f":"IF('Outil Recensement'!BC80=\"Yes\",\"Yes\",IF('Outil Recensement'!BC80=\"No\",\"No\",IF('Outil Recensement'!BC80=\"Y\",\"Yes\",IF('Outil Recensement'!BC80=\"N\",\"No\",\"\"))))","v":""},{"$f":"IF('Outil Recensement'!BD80=\"Yes\",\"Yes\",IF('Outil Recensement'!BD80=\"No\",\"No\",IF('Outil Recensement'!BD80=\"Y\",\"Yes\",IF('Outil Recensement'!BD80=\"N\",\"No\",\"\"))))","v":""},{"$f":"IF('Outil Recensement'!BE80>0,'Outil Recensement'!BE80,\"\")","v":""},{"$f":"IF('Outil Recensement'!BF80>0,'Outil Recensement'!BF80,\"\")","v":""},{"$f":"IF('Outil Recensement'!BG80>0,'Outil Recensement'!BG80,\"\")","v":""},{"$f":"IF('Outil Recensement'!BH80=\"Male\",\"Male\",IF('Outil Recensement'!BH80=\"Female\",\"Female\",IF('Outil Recensement'!BH80=\"M\",\"Male\",IF('Outil Recensement'!BH80=\"F\",\"Female\",\"\"))))","v":""},{"$f":"IF('Outil Recensement'!BI80=\"Yes\",\"Yes\",IF('Outil Recensement'!BI80=\"No\",\"No\",IF('Outil Recensement'!BI80=\"Y\",\"Yes\",IF('Outil Recensement'!BI80=\"N\",\"No\",\"\"))))","v":""},{"$f":"IF('Outil Recensement'!BJ80=\"Yes\",\"Yes\",IF('Outil Recensement'!BJ80=\"No\",\"No\",IF('Outil Recensement'!BJ80=\"Y\",\"Yes\",IF('Outil Recensement'!BJ80=\"N\",\"No\",\"\"))))","v":""},{"$f":"IF('Outil Recensement'!BK80>0,'Outil Recensement'!BK80,\"\")","v":""},{"$f":"IF('Outil Recensement'!BL80>0,'Outil Recensement'!BL80,\"\")","v":""},{"$f":"IF('Outil Recensement'!BM80>0,'Outil Recensement'!BM80,\"\")","v":""},{"$f":"IF('Outil Recensement'!BN80=\"Male\",\"Male\",IF('Outil Recensement'!BN80=\"Female\",\"Female\",IF('Outil Recensement'!BN80=\"M\",\"Male\",IF('Outil Recensement'!BN80=\"F\",\"Female\",\"\"))))","v":""},{"$f":"IF('Outil Recensement'!BO80=\"Yes\",\"Yes\",IF('Outil Recensement'!BO80=\"No\",\"No\",IF('Outil Recensement'!BO80=\"Y\",\"Yes\",IF('Outil Recensement'!BO80=\"N\",\"No\",\"\"))))","v":""},{"$f":"IF('Outil Recensement'!BP80=\"Yes\",\"Yes\",IF('Outil Recensement'!BP80=\"No\",\"No\",IF('Outil Recensement'!BP80=\"Y\",\"Yes\",IF('Outil Recensement'!BP80=\"N\",\"No\",\"\"))))","v":""},{"$f":"IF('Outil Recensement'!BQ80>0,'Outil Recensement'!BQ80,\"\")","v":""},{"$f":"IF('Outil Recensement'!BR80>0,'Outil Recensement'!BR80,\"\")","v":""},{"$f":"IF('Outil Recensement'!BS80>0,'Outil Recensement'!BS80,\"\")","v":""},{"$f":"IF('Outil Recensement'!BT80=\"Male\",\"Male\",IF('Outil Recensement'!BT80=\"Female\",\"Female\",IF('Outil Recensement'!BT80=\"M\",\"Male\",IF('Outil Recensement'!BT80=\"F\",\"Female\",\"\"))))","v":""},{"$f":"IF('Outil Recensement'!BU80=\"Yes\",\"Yes\",IF('Outil Recensement'!BU80=\"No\",\"No\",IF('Outil Recensement'!BU80=\"Y\",\"Yes\",IF('Outil Recensement'!BU80=\"N\",\"No\",\"\"))))","v":""},{"$f":"IF('Outil Recensement'!BV80=\"Yes\",\"Yes\",IF('Outil Recensement'!BV80=\"No\",\"No\",IF('Outil Recensement'!BV80=\"Y\",\"Yes\",IF('Outil Recensement'!BV80=\"N\",\"No\",\"\"))))","v":""},{"$f":"IF('Outil Recensement'!BW80>0,'Outil Recensement'!BW80,\"\")","v":""},{"$f":"IF('Outil Recensement'!BX80>0,'Outil Recensement'!BX80,\"\")","v":""},{"$f":"IF('Outil Recensement'!BY80>0,'Outil Recensement'!BY80,\"\")","v":""},{"$f":"IF('Outil Recensement'!BZ80=\"Male\",\"Male\",IF('Outil Recensement'!BZ80=\"Female\",\"Female\",IF('Outil Recensement'!BZ80=\"M\",\"Male\",IF('Outil Recensement'!BZ80=\"F\",\"Female\",\"\"))))","v":""},{"$f":"IF('Outil Recensement'!CA80=\"Yes\",\"Yes\",IF('Outil Recensement'!CA80=\"No\",\"No\",IF('Outil Recensement'!CA80=\"Y\",\"Yes\",IF('Outil Recensement'!CA80=\"N\",\"No\",\"\"))))","v":""},{"$f":"IF('Outil Recensement'!CB80=\"Yes\",\"Yes\",IF('Outil Recensement'!CB80=\"No\",\"No\",IF('Outil Recensement'!CB80=\"Y\",\"Yes\",IF('Outil Recensement'!CB80=\"N\",\"No\",\"\"))))","v":""},{"$f":"IF('Outil Recensement'!CH80>0,'Outil Recensement'!CH80,\"\")","v":"    "}]
[{"$f":"IF('Outil Recensement'!A81>0,'Outil Recensement'!A81,\"\")","v":""},{"$f":"IF('Outil Recensement'!B81>0,'Outil Recensement'!B81,\"\")","v":""},{"$f":"IF('Outil Recensement'!C81>0,'Outil Recensement'!C81,\"\")","v":""},{"$f":"IF('Outil Recensement'!D81>0,'Outil Recensement'!D81,\"\")","v":""},{"$f":"IF('Outil Recensement'!P81>0,TEXT('Outil Recensement'!P81,\"000\"),\"\")","v":""},{"$f":"IF('Outil Recensement'!Q81>0,'Outil Recensement'!Q81,\"\")","v":""},{"$f":"IF('Outil Recensement'!R81>0,'Outil Recensement'!R81,\"\")","v":""},{"$f":"IF('Outil Recensement'!F81>0,DATEVALUE(TEXT('Outil Recensement'!F81,\"yyyy-mm-dd\")),\"\")","v":""},{"$f":"IF('Outil Recensement'!L81>0,DATEVALUE(TEXT('Outil Recensement'!L81,\"yyyy-mm-dd\")),\"\")","v":""},{"$f":"IF('Outil Recensement'!Y81>0,'Outil Recensement'!Y81,\"\")","v":""},{"$f":"IF('Outil Recensement'!T81>0,'Outil Recensement'!T81,\"\")","v":""},{"$f":"IF('Outil Recensement'!G81=\"Homme\",\"Male\",IF('Outil Recensement'!G81=\"Femme\",\"Female\",IF('Outil Recensement'!G81=\"H\",\"Male\",IF('Outil Recensement'!G81=\"F\",\"Female\",\"\"))))","v":""},{"$f":"IF('Outil Recensement'!U81=\"Yes\",\"Yes\",IF('Outil Recensement'!U81=\"No\",\"No\",IF('Outil Recensement'!U81=\"Y\",\"Yes\",IF('Outil Recensement'!U81=\"N\",\"No\",\"\"))))","v":""},{"$f":"IF('Outil Recensement'!I81=\"Individuelle\",\"Single\",IF('Outil Recensement'!I81=\"Familiale\",\"Family\",IF('Outil Recensement'!I81=\"Refus\",\"Family\",IF('Outil Recensement'!I81=\"Parent seul\",\"Family\",IF('Outil Recensement'!I81=\"Couple\",\"Family\",IF('Outil Recensement'!I81=\"In force\",\"Family\",IF('Outil Recensement'!I81=\"Applies\",\"Family\",IF('Outil Recensement'!I81=\"Applicable\",\"Family\",\"\"))))))))","v":""},{"$f":"IF('Outil Recensement'!AC81=\"Anglais\",\"English\",IF('Outil Recensement'!AC81=\"Français\",\"French\",IF('Outil Recensement'!AC81=\"A\",\"English\",IF('Outil Recensement'!AC81=\"F\",\"French\",\"\"))))","v":""},{"$f":"IF('Outil Recensement'!AB81=\"Oui\",\"Yes\",IF('Outil Recensement'!AB81=\"Non\",\"No\",IF('Outil Recensement'!AB81=\"O\",\"Yes\",IF('Outil Recensement'!AB81=\"N\",\"No\",\"\"))))","v":""},{"$f":"IF('Outil Recensement'!AD81>0,'Outil Recensement'!AD81,\"\")","v":""},{"$f":"IF('Outil Recensement'!M81=\"Annuel\",\"Annually\",IF('Outil Recensement'!M81=\"Mensuel\",\"Monthly\",IF('Outil Recensement'!M81=\"Bihebdomadaire\",\"Biweekly\",IF('Outil Recensement'!M81=\"Hebdomadaire\",\"Weekly\",IF('Outil Recensement'!M81=\"Horaire\",\"Hourly\",IF('Outil Recensement'!M81=\"Semi-mensuel\",\"Semi-monthly\",IF('Outil Recensement'!M81=\"Applies\",\"Annual\",IF('Outil Recensement'!M81=\"Applicable\",\"Annual\",\"\"))))))))","v":""},{"$f":"IF('Outil Recensement'!N81>0,'Outil Recensement'!N81,\"\")","v":""},{"$f":"IF('Outil Recensement'!O81>0,'Outil Recensement'!O81,\"\")","v":""},{"$f":"IF('Outil Recensement'!I81=\"Refus\",\"Yes\",\"\")","v":""},{"$f":"IF('Outil Recensement'!I81=\"Refus\",\"Yes\",\"\")","v":""},{"$f":"IF('Outil Recensement'!AE81>0,'Outil Recensement'!AE81,\"\")","v":""},{"$f":"IF('Outil Recensement'!AF81>0,'Outil Recensement'!AF81,\"\")","v":""},{"$f":"IF('Outil Recensement'!AG81>0,'Outil Recensement'!AG81,\"\")","v":""},{"$f":"IF('Outil Recensement'!AH81>0,'Outil Recensement'!AH81,\"\")","v":""},{"$f":"IF('Outil Recensement'!AI81>0,'Outil Recensement'!AI81,\"\")","v":" "},{"$f":"IF('Outil Recensement'!AJ81>0,'Outil Recensement'!AJ81,\"\")","v":" "},{"$f":"IF('Outil Recensement'!W81>0,'Outil Recensement'!W81&\" \",\"\")&IF('Outil Recensement'!V81>0,'Outil Recensement'!V81,\"\")","v":""},null,{"$f":"IF('Outil Recensement'!X81>0,'Outil Recensement'!X81,\"\")","v":""},{"$f":"IF('Outil Recensement'!Y81>0,'Outil Recensement'!Y81,\"\")","v":""},{"$f":"IF('Outil Recensement'!Z81>0,'Outil Recensement'!Z81,\"\")","v":""},{"$f":"IF('Outil Recensement'!AA81>0,'Outil Recensement'!AA81,\"\")","v":""},{"$f":"IF('Outil Recensement'!E81>0,'Outil Recensement'!E81,\"\")","v":""},{"$f":"IF('Outil Recensement'!AK81>0,'Outil Recensement'!AK81,\"\")","v":""},{"$f":"IF('Outil Recensement'!AL81>0,'Outil Recensement'!AL81,\"\")","v":""},{"$f":"IF('Outil Recensement'!AM81>0,'Outil Recensement'!AM81,\"\")","v":""},{"$f":"IF('Outil Recensement'!AN81=\"Male\",\"Male\",IF('Outil Recensement'!AN81=\"Female\",\"Female\",IF('Outil Recensement'!AN81=\"M\",\"Male\",IF('Outil Recensement'!AN81=\"F\",\"Female\",\"\"))))","v":""},{"$f":"IF('Outil Recensement'!AO81=\"Single\",\"Single\",IF('Outil Recensement'!AO81=\"Family\",\"Family\",IF('Outil Recensement'!AO81=\"S\",\"Single\",IF('Outil Recensement'!AO81=\"F\",\"Family\",\"\"))))","v":""},{"$f":"IF('Outil Recensement'!AP81=\"Single\",\"Single\",IF('Outil Recensement'!AP81=\"Family\",\"Family\",IF('Outil Recensement'!AP81=\"S\",\"Single\",IF('Outil Recensement'!AP81=\"F\",\"Family\",\"\"))))","v":""},{"$f":"IF('Outil Recensement'!AQ81>0,'Outil Recensement'!AQ81,\"\")","v":""},{"$f":"IF('Outil Recensement'!AR81=\"Yes\",\"Yes\",IF('Outil Recensement'!AR81=\"No\",\"No\",IF('Outil Recensement'!AR81=\"Y\",\"Yes\",IF('Outil Recensement'!AR81=\"N\",\"No\",\"\"))))","v":""},{"$f":"IF('Outil Recensement'!AS81>0,'Outil Recensement'!AS81,\"\")","v":""},{"$f":"IF('Outil Recensement'!AT81>0,'Outil Recensement'!AT81,\"\")","v":""},{"$f":"IF('Outil Recensement'!AU81>0,'Outil Recensement'!AU81,\"\")","v":""},{"$f":"IF('Outil Recensement'!AV81=\"Male\",\"Male\",IF('Outil Recensement'!AV81=\"Female\",\"Female\",IF('Outil Recensement'!AV81=\"M\",\"Male\",IF('Outil Recensement'!AV81=\"F\",\"Female\",\"\"))))","v":""},{"$f":"IF('Outil Recensement'!AW81=\"Yes\",\"Yes\",IF('Outil Recensement'!AW81=\"No\",\"No\",IF('Outil Recensement'!AW81=\"Y\",\"Yes\",IF('Outil Recensement'!AW81=\"N\",\"No\",\"\"))))","v":""},{"$f":"IF('Outil Recensement'!AX81=\"Yes\",\"Yes\",IF('Outil Recensement'!AX81=\"No\",\"No\",IF('Outil Recensement'!AX81=\"Y\",\"Yes\",IF('Outil Recensement'!AX81=\"N\",\"No\",\"\"))))","v":""},{"$f":"IF('Outil Recensement'!AY81>0,'Outil Recensement'!AY81,\"\")","v":""},{"$f":"IF('Outil Recensement'!AZ81>0,'Outil Recensement'!AZ81,\"\")","v":""},{"$f":"IF('Outil Recensement'!BA81>0,'Outil Recensement'!BA81,\"\")","v":""},{"$f":"IF('Outil Recensement'!BB81=\"Male\",\"Male\",IF('Outil Recensement'!BB81=\"Female\",\"Female\",IF('Outil Recensement'!BB81=\"M\",\"Male\",IF('Outil Recensement'!BB81=\"F\",\"Female\",\"\"))))","v":""},{"$f":"IF('Outil Recensement'!BC81=\"Yes\",\"Yes\",IF('Outil Recensement'!BC81=\"No\",\"No\",IF('Outil Recensement'!BC81=\"Y\",\"Yes\",IF('Outil Recensement'!BC81=\"N\",\"No\",\"\"))))","v":""},{"$f":"IF('Outil Recensement'!BD81=\"Yes\",\"Yes\",IF('Outil Recensement'!BD81=\"No\",\"No\",IF('Outil Recensement'!BD81=\"Y\",\"Yes\",IF('Outil Recensement'!BD81=\"N\",\"No\",\"\"))))","v":""},{"$f":"IF('Outil Recensement'!BE81>0,'Outil Recensement'!BE81,\"\")","v":""},{"$f":"IF('Outil Recensement'!BF81>0,'Outil Recensement'!BF81,\"\")","v":""},{"$f":"IF('Outil Recensement'!BG81>0,'Outil Recensement'!BG81,\"\")","v":""},{"$f":"IF('Outil Recensement'!BH81=\"Male\",\"Male\",IF('Outil Recensement'!BH81=\"Female\",\"Female\",IF('Outil Recensement'!BH81=\"M\",\"Male\",IF('Outil Recensement'!BH81=\"F\",\"Female\",\"\"))))","v":""},{"$f":"IF('Outil Recensement'!BI81=\"Yes\",\"Yes\",IF('Outil Recensement'!BI81=\"No\",\"No\",IF('Outil Recensement'!BI81=\"Y\",\"Yes\",IF('Outil Recensement'!BI81=\"N\",\"No\",\"\"))))","v":""},{"$f":"IF('Outil Recensement'!BJ81=\"Yes\",\"Yes\",IF('Outil Recensement'!BJ81=\"No\",\"No\",IF('Outil Recensement'!BJ81=\"Y\",\"Yes\",IF('Outil Recensement'!BJ81=\"N\",\"No\",\"\"))))","v":""},{"$f":"IF('Outil Recensement'!BK81>0,'Outil Recensement'!BK81,\"\")","v":""},{"$f":"IF('Outil Recensement'!BL81>0,'Outil Recensement'!BL81,\"\")","v":""},{"$f":"IF('Outil Recensement'!BM81>0,'Outil Recensement'!BM81,\"\")","v":""},{"$f":"IF('Outil Recensement'!BN81=\"Male\",\"Male\",IF('Outil Recensement'!BN81=\"Female\",\"Female\",IF('Outil Recensement'!BN81=\"M\",\"Male\",IF('Outil Recensement'!BN81=\"F\",\"Female\",\"\"))))","v":""},{"$f":"IF('Outil Recensement'!BO81=\"Yes\",\"Yes\",IF('Outil Recensement'!BO81=\"No\",\"No\",IF('Outil Recensement'!BO81=\"Y\",\"Yes\",IF('Outil Recensement'!BO81=\"N\",\"No\",\"\"))))","v":""},{"$f":"IF('Outil Recensement'!BP81=\"Yes\",\"Yes\",IF('Outil Recensement'!BP81=\"No\",\"No\",IF('Outil Recensement'!BP81=\"Y\",\"Yes\",IF('Outil Recensement'!BP81=\"N\",\"No\",\"\"))))","v":""},{"$f":"IF('Outil Recensement'!BQ81>0,'Outil Recensement'!BQ81,\"\")","v":""},{"$f":"IF('Outil Recensement'!BR81>0,'Outil Recensement'!BR81,\"\")","v":""},{"$f":"IF('Outil Recensement'!BS81>0,'Outil Recensement'!BS81,\"\")","v":""},{"$f":"IF('Outil Recensement'!BT81=\"Male\",\"Male\",IF('Outil Recensement'!BT81=\"Female\",\"Female\",IF('Outil Recensement'!BT81=\"M\",\"Male\",IF('Outil Recensement'!BT81=\"F\",\"Female\",\"\"))))","v":""},{"$f":"IF('Outil Recensement'!BU81=\"Yes\",\"Yes\",IF('Outil Recensement'!BU81=\"No\",\"No\",IF('Outil Recensement'!BU81=\"Y\",\"Yes\",IF('Outil Recensement'!BU81=\"N\",\"No\",\"\"))))","v":""},{"$f":"IF('Outil Recensement'!BV81=\"Yes\",\"Yes\",IF('Outil Recensement'!BV81=\"No\",\"No\",IF('Outil Recensement'!BV81=\"Y\",\"Yes\",IF('Outil Recensement'!BV81=\"N\",\"No\",\"\"))))","v":""},{"$f":"IF('Outil Recensement'!BW81>0,'Outil Recensement'!BW81,\"\")","v":""},{"$f":"IF('Outil Recensement'!BX81>0,'Outil Recensement'!BX81,\"\")","v":""},{"$f":"IF('Outil Recensement'!BY81>0,'Outil Recensement'!BY81,\"\")","v":""},{"$f":"IF('Outil Recensement'!BZ81=\"Male\",\"Male\",IF('Outil Recensement'!BZ81=\"Female\",\"Female\",IF('Outil Recensement'!BZ81=\"M\",\"Male\",IF('Outil Recensement'!BZ81=\"F\",\"Female\",\"\"))))","v":""},{"$f":"IF('Outil Recensement'!CA81=\"Yes\",\"Yes\",IF('Outil Recensement'!CA81=\"No\",\"No\",IF('Outil Recensement'!CA81=\"Y\",\"Yes\",IF('Outil Recensement'!CA81=\"N\",\"No\",\"\"))))","v":""},{"$f":"IF('Outil Recensement'!CB81=\"Yes\",\"Yes\",IF('Outil Recensement'!CB81=\"No\",\"No\",IF('Outil Recensement'!CB81=\"Y\",\"Yes\",IF('Outil Recensement'!CB81=\"N\",\"No\",\"\"))))","v":""},{"$f":"IF('Outil Recensement'!CH81>0,'Outil Recensement'!CH81,\"\")","v":"    "}]
[{"$f":"IF('Outil Recensement'!A82>0,'Outil Recensement'!A82,\"\")","v":""},{"$f":"IF('Outil Recensement'!B82>0,'Outil Recensement'!B82,\"\")","v":""},{"$f":"IF('Outil Recensement'!C82>0,'Outil Recensement'!C82,\"\")","v":""},{"$f":"IF('Outil Recensement'!D82>0,'Outil Recensement'!D82,\"\")","v":""},{"$f":"IF('Outil Recensement'!P82>0,TEXT('Outil Recensement'!P82,\"000\"),\"\")","v":""},{"$f":"IF('Outil Recensement'!Q82>0,'Outil Recensement'!Q82,\"\")","v":""},{"$f":"IF('Outil Recensement'!R82>0,'Outil Recensement'!R82,\"\")","v":""},{"$f":"IF('Outil Recensement'!F82>0,DATEVALUE(TEXT('Outil Recensement'!F82,\"yyyy-mm-dd\")),\"\")","v":""},{"$f":"IF('Outil Recensement'!L82>0,DATEVALUE(TEXT('Outil Recensement'!L82,\"yyyy-mm-dd\")),\"\")","v":""},{"$f":"IF('Outil Recensement'!Y82>0,'Outil Recensement'!Y82,\"\")","v":""},{"$f":"IF('Outil Recensement'!T82>0,'Outil Recensement'!T82,\"\")","v":""},{"$f":"IF('Outil Recensement'!G82=\"Homme\",\"Male\",IF('Outil Recensement'!G82=\"Femme\",\"Female\",IF('Outil Recensement'!G82=\"H\",\"Male\",IF('Outil Recensement'!G82=\"F\",\"Female\",\"\"))))","v":""},{"$f":"IF('Outil Recensement'!U82=\"Yes\",\"Yes\",IF('Outil Recensement'!U82=\"No\",\"No\",IF('Outil Recensement'!U82=\"Y\",\"Yes\",IF('Outil Recensement'!U82=\"N\",\"No\",\"\"))))","v":""},{"$f":"IF('Outil Recensement'!I82=\"Individuelle\",\"Single\",IF('Outil Recensement'!I82=\"Familiale\",\"Family\",IF('Outil Recensement'!I82=\"Refus\",\"Family\",IF('Outil Recensement'!I82=\"Parent seul\",\"Family\",IF('Outil Recensement'!I82=\"Couple\",\"Family\",IF('Outil Recensement'!I82=\"In force\",\"Family\",IF('Outil Recensement'!I82=\"Applies\",\"Family\",IF('Outil Recensement'!I82=\"Applicable\",\"Family\",\"\"))))))))","v":""},{"$f":"IF('Outil Recensement'!AC82=\"Anglais\",\"English\",IF('Outil Recensement'!AC82=\"Français\",\"French\",IF('Outil Recensement'!AC82=\"A\",\"English\",IF('Outil Recensement'!AC82=\"F\",\"French\",\"\"))))","v":""},{"$f":"IF('Outil Recensement'!AB82=\"Oui\",\"Yes\",IF('Outil Recensement'!AB82=\"Non\",\"No\",IF('Outil Recensement'!AB82=\"O\",\"Yes\",IF('Outil Recensement'!AB82=\"N\",\"No\",\"\"))))","v":""},{"$f":"IF('Outil Recensement'!AD82>0,'Outil Recensement'!AD82,\"\")","v":""},{"$f":"IF('Outil Recensement'!M82=\"Annuel\",\"Annually\",IF('Outil Recensement'!M82=\"Mensuel\",\"Monthly\",IF('Outil Recensement'!M82=\"Bihebdomadaire\",\"Biweekly\",IF('Outil Recensement'!M82=\"Hebdomadaire\",\"Weekly\",IF('Outil Recensement'!M82=\"Horaire\",\"Hourly\",IF('Outil Recensement'!M82=\"Semi-mensuel\",\"Semi-monthly\",IF('Outil Recensement'!M82=\"Applies\",\"Annual\",IF('Outil Recensement'!M82=\"Applicable\",\"Annual\",\"\"))))))))","v":""},{"$f":"IF('Outil Recensement'!N82>0,'Outil Recensement'!N82,\"\")","v":""},{"$f":"IF('Outil Recensement'!O82>0,'Outil Recensement'!O82,\"\")","v":""},{"$f":"IF('Outil Recensement'!I82=\"Refus\",\"Yes\",\"\")","v":""},{"$f":"IF('Outil Recensement'!I82=\"Refus\",\"Yes\",\"\")","v":""},{"$f":"IF('Outil Recensement'!AE82>0,'Outil Recensement'!AE82,\"\")","v":""},{"$f":"IF('Outil Recensement'!AF82>0,'Outil Recensement'!AF82,\"\")","v":""},{"$f":"IF('Outil Recensement'!AG82>0,'Outil Recensement'!AG82,\"\")","v":""},{"$f":"IF('Outil Recensement'!AH82>0,'Outil Recensement'!AH82,\"\")","v":""},{"$f":"IF('Outil Recensement'!AI82>0,'Outil Recensement'!AI82,\"\")","v":" "},{"$f":"IF('Outil Recensement'!AJ82>0,'Outil Recensement'!AJ82,\"\")","v":" "},{"$f":"IF('Outil Recensement'!W82>0,'Outil Recensement'!W82&\" \",\"\")&IF('Outil Recensement'!V82>0,'Outil Recensement'!V82,\"\")","v":""},null,{"$f":"IF('Outil Recensement'!X82>0,'Outil Recensement'!X82,\"\")","v":""},{"$f":"IF('Outil Recensement'!Y82>0,'Outil Recensement'!Y82,\"\")","v":""},{"$f":"IF('Outil Recensement'!Z82>0,'Outil Recensement'!Z82,\"\")","v":""},{"$f":"IF('Outil Recensement'!AA82>0,'Outil Recensement'!AA82,\"\")","v":""},{"$f":"IF('Outil Recensement'!E82>0,'Outil Recensement'!E82,\"\")","v":""},{"$f":"IF('Outil Recensement'!AK82>0,'Outil Recensement'!AK82,\"\")","v":""},{"$f":"IF('Outil Recensement'!AL82>0,'Outil Recensement'!AL82,\"\")","v":""},{"$f":"IF('Outil Recensement'!AM82>0,'Outil Recensement'!AM82,\"\")","v":""},{"$f":"IF('Outil Recensement'!AN82=\"Male\",\"Male\",IF('Outil Recensement'!AN82=\"Female\",\"Female\",IF('Outil Recensement'!AN82=\"M\",\"Male\",IF('Outil Recensement'!AN82=\"F\",\"Female\",\"\"))))","v":""},{"$f":"IF('Outil Recensement'!AO82=\"Single\",\"Single\",IF('Outil Recensement'!AO82=\"Family\",\"Family\",IF('Outil Recensement'!AO82=\"S\",\"Single\",IF('Outil Recensement'!AO82=\"F\",\"Family\",\"\"))))","v":""},{"$f":"IF('Outil Recensement'!AP82=\"Single\",\"Single\",IF('Outil Recensement'!AP82=\"Family\",\"Family\",IF('Outil Recensement'!AP82=\"S\",\"Single\",IF('Outil Recensement'!AP82=\"F\",\"Family\",\"\"))))","v":""},{"$f":"IF('Outil Recensement'!AQ82>0,'Outil Recensement'!AQ82,\"\")","v":""},{"$f":"IF('Outil Recensement'!AR82=\"Yes\",\"Yes\",IF('Outil Recensement'!AR82=\"No\",\"No\",IF('Outil Recensement'!AR82=\"Y\",\"Yes\",IF('Outil Recensement'!AR82=\"N\",\"No\",\"\"))))","v":""},{"$f":"IF('Outil Recensement'!AS82>0,'Outil Recensement'!AS82,\"\")","v":""},{"$f":"IF('Outil Recensement'!AT82>0,'Outil Recensement'!AT82,\"\")","v":""},{"$f":"IF('Outil Recensement'!AU82>0,'Outil Recensement'!AU82,\"\")","v":""},{"$f":"IF('Outil Recensement'!AV82=\"Male\",\"Male\",IF('Outil Recensement'!AV82=\"Female\",\"Female\",IF('Outil Recensement'!AV82=\"M\",\"Male\",IF('Outil Recensement'!AV82=\"F\",\"Female\",\"\"))))","v":""},{"$f":"IF('Outil Recensement'!AW82=\"Yes\",\"Yes\",IF('Outil Recensement'!AW82=\"No\",\"No\",IF('Outil Recensement'!AW82=\"Y\",\"Yes\",IF('Outil Recensement'!AW82=\"N\",\"No\",\"\"))))","v":""},{"$f":"IF('Outil Recensement'!AX82=\"Yes\",\"Yes\",IF('Outil Recensement'!AX82=\"No\",\"No\",IF('Outil Recensement'!AX82=\"Y\",\"Yes\",IF('Outil Recensement'!AX82=\"N\",\"No\",\"\"))))","v":""},{"$f":"IF('Outil Recensement'!AY82>0,'Outil Recensement'!AY82,\"\")","v":""},{"$f":"IF('Outil Recensement'!AZ82>0,'Outil Recensement'!AZ82,\"\")","v":""},{"$f":"IF('Outil Recensement'!BA82>0,'Outil Recensement'!BA82,\"\")","v":""},{"$f":"IF('Outil Recensement'!BB82=\"Male\",\"Male\",IF('Outil Recensement'!BB82=\"Female\",\"Female\",IF('Outil Recensement'!BB82=\"M\",\"Male\",IF('Outil Recensement'!BB82=\"F\",\"Female\",\"\"))))","v":""},{"$f":"IF('Outil Recensement'!BC82=\"Yes\",\"Yes\",IF('Outil Recensement'!BC82=\"No\",\"No\",IF('Outil Recensement'!BC82=\"Y\",\"Yes\",IF('Outil Recensement'!BC82=\"N\",\"No\",\"\"))))","v":""},{"$f":"IF('Outil Recensement'!BD82=\"Yes\",\"Yes\",IF('Outil Recensement'!BD82=\"No\",\"No\",IF('Outil Recensement'!BD82=\"Y\",\"Yes\",IF('Outil Recensement'!BD82=\"N\",\"No\",\"\"))))","v":""},{"$f":"IF('Outil Recensement'!BE82>0,'Outil Recensement'!BE82,\"\")","v":""},{"$f":"IF('Outil Recensement'!BF82>0,'Outil Recensement'!BF82,\"\")","v":""},{"$f":"IF('Outil Recensement'!BG82>0,'Outil Recensement'!BG82,\"\")","v":""},{"$f":"IF('Outil Recensement'!BH82=\"Male\",\"Male\",IF('Outil Recensement'!BH82=\"Female\",\"Female\",IF('Outil Recensement'!BH82=\"M\",\"Male\",IF('Outil Recensement'!BH82=\"F\",\"Female\",\"\"))))","v":""},{"$f":"IF('Outil Recensement'!BI82=\"Yes\",\"Yes\",IF('Outil Recensement'!BI82=\"No\",\"No\",IF('Outil Recensement'!BI82=\"Y\",\"Yes\",IF('Outil Recensement'!BI82=\"N\",\"No\",\"\"))))","v":""},{"$f":"IF('Outil Recensement'!BJ82=\"Yes\",\"Yes\",IF('Outil Recensement'!BJ82=\"No\",\"No\",IF('Outil Recensement'!BJ82=\"Y\",\"Yes\",IF('Outil Recensement'!BJ82=\"N\",\"No\",\"\"))))","v":""},{"$f":"IF('Outil Recensement'!BK82>0,'Outil Recensement'!BK82,\"\")","v":""},{"$f":"IF('Outil Recensement'!BL82>0,'Outil Recensement'!BL82,\"\")","v":""},{"$f":"IF('Outil Recensement'!BM82>0,'Outil Recensement'!BM82,\"\")","v":""},{"$f":"IF('Outil Recensement'!BN82=\"Male\",\"Male\",IF('Outil Recensement'!BN82=\"Female\",\"Female\",IF('Outil Recensement'!BN82=\"M\",\"Male\",IF('Outil Recensement'!BN82=\"F\",\"Female\",\"\"))))","v":""},{"$f":"IF('Outil Recensement'!BO82=\"Yes\",\"Yes\",IF('Outil Recensement'!BO82=\"No\",\"No\",IF('Outil Recensement'!BO82=\"Y\",\"Yes\",IF('Outil Recensement'!BO82=\"N\",\"No\",\"\"))))","v":""},{"$f":"IF('Outil Recensement'!BP82=\"Yes\",\"Yes\",IF('Outil Recensement'!BP82=\"No\",\"No\",IF('Outil Recensement'!BP82=\"Y\",\"Yes\",IF('Outil Recensement'!BP82=\"N\",\"No\",\"\"))))","v":""},{"$f":"IF('Outil Recensement'!BQ82>0,'Outil Recensement'!BQ82,\"\")","v":""},{"$f":"IF('Outil Recensement'!BR82>0,'Outil Recensement'!BR82,\"\")","v":""},{"$f":"IF('Outil Recensement'!BS82>0,'Outil Recensement'!BS82,\"\")","v":""},{"$f":"IF('Outil Recensement'!BT82=\"Male\",\"Male\",IF('Outil Recensement'!BT82=\"Female\",\"Female\",IF('Outil Recensement'!BT82=\"M\",\"Male\",IF('Outil Recensement'!BT82=\"F\",\"Female\",\"\"))))","v":""},{"$f":"IF('Outil Recensement'!BU82=\"Yes\",\"Yes\",IF('Outil Recensement'!BU82=\"No\",\"No\",IF('Outil Recensement'!BU82=\"Y\",\"Yes\",IF('Outil Recensement'!BU82=\"N\",\"No\",\"\"))))","v":""},{"$f":"IF('Outil Recensement'!BV82=\"Yes\",\"Yes\",IF('Outil Recensement'!BV82=\"No\",\"No\",IF('Outil Recensement'!BV82=\"Y\",\"Yes\",IF('Outil Recensement'!BV82=\"N\",\"No\",\"\"))))","v":""},{"$f":"IF('Outil Recensement'!BW82>0,'Outil Recensement'!BW82,\"\")","v":""},{"$f":"IF('Outil Recensement'!BX82>0,'Outil Recensement'!BX82,\"\")","v":""},{"$f":"IF('Outil Recensement'!BY82>0,'Outil Recensement'!BY82,\"\")","v":""},{"$f":"IF('Outil Recensement'!BZ82=\"Male\",\"Male\",IF('Outil Recensement'!BZ82=\"Female\",\"Female\",IF('Outil Recensement'!BZ82=\"M\",\"Male\",IF('Outil Recensement'!BZ82=\"F\",\"Female\",\"\"))))","v":""},{"$f":"IF('Outil Recensement'!CA82=\"Yes\",\"Yes\",IF('Outil Recensement'!CA82=\"No\",\"No\",IF('Outil Recensement'!CA82=\"Y\",\"Yes\",IF('Outil Recensement'!CA82=\"N\",\"No\",\"\"))))","v":""},{"$f":"IF('Outil Recensement'!CB82=\"Yes\",\"Yes\",IF('Outil Recensement'!CB82=\"No\",\"No\",IF('Outil Recensement'!CB82=\"Y\",\"Yes\",IF('Outil Recensement'!CB82=\"N\",\"No\",\"\"))))","v":""},{"$f":"IF('Outil Recensement'!CH82>0,'Outil Recensement'!CH82,\"\")","v":"    "}]
[{"$f":"IF('Outil Recensement'!A83>0,'Outil Recensement'!A83,\"\")","v":""},{"$f":"IF('Outil Recensement'!B83>0,'Outil Recensement'!B83,\"\")","v":""},{"$f":"IF('Outil Recensement'!C83>0,'Outil Recensement'!C83,\"\")","v":""},{"$f":"IF('Outil Recensement'!D83>0,'Outil Recensement'!D83,\"\")","v":""},{"$f":"IF('Outil Recensement'!P83>0,TEXT('Outil Recensement'!P83,\"000\"),\"\")","v":""},{"$f":"IF('Outil Recensement'!Q83>0,'Outil Recensement'!Q83,\"\")","v":""},{"$f":"IF('Outil Recensement'!R83>0,'Outil Recensement'!R83,\"\")","v":""},{"$f":"IF('Outil Recensement'!F83>0,DATEVALUE(TEXT('Outil Recensement'!F83,\"yyyy-mm-dd\")),\"\")","v":""},{"$f":"IF('Outil Recensement'!L83>0,DATEVALUE(TEXT('Outil Recensement'!L83,\"yyyy-mm-dd\")),\"\")","v":""},{"$f":"IF('Outil Recensement'!Y83>0,'Outil Recensement'!Y83,\"\")","v":""},{"$f":"IF('Outil Recensement'!T83>0,'Outil Recensement'!T83,\"\")","v":""},{"$f":"IF('Outil Recensement'!G83=\"Homme\",\"Male\",IF('Outil Recensement'!G83=\"Femme\",\"Female\",IF('Outil Recensement'!G83=\"H\",\"Male\",IF('Outil Recensement'!G83=\"F\",\"Female\",\"\"))))","v":""},{"$f":"IF('Outil Recensement'!U83=\"Yes\",\"Yes\",IF('Outil Recensement'!U83=\"No\",\"No\",IF('Outil Recensement'!U83=\"Y\",\"Yes\",IF('Outil Recensement'!U83=\"N\",\"No\",\"\"))))","v":""},{"$f":"IF('Outil Recensement'!I83=\"Individuelle\",\"Single\",IF('Outil Recensement'!I83=\"Familiale\",\"Family\",IF('Outil Recensement'!I83=\"Refus\",\"Family\",IF('Outil Recensement'!I83=\"Parent seul\",\"Family\",IF('Outil Recensement'!I83=\"Couple\",\"Family\",IF('Outil Recensement'!I83=\"In force\",\"Family\",IF('Outil Recensement'!I83=\"Applies\",\"Family\",IF('Outil Recensement'!I83=\"Applicable\",\"Family\",\"\"))))))))","v":""},{"$f":"IF('Outil Recensement'!AC83=\"Anglais\",\"English\",IF('Outil Recensement'!AC83=\"Français\",\"French\",IF('Outil Recensement'!AC83=\"A\",\"English\",IF('Outil Recensement'!AC83=\"F\",\"French\",\"\"))))","v":""},{"$f":"IF('Outil Recensement'!AB83=\"Oui\",\"Yes\",IF('Outil Recensement'!AB83=\"Non\",\"No\",IF('Outil Recensement'!AB83=\"O\",\"Yes\",IF('Outil Recensement'!AB83=\"N\",\"No\",\"\"))))","v":""},{"$f":"IF('Outil Recensement'!AD83>0,'Outil Recensement'!AD83,\"\")","v":""},{"$f":"IF('Outil Recensement'!M83=\"Annuel\",\"Annually\",IF('Outil Recensement'!M83=\"Mensuel\",\"Monthly\",IF('Outil Recensement'!M83=\"Bihebdomadaire\",\"Biweekly\",IF('Outil Recensement'!M83=\"Hebdomadaire\",\"Weekly\",IF('Outil Recensement'!M83=\"Horaire\",\"Hourly\",IF('Outil Recensement'!M83=\"Semi-mensuel\",\"Semi-monthly\",IF('Outil Recensement'!M83=\"Applies\",\"Annual\",IF('Outil Recensement'!M83=\"Applicable\",\"Annual\",\"\"))))))))","v":""},{"$f":"IF('Outil Recensement'!N83>0,'Outil Recensement'!N83,\"\")","v":""},{"$f":"IF('Outil Recensement'!O83>0,'Outil Recensement'!O83,\"\")","v":""},{"$f":"IF('Outil Recensement'!I83=\"Refus\",\"Yes\",\"\")","v":""},{"$f":"IF('Outil Recensement'!I83=\"Refus\",\"Yes\",\"\")","v":""},{"$f":"IF('Outil Recensement'!AE83>0,'Outil Recensement'!AE83,\"\")","v":""},{"$f":"IF('Outil Recensement'!AF83>0,'Outil Recensement'!AF83,\"\")","v":""},{"$f":"IF('Outil Recensement'!AG83>0,'Outil Recensement'!AG83,\"\")","v":""},{"$f":"IF('Outil Recensement'!AH83>0,'Outil Recensement'!AH83,\"\")","v":""},{"$f":"IF('Outil Recensement'!AI83>0,'Outil Recensement'!AI83,\"\")","v":" "},{"$f":"IF('Outil Recensement'!AJ83>0,'Outil Recensement'!AJ83,\"\")","v":" "},{"$f":"IF('Outil Recensement'!W83>0,'Outil Recensement'!W83&\" \",\"\")&IF('Outil Recensement'!V83>0,'Outil Recensement'!V83,\"\")","v":""},null,{"$f":"IF('Outil Recensement'!X83>0,'Outil Recensement'!X83,\"\")","v":""},{"$f":"IF('Outil Recensement'!Y83>0,'Outil Recensement'!Y83,\"\")","v":""},{"$f":"IF('Outil Recensement'!Z83>0,'Outil Recensement'!Z83,\"\")","v":""},{"$f":"IF('Outil Recensement'!AA83>0,'Outil Recensement'!AA83,\"\")","v":""},{"$f":"IF('Outil Recensement'!E83>0,'Outil Recensement'!E83,\"\")","v":""},{"$f":"IF('Outil Recensement'!AK83>0,'Outil Recensement'!AK83,\"\")","v":""},{"$f":"IF('Outil Recensement'!AL83>0,'Outil Recensement'!AL83,\"\")","v":""},{"$f":"IF('Outil Recensement'!AM83>0,'Outil Recensement'!AM83,\"\")","v":""},{"$f":"IF('Outil Recensement'!AN83=\"Male\",\"Male\",IF('Outil Recensement'!AN83=\"Female\",\"Female\",IF('Outil Recensement'!AN83=\"M\",\"Male\",IF('Outil Recensement'!AN83=\"F\",\"Female\",\"\"))))","v":""},{"$f":"IF('Outil Recensement'!AO83=\"Single\",\"Single\",IF('Outil Recensement'!AO83=\"Family\",\"Family\",IF('Outil Recensement'!AO83=\"S\",\"Single\",IF('Outil Recensement'!AO83=\"F\",\"Family\",\"\"))))","v":""},{"$f":"IF('Outil Recensement'!AP83=\"Single\",\"Single\",IF('Outil Recensement'!AP83=\"Family\",\"Family\",IF('Outil Recensement'!AP83=\"S\",\"Single\",IF('Outil Recensement'!AP83=\"F\",\"Family\",\"\"))))","v":""},{"$f":"IF('Outil Recensement'!AQ83>0,'Outil Recensement'!AQ83,\"\")","v":""},{"$f":"IF('Outil Recensement'!AR83=\"Yes\",\"Yes\",IF('Outil Recensement'!AR83=\"No\",\"No\",IF('Outil Recensement'!AR83=\"Y\",\"Yes\",IF('Outil Recensement'!AR83=\"N\",\"No\",\"\"))))","v":""},{"$f":"IF('Outil Recensement'!AS83>0,'Outil Recensement'!AS83,\"\")","v":""},{"$f":"IF('Outil Recensement'!AT83>0,'Outil Recensement'!AT83,\"\")","v":""},{"$f":"IF('Outil Recensement'!AU83>0,'Outil Recensement'!AU83,\"\")","v":""},{"$f":"IF('Outil Recensement'!AV83=\"Male\",\"Male\",IF('Outil Recensement'!AV83=\"Female\",\"Female\",IF('Outil Recensement'!AV83=\"M\",\"Male\",IF('Outil Recensement'!AV83=\"F\",\"Female\",\"\"))))","v":""},{"$f":"IF('Outil Recensement'!AW83=\"Yes\",\"Yes\",IF('Outil Recensement'!AW83=\"No\",\"No\",IF('Outil Recensement'!AW83=\"Y\",\"Yes\",IF('Outil Recensement'!AW83=\"N\",\"No\",\"\"))))","v":""},{"$f":"IF('Outil Recensement'!AX83=\"Yes\",\"Yes\",IF('Outil Recensement'!AX83=\"No\",\"No\",IF('Outil Recensement'!AX83=\"Y\",\"Yes\",IF('Outil Recensement'!AX83=\"N\",\"No\",\"\"))))","v":""},{"$f":"IF('Outil Recensement'!AY83>0,'Outil Recensement'!AY83,\"\")","v":""},{"$f":"IF('Outil Recensement'!AZ83>0,'Outil Recensement'!AZ83,\"\")","v":""},{"$f":"IF('Outil Recensement'!BA83>0,'Outil Recensement'!BA83,\"\")","v":""},{"$f":"IF('Outil Recensement'!BB83=\"Male\",\"Male\",IF('Outil Recensement'!BB83=\"Female\",\"Female\",IF('Outil Recensement'!BB83=\"M\",\"Male\",IF('Outil Recensement'!BB83=\"F\",\"Female\",\"\"))))","v":""},{"$f":"IF('Outil Recensement'!BC83=\"Yes\",\"Yes\",IF('Outil Recensement'!BC83=\"No\",\"No\",IF('Outil Recensement'!BC83=\"Y\",\"Yes\",IF('Outil Recensement'!BC83=\"N\",\"No\",\"\"))))","v":""},{"$f":"IF('Outil Recensement'!BD83=\"Yes\",\"Yes\",IF('Outil Recensement'!BD83=\"No\",\"No\",IF('Outil Recensement'!BD83=\"Y\",\"Yes\",IF('Outil Recensement'!BD83=\"N\",\"No\",\"\"))))","v":""},{"$f":"IF('Outil Recensement'!BE83>0,'Outil Recensement'!BE83,\"\")","v":""},{"$f":"IF('Outil Recensement'!BF83>0,'Outil Recensement'!BF83,\"\")","v":""},{"$f":"IF('Outil Recensement'!BG83>0,'Outil Recensement'!BG83,\"\")","v":""},{"$f":"IF('Outil Recensement'!BH83=\"Male\",\"Male\",IF('Outil Recensement'!BH83=\"Female\",\"Female\",IF('Outil Recensement'!BH83=\"M\",\"Male\",IF('Outil Recensement'!BH83=\"F\",\"Female\",\"\"))))","v":""},{"$f":"IF('Outil Recensement'!BI83=\"Yes\",\"Yes\",IF('Outil Recensement'!BI83=\"No\",\"No\",IF('Outil Recensement'!BI83=\"Y\",\"Yes\",IF('Outil Recensement'!BI83=\"N\",\"No\",\"\"))))","v":""},{"$f":"IF('Outil Recensement'!BJ83=\"Yes\",\"Yes\",IF('Outil Recensement'!BJ83=\"No\",\"No\",IF('Outil Recensement'!BJ83=\"Y\",\"Yes\",IF('Outil Recensement'!BJ83=\"N\",\"No\",\"\"))))","v":""},{"$f":"IF('Outil Recensement'!BK83>0,'Outil Recensement'!BK83,\"\")","v":""},{"$f":"IF('Outil Recensement'!BL83>0,'Outil Recensement'!BL83,\"\")","v":""},{"$f":"IF('Outil Recensement'!BM83>0,'Outil Recensement'!BM83,\"\")","v":""},{"$f":"IF('Outil Recensement'!BN83=\"Male\",\"Male\",IF('Outil Recensement'!BN83=\"Female\",\"Female\",IF('Outil Recensement'!BN83=\"M\",\"Male\",IF('Outil Recensement'!BN83=\"F\",\"Female\",\"\"))))","v":""},{"$f":"IF('Outil Recensement'!BO83=\"Yes\",\"Yes\",IF('Outil Recensement'!BO83=\"No\",\"No\",IF('Outil Recensement'!BO83=\"Y\",\"Yes\",IF('Outil Recensement'!BO83=\"N\",\"No\",\"\"))))","v":""},{"$f":"IF('Outil Recensement'!BP83=\"Yes\",\"Yes\",IF('Outil Recensement'!BP83=\"No\",\"No\",IF('Outil Recensement'!BP83=\"Y\",\"Yes\",IF('Outil Recensement'!BP83=\"N\",\"No\",\"\"))))","v":""},{"$f":"IF('Outil Recensement'!BQ83>0,'Outil Recensement'!BQ83,\"\")","v":""},{"$f":"IF('Outil Recensement'!BR83>0,'Outil Recensement'!BR83,\"\")","v":""},{"$f":"IF('Outil Recensement'!BS83>0,'Outil Recensement'!BS83,\"\")","v":""},{"$f":"IF('Outil Recensement'!BT83=\"Male\",\"Male\",IF('Outil Recensement'!BT83=\"Female\",\"Female\",IF('Outil Recensement'!BT83=\"M\",\"Male\",IF('Outil Recensement'!BT83=\"F\",\"Female\",\"\"))))","v":""},{"$f":"IF('Outil Recensement'!BU83=\"Yes\",\"Yes\",IF('Outil Recensement'!BU83=\"No\",\"No\",IF('Outil Recensement'!BU83=\"Y\",\"Yes\",IF('Outil Recensement'!BU83=\"N\",\"No\",\"\"))))","v":""},{"$f":"IF('Outil Recensement'!BV83=\"Yes\",\"Yes\",IF('Outil Recensement'!BV83=\"No\",\"No\",IF('Outil Recensement'!BV83=\"Y\",\"Yes\",IF('Outil Recensement'!BV83=\"N\",\"No\",\"\"))))","v":""},{"$f":"IF('Outil Recensement'!BW83>0,'Outil Recensement'!BW83,\"\")","v":""},{"$f":"IF('Outil Recensement'!BX83>0,'Outil Recensement'!BX83,\"\")","v":""},{"$f":"IF('Outil Recensement'!BY83>0,'Outil Recensement'!BY83,\"\")","v":""},{"$f":"IF('Outil Recensement'!BZ83=\"Male\",\"Male\",IF('Outil Recensement'!BZ83=\"Female\",\"Female\",IF('Outil Recensement'!BZ83=\"M\",\"Male\",IF('Outil Recensement'!BZ83=\"F\",\"Female\",\"\"))))","v":""},{"$f":"IF('Outil Recensement'!CA83=\"Yes\",\"Yes\",IF('Outil Recensement'!CA83=\"No\",\"No\",IF('Outil Recensement'!CA83=\"Y\",\"Yes\",IF('Outil Recensement'!CA83=\"N\",\"No\",\"\"))))","v":""},{"$f":"IF('Outil Recensement'!CB83=\"Yes\",\"Yes\",IF('Outil Recensement'!CB83=\"No\",\"No\",IF('Outil Recensement'!CB83=\"Y\",\"Yes\",IF('Outil Recensement'!CB83=\"N\",\"No\",\"\"))))","v":""},{"$f":"IF('Outil Recensement'!CH83>0,'Outil Recensement'!CH83,\"\")","v":"    "}]
[{"$f":"IF('Outil Recensement'!A84>0,'Outil Recensement'!A84,\"\")","v":""},{"$f":"IF('Outil Recensement'!B84>0,'Outil Recensement'!B84,\"\")","v":""},{"$f":"IF('Outil Recensement'!C84>0,'Outil Recensement'!C84,\"\")","v":""},{"$f":"IF('Outil Recensement'!D84>0,'Outil Recensement'!D84,\"\")","v":""},{"$f":"IF('Outil Recensement'!P84>0,TEXT('Outil Recensement'!P84,\"000\"),\"\")","v":""},{"$f":"IF('Outil Recensement'!Q84>0,'Outil Recensement'!Q84,\"\")","v":""},{"$f":"IF('Outil Recensement'!R84>0,'Outil Recensement'!R84,\"\")","v":""},{"$f":"IF('Outil Recensement'!F84>0,DATEVALUE(TEXT('Outil Recensement'!F84,\"yyyy-mm-dd\")),\"\")","v":""},{"$f":"IF('Outil Recensement'!L84>0,DATEVALUE(TEXT('Outil Recensement'!L84,\"yyyy-mm-dd\")),\"\")","v":""},{"$f":"IF('Outil Recensement'!Y84>0,'Outil Recensement'!Y84,\"\")","v":""},{"$f":"IF('Outil Recensement'!T84>0,'Outil Recensement'!T84,\"\")","v":""},{"$f":"IF('Outil Recensement'!G84=\"Homme\",\"Male\",IF('Outil Recensement'!G84=\"Femme\",\"Female\",IF('Outil Recensement'!G84=\"H\",\"Male\",IF('Outil Recensement'!G84=\"F\",\"Female\",\"\"))))","v":""},{"$f":"IF('Outil Recensement'!U84=\"Yes\",\"Yes\",IF('Outil Recensement'!U84=\"No\",\"No\",IF('Outil Recensement'!U84=\"Y\",\"Yes\",IF('Outil Recensement'!U84=\"N\",\"No\",\"\"))))","v":""},{"$f":"IF('Outil Recensement'!I84=\"Individuelle\",\"Single\",IF('Outil Recensement'!I84=\"Familiale\",\"Family\",IF('Outil Recensement'!I84=\"Refus\",\"Family\",IF('Outil Recensement'!I84=\"Parent seul\",\"Family\",IF('Outil Recensement'!I84=\"Couple\",\"Family\",IF('Outil Recensement'!I84=\"In force\",\"Family\",IF('Outil Recensement'!I84=\"Applies\",\"Family\",IF('Outil Recensement'!I84=\"Applicable\",\"Family\",\"\"))))))))","v":""},{"$f":"IF('Outil Recensement'!AC84=\"Anglais\",\"English\",IF('Outil Recensement'!AC84=\"Français\",\"French\",IF('Outil Recensement'!AC84=\"A\",\"English\",IF('Outil Recensement'!AC84=\"F\",\"French\",\"\"))))","v":""},{"$f":"IF('Outil Recensement'!AB84=\"Oui\",\"Yes\",IF('Outil Recensement'!AB84=\"Non\",\"No\",IF('Outil Recensement'!AB84=\"O\",\"Yes\",IF('Outil Recensement'!AB84=\"N\",\"No\",\"\"))))","v":""},{"$f":"IF('Outil Recensement'!AD84>0,'Outil Recensement'!AD84,\"\")","v":""},{"$f":"IF('Outil Recensement'!M84=\"Annuel\",\"Annually\",IF('Outil Recensement'!M84=\"Mensuel\",\"Monthly\",IF('Outil Recensement'!M84=\"Bihebdomadaire\",\"Biweekly\",IF('Outil Recensement'!M84=\"Hebdomadaire\",\"Weekly\",IF('Outil Recensement'!M84=\"Horaire\",\"Hourly\",IF('Outil Recensement'!M84=\"Semi-mensuel\",\"Semi-monthly\",IF('Outil Recensement'!M84=\"Applies\",\"Annual\",IF('Outil Recensement'!M84=\"Applicable\",\"Annual\",\"\"))))))))","v":""},{"$f":"IF('Outil Recensement'!N84>0,'Outil Recensement'!N84,\"\")","v":""},{"$f":"IF('Outil Recensement'!O84>0,'Outil Recensement'!O84,\"\")","v":""},{"$f":"IF('Outil Recensement'!I84=\"Refus\",\"Yes\",\"\")","v":""},{"$f":"IF('Outil Recensement'!I84=\"Refus\",\"Yes\",\"\")","v":""},{"$f":"IF('Outil Recensement'!AE84>0,'Outil Recensement'!AE84,\"\")","v":""},{"$f":"IF('Outil Recensement'!AF84>0,'Outil Recensement'!AF84,\"\")","v":""},{"$f":"IF('Outil Recensement'!AG84>0,'Outil Recensement'!AG84,\"\")","v":""},{"$f":"IF('Outil Recensement'!AH84>0,'Outil Recensement'!AH84,\"\")","v":""},{"$f":"IF('Outil Recensement'!AI84>0,'Outil Recensement'!AI84,\"\")","v":" "},{"$f":"IF('Outil Recensement'!AJ84>0,'Outil Recensement'!AJ84,\"\")","v":" "},{"$f":"IF('Outil Recensement'!W84>0,'Outil Recensement'!W84&\" \",\"\")&IF('Outil Recensement'!V84>0,'Outil Recensement'!V84,\"\")","v":""},null,{"$f":"IF('Outil Recensement'!X84>0,'Outil Recensement'!X84,\"\")","v":""},{"$f":"IF('Outil Recensement'!Y84>0,'Outil Recensement'!Y84,\"\")","v":""},{"$f":"IF('Outil Recensement'!Z84>0,'Outil Recensement'!Z84,\"\")","v":""},{"$f":"IF('Outil Recensement'!AA84>0,'Outil Recensement'!AA84,\"\")","v":""},{"$f":"IF('Outil Recensement'!E84>0,'Outil Recensement'!E84,\"\")","v":""},{"$f":"IF('Outil Recensement'!AK84>0,'Outil Recensement'!AK84,\"\")","v":""},{"$f":"IF('Outil Recensement'!AL84>0,'Outil Recensement'!AL84,\"\")","v":""},{"$f":"IF('Outil Recensement'!AM84>0,'Outil Recensement'!AM84,\"\")","v":""},{"$f":"IF('Outil Recensement'!AN84=\"Male\",\"Male\",IF('Outil Recensement'!AN84=\"Female\",\"Female\",IF('Outil Recensement'!AN84=\"M\",\"Male\",IF('Outil Recensement'!AN84=\"F\",\"Female\",\"\"))))","v":""},{"$f":"IF('Outil Recensement'!AO84=\"Single\",\"Single\",IF('Outil Recensement'!AO84=\"Family\",\"Family\",IF('Outil Recensement'!AO84=\"S\",\"Single\",IF('Outil Recensement'!AO84=\"F\",\"Family\",\"\"))))","v":""},{"$f":"IF('Outil Recensement'!AP84=\"Single\",\"Single\",IF('Outil Recensement'!AP84=\"Family\",\"Family\",IF('Outil Recensement'!AP84=\"S\",\"Single\",IF('Outil Recensement'!AP84=\"F\",\"Family\",\"\"))))","v":""},{"$f":"IF('Outil Recensement'!AQ84>0,'Outil Recensement'!AQ84,\"\")","v":""},{"$f":"IF('Outil Recensement'!AR84=\"Yes\",\"Yes\",IF('Outil Recensement'!AR84=\"No\",\"No\",IF('Outil Recensement'!AR84=\"Y\",\"Yes\",IF('Outil Recensement'!AR84=\"N\",\"No\",\"\"))))","v":""},{"$f":"IF('Outil Recensement'!AS84>0,'Outil Recensement'!AS84,\"\")","v":""},{"$f":"IF('Outil Recensement'!AT84>0,'Outil Recensement'!AT84,\"\")","v":""},{"$f":"IF('Outil Recensement'!AU84>0,'Outil Recensement'!AU84,\"\")","v":""},{"$f":"IF('Outil Recensement'!AV84=\"Male\",\"Male\",IF('Outil Recensement'!AV84=\"Female\",\"Female\",IF('Outil Recensement'!AV84=\"M\",\"Male\",IF('Outil Recensement'!AV84=\"F\",\"Female\",\"\"))))","v":""},{"$f":"IF('Outil Recensement'!AW84=\"Yes\",\"Yes\",IF('Outil Recensement'!AW84=\"No\",\"No\",IF('Outil Recensement'!AW84=\"Y\",\"Yes\",IF('Outil Recensement'!AW84=\"N\",\"No\",\"\"))))","v":""},{"$f":"IF('Outil Recensement'!AX84=\"Yes\",\"Yes\",IF('Outil Recensement'!AX84=\"No\",\"No\",IF('Outil Recensement'!AX84=\"Y\",\"Yes\",IF('Outil Recensement'!AX84=\"N\",\"No\",\"\"))))","v":""},{"$f":"IF('Outil Recensement'!AY84>0,'Outil Recensement'!AY84,\"\")","v":""},{"$f":"IF('Outil Recensement'!AZ84>0,'Outil Recensement'!AZ84,\"\")","v":""},{"$f":"IF('Outil Recensement'!BA84>0,'Outil Recensement'!BA84,\"\")","v":""},{"$f":"IF('Outil Recensement'!BB84=\"Male\",\"Male\",IF('Outil Recensement'!BB84=\"Female\",\"Female\",IF('Outil Recensement'!BB84=\"M\",\"Male\",IF('Outil Recensement'!BB84=\"F\",\"Female\",\"\"))))","v":""},{"$f":"IF('Outil Recensement'!BC84=\"Yes\",\"Yes\",IF('Outil Recensement'!BC84=\"No\",\"No\",IF('Outil Recensement'!BC84=\"Y\",\"Yes\",IF('Outil Recensement'!BC84=\"N\",\"No\",\"\"))))","v":""},{"$f":"IF('Outil Recensement'!BD84=\"Yes\",\"Yes\",IF('Outil Recensement'!BD84=\"No\",\"No\",IF('Outil Recensement'!BD84=\"Y\",\"Yes\",IF('Outil Recensement'!BD84=\"N\",\"No\",\"\"))))","v":""},{"$f":"IF('Outil Recensement'!BE84>0,'Outil Recensement'!BE84,\"\")","v":""},{"$f":"IF('Outil Recensement'!BF84>0,'Outil Recensement'!BF84,\"\")","v":""},{"$f":"IF('Outil Recensement'!BG84>0,'Outil Recensement'!BG84,\"\")","v":""},{"$f":"IF('Outil Recensement'!BH84=\"Male\",\"Male\",IF('Outil Recensement'!BH84=\"Female\",\"Female\",IF('Outil Recensement'!BH84=\"M\",\"Male\",IF('Outil Recensement'!BH84=\"F\",\"Female\",\"\"))))","v":""},{"$f":"IF('Outil Recensement'!BI84=\"Yes\",\"Yes\",IF('Outil Recensement'!BI84=\"No\",\"No\",IF('Outil Recensement'!BI84=\"Y\",\"Yes\",IF('Outil Recensement'!BI84=\"N\",\"No\",\"\"))))","v":""},{"$f":"IF('Outil Recensement'!BJ84=\"Yes\",\"Yes\",IF('Outil Recensement'!BJ84=\"No\",\"No\",IF('Outil Recensement'!BJ84=\"Y\",\"Yes\",IF('Outil Recensement'!BJ84=\"N\",\"No\",\"\"))))","v":""},{"$f":"IF('Outil Recensement'!BK84>0,'Outil Recensement'!BK84,\"\")","v":""},{"$f":"IF('Outil Recensement'!BL84>0,'Outil Recensement'!BL84,\"\")","v":""},{"$f":"IF('Outil Recensement'!BM84>0,'Outil Recensement'!BM84,\"\")","v":""},{"$f":"IF('Outil Recensement'!BN84=\"Male\",\"Male\",IF('Outil Recensement'!BN84=\"Female\",\"Female\",IF('Outil Recensement'!BN84=\"M\",\"Male\",IF('Outil Recensement'!BN84=\"F\",\"Female\",\"\"))))","v":""},{"$f":"IF('Outil Recensement'!BO84=\"Yes\",\"Yes\",IF('Outil Recensement'!BO84=\"No\",\"No\",IF('Outil Recensement'!BO84=\"Y\",\"Yes\",IF('Outil Recensement'!BO84=\"N\",\"No\",\"\"))))","v":""},{"$f":"IF('Outil Recensement'!BP84=\"Yes\",\"Yes\",IF('Outil Recensement'!BP84=\"No\",\"No\",IF('Outil Recensement'!BP84=\"Y\",\"Yes\",IF('Outil Recensement'!BP84=\"N\",\"No\",\"\"))))","v":""},{"$f":"IF('Outil Recensement'!BQ84>0,'Outil Recensement'!BQ84,\"\")","v":""},{"$f":"IF('Outil Recensement'!BR84>0,'Outil Recensement'!BR84,\"\")","v":""},{"$f":"IF('Outil Recensement'!BS84>0,'Outil Recensement'!BS84,\"\")","v":""},{"$f":"IF('Outil Recensement'!BT84=\"Male\",\"Male\",IF('Outil Recensement'!BT84=\"Female\",\"Female\",IF('Outil Recensement'!BT84=\"M\",\"Male\",IF('Outil Recensement'!BT84=\"F\",\"Female\",\"\"))))","v":""},{"$f":"IF('Outil Recensement'!BU84=\"Yes\",\"Yes\",IF('Outil Recensement'!BU84=\"No\",\"No\",IF('Outil Recensement'!BU84=\"Y\",\"Yes\",IF('Outil Recensement'!BU84=\"N\",\"No\",\"\"))))","v":""},{"$f":"IF('Outil Recensement'!BV84=\"Yes\",\"Yes\",IF('Outil Recensement'!BV84=\"No\",\"No\",IF('Outil Recensement'!BV84=\"Y\",\"Yes\",IF('Outil Recensement'!BV84=\"N\",\"No\",\"\"))))","v":""},{"$f":"IF('Outil Recensement'!BW84>0,'Outil Recensement'!BW84,\"\")","v":""},{"$f":"IF('Outil Recensement'!BX84>0,'Outil Recensement'!BX84,\"\")","v":""},{"$f":"IF('Outil Recensement'!BY84>0,'Outil Recensement'!BY84,\"\")","v":""},{"$f":"IF('Outil Recensement'!BZ84=\"Male\",\"Male\",IF('Outil Recensement'!BZ84=\"Female\",\"Female\",IF('Outil Recensement'!BZ84=\"M\",\"Male\",IF('Outil Recensement'!BZ84=\"F\",\"Female\",\"\"))))","v":""},{"$f":"IF('Outil Recensement'!CA84=\"Yes\",\"Yes\",IF('Outil Recensement'!CA84=\"No\",\"No\",IF('Outil Recensement'!CA84=\"Y\",\"Yes\",IF('Outil Recensement'!CA84=\"N\",\"No\",\"\"))))","v":""},{"$f":"IF('Outil Recensement'!CB84=\"Yes\",\"Yes\",IF('Outil Recensement'!CB84=\"No\",\"No\",IF('Outil Recensement'!CB84=\"Y\",\"Yes\",IF('Outil Recensement'!CB84=\"N\",\"No\",\"\"))))","v":""},{"$f":"IF('Outil Recensement'!CH84>0,'Outil Recensement'!CH84,\"\")","v":"    "}]
[{"$f":"IF('Outil Recensement'!A85>0,'Outil Recensement'!A85,\"\")","v":""},{"$f":"IF('Outil Recensement'!B85>0,'Outil Recensement'!B85,\"\")","v":""},{"$f":"IF('Outil Recensement'!C85>0,'Outil Recensement'!C85,\"\")","v":""},{"$f":"IF('Outil Recensement'!D85>0,'Outil Recensement'!D85,\"\")","v":""},{"$f":"IF('Outil Recensement'!P85>0,TEXT('Outil Recensement'!P85,\"000\"),\"\")","v":""},{"$f":"IF('Outil Recensement'!Q85>0,'Outil Recensement'!Q85,\"\")","v":""},{"$f":"IF('Outil Recensement'!R85>0,'Outil Recensement'!R85,\"\")","v":""},{"$f":"IF('Outil Recensement'!F85>0,DATEVALUE(TEXT('Outil Recensement'!F85,\"yyyy-mm-dd\")),\"\")","v":""},{"$f":"IF('Outil Recensement'!L85>0,DATEVALUE(TEXT('Outil Recensement'!L85,\"yyyy-mm-dd\")),\"\")","v":""},{"$f":"IF('Outil Recensement'!Y85>0,'Outil Recensement'!Y85,\"\")","v":""},{"$f":"IF('Outil Recensement'!T85>0,'Outil Recensement'!T85,\"\")","v":""},{"$f":"IF('Outil Recensement'!G85=\"Homme\",\"Male\",IF('Outil Recensement'!G85=\"Femme\",\"Female\",IF('Outil Recensement'!G85=\"H\",\"Male\",IF('Outil Recensement'!G85=\"F\",\"Female\",\"\"))))","v":""},{"$f":"IF('Outil Recensement'!U85=\"Yes\",\"Yes\",IF('Outil Recensement'!U85=\"No\",\"No\",IF('Outil Recensement'!U85=\"Y\",\"Yes\",IF('Outil Recensement'!U85=\"N\",\"No\",\"\"))))","v":""},{"$f":"IF('Outil Recensement'!I85=\"Individuelle\",\"Single\",IF('Outil Recensement'!I85=\"Familiale\",\"Family\",IF('Outil Recensement'!I85=\"Refus\",\"Family\",IF('Outil Recensement'!I85=\"Parent seul\",\"Family\",IF('Outil Recensement'!I85=\"Couple\",\"Family\",IF('Outil Recensement'!I85=\"In force\",\"Family\",IF('Outil Recensement'!I85=\"Applies\",\"Family\",IF('Outil Recensement'!I85=\"Applicable\",\"Family\",\"\"))))))))","v":""},{"$f":"IF('Outil Recensement'!AC85=\"Anglais\",\"English\",IF('Outil Recensement'!AC85=\"Français\",\"French\",IF('Outil Recensement'!AC85=\"A\",\"English\",IF('Outil Recensement'!AC85=\"F\",\"French\",\"\"))))","v":""},{"$f":"IF('Outil Recensement'!AB85=\"Oui\",\"Yes\",IF('Outil Recensement'!AB85=\"Non\",\"No\",IF('Outil Recensement'!AB85=\"O\",\"Yes\",IF('Outil Recensement'!AB85=\"N\",\"No\",\"\"))))","v":""},{"$f":"IF('Outil Recensement'!AD85>0,'Outil Recensement'!AD85,\"\")","v":""},{"$f":"IF('Outil Recensement'!M85=\"Annuel\",\"Annually\",IF('Outil Recensement'!M85=\"Mensuel\",\"Monthly\",IF('Outil Recensement'!M85=\"Bihebdomadaire\",\"Biweekly\",IF('Outil Recensement'!M85=\"Hebdomadaire\",\"Weekly\",IF('Outil Recensement'!M85=\"Horaire\",\"Hourly\",IF('Outil Recensement'!M85=\"Semi-mensuel\",\"Semi-monthly\",IF('Outil Recensement'!M85=\"Applies\",\"Annual\",IF('Outil Recensement'!M85=\"Applicable\",\"Annual\",\"\"))))))))","v":""},{"$f":"IF('Outil Recensement'!N85>0,'Outil Recensement'!N85,\"\")","v":""},{"$f":"IF('Outil Recensement'!O85>0,'Outil Recensement'!O85,\"\")","v":""},{"$f":"IF('Outil Recensement'!I85=\"Refus\",\"Yes\",\"\")","v":""},{"$f":"IF('Outil Recensement'!I85=\"Refus\",\"Yes\",\"\")","v":""},{"$f":"IF('Outil Recensement'!AE85>0,'Outil Recensement'!AE85,\"\")","v":""},{"$f":"IF('Outil Recensement'!AF85>0,'Outil Recensement'!AF85,\"\")","v":""},{"$f":"IF('Outil Recensement'!AG85>0,'Outil Recensement'!AG85,\"\")","v":""},{"$f":"IF('Outil Recensement'!AH85>0,'Outil Recensement'!AH85,\"\")","v":""},{"$f":"IF('Outil Recensement'!AI85>0,'Outil Recensement'!AI85,\"\")","v":" "},{"$f":"IF('Outil Recensement'!AJ85>0,'Outil Recensement'!AJ85,\"\")","v":" "},{"$f":"IF('Outil Recensement'!W85>0,'Outil Recensement'!W85&\" \",\"\")&IF('Outil Recensement'!V85>0,'Outil Recensement'!V85,\"\")","v":""},null,{"$f":"IF('Outil Recensement'!X85>0,'Outil Recensement'!X85,\"\")","v":""},{"$f":"IF('Outil Recensement'!Y85>0,'Outil Recensement'!Y85,\"\")","v":""},{"$f":"IF('Outil Recensement'!Z85>0,'Outil Recensement'!Z85,\"\")","v":""},{"$f":"IF('Outil Recensement'!AA85>0,'Outil Recensement'!AA85,\"\")","v":""},{"$f":"IF('Outil Recensement'!E85>0,'Outil Recensement'!E85,\"\")","v":""},{"$f":"IF('Outil Recensement'!AK85>0,'Outil Recensement'!AK85,\"\")","v":""},{"$f":"IF('Outil Recensement'!AL85>0,'Outil Recensement'!AL85,\"\")","v":""},{"$f":"IF('Outil Recensement'!AM85>0,'Outil Recensement'!AM85,\"\")","v":""},{"$f":"IF('Outil Recensement'!AN85=\"Male\",\"Male\",IF('Outil Recensement'!AN85=\"Female\",\"Female\",IF('Outil Recensement'!AN85=\"M\",\"Male\",IF('Outil Recensement'!AN85=\"F\",\"Female\",\"\"))))","v":""},{"$f":"IF('Outil Recensement'!AO85=\"Single\",\"Single\",IF('Outil Recensement'!AO85=\"Family\",\"Family\",IF('Outil Recensement'!AO85=\"S\",\"Single\",IF('Outil Recensement'!AO85=\"F\",\"Family\",\"\"))))","v":""},{"$f":"IF('Outil Recensement'!AP85=\"Single\",\"Single\",IF('Outil Recensement'!AP85=\"Family\",\"Family\",IF('Outil Recensement'!AP85=\"S\",\"Single\",IF('Outil Recensement'!AP85=\"F\",\"Family\",\"\"))))","v":""},{"$f":"IF('Outil Recensement'!AQ85>0,'Outil Recensement'!AQ85,\"\")","v":""},{"$f":"IF('Outil Recensement'!AR85=\"Yes\",\"Yes\",IF('Outil Recensement'!AR85=\"No\",\"No\",IF('Outil Recensement'!AR85=\"Y\",\"Yes\",IF('Outil Recensement'!AR85=\"N\",\"No\",\"\"))))","v":""},{"$f":"IF('Outil Recensement'!AS85>0,'Outil Recensement'!AS85,\"\")","v":""},{"$f":"IF('Outil Recensement'!AT85>0,'Outil Recensement'!AT85,\"\")","v":""},{"$f":"IF('Outil Recensement'!AU85>0,'Outil Recensement'!AU85,\"\")","v":""},{"$f":"IF('Outil Recensement'!AV85=\"Male\",\"Male\",IF('Outil Recensement'!AV85=\"Female\",\"Female\",IF('Outil Recensement'!AV85=\"M\",\"Male\",IF('Outil Recensement'!AV85=\"F\",\"Female\",\"\"))))","v":""},{"$f":"IF('Outil Recensement'!AW85=\"Yes\",\"Yes\",IF('Outil Recensement'!AW85=\"No\",\"No\",IF('Outil Recensement'!AW85=\"Y\",\"Yes\",IF('Outil Recensement'!AW85=\"N\",\"No\",\"\"))))","v":""},{"$f":"IF('Outil Recensement'!AX85=\"Yes\",\"Yes\",IF('Outil Recensement'!AX85=\"No\",\"No\",IF('Outil Recensement'!AX85=\"Y\",\"Yes\",IF('Outil Recensement'!AX85=\"N\",\"No\",\"\"))))","v":""},{"$f":"IF('Outil Recensement'!AY85>0,'Outil Recensement'!AY85,\"\")","v":""},{"$f":"IF('Outil Recensement'!AZ85>0,'Outil Recensement'!AZ85,\"\")","v":""},{"$f":"IF('Outil Recensement'!BA85>0,'Outil Recensement'!BA85,\"\")","v":""},{"$f":"IF('Outil Recensement'!BB85=\"Male\",\"Male\",IF('Outil Recensement'!BB85=\"Female\",\"Female\",IF('Outil Recensement'!BB85=\"M\",\"Male\",IF('Outil Recensement'!BB85=\"F\",\"Female\",\"\"))))","v":""},{"$f":"IF('Outil Recensement'!BC85=\"Yes\",\"Yes\",IF('Outil Recensement'!BC85=\"No\",\"No\",IF('Outil Recensement'!BC85=\"Y\",\"Yes\",IF('Outil Recensement'!BC85=\"N\",\"No\",\"\"))))","v":""},{"$f":"IF('Outil Recensement'!BD85=\"Yes\",\"Yes\",IF('Outil Recensement'!BD85=\"No\",\"No\",IF('Outil Recensement'!BD85=\"Y\",\"Yes\",IF('Outil Recensement'!BD85=\"N\",\"No\",\"\"))))","v":""},{"$f":"IF('Outil Recensement'!BE85>0,'Outil Recensement'!BE85,\"\")","v":""},{"$f":"IF('Outil Recensement'!BF85>0,'Outil Recensement'!BF85,\"\")","v":""},{"$f":"IF('Outil Recensement'!BG85>0,'Outil Recensement'!BG85,\"\")","v":""},{"$f":"IF('Outil Recensement'!BH85=\"Male\",\"Male\",IF('Outil Recensement'!BH85=\"Female\",\"Female\",IF('Outil Recensement'!BH85=\"M\",\"Male\",IF('Outil Recensement'!BH85=\"F\",\"Female\",\"\"))))","v":""},{"$f":"IF('Outil Recensement'!BI85=\"Yes\",\"Yes\",IF('Outil Recensement'!BI85=\"No\",\"No\",IF('Outil Recensement'!BI85=\"Y\",\"Yes\",IF('Outil Recensement'!BI85=\"N\",\"No\",\"\"))))","v":""},{"$f":"IF('Outil Recensement'!BJ85=\"Yes\",\"Yes\",IF('Outil Recensement'!BJ85=\"No\",\"No\",IF('Outil Recensement'!BJ85=\"Y\",\"Yes\",IF('Outil Recensement'!BJ85=\"N\",\"No\",\"\"))))","v":""},{"$f":"IF('Outil Recensement'!BK85>0,'Outil Recensement'!BK85,\"\")","v":""},{"$f":"IF('Outil Recensement'!BL85>0,'Outil Recensement'!BL85,\"\")","v":""},{"$f":"IF('Outil Recensement'!BM85>0,'Outil Recensement'!BM85,\"\")","v":""},{"$f":"IF('Outil Recensement'!BN85=\"Male\",\"Male\",IF('Outil Recensement'!BN85=\"Female\",\"Female\",IF('Outil Recensement'!BN85=\"M\",\"Male\",IF('Outil Recensement'!BN85=\"F\",\"Female\",\"\"))))","v":""},{"$f":"IF('Outil Recensement'!BO85=\"Yes\",\"Yes\",IF('Outil Recensement'!BO85=\"No\",\"No\",IF('Outil Recensement'!BO85=\"Y\",\"Yes\",IF('Outil Recensement'!BO85=\"N\",\"No\",\"\"))))","v":""},{"$f":"IF('Outil Recensement'!BP85=\"Yes\",\"Yes\",IF('Outil Recensement'!BP85=\"No\",\"No\",IF('Outil Recensement'!BP85=\"Y\",\"Yes\",IF('Outil Recensement'!BP85=\"N\",\"No\",\"\"))))","v":""},{"$f":"IF('Outil Recensement'!BQ85>0,'Outil Recensement'!BQ85,\"\")","v":""},{"$f":"IF('Outil Recensement'!BR85>0,'Outil Recensement'!BR85,\"\")","v":""},{"$f":"IF('Outil Recensement'!BS85>0,'Outil Recensement'!BS85,\"\")","v":""},{"$f":"IF('Outil Recensement'!BT85=\"Male\",\"Male\",IF('Outil Recensement'!BT85=\"Female\",\"Female\",IF('Outil Recensement'!BT85=\"M\",\"Male\",IF('Outil Recensement'!BT85=\"F\",\"Female\",\"\"))))","v":""},{"$f":"IF('Outil Recensement'!BU85=\"Yes\",\"Yes\",IF('Outil Recensement'!BU85=\"No\",\"No\",IF('Outil Recensement'!BU85=\"Y\",\"Yes\",IF('Outil Recensement'!BU85=\"N\",\"No\",\"\"))))","v":""},{"$f":"IF('Outil Recensement'!BV85=\"Yes\",\"Yes\",IF('Outil Recensement'!BV85=\"No\",\"No\",IF('Outil Recensement'!BV85=\"Y\",\"Yes\",IF('Outil Recensement'!BV85=\"N\",\"No\",\"\"))))","v":""},{"$f":"IF('Outil Recensement'!BW85>0,'Outil Recensement'!BW85,\"\")","v":""},{"$f":"IF('Outil Recensement'!BX85>0,'Outil Recensement'!BX85,\"\")","v":""},{"$f":"IF('Outil Recensement'!BY85>0,'Outil Recensement'!BY85,\"\")","v":""},{"$f":"IF('Outil Recensement'!BZ85=\"Male\",\"Male\",IF('Outil Recensement'!BZ85=\"Female\",\"Female\",IF('Outil Recensement'!BZ85=\"M\",\"Male\",IF('Outil Recensement'!BZ85=\"F\",\"Female\",\"\"))))","v":""},{"$f":"IF('Outil Recensement'!CA85=\"Yes\",\"Yes\",IF('Outil Recensement'!CA85=\"No\",\"No\",IF('Outil Recensement'!CA85=\"Y\",\"Yes\",IF('Outil Recensement'!CA85=\"N\",\"No\",\"\"))))","v":""},{"$f":"IF('Outil Recensement'!CB85=\"Yes\",\"Yes\",IF('Outil Recensement'!CB85=\"No\",\"No\",IF('Outil Recensement'!CB85=\"Y\",\"Yes\",IF('Outil Recensement'!CB85=\"N\",\"No\",\"\"))))","v":""},{"$f":"IF('Outil Recensement'!CH85>0,'Outil Recensement'!CH85,\"\")","v":"    "}]
[{"$f":"IF('Outil Recensement'!A86>0,'Outil Recensement'!A86,\"\")","v":""},{"$f":"IF('Outil Recensement'!B86>0,'Outil Recensement'!B86,\"\")","v":""},{"$f":"IF('Outil Recensement'!C86>0,'Outil Recensement'!C86,\"\")","v":""},{"$f":"IF('Outil Recensement'!D86>0,'Outil Recensement'!D86,\"\")","v":""},{"$f":"IF('Outil Recensement'!P86>0,TEXT('Outil Recensement'!P86,\"000\"),\"\")","v":""},{"$f":"IF('Outil Recensement'!Q86>0,'Outil Recensement'!Q86,\"\")","v":""},{"$f":"IF('Outil Recensement'!R86>0,'Outil Recensement'!R86,\"\")","v":""},{"$f":"IF('Outil Recensement'!F86>0,DATEVALUE(TEXT('Outil Recensement'!F86,\"yyyy-mm-dd\")),\"\")","v":""},{"$f":"IF('Outil Recensement'!L86>0,DATEVALUE(TEXT('Outil Recensement'!L86,\"yyyy-mm-dd\")),\"\")","v":""},{"$f":"IF('Outil Recensement'!Y86>0,'Outil Recensement'!Y86,\"\")","v":""},{"$f":"IF('Outil Recensement'!T86>0,'Outil Recensement'!T86,\"\")","v":""},{"$f":"IF('Outil Recensement'!G86=\"Homme\",\"Male\",IF('Outil Recensement'!G86=\"Femme\",\"Female\",IF('Outil Recensement'!G86=\"H\",\"Male\",IF('Outil Recensement'!G86=\"F\",\"Female\",\"\"))))","v":""},{"$f":"IF('Outil Recensement'!U86=\"Yes\",\"Yes\",IF('Outil Recensement'!U86=\"No\",\"No\",IF('Outil Recensement'!U86=\"Y\",\"Yes\",IF('Outil Recensement'!U86=\"N\",\"No\",\"\"))))","v":""},{"$f":"IF('Outil Recensement'!I86=\"Individuelle\",\"Single\",IF('Outil Recensement'!I86=\"Familiale\",\"Family\",IF('Outil Recensement'!I86=\"Refus\",\"Family\",IF('Outil Recensement'!I86=\"Parent seul\",\"Family\",IF('Outil Recensement'!I86=\"Couple\",\"Family\",IF('Outil Recensement'!I86=\"In force\",\"Family\",IF('Outil Recensement'!I86=\"Applies\",\"Family\",IF('Outil Recensement'!I86=\"Applicable\",\"Family\",\"\"))))))))","v":""},{"$f":"IF('Outil Recensement'!AC86=\"Anglais\",\"English\",IF('Outil Recensement'!AC86=\"Français\",\"French\",IF('Outil Recensement'!AC86=\"A\",\"English\",IF('Outil Recensement'!AC86=\"F\",\"French\",\"\"))))","v":""},{"$f":"IF('Outil Recensement'!AB86=\"Oui\",\"Yes\",IF('Outil Recensement'!AB86=\"Non\",\"No\",IF('Outil Recensement'!AB86=\"O\",\"Yes\",IF('Outil Recensement'!AB86=\"N\",\"No\",\"\"))))","v":""},{"$f":"IF('Outil Recensement'!AD86>0,'Outil Recensement'!AD86,\"\")","v":""},{"$f":"IF('Outil Recensement'!M86=\"Annuel\",\"Annually\",IF('Outil Recensement'!M86=\"Mensuel\",\"Monthly\",IF('Outil Recensement'!M86=\"Bihebdomadaire\",\"Biweekly\",IF('Outil Recensement'!M86=\"Hebdomadaire\",\"Weekly\",IF('Outil Recensement'!M86=\"Horaire\",\"Hourly\",IF('Outil Recensement'!M86=\"Semi-mensuel\",\"Semi-monthly\",IF('Outil Recensement'!M86=\"Applies\",\"Annual\",IF('Outil Recensement'!M86=\"Applicable\",\"Annual\",\"\"))))))))","v":""},{"$f":"IF('Outil Recensement'!N86>0,'Outil Recensement'!N86,\"\")","v":""},{"$f":"IF('Outil Recensement'!O86>0,'Outil Recensement'!O86,\"\")","v":""},{"$f":"IF('Outil Recensement'!I86=\"Refus\",\"Yes\",\"\")","v":""},{"$f":"IF('Outil Recensement'!I86=\"Refus\",\"Yes\",\"\")","v":""},{"$f":"IF('Outil Recensement'!AE86>0,'Outil Recensement'!AE86,\"\")","v":""},{"$f":"IF('Outil Recensement'!AF86>0,'Outil Recensement'!AF86,\"\")","v":""},{"$f":"IF('Outil Recensement'!AG86>0,'Outil Recensement'!AG86,\"\")","v":""},{"$f":"IF('Outil Recensement'!AH86>0,'Outil Recensement'!AH86,\"\")","v":""},{"$f":"IF('Outil Recensement'!AI86>0,'Outil Recensement'!AI86,\"\")","v":" "},{"$f":"IF('Outil Recensement'!AJ86>0,'Outil Recensement'!AJ86,\"\")","v":" "},{"$f":"IF('Outil Recensement'!W86>0,'Outil Recensement'!W86&\" \",\"\")&IF('Outil Recensement'!V86>0,'Outil Recensement'!V86,\"\")","v":""},null,{"$f":"IF('Outil Recensement'!X86>0,'Outil Recensement'!X86,\"\")","v":""},{"$f":"IF('Outil Recensement'!Y86>0,'Outil Recensement'!Y86,\"\")","v":""},{"$f":"IF('Outil Recensement'!Z86>0,'Outil Recensement'!Z86,\"\")","v":""},{"$f":"IF('Outil Recensement'!AA86>0,'Outil Recensement'!AA86,\"\")","v":""},{"$f":"IF('Outil Recensement'!E86>0,'Outil Recensement'!E86,\"\")","v":""},{"$f":"IF('Outil Recensement'!AK86>0,'Outil Recensement'!AK86,\"\")","v":""},{"$f":"IF('Outil Recensement'!AL86>0,'Outil Recensement'!AL86,\"\")","v":""},{"$f":"IF('Outil Recensement'!AM86>0,'Outil Recensement'!AM86,\"\")","v":""},{"$f":"IF('Outil Recensement'!AN86=\"Male\",\"Male\",IF('Outil Recensement'!AN86=\"Female\",\"Female\",IF('Outil Recensement'!AN86=\"M\",\"Male\",IF('Outil Recensement'!AN86=\"F\",\"Female\",\"\"))))","v":""},{"$f":"IF('Outil Recensement'!AO86=\"Single\",\"Single\",IF('Outil Recensement'!AO86=\"Family\",\"Family\",IF('Outil Recensement'!AO86=\"S\",\"Single\",IF('Outil Recensement'!AO86=\"F\",\"Family\",\"\"))))","v":""},{"$f":"IF('Outil Recensement'!AP86=\"Single\",\"Single\",IF('Outil Recensement'!AP86=\"Family\",\"Family\",IF('Outil Recensement'!AP86=\"S\",\"Single\",IF('Outil Recensement'!AP86=\"F\",\"Family\",\"\"))))","v":""},{"$f":"IF('Outil Recensement'!AQ86>0,'Outil Recensement'!AQ86,\"\")","v":""},{"$f":"IF('Outil Recensement'!AR86=\"Yes\",\"Yes\",IF('Outil Recensement'!AR86=\"No\",\"No\",IF('Outil Recensement'!AR86=\"Y\",\"Yes\",IF('Outil Recensement'!AR86=\"N\",\"No\",\"\"))))","v":""},{"$f":"IF('Outil Recensement'!AS86>0,'Outil Recensement'!AS86,\"\")","v":""},{"$f":"IF('Outil Recensement'!AT86>0,'Outil Recensement'!AT86,\"\")","v":""},{"$f":"IF('Outil Recensement'!AU86>0,'Outil Recensement'!AU86,\"\")","v":""},{"$f":"IF('Outil Recensement'!AV86=\"Male\",\"Male\",IF('Outil Recensement'!AV86=\"Female\",\"Female\",IF('Outil Recensement'!AV86=\"M\",\"Male\",IF('Outil Recensement'!AV86=\"F\",\"Female\",\"\"))))","v":""},{"$f":"IF('Outil Recensement'!AW86=\"Yes\",\"Yes\",IF('Outil Recensement'!AW86=\"No\",\"No\",IF('Outil Recensement'!AW86=\"Y\",\"Yes\",IF('Outil Recensement'!AW86=\"N\",\"No\",\"\"))))","v":""},{"$f":"IF('Outil Recensement'!AX86=\"Yes\",\"Yes\",IF('Outil Recensement'!AX86=\"No\",\"No\",IF('Outil Recensement'!AX86=\"Y\",\"Yes\",IF('Outil Recensement'!AX86=\"N\",\"No\",\"\"))))","v":""},{"$f":"IF('Outil Recensement'!AY86>0,'Outil Recensement'!AY86,\"\")","v":""},{"$f":"IF('Outil Recensement'!AZ86>0,'Outil Recensement'!AZ86,\"\")","v":""},{"$f":"IF('Outil Recensement'!BA86>0,'Outil Recensement'!BA86,\"\")","v":""},{"$f":"IF('Outil Recensement'!BB86=\"Male\",\"Male\",IF('Outil Recensement'!BB86=\"Female\",\"Female\",IF('Outil Recensement'!BB86=\"M\",\"Male\",IF('Outil Recensement'!BB86=\"F\",\"Female\",\"\"))))","v":""},{"$f":"IF('Outil Recensement'!BC86=\"Yes\",\"Yes\",IF('Outil Recensement'!BC86=\"No\",\"No\",IF('Outil Recensement'!BC86=\"Y\",\"Yes\",IF('Outil Recensement'!BC86=\"N\",\"No\",\"\"))))","v":""},{"$f":"IF('Outil Recensement'!BD86=\"Yes\",\"Yes\",IF('Outil Recensement'!BD86=\"No\",\"No\",IF('Outil Recensement'!BD86=\"Y\",\"Yes\",IF('Outil Recensement'!BD86=\"N\",\"No\",\"\"))))","v":""},{"$f":"IF('Outil Recensement'!BE86>0,'Outil Recensement'!BE86,\"\")","v":""},{"$f":"IF('Outil Recensement'!BF86>0,'Outil Recensement'!BF86,\"\")","v":""},{"$f":"IF('Outil Recensement'!BG86>0,'Outil Recensement'!BG86,\"\")","v":""},{"$f":"IF('Outil Recensement'!BH86=\"Male\",\"Male\",IF('Outil Recensement'!BH86=\"Female\",\"Female\",IF('Outil Recensement'!BH86=\"M\",\"Male\",IF('Outil Recensement'!BH86=\"F\",\"Female\",\"\"))))","v":""},{"$f":"IF('Outil Recensement'!BI86=\"Yes\",\"Yes\",IF('Outil Recensement'!BI86=\"No\",\"No\",IF('Outil Recensement'!BI86=\"Y\",\"Yes\",IF('Outil Recensement'!BI86=\"N\",\"No\",\"\"))))","v":""},{"$f":"IF('Outil Recensement'!BJ86=\"Yes\",\"Yes\",IF('Outil Recensement'!BJ86=\"No\",\"No\",IF('Outil Recensement'!BJ86=\"Y\",\"Yes\",IF('Outil Recensement'!BJ86=\"N\",\"No\",\"\"))))","v":""},{"$f":"IF('Outil Recensement'!BK86>0,'Outil Recensement'!BK86,\"\")","v":""},{"$f":"IF('Outil Recensement'!BL86>0,'Outil Recensement'!BL86,\"\")","v":""},{"$f":"IF('Outil Recensement'!BM86>0,'Outil Recensement'!BM86,\"\")","v":""},{"$f":"IF('Outil Recensement'!BN86=\"Male\",\"Male\",IF('Outil Recensement'!BN86=\"Female\",\"Female\",IF('Outil Recensement'!BN86=\"M\",\"Male\",IF('Outil Recensement'!BN86=\"F\",\"Female\",\"\"))))","v":""},{"$f":"IF('Outil Recensement'!BO86=\"Yes\",\"Yes\",IF('Outil Recensement'!BO86=\"No\",\"No\",IF('Outil Recensement'!BO86=\"Y\",\"Yes\",IF('Outil Recensement'!BO86=\"N\",\"No\",\"\"))))","v":""},{"$f":"IF('Outil Recensement'!BP86=\"Yes\",\"Yes\",IF('Outil Recensement'!BP86=\"No\",\"No\",IF('Outil Recensement'!BP86=\"Y\",\"Yes\",IF('Outil Recensement'!BP86=\"N\",\"No\",\"\"))))","v":""},{"$f":"IF('Outil Recensement'!BQ86>0,'Outil Recensement'!BQ86,\"\")","v":""},{"$f":"IF('Outil Recensement'!BR86>0,'Outil Recensement'!BR86,\"\")","v":""},{"$f":"IF('Outil Recensement'!BS86>0,'Outil Recensement'!BS86,\"\")","v":""},{"$f":"IF('Outil Recensement'!BT86=\"Male\",\"Male\",IF('Outil Recensement'!BT86=\"Female\",\"Female\",IF('Outil Recensement'!BT86=\"M\",\"Male\",IF('Outil Recensement'!BT86=\"F\",\"Female\",\"\"))))","v":""},{"$f":"IF('Outil Recensement'!BU86=\"Yes\",\"Yes\",IF('Outil Recensement'!BU86=\"No\",\"No\",IF('Outil Recensement'!BU86=\"Y\",\"Yes\",IF('Outil Recensement'!BU86=\"N\",\"No\",\"\"))))","v":""},{"$f":"IF('Outil Recensement'!BV86=\"Yes\",\"Yes\",IF('Outil Recensement'!BV86=\"No\",\"No\",IF('Outil Recensement'!BV86=\"Y\",\"Yes\",IF('Outil Recensement'!BV86=\"N\",\"No\",\"\"))))","v":""},{"$f":"IF('Outil Recensement'!BW86>0,'Outil Recensement'!BW86,\"\")","v":""},{"$f":"IF('Outil Recensement'!BX86>0,'Outil Recensement'!BX86,\"\")","v":""},{"$f":"IF('Outil Recensement'!BY86>0,'Outil Recensement'!BY86,\"\")","v":""},{"$f":"IF('Outil Recensement'!BZ86=\"Male\",\"Male\",IF('Outil Recensement'!BZ86=\"Female\",\"Female\",IF('Outil Recensement'!BZ86=\"M\",\"Male\",IF('Outil Recensement'!BZ86=\"F\",\"Female\",\"\"))))","v":""},{"$f":"IF('Outil Recensement'!CA86=\"Yes\",\"Yes\",IF('Outil Recensement'!CA86=\"No\",\"No\",IF('Outil Recensement'!CA86=\"Y\",\"Yes\",IF('Outil Recensement'!CA86=\"N\",\"No\",\"\"))))","v":""},{"$f":"IF('Outil Recensement'!CB86=\"Yes\",\"Yes\",IF('Outil Recensement'!CB86=\"No\",\"No\",IF('Outil Recensement'!CB86=\"Y\",\"Yes\",IF('Outil Recensement'!CB86=\"N\",\"No\",\"\"))))","v":""},{"$f":"IF('Outil Recensement'!CH86>0,'Outil Recensement'!CH86,\"\")","v":"    "}]
[{"$f":"IF('Outil Recensement'!A87>0,'Outil Recensement'!A87,\"\")","v":""},{"$f":"IF('Outil Recensement'!B87>0,'Outil Recensement'!B87,\"\")","v":""},{"$f":"IF('Outil Recensement'!C87>0,'Outil Recensement'!C87,\"\")","v":""},{"$f":"IF('Outil Recensement'!D87>0,'Outil Recensement'!D87,\"\")","v":""},{"$f":"IF('Outil Recensement'!P87>0,TEXT('Outil Recensement'!P87,\"000\"),\"\")","v":""},{"$f":"IF('Outil Recensement'!Q87>0,'Outil Recensement'!Q87,\"\")","v":""},{"$f":"IF('Outil Recensement'!R87>0,'Outil Recensement'!R87,\"\")","v":""},{"$f":"IF('Outil Recensement'!F87>0,DATEVALUE(TEXT('Outil Recensement'!F87,\"yyyy-mm-dd\")),\"\")","v":""},{"$f":"IF('Outil Recensement'!L87>0,DATEVALUE(TEXT('Outil Recensement'!L87,\"yyyy-mm-dd\")),\"\")","v":""},{"$f":"IF('Outil Recensement'!Y87>0,'Outil Recensement'!Y87,\"\")","v":""},{"$f":"IF('Outil Recensement'!T87>0,'Outil Recensement'!T87,\"\")","v":""},{"$f":"IF('Outil Recensement'!G87=\"Homme\",\"Male\",IF('Outil Recensement'!G87=\"Femme\",\"Female\",IF('Outil Recensement'!G87=\"H\",\"Male\",IF('Outil Recensement'!G87=\"F\",\"Female\",\"\"))))","v":""},{"$f":"IF('Outil Recensement'!U87=\"Yes\",\"Yes\",IF('Outil Recensement'!U87=\"No\",\"No\",IF('Outil Recensement'!U87=\"Y\",\"Yes\",IF('Outil Recensement'!U87=\"N\",\"No\",\"\"))))","v":""},{"$f":"IF('Outil Recensement'!I87=\"Individuelle\",\"Single\",IF('Outil Recensement'!I87=\"Familiale\",\"Family\",IF('Outil Recensement'!I87=\"Refus\",\"Family\",IF('Outil Recensement'!I87=\"Parent seul\",\"Family\",IF('Outil Recensement'!I87=\"Couple\",\"Family\",IF('Outil Recensement'!I87=\"In force\",\"Family\",IF('Outil Recensement'!I87=\"Applies\",\"Family\",IF('Outil Recensement'!I87=\"Applicable\",\"Family\",\"\"))))))))","v":""},{"$f":"IF('Outil Recensement'!AC87=\"Anglais\",\"English\",IF('Outil Recensement'!AC87=\"Français\",\"French\",IF('Outil Recensement'!AC87=\"A\",\"English\",IF('Outil Recensement'!AC87=\"F\",\"French\",\"\"))))","v":""},{"$f":"IF('Outil Recensement'!AB87=\"Oui\",\"Yes\",IF('Outil Recensement'!AB87=\"Non\",\"No\",IF('Outil Recensement'!AB87=\"O\",\"Yes\",IF('Outil Recensement'!AB87=\"N\",\"No\",\"\"))))","v":""},{"$f":"IF('Outil Recensement'!AD87>0,'Outil Recensement'!AD87,\"\")","v":""},{"$f":"IF('Outil Recensement'!M87=\"Annuel\",\"Annually\",IF('Outil Recensement'!M87=\"Mensuel\",\"Monthly\",IF('Outil Recensement'!M87=\"Bihebdomadaire\",\"Biweekly\",IF('Outil Recensement'!M87=\"Hebdomadaire\",\"Weekly\",IF('Outil Recensement'!M87=\"Horaire\",\"Hourly\",IF('Outil Recensement'!M87=\"Semi-mensuel\",\"Semi-monthly\",IF('Outil Recensement'!M87=\"Applies\",\"Annual\",IF('Outil Recensement'!M87=\"Applicable\",\"Annual\",\"\"))))))))","v":""},{"$f":"IF('Outil Recensement'!N87>0,'Outil Recensement'!N87,\"\")","v":""},{"$f":"IF('Outil Recensement'!O87>0,'Outil Recensement'!O87,\"\")","v":""},{"$f":"IF('Outil Recensement'!I87=\"Refus\",\"Yes\",\"\")","v":""},{"$f":"IF('Outil Recensement'!I87=\"Refus\",\"Yes\",\"\")","v":""},{"$f":"IF('Outil Recensement'!AE87>0,'Outil Recensement'!AE87,\"\")","v":""},{"$f":"IF('Outil Recensement'!AF87>0,'Outil Recensement'!AF87,\"\")","v":""},{"$f":"IF('Outil Recensement'!AG87>0,'Outil Recensement'!AG87,\"\")","v":""},{"$f":"IF('Outil Recensement'!AH87>0,'Outil Recensement'!AH87,\"\")","v":""},{"$f":"IF('Outil Recensement'!AI87>0,'Outil Recensement'!AI87,\"\")","v":" "},{"$f":"IF('Outil Recensement'!AJ87>0,'Outil Recensement'!AJ87,\"\")","v":" "},{"$f":"IF('Outil Recensement'!W87>0,'Outil Recensement'!W87&\" \",\"\")&IF('Outil Recensement'!V87>0,'Outil Recensement'!V87,\"\")","v":""},null,{"$f":"IF('Outil Recensement'!X87>0,'Outil Recensement'!X87,\"\")","v":""},{"$f":"IF('Outil Recensement'!Y87>0,'Outil Recensement'!Y87,\"\")","v":""},{"$f":"IF('Outil Recensement'!Z87>0,'Outil Recensement'!Z87,\"\")","v":""},{"$f":"IF('Outil Recensement'!AA87>0,'Outil Recensement'!AA87,\"\")","v":""},{"$f":"IF('Outil Recensement'!E87>0,'Outil Recensement'!E87,\"\")","v":""},{"$f":"IF('Outil Recensement'!AK87>0,'Outil Recensement'!AK87,\"\")","v":""},{"$f":"IF('Outil Recensement'!AL87>0,'Outil Recensement'!AL87,\"\")","v":""},{"$f":"IF('Outil Recensement'!AM87>0,'Outil Recensement'!AM87,\"\")","v":""},{"$f":"IF('Outil Recensement'!AN87=\"Male\",\"Male\",IF('Outil Recensement'!AN87=\"Female\",\"Female\",IF('Outil Recensement'!AN87=\"M\",\"Male\",IF('Outil Recensement'!AN87=\"F\",\"Female\",\"\"))))","v":""},{"$f":"IF('Outil Recensement'!AO87=\"Single\",\"Single\",IF('Outil Recensement'!AO87=\"Family\",\"Family\",IF('Outil Recensement'!AO87=\"S\",\"Single\",IF('Outil Recensement'!AO87=\"F\",\"Family\",\"\"))))","v":""},{"$f":"IF('Outil Recensement'!AP87=\"Single\",\"Single\",IF('Outil Recensement'!AP87=\"Family\",\"Family\",IF('Outil Recensement'!AP87=\"S\",\"Single\",IF('Outil Recensement'!AP87=\"F\",\"Family\",\"\"))))","v":""},{"$f":"IF('Outil Recensement'!AQ87>0,'Outil Recensement'!AQ87,\"\")","v":""},{"$f":"IF('Outil Recensement'!AR87=\"Yes\",\"Yes\",IF('Outil Recensement'!AR87=\"No\",\"No\",IF('Outil Recensement'!AR87=\"Y\",\"Yes\",IF('Outil Recensement'!AR87=\"N\",\"No\",\"\"))))","v":""},{"$f":"IF('Outil Recensement'!AS87>0,'Outil Recensement'!AS87,\"\")","v":""},{"$f":"IF('Outil Recensement'!AT87>0,'Outil Recensement'!AT87,\"\")","v":""},{"$f":"IF('Outil Recensement'!AU87>0,'Outil Recensement'!AU87,\"\")","v":""},{"$f":"IF('Outil Recensement'!AV87=\"Male\",\"Male\",IF('Outil Recensement'!AV87=\"Female\",\"Female\",IF('Outil Recensement'!AV87=\"M\",\"Male\",IF('Outil Recensement'!AV87=\"F\",\"Female\",\"\"))))","v":""},{"$f":"IF('Outil Recensement'!AW87=\"Yes\",\"Yes\",IF('Outil Recensement'!AW87=\"No\",\"No\",IF('Outil Recensement'!AW87=\"Y\",\"Yes\",IF('Outil Recensement'!AW87=\"N\",\"No\",\"\"))))","v":""},{"$f":"IF('Outil Recensement'!AX87=\"Yes\",\"Yes\",IF('Outil Recensement'!AX87=\"No\",\"No\",IF('Outil Recensement'!AX87=\"Y\",\"Yes\",IF('Outil Recensement'!AX87=\"N\",\"No\",\"\"))))","v":""},{"$f":"IF('Outil Recensement'!AY87>0,'Outil Recensement'!AY87,\"\")","v":""},{"$f":"IF('Outil Recensement'!AZ87>0,'Outil Recensement'!AZ87,\"\")","v":""},{"$f":"IF('Outil Recensement'!BA87>0,'Outil Recensement'!BA87,\"\")","v":""},{"$f":"IF('Outil Recensement'!BB87=\"Male\",\"Male\",IF('Outil Recensement'!BB87=\"Female\",\"Female\",IF('Outil Recensement'!BB87=\"M\",\"Male\",IF('Outil Recensement'!BB87=\"F\",\"Female\",\"\"))))","v":""},{"$f":"IF('Outil Recensement'!BC87=\"Yes\",\"Yes\",IF('Outil Recensement'!BC87=\"No\",\"No\",IF('Outil Recensement'!BC87=\"Y\",\"Yes\",IF('Outil Recensement'!BC87=\"N\",\"No\",\"\"))))","v":""},{"$f":"IF('Outil Recensement'!BD87=\"Yes\",\"Yes\",IF('Outil Recensement'!BD87=\"No\",\"No\",IF('Outil Recensement'!BD87=\"Y\",\"Yes\",IF('Outil Recensement'!BD87=\"N\",\"No\",\"\"))))","v":""},{"$f":"IF('Outil Recensement'!BE87>0,'Outil Recensement'!BE87,\"\")","v":""},{"$f":"IF('Outil Recensement'!BF87>0,'Outil Recensement'!BF87,\"\")","v":""},{"$f":"IF('Outil Recensement'!BG87>0,'Outil Recensement'!BG87,\"\")","v":""},{"$f":"IF('Outil Recensement'!BH87=\"Male\",\"Male\",IF('Outil Recensement'!BH87=\"Female\",\"Female\",IF('Outil Recensement'!BH87=\"M\",\"Male\",IF('Outil Recensement'!BH87=\"F\",\"Female\",\"\"))))","v":""},{"$f":"IF('Outil Recensement'!BI87=\"Yes\",\"Yes\",IF('Outil Recensement'!BI87=\"No\",\"No\",IF('Outil Recensement'!BI87=\"Y\",\"Yes\",IF('Outil Recensement'!BI87=\"N\",\"No\",\"\"))))","v":""},{"$f":"IF('Outil Recensement'!BJ87=\"Yes\",\"Yes\",IF('Outil Recensement'!BJ87=\"No\",\"No\",IF('Outil Recensement'!BJ87=\"Y\",\"Yes\",IF('Outil Recensement'!BJ87=\"N\",\"No\",\"\"))))","v":""},{"$f":"IF('Outil Recensement'!BK87>0,'Outil Recensement'!BK87,\"\")","v":""},{"$f":"IF('Outil Recensement'!BL87>0,'Outil Recensement'!BL87,\"\")","v":""},{"$f":"IF('Outil Recensement'!BM87>0,'Outil Recensement'!BM87,\"\")","v":""},{"$f":"IF('Outil Recensement'!BN87=\"Male\",\"Male\",IF('Outil Recensement'!BN87=\"Female\",\"Female\",IF('Outil Recensement'!BN87=\"M\",\"Male\",IF('Outil Recensement'!BN87=\"F\",\"Female\",\"\"))))","v":""},{"$f":"IF('Outil Recensement'!BO87=\"Yes\",\"Yes\",IF('Outil Recensement'!BO87=\"No\",\"No\",IF('Outil Recensement'!BO87=\"Y\",\"Yes\",IF('Outil Recensement'!BO87=\"N\",\"No\",\"\"))))","v":""},{"$f":"IF('Outil Recensement'!BP87=\"Yes\",\"Yes\",IF('Outil Recensement'!BP87=\"No\",\"No\",IF('Outil Recensement'!BP87=\"Y\",\"Yes\",IF('Outil Recensement'!BP87=\"N\",\"No\",\"\"))))","v":""},{"$f":"IF('Outil Recensement'!BQ87>0,'Outil Recensement'!BQ87,\"\")","v":""},{"$f":"IF('Outil Recensement'!BR87>0,'Outil Recensement'!BR87,\"\")","v":""},{"$f":"IF('Outil Recensement'!BS87>0,'Outil Recensement'!BS87,\"\")","v":""},{"$f":"IF('Outil Recensement'!BT87=\"Male\",\"Male\",IF('Outil Recensement'!BT87=\"Female\",\"Female\",IF('Outil Recensement'!BT87=\"M\",\"Male\",IF('Outil Recensement'!BT87=\"F\",\"Female\",\"\"))))","v":""},{"$f":"IF('Outil Recensement'!BU87=\"Yes\",\"Yes\",IF('Outil Recensement'!BU87=\"No\",\"No\",IF('Outil Recensement'!BU87=\"Y\",\"Yes\",IF('Outil Recensement'!BU87=\"N\",\"No\",\"\"))))","v":""},{"$f":"IF('Outil Recensement'!BV87=\"Yes\",\"Yes\",IF('Outil Recensement'!BV87=\"No\",\"No\",IF('Outil Recensement'!BV87=\"Y\",\"Yes\",IF('Outil Recensement'!BV87=\"N\",\"No\",\"\"))))","v":""},{"$f":"IF('Outil Recensement'!BW87>0,'Outil Recensement'!BW87,\"\")","v":""},{"$f":"IF('Outil Recensement'!BX87>0,'Outil Recensement'!BX87,\"\")","v":""},{"$f":"IF('Outil Recensement'!BY87>0,'Outil Recensement'!BY87,\"\")","v":""},{"$f":"IF('Outil Recensement'!BZ87=\"Male\",\"Male\",IF('Outil Recensement'!BZ87=\"Female\",\"Female\",IF('Outil Recensement'!BZ87=\"M\",\"Male\",IF('Outil Recensement'!BZ87=\"F\",\"Female\",\"\"))))","v":""},{"$f":"IF('Outil Recensement'!CA87=\"Yes\",\"Yes\",IF('Outil Recensement'!CA87=\"No\",\"No\",IF('Outil Recensement'!CA87=\"Y\",\"Yes\",IF('Outil Recensement'!CA87=\"N\",\"No\",\"\"))))","v":""},{"$f":"IF('Outil Recensement'!CB87=\"Yes\",\"Yes\",IF('Outil Recensement'!CB87=\"No\",\"No\",IF('Outil Recensement'!CB87=\"Y\",\"Yes\",IF('Outil Recensement'!CB87=\"N\",\"No\",\"\"))))","v":""},{"$f":"IF('Outil Recensement'!CH87>0,'Outil Recensement'!CH87,\"\")","v":"    "}]
[{"$f":"IF('Outil Recensement'!A88>0,'Outil Recensement'!A88,\"\")","v":""},{"$f":"IF('Outil Recensement'!B88>0,'Outil Recensement'!B88,\"\")","v":""},{"$f":"IF('Outil Recensement'!C88>0,'Outil Recensement'!C88,\"\")","v":""},{"$f":"IF('Outil Recensement'!D88>0,'Outil Recensement'!D88,\"\")","v":""},{"$f":"IF('Outil Recensement'!P88>0,TEXT('Outil Recensement'!P88,\"000\"),\"\")","v":""},{"$f":"IF('Outil Recensement'!Q88>0,'Outil Recensement'!Q88,\"\")","v":""},{"$f":"IF('Outil Recensement'!R88>0,'Outil Recensement'!R88,\"\")","v":""},{"$f":"IF('Outil Recensement'!F88>0,DATEVALUE(TEXT('Outil Recensement'!F88,\"yyyy-mm-dd\")),\"\")","v":""},{"$f":"IF('Outil Recensement'!L88>0,DATEVALUE(TEXT('Outil Recensement'!L88,\"yyyy-mm-dd\")),\"\")","v":""},{"$f":"IF('Outil Recensement'!Y88>0,'Outil Recensement'!Y88,\"\")","v":""},{"$f":"IF('Outil Recensement'!T88>0,'Outil Recensement'!T88,\"\")","v":""},{"$f":"IF('Outil Recensement'!G88=\"Homme\",\"Male\",IF('Outil Recensement'!G88=\"Femme\",\"Female\",IF('Outil Recensement'!G88=\"H\",\"Male\",IF('Outil Recensement'!G88=\"F\",\"Female\",\"\"))))","v":""},{"$f":"IF('Outil Recensement'!U88=\"Yes\",\"Yes\",IF('Outil Recensement'!U88=\"No\",\"No\",IF('Outil Recensement'!U88=\"Y\",\"Yes\",IF('Outil Recensement'!U88=\"N\",\"No\",\"\"))))","v":""},{"$f":"IF('Outil Recensement'!I88=\"Individuelle\",\"Single\",IF('Outil Recensement'!I88=\"Familiale\",\"Family\",IF('Outil Recensement'!I88=\"Refus\",\"Family\",IF('Outil Recensement'!I88=\"Parent seul\",\"Family\",IF('Outil Recensement'!I88=\"Couple\",\"Family\",IF('Outil Recensement'!I88=\"In force\",\"Family\",IF('Outil Recensement'!I88=\"Applies\",\"Family\",IF('Outil Recensement'!I88=\"Applicable\",\"Family\",\"\"))))))))","v":""},{"$f":"IF('Outil Recensement'!AC88=\"Anglais\",\"English\",IF('Outil Recensement'!AC88=\"Français\",\"French\",IF('Outil Recensement'!AC88=\"A\",\"English\",IF('Outil Recensement'!AC88=\"F\",\"French\",\"\"))))","v":""},{"$f":"IF('Outil Recensement'!AB88=\"Oui\",\"Yes\",IF('Outil Recensement'!AB88=\"Non\",\"No\",IF('Outil Recensement'!AB88=\"O\",\"Yes\",IF('Outil Recensement'!AB88=\"N\",\"No\",\"\"))))","v":""},{"$f":"IF('Outil Recensement'!AD88>0,'Outil Recensement'!AD88,\"\")","v":""},{"$f":"IF('Outil Recensement'!M88=\"Annuel\",\"Annually\",IF('Outil Recensement'!M88=\"Mensuel\",\"Monthly\",IF('Outil Recensement'!M88=\"Bihebdomadaire\",\"Biweekly\",IF('Outil Recensement'!M88=\"Hebdomadaire\",\"Weekly\",IF('Outil Recensement'!M88=\"Horaire\",\"Hourly\",IF('Outil Recensement'!M88=\"Semi-mensuel\",\"Semi-monthly\",IF('Outil Recensement'!M88=\"Applies\",\"Annual\",IF('Outil Recensement'!M88=\"Applicable\",\"Annual\",\"\"))))))))","v":""},{"$f":"IF('Outil Recensement'!N88>0,'Outil Recensement'!N88,\"\")","v":""},{"$f":"IF('Outil Recensement'!O88>0,'Outil Recensement'!O88,\"\")","v":""},{"$f":"IF('Outil Recensement'!I88=\"Refus\",\"Yes\",\"\")","v":""},{"$f":"IF('Outil Recensement'!I88=\"Refus\",\"Yes\",\"\")","v":""},{"$f":"IF('Outil Recensement'!AE88>0,'Outil Recensement'!AE88,\"\")","v":""},{"$f":"IF('Outil Recensement'!AF88>0,'Outil Recensement'!AF88,\"\")","v":""},{"$f":"IF('Outil Recensement'!AG88>0,'Outil Recensement'!AG88,\"\")","v":""},{"$f":"IF('Outil Recensement'!AH88>0,'Outil Recensement'!AH88,\"\")","v":""},{"$f":"IF('Outil Recensement'!AI88>0,'Outil Recensement'!AI88,\"\")","v":" "},{"$f":"IF('Outil Recensement'!AJ88>0,'Outil Recensement'!AJ88,\"\")","v":" "},{"$f":"IF('Outil Recensement'!W88>0,'Outil Recensement'!W88&\" \",\"\")&IF('Outil Recensement'!V88>0,'Outil Recensement'!V88,\"\")","v":""},null,{"$f":"IF('Outil Recensement'!X88>0,'Outil Recensement'!X88,\"\")","v":""},{"$f":"IF('Outil Recensement'!Y88>0,'Outil Recensement'!Y88,\"\")","v":""},{"$f":"IF('Outil Recensement'!Z88>0,'Outil Recensement'!Z88,\"\")","v":""},{"$f":"IF('Outil Recensement'!AA88>0,'Outil Recensement'!AA88,\"\")","v":""},{"$f":"IF('Outil Recensement'!E88>0,'Outil Recensement'!E88,\"\")","v":""},{"$f":"IF('Outil Recensement'!AK88>0,'Outil Recensement'!AK88,\"\")","v":""},{"$f":"IF('Outil Recensement'!AL88>0,'Outil Recensement'!AL88,\"\")","v":""},{"$f":"IF('Outil Recensement'!AM88>0,'Outil Recensement'!AM88,\"\")","v":""},{"$f":"IF('Outil Recensement'!AN88=\"Male\",\"Male\",IF('Outil Recensement'!AN88=\"Female\",\"Female\",IF('Outil Recensement'!AN88=\"M\",\"Male\",IF('Outil Recensement'!AN88=\"F\",\"Female\",\"\"))))","v":""},{"$f":"IF('Outil Recensement'!AO88=\"Single\",\"Single\",IF('Outil Recensement'!AO88=\"Family\",\"Family\",IF('Outil Recensement'!AO88=\"S\",\"Single\",IF('Outil Recensement'!AO88=\"F\",\"Family\",\"\"))))","v":""},{"$f":"IF('Outil Recensement'!AP88=\"Single\",\"Single\",IF('Outil Recensement'!AP88=\"Family\",\"Family\",IF('Outil Recensement'!AP88=\"S\",\"Single\",IF('Outil Recensement'!AP88=\"F\",\"Family\",\"\"))))","v":""},{"$f":"IF('Outil Recensement'!AQ88>0,'Outil Recensement'!AQ88,\"\")","v":""},{"$f":"IF('Outil Recensement'!AR88=\"Yes\",\"Yes\",IF('Outil Recensement'!AR88=\"No\",\"No\",IF('Outil Recensement'!AR88=\"Y\",\"Yes\",IF('Outil Recensement'!AR88=\"N\",\"No\",\"\"))))","v":""},{"$f":"IF('Outil Recensement'!AS88>0,'Outil Recensement'!AS88,\"\")","v":""},{"$f":"IF('Outil Recensement'!AT88>0,'Outil Recensement'!AT88,\"\")","v":""},{"$f":"IF('Outil Recensement'!AU88>0,'Outil Recensement'!AU88,\"\")","v":""},{"$f":"IF('Outil Recensement'!AV88=\"Male\",\"Male\",IF('Outil Recensement'!AV88=\"Female\",\"Female\",IF('Outil Recensement'!AV88=\"M\",\"Male\",IF('Outil Recensement'!AV88=\"F\",\"Female\",\"\"))))","v":""},{"$f":"IF('Outil Recensement'!AW88=\"Yes\",\"Yes\",IF('Outil Recensement'!AW88=\"No\",\"No\",IF('Outil Recensement'!AW88=\"Y\",\"Yes\",IF('Outil Recensement'!AW88=\"N\",\"No\",\"\"))))","v":""},{"$f":"IF('Outil Recensement'!AX88=\"Yes\",\"Yes\",IF('Outil Recensement'!AX88=\"No\",\"No\",IF('Outil Recensement'!AX88=\"Y\",\"Yes\",IF('Outil Recensement'!AX88=\"N\",\"No\",\"\"))))","v":""},{"$f":"IF('Outil Recensement'!AY88>0,'Outil Recensement'!AY88,\"\")","v":""},{"$f":"IF('Outil Recensement'!AZ88>0,'Outil Recensement'!AZ88,\"\")","v":""},{"$f":"IF('Outil Recensement'!BA88>0,'Outil Recensement'!BA88,\"\")","v":""},{"$f":"IF('Outil Recensement'!BB88=\"Male\",\"Male\",IF('Outil Recensement'!BB88=\"Female\",\"Female\",IF('Outil Recensement'!BB88=\"M\",\"Male\",IF('Outil Recensement'!BB88=\"F\",\"Female\",\"\"))))","v":""},{"$f":"IF('Outil Recensement'!BC88=\"Yes\",\"Yes\",IF('Outil Recensement'!BC88=\"No\",\"No\",IF('Outil Recensement'!BC88=\"Y\",\"Yes\",IF('Outil Recensement'!BC88=\"N\",\"No\",\"\"))))","v":""},{"$f":"IF('Outil Recensement'!BD88=\"Yes\",\"Yes\",IF('Outil Recensement'!BD88=\"No\",\"No\",IF('Outil Recensement'!BD88=\"Y\",\"Yes\",IF('Outil Recensement'!BD88=\"N\",\"No\",\"\"))))","v":""},{"$f":"IF('Outil Recensement'!BE88>0,'Outil Recensement'!BE88,\"\")","v":""},{"$f":"IF('Outil Recensement'!BF88>0,'Outil Recensement'!BF88,\"\")","v":""},{"$f":"IF('Outil Recensement'!BG88>0,'Outil Recensement'!BG88,\"\")","v":""},{"$f":"IF('Outil Recensement'!BH88=\"Male\",\"Male\",IF('Outil Recensement'!BH88=\"Female\",\"Female\",IF('Outil Recensement'!BH88=\"M\",\"Male\",IF('Outil Recensement'!BH88=\"F\",\"Female\",\"\"))))","v":""},{"$f":"IF('Outil Recensement'!BI88=\"Yes\",\"Yes\",IF('Outil Recensement'!BI88=\"No\",\"No\",IF('Outil Recensement'!BI88=\"Y\",\"Yes\",IF('Outil Recensement'!BI88=\"N\",\"No\",\"\"))))","v":""},{"$f":"IF('Outil Recensement'!BJ88=\"Yes\",\"Yes\",IF('Outil Recensement'!BJ88=\"No\",\"No\",IF('Outil Recensement'!BJ88=\"Y\",\"Yes\",IF('Outil Recensement'!BJ88=\"N\",\"No\",\"\"))))","v":""},{"$f":"IF('Outil Recensement'!BK88>0,'Outil Recensement'!BK88,\"\")","v":""},{"$f":"IF('Outil Recensement'!BL88>0,'Outil Recensement'!BL88,\"\")","v":""},{"$f":"IF('Outil Recensement'!BM88>0,'Outil Recensement'!BM88,\"\")","v":""},{"$f":"IF('Outil Recensement'!BN88=\"Male\",\"Male\",IF('Outil Recensement'!BN88=\"Female\",\"Female\",IF('Outil Recensement'!BN88=\"M\",\"Male\",IF('Outil Recensement'!BN88=\"F\",\"Female\",\"\"))))","v":""},{"$f":"IF('Outil Recensement'!BO88=\"Yes\",\"Yes\",IF('Outil Recensement'!BO88=\"No\",\"No\",IF('Outil Recensement'!BO88=\"Y\",\"Yes\",IF('Outil Recensement'!BO88=\"N\",\"No\",\"\"))))","v":""},{"$f":"IF('Outil Recensement'!BP88=\"Yes\",\"Yes\",IF('Outil Recensement'!BP88=\"No\",\"No\",IF('Outil Recensement'!BP88=\"Y\",\"Yes\",IF('Outil Recensement'!BP88=\"N\",\"No\",\"\"))))","v":""},{"$f":"IF('Outil Recensement'!BQ88>0,'Outil Recensement'!BQ88,\"\")","v":""},{"$f":"IF('Outil Recensement'!BR88>0,'Outil Recensement'!BR88,\"\")","v":""},{"$f":"IF('Outil Recensement'!BS88>0,'Outil Recensement'!BS88,\"\")","v":""},{"$f":"IF('Outil Recensement'!BT88=\"Male\",\"Male\",IF('Outil Recensement'!BT88=\"Female\",\"Female\",IF('Outil Recensement'!BT88=\"M\",\"Male\",IF('Outil Recensement'!BT88=\"F\",\"Female\",\"\"))))","v":""},{"$f":"IF('Outil Recensement'!BU88=\"Yes\",\"Yes\",IF('Outil Recensement'!BU88=\"No\",\"No\",IF('Outil Recensement'!BU88=\"Y\",\"Yes\",IF('Outil Recensement'!BU88=\"N\",\"No\",\"\"))))","v":""},{"$f":"IF('Outil Recensement'!BV88=\"Yes\",\"Yes\",IF('Outil Recensement'!BV88=\"No\",\"No\",IF('Outil Recensement'!BV88=\"Y\",\"Yes\",IF('Outil Recensement'!BV88=\"N\",\"No\",\"\"))))","v":""},{"$f":"IF('Outil Recensement'!BW88>0,'Outil Recensement'!BW88,\"\")","v":""},{"$f":"IF('Outil Recensement'!BX88>0,'Outil Recensement'!BX88,\"\")","v":""},{"$f":"IF('Outil Recensement'!BY88>0,'Outil Recensement'!BY88,\"\")","v":""},{"$f":"IF('Outil Recensement'!BZ88=\"Male\",\"Male\",IF('Outil Recensement'!BZ88=\"Female\",\"Female\",IF('Outil Recensement'!BZ88=\"M\",\"Male\",IF('Outil Recensement'!BZ88=\"F\",\"Female\",\"\"))))","v":""},{"$f":"IF('Outil Recensement'!CA88=\"Yes\",\"Yes\",IF('Outil Recensement'!CA88=\"No\",\"No\",IF('Outil Recensement'!CA88=\"Y\",\"Yes\",IF('Outil Recensement'!CA88=\"N\",\"No\",\"\"))))","v":""},{"$f":"IF('Outil Recensement'!CB88=\"Yes\",\"Yes\",IF('Outil Recensement'!CB88=\"No\",\"No\",IF('Outil Recensement'!CB88=\"Y\",\"Yes\",IF('Outil Recensement'!CB88=\"N\",\"No\",\"\"))))","v":""},{"$f":"IF('Outil Recensement'!CH88>0,'Outil Recensement'!CH88,\"\")","v":"    "}]
[{"$f":"IF('Outil Recensement'!A89>0,'Outil Recensement'!A89,\"\")","v":""},{"$f":"IF('Outil Recensement'!B89>0,'Outil Recensement'!B89,\"\")","v":""},{"$f":"IF('Outil Recensement'!C89>0,'Outil Recensement'!C89,\"\")","v":""},{"$f":"IF('Outil Recensement'!D89>0,'Outil Recensement'!D89,\"\")","v":""},{"$f":"IF('Outil Recensement'!P89>0,TEXT('Outil Recensement'!P89,\"000\"),\"\")","v":""},{"$f":"IF('Outil Recensement'!Q89>0,'Outil Recensement'!Q89,\"\")","v":""},{"$f":"IF('Outil Recensement'!R89>0,'Outil Recensement'!R89,\"\")","v":""},{"$f":"IF('Outil Recensement'!F89>0,DATEVALUE(TEXT('Outil Recensement'!F89,\"yyyy-mm-dd\")),\"\")","v":""},{"$f":"IF('Outil Recensement'!L89>0,DATEVALUE(TEXT('Outil Recensement'!L89,\"yyyy-mm-dd\")),\"\")","v":""},{"$f":"IF('Outil Recensement'!Y89>0,'Outil Recensement'!Y89,\"\")","v":""},{"$f":"IF('Outil Recensement'!T89>0,'Outil Recensement'!T89,\"\")","v":""},{"$f":"IF('Outil Recensement'!G89=\"Homme\",\"Male\",IF('Outil Recensement'!G89=\"Femme\",\"Female\",IF('Outil Recensement'!G89=\"H\",\"Male\",IF('Outil Recensement'!G89=\"F\",\"Female\",\"\"))))","v":""},{"$f":"IF('Outil Recensement'!U89=\"Yes\",\"Yes\",IF('Outil Recensement'!U89=\"No\",\"No\",IF('Outil Recensement'!U89=\"Y\",\"Yes\",IF('Outil Recensement'!U89=\"N\",\"No\",\"\"))))","v":""},{"$f":"IF('Outil Recensement'!I89=\"Individuelle\",\"Single\",IF('Outil Recensement'!I89=\"Familiale\",\"Family\",IF('Outil Recensement'!I89=\"Refus\",\"Family\",IF('Outil Recensement'!I89=\"Parent seul\",\"Family\",IF('Outil Recensement'!I89=\"Couple\",\"Family\",IF('Outil Recensement'!I89=\"In force\",\"Family\",IF('Outil Recensement'!I89=\"Applies\",\"Family\",IF('Outil Recensement'!I89=\"Applicable\",\"Family\",\"\"))))))))","v":""},{"$f":"IF('Outil Recensement'!AC89=\"Anglais\",\"English\",IF('Outil Recensement'!AC89=\"Français\",\"French\",IF('Outil Recensement'!AC89=\"A\",\"English\",IF('Outil Recensement'!AC89=\"F\",\"French\",\"\"))))","v":""},{"$f":"IF('Outil Recensement'!AB89=\"Oui\",\"Yes\",IF('Outil Recensement'!AB89=\"Non\",\"No\",IF('Outil Recensement'!AB89=\"O\",\"Yes\",IF('Outil Recensement'!AB89=\"N\",\"No\",\"\"))))","v":""},{"$f":"IF('Outil Recensement'!AD89>0,'Outil Recensement'!AD89,\"\")","v":""},{"$f":"IF('Outil Recensement'!M89=\"Annuel\",\"Annually\",IF('Outil Recensement'!M89=\"Mensuel\",\"Monthly\",IF('Outil Recensement'!M89=\"Bihebdomadaire\",\"Biweekly\",IF('Outil Recensement'!M89=\"Hebdomadaire\",\"Weekly\",IF('Outil Recensement'!M89=\"Horaire\",\"Hourly\",IF('Outil Recensement'!M89=\"Semi-mensuel\",\"Semi-monthly\",IF('Outil Recensement'!M89=\"Applies\",\"Annual\",IF('Outil Recensement'!M89=\"Applicable\",\"Annual\",\"\"))))))))","v":""},{"$f":"IF('Outil Recensement'!N89>0,'Outil Recensement'!N89,\"\")","v":""},{"$f":"IF('Outil Recensement'!O89>0,'Outil Recensement'!O89,\"\")","v":""},{"$f":"IF('Outil Recensement'!I89=\"Refus\",\"Yes\",\"\")","v":""},{"$f":"IF('Outil Recensement'!I89=\"Refus\",\"Yes\",\"\")","v":""},{"$f":"IF('Outil Recensement'!AE89>0,'Outil Recensement'!AE89,\"\")","v":""},{"$f":"IF('Outil Recensement'!AF89>0,'Outil Recensement'!AF89,\"\")","v":""},{"$f":"IF('Outil Recensement'!AG89>0,'Outil Recensement'!AG89,\"\")","v":""},{"$f":"IF('Outil Recensement'!AH89>0,'Outil Recensement'!AH89,\"\")","v":""},{"$f":"IF('Outil Recensement'!AI89>0,'Outil Recensement'!AI89,\"\")","v":" "},{"$f":"IF('Outil Recensement'!AJ89>0,'Outil Recensement'!AJ89,\"\")","v":" "},{"$f":"IF('Outil Recensement'!W89>0,'Outil Recensement'!W89&\" \",\"\")&IF('Outil Recensement'!V89>0,'Outil Recensement'!V89,\"\")","v":""},null,{"$f":"IF('Outil Recensement'!X89>0,'Outil Recensement'!X89,\"\")","v":""},{"$f":"IF('Outil Recensement'!Y89>0,'Outil Recensement'!Y89,\"\")","v":""},{"$f":"IF('Outil Recensement'!Z89>0,'Outil Recensement'!Z89,\"\")","v":""},{"$f":"IF('Outil Recensement'!AA89>0,'Outil Recensement'!AA89,\"\")","v":""},{"$f":"IF('Outil Recensement'!E89>0,'Outil Recensement'!E89,\"\")","v":""},{"$f":"IF('Outil Recensement'!AK89>0,'Outil Recensement'!AK89,\"\")","v":""},{"$f":"IF('Outil Recensement'!AL89>0,'Outil Recensement'!AL89,\"\")","v":""},{"$f":"IF('Outil Recensement'!AM89>0,'Outil Recensement'!AM89,\"\")","v":""},{"$f":"IF('Outil Recensement'!AN89=\"Male\",\"Male\",IF('Outil Recensement'!AN89=\"Female\",\"Female\",IF('Outil Recensement'!AN89=\"M\",\"Male\",IF('Outil Recensement'!AN89=\"F\",\"Female\",\"\"))))","v":""},{"$f":"IF('Outil Recensement'!AO89=\"Single\",\"Single\",IF('Outil Recensement'!AO89=\"Family\",\"Family\",IF('Outil Recensement'!AO89=\"S\",\"Single\",IF('Outil Recensement'!AO89=\"F\",\"Family\",\"\"))))","v":""},{"$f":"IF('Outil Recensement'!AP89=\"Single\",\"Single\",IF('Outil Recensement'!AP89=\"Family\",\"Family\",IF('Outil Recensement'!AP89=\"S\",\"Single\",IF('Outil Recensement'!AP89=\"F\",\"Family\",\"\"))))","v":""},{"$f":"IF('Outil Recensement'!AQ89>0,'Outil Recensement'!AQ89,\"\")","v":""},{"$f":"IF('Outil Recensement'!AR89=\"Yes\",\"Yes\",IF('Outil Recensement'!AR89=\"No\",\"No\",IF('Outil Recensement'!AR89=\"Y\",\"Yes\",IF('Outil Recensement'!AR89=\"N\",\"No\",\"\"))))","v":""},{"$f":"IF('Outil Recensement'!AS89>0,'Outil Recensement'!AS89,\"\")","v":""},{"$f":"IF('Outil Recensement'!AT89>0,'Outil Recensement'!AT89,\"\")","v":""},{"$f":"IF('Outil Recensement'!AU89>0,'Outil Recensement'!AU89,\"\")","v":""},{"$f":"IF('Outil Recensement'!AV89=\"Male\",\"Male\",IF('Outil Recensement'!AV89=\"Female\",\"Female\",IF('Outil Recensement'!AV89=\"M\",\"Male\",IF('Outil Recensement'!AV89=\"F\",\"Female\",\"\"))))","v":""},{"$f":"IF('Outil Recensement'!AW89=\"Yes\",\"Yes\",IF('Outil Recensement'!AW89=\"No\",\"No\",IF('Outil Recensement'!AW89=\"Y\",\"Yes\",IF('Outil Recensement'!AW89=\"N\",\"No\",\"\"))))","v":""},{"$f":"IF('Outil Recensement'!AX89=\"Yes\",\"Yes\",IF('Outil Recensement'!AX89=\"No\",\"No\",IF('Outil Recensement'!AX89=\"Y\",\"Yes\",IF('Outil Recensement'!AX89=\"N\",\"No\",\"\"))))","v":""},{"$f":"IF('Outil Recensement'!AY89>0,'Outil Recensement'!AY89,\"\")","v":""},{"$f":"IF('Outil Recensement'!AZ89>0,'Outil Recensement'!AZ89,\"\")","v":""},{"$f":"IF('Outil Recensement'!BA89>0,'Outil Recensement'!BA89,\"\")","v":""},{"$f":"IF('Outil Recensement'!BB89=\"Male\",\"Male\",IF('Outil Recensement'!BB89=\"Female\",\"Female\",IF('Outil Recensement'!BB89=\"M\",\"Male\",IF('Outil Recensement'!BB89=\"F\",\"Female\",\"\"))))","v":""},{"$f":"IF('Outil Recensement'!BC89=\"Yes\",\"Yes\",IF('Outil Recensement'!BC89=\"No\",\"No\",IF('Outil Recensement'!BC89=\"Y\",\"Yes\",IF('Outil Recensement'!BC89=\"N\",\"No\",\"\"))))","v":""},{"$f":"IF('Outil Recensement'!BD89=\"Yes\",\"Yes\",IF('Outil Recensement'!BD89=\"No\",\"No\",IF('Outil Recensement'!BD89=\"Y\",\"Yes\",IF('Outil Recensement'!BD89=\"N\",\"No\",\"\"))))","v":""},{"$f":"IF('Outil Recensement'!BE89>0,'Outil Recensement'!BE89,\"\")","v":""},{"$f":"IF('Outil Recensement'!BF89>0,'Outil Recensement'!BF89,\"\")","v":""},{"$f":"IF('Outil Recensement'!BG89>0,'Outil Recensement'!BG89,\"\")","v":""},{"$f":"IF('Outil Recensement'!BH89=\"Male\",\"Male\",IF('Outil Recensement'!BH89=\"Female\",\"Female\",IF('Outil Recensement'!BH89=\"M\",\"Male\",IF('Outil Recensement'!BH89=\"F\",\"Female\",\"\"))))","v":""},{"$f":"IF('Outil Recensement'!BI89=\"Yes\",\"Yes\",IF('Outil Recensement'!BI89=\"No\",\"No\",IF('Outil Recensement'!BI89=\"Y\",\"Yes\",IF('Outil Recensement'!BI89=\"N\",\"No\",\"\"))))","v":""},{"$f":"IF('Outil Recensement'!BJ89=\"Yes\",\"Yes\",IF('Outil Recensement'!BJ89=\"No\",\"No\",IF('Outil Recensement'!BJ89=\"Y\",\"Yes\",IF('Outil Recensement'!BJ89=\"N\",\"No\",\"\"))))","v":""},{"$f":"IF('Outil Recensement'!BK89>0,'Outil Recensement'!BK89,\"\")","v":""},{"$f":"IF('Outil Recensement'!BL89>0,'Outil Recensement'!BL89,\"\")","v":""},{"$f":"IF('Outil Recensement'!BM89>0,'Outil Recensement'!BM89,\"\")","v":""},{"$f":"IF('Outil Recensement'!BN89=\"Male\",\"Male\",IF('Outil Recensement'!BN89=\"Female\",\"Female\",IF('Outil Recensement'!BN89=\"M\",\"Male\",IF('Outil Recensement'!BN89=\"F\",\"Female\",\"\"))))","v":""},{"$f":"IF('Outil Recensement'!BO89=\"Yes\",\"Yes\",IF('Outil Recensement'!BO89=\"No\",\"No\",IF('Outil Recensement'!BO89=\"Y\",\"Yes\",IF('Outil Recensement'!BO89=\"N\",\"No\",\"\"))))","v":""},{"$f":"IF('Outil Recensement'!BP89=\"Yes\",\"Yes\",IF('Outil Recensement'!BP89=\"No\",\"No\",IF('Outil Recensement'!BP89=\"Y\",\"Yes\",IF('Outil Recensement'!BP89=\"N\",\"No\",\"\"))))","v":""},{"$f":"IF('Outil Recensement'!BQ89>0,'Outil Recensement'!BQ89,\"\")","v":""},{"$f":"IF('Outil Recensement'!BR89>0,'Outil Recensement'!BR89,\"\")","v":""},{"$f":"IF('Outil Recensement'!BS89>0,'Outil Recensement'!BS89,\"\")","v":""},{"$f":"IF('Outil Recensement'!BT89=\"Male\",\"Male\",IF('Outil Recensement'!BT89=\"Female\",\"Female\",IF('Outil Recensement'!BT89=\"M\",\"Male\",IF('Outil Recensement'!BT89=\"F\",\"Female\",\"\"))))","v":""},{"$f":"IF('Outil Recensement'!BU89=\"Yes\",\"Yes\",IF('Outil Recensement'!BU89=\"No\",\"No\",IF('Outil Recensement'!BU89=\"Y\",\"Yes\",IF('Outil Recensement'!BU89=\"N\",\"No\",\"\"))))","v":""},{"$f":"IF('Outil Recensement'!BV89=\"Yes\",\"Yes\",IF('Outil Recensement'!BV89=\"No\",\"No\",IF('Outil Recensement'!BV89=\"Y\",\"Yes\",IF('Outil Recensement'!BV89=\"N\",\"No\",\"\"))))","v":""},{"$f":"IF('Outil Recensement'!BW89>0,'Outil Recensement'!BW89,\"\")","v":""},{"$f":"IF('Outil Recensement'!BX89>0,'Outil Recensement'!BX89,\"\")","v":""},{"$f":"IF('Outil Recensement'!BY89>0,'Outil Recensement'!BY89,\"\")","v":""},{"$f":"IF('Outil Recensement'!BZ89=\"Male\",\"Male\",IF('Outil Recensement'!BZ89=\"Female\",\"Female\",IF('Outil Recensement'!BZ89=\"M\",\"Male\",IF('Outil Recensement'!BZ89=\"F\",\"Female\",\"\"))))","v":""},{"$f":"IF('Outil Recensement'!CA89=\"Yes\",\"Yes\",IF('Outil Recensement'!CA89=\"No\",\"No\",IF('Outil Recensement'!CA89=\"Y\",\"Yes\",IF('Outil Recensement'!CA89=\"N\",\"No\",\"\"))))","v":""},{"$f":"IF('Outil Recensement'!CB89=\"Yes\",\"Yes\",IF('Outil Recensement'!CB89=\"No\",\"No\",IF('Outil Recensement'!CB89=\"Y\",\"Yes\",IF('Outil Recensement'!CB89=\"N\",\"No\",\"\"))))","v":""},{"$f":"IF('Outil Recensement'!CH89>0,'Outil Recensement'!CH89,\"\")","v":"    "}]
[{"$f":"IF('Outil Recensement'!A90>0,'Outil Recensement'!A90,\"\")","v":""},{"$f":"IF('Outil Recensement'!B90>0,'Outil Recensement'!B90,\"\")","v":""},{"$f":"IF('Outil Recensement'!C90>0,'Outil Recensement'!C90,\"\")","v":""},{"$f":"IF('Outil Recensement'!D90>0,'Outil Recensement'!D90,\"\")","v":""},{"$f":"IF('Outil Recensement'!P90>0,TEXT('Outil Recensement'!P90,\"000\"),\"\")","v":""},{"$f":"IF('Outil Recensement'!Q90>0,'Outil Recensement'!Q90,\"\")","v":""},{"$f":"IF('Outil Recensement'!R90>0,'Outil Recensement'!R90,\"\")","v":""},{"$f":"IF('Outil Recensement'!F90>0,DATEVALUE(TEXT('Outil Recensement'!F90,\"yyyy-mm-dd\")),\"\")","v":""},{"$f":"IF('Outil Recensement'!L90>0,DATEVALUE(TEXT('Outil Recensement'!L90,\"yyyy-mm-dd\")),\"\")","v":""},{"$f":"IF('Outil Recensement'!Y90>0,'Outil Recensement'!Y90,\"\")","v":""},{"$f":"IF('Outil Recensement'!T90>0,'Outil Recensement'!T90,\"\")","v":""},{"$f":"IF('Outil Recensement'!G90=\"Homme\",\"Male\",IF('Outil Recensement'!G90=\"Femme\",\"Female\",IF('Outil Recensement'!G90=\"H\",\"Male\",IF('Outil Recensement'!G90=\"F\",\"Female\",\"\"))))","v":""},{"$f":"IF('Outil Recensement'!U90=\"Yes\",\"Yes\",IF('Outil Recensement'!U90=\"No\",\"No\",IF('Outil Recensement'!U90=\"Y\",\"Yes\",IF('Outil Recensement'!U90=\"N\",\"No\",\"\"))))","v":""},{"$f":"IF('Outil Recensement'!I90=\"Individuelle\",\"Single\",IF('Outil Recensement'!I90=\"Familiale\",\"Family\",IF('Outil Recensement'!I90=\"Refus\",\"Family\",IF('Outil Recensement'!I90=\"Parent seul\",\"Family\",IF('Outil Recensement'!I90=\"Couple\",\"Family\",IF('Outil Recensement'!I90=\"In force\",\"Family\",IF('Outil Recensement'!I90=\"Applies\",\"Family\",IF('Outil Recensement'!I90=\"Applicable\",\"Family\",\"\"))))))))","v":""},{"$f":"IF('Outil Recensement'!AC90=\"Anglais\",\"English\",IF('Outil Recensement'!AC90=\"Français\",\"French\",IF('Outil Recensement'!AC90=\"A\",\"English\",IF('Outil Recensement'!AC90=\"F\",\"French\",\"\"))))","v":""},{"$f":"IF('Outil Recensement'!AB90=\"Oui\",\"Yes\",IF('Outil Recensement'!AB90=\"Non\",\"No\",IF('Outil Recensement'!AB90=\"O\",\"Yes\",IF('Outil Recensement'!AB90=\"N\",\"No\",\"\"))))","v":""},{"$f":"IF('Outil Recensement'!AD90>0,'Outil Recensement'!AD90,\"\")","v":""},{"$f":"IF('Outil Recensement'!M90=\"Annuel\",\"Annually\",IF('Outil Recensement'!M90=\"Mensuel\",\"Monthly\",IF('Outil Recensement'!M90=\"Bihebdomadaire\",\"Biweekly\",IF('Outil Recensement'!M90=\"Hebdomadaire\",\"Weekly\",IF('Outil Recensement'!M90=\"Horaire\",\"Hourly\",IF('Outil Recensement'!M90=\"Semi-mensuel\",\"Semi-monthly\",IF('Outil Recensement'!M90=\"Applies\",\"Annual\",IF('Outil Recensement'!M90=\"Applicable\",\"Annual\",\"\"))))))))","v":""},{"$f":"IF('Outil Recensement'!N90>0,'Outil Recensement'!N90,\"\")","v":""},{"$f":"IF('Outil Recensement'!O90>0,'Outil Recensement'!O90,\"\")","v":""},{"$f":"IF('Outil Recensement'!I90=\"Refus\",\"Yes\",\"\")","v":""},{"$f":"IF('Outil Recensement'!I90=\"Refus\",\"Yes\",\"\")","v":""},{"$f":"IF('Outil Recensement'!AE90>0,'Outil Recensement'!AE90,\"\")","v":""},{"$f":"IF('Outil Recensement'!AF90>0,'Outil Recensement'!AF90,\"\")","v":""},{"$f":"IF('Outil Recensement'!AG90>0,'Outil Recensement'!AG90,\"\")","v":""},{"$f":"IF('Outil Recensement'!AH90>0,'Outil Recensement'!AH90,\"\")","v":""},{"$f":"IF('Outil Recensement'!AI90>0,'Outil Recensement'!AI90,\"\")","v":" "},{"$f":"IF('Outil Recensement'!AJ90>0,'Outil Recensement'!AJ90,\"\")","v":" "},{"$f":"IF('Outil Recensement'!W90>0,'Outil Recensement'!W90&\" \",\"\")&IF('Outil Recensement'!V90>0,'Outil Recensement'!V90,\"\")","v":""},null,{"$f":"IF('Outil Recensement'!X90>0,'Outil Recensement'!X90,\"\")","v":""},{"$f":"IF('Outil Recensement'!Y90>0,'Outil Recensement'!Y90,\"\")","v":""},{"$f":"IF('Outil Recensement'!Z90>0,'Outil Recensement'!Z90,\"\")","v":""},{"$f":"IF('Outil Recensement'!AA90>0,'Outil Recensement'!AA90,\"\")","v":""},{"$f":"IF('Outil Recensement'!E90>0,'Outil Recensement'!E90,\"\")","v":""},{"$f":"IF('Outil Recensement'!AK90>0,'Outil Recensement'!AK90,\"\")","v":""},{"$f":"IF('Outil Recensement'!AL90>0,'Outil Recensement'!AL90,\"\")","v":""},{"$f":"IF('Outil Recensement'!AM90>0,'Outil Recensement'!AM90,\"\")","v":""},{"$f":"IF('Outil Recensement'!AN90=\"Male\",\"Male\",IF('Outil Recensement'!AN90=\"Female\",\"Female\",IF('Outil Recensement'!AN90=\"M\",\"Male\",IF('Outil Recensement'!AN90=\"F\",\"Female\",\"\"))))","v":""},{"$f":"IF('Outil Recensement'!AO90=\"Single\",\"Single\",IF('Outil Recensement'!AO90=\"Family\",\"Family\",IF('Outil Recensement'!AO90=\"S\",\"Single\",IF('Outil Recensement'!AO90=\"F\",\"Family\",\"\"))))","v":""},{"$f":"IF('Outil Recensement'!AP90=\"Single\",\"Single\",IF('Outil Recensement'!AP90=\"Family\",\"Family\",IF('Outil Recensement'!AP90=\"S\",\"Single\",IF('Outil Recensement'!AP90=\"F\",\"Family\",\"\"))))","v":""},{"$f":"IF('Outil Recensement'!AQ90>0,'Outil Recensement'!AQ90,\"\")","v":""},{"$f":"IF('Outil Recensement'!AR90=\"Yes\",\"Yes\",IF('Outil Recensement'!AR90=\"No\",\"No\",IF('Outil Recensement'!AR90=\"Y\",\"Yes\",IF('Outil Recensement'!AR90=\"N\",\"No\",\"\"))))","v":""},{"$f":"IF('Outil Recensement'!AS90>0,'Outil Recensement'!AS90,\"\")","v":""},{"$f":"IF('Outil Recensement'!AT90>0,'Outil Recensement'!AT90,\"\")","v":""},{"$f":"IF('Outil Recensement'!AU90>0,'Outil Recensement'!AU90,\"\")","v":""},{"$f":"IF('Outil Recensement'!AV90=\"Male\",\"Male\",IF('Outil Recensement'!AV90=\"Female\",\"Female\",IF('Outil Recensement'!AV90=\"M\",\"Male\",IF('Outil Recensement'!AV90=\"F\",\"Female\",\"\"))))","v":""},{"$f":"IF('Outil Recensement'!AW90=\"Yes\",\"Yes\",IF('Outil Recensement'!AW90=\"No\",\"No\",IF('Outil Recensement'!AW90=\"Y\",\"Yes\",IF('Outil Recensement'!AW90=\"N\",\"No\",\"\"))))","v":""},{"$f":"IF('Outil Recensement'!AX90=\"Yes\",\"Yes\",IF('Outil Recensement'!AX90=\"No\",\"No\",IF('Outil Recensement'!AX90=\"Y\",\"Yes\",IF('Outil Recensement'!AX90=\"N\",\"No\",\"\"))))","v":""},{"$f":"IF('Outil Recensement'!AY90>0,'Outil Recensement'!AY90,\"\")","v":""},{"$f":"IF('Outil Recensement'!AZ90>0,'Outil Recensement'!AZ90,\"\")","v":""},{"$f":"IF('Outil Recensement'!BA90>0,'Outil Recensement'!BA90,\"\")","v":""},{"$f":"IF('Outil Recensement'!BB90=\"Male\",\"Male\",IF('Outil Recensement'!BB90=\"Female\",\"Female\",IF('Outil Recensement'!BB90=\"M\",\"Male\",IF('Outil Recensement'!BB90=\"F\",\"Female\",\"\"))))","v":""},{"$f":"IF('Outil Recensement'!BC90=\"Yes\",\"Yes\",IF('Outil Recensement'!BC90=\"No\",\"No\",IF('Outil Recensement'!BC90=\"Y\",\"Yes\",IF('Outil Recensement'!BC90=\"N\",\"No\",\"\"))))","v":""},{"$f":"IF('Outil Recensement'!BD90=\"Yes\",\"Yes\",IF('Outil Recensement'!BD90=\"No\",\"No\",IF('Outil Recensement'!BD90=\"Y\",\"Yes\",IF('Outil Recensement'!BD90=\"N\",\"No\",\"\"))))","v":""},{"$f":"IF('Outil Recensement'!BE90>0,'Outil Recensement'!BE90,\"\")","v":""},{"$f":"IF('Outil Recensement'!BF90>0,'Outil Recensement'!BF90,\"\")","v":""},{"$f":"IF('Outil Recensement'!BG90>0,'Outil Recensement'!BG90,\"\")","v":""},{"$f":"IF('Outil Recensement'!BH90=\"Male\",\"Male\",IF('Outil Recensement'!BH90=\"Female\",\"Female\",IF('Outil Recensement'!BH90=\"M\",\"Male\",IF('Outil Recensement'!BH90=\"F\",\"Female\",\"\"))))","v":""},{"$f":"IF('Outil Recensement'!BI90=\"Yes\",\"Yes\",IF('Outil Recensement'!BI90=\"No\",\"No\",IF('Outil Recensement'!BI90=\"Y\",\"Yes\",IF('Outil Recensement'!BI90=\"N\",\"No\",\"\"))))","v":""},{"$f":"IF('Outil Recensement'!BJ90=\"Yes\",\"Yes\",IF('Outil Recensement'!BJ90=\"No\",\"No\",IF('Outil Recensement'!BJ90=\"Y\",\"Yes\",IF('Outil Recensement'!BJ90=\"N\",\"No\",\"\"))))","v":""},{"$f":"IF('Outil Recensement'!BK90>0,'Outil Recensement'!BK90,\"\")","v":""},{"$f":"IF('Outil Recensement'!BL90>0,'Outil Recensement'!BL90,\"\")","v":""},{"$f":"IF('Outil Recensement'!BM90>0,'Outil Recensement'!BM90,\"\")","v":""},{"$f":"IF('Outil Recensement'!BN90=\"Male\",\"Male\",IF('Outil Recensement'!BN90=\"Female\",\"Female\",IF('Outil Recensement'!BN90=\"M\",\"Male\",IF('Outil Recensement'!BN90=\"F\",\"Female\",\"\"))))","v":""},{"$f":"IF('Outil Recensement'!BO90=\"Yes\",\"Yes\",IF('Outil Recensement'!BO90=\"No\",\"No\",IF('Outil Recensement'!BO90=\"Y\",\"Yes\",IF('Outil Recensement'!BO90=\"N\",\"No\",\"\"))))","v":""},{"$f":"IF('Outil Recensement'!BP90=\"Yes\",\"Yes\",IF('Outil Recensement'!BP90=\"No\",\"No\",IF('Outil Recensement'!BP90=\"Y\",\"Yes\",IF('Outil Recensement'!BP90=\"N\",\"No\",\"\"))))","v":""},{"$f":"IF('Outil Recensement'!BQ90>0,'Outil Recensement'!BQ90,\"\")","v":""},{"$f":"IF('Outil Recensement'!BR90>0,'Outil Recensement'!BR90,\"\")","v":""},{"$f":"IF('Outil Recensement'!BS90>0,'Outil Recensement'!BS90,\"\")","v":""},{"$f":"IF('Outil Recensement'!BT90=\"Male\",\"Male\",IF('Outil Recensement'!BT90=\"Female\",\"Female\",IF('Outil Recensement'!BT90=\"M\",\"Male\",IF('Outil Recensement'!BT90=\"F\",\"Female\",\"\"))))","v":""},{"$f":"IF('Outil Recensement'!BU90=\"Yes\",\"Yes\",IF('Outil Recensement'!BU90=\"No\",\"No\",IF('Outil Recensement'!BU90=\"Y\",\"Yes\",IF('Outil Recensement'!BU90=\"N\",\"No\",\"\"))))","v":""},{"$f":"IF('Outil Recensement'!BV90=\"Yes\",\"Yes\",IF('Outil Recensement'!BV90=\"No\",\"No\",IF('Outil Recensement'!BV90=\"Y\",\"Yes\",IF('Outil Recensement'!BV90=\"N\",\"No\",\"\"))))","v":""},{"$f":"IF('Outil Recensement'!BW90>0,'Outil Recensement'!BW90,\"\")","v":""},{"$f":"IF('Outil Recensement'!BX90>0,'Outil Recensement'!BX90,\"\")","v":""},{"$f":"IF('Outil Recensement'!BY90>0,'Outil Recensement'!BY90,\"\")","v":""},{"$f":"IF('Outil Recensement'!BZ90=\"Male\",\"Male\",IF('Outil Recensement'!BZ90=\"Female\",\"Female\",IF('Outil Recensement'!BZ90=\"M\",\"Male\",IF('Outil Recensement'!BZ90=\"F\",\"Female\",\"\"))))","v":""},{"$f":"IF('Outil Recensement'!CA90=\"Yes\",\"Yes\",IF('Outil Recensement'!CA90=\"No\",\"No\",IF('Outil Recensement'!CA90=\"Y\",\"Yes\",IF('Outil Recensement'!CA90=\"N\",\"No\",\"\"))))","v":""},{"$f":"IF('Outil Recensement'!CB90=\"Yes\",\"Yes\",IF('Outil Recensement'!CB90=\"No\",\"No\",IF('Outil Recensement'!CB90=\"Y\",\"Yes\",IF('Outil Recensement'!CB90=\"N\",\"No\",\"\"))))","v":""},{"$f":"IF('Outil Recensement'!CH90>0,'Outil Recensement'!CH90,\"\")","v":"    "}]
[{"$f":"IF('Outil Recensement'!A91>0,'Outil Recensement'!A91,\"\")","v":""},{"$f":"IF('Outil Recensement'!B91>0,'Outil Recensement'!B91,\"\")","v":""},{"$f":"IF('Outil Recensement'!C91>0,'Outil Recensement'!C91,\"\")","v":""},{"$f":"IF('Outil Recensement'!D91>0,'Outil Recensement'!D91,\"\")","v":""},{"$f":"IF('Outil Recensement'!P91>0,TEXT('Outil Recensement'!P91,\"000\"),\"\")","v":""},{"$f":"IF('Outil Recensement'!Q91>0,'Outil Recensement'!Q91,\"\")","v":""},{"$f":"IF('Outil Recensement'!R91>0,'Outil Recensement'!R91,\"\")","v":""},{"$f":"IF('Outil Recensement'!F91>0,DATEVALUE(TEXT('Outil Recensement'!F91,\"yyyy-mm-dd\")),\"\")","v":""},{"$f":"IF('Outil Recensement'!L91>0,DATEVALUE(TEXT('Outil Recensement'!L91,\"yyyy-mm-dd\")),\"\")","v":""},{"$f":"IF('Outil Recensement'!Y91>0,'Outil Recensement'!Y91,\"\")","v":""},{"$f":"IF('Outil Recensement'!T91>0,'Outil Recensement'!T91,\"\")","v":""},{"$f":"IF('Outil Recensement'!G91=\"Homme\",\"Male\",IF('Outil Recensement'!G91=\"Femme\",\"Female\",IF('Outil Recensement'!G91=\"H\",\"Male\",IF('Outil Recensement'!G91=\"F\",\"Female\",\"\"))))","v":""},{"$f":"IF('Outil Recensement'!U91=\"Yes\",\"Yes\",IF('Outil Recensement'!U91=\"No\",\"No\",IF('Outil Recensement'!U91=\"Y\",\"Yes\",IF('Outil Recensement'!U91=\"N\",\"No\",\"\"))))","v":""},{"$f":"IF('Outil Recensement'!I91=\"Individuelle\",\"Single\",IF('Outil Recensement'!I91=\"Familiale\",\"Family\",IF('Outil Recensement'!I91=\"Refus\",\"Family\",IF('Outil Recensement'!I91=\"Parent seul\",\"Family\",IF('Outil Recensement'!I91=\"Couple\",\"Family\",IF('Outil Recensement'!I91=\"In force\",\"Family\",IF('Outil Recensement'!I91=\"Applies\",\"Family\",IF('Outil Recensement'!I91=\"Applicable\",\"Family\",\"\"))))))))","v":""},{"$f":"IF('Outil Recensement'!AC91=\"Anglais\",\"English\",IF('Outil Recensement'!AC91=\"Français\",\"French\",IF('Outil Recensement'!AC91=\"A\",\"English\",IF('Outil Recensement'!AC91=\"F\",\"French\",\"\"))))","v":""},{"$f":"IF('Outil Recensement'!AB91=\"Oui\",\"Yes\",IF('Outil Recensement'!AB91=\"Non\",\"No\",IF('Outil Recensement'!AB91=\"O\",\"Yes\",IF('Outil Recensement'!AB91=\"N\",\"No\",\"\"))))","v":""},{"$f":"IF('Outil Recensement'!AD91>0,'Outil Recensement'!AD91,\"\")","v":""},{"$f":"IF('Outil Recensement'!M91=\"Annuel\",\"Annually\",IF('Outil Recensement'!M91=\"Mensuel\",\"Monthly\",IF('Outil Recensement'!M91=\"Bihebdomadaire\",\"Biweekly\",IF('Outil Recensement'!M91=\"Hebdomadaire\",\"Weekly\",IF('Outil Recensement'!M91=\"Horaire\",\"Hourly\",IF('Outil Recensement'!M91=\"Semi-mensuel\",\"Semi-monthly\",IF('Outil Recensement'!M91=\"Applies\",\"Annual\",IF('Outil Recensement'!M91=\"Applicable\",\"Annual\",\"\"))))))))","v":""},{"$f":"IF('Outil Recensement'!N91>0,'Outil Recensement'!N91,\"\")","v":""},{"$f":"IF('Outil Recensement'!O91>0,'Outil Recensement'!O91,\"\")","v":""},{"$f":"IF('Outil Recensement'!I91=\"Refus\",\"Yes\",\"\")","v":""},{"$f":"IF('Outil Recensement'!I91=\"Refus\",\"Yes\",\"\")","v":""},{"$f":"IF('Outil Recensement'!AE91>0,'Outil Recensement'!AE91,\"\")","v":""},{"$f":"IF('Outil Recensement'!AF91>0,'Outil Recensement'!AF91,\"\")","v":""},{"$f":"IF('Outil Recensement'!AG91>0,'Outil Recensement'!AG91,\"\")","v":""},{"$f":"IF('Outil Recensement'!AH91>0,'Outil Recensement'!AH91,\"\")","v":""},{"$f":"IF('Outil Recensement'!AI91>0,'Outil Recensement'!AI91,\"\")","v":" "},{"$f":"IF('Outil Recensement'!AJ91>0,'Outil Recensement'!AJ91,\"\")","v":" "},{"$f":"IF('Outil Recensement'!W91>0,'Outil Recensement'!W91&\" \",\"\")&IF('Outil Recensement'!V91>0,'Outil Recensement'!V91,\"\")","v":""},null,{"$f":"IF('Outil Recensement'!X91>0,'Outil Recensement'!X91,\"\")","v":""},{"$f":"IF('Outil Recensement'!Y91>0,'Outil Recensement'!Y91,\"\")","v":""},{"$f":"IF('Outil Recensement'!Z91>0,'Outil Recensement'!Z91,\"\")","v":""},{"$f":"IF('Outil Recensement'!AA91>0,'Outil Recensement'!AA91,\"\")","v":""},{"$f":"IF('Outil Recensement'!E91>0,'Outil Recensement'!E91,\"\")","v":""},{"$f":"IF('Outil Recensement'!AK91>0,'Outil Recensement'!AK91,\"\")","v":""},{"$f":"IF('Outil Recensement'!AL91>0,'Outil Recensement'!AL91,\"\")","v":""},{"$f":"IF('Outil Recensement'!AM91>0,'Outil Recensement'!AM91,\"\")","v":""},{"$f":"IF('Outil Recensement'!AN91=\"Male\",\"Male\",IF('Outil Recensement'!AN91=\"Female\",\"Female\",IF('Outil Recensement'!AN91=\"M\",\"Male\",IF('Outil Recensement'!AN91=\"F\",\"Female\",\"\"))))","v":""},{"$f":"IF('Outil Recensement'!AO91=\"Single\",\"Single\",IF('Outil Recensement'!AO91=\"Family\",\"Family\",IF('Outil Recensement'!AO91=\"S\",\"Single\",IF('Outil Recensement'!AO91=\"F\",\"Family\",\"\"))))","v":""},{"$f":"IF('Outil Recensement'!AP91=\"Single\",\"Single\",IF('Outil Recensement'!AP91=\"Family\",\"Family\",IF('Outil Recensement'!AP91=\"S\",\"Single\",IF('Outil Recensement'!AP91=\"F\",\"Family\",\"\"))))","v":""},{"$f":"IF('Outil Recensement'!AQ91>0,'Outil Recensement'!AQ91,\"\")","v":""},{"$f":"IF('Outil Recensement'!AR91=\"Yes\",\"Yes\",IF('Outil Recensement'!AR91=\"No\",\"No\",IF('Outil Recensement'!AR91=\"Y\",\"Yes\",IF('Outil Recensement'!AR91=\"N\",\"No\",\"\"))))","v":""},{"$f":"IF('Outil Recensement'!AS91>0,'Outil Recensement'!AS91,\"\")","v":""},{"$f":"IF('Outil Recensement'!AT91>0,'Outil Recensement'!AT91,\"\")","v":""},{"$f":"IF('Outil Recensement'!AU91>0,'Outil Recensement'!AU91,\"\")","v":""},{"$f":"IF('Outil Recensement'!AV91=\"Male\",\"Male\",IF('Outil Recensement'!AV91=\"Female\",\"Female\",IF('Outil Recensement'!AV91=\"M\",\"Male\",IF('Outil Recensement'!AV91=\"F\",\"Female\",\"\"))))","v":""},{"$f":"IF('Outil Recensement'!AW91=\"Yes\",\"Yes\",IF('Outil Recensement'!AW91=\"No\",\"No\",IF('Outil Recensement'!AW91=\"Y\",\"Yes\",IF('Outil Recensement'!AW91=\"N\",\"No\",\"\"))))","v":""},{"$f":"IF('Outil Recensement'!AX91=\"Yes\",\"Yes\",IF('Outil Recensement'!AX91=\"No\",\"No\",IF('Outil Recensement'!AX91=\"Y\",\"Yes\",IF('Outil Recensement'!AX91=\"N\",\"No\",\"\"))))","v":""},{"$f":"IF('Outil Recensement'!AY91>0,'Outil Recensement'!AY91,\"\")","v":""},{"$f":"IF('Outil Recensement'!AZ91>0,'Outil Recensement'!AZ91,\"\")","v":""},{"$f":"IF('Outil Recensement'!BA91>0,'Outil Recensement'!BA91,\"\")","v":""},{"$f":"IF('Outil Recensement'!BB91=\"Male\",\"Male\",IF('Outil Recensement'!BB91=\"Female\",\"Female\",IF('Outil Recensement'!BB91=\"M\",\"Male\",IF('Outil Recensement'!BB91=\"F\",\"Female\",\"\"))))","v":""},{"$f":"IF('Outil Recensement'!BC91=\"Yes\",\"Yes\",IF('Outil Recensement'!BC91=\"No\",\"No\",IF('Outil Recensement'!BC91=\"Y\",\"Yes\",IF('Outil Recensement'!BC91=\"N\",\"No\",\"\"))))","v":""},{"$f":"IF('Outil Recensement'!BD91=\"Yes\",\"Yes\",IF('Outil Recensement'!BD91=\"No\",\"No\",IF('Outil Recensement'!BD91=\"Y\",\"Yes\",IF('Outil Recensement'!BD91=\"N\",\"No\",\"\"))))","v":""},{"$f":"IF('Outil Recensement'!BE91>0,'Outil Recensement'!BE91,\"\")","v":""},{"$f":"IF('Outil Recensement'!BF91>0,'Outil Recensement'!BF91,\"\")","v":""},{"$f":"IF('Outil Recensement'!BG91>0,'Outil Recensement'!BG91,\"\")","v":""},{"$f":"IF('Outil Recensement'!BH91=\"Male\",\"Male\",IF('Outil Recensement'!BH91=\"Female\",\"Female\",IF('Outil Recensement'!BH91=\"M\",\"Male\",IF('Outil Recensement'!BH91=\"F\",\"Female\",\"\"))))","v":""},{"$f":"IF('Outil Recensement'!BI91=\"Yes\",\"Yes\",IF('Outil Recensement'!BI91=\"No\",\"No\",IF('Outil Recensement'!BI91=\"Y\",\"Yes\",IF('Outil Recensement'!BI91=\"N\",\"No\",\"\"))))","v":""},{"$f":"IF('Outil Recensement'!BJ91=\"Yes\",\"Yes\",IF('Outil Recensement'!BJ91=\"No\",\"No\",IF('Outil Recensement'!BJ91=\"Y\",\"Yes\",IF('Outil Recensement'!BJ91=\"N\",\"No\",\"\"))))","v":""},{"$f":"IF('Outil Recensement'!BK91>0,'Outil Recensement'!BK91,\"\")","v":""},{"$f":"IF('Outil Recensement'!BL91>0,'Outil Recensement'!BL91,\"\")","v":""},{"$f":"IF('Outil Recensement'!BM91>0,'Outil Recensement'!BM91,\"\")","v":""},{"$f":"IF('Outil Recensement'!BN91=\"Male\",\"Male\",IF('Outil Recensement'!BN91=\"Female\",\"Female\",IF('Outil Recensement'!BN91=\"M\",\"Male\",IF('Outil Recensement'!BN91=\"F\",\"Female\",\"\"))))","v":""},{"$f":"IF('Outil Recensement'!BO91=\"Yes\",\"Yes\",IF('Outil Recensement'!BO91=\"No\",\"No\",IF('Outil Recensement'!BO91=\"Y\",\"Yes\",IF('Outil Recensement'!BO91=\"N\",\"No\",\"\"))))","v":""},{"$f":"IF('Outil Recensement'!BP91=\"Yes\",\"Yes\",IF('Outil Recensement'!BP91=\"No\",\"No\",IF('Outil Recensement'!BP91=\"Y\",\"Yes\",IF('Outil Recensement'!BP91=\"N\",\"No\",\"\"))))","v":""},{"$f":"IF('Outil Recensement'!BQ91>0,'Outil Recensement'!BQ91,\"\")","v":""},{"$f":"IF('Outil Recensement'!BR91>0,'Outil Recensement'!BR91,\"\")","v":""},{"$f":"IF('Outil Recensement'!BS91>0,'Outil Recensement'!BS91,\"\")","v":""},{"$f":"IF('Outil Recensement'!BT91=\"Male\",\"Male\",IF('Outil Recensement'!BT91=\"Female\",\"Female\",IF('Outil Recensement'!BT91=\"M\",\"Male\",IF('Outil Recensement'!BT91=\"F\",\"Female\",\"\"))))","v":""},{"$f":"IF('Outil Recensement'!BU91=\"Yes\",\"Yes\",IF('Outil Recensement'!BU91=\"No\",\"No\",IF('Outil Recensement'!BU91=\"Y\",\"Yes\",IF('Outil Recensement'!BU91=\"N\",\"No\",\"\"))))","v":""},{"$f":"IF('Outil Recensement'!BV91=\"Yes\",\"Yes\",IF('Outil Recensement'!BV91=\"No\",\"No\",IF('Outil Recensement'!BV91=\"Y\",\"Yes\",IF('Outil Recensement'!BV91=\"N\",\"No\",\"\"))))","v":""},{"$f":"IF('Outil Recensement'!BW91>0,'Outil Recensement'!BW91,\"\")","v":""},{"$f":"IF('Outil Recensement'!BX91>0,'Outil Recensement'!BX91,\"\")","v":""},{"$f":"IF('Outil Recensement'!BY91>0,'Outil Recensement'!BY91,\"\")","v":""},{"$f":"IF('Outil Recensement'!BZ91=\"Male\",\"Male\",IF('Outil Recensement'!BZ91=\"Female\",\"Female\",IF('Outil Recensement'!BZ91=\"M\",\"Male\",IF('Outil Recensement'!BZ91=\"F\",\"Female\",\"\"))))","v":""},{"$f":"IF('Outil Recensement'!CA91=\"Yes\",\"Yes\",IF('Outil Recensement'!CA91=\"No\",\"No\",IF('Outil Recensement'!CA91=\"Y\",\"Yes\",IF('Outil Recensement'!CA91=\"N\",\"No\",\"\"))))","v":""},{"$f":"IF('Outil Recensement'!CB91=\"Yes\",\"Yes\",IF('Outil Recensement'!CB91=\"No\",\"No\",IF('Outil Recensement'!CB91=\"Y\",\"Yes\",IF('Outil Recensement'!CB91=\"N\",\"No\",\"\"))))","v":""},{"$f":"IF('Outil Recensement'!CH91>0,'Outil Recensement'!CH91,\"\")","v":"    "}]
[{"$f":"IF('Outil Recensement'!A92>0,'Outil Recensement'!A92,\"\")","v":""},{"$f":"IF('Outil Recensement'!B92>0,'Outil Recensement'!B92,\"\")","v":""},{"$f":"IF('Outil Recensement'!C92>0,'Outil Recensement'!C92,\"\")","v":""},{"$f":"IF('Outil Recensement'!D92>0,'Outil Recensement'!D92,\"\")","v":""},{"$f":"IF('Outil Recensement'!P92>0,TEXT('Outil Recensement'!P92,\"000\"),\"\")","v":""},{"$f":"IF('Outil Recensement'!Q92>0,'Outil Recensement'!Q92,\"\")","v":""},{"$f":"IF('Outil Recensement'!R92>0,'Outil Recensement'!R92,\"\")","v":""},{"$f":"IF('Outil Recensement'!F92>0,DATEVALUE(TEXT('Outil Recensement'!F92,\"yyyy-mm-dd\")),\"\")","v":""},{"$f":"IF('Outil Recensement'!L92>0,DATEVALUE(TEXT('Outil Recensement'!L92,\"yyyy-mm-dd\")),\"\")","v":""},{"$f":"IF('Outil Recensement'!Y92>0,'Outil Recensement'!Y92,\"\")","v":""},{"$f":"IF('Outil Recensement'!T92>0,'Outil Recensement'!T92,\"\")","v":""},{"$f":"IF('Outil Recensement'!G92=\"Homme\",\"Male\",IF('Outil Recensement'!G92=\"Femme\",\"Female\",IF('Outil Recensement'!G92=\"H\",\"Male\",IF('Outil Recensement'!G92=\"F\",\"Female\",\"\"))))","v":""},{"$f":"IF('Outil Recensement'!U92=\"Yes\",\"Yes\",IF('Outil Recensement'!U92=\"No\",\"No\",IF('Outil Recensement'!U92=\"Y\",\"Yes\",IF('Outil Recensement'!U92=\"N\",\"No\",\"\"))))","v":""},{"$f":"IF('Outil Recensement'!I92=\"Individuelle\",\"Single\",IF('Outil Recensement'!I92=\"Familiale\",\"Family\",IF('Outil Recensement'!I92=\"Refus\",\"Family\",IF('Outil Recensement'!I92=\"Parent seul\",\"Family\",IF('Outil Recensement'!I92=\"Couple\",\"Family\",IF('Outil Recensement'!I92=\"In force\",\"Family\",IF('Outil Recensement'!I92=\"Applies\",\"Family\",IF('Outil Recensement'!I92=\"Applicable\",\"Family\",\"\"))))))))","v":""},{"$f":"IF('Outil Recensement'!AC92=\"Anglais\",\"English\",IF('Outil Recensement'!AC92=\"Français\",\"French\",IF('Outil Recensement'!AC92=\"A\",\"English\",IF('Outil Recensement'!AC92=\"F\",\"French\",\"\"))))","v":""},{"$f":"IF('Outil Recensement'!AB92=\"Oui\",\"Yes\",IF('Outil Recensement'!AB92=\"Non\",\"No\",IF('Outil Recensement'!AB92=\"O\",\"Yes\",IF('Outil Recensement'!AB92=\"N\",\"No\",\"\"))))","v":""},{"$f":"IF('Outil Recensement'!AD92>0,'Outil Recensement'!AD92,\"\")","v":""},{"$f":"IF('Outil Recensement'!M92=\"Annuel\",\"Annually\",IF('Outil Recensement'!M92=\"Mensuel\",\"Monthly\",IF('Outil Recensement'!M92=\"Bihebdomadaire\",\"Biweekly\",IF('Outil Recensement'!M92=\"Hebdomadaire\",\"Weekly\",IF('Outil Recensement'!M92=\"Horaire\",\"Hourly\",IF('Outil Recensement'!M92=\"Semi-mensuel\",\"Semi-monthly\",IF('Outil Recensement'!M92=\"Applies\",\"Annual\",IF('Outil Recensement'!M92=\"Applicable\",\"Annual\",\"\"))))))))","v":""},{"$f":"IF('Outil Recensement'!N92>0,'Outil Recensement'!N92,\"\")","v":""},{"$f":"IF('Outil Recensement'!O92>0,'Outil Recensement'!O92,\"\")","v":""},{"$f":"IF('Outil Recensement'!I92=\"Refus\",\"Yes\",\"\")","v":""},{"$f":"IF('Outil Recensement'!I92=\"Refus\",\"Yes\",\"\")","v":""},{"$f":"IF('Outil Recensement'!AE92>0,'Outil Recensement'!AE92,\"\")","v":""},{"$f":"IF('Outil Recensement'!AF92>0,'Outil Recensement'!AF92,\"\")","v":""},{"$f":"IF('Outil Recensement'!AG92>0,'Outil Recensement'!AG92,\"\")","v":""},{"$f":"IF('Outil Recensement'!AH92>0,'Outil Recensement'!AH92,\"\")","v":""},{"$f":"IF('Outil Recensement'!AI92>0,'Outil Recensement'!AI92,\"\")","v":" "},{"$f":"IF('Outil Recensement'!AJ92>0,'Outil Recensement'!AJ92,\"\")","v":" "},{"$f":"IF('Outil Recensement'!W92>0,'Outil Recensement'!W92&\" \",\"\")&IF('Outil Recensement'!V92>0,'Outil Recensement'!V92,\"\")","v":""},null,{"$f":"IF('Outil Recensement'!X92>0,'Outil Recensement'!X92,\"\")","v":""},{"$f":"IF('Outil Recensement'!Y92>0,'Outil Recensement'!Y92,\"\")","v":""},{"$f":"IF('Outil Recensement'!Z92>0,'Outil Recensement'!Z92,\"\")","v":""},{"$f":"IF('Outil Recensement'!AA92>0,'Outil Recensement'!AA92,\"\")","v":""},{"$f":"IF('Outil Recensement'!E92>0,'Outil Recensement'!E92,\"\")","v":""},{"$f":"IF('Outil Recensement'!AK92>0,'Outil Recensement'!AK92,\"\")","v":""},{"$f":"IF('Outil Recensement'!AL92>0,'Outil Recensement'!AL92,\"\")","v":""},{"$f":"IF('Outil Recensement'!AM92>0,'Outil Recensement'!AM92,\"\")","v":""},{"$f":"IF('Outil Recensement'!AN92=\"Male\",\"Male\",IF('Outil Recensement'!AN92=\"Female\",\"Female\",IF('Outil Recensement'!AN92=\"M\",\"Male\",IF('Outil Recensement'!AN92=\"F\",\"Female\",\"\"))))","v":""},{"$f":"IF('Outil Recensement'!AO92=\"Single\",\"Single\",IF('Outil Recensement'!AO92=\"Family\",\"Family\",IF('Outil Recensement'!AO92=\"S\",\"Single\",IF('Outil Recensement'!AO92=\"F\",\"Family\",\"\"))))","v":""},{"$f":"IF('Outil Recensement'!AP92=\"Single\",\"Single\",IF('Outil Recensement'!AP92=\"Family\",\"Family\",IF('Outil Recensement'!AP92=\"S\",\"Single\",IF('Outil Recensement'!AP92=\"F\",\"Family\",\"\"))))","v":""},{"$f":"IF('Outil Recensement'!AQ92>0,'Outil Recensement'!AQ92,\"\")","v":""},{"$f":"IF('Outil Recensement'!AR92=\"Yes\",\"Yes\",IF('Outil Recensement'!AR92=\"No\",\"No\",IF('Outil Recensement'!AR92=\"Y\",\"Yes\",IF('Outil Recensement'!AR92=\"N\",\"No\",\"\"))))","v":""},{"$f":"IF('Outil Recensement'!AS92>0,'Outil Recensement'!AS92,\"\")","v":""},{"$f":"IF('Outil Recensement'!AT92>0,'Outil Recensement'!AT92,\"\")","v":""},{"$f":"IF('Outil Recensement'!AU92>0,'Outil Recensement'!AU92,\"\")","v":""},{"$f":"IF('Outil Recensement'!AV92=\"Male\",\"Male\",IF('Outil Recensement'!AV92=\"Female\",\"Female\",IF('Outil Recensement'!AV92=\"M\",\"Male\",IF('Outil Recensement'!AV92=\"F\",\"Female\",\"\"))))","v":""},{"$f":"IF('Outil Recensement'!AW92=\"Yes\",\"Yes\",IF('Outil Recensement'!AW92=\"No\",\"No\",IF('Outil Recensement'!AW92=\"Y\",\"Yes\",IF('Outil Recensement'!AW92=\"N\",\"No\",\"\"))))","v":""},{"$f":"IF('Outil Recensement'!AX92=\"Yes\",\"Yes\",IF('Outil Recensement'!AX92=\"No\",\"No\",IF('Outil Recensement'!AX92=\"Y\",\"Yes\",IF('Outil Recensement'!AX92=\"N\",\"No\",\"\"))))","v":""},{"$f":"IF('Outil Recensement'!AY92>0,'Outil Recensement'!AY92,\"\")","v":""},{"$f":"IF('Outil Recensement'!AZ92>0,'Outil Recensement'!AZ92,\"\")","v":""},{"$f":"IF('Outil Recensement'!BA92>0,'Outil Recensement'!BA92,\"\")","v":""},{"$f":"IF('Outil Recensement'!BB92=\"Male\",\"Male\",IF('Outil Recensement'!BB92=\"Female\",\"Female\",IF('Outil Recensement'!BB92=\"M\",\"Male\",IF('Outil Recensement'!BB92=\"F\",\"Female\",\"\"))))","v":""},{"$f":"IF('Outil Recensement'!BC92=\"Yes\",\"Yes\",IF('Outil Recensement'!BC92=\"No\",\"No\",IF('Outil Recensement'!BC92=\"Y\",\"Yes\",IF('Outil Recensement'!BC92=\"N\",\"No\",\"\"))))","v":""},{"$f":"IF('Outil Recensement'!BD92=\"Yes\",\"Yes\",IF('Outil Recensement'!BD92=\"No\",\"No\",IF('Outil Recensement'!BD92=\"Y\",\"Yes\",IF('Outil Recensement'!BD92=\"N\",\"No\",\"\"))))","v":""},{"$f":"IF('Outil Recensement'!BE92>0,'Outil Recensement'!BE92,\"\")","v":""},{"$f":"IF('Outil Recensement'!BF92>0,'Outil Recensement'!BF92,\"\")","v":""},{"$f":"IF('Outil Recensement'!BG92>0,'Outil Recensement'!BG92,\"\")","v":""},{"$f":"IF('Outil Recensement'!BH92=\"Male\",\"Male\",IF('Outil Recensement'!BH92=\"Female\",\"Female\",IF('Outil Recensement'!BH92=\"M\",\"Male\",IF('Outil Recensement'!BH92=\"F\",\"Female\",\"\"))))","v":""},{"$f":"IF('Outil Recensement'!BI92=\"Yes\",\"Yes\",IF('Outil Recensement'!BI92=\"No\",\"No\",IF('Outil Recensement'!BI92=\"Y\",\"Yes\",IF('Outil Recensement'!BI92=\"N\",\"No\",\"\"))))","v":""},{"$f":"IF('Outil Recensement'!BJ92=\"Yes\",\"Yes\",IF('Outil Recensement'!BJ92=\"No\",\"No\",IF('Outil Recensement'!BJ92=\"Y\",\"Yes\",IF('Outil Recensement'!BJ92=\"N\",\"No\",\"\"))))","v":""},{"$f":"IF('Outil Recensement'!BK92>0,'Outil Recensement'!BK92,\"\")","v":""},{"$f":"IF('Outil Recensement'!BL92>0,'Outil Recensement'!BL92,\"\")","v":""},{"$f":"IF('Outil Recensement'!BM92>0,'Outil Recensement'!BM92,\"\")","v":""},{"$f":"IF('Outil Recensement'!BN92=\"Male\",\"Male\",IF('Outil Recensement'!BN92=\"Female\",\"Female\",IF('Outil Recensement'!BN92=\"M\",\"Male\",IF('Outil Recensement'!BN92=\"F\",\"Female\",\"\"))))","v":""},{"$f":"IF('Outil Recensement'!BO92=\"Yes\",\"Yes\",IF('Outil Recensement'!BO92=\"No\",\"No\",IF('Outil Recensement'!BO92=\"Y\",\"Yes\",IF('Outil Recensement'!BO92=\"N\",\"No\",\"\"))))","v":""},{"$f":"IF('Outil Recensement'!BP92=\"Yes\",\"Yes\",IF('Outil Recensement'!BP92=\"No\",\"No\",IF('Outil Recensement'!BP92=\"Y\",\"Yes\",IF('Outil Recensement'!BP92=\"N\",\"No\",\"\"))))","v":""},{"$f":"IF('Outil Recensement'!BQ92>0,'Outil Recensement'!BQ92,\"\")","v":""},{"$f":"IF('Outil Recensement'!BR92>0,'Outil Recensement'!BR92,\"\")","v":""},{"$f":"IF('Outil Recensement'!BS92>0,'Outil Recensement'!BS92,\"\")","v":""},{"$f":"IF('Outil Recensement'!BT92=\"Male\",\"Male\",IF('Outil Recensement'!BT92=\"Female\",\"Female\",IF('Outil Recensement'!BT92=\"M\",\"Male\",IF('Outil Recensement'!BT92=\"F\",\"Female\",\"\"))))","v":""},{"$f":"IF('Outil Recensement'!BU92=\"Yes\",\"Yes\",IF('Outil Recensement'!BU92=\"No\",\"No\",IF('Outil Recensement'!BU92=\"Y\",\"Yes\",IF('Outil Recensement'!BU92=\"N\",\"No\",\"\"))))","v":""},{"$f":"IF('Outil Recensement'!BV92=\"Yes\",\"Yes\",IF('Outil Recensement'!BV92=\"No\",\"No\",IF('Outil Recensement'!BV92=\"Y\",\"Yes\",IF('Outil Recensement'!BV92=\"N\",\"No\",\"\"))))","v":""},{"$f":"IF('Outil Recensement'!BW92>0,'Outil Recensement'!BW92,\"\")","v":""},{"$f":"IF('Outil Recensement'!BX92>0,'Outil Recensement'!BX92,\"\")","v":""},{"$f":"IF('Outil Recensement'!BY92>0,'Outil Recensement'!BY92,\"\")","v":""},{"$f":"IF('Outil Recensement'!BZ92=\"Male\",\"Male\",IF('Outil Recensement'!BZ92=\"Female\",\"Female\",IF('Outil Recensement'!BZ92=\"M\",\"Male\",IF('Outil Recensement'!BZ92=\"F\",\"Female\",\"\"))))","v":""},{"$f":"IF('Outil Recensement'!CA92=\"Yes\",\"Yes\",IF('Outil Recensement'!CA92=\"No\",\"No\",IF('Outil Recensement'!CA92=\"Y\",\"Yes\",IF('Outil Recensement'!CA92=\"N\",\"No\",\"\"))))","v":""},{"$f":"IF('Outil Recensement'!CB92=\"Yes\",\"Yes\",IF('Outil Recensement'!CB92=\"No\",\"No\",IF('Outil Recensement'!CB92=\"Y\",\"Yes\",IF('Outil Recensement'!CB92=\"N\",\"No\",\"\"))))","v":""},{"$f":"IF('Outil Recensement'!CH92>0,'Outil Recensement'!CH92,\"\")","v":"    "}]
[{"$f":"IF('Outil Recensement'!A93>0,'Outil Recensement'!A93,\"\")","v":""},{"$f":"IF('Outil Recensement'!B93>0,'Outil Recensement'!B93,\"\")","v":""},{"$f":"IF('Outil Recensement'!C93>0,'Outil Recensement'!C93,\"\")","v":""},{"$f":"IF('Outil Recensement'!D93>0,'Outil Recensement'!D93,\"\")","v":""},{"$f":"IF('Outil Recensement'!P93>0,TEXT('Outil Recensement'!P93,\"000\"),\"\")","v":""},{"$f":"IF('Outil Recensement'!Q93>0,'Outil Recensement'!Q93,\"\")","v":""},{"$f":"IF('Outil Recensement'!R93>0,'Outil Recensement'!R93,\"\")","v":""},{"$f":"IF('Outil Recensement'!F93>0,DATEVALUE(TEXT('Outil Recensement'!F93,\"yyyy-mm-dd\")),\"\")","v":""},{"$f":"IF('Outil Recensement'!L93>0,DATEVALUE(TEXT('Outil Recensement'!L93,\"yyyy-mm-dd\")),\"\")","v":""},{"$f":"IF('Outil Recensement'!Y93>0,'Outil Recensement'!Y93,\"\")","v":""},{"$f":"IF('Outil Recensement'!T93>0,'Outil Recensement'!T93,\"\")","v":""},{"$f":"IF('Outil Recensement'!G93=\"Homme\",\"Male\",IF('Outil Recensement'!G93=\"Femme\",\"Female\",IF('Outil Recensement'!G93=\"H\",\"Male\",IF('Outil Recensement'!G93=\"F\",\"Female\",\"\"))))","v":""},{"$f":"IF('Outil Recensement'!U93=\"Yes\",\"Yes\",IF('Outil Recensement'!U93=\"No\",\"No\",IF('Outil Recensement'!U93=\"Y\",\"Yes\",IF('Outil Recensement'!U93=\"N\",\"No\",\"\"))))","v":""},{"$f":"IF('Outil Recensement'!I93=\"Individuelle\",\"Single\",IF('Outil Recensement'!I93=\"Familiale\",\"Family\",IF('Outil Recensement'!I93=\"Refus\",\"Family\",IF('Outil Recensement'!I93=\"Parent seul\",\"Family\",IF('Outil Recensement'!I93=\"Couple\",\"Family\",IF('Outil Recensement'!I93=\"In force\",\"Family\",IF('Outil Recensement'!I93=\"Applies\",\"Family\",IF('Outil Recensement'!I93=\"Applicable\",\"Family\",\"\"))))))))","v":""},{"$f":"IF('Outil Recensement'!AC93=\"Anglais\",\"English\",IF('Outil Recensement'!AC93=\"Français\",\"French\",IF('Outil Recensement'!AC93=\"A\",\"English\",IF('Outil Recensement'!AC93=\"F\",\"French\",\"\"))))","v":""},{"$f":"IF('Outil Recensement'!AB93=\"Oui\",\"Yes\",IF('Outil Recensement'!AB93=\"Non\",\"No\",IF('Outil Recensement'!AB93=\"O\",\"Yes\",IF('Outil Recensement'!AB93=\"N\",\"No\",\"\"))))","v":""},{"$f":"IF('Outil Recensement'!AD93>0,'Outil Recensement'!AD93,\"\")","v":""},{"$f":"IF('Outil Recensement'!M93=\"Annuel\",\"Annually\",IF('Outil Recensement'!M93=\"Mensuel\",\"Monthly\",IF('Outil Recensement'!M93=\"Bihebdomadaire\",\"Biweekly\",IF('Outil Recensement'!M93=\"Hebdomadaire\",\"Weekly\",IF('Outil Recensement'!M93=\"Horaire\",\"Hourly\",IF('Outil Recensement'!M93=\"Semi-mensuel\",\"Semi-monthly\",IF('Outil Recensement'!M93=\"Applies\",\"Annual\",IF('Outil Recensement'!M93=\"Applicable\",\"Annual\",\"\"))))))))","v":""},{"$f":"IF('Outil Recensement'!N93>0,'Outil Recensement'!N93,\"\")","v":""},{"$f":"IF('Outil Recensement'!O93>0,'Outil Recensement'!O93,\"\")","v":""},{"$f":"IF('Outil Recensement'!I93=\"Refus\",\"Yes\",\"\")","v":""},{"$f":"IF('Outil Recensement'!I93=\"Refus\",\"Yes\",\"\")","v":""},{"$f":"IF('Outil Recensement'!AE93>0,'Outil Recensement'!AE93,\"\")","v":""},{"$f":"IF('Outil Recensement'!AF93>0,'Outil Recensement'!AF93,\"\")","v":""},{"$f":"IF('Outil Recensement'!AG93>0,'Outil Recensement'!AG93,\"\")","v":""},{"$f":"IF('Outil Recensement'!AH93>0,'Outil Recensement'!AH93,\"\")","v":""},{"$f":"IF('Outil Recensement'!AI93>0,'Outil Recensement'!AI93,\"\")","v":" "},{"$f":"IF('Outil Recensement'!AJ93>0,'Outil Recensement'!AJ93,\"\")","v":" "},{"$f":"IF('Outil Recensement'!W93>0,'Outil Recensement'!W93&\" \",\"\")&IF('Outil Recensement'!V93>0,'Outil Recensement'!V93,\"\")","v":""},null,{"$f":"IF('Outil Recensement'!X93>0,'Outil Recensement'!X93,\"\")","v":""},{"$f":"IF('Outil Recensement'!Y93>0,'Outil Recensement'!Y93,\"\")","v":""},{"$f":"IF('Outil Recensement'!Z93>0,'Outil Recensement'!Z93,\"\")","v":""},{"$f":"IF('Outil Recensement'!AA93>0,'Outil Recensement'!AA93,\"\")","v":""},{"$f":"IF('Outil Recensement'!E93>0,'Outil Recensement'!E93,\"\")","v":""},{"$f":"IF('Outil Recensement'!AK93>0,'Outil Recensement'!AK93,\"\")","v":""},{"$f":"IF('Outil Recensement'!AL93>0,'Outil Recensement'!AL93,\"\")","v":""},{"$f":"IF('Outil Recensement'!AM93>0,'Outil Recensement'!AM93,\"\")","v":""},{"$f":"IF('Outil Recensement'!AN93=\"Male\",\"Male\",IF('Outil Recensement'!AN93=\"Female\",\"Female\",IF('Outil Recensement'!AN93=\"M\",\"Male\",IF('Outil Recensement'!AN93=\"F\",\"Female\",\"\"))))","v":""},{"$f":"IF('Outil Recensement'!AO93=\"Single\",\"Single\",IF('Outil Recensement'!AO93=\"Family\",\"Family\",IF('Outil Recensement'!AO93=\"S\",\"Single\",IF('Outil Recensement'!AO93=\"F\",\"Family\",\"\"))))","v":""},{"$f":"IF('Outil Recensement'!AP93=\"Single\",\"Single\",IF('Outil Recensement'!AP93=\"Family\",\"Family\",IF('Outil Recensement'!AP93=\"S\",\"Single\",IF('Outil Recensement'!AP93=\"F\",\"Family\",\"\"))))","v":""},{"$f":"IF('Outil Recensement'!AQ93>0,'Outil Recensement'!AQ93,\"\")","v":""},{"$f":"IF('Outil Recensement'!AR93=\"Yes\",\"Yes\",IF('Outil Recensement'!AR93=\"No\",\"No\",IF('Outil Recensement'!AR93=\"Y\",\"Yes\",IF('Outil Recensement'!AR93=\"N\",\"No\",\"\"))))","v":""},{"$f":"IF('Outil Recensement'!AS93>0,'Outil Recensement'!AS93,\"\")","v":""},{"$f":"IF('Outil Recensement'!AT93>0,'Outil Recensement'!AT93,\"\")","v":""},{"$f":"IF('Outil Recensement'!AU93>0,'Outil Recensement'!AU93,\"\")","v":""},{"$f":"IF('Outil Recensement'!AV93=\"Male\",\"Male\",IF('Outil Recensement'!AV93=\"Female\",\"Female\",IF('Outil Recensement'!AV93=\"M\",\"Male\",IF('Outil Recensement'!AV93=\"F\",\"Female\",\"\"))))","v":""},{"$f":"IF('Outil Recensement'!AW93=\"Yes\",\"Yes\",IF('Outil Recensement'!AW93=\"No\",\"No\",IF('Outil Recensement'!AW93=\"Y\",\"Yes\",IF('Outil Recensement'!AW93=\"N\",\"No\",\"\"))))","v":""},{"$f":"IF('Outil Recensement'!AX93=\"Yes\",\"Yes\",IF('Outil Recensement'!AX93=\"No\",\"No\",IF('Outil Recensement'!AX93=\"Y\",\"Yes\",IF('Outil Recensement'!AX93=\"N\",\"No\",\"\"))))","v":""},{"$f":"IF('Outil Recensement'!AY93>0,'Outil Recensement'!AY93,\"\")","v":""},{"$f":"IF('Outil Recensement'!AZ93>0,'Outil Recensement'!AZ93,\"\")","v":""},{"$f":"IF('Outil Recensement'!BA93>0,'Outil Recensement'!BA93,\"\")","v":""},{"$f":"IF('Outil Recensement'!BB93=\"Male\",\"Male\",IF('Outil Recensement'!BB93=\"Female\",\"Female\",IF('Outil Recensement'!BB93=\"M\",\"Male\",IF('Outil Recensement'!BB93=\"F\",\"Female\",\"\"))))","v":""},{"$f":"IF('Outil Recensement'!BC93=\"Yes\",\"Yes\",IF('Outil Recensement'!BC93=\"No\",\"No\",IF('Outil Recensement'!BC93=\"Y\",\"Yes\",IF('Outil Recensement'!BC93=\"N\",\"No\",\"\"))))","v":""},{"$f":"IF('Outil Recensement'!BD93=\"Yes\",\"Yes\",IF('Outil Recensement'!BD93=\"No\",\"No\",IF('Outil Recensement'!BD93=\"Y\",\"Yes\",IF('Outil Recensement'!BD93=\"N\",\"No\",\"\"))))","v":""},{"$f":"IF('Outil Recensement'!BE93>0,'Outil Recensement'!BE93,\"\")","v":""},{"$f":"IF('Outil Recensement'!BF93>0,'Outil Recensement'!BF93,\"\")","v":""},{"$f":"IF('Outil Recensement'!BG93>0,'Outil Recensement'!BG93,\"\")","v":""},{"$f":"IF('Outil Recensement'!BH93=\"Male\",\"Male\",IF('Outil Recensement'!BH93=\"Female\",\"Female\",IF('Outil Recensement'!BH93=\"M\",\"Male\",IF('Outil Recensement'!BH93=\"F\",\"Female\",\"\"))))","v":""},{"$f":"IF('Outil Recensement'!BI93=\"Yes\",\"Yes\",IF('Outil Recensement'!BI93=\"No\",\"No\",IF('Outil Recensement'!BI93=\"Y\",\"Yes\",IF('Outil Recensement'!BI93=\"N\",\"No\",\"\"))))","v":""},{"$f":"IF('Outil Recensement'!BJ93=\"Yes\",\"Yes\",IF('Outil Recensement'!BJ93=\"No\",\"No\",IF('Outil Recensement'!BJ93=\"Y\",\"Yes\",IF('Outil Recensement'!BJ93=\"N\",\"No\",\"\"))))","v":""},{"$f":"IF('Outil Recensement'!BK93>0,'Outil Recensement'!BK93,\"\")","v":""},{"$f":"IF('Outil Recensement'!BL93>0,'Outil Recensement'!BL93,\"\")","v":""},{"$f":"IF('Outil Recensement'!BM93>0,'Outil Recensement'!BM93,\"\")","v":""},{"$f":"IF('Outil Recensement'!BN93=\"Male\",\"Male\",IF('Outil Recensement'!BN93=\"Female\",\"Female\",IF('Outil Recensement'!BN93=\"M\",\"Male\",IF('Outil Recensement'!BN93=\"F\",\"Female\",\"\"))))","v":""},{"$f":"IF('Outil Recensement'!BO93=\"Yes\",\"Yes\",IF('Outil Recensement'!BO93=\"No\",\"No\",IF('Outil Recensement'!BO93=\"Y\",\"Yes\",IF('Outil Recensement'!BO93=\"N\",\"No\",\"\"))))","v":""},{"$f":"IF('Outil Recensement'!BP93=\"Yes\",\"Yes\",IF('Outil Recensement'!BP93=\"No\",\"No\",IF('Outil Recensement'!BP93=\"Y\",\"Yes\",IF('Outil Recensement'!BP93=\"N\",\"No\",\"\"))))","v":""},{"$f":"IF('Outil Recensement'!BQ93>0,'Outil Recensement'!BQ93,\"\")","v":""},{"$f":"IF('Outil Recensement'!BR93>0,'Outil Recensement'!BR93,\"\")","v":""},{"$f":"IF('Outil Recensement'!BS93>0,'Outil Recensement'!BS93,\"\")","v":""},{"$f":"IF('Outil Recensement'!BT93=\"Male\",\"Male\",IF('Outil Recensement'!BT93=\"Female\",\"Female\",IF('Outil Recensement'!BT93=\"M\",\"Male\",IF('Outil Recensement'!BT93=\"F\",\"Female\",\"\"))))","v":""},{"$f":"IF('Outil Recensement'!BU93=\"Yes\",\"Yes\",IF('Outil Recensement'!BU93=\"No\",\"No\",IF('Outil Recensement'!BU93=\"Y\",\"Yes\",IF('Outil Recensement'!BU93=\"N\",\"No\",\"\"))))","v":""},{"$f":"IF('Outil Recensement'!BV93=\"Yes\",\"Yes\",IF('Outil Recensement'!BV93=\"No\",\"No\",IF('Outil Recensement'!BV93=\"Y\",\"Yes\",IF('Outil Recensement'!BV93=\"N\",\"No\",\"\"))))","v":""},{"$f":"IF('Outil Recensement'!BW93>0,'Outil Recensement'!BW93,\"\")","v":""},{"$f":"IF('Outil Recensement'!BX93>0,'Outil Recensement'!BX93,\"\")","v":""},{"$f":"IF('Outil Recensement'!BY93>0,'Outil Recensement'!BY93,\"\")","v":""},{"$f":"IF('Outil Recensement'!BZ93=\"Male\",\"Male\",IF('Outil Recensement'!BZ93=\"Female\",\"Female\",IF('Outil Recensement'!BZ93=\"M\",\"Male\",IF('Outil Recensement'!BZ93=\"F\",\"Female\",\"\"))))","v":""},{"$f":"IF('Outil Recensement'!CA93=\"Yes\",\"Yes\",IF('Outil Recensement'!CA93=\"No\",\"No\",IF('Outil Recensement'!CA93=\"Y\",\"Yes\",IF('Outil Recensement'!CA93=\"N\",\"No\",\"\"))))","v":""},{"$f":"IF('Outil Recensement'!CB93=\"Yes\",\"Yes\",IF('Outil Recensement'!CB93=\"No\",\"No\",IF('Outil Recensement'!CB93=\"Y\",\"Yes\",IF('Outil Recensement'!CB93=\"N\",\"No\",\"\"))))","v":""},{"$f":"IF('Outil Recensement'!CH93>0,'Outil Recensement'!CH93,\"\")","v":"    "}]
[{"$f":"IF('Outil Recensement'!A94>0,'Outil Recensement'!A94,\"\")","v":""},{"$f":"IF('Outil Recensement'!B94>0,'Outil Recensement'!B94,\"\")","v":""},{"$f":"IF('Outil Recensement'!C94>0,'Outil Recensement'!C94,\"\")","v":""},{"$f":"IF('Outil Recensement'!D94>0,'Outil Recensement'!D94,\"\")","v":""},{"$f":"IF('Outil Recensement'!P94>0,TEXT('Outil Recensement'!P94,\"000\"),\"\")","v":""},{"$f":"IF('Outil Recensement'!Q94>0,'Outil Recensement'!Q94,\"\")","v":""},{"$f":"IF('Outil Recensement'!R94>0,'Outil Recensement'!R94,\"\")","v":""},{"$f":"IF('Outil Recensement'!F94>0,DATEVALUE(TEXT('Outil Recensement'!F94,\"yyyy-mm-dd\")),\"\")","v":""},{"$f":"IF('Outil Recensement'!L94>0,DATEVALUE(TEXT('Outil Recensement'!L94,\"yyyy-mm-dd\")),\"\")","v":""},{"$f":"IF('Outil Recensement'!Y94>0,'Outil Recensement'!Y94,\"\")","v":""},{"$f":"IF('Outil Recensement'!T94>0,'Outil Recensement'!T94,\"\")","v":""},{"$f":"IF('Outil Recensement'!G94=\"Homme\",\"Male\",IF('Outil Recensement'!G94=\"Femme\",\"Female\",IF('Outil Recensement'!G94=\"H\",\"Male\",IF('Outil Recensement'!G94=\"F\",\"Female\",\"\"))))","v":""},{"$f":"IF('Outil Recensement'!U94=\"Yes\",\"Yes\",IF('Outil Recensement'!U94=\"No\",\"No\",IF('Outil Recensement'!U94=\"Y\",\"Yes\",IF('Outil Recensement'!U94=\"N\",\"No\",\"\"))))","v":""},{"$f":"IF('Outil Recensement'!I94=\"Individuelle\",\"Single\",IF('Outil Recensement'!I94=\"Familiale\",\"Family\",IF('Outil Recensement'!I94=\"Refus\",\"Family\",IF('Outil Recensement'!I94=\"Parent seul\",\"Family\",IF('Outil Recensement'!I94=\"Couple\",\"Family\",IF('Outil Recensement'!I94=\"In force\",\"Family\",IF('Outil Recensement'!I94=\"Applies\",\"Family\",IF('Outil Recensement'!I94=\"Applicable\",\"Family\",\"\"))))))))","v":""},{"$f":"IF('Outil Recensement'!AC94=\"Anglais\",\"English\",IF('Outil Recensement'!AC94=\"Français\",\"French\",IF('Outil Recensement'!AC94=\"A\",\"English\",IF('Outil Recensement'!AC94=\"F\",\"French\",\"\"))))","v":""},{"$f":"IF('Outil Recensement'!AB94=\"Oui\",\"Yes\",IF('Outil Recensement'!AB94=\"Non\",\"No\",IF('Outil Recensement'!AB94=\"O\",\"Yes\",IF('Outil Recensement'!AB94=\"N\",\"No\",\"\"))))","v":""},{"$f":"IF('Outil Recensement'!AD94>0,'Outil Recensement'!AD94,\"\")","v":""},{"$f":"IF('Outil Recensement'!M94=\"Annuel\",\"Annually\",IF('Outil Recensement'!M94=\"Mensuel\",\"Monthly\",IF('Outil Recensement'!M94=\"Bihebdomadaire\",\"Biweekly\",IF('Outil Recensement'!M94=\"Hebdomadaire\",\"Weekly\",IF('Outil Recensement'!M94=\"Horaire\",\"Hourly\",IF('Outil Recensement'!M94=\"Semi-mensuel\",\"Semi-monthly\",IF('Outil Recensement'!M94=\"Applies\",\"Annual\",IF('Outil Recensement'!M94=\"Applicable\",\"Annual\",\"\"))))))))","v":""},{"$f":"IF('Outil Recensement'!N94>0,'Outil Recensement'!N94,\"\")","v":""},{"$f":"IF('Outil Recensement'!O94>0,'Outil Recensement'!O94,\"\")","v":""},{"$f":"IF('Outil Recensement'!I94=\"Refus\",\"Yes\",\"\")","v":""},{"$f":"IF('Outil Recensement'!I94=\"Refus\",\"Yes\",\"\")","v":""},{"$f":"IF('Outil Recensement'!AE94>0,'Outil Recensement'!AE94,\"\")","v":""},{"$f":"IF('Outil Recensement'!AF94>0,'Outil Recensement'!AF94,\"\")","v":""},{"$f":"IF('Outil Recensement'!AG94>0,'Outil Recensement'!AG94,\"\")","v":""},{"$f":"IF('Outil Recensement'!AH94>0,'Outil Recensement'!AH94,\"\")","v":""},{"$f":"IF('Outil Recensement'!AI94>0,'Outil Recensement'!AI94,\"\")","v":" "},{"$f":"IF('Outil Recensement'!AJ94>0,'Outil Recensement'!AJ94,\"\")","v":" "},{"$f":"IF('Outil Recensement'!W94>0,'Outil Recensement'!W94&\" \",\"\")&IF('Outil Recensement'!V94>0,'Outil Recensement'!V94,\"\")","v":""},null,{"$f":"IF('Outil Recensement'!X94>0,'Outil Recensement'!X94,\"\")","v":""},{"$f":"IF('Outil Recensement'!Y94>0,'Outil Recensement'!Y94,\"\")","v":""},{"$f":"IF('Outil Recensement'!Z94>0,'Outil Recensement'!Z94,\"\")","v":""},{"$f":"IF('Outil Recensement'!AA94>0,'Outil Recensement'!AA94,\"\")","v":""},{"$f":"IF('Outil Recensement'!E94>0,'Outil Recensement'!E94,\"\")","v":""},{"$f":"IF('Outil Recensement'!AK94>0,'Outil Recensement'!AK94,\"\")","v":""},{"$f":"IF('Outil Recensement'!AL94>0,'Outil Recensement'!AL94,\"\")","v":""},{"$f":"IF('Outil Recensement'!AM94>0,'Outil Recensement'!AM94,\"\")","v":""},{"$f":"IF('Outil Recensement'!AN94=\"Male\",\"Male\",IF('Outil Recensement'!AN94=\"Female\",\"Female\",IF('Outil Recensement'!AN94=\"M\",\"Male\",IF('Outil Recensement'!AN94=\"F\",\"Female\",\"\"))))","v":""},{"$f":"IF('Outil Recensement'!AO94=\"Single\",\"Single\",IF('Outil Recensement'!AO94=\"Family\",\"Family\",IF('Outil Recensement'!AO94=\"S\",\"Single\",IF('Outil Recensement'!AO94=\"F\",\"Family\",\"\"))))","v":""},{"$f":"IF('Outil Recensement'!AP94=\"Single\",\"Single\",IF('Outil Recensement'!AP94=\"Family\",\"Family\",IF('Outil Recensement'!AP94=\"S\",\"Single\",IF('Outil Recensement'!AP94=\"F\",\"Family\",\"\"))))","v":""},{"$f":"IF('Outil Recensement'!AQ94>0,'Outil Recensement'!AQ94,\"\")","v":""},{"$f":"IF('Outil Recensement'!AR94=\"Yes\",\"Yes\",IF('Outil Recensement'!AR94=\"No\",\"No\",IF('Outil Recensement'!AR94=\"Y\",\"Yes\",IF('Outil Recensement'!AR94=\"N\",\"No\",\"\"))))","v":""},{"$f":"IF('Outil Recensement'!AS94>0,'Outil Recensement'!AS94,\"\")","v":""},{"$f":"IF('Outil Recensement'!AT94>0,'Outil Recensement'!AT94,\"\")","v":""},{"$f":"IF('Outil Recensement'!AU94>0,'Outil Recensement'!AU94,\"\")","v":""},{"$f":"IF('Outil Recensement'!AV94=\"Male\",\"Male\",IF('Outil Recensement'!AV94=\"Female\",\"Female\",IF('Outil Recensement'!AV94=\"M\",\"Male\",IF('Outil Recensement'!AV94=\"F\",\"Female\",\"\"))))","v":""},{"$f":"IF('Outil Recensement'!AW94=\"Yes\",\"Yes\",IF('Outil Recensement'!AW94=\"No\",\"No\",IF('Outil Recensement'!AW94=\"Y\",\"Yes\",IF('Outil Recensement'!AW94=\"N\",\"No\",\"\"))))","v":""},{"$f":"IF('Outil Recensement'!AX94=\"Yes\",\"Yes\",IF('Outil Recensement'!AX94=\"No\",\"No\",IF('Outil Recensement'!AX94=\"Y\",\"Yes\",IF('Outil Recensement'!AX94=\"N\",\"No\",\"\"))))","v":""},{"$f":"IF('Outil Recensement'!AY94>0,'Outil Recensement'!AY94,\"\")","v":""},{"$f":"IF('Outil Recensement'!AZ94>0,'Outil Recensement'!AZ94,\"\")","v":""},{"$f":"IF('Outil Recensement'!BA94>0,'Outil Recensement'!BA94,\"\")","v":""},{"$f":"IF('Outil Recensement'!BB94=\"Male\",\"Male\",IF('Outil Recensement'!BB94=\"Female\",\"Female\",IF('Outil Recensement'!BB94=\"M\",\"Male\",IF('Outil Recensement'!BB94=\"F\",\"Female\",\"\"))))","v":""},{"$f":"IF('Outil Recensement'!BC94=\"Yes\",\"Yes\",IF('Outil Recensement'!BC94=\"No\",\"No\",IF('Outil Recensement'!BC94=\"Y\",\"Yes\",IF('Outil Recensement'!BC94=\"N\",\"No\",\"\"))))","v":""},{"$f":"IF('Outil Recensement'!BD94=\"Yes\",\"Yes\",IF('Outil Recensement'!BD94=\"No\",\"No\",IF('Outil Recensement'!BD94=\"Y\",\"Yes\",IF('Outil Recensement'!BD94=\"N\",\"No\",\"\"))))","v":""},{"$f":"IF('Outil Recensement'!BE94>0,'Outil Recensement'!BE94,\"\")","v":""},{"$f":"IF('Outil Recensement'!BF94>0,'Outil Recensement'!BF94,\"\")","v":""},{"$f":"IF('Outil Recensement'!BG94>0,'Outil Recensement'!BG94,\"\")","v":""},{"$f":"IF('Outil Recensement'!BH94=\"Male\",\"Male\",IF('Outil Recensement'!BH94=\"Female\",\"Female\",IF('Outil Recensement'!BH94=\"M\",\"Male\",IF('Outil Recensement'!BH94=\"F\",\"Female\",\"\"))))","v":""},{"$f":"IF('Outil Recensement'!BI94=\"Yes\",\"Yes\",IF('Outil Recensement'!BI94=\"No\",\"No\",IF('Outil Recensement'!BI94=\"Y\",\"Yes\",IF('Outil Recensement'!BI94=\"N\",\"No\",\"\"))))","v":""},{"$f":"IF('Outil Recensement'!BJ94=\"Yes\",\"Yes\",IF('Outil Recensement'!BJ94=\"No\",\"No\",IF('Outil Recensement'!BJ94=\"Y\",\"Yes\",IF('Outil Recensement'!BJ94=\"N\",\"No\",\"\"))))","v":""},{"$f":"IF('Outil Recensement'!BK94>0,'Outil Recensement'!BK94,\"\")","v":""},{"$f":"IF('Outil Recensement'!BL94>0,'Outil Recensement'!BL94,\"\")","v":""},{"$f":"IF('Outil Recensement'!BM94>0,'Outil Recensement'!BM94,\"\")","v":""},{"$f":"IF('Outil Recensement'!BN94=\"Male\",\"Male\",IF('Outil Recensement'!BN94=\"Female\",\"Female\",IF('Outil Recensement'!BN94=\"M\",\"Male\",IF('Outil Recensement'!BN94=\"F\",\"Female\",\"\"))))","v":""},{"$f":"IF('Outil Recensement'!BO94=\"Yes\",\"Yes\",IF('Outil Recensement'!BO94=\"No\",\"No\",IF('Outil Recensement'!BO94=\"Y\",\"Yes\",IF('Outil Recensement'!BO94=\"N\",\"No\",\"\"))))","v":""},{"$f":"IF('Outil Recensement'!BP94=\"Yes\",\"Yes\",IF('Outil Recensement'!BP94=\"No\",\"No\",IF('Outil Recensement'!BP94=\"Y\",\"Yes\",IF('Outil Recensement'!BP94=\"N\",\"No\",\"\"))))","v":""},{"$f":"IF('Outil Recensement'!BQ94>0,'Outil Recensement'!BQ94,\"\")","v":""},{"$f":"IF('Outil Recensement'!BR94>0,'Outil Recensement'!BR94,\"\")","v":""},{"$f":"IF('Outil Recensement'!BS94>0,'Outil Recensement'!BS94,\"\")","v":""},{"$f":"IF('Outil Recensement'!BT94=\"Male\",\"Male\",IF('Outil Recensement'!BT94=\"Female\",\"Female\",IF('Outil Recensement'!BT94=\"M\",\"Male\",IF('Outil Recensement'!BT94=\"F\",\"Female\",\"\"))))","v":""},{"$f":"IF('Outil Recensement'!BU94=\"Yes\",\"Yes\",IF('Outil Recensement'!BU94=\"No\",\"No\",IF('Outil Recensement'!BU94=\"Y\",\"Yes\",IF('Outil Recensement'!BU94=\"N\",\"No\",\"\"))))","v":""},{"$f":"IF('Outil Recensement'!BV94=\"Yes\",\"Yes\",IF('Outil Recensement'!BV94=\"No\",\"No\",IF('Outil Recensement'!BV94=\"Y\",\"Yes\",IF('Outil Recensement'!BV94=\"N\",\"No\",\"\"))))","v":""},{"$f":"IF('Outil Recensement'!BW94>0,'Outil Recensement'!BW94,\"\")","v":""},{"$f":"IF('Outil Recensement'!BX94>0,'Outil Recensement'!BX94,\"\")","v":""},{"$f":"IF('Outil Recensement'!BY94>0,'Outil Recensement'!BY94,\"\")","v":""},{"$f":"IF('Outil Recensement'!BZ94=\"Male\",\"Male\",IF('Outil Recensement'!BZ94=\"Female\",\"Female\",IF('Outil Recensement'!BZ94=\"M\",\"Male\",IF('Outil Recensement'!BZ94=\"F\",\"Female\",\"\"))))","v":""},{"$f":"IF('Outil Recensement'!CA94=\"Yes\",\"Yes\",IF('Outil Recensement'!CA94=\"No\",\"No\",IF('Outil Recensement'!CA94=\"Y\",\"Yes\",IF('Outil Recensement'!CA94=\"N\",\"No\",\"\"))))","v":""},{"$f":"IF('Outil Recensement'!CB94=\"Yes\",\"Yes\",IF('Outil Recensement'!CB94=\"No\",\"No\",IF('Outil Recensement'!CB94=\"Y\",\"Yes\",IF('Outil Recensement'!CB94=\"N\",\"No\",\"\"))))","v":""},{"$f":"IF('Outil Recensement'!CH94>0,'Outil Recensement'!CH94,\"\")","v":"    "}]
[{"$f":"IF('Outil Recensement'!A95>0,'Outil Recensement'!A95,\"\")","v":""},{"$f":"IF('Outil Recensement'!B95>0,'Outil Recensement'!B95,\"\")","v":""},{"$f":"IF('Outil Recensement'!C95>0,'Outil Recensement'!C95,\"\")","v":""},{"$f":"IF('Outil Recensement'!D95>0,'Outil Recensement'!D95,\"\")","v":""},{"$f":"IF('Outil Recensement'!P95>0,TEXT('Outil Recensement'!P95,\"000\"),\"\")","v":""},{"$f":"IF('Outil Recensement'!Q95>0,'Outil Recensement'!Q95,\"\")","v":""},{"$f":"IF('Outil Recensement'!R95>0,'Outil Recensement'!R95,\"\")","v":""},{"$f":"IF('Outil Recensement'!F95>0,DATEVALUE(TEXT('Outil Recensement'!F95,\"yyyy-mm-dd\")),\"\")","v":""},{"$f":"IF('Outil Recensement'!L95>0,DATEVALUE(TEXT('Outil Recensement'!L95,\"yyyy-mm-dd\")),\"\")","v":""},{"$f":"IF('Outil Recensement'!Y95>0,'Outil Recensement'!Y95,\"\")","v":""},{"$f":"IF('Outil Recensement'!T95>0,'Outil Recensement'!T95,\"\")","v":""},{"$f":"IF('Outil Recensement'!G95=\"Homme\",\"Male\",IF('Outil Recensement'!G95=\"Femme\",\"Female\",IF('Outil Recensement'!G95=\"H\",\"Male\",IF('Outil Recensement'!G95=\"F\",\"Female\",\"\"))))","v":""},{"$f":"IF('Outil Recensement'!U95=\"Yes\",\"Yes\",IF('Outil Recensement'!U95=\"No\",\"No\",IF('Outil Recensement'!U95=\"Y\",\"Yes\",IF('Outil Recensement'!U95=\"N\",\"No\",\"\"))))","v":""},{"$f":"IF('Outil Recensement'!I95=\"Individuelle\",\"Single\",IF('Outil Recensement'!I95=\"Familiale\",\"Family\",IF('Outil Recensement'!I95=\"Refus\",\"Family\",IF('Outil Recensement'!I95=\"Parent seul\",\"Family\",IF('Outil Recensement'!I95=\"Couple\",\"Family\",IF('Outil Recensement'!I95=\"In force\",\"Family\",IF('Outil Recensement'!I95=\"Applies\",\"Family\",IF('Outil Recensement'!I95=\"Applicable\",\"Family\",\"\"))))))))","v":""},{"$f":"IF('Outil Recensement'!AC95=\"Anglais\",\"English\",IF('Outil Recensement'!AC95=\"Français\",\"French\",IF('Outil Recensement'!AC95=\"A\",\"English\",IF('Outil Recensement'!AC95=\"F\",\"French\",\"\"))))","v":""},{"$f":"IF('Outil Recensement'!AB95=\"Oui\",\"Yes\",IF('Outil Recensement'!AB95=\"Non\",\"No\",IF('Outil Recensement'!AB95=\"O\",\"Yes\",IF('Outil Recensement'!AB95=\"N\",\"No\",\"\"))))","v":""},{"$f":"IF('Outil Recensement'!AD95>0,'Outil Recensement'!AD95,\"\")","v":""},{"$f":"IF('Outil Recensement'!M95=\"Annuel\",\"Annually\",IF('Outil Recensement'!M95=\"Mensuel\",\"Monthly\",IF('Outil Recensement'!M95=\"Bihebdomadaire\",\"Biweekly\",IF('Outil Recensement'!M95=\"Hebdomadaire\",\"Weekly\",IF('Outil Recensement'!M95=\"Horaire\",\"Hourly\",IF('Outil Recensement'!M95=\"Semi-mensuel\",\"Semi-monthly\",IF('Outil Recensement'!M95=\"Applies\",\"Annual\",IF('Outil Recensement'!M95=\"Applicable\",\"Annual\",\"\"))))))))","v":""},{"$f":"IF('Outil Recensement'!N95>0,'Outil Recensement'!N95,\"\")","v":""},{"$f":"IF('Outil Recensement'!O95>0,'Outil Recensement'!O95,\"\")","v":""},{"$f":"IF('Outil Recensement'!I95=\"Refus\",\"Yes\",\"\")","v":""},{"$f":"IF('Outil Recensement'!I95=\"Refus\",\"Yes\",\"\")","v":""},{"$f":"IF('Outil Recensement'!AE95>0,'Outil Recensement'!AE95,\"\")","v":""},{"$f":"IF('Outil Recensement'!AF95>0,'Outil Recensement'!AF95,\"\")","v":""},{"$f":"IF('Outil Recensement'!AG95>0,'Outil Recensement'!AG95,\"\")","v":""},{"$f":"IF('Outil Recensement'!AH95>0,'Outil Recensement'!AH95,\"\")","v":""},{"$f":"IF('Outil Recensement'!AI95>0,'Outil Recensement'!AI95,\"\")","v":" "},{"$f":"IF('Outil Recensement'!AJ95>0,'Outil Recensement'!AJ95,\"\")","v":" "},{"$f":"IF('Outil Recensement'!W95>0,'Outil Recensement'!W95&\" \",\"\")&IF('Outil Recensement'!V95>0,'Outil Recensement'!V95,\"\")","v":""},null,{"$f":"IF('Outil Recensement'!X95>0,'Outil Recensement'!X95,\"\")","v":""},{"$f":"IF('Outil Recensement'!Y95>0,'Outil Recensement'!Y95,\"\")","v":""},{"$f":"IF('Outil Recensement'!Z95>0,'Outil Recensement'!Z95,\"\")","v":""},{"$f":"IF('Outil Recensement'!AA95>0,'Outil Recensement'!AA95,\"\")","v":""},{"$f":"IF('Outil Recensement'!E95>0,'Outil Recensement'!E95,\"\")","v":""},{"$f":"IF('Outil Recensement'!AK95>0,'Outil Recensement'!AK95,\"\")","v":""},{"$f":"IF('Outil Recensement'!AL95>0,'Outil Recensement'!AL95,\"\")","v":""},{"$f":"IF('Outil Recensement'!AM95>0,'Outil Recensement'!AM95,\"\")","v":""},{"$f":"IF('Outil Recensement'!AN95=\"Male\",\"Male\",IF('Outil Recensement'!AN95=\"Female\",\"Female\",IF('Outil Recensement'!AN95=\"M\",\"Male\",IF('Outil Recensement'!AN95=\"F\",\"Female\",\"\"))))","v":""},{"$f":"IF('Outil Recensement'!AO95=\"Single\",\"Single\",IF('Outil Recensement'!AO95=\"Family\",\"Family\",IF('Outil Recensement'!AO95=\"S\",\"Single\",IF('Outil Recensement'!AO95=\"F\",\"Family\",\"\"))))","v":""},{"$f":"IF('Outil Recensement'!AP95=\"Single\",\"Single\",IF('Outil Recensement'!AP95=\"Family\",\"Family\",IF('Outil Recensement'!AP95=\"S\",\"Single\",IF('Outil Recensement'!AP95=\"F\",\"Family\",\"\"))))","v":""},{"$f":"IF('Outil Recensement'!AQ95>0,'Outil Recensement'!AQ95,\"\")","v":""},{"$f":"IF('Outil Recensement'!AR95=\"Yes\",\"Yes\",IF('Outil Recensement'!AR95=\"No\",\"No\",IF('Outil Recensement'!AR95=\"Y\",\"Yes\",IF('Outil Recensement'!AR95=\"N\",\"No\",\"\"))))","v":""},{"$f":"IF('Outil Recensement'!AS95>0,'Outil Recensement'!AS95,\"\")","v":""},{"$f":"IF('Outil Recensement'!AT95>0,'Outil Recensement'!AT95,\"\")","v":""},{"$f":"IF('Outil Recensement'!AU95>0,'Outil Recensement'!AU95,\"\")","v":""},{"$f":"IF('Outil Recensement'!AV95=\"Male\",\"Male\",IF('Outil Recensement'!AV95=\"Female\",\"Female\",IF('Outil Recensement'!AV95=\"M\",\"Male\",IF('Outil Recensement'!AV95=\"F\",\"Female\",\"\"))))","v":""},{"$f":"IF('Outil Recensement'!AW95=\"Yes\",\"Yes\",IF('Outil Recensement'!AW95=\"No\",\"No\",IF('Outil Recensement'!AW95=\"Y\",\"Yes\",IF('Outil Recensement'!AW95=\"N\",\"No\",\"\"))))","v":""},{"$f":"IF('Outil Recensement'!AX95=\"Yes\",\"Yes\",IF('Outil Recensement'!AX95=\"No\",\"No\",IF('Outil Recensement'!AX95=\"Y\",\"Yes\",IF('Outil Recensement'!AX95=\"N\",\"No\",\"\"))))","v":""},{"$f":"IF('Outil Recensement'!AY95>0,'Outil Recensement'!AY95,\"\")","v":""},{"$f":"IF('Outil Recensement'!AZ95>0,'Outil Recensement'!AZ95,\"\")","v":""},{"$f":"IF('Outil Recensement'!BA95>0,'Outil Recensement'!BA95,\"\")","v":""},{"$f":"IF('Outil Recensement'!BB95=\"Male\",\"Male\",IF('Outil Recensement'!BB95=\"Female\",\"Female\",IF('Outil Recensement'!BB95=\"M\",\"Male\",IF('Outil Recensement'!BB95=\"F\",\"Female\",\"\"))))","v":""},{"$f":"IF('Outil Recensement'!BC95=\"Yes\",\"Yes\",IF('Outil Recensement'!BC95=\"No\",\"No\",IF('Outil Recensement'!BC95=\"Y\",\"Yes\",IF('Outil Recensement'!BC95=\"N\",\"No\",\"\"))))","v":""},{"$f":"IF('Outil Recensement'!BD95=\"Yes\",\"Yes\",IF('Outil Recensement'!BD95=\"No\",\"No\",IF('Outil Recensement'!BD95=\"Y\",\"Yes\",IF('Outil Recensement'!BD95=\"N\",\"No\",\"\"))))","v":""},{"$f":"IF('Outil Recensement'!BE95>0,'Outil Recensement'!BE95,\"\")","v":""},{"$f":"IF('Outil Recensement'!BF95>0,'Outil Recensement'!BF95,\"\")","v":""},{"$f":"IF('Outil Recensement'!BG95>0,'Outil Recensement'!BG95,\"\")","v":""},{"$f":"IF('Outil Recensement'!BH95=\"Male\",\"Male\",IF('Outil Recensement'!BH95=\"Female\",\"Female\",IF('Outil Recensement'!BH95=\"M\",\"Male\",IF('Outil Recensement'!BH95=\"F\",\"Female\",\"\"))))","v":""},{"$f":"IF('Outil Recensement'!BI95=\"Yes\",\"Yes\",IF('Outil Recensement'!BI95=\"No\",\"No\",IF('Outil Recensement'!BI95=\"Y\",\"Yes\",IF('Outil Recensement'!BI95=\"N\",\"No\",\"\"))))","v":""},{"$f":"IF('Outil Recensement'!BJ95=\"Yes\",\"Yes\",IF('Outil Recensement'!BJ95=\"No\",\"No\",IF('Outil Recensement'!BJ95=\"Y\",\"Yes\",IF('Outil Recensement'!BJ95=\"N\",\"No\",\"\"))))","v":""},{"$f":"IF('Outil Recensement'!BK95>0,'Outil Recensement'!BK95,\"\")","v":""},{"$f":"IF('Outil Recensement'!BL95>0,'Outil Recensement'!BL95,\"\")","v":""},{"$f":"IF('Outil Recensement'!BM95>0,'Outil Recensement'!BM95,\"\")","v":""},{"$f":"IF('Outil Recensement'!BN95=\"Male\",\"Male\",IF('Outil Recensement'!BN95=\"Female\",\"Female\",IF('Outil Recensement'!BN95=\"M\",\"Male\",IF('Outil Recensement'!BN95=\"F\",\"Female\",\"\"))))","v":""},{"$f":"IF('Outil Recensement'!BO95=\"Yes\",\"Yes\",IF('Outil Recensement'!BO95=\"No\",\"No\",IF('Outil Recensement'!BO95=\"Y\",\"Yes\",IF('Outil Recensement'!BO95=\"N\",\"No\",\"\"))))","v":""},{"$f":"IF('Outil Recensement'!BP95=\"Yes\",\"Yes\",IF('Outil Recensement'!BP95=\"No\",\"No\",IF('Outil Recensement'!BP95=\"Y\",\"Yes\",IF('Outil Recensement'!BP95=\"N\",\"No\",\"\"))))","v":""},{"$f":"IF('Outil Recensement'!BQ95>0,'Outil Recensement'!BQ95,\"\")","v":""},{"$f":"IF('Outil Recensement'!BR95>0,'Outil Recensement'!BR95,\"\")","v":""},{"$f":"IF('Outil Recensement'!BS95>0,'Outil Recensement'!BS95,\"\")","v":""},{"$f":"IF('Outil Recensement'!BT95=\"Male\",\"Male\",IF('Outil Recensement'!BT95=\"Female\",\"Female\",IF('Outil Recensement'!BT95=\"M\",\"Male\",IF('Outil Recensement'!BT95=\"F\",\"Female\",\"\"))))","v":""},{"$f":"IF('Outil Recensement'!BU95=\"Yes\",\"Yes\",IF('Outil Recensement'!BU95=\"No\",\"No\",IF('Outil Recensement'!BU95=\"Y\",\"Yes\",IF('Outil Recensement'!BU95=\"N\",\"No\",\"\"))))","v":""},{"$f":"IF('Outil Recensement'!BV95=\"Yes\",\"Yes\",IF('Outil Recensement'!BV95=\"No\",\"No\",IF('Outil Recensement'!BV95=\"Y\",\"Yes\",IF('Outil Recensement'!BV95=\"N\",\"No\",\"\"))))","v":""},{"$f":"IF('Outil Recensement'!BW95>0,'Outil Recensement'!BW95,\"\")","v":""},{"$f":"IF('Outil Recensement'!BX95>0,'Outil Recensement'!BX95,\"\")","v":""},{"$f":"IF('Outil Recensement'!BY95>0,'Outil Recensement'!BY95,\"\")","v":""},{"$f":"IF('Outil Recensement'!BZ95=\"Male\",\"Male\",IF('Outil Recensement'!BZ95=\"Female\",\"Female\",IF('Outil Recensement'!BZ95=\"M\",\"Male\",IF('Outil Recensement'!BZ95=\"F\",\"Female\",\"\"))))","v":""},{"$f":"IF('Outil Recensement'!CA95=\"Yes\",\"Yes\",IF('Outil Recensement'!CA95=\"No\",\"No\",IF('Outil Recensement'!CA95=\"Y\",\"Yes\",IF('Outil Recensement'!CA95=\"N\",\"No\",\"\"))))","v":""},{"$f":"IF('Outil Recensement'!CB95=\"Yes\",\"Yes\",IF('Outil Recensement'!CB95=\"No\",\"No\",IF('Outil Recensement'!CB95=\"Y\",\"Yes\",IF('Outil Recensement'!CB95=\"N\",\"No\",\"\"))))","v":""},{"$f":"IF('Outil Recensement'!CH95>0,'Outil Recensement'!CH95,\"\")","v":"    "}]
[{"$f":"IF('Outil Recensement'!A96>0,'Outil Recensement'!A96,\"\")","v":""},{"$f":"IF('Outil Recensement'!B96>0,'Outil Recensement'!B96,\"\")","v":""},{"$f":"IF('Outil Recensement'!C96>0,'Outil Recensement'!C96,\"\")","v":""},{"$f":"IF('Outil Recensement'!D96>0,'Outil Recensement'!D96,\"\")","v":""},{"$f":"IF('Outil Recensement'!P96>0,TEXT('Outil Recensement'!P96,\"000\"),\"\")","v":""},{"$f":"IF('Outil Recensement'!Q96>0,'Outil Recensement'!Q96,\"\")","v":""},{"$f":"IF('Outil Recensement'!R96>0,'Outil Recensement'!R96,\"\")","v":""},{"$f":"IF('Outil Recensement'!F96>0,DATEVALUE(TEXT('Outil Recensement'!F96,\"yyyy-mm-dd\")),\"\")","v":""},{"$f":"IF('Outil Recensement'!L96>0,DATEVALUE(TEXT('Outil Recensement'!L96,\"yyyy-mm-dd\")),\"\")","v":""},{"$f":"IF('Outil Recensement'!Y96>0,'Outil Recensement'!Y96,\"\")","v":""},{"$f":"IF('Outil Recensement'!T96>0,'Outil Recensement'!T96,\"\")","v":""},{"$f":"IF('Outil Recensement'!G96=\"Homme\",\"Male\",IF('Outil Recensement'!G96=\"Femme\",\"Female\",IF('Outil Recensement'!G96=\"H\",\"Male\",IF('Outil Recensement'!G96=\"F\",\"Female\",\"\"))))","v":""},{"$f":"IF('Outil Recensement'!U96=\"Yes\",\"Yes\",IF('Outil Recensement'!U96=\"No\",\"No\",IF('Outil Recensement'!U96=\"Y\",\"Yes\",IF('Outil Recensement'!U96=\"N\",\"No\",\"\"))))","v":""},{"$f":"IF('Outil Recensement'!I96=\"Individuelle\",\"Single\",IF('Outil Recensement'!I96=\"Familiale\",\"Family\",IF('Outil Recensement'!I96=\"Refus\",\"Family\",IF('Outil Recensement'!I96=\"Parent seul\",\"Family\",IF('Outil Recensement'!I96=\"Couple\",\"Family\",IF('Outil Recensement'!I96=\"In force\",\"Family\",IF('Outil Recensement'!I96=\"Applies\",\"Family\",IF('Outil Recensement'!I96=\"Applicable\",\"Family\",\"\"))))))))","v":""},{"$f":"IF('Outil Recensement'!AC96=\"Anglais\",\"English\",IF('Outil Recensement'!AC96=\"Français\",\"French\",IF('Outil Recensement'!AC96=\"A\",\"English\",IF('Outil Recensement'!AC96=\"F\",\"French\",\"\"))))","v":""},{"$f":"IF('Outil Recensement'!AB96=\"Oui\",\"Yes\",IF('Outil Recensement'!AB96=\"Non\",\"No\",IF('Outil Recensement'!AB96=\"O\",\"Yes\",IF('Outil Recensement'!AB96=\"N\",\"No\",\"\"))))","v":""},{"$f":"IF('Outil Recensement'!AD96>0,'Outil Recensement'!AD96,\"\")","v":""},{"$f":"IF('Outil Recensement'!M96=\"Annuel\",\"Annually\",IF('Outil Recensement'!M96=\"Mensuel\",\"Monthly\",IF('Outil Recensement'!M96=\"Bihebdomadaire\",\"Biweekly\",IF('Outil Recensement'!M96=\"Hebdomadaire\",\"Weekly\",IF('Outil Recensement'!M96=\"Horaire\",\"Hourly\",IF('Outil Recensement'!M96=\"Semi-mensuel\",\"Semi-monthly\",IF('Outil Recensement'!M96=\"Applies\",\"Annual\",IF('Outil Recensement'!M96=\"Applicable\",\"Annual\",\"\"))))))))","v":""},{"$f":"IF('Outil Recensement'!N96>0,'Outil Recensement'!N96,\"\")","v":""},{"$f":"IF('Outil Recensement'!O96>0,'Outil Recensement'!O96,\"\")","v":""},{"$f":"IF('Outil Recensement'!I96=\"Refus\",\"Yes\",\"\")","v":""},{"$f":"IF('Outil Recensement'!I96=\"Refus\",\"Yes\",\"\")","v":""},{"$f":"IF('Outil Recensement'!AE96>0,'Outil Recensement'!AE96,\"\")","v":""},{"$f":"IF('Outil Recensement'!AF96>0,'Outil Recensement'!AF96,\"\")","v":""},{"$f":"IF('Outil Recensement'!AG96>0,'Outil Recensement'!AG96,\"\")","v":""},{"$f":"IF('Outil Recensement'!AH96>0,'Outil Recensement'!AH96,\"\")","v":""},{"$f":"IF('Outil Recensement'!AI96>0,'Outil Recensement'!AI96,\"\")","v":" "},{"$f":"IF('Outil Recensement'!AJ96>0,'Outil Recensement'!AJ96,\"\")","v":" "},{"$f":"IF('Outil Recensement'!W96>0,'Outil Recensement'!W96&\" \",\"\")&IF('Outil Recensement'!V96>0,'Outil Recensement'!V96,\"\")","v":""},null,{"$f":"IF('Outil Recensement'!X96>0,'Outil Recensement'!X96,\"\")","v":""},{"$f":"IF('Outil Recensement'!Y96>0,'Outil Recensement'!Y96,\"\")","v":""},{"$f":"IF('Outil Recensement'!Z96>0,'Outil Recensement'!Z96,\"\")","v":""},{"$f":"IF('Outil Recensement'!AA96>0,'Outil Recensement'!AA96,\"\")","v":""},{"$f":"IF('Outil Recensement'!E96>0,'Outil Recensement'!E96,\"\")","v":""},{"$f":"IF('Outil Recensement'!AK96>0,'Outil Recensement'!AK96,\"\")","v":""},{"$f":"IF('Outil Recensement'!AL96>0,'Outil Recensement'!AL96,\"\")","v":""},{"$f":"IF('Outil Recensement'!AM96>0,'Outil Recensement'!AM96,\"\")","v":""},{"$f":"IF('Outil Recensement'!AN96=\"Male\",\"Male\",IF('Outil Recensement'!AN96=\"Female\",\"Female\",IF('Outil Recensement'!AN96=\"M\",\"Male\",IF('Outil Recensement'!AN96=\"F\",\"Female\",\"\"))))","v":""},{"$f":"IF('Outil Recensement'!AO96=\"Single\",\"Single\",IF('Outil Recensement'!AO96=\"Family\",\"Family\",IF('Outil Recensement'!AO96=\"S\",\"Single\",IF('Outil Recensement'!AO96=\"F\",\"Family\",\"\"))))","v":""},{"$f":"IF('Outil Recensement'!AP96=\"Single\",\"Single\",IF('Outil Recensement'!AP96=\"Family\",\"Family\",IF('Outil Recensement'!AP96=\"S\",\"Single\",IF('Outil Recensement'!AP96=\"F\",\"Family\",\"\"))))","v":""},{"$f":"IF('Outil Recensement'!AQ96>0,'Outil Recensement'!AQ96,\"\")","v":""},{"$f":"IF('Outil Recensement'!AR96=\"Yes\",\"Yes\",IF('Outil Recensement'!AR96=\"No\",\"No\",IF('Outil Recensement'!AR96=\"Y\",\"Yes\",IF('Outil Recensement'!AR96=\"N\",\"No\",\"\"))))","v":""},{"$f":"IF('Outil Recensement'!AS96>0,'Outil Recensement'!AS96,\"\")","v":""},{"$f":"IF('Outil Recensement'!AT96>0,'Outil Recensement'!AT96,\"\")","v":""},{"$f":"IF('Outil Recensement'!AU96>0,'Outil Recensement'!AU96,\"\")","v":""},{"$f":"IF('Outil Recensement'!AV96=\"Male\",\"Male\",IF('Outil Recensement'!AV96=\"Female\",\"Female\",IF('Outil Recensement'!AV96=\"M\",\"Male\",IF('Outil Recensement'!AV96=\"F\",\"Female\",\"\"))))","v":""},{"$f":"IF('Outil Recensement'!AW96=\"Yes\",\"Yes\",IF('Outil Recensement'!AW96=\"No\",\"No\",IF('Outil Recensement'!AW96=\"Y\",\"Yes\",IF('Outil Recensement'!AW96=\"N\",\"No\",\"\"))))","v":""},{"$f":"IF('Outil Recensement'!AX96=\"Yes\",\"Yes\",IF('Outil Recensement'!AX96=\"No\",\"No\",IF('Outil Recensement'!AX96=\"Y\",\"Yes\",IF('Outil Recensement'!AX96=\"N\",\"No\",\"\"))))","v":""},{"$f":"IF('Outil Recensement'!AY96>0,'Outil Recensement'!AY96,\"\")","v":""},{"$f":"IF('Outil Recensement'!AZ96>0,'Outil Recensement'!AZ96,\"\")","v":""},{"$f":"IF('Outil Recensement'!BA96>0,'Outil Recensement'!BA96,\"\")","v":""},{"$f":"IF('Outil Recensement'!BB96=\"Male\",\"Male\",IF('Outil Recensement'!BB96=\"Female\",\"Female\",IF('Outil Recensement'!BB96=\"M\",\"Male\",IF('Outil Recensement'!BB96=\"F\",\"Female\",\"\"))))","v":""},{"$f":"IF('Outil Recensement'!BC96=\"Yes\",\"Yes\",IF('Outil Recensement'!BC96=\"No\",\"No\",IF('Outil Recensement'!BC96=\"Y\",\"Yes\",IF('Outil Recensement'!BC96=\"N\",\"No\",\"\"))))","v":""},{"$f":"IF('Outil Recensement'!BD96=\"Yes\",\"Yes\",IF('Outil Recensement'!BD96=\"No\",\"No\",IF('Outil Recensement'!BD96=\"Y\",\"Yes\",IF('Outil Recensement'!BD96=\"N\",\"No\",\"\"))))","v":""},{"$f":"IF('Outil Recensement'!BE96>0,'Outil Recensement'!BE96,\"\")","v":""},{"$f":"IF('Outil Recensement'!BF96>0,'Outil Recensement'!BF96,\"\")","v":""},{"$f":"IF('Outil Recensement'!BG96>0,'Outil Recensement'!BG96,\"\")","v":""},{"$f":"IF('Outil Recensement'!BH96=\"Male\",\"Male\",IF('Outil Recensement'!BH96=\"Female\",\"Female\",IF('Outil Recensement'!BH96=\"M\",\"Male\",IF('Outil Recensement'!BH96=\"F\",\"Female\",\"\"))))","v":""},{"$f":"IF('Outil Recensement'!BI96=\"Yes\",\"Yes\",IF('Outil Recensement'!BI96=\"No\",\"No\",IF('Outil Recensement'!BI96=\"Y\",\"Yes\",IF('Outil Recensement'!BI96=\"N\",\"No\",\"\"))))","v":""},{"$f":"IF('Outil Recensement'!BJ96=\"Yes\",\"Yes\",IF('Outil Recensement'!BJ96=\"No\",\"No\",IF('Outil Recensement'!BJ96=\"Y\",\"Yes\",IF('Outil Recensement'!BJ96=\"N\",\"No\",\"\"))))","v":""},{"$f":"IF('Outil Recensement'!BK96>0,'Outil Recensement'!BK96,\"\")","v":""},{"$f":"IF('Outil Recensement'!BL96>0,'Outil Recensement'!BL96,\"\")","v":""},{"$f":"IF('Outil Recensement'!BM96>0,'Outil Recensement'!BM96,\"\")","v":""},{"$f":"IF('Outil Recensement'!BN96=\"Male\",\"Male\",IF('Outil Recensement'!BN96=\"Female\",\"Female\",IF('Outil Recensement'!BN96=\"M\",\"Male\",IF('Outil Recensement'!BN96=\"F\",\"Female\",\"\"))))","v":""},{"$f":"IF('Outil Recensement'!BO96=\"Yes\",\"Yes\",IF('Outil Recensement'!BO96=\"No\",\"No\",IF('Outil Recensement'!BO96=\"Y\",\"Yes\",IF('Outil Recensement'!BO96=\"N\",\"No\",\"\"))))","v":""},{"$f":"IF('Outil Recensement'!BP96=\"Yes\",\"Yes\",IF('Outil Recensement'!BP96=\"No\",\"No\",IF('Outil Recensement'!BP96=\"Y\",\"Yes\",IF('Outil Recensement'!BP96=\"N\",\"No\",\"\"))))","v":""},{"$f":"IF('Outil Recensement'!BQ96>0,'Outil Recensement'!BQ96,\"\")","v":""},{"$f":"IF('Outil Recensement'!BR96>0,'Outil Recensement'!BR96,\"\")","v":""},{"$f":"IF('Outil Recensement'!BS96>0,'Outil Recensement'!BS96,\"\")","v":""},{"$f":"IF('Outil Recensement'!BT96=\"Male\",\"Male\",IF('Outil Recensement'!BT96=\"Female\",\"Female\",IF('Outil Recensement'!BT96=\"M\",\"Male\",IF('Outil Recensement'!BT96=\"F\",\"Female\",\"\"))))","v":""},{"$f":"IF('Outil Recensement'!BU96=\"Yes\",\"Yes\",IF('Outil Recensement'!BU96=\"No\",\"No\",IF('Outil Recensement'!BU96=\"Y\",\"Yes\",IF('Outil Recensement'!BU96=\"N\",\"No\",\"\"))))","v":""},{"$f":"IF('Outil Recensement'!BV96=\"Yes\",\"Yes\",IF('Outil Recensement'!BV96=\"No\",\"No\",IF('Outil Recensement'!BV96=\"Y\",\"Yes\",IF('Outil Recensement'!BV96=\"N\",\"No\",\"\"))))","v":""},{"$f":"IF('Outil Recensement'!BW96>0,'Outil Recensement'!BW96,\"\")","v":""},{"$f":"IF('Outil Recensement'!BX96>0,'Outil Recensement'!BX96,\"\")","v":""},{"$f":"IF('Outil Recensement'!BY96>0,'Outil Recensement'!BY96,\"\")","v":""},{"$f":"IF('Outil Recensement'!BZ96=\"Male\",\"Male\",IF('Outil Recensement'!BZ96=\"Female\",\"Female\",IF('Outil Recensement'!BZ96=\"M\",\"Male\",IF('Outil Recensement'!BZ96=\"F\",\"Female\",\"\"))))","v":""},{"$f":"IF('Outil Recensement'!CA96=\"Yes\",\"Yes\",IF('Outil Recensement'!CA96=\"No\",\"No\",IF('Outil Recensement'!CA96=\"Y\",\"Yes\",IF('Outil Recensement'!CA96=\"N\",\"No\",\"\"))))","v":""},{"$f":"IF('Outil Recensement'!CB96=\"Yes\",\"Yes\",IF('Outil Recensement'!CB96=\"No\",\"No\",IF('Outil Recensement'!CB96=\"Y\",\"Yes\",IF('Outil Recensement'!CB96=\"N\",\"No\",\"\"))))","v":""},{"$f":"IF('Outil Recensement'!CH96>0,'Outil Recensement'!CH96,\"\")","v":"    "}]
[{"$f":"IF('Outil Recensement'!A97>0,'Outil Recensement'!A97,\"\")","v":""},{"$f":"IF('Outil Recensement'!B97>0,'Outil Recensement'!B97,\"\")","v":""},{"$f":"IF('Outil Recensement'!C97>0,'Outil Recensement'!C97,\"\")","v":""},{"$f":"IF('Outil Recensement'!D97>0,'Outil Recensement'!D97,\"\")","v":""},{"$f":"IF('Outil Recensement'!P97>0,TEXT('Outil Recensement'!P97,\"000\"),\"\")","v":""},{"$f":"IF('Outil Recensement'!Q97>0,'Outil Recensement'!Q97,\"\")","v":""},{"$f":"IF('Outil Recensement'!R97>0,'Outil Recensement'!R97,\"\")","v":""},{"$f":"IF('Outil Recensement'!F97>0,DATEVALUE(TEXT('Outil Recensement'!F97,\"yyyy-mm-dd\")),\"\")","v":""},{"$f":"IF('Outil Recensement'!L97>0,DATEVALUE(TEXT('Outil Recensement'!L97,\"yyyy-mm-dd\")),\"\")","v":""},{"$f":"IF('Outil Recensement'!Y97>0,'Outil Recensement'!Y97,\"\")","v":""},{"$f":"IF('Outil Recensement'!T97>0,'Outil Recensement'!T97,\"\")","v":""},{"$f":"IF('Outil Recensement'!G97=\"Homme\",\"Male\",IF('Outil Recensement'!G97=\"Femme\",\"Female\",IF('Outil Recensement'!G97=\"H\",\"Male\",IF('Outil Recensement'!G97=\"F\",\"Female\",\"\"))))","v":""},{"$f":"IF('Outil Recensement'!U97=\"Yes\",\"Yes\",IF('Outil Recensement'!U97=\"No\",\"No\",IF('Outil Recensement'!U97=\"Y\",\"Yes\",IF('Outil Recensement'!U97=\"N\",\"No\",\"\"))))","v":""},{"$f":"IF('Outil Recensement'!I97=\"Individuelle\",\"Single\",IF('Outil Recensement'!I97=\"Familiale\",\"Family\",IF('Outil Recensement'!I97=\"Refus\",\"Family\",IF('Outil Recensement'!I97=\"Parent seul\",\"Family\",IF('Outil Recensement'!I97=\"Couple\",\"Family\",IF('Outil Recensement'!I97=\"In force\",\"Family\",IF('Outil Recensement'!I97=\"Applies\",\"Family\",IF('Outil Recensement'!I97=\"Applicable\",\"Family\",\"\"))))))))","v":""},{"$f":"IF('Outil Recensement'!AC97=\"Anglais\",\"English\",IF('Outil Recensement'!AC97=\"Français\",\"French\",IF('Outil Recensement'!AC97=\"A\",\"English\",IF('Outil Recensement'!AC97=\"F\",\"French\",\"\"))))","v":""},{"$f":"IF('Outil Recensement'!AB97=\"Oui\",\"Yes\",IF('Outil Recensement'!AB97=\"Non\",\"No\",IF('Outil Recensement'!AB97=\"O\",\"Yes\",IF('Outil Recensement'!AB97=\"N\",\"No\",\"\"))))","v":""},{"$f":"IF('Outil Recensement'!AD97>0,'Outil Recensement'!AD97,\"\")","v":""},{"$f":"IF('Outil Recensement'!M97=\"Annuel\",\"Annually\",IF('Outil Recensement'!M97=\"Mensuel\",\"Monthly\",IF('Outil Recensement'!M97=\"Bihebdomadaire\",\"Biweekly\",IF('Outil Recensement'!M97=\"Hebdomadaire\",\"Weekly\",IF('Outil Recensement'!M97=\"Horaire\",\"Hourly\",IF('Outil Recensement'!M97=\"Semi-mensuel\",\"Semi-monthly\",IF('Outil Recensement'!M97=\"Applies\",\"Annual\",IF('Outil Recensement'!M97=\"Applicable\",\"Annual\",\"\"))))))))","v":""},{"$f":"IF('Outil Recensement'!N97>0,'Outil Recensement'!N97,\"\")","v":""},{"$f":"IF('Outil Recensement'!O97>0,'Outil Recensement'!O97,\"\")","v":""},{"$f":"IF('Outil Recensement'!I97=\"Refus\",\"Yes\",\"\")","v":""},{"$f":"IF('Outil Recensement'!I97=\"Refus\",\"Yes\",\"\")","v":""},{"$f":"IF('Outil Recensement'!AE97>0,'Outil Recensement'!AE97,\"\")","v":""},{"$f":"IF('Outil Recensement'!AF97>0,'Outil Recensement'!AF97,\"\")","v":""},{"$f":"IF('Outil Recensement'!AG97>0,'Outil Recensement'!AG97,\"\")","v":""},{"$f":"IF('Outil Recensement'!AH97>0,'Outil Recensement'!AH97,\"\")","v":""},{"$f":"IF('Outil Recensement'!AI97>0,'Outil Recensement'!AI97,\"\")","v":" "},{"$f":"IF('Outil Recensement'!AJ97>0,'Outil Recensement'!AJ97,\"\")","v":" "},{"$f":"IF('Outil Recensement'!W97>0,'Outil Recensement'!W97&\" \",\"\")&IF('Outil Recensement'!V97>0,'Outil Recensement'!V97,\"\")","v":""},null,{"$f":"IF('Outil Recensement'!X97>0,'Outil Recensement'!X97,\"\")","v":""},{"$f":"IF('Outil Recensement'!Y97>0,'Outil Recensement'!Y97,\"\")","v":""},{"$f":"IF('Outil Recensement'!Z97>0,'Outil Recensement'!Z97,\"\")","v":""},{"$f":"IF('Outil Recensement'!AA97>0,'Outil Recensement'!AA97,\"\")","v":""},{"$f":"IF('Outil Recensement'!E97>0,'Outil Recensement'!E97,\"\")","v":""},{"$f":"IF('Outil Recensement'!AK97>0,'Outil Recensement'!AK97,\"\")","v":""},{"$f":"IF('Outil Recensement'!AL97>0,'Outil Recensement'!AL97,\"\")","v":""},{"$f":"IF('Outil Recensement'!AM97>0,'Outil Recensement'!AM97,\"\")","v":""},{"$f":"IF('Outil Recensement'!AN97=\"Male\",\"Male\",IF('Outil Recensement'!AN97=\"Female\",\"Female\",IF('Outil Recensement'!AN97=\"M\",\"Male\",IF('Outil Recensement'!AN97=\"F\",\"Female\",\"\"))))","v":""},{"$f":"IF('Outil Recensement'!AO97=\"Single\",\"Single\",IF('Outil Recensement'!AO97=\"Family\",\"Family\",IF('Outil Recensement'!AO97=\"S\",\"Single\",IF('Outil Recensement'!AO97=\"F\",\"Family\",\"\"))))","v":""},{"$f":"IF('Outil Recensement'!AP97=\"Single\",\"Single\",IF('Outil Recensement'!AP97=\"Family\",\"Family\",IF('Outil Recensement'!AP97=\"S\",\"Single\",IF('Outil Recensement'!AP97=\"F\",\"Family\",\"\"))))","v":""},{"$f":"IF('Outil Recensement'!AQ97>0,'Outil Recensement'!AQ97,\"\")","v":""},{"$f":"IF('Outil Recensement'!AR97=\"Yes\",\"Yes\",IF('Outil Recensement'!AR97=\"No\",\"No\",IF('Outil Recensement'!AR97=\"Y\",\"Yes\",IF('Outil Recensement'!AR97=\"N\",\"No\",\"\"))))","v":""},{"$f":"IF('Outil Recensement'!AS97>0,'Outil Recensement'!AS97,\"\")","v":""},{"$f":"IF('Outil Recensement'!AT97>0,'Outil Recensement'!AT97,\"\")","v":""},{"$f":"IF('Outil Recensement'!AU97>0,'Outil Recensement'!AU97,\"\")","v":""},{"$f":"IF('Outil Recensement'!AV97=\"Male\",\"Male\",IF('Outil Recensement'!AV97=\"Female\",\"Female\",IF('Outil Recensement'!AV97=\"M\",\"Male\",IF('Outil Recensement'!AV97=\"F\",\"Female\",\"\"))))","v":""},{"$f":"IF('Outil Recensement'!AW97=\"Yes\",\"Yes\",IF('Outil Recensement'!AW97=\"No\",\"No\",IF('Outil Recensement'!AW97=\"Y\",\"Yes\",IF('Outil Recensement'!AW97=\"N\",\"No\",\"\"))))","v":""},{"$f":"IF('Outil Recensement'!AX97=\"Yes\",\"Yes\",IF('Outil Recensement'!AX97=\"No\",\"No\",IF('Outil Recensement'!AX97=\"Y\",\"Yes\",IF('Outil Recensement'!AX97=\"N\",\"No\",\"\"))))","v":""},{"$f":"IF('Outil Recensement'!AY97>0,'Outil Recensement'!AY97,\"\")","v":""},{"$f":"IF('Outil Recensement'!AZ97>0,'Outil Recensement'!AZ97,\"\")","v":""},{"$f":"IF('Outil Recensement'!BA97>0,'Outil Recensement'!BA97,\"\")","v":""},{"$f":"IF('Outil Recensement'!BB97=\"Male\",\"Male\",IF('Outil Recensement'!BB97=\"Female\",\"Female\",IF('Outil Recensement'!BB97=\"M\",\"Male\",IF('Outil Recensement'!BB97=\"F\",\"Female\",\"\"))))","v":""},{"$f":"IF('Outil Recensement'!BC97=\"Yes\",\"Yes\",IF('Outil Recensement'!BC97=\"No\",\"No\",IF('Outil Recensement'!BC97=\"Y\",\"Yes\",IF('Outil Recensement'!BC97=\"N\",\"No\",\"\"))))","v":""},{"$f":"IF('Outil Recensement'!BD97=\"Yes\",\"Yes\",IF('Outil Recensement'!BD97=\"No\",\"No\",IF('Outil Recensement'!BD97=\"Y\",\"Yes\",IF('Outil Recensement'!BD97=\"N\",\"No\",\"\"))))","v":""},{"$f":"IF('Outil Recensement'!BE97>0,'Outil Recensement'!BE97,\"\")","v":""},{"$f":"IF('Outil Recensement'!BF97>0,'Outil Recensement'!BF97,\"\")","v":""},{"$f":"IF('Outil Recensement'!BG97>0,'Outil Recensement'!BG97,\"\")","v":""},{"$f":"IF('Outil Recensement'!BH97=\"Male\",\"Male\",IF('Outil Recensement'!BH97=\"Female\",\"Female\",IF('Outil Recensement'!BH97=\"M\",\"Male\",IF('Outil Recensement'!BH97=\"F\",\"Female\",\"\"))))","v":""},{"$f":"IF('Outil Recensement'!BI97=\"Yes\",\"Yes\",IF('Outil Recensement'!BI97=\"No\",\"No\",IF('Outil Recensement'!BI97=\"Y\",\"Yes\",IF('Outil Recensement'!BI97=\"N\",\"No\",\"\"))))","v":""},{"$f":"IF('Outil Recensement'!BJ97=\"Yes\",\"Yes\",IF('Outil Recensement'!BJ97=\"No\",\"No\",IF('Outil Recensement'!BJ97=\"Y\",\"Yes\",IF('Outil Recensement'!BJ97=\"N\",\"No\",\"\"))))","v":""},{"$f":"IF('Outil Recensement'!BK97>0,'Outil Recensement'!BK97,\"\")","v":""},{"$f":"IF('Outil Recensement'!BL97>0,'Outil Recensement'!BL97,\"\")","v":""},{"$f":"IF('Outil Recensement'!BM97>0,'Outil Recensement'!BM97,\"\")","v":""},{"$f":"IF('Outil Recensement'!BN97=\"Male\",\"Male\",IF('Outil Recensement'!BN97=\"Female\",\"Female\",IF('Outil Recensement'!BN97=\"M\",\"Male\",IF('Outil Recensement'!BN97=\"F\",\"Female\",\"\"))))","v":""},{"$f":"IF('Outil Recensement'!BO97=\"Yes\",\"Yes\",IF('Outil Recensement'!BO97=\"No\",\"No\",IF('Outil Recensement'!BO97=\"Y\",\"Yes\",IF('Outil Recensement'!BO97=\"N\",\"No\",\"\"))))","v":""},{"$f":"IF('Outil Recensement'!BP97=\"Yes\",\"Yes\",IF('Outil Recensement'!BP97=\"No\",\"No\",IF('Outil Recensement'!BP97=\"Y\",\"Yes\",IF('Outil Recensement'!BP97=\"N\",\"No\",\"\"))))","v":""},{"$f":"IF('Outil Recensement'!BQ97>0,'Outil Recensement'!BQ97,\"\")","v":""},{"$f":"IF('Outil Recensement'!BR97>0,'Outil Recensement'!BR97,\"\")","v":""},{"$f":"IF('Outil Recensement'!BS97>0,'Outil Recensement'!BS97,\"\")","v":""},{"$f":"IF('Outil Recensement'!BT97=\"Male\",\"Male\",IF('Outil Recensement'!BT97=\"Female\",\"Female\",IF('Outil Recensement'!BT97=\"M\",\"Male\",IF('Outil Recensement'!BT97=\"F\",\"Female\",\"\"))))","v":""},{"$f":"IF('Outil Recensement'!BU97=\"Yes\",\"Yes\",IF('Outil Recensement'!BU97=\"No\",\"No\",IF('Outil Recensement'!BU97=\"Y\",\"Yes\",IF('Outil Recensement'!BU97=\"N\",\"No\",\"\"))))","v":""},{"$f":"IF('Outil Recensement'!BV97=\"Yes\",\"Yes\",IF('Outil Recensement'!BV97=\"No\",\"No\",IF('Outil Recensement'!BV97=\"Y\",\"Yes\",IF('Outil Recensement'!BV97=\"N\",\"No\",\"\"))))","v":""},{"$f":"IF('Outil Recensement'!BW97>0,'Outil Recensement'!BW97,\"\")","v":""},{"$f":"IF('Outil Recensement'!BX97>0,'Outil Recensement'!BX97,\"\")","v":""},{"$f":"IF('Outil Recensement'!BY97>0,'Outil Recensement'!BY97,\"\")","v":""},{"$f":"IF('Outil Recensement'!BZ97=\"Male\",\"Male\",IF('Outil Recensement'!BZ97=\"Female\",\"Female\",IF('Outil Recensement'!BZ97=\"M\",\"Male\",IF('Outil Recensement'!BZ97=\"F\",\"Female\",\"\"))))","v":""},{"$f":"IF('Outil Recensement'!CA97=\"Yes\",\"Yes\",IF('Outil Recensement'!CA97=\"No\",\"No\",IF('Outil Recensement'!CA97=\"Y\",\"Yes\",IF('Outil Recensement'!CA97=\"N\",\"No\",\"\"))))","v":""},{"$f":"IF('Outil Recensement'!CB97=\"Yes\",\"Yes\",IF('Outil Recensement'!CB97=\"No\",\"No\",IF('Outil Recensement'!CB97=\"Y\",\"Yes\",IF('Outil Recensement'!CB97=\"N\",\"No\",\"\"))))","v":""},{"$f":"IF('Outil Recensement'!CH97>0,'Outil Recensement'!CH97,\"\")","v":"    "}]
[{"$f":"IF('Outil Recensement'!A98>0,'Outil Recensement'!A98,\"\")","v":""},{"$f":"IF('Outil Recensement'!B98>0,'Outil Recensement'!B98,\"\")","v":""},{"$f":"IF('Outil Recensement'!C98>0,'Outil Recensement'!C98,\"\")","v":""},{"$f":"IF('Outil Recensement'!D98>0,'Outil Recensement'!D98,\"\")","v":""},{"$f":"IF('Outil Recensement'!P98>0,TEXT('Outil Recensement'!P98,\"000\"),\"\")","v":""},{"$f":"IF('Outil Recensement'!Q98>0,'Outil Recensement'!Q98,\"\")","v":""},{"$f":"IF('Outil Recensement'!R98>0,'Outil Recensement'!R98,\"\")","v":""},{"$f":"IF('Outil Recensement'!F98>0,DATEVALUE(TEXT('Outil Recensement'!F98,\"yyyy-mm-dd\")),\"\")","v":""},{"$f":"IF('Outil Recensement'!L98>0,DATEVALUE(TEXT('Outil Recensement'!L98,\"yyyy-mm-dd\")),\"\")","v":""},{"$f":"IF('Outil Recensement'!Y98>0,'Outil Recensement'!Y98,\"\")","v":""},{"$f":"IF('Outil Recensement'!T98>0,'Outil Recensement'!T98,\"\")","v":""},{"$f":"IF('Outil Recensement'!G98=\"Homme\",\"Male\",IF('Outil Recensement'!G98=\"Femme\",\"Female\",IF('Outil Recensement'!G98=\"H\",\"Male\",IF('Outil Recensement'!G98=\"F\",\"Female\",\"\"))))","v":""},{"$f":"IF('Outil Recensement'!U98=\"Yes\",\"Yes\",IF('Outil Recensement'!U98=\"No\",\"No\",IF('Outil Recensement'!U98=\"Y\",\"Yes\",IF('Outil Recensement'!U98=\"N\",\"No\",\"\"))))","v":""},{"$f":"IF('Outil Recensement'!I98=\"Individuelle\",\"Single\",IF('Outil Recensement'!I98=\"Familiale\",\"Family\",IF('Outil Recensement'!I98=\"Refus\",\"Family\",IF('Outil Recensement'!I98=\"Parent seul\",\"Family\",IF('Outil Recensement'!I98=\"Couple\",\"Family\",IF('Outil Recensement'!I98=\"In force\",\"Family\",IF('Outil Recensement'!I98=\"Applies\",\"Family\",IF('Outil Recensement'!I98=\"Applicable\",\"Family\",\"\"))))))))","v":""},{"$f":"IF('Outil Recensement'!AC98=\"Anglais\",\"English\",IF('Outil Recensement'!AC98=\"Français\",\"French\",IF('Outil Recensement'!AC98=\"A\",\"English\",IF('Outil Recensement'!AC98=\"F\",\"French\",\"\"))))","v":""},{"$f":"IF('Outil Recensement'!AB98=\"Oui\",\"Yes\",IF('Outil Recensement'!AB98=\"Non\",\"No\",IF('Outil Recensement'!AB98=\"O\",\"Yes\",IF('Outil Recensement'!AB98=\"N\",\"No\",\"\"))))","v":""},{"$f":"IF('Outil Recensement'!AD98>0,'Outil Recensement'!AD98,\"\")","v":""},{"$f":"IF('Outil Recensement'!M98=\"Annuel\",\"Annually\",IF('Outil Recensement'!M98=\"Mensuel\",\"Monthly\",IF('Outil Recensement'!M98=\"Bihebdomadaire\",\"Biweekly\",IF('Outil Recensement'!M98=\"Hebdomadaire\",\"Weekly\",IF('Outil Recensement'!M98=\"Horaire\",\"Hourly\",IF('Outil Recensement'!M98=\"Semi-mensuel\",\"Semi-monthly\",IF('Outil Recensement'!M98=\"Applies\",\"Annual\",IF('Outil Recensement'!M98=\"Applicable\",\"Annual\",\"\"))))))))","v":""},{"$f":"IF('Outil Recensement'!N98>0,'Outil Recensement'!N98,\"\")","v":""},{"$f":"IF('Outil Recensement'!O98>0,'Outil Recensement'!O98,\"\")","v":""},{"$f":"IF('Outil Recensement'!I98=\"Refus\",\"Yes\",\"\")","v":""},{"$f":"IF('Outil Recensement'!I98=\"Refus\",\"Yes\",\"\")","v":""},{"$f":"IF('Outil Recensement'!AE98>0,'Outil Recensement'!AE98,\"\")","v":""},{"$f":"IF('Outil Recensement'!AF98>0,'Outil Recensement'!AF98,\"\")","v":""},{"$f":"IF('Outil Recensement'!AG98>0,'Outil Recensement'!AG98,\"\")","v":""},{"$f":"IF('Outil Recensement'!AH98>0,'Outil Recensement'!AH98,\"\")","v":""},{"$f":"IF('Outil Recensement'!AI98>0,'Outil Recensement'!AI98,\"\")","v":" "},{"$f":"IF('Outil Recensement'!AJ98>0,'Outil Recensement'!AJ98,\"\")","v":" "},{"$f":"IF('Outil Recensement'!W98>0,'Outil Recensement'!W98&\" \",\"\")&IF('Outil Recensement'!V98>0,'Outil Recensement'!V98,\"\")","v":""},null,{"$f":"IF('Outil Recensement'!X98>0,'Outil Recensement'!X98,\"\")","v":""},{"$f":"IF('Outil Recensement'!Y98>0,'Outil Recensement'!Y98,\"\")","v":""},{"$f":"IF('Outil Recensement'!Z98>0,'Outil Recensement'!Z98,\"\")","v":""},{"$f":"IF('Outil Recensement'!AA98>0,'Outil Recensement'!AA98,\"\")","v":""},{"$f":"IF('Outil Recensement'!E98>0,'Outil Recensement'!E98,\"\")","v":""},{"$f":"IF('Outil Recensement'!AK98>0,'Outil Recensement'!AK98,\"\")","v":""},{"$f":"IF('Outil Recensement'!AL98>0,'Outil Recensement'!AL98,\"\")","v":""},{"$f":"IF('Outil Recensement'!AM98>0,'Outil Recensement'!AM98,\"\")","v":""},{"$f":"IF('Outil Recensement'!AN98=\"Male\",\"Male\",IF('Outil Recensement'!AN98=\"Female\",\"Female\",IF('Outil Recensement'!AN98=\"M\",\"Male\",IF('Outil Recensement'!AN98=\"F\",\"Female\",\"\"))))","v":""},{"$f":"IF('Outil Recensement'!AO98=\"Single\",\"Single\",IF('Outil Recensement'!AO98=\"Family\",\"Family\",IF('Outil Recensement'!AO98=\"S\",\"Single\",IF('Outil Recensement'!AO98=\"F\",\"Family\",\"\"))))","v":""},{"$f":"IF('Outil Recensement'!AP98=\"Single\",\"Single\",IF('Outil Recensement'!AP98=\"Family\",\"Family\",IF('Outil Recensement'!AP98=\"S\",\"Single\",IF('Outil Recensement'!AP98=\"F\",\"Family\",\"\"))))","v":""},{"$f":"IF('Outil Recensement'!AQ98>0,'Outil Recensement'!AQ98,\"\")","v":""},{"$f":"IF('Outil Recensement'!AR98=\"Yes\",\"Yes\",IF('Outil Recensement'!AR98=\"No\",\"No\",IF('Outil Recensement'!AR98=\"Y\",\"Yes\",IF('Outil Recensement'!AR98=\"N\",\"No\",\"\"))))","v":""},{"$f":"IF('Outil Recensement'!AS98>0,'Outil Recensement'!AS98,\"\")","v":""},{"$f":"IF('Outil Recensement'!AT98>0,'Outil Recensement'!AT98,\"\")","v":""},{"$f":"IF('Outil Recensement'!AU98>0,'Outil Recensement'!AU98,\"\")","v":""},{"$f":"IF('Outil Recensement'!AV98=\"Male\",\"Male\",IF('Outil Recensement'!AV98=\"Female\",\"Female\",IF('Outil Recensement'!AV98=\"M\",\"Male\",IF('Outil Recensement'!AV98=\"F\",\"Female\",\"\"))))","v":""},{"$f":"IF('Outil Recensement'!AW98=\"Yes\",\"Yes\",IF('Outil Recensement'!AW98=\"No\",\"No\",IF('Outil Recensement'!AW98=\"Y\",\"Yes\",IF('Outil Recensement'!AW98=\"N\",\"No\",\"\"))))","v":""},{"$f":"IF('Outil Recensement'!AX98=\"Yes\",\"Yes\",IF('Outil Recensement'!AX98=\"No\",\"No\",IF('Outil Recensement'!AX98=\"Y\",\"Yes\",IF('Outil Recensement'!AX98=\"N\",\"No\",\"\"))))","v":""},{"$f":"IF('Outil Recensement'!AY98>0,'Outil Recensement'!AY98,\"\")","v":""},{"$f":"IF('Outil Recensement'!AZ98>0,'Outil Recensement'!AZ98,\"\")","v":""},{"$f":"IF('Outil Recensement'!BA98>0,'Outil Recensement'!BA98,\"\")","v":""},{"$f":"IF('Outil Recensement'!BB98=\"Male\",\"Male\",IF('Outil Recensement'!BB98=\"Female\",\"Female\",IF('Outil Recensement'!BB98=\"M\",\"Male\",IF('Outil Recensement'!BB98=\"F\",\"Female\",\"\"))))","v":""},{"$f":"IF('Outil Recensement'!BC98=\"Yes\",\"Yes\",IF('Outil Recensement'!BC98=\"No\",\"No\",IF('Outil Recensement'!BC98=\"Y\",\"Yes\",IF('Outil Recensement'!BC98=\"N\",\"No\",\"\"))))","v":""},{"$f":"IF('Outil Recensement'!BD98=\"Yes\",\"Yes\",IF('Outil Recensement'!BD98=\"No\",\"No\",IF('Outil Recensement'!BD98=\"Y\",\"Yes\",IF('Outil Recensement'!BD98=\"N\",\"No\",\"\"))))","v":""},{"$f":"IF('Outil Recensement'!BE98>0,'Outil Recensement'!BE98,\"\")","v":""},{"$f":"IF('Outil Recensement'!BF98>0,'Outil Recensement'!BF98,\"\")","v":""},{"$f":"IF('Outil Recensement'!BG98>0,'Outil Recensement'!BG98,\"\")","v":""},{"$f":"IF('Outil Recensement'!BH98=\"Male\",\"Male\",IF('Outil Recensement'!BH98=\"Female\",\"Female\",IF('Outil Recensement'!BH98=\"M\",\"Male\",IF('Outil Recensement'!BH98=\"F\",\"Female\",\"\"))))","v":""},{"$f":"IF('Outil Recensement'!BI98=\"Yes\",\"Yes\",IF('Outil Recensement'!BI98=\"No\",\"No\",IF('Outil Recensement'!BI98=\"Y\",\"Yes\",IF('Outil Recensement'!BI98=\"N\",\"No\",\"\"))))","v":""},{"$f":"IF('Outil Recensement'!BJ98=\"Yes\",\"Yes\",IF('Outil Recensement'!BJ98=\"No\",\"No\",IF('Outil Recensement'!BJ98=\"Y\",\"Yes\",IF('Outil Recensement'!BJ98=\"N\",\"No\",\"\"))))","v":""},{"$f":"IF('Outil Recensement'!BK98>0,'Outil Recensement'!BK98,\"\")","v":""},{"$f":"IF('Outil Recensement'!BL98>0,'Outil Recensement'!BL98,\"\")","v":""},{"$f":"IF('Outil Recensement'!BM98>0,'Outil Recensement'!BM98,\"\")","v":""},{"$f":"IF('Outil Recensement'!BN98=\"Male\",\"Male\",IF('Outil Recensement'!BN98=\"Female\",\"Female\",IF('Outil Recensement'!BN98=\"M\",\"Male\",IF('Outil Recensement'!BN98=\"F\",\"Female\",\"\"))))","v":""},{"$f":"IF('Outil Recensement'!BO98=\"Yes\",\"Yes\",IF('Outil Recensement'!BO98=\"No\",\"No\",IF('Outil Recensement'!BO98=\"Y\",\"Yes\",IF('Outil Recensement'!BO98=\"N\",\"No\",\"\"))))","v":""},{"$f":"IF('Outil Recensement'!BP98=\"Yes\",\"Yes\",IF('Outil Recensement'!BP98=\"No\",\"No\",IF('Outil Recensement'!BP98=\"Y\",\"Yes\",IF('Outil Recensement'!BP98=\"N\",\"No\",\"\"))))","v":""},{"$f":"IF('Outil Recensement'!BQ98>0,'Outil Recensement'!BQ98,\"\")","v":""},{"$f":"IF('Outil Recensement'!BR98>0,'Outil Recensement'!BR98,\"\")","v":""},{"$f":"IF('Outil Recensement'!BS98>0,'Outil Recensement'!BS98,\"\")","v":""},{"$f":"IF('Outil Recensement'!BT98=\"Male\",\"Male\",IF('Outil Recensement'!BT98=\"Female\",\"Female\",IF('Outil Recensement'!BT98=\"M\",\"Male\",IF('Outil Recensement'!BT98=\"F\",\"Female\",\"\"))))","v":""},{"$f":"IF('Outil Recensement'!BU98=\"Yes\",\"Yes\",IF('Outil Recensement'!BU98=\"No\",\"No\",IF('Outil Recensement'!BU98=\"Y\",\"Yes\",IF('Outil Recensement'!BU98=\"N\",\"No\",\"\"))))","v":""},{"$f":"IF('Outil Recensement'!BV98=\"Yes\",\"Yes\",IF('Outil Recensement'!BV98=\"No\",\"No\",IF('Outil Recensement'!BV98=\"Y\",\"Yes\",IF('Outil Recensement'!BV98=\"N\",\"No\",\"\"))))","v":""},{"$f":"IF('Outil Recensement'!BW98>0,'Outil Recensement'!BW98,\"\")","v":""},{"$f":"IF('Outil Recensement'!BX98>0,'Outil Recensement'!BX98,\"\")","v":""},{"$f":"IF('Outil Recensement'!BY98>0,'Outil Recensement'!BY98,\"\")","v":""},{"$f":"IF('Outil Recensement'!BZ98=\"Male\",\"Male\",IF('Outil Recensement'!BZ98=\"Female\",\"Female\",IF('Outil Recensement'!BZ98=\"M\",\"Male\",IF('Outil Recensement'!BZ98=\"F\",\"Female\",\"\"))))","v":""},{"$f":"IF('Outil Recensement'!CA98=\"Yes\",\"Yes\",IF('Outil Recensement'!CA98=\"No\",\"No\",IF('Outil Recensement'!CA98=\"Y\",\"Yes\",IF('Outil Recensement'!CA98=\"N\",\"No\",\"\"))))","v":""},{"$f":"IF('Outil Recensement'!CB98=\"Yes\",\"Yes\",IF('Outil Recensement'!CB98=\"No\",\"No\",IF('Outil Recensement'!CB98=\"Y\",\"Yes\",IF('Outil Recensement'!CB98=\"N\",\"No\",\"\"))))","v":""},{"$f":"IF('Outil Recensement'!CH98>0,'Outil Recensement'!CH98,\"\")","v":"    "}]
[{"$f":"IF('Outil Recensement'!A99>0,'Outil Recensement'!A99,\"\")","v":""},{"$f":"IF('Outil Recensement'!B99>0,'Outil Recensement'!B99,\"\")","v":""},{"$f":"IF('Outil Recensement'!C99>0,'Outil Recensement'!C99,\"\")","v":""},{"$f":"IF('Outil Recensement'!D99>0,'Outil Recensement'!D99,\"\")","v":""},{"$f":"IF('Outil Recensement'!P99>0,TEXT('Outil Recensement'!P99,\"000\"),\"\")","v":""},{"$f":"IF('Outil Recensement'!Q99>0,'Outil Recensement'!Q99,\"\")","v":""},{"$f":"IF('Outil Recensement'!R99>0,'Outil Recensement'!R99,\"\")","v":""},{"$f":"IF('Outil Recensement'!F99>0,DATEVALUE(TEXT('Outil Recensement'!F99,\"yyyy-mm-dd\")),\"\")","v":""},{"$f":"IF('Outil Recensement'!L99>0,DATEVALUE(TEXT('Outil Recensement'!L99,\"yyyy-mm-dd\")),\"\")","v":""},{"$f":"IF('Outil Recensement'!Y99>0,'Outil Recensement'!Y99,\"\")","v":""},{"$f":"IF('Outil Recensement'!T99>0,'Outil Recensement'!T99,\"\")","v":""},{"$f":"IF('Outil Recensement'!G99=\"Homme\",\"Male\",IF('Outil Recensement'!G99=\"Femme\",\"Female\",IF('Outil Recensement'!G99=\"H\",\"Male\",IF('Outil Recensement'!G99=\"F\",\"Female\",\"\"))))","v":""},{"$f":"IF('Outil Recensement'!U99=\"Yes\",\"Yes\",IF('Outil Recensement'!U99=\"No\",\"No\",IF('Outil Recensement'!U99=\"Y\",\"Yes\",IF('Outil Recensement'!U99=\"N\",\"No\",\"\"))))","v":""},{"$f":"IF('Outil Recensement'!I99=\"Individuelle\",\"Single\",IF('Outil Recensement'!I99=\"Familiale\",\"Family\",IF('Outil Recensement'!I99=\"Refus\",\"Family\",IF('Outil Recensement'!I99=\"Parent seul\",\"Family\",IF('Outil Recensement'!I99=\"Couple\",\"Family\",IF('Outil Recensement'!I99=\"In force\",\"Family\",IF('Outil Recensement'!I99=\"Applies\",\"Family\",IF('Outil Recensement'!I99=\"Applicable\",\"Family\",\"\"))))))))","v":""},{"$f":"IF('Outil Recensement'!AC99=\"Anglais\",\"English\",IF('Outil Recensement'!AC99=\"Français\",\"French\",IF('Outil Recensement'!AC99=\"A\",\"English\",IF('Outil Recensement'!AC99=\"F\",\"French\",\"\"))))","v":""},{"$f":"IF('Outil Recensement'!AB99=\"Oui\",\"Yes\",IF('Outil Recensement'!AB99=\"Non\",\"No\",IF('Outil Recensement'!AB99=\"O\",\"Yes\",IF('Outil Recensement'!AB99=\"N\",\"No\",\"\"))))","v":""},{"$f":"IF('Outil Recensement'!AD99>0,'Outil Recensement'!AD99,\"\")","v":""},{"$f":"IF('Outil Recensement'!M99=\"Annuel\",\"Annually\",IF('Outil Recensement'!M99=\"Mensuel\",\"Monthly\",IF('Outil Recensement'!M99=\"Bihebdomadaire\",\"Biweekly\",IF('Outil Recensement'!M99=\"Hebdomadaire\",\"Weekly\",IF('Outil Recensement'!M99=\"Horaire\",\"Hourly\",IF('Outil Recensement'!M99=\"Semi-mensuel\",\"Semi-monthly\",IF('Outil Recensement'!M99=\"Applies\",\"Annual\",IF('Outil Recensement'!M99=\"Applicable\",\"Annual\",\"\"))))))))","v":""},{"$f":"IF('Outil Recensement'!N99>0,'Outil Recensement'!N99,\"\")","v":""},{"$f":"IF('Outil Recensement'!O99>0,'Outil Recensement'!O99,\"\")","v":""},{"$f":"IF('Outil Recensement'!I99=\"Refus\",\"Yes\",\"\")","v":""},{"$f":"IF('Outil Recensement'!I99=\"Refus\",\"Yes\",\"\")","v":""},{"$f":"IF('Outil Recensement'!AE99>0,'Outil Recensement'!AE99,\"\")","v":""},{"$f":"IF('Outil Recensement'!AF99>0,'Outil Recensement'!AF99,\"\")","v":""},{"$f":"IF('Outil Recensement'!AG99>0,'Outil Recensement'!AG99,\"\")","v":""},{"$f":"IF('Outil Recensement'!AH99>0,'Outil Recensement'!AH99,\"\")","v":""},{"$f":"IF('Outil Recensement'!AI99>0,'Outil Recensement'!AI99,\"\")","v":" "},{"$f":"IF('Outil Recensement'!AJ99>0,'Outil Recensement'!AJ99,\"\")","v":" "},{"$f":"IF('Outil Recensement'!W99>0,'Outil Recensement'!W99&\" \",\"\")&IF('Outil Recensement'!V99>0,'Outil Recensement'!V99,\"\")","v":""},null,{"$f":"IF('Outil Recensement'!X99>0,'Outil Recensement'!X99,\"\")","v":""},{"$f":"IF('Outil Recensement'!Y99>0,'Outil Recensement'!Y99,\"\")","v":""},{"$f":"IF('Outil Recensement'!Z99>0,'Outil Recensement'!Z99,\"\")","v":""},{"$f":"IF('Outil Recensement'!AA99>0,'Outil Recensement'!AA99,\"\")","v":""},{"$f":"IF('Outil Recensement'!E99>0,'Outil Recensement'!E99,\"\")","v":""},{"$f":"IF('Outil Recensement'!AK99>0,'Outil Recensement'!AK99,\"\")","v":""},{"$f":"IF('Outil Recensement'!AL99>0,'Outil Recensement'!AL99,\"\")","v":""},{"$f":"IF('Outil Recensement'!AM99>0,'Outil Recensement'!AM99,\"\")","v":""},{"$f":"IF('Outil Recensement'!AN99=\"Male\",\"Male\",IF('Outil Recensement'!AN99=\"Female\",\"Female\",IF('Outil Recensement'!AN99=\"M\",\"Male\",IF('Outil Recensement'!AN99=\"F\",\"Female\",\"\"))))","v":""},{"$f":"IF('Outil Recensement'!AO99=\"Single\",\"Single\",IF('Outil Recensement'!AO99=\"Family\",\"Family\",IF('Outil Recensement'!AO99=\"S\",\"Single\",IF('Outil Recensement'!AO99=\"F\",\"Family\",\"\"))))","v":""},{"$f":"IF('Outil Recensement'!AP99=\"Single\",\"Single\",IF('Outil Recensement'!AP99=\"Family\",\"Family\",IF('Outil Recensement'!AP99=\"S\",\"Single\",IF('Outil Recensement'!AP99=\"F\",\"Family\",\"\"))))","v":""},{"$f":"IF('Outil Recensement'!AQ99>0,'Outil Recensement'!AQ99,\"\")","v":""},{"$f":"IF('Outil Recensement'!AR99=\"Yes\",\"Yes\",IF('Outil Recensement'!AR99=\"No\",\"No\",IF('Outil Recensement'!AR99=\"Y\",\"Yes\",IF('Outil Recensement'!AR99=\"N\",\"No\",\"\"))))","v":""},{"$f":"IF('Outil Recensement'!AS99>0,'Outil Recensement'!AS99,\"\")","v":""},{"$f":"IF('Outil Recensement'!AT99>0,'Outil Recensement'!AT99,\"\")","v":""},{"$f":"IF('Outil Recensement'!AU99>0,'Outil Recensement'!AU99,\"\")","v":""},{"$f":"IF('Outil Recensement'!AV99=\"Male\",\"Male\",IF('Outil Recensement'!AV99=\"Female\",\"Female\",IF('Outil Recensement'!AV99=\"M\",\"Male\",IF('Outil Recensement'!AV99=\"F\",\"Female\",\"\"))))","v":""},{"$f":"IF('Outil Recensement'!AW99=\"Yes\",\"Yes\",IF('Outil Recensement'!AW99=\"No\",\"No\",IF('Outil Recensement'!AW99=\"Y\",\"Yes\",IF('Outil Recensement'!AW99=\"N\",\"No\",\"\"))))","v":""},{"$f":"IF('Outil Recensement'!AX99=\"Yes\",\"Yes\",IF('Outil Recensement'!AX99=\"No\",\"No\",IF('Outil Recensement'!AX99=\"Y\",\"Yes\",IF('Outil Recensement'!AX99=\"N\",\"No\",\"\"))))","v":""},{"$f":"IF('Outil Recensement'!AY99>0,'Outil Recensement'!AY99,\"\")","v":""},{"$f":"IF('Outil Recensement'!AZ99>0,'Outil Recensement'!AZ99,\"\")","v":""},{"$f":"IF('Outil Recensement'!BA99>0,'Outil Recensement'!BA99,\"\")","v":""},{"$f":"IF('Outil Recensement'!BB99=\"Male\",\"Male\",IF('Outil Recensement'!BB99=\"Female\",\"Female\",IF('Outil Recensement'!BB99=\"M\",\"Male\",IF('Outil Recensement'!BB99=\"F\",\"Female\",\"\"))))","v":""},{"$f":"IF('Outil Recensement'!BC99=\"Yes\",\"Yes\",IF('Outil Recensement'!BC99=\"No\",\"No\",IF('Outil Recensement'!BC99=\"Y\",\"Yes\",IF('Outil Recensement'!BC99=\"N\",\"No\",\"\"))))","v":""},{"$f":"IF('Outil Recensement'!BD99=\"Yes\",\"Yes\",IF('Outil Recensement'!BD99=\"No\",\"No\",IF('Outil Recensement'!BD99=\"Y\",\"Yes\",IF('Outil Recensement'!BD99=\"N\",\"No\",\"\"))))","v":""},{"$f":"IF('Outil Recensement'!BE99>0,'Outil Recensement'!BE99,\"\")","v":""},{"$f":"IF('Outil Recensement'!BF99>0,'Outil Recensement'!BF99,\"\")","v":""},{"$f":"IF('Outil Recensement'!BG99>0,'Outil Recensement'!BG99,\"\")","v":""},{"$f":"IF('Outil Recensement'!BH99=\"Male\",\"Male\",IF('Outil Recensement'!BH99=\"Female\",\"Female\",IF('Outil Recensement'!BH99=\"M\",\"Male\",IF('Outil Recensement'!BH99=\"F\",\"Female\",\"\"))))","v":""},{"$f":"IF('Outil Recensement'!BI99=\"Yes\",\"Yes\",IF('Outil Recensement'!BI99=\"No\",\"No\",IF('Outil Recensement'!BI99=\"Y\",\"Yes\",IF('Outil Recensement'!BI99=\"N\",\"No\",\"\"))))","v":""},{"$f":"IF('Outil Recensement'!BJ99=\"Yes\",\"Yes\",IF('Outil Recensement'!BJ99=\"No\",\"No\",IF('Outil Recensement'!BJ99=\"Y\",\"Yes\",IF('Outil Recensement'!BJ99=\"N\",\"No\",\"\"))))","v":""},{"$f":"IF('Outil Recensement'!BK99>0,'Outil Recensement'!BK99,\"\")","v":""},{"$f":"IF('Outil Recensement'!BL99>0,'Outil Recensement'!BL99,\"\")","v":""},{"$f":"IF('Outil Recensement'!BM99>0,'Outil Recensement'!BM99,\"\")","v":""},{"$f":"IF('Outil Recensement'!BN99=\"Male\",\"Male\",IF('Outil Recensement'!BN99=\"Female\",\"Female\",IF('Outil Recensement'!BN99=\"M\",\"Male\",IF('Outil Recensement'!BN99=\"F\",\"Female\",\"\"))))","v":""},{"$f":"IF('Outil Recensement'!BO99=\"Yes\",\"Yes\",IF('Outil Recensement'!BO99=\"No\",\"No\",IF('Outil Recensement'!BO99=\"Y\",\"Yes\",IF('Outil Recensement'!BO99=\"N\",\"No\",\"\"))))","v":""},{"$f":"IF('Outil Recensement'!BP99=\"Yes\",\"Yes\",IF('Outil Recensement'!BP99=\"No\",\"No\",IF('Outil Recensement'!BP99=\"Y\",\"Yes\",IF('Outil Recensement'!BP99=\"N\",\"No\",\"\"))))","v":""},{"$f":"IF('Outil Recensement'!BQ99>0,'Outil Recensement'!BQ99,\"\")","v":""},{"$f":"IF('Outil Recensement'!BR99>0,'Outil Recensement'!BR99,\"\")","v":""},{"$f":"IF('Outil Recensement'!BS99>0,'Outil Recensement'!BS99,\"\")","v":""},{"$f":"IF('Outil Recensement'!BT99=\"Male\",\"Male\",IF('Outil Recensement'!BT99=\"Female\",\"Female\",IF('Outil Recensement'!BT99=\"M\",\"Male\",IF('Outil Recensement'!BT99=\"F\",\"Female\",\"\"))))","v":""},{"$f":"IF('Outil Recensement'!BU99=\"Yes\",\"Yes\",IF('Outil Recensement'!BU99=\"No\",\"No\",IF('Outil Recensement'!BU99=\"Y\",\"Yes\",IF('Outil Recensement'!BU99=\"N\",\"No\",\"\"))))","v":""},{"$f":"IF('Outil Recensement'!BV99=\"Yes\",\"Yes\",IF('Outil Recensement'!BV99=\"No\",\"No\",IF('Outil Recensement'!BV99=\"Y\",\"Yes\",IF('Outil Recensement'!BV99=\"N\",\"No\",\"\"))))","v":""},{"$f":"IF('Outil Recensement'!BW99>0,'Outil Recensement'!BW99,\"\")","v":""},{"$f":"IF('Outil Recensement'!BX99>0,'Outil Recensement'!BX99,\"\")","v":""},{"$f":"IF('Outil Recensement'!BY99>0,'Outil Recensement'!BY99,\"\")","v":""},{"$f":"IF('Outil Recensement'!BZ99=\"Male\",\"Male\",IF('Outil Recensement'!BZ99=\"Female\",\"Female\",IF('Outil Recensement'!BZ99=\"M\",\"Male\",IF('Outil Recensement'!BZ99=\"F\",\"Female\",\"\"))))","v":""},{"$f":"IF('Outil Recensement'!CA99=\"Yes\",\"Yes\",IF('Outil Recensement'!CA99=\"No\",\"No\",IF('Outil Recensement'!CA99=\"Y\",\"Yes\",IF('Outil Recensement'!CA99=\"N\",\"No\",\"\"))))","v":""},{"$f":"IF('Outil Recensement'!CB99=\"Yes\",\"Yes\",IF('Outil Recensement'!CB99=\"No\",\"No\",IF('Outil Recensement'!CB99=\"Y\",\"Yes\",IF('Outil Recensement'!CB99=\"N\",\"No\",\"\"))))","v":""},{"$f":"IF('Outil Recensement'!CH99>0,'Outil Recensement'!CH99,\"\")","v":"    "}]
[{"$f":"IF('Outil Recensement'!A100>0,'Outil Recensement'!A100,\"\")","v":""},{"$f":"IF('Outil Recensement'!B100>0,'Outil Recensement'!B100,\"\")","v":""},{"$f":"IF('Outil Recensement'!C100>0,'Outil Recensement'!C100,\"\")","v":""},{"$f":"IF('Outil Recensement'!D100>0,'Outil Recensement'!D100,\"\")","v":""},{"$f":"IF('Outil Recensement'!P100>0,TEXT('Outil Recensement'!P100,\"000\"),\"\")","v":""},{"$f":"IF('Outil Recensement'!Q100>0,'Outil Recensement'!Q100,\"\")","v":""},{"$f":"IF('Outil Recensement'!R100>0,'Outil Recensement'!R100,\"\")","v":""},{"$f":"IF('Outil Recensement'!F100>0,DATEVALUE(TEXT('Outil Recensement'!F100,\"yyyy-mm-dd\")),\"\")","v":""},{"$f":"IF('Outil Recensement'!L100>0,DATEVALUE(TEXT('Outil Recensement'!L100,\"yyyy-mm-dd\")),\"\")","v":""},{"$f":"IF('Outil Recensement'!Y100>0,'Outil Recensement'!Y100,\"\")","v":""},{"$f":"IF('Outil Recensement'!T100>0,'Outil Recensement'!T100,\"\")","v":""},{"$f":"IF('Outil Recensement'!G100=\"Homme\",\"Male\",IF('Outil Recensement'!G100=\"Femme\",\"Female\",IF('Outil Recensement'!G100=\"H\",\"Male\",IF('Outil Recensement'!G100=\"F\",\"Female\",\"\"))))","v":""},{"$f":"IF('Outil Recensement'!U100=\"Yes\",\"Yes\",IF('Outil Recensement'!U100=\"No\",\"No\",IF('Outil Recensement'!U100=\"Y\",\"Yes\",IF('Outil Recensement'!U100=\"N\",\"No\",\"\"))))","v":""},{"$f":"IF('Outil Recensement'!I100=\"Individuelle\",\"Single\",IF('Outil Recensement'!I100=\"Familiale\",\"Family\",IF('Outil Recensement'!I100=\"Refus\",\"Family\",IF('Outil Recensement'!I100=\"Parent seul\",\"Family\",IF('Outil Recensement'!I100=\"Couple\",\"Family\",IF('Outil Recensement'!I100=\"In force\",\"Family\",IF('Outil Recensement'!I100=\"Applies\",\"Family\",IF('Outil Recensement'!I100=\"Applicable\",\"Family\",\"\"))))))))","v":""},{"$f":"IF('Outil Recensement'!AC100=\"Anglais\",\"English\",IF('Outil Recensement'!AC100=\"Français\",\"French\",IF('Outil Recensement'!AC100=\"A\",\"English\",IF('Outil Recensement'!AC100=\"F\",\"French\",\"\"))))","v":""},{"$f":"IF('Outil Recensement'!AB100=\"Oui\",\"Yes\",IF('Outil Recensement'!AB100=\"Non\",\"No\",IF('Outil Recensement'!AB100=\"O\",\"Yes\",IF('Outil Recensement'!AB100=\"N\",\"No\",\"\"))))","v":""},{"$f":"IF('Outil Recensement'!AD100>0,'Outil Recensement'!AD100,\"\")","v":""},{"$f":"IF('Outil Recensement'!M100=\"Annuel\",\"Annually\",IF('Outil Recensement'!M100=\"Mensuel\",\"Monthly\",IF('Outil Recensement'!M100=\"Bihebdomadaire\",\"Biweekly\",IF('Outil Recensement'!M100=\"Hebdomadaire\",\"Weekly\",IF('Outil Recensement'!M100=\"Horaire\",\"Hourly\",IF('Outil Recensement'!M100=\"Semi-mensuel\",\"Semi-monthly\",IF('Outil Recensement'!M100=\"Applies\",\"Annual\",IF('Outil Recensement'!M100=\"Applicable\",\"Annual\",\"\"))))))))","v":""},{"$f":"IF('Outil Recensement'!N100>0,'Outil Recensement'!N100,\"\")","v":""},{"$f":"IF('Outil Recensement'!O100>0,'Outil Recensement'!O100,\"\")","v":""},{"$f":"IF('Outil Recensement'!I100=\"Refus\",\"Yes\",\"\")","v":""},{"$f":"IF('Outil Recensement'!I100=\"Refus\",\"Yes\",\"\")","v":""},{"$f":"IF('Outil Recensement'!AE100>0,'Outil Recensement'!AE100,\"\")","v":""},{"$f":"IF('Outil Recensement'!AF100>0,'Outil Recensement'!AF100,\"\")","v":""},{"$f":"IF('Outil Recensement'!AG100>0,'Outil Recensement'!AG100,\"\")","v":""},{"$f":"IF('Outil Recensement'!AH100>0,'Outil Recensement'!AH100,\"\")","v":""},{"$f":"IF('Outil Recensement'!AI100>0,'Outil Recensement'!AI100,\"\")","v":" "},{"$f":"IF('Outil Recensement'!AJ100>0,'Outil Recensement'!AJ100,\"\")","v":" "},{"$f":"IF('Outil Recensement'!W100>0,'Outil Recensement'!W100&\" \",\"\")&IF('Outil Recensement'!V100>0,'Outil Recensement'!V100,\"\")","v":""},null,{"$f":"IF('Outil Recensement'!X100>0,'Outil Recensement'!X100,\"\")","v":""},{"$f":"IF('Outil Recensement'!Y100>0,'Outil Recensement'!Y100,\"\")","v":""},{"$f":"IF('Outil Recensement'!Z100>0,'Outil Recensement'!Z100,\"\")","v":""},{"$f":"IF('Outil Recensement'!AA100>0,'Outil Recensement'!AA100,\"\")","v":""},{"$f":"IF('Outil Recensement'!E100>0,'Outil Recensement'!E100,\"\")","v":""},{"$f":"IF('Outil Recensement'!AK100>0,'Outil Recensement'!AK100,\"\")","v":""},{"$f":"IF('Outil Recensement'!AL100>0,'Outil Recensement'!AL100,\"\")","v":""},{"$f":"IF('Outil Recensement'!AM100>0,'Outil Recensement'!AM100,\"\")","v":""},{"$f":"IF('Outil Recensement'!AN100=\"Male\",\"Male\",IF('Outil Recensement'!AN100=\"Female\",\"Female\",IF('Outil Recensement'!AN100=\"M\",\"Male\",IF('Outil Recensement'!AN100=\"F\",\"Female\",\"\"))))","v":""},{"$f":"IF('Outil Recensement'!AO100=\"Single\",\"Single\",IF('Outil Recensement'!AO100=\"Family\",\"Family\",IF('Outil Recensement'!AO100=\"S\",\"Single\",IF('Outil Recensement'!AO100=\"F\",\"Family\",\"\"))))","v":""},{"$f":"IF('Outil Recensement'!AP100=\"Single\",\"Single\",IF('Outil Recensement'!AP100=\"Family\",\"Family\",IF('Outil Recensement'!AP100=\"S\",\"Single\",IF('Outil Recensement'!AP100=\"F\",\"Family\",\"\"))))","v":""},{"$f":"IF('Outil Recensement'!AQ100>0,'Outil Recensement'!AQ100,\"\")","v":""},{"$f":"IF('Outil Recensement'!AR100=\"Yes\",\"Yes\",IF('Outil Recensement'!AR100=\"No\",\"No\",IF('Outil Recensement'!AR100=\"Y\",\"Yes\",IF('Outil Recensement'!AR100=\"N\",\"No\",\"\"))))","v":""},{"$f":"IF('Outil Recensement'!AS100>0,'Outil Recensement'!AS100,\"\")","v":""},{"$f":"IF('Outil Recensement'!AT100>0,'Outil Recensement'!AT100,\"\")","v":""},{"$f":"IF('Outil Recensement'!AU100>0,'Outil Recensement'!AU100,\"\")","v":""},{"$f":"IF('Outil Recensement'!AV100=\"Male\",\"Male\",IF('Outil Recensement'!AV100=\"Female\",\"Female\",IF('Outil Recensement'!AV100=\"M\",\"Male\",IF('Outil Recensement'!AV100=\"F\",\"Female\",\"\"))))","v":""},{"$f":"IF('Outil Recensement'!AW100=\"Yes\",\"Yes\",IF('Outil Recensement'!AW100=\"No\",\"No\",IF('Outil Recensement'!AW100=\"Y\",\"Yes\",IF('Outil Recensement'!AW100=\"N\",\"No\",\"\"))))","v":""},{"$f":"IF('Outil Recensement'!AX100=\"Yes\",\"Yes\",IF('Outil Recensement'!AX100=\"No\",\"No\",IF('Outil Recensement'!AX100=\"Y\",\"Yes\",IF('Outil Recensement'!AX100=\"N\",\"No\",\"\"))))","v":""},{"$f":"IF('Outil Recensement'!AY100>0,'Outil Recensement'!AY100,\"\")","v":""},{"$f":"IF('Outil Recensement'!AZ100>0,'Outil Recensement'!AZ100,\"\")","v":""},{"$f":"IF('Outil Recensement'!BA100>0,'Outil Recensement'!BA100,\"\")","v":""},{"$f":"IF('Outil Recensement'!BB100=\"Male\",\"Male\",IF('Outil Recensement'!BB100=\"Female\",\"Female\",IF('Outil Recensement'!BB100=\"M\",\"Male\",IF('Outil Recensement'!BB100=\"F\",\"Female\",\"\"))))","v":""},{"$f":"IF('Outil Recensement'!BC100=\"Yes\",\"Yes\",IF('Outil Recensement'!BC100=\"No\",\"No\",IF('Outil Recensement'!BC100=\"Y\",\"Yes\",IF('Outil Recensement'!BC100=\"N\",\"No\",\"\"))))","v":""},{"$f":"IF('Outil Recensement'!BD100=\"Yes\",\"Yes\",IF('Outil Recensement'!BD100=\"No\",\"No\",IF('Outil Recensement'!BD100=\"Y\",\"Yes\",IF('Outil Recensement'!BD100=\"N\",\"No\",\"\"))))","v":""},{"$f":"IF('Outil Recensement'!BE100>0,'Outil Recensement'!BE100,\"\")","v":""},{"$f":"IF('Outil Recensement'!BF100>0,'Outil Recensement'!BF100,\"\")","v":""},{"$f":"IF('Outil Recensement'!BG100>0,'Outil Recensement'!BG100,\"\")","v":""},{"$f":"IF('Outil Recensement'!BH100=\"Male\",\"Male\",IF('Outil Recensement'!BH100=\"Female\",\"Female\",IF('Outil Recensement'!BH100=\"M\",\"Male\",IF('Outil Recensement'!BH100=\"F\",\"Female\",\"\"))))","v":""},{"$f":"IF('Outil Recensement'!BI100=\"Yes\",\"Yes\",IF('Outil Recensement'!BI100=\"No\",\"No\",IF('Outil Recensement'!BI100=\"Y\",\"Yes\",IF('Outil Recensement'!BI100=\"N\",\"No\",\"\"))))","v":""},{"$f":"IF('Outil Recensement'!BJ100=\"Yes\",\"Yes\",IF('Outil Recensement'!BJ100=\"No\",\"No\",IF('Outil Recensement'!BJ100=\"Y\",\"Yes\",IF('Outil Recensement'!BJ100=\"N\",\"No\",\"\"))))","v":""},{"$f":"IF('Outil Recensement'!BK100>0,'Outil Recensement'!BK100,\"\")","v":""},{"$f":"IF('Outil Recensement'!BL100>0,'Outil Recensement'!BL100,\"\")","v":""},{"$f":"IF('Outil Recensement'!BM100>0,'Outil Recensement'!BM100,\"\")","v":""},{"$f":"IF('Outil Recensement'!BN100=\"Male\",\"Male\",IF('Outil Recensement'!BN100=\"Female\",\"Female\",IF('Outil Recensement'!BN100=\"M\",\"Male\",IF('Outil Recensement'!BN100=\"F\",\"Female\",\"\"))))","v":""},{"$f":"IF('Outil Recensement'!BO100=\"Yes\",\"Yes\",IF('Outil Recensement'!BO100=\"No\",\"No\",IF('Outil Recensement'!BO100=\"Y\",\"Yes\",IF('Outil Recensement'!BO100=\"N\",\"No\",\"\"))))","v":""},{"$f":"IF('Outil Recensement'!BP100=\"Yes\",\"Yes\",IF('Outil Recensement'!BP100=\"No\",\"No\",IF('Outil Recensement'!BP100=\"Y\",\"Yes\",IF('Outil Recensement'!BP100=\"N\",\"No\",\"\"))))","v":""},{"$f":"IF('Outil Recensement'!BQ100>0,'Outil Recensement'!BQ100,\"\")","v":""},{"$f":"IF('Outil Recensement'!BR100>0,'Outil Recensement'!BR100,\"\")","v":""},{"$f":"IF('Outil Recensement'!BS100>0,'Outil Recensement'!BS100,\"\")","v":""},{"$f":"IF('Outil Recensement'!BT100=\"Male\",\"Male\",IF('Outil Recensement'!BT100=\"Female\",\"Female\",IF('Outil Recensement'!BT100=\"M\",\"Male\",IF('Outil Recensement'!BT100=\"F\",\"Female\",\"\"))))","v":""},{"$f":"IF('Outil Recensement'!BU100=\"Yes\",\"Yes\",IF('Outil Recensement'!BU100=\"No\",\"No\",IF('Outil Recensement'!BU100=\"Y\",\"Yes\",IF('Outil Recensement'!BU100=\"N\",\"No\",\"\"))))","v":""},{"$f":"IF('Outil Recensement'!BV100=\"Yes\",\"Yes\",IF('Outil Recensement'!BV100=\"No\",\"No\",IF('Outil Recensement'!BV100=\"Y\",\"Yes\",IF('Outil Recensement'!BV100=\"N\",\"No\",\"\"))))","v":""},{"$f":"IF('Outil Recensement'!BW100>0,'Outil Recensement'!BW100,\"\")","v":""},{"$f":"IF('Outil Recensement'!BX100>0,'Outil Recensement'!BX100,\"\")","v":""},{"$f":"IF('Outil Recensement'!BY100>0,'Outil Recensement'!BY100,\"\")","v":""},{"$f":"IF('Outil Recensement'!BZ100=\"Male\",\"Male\",IF('Outil Recensement'!BZ100=\"Female\",\"Female\",IF('Outil Recensement'!BZ100=\"M\",\"Male\",IF('Outil Recensement'!BZ100=\"F\",\"Female\",\"\"))))","v":""},{"$f":"IF('Outil Recensement'!CA100=\"Yes\",\"Yes\",IF('Outil Recensement'!CA100=\"No\",\"No\",IF('Outil Recensement'!CA100=\"Y\",\"Yes\",IF('Outil Recensement'!CA100=\"N\",\"No\",\"\"))))","v":""},{"$f":"IF('Outil Recensement'!CB100=\"Yes\",\"Yes\",IF('Outil Recensement'!CB100=\"No\",\"No\",IF('Outil Recensement'!CB100=\"Y\",\"Yes\",IF('Outil Recensement'!CB100=\"N\",\"No\",\"\"))))","v":""},{"$f":"IF('Outil Recensement'!CH100>0,'Outil Recensement'!CH100,\"\")","v":"    "}]
[{"$f":"IF('Outil Recensement'!A101>0,'Outil Recensement'!A101,\"\")","v":""},{"$f":"IF('Outil Recensement'!B101>0,'Outil Recensement'!B101,\"\")","v":""},{"$f":"IF('Outil Recensement'!C101>0,'Outil Recensement'!C101,\"\")","v":""},{"$f":"IF('Outil Recensement'!D101>0,'Outil Recensement'!D101,\"\")","v":""},{"$f":"IF('Outil Recensement'!P101>0,TEXT('Outil Recensement'!P101,\"000\"),\"\")","v":""},{"$f":"IF('Outil Recensement'!Q101>0,'Outil Recensement'!Q101,\"\")","v":""},{"$f":"IF('Outil Recensement'!R101>0,'Outil Recensement'!R101,\"\")","v":""},{"$f":"IF('Outil Recensement'!F101>0,DATEVALUE(TEXT('Outil Recensement'!F101,\"yyyy-mm-dd\")),\"\")","v":""},{"$f":"IF('Outil Recensement'!L101>0,DATEVALUE(TEXT('Outil Recensement'!L101,\"yyyy-mm-dd\")),\"\")","v":""},{"$f":"IF('Outil Recensement'!Y101>0,'Outil Recensement'!Y101,\"\")","v":""},{"$f":"IF('Outil Recensement'!T101>0,'Outil Recensement'!T101,\"\")","v":""},{"$f":"IF('Outil Recensement'!G101=\"Homme\",\"Male\",IF('Outil Recensement'!G101=\"Femme\",\"Female\",IF('Outil Recensement'!G101=\"H\",\"Male\",IF('Outil Recensement'!G101=\"F\",\"Female\",\"\"))))","v":""},{"$f":"IF('Outil Recensement'!U101=\"Yes\",\"Yes\",IF('Outil Recensement'!U101=\"No\",\"No\",IF('Outil Recensement'!U101=\"Y\",\"Yes\",IF('Outil Recensement'!U101=\"N\",\"No\",\"\"))))","v":""},{"$f":"IF('Outil Recensement'!I101=\"Individuelle\",\"Single\",IF('Outil Recensement'!I101=\"Familiale\",\"Family\",IF('Outil Recensement'!I101=\"Refus\",\"Family\",IF('Outil Recensement'!I101=\"Parent seul\",\"Family\",IF('Outil Recensement'!I101=\"Couple\",\"Family\",IF('Outil Recensement'!I101=\"In force\",\"Family\",IF('Outil Recensement'!I101=\"Applies\",\"Family\",IF('Outil Recensement'!I101=\"Applicable\",\"Family\",\"\"))))))))","v":""},{"$f":"IF('Outil Recensement'!AC101=\"Anglais\",\"English\",IF('Outil Recensement'!AC101=\"Français\",\"French\",IF('Outil Recensement'!AC101=\"A\",\"English\",IF('Outil Recensement'!AC101=\"F\",\"French\",\"\"))))","v":""},{"$f":"IF('Outil Recensement'!AB101=\"Oui\",\"Yes\",IF('Outil Recensement'!AB101=\"Non\",\"No\",IF('Outil Recensement'!AB101=\"O\",\"Yes\",IF('Outil Recensement'!AB101=\"N\",\"No\",\"\"))))","v":""},{"$f":"IF('Outil Recensement'!AD101>0,'Outil Recensement'!AD101,\"\")","v":""},{"$f":"IF('Outil Recensement'!M101=\"Annuel\",\"Annually\",IF('Outil Recensement'!M101=\"Mensuel\",\"Monthly\",IF('Outil Recensement'!M101=\"Bihebdomadaire\",\"Biweekly\",IF('Outil Recensement'!M101=\"Hebdomadaire\",\"Weekly\",IF('Outil Recensement'!M101=\"Horaire\",\"Hourly\",IF('Outil Recensement'!M101=\"Semi-mensuel\",\"Semi-monthly\",IF('Outil Recensement'!M101=\"Applies\",\"Annual\",IF('Outil Recensement'!M101=\"Applicable\",\"Annual\",\"\"))))))))","v":""},{"$f":"IF('Outil Recensement'!N101>0,'Outil Recensement'!N101,\"\")","v":""},{"$f":"IF('Outil Recensement'!O101>0,'Outil Recensement'!O101,\"\")","v":""},{"$f":"IF('Outil Recensement'!I101=\"Refus\",\"Yes\",\"\")","v":""},{"$f":"IF('Outil Recensement'!I101=\"Refus\",\"Yes\",\"\")","v":""},{"$f":"IF('Outil Recensement'!AE101>0,'Outil Recensement'!AE101,\"\")","v":""},{"$f":"IF('Outil Recensement'!AF101>0,'Outil Recensement'!AF101,\"\")","v":""},{"$f":"IF('Outil Recensement'!AG101>0,'Outil Recensement'!AG101,\"\")","v":""},{"$f":"IF('Outil Recensement'!AH101>0,'Outil Recensement'!AH101,\"\")","v":""},{"$f":"IF('Outil Recensement'!AI101>0,'Outil Recensement'!AI101,\"\")","v":" "},{"$f":"IF('Outil Recensement'!AJ101>0,'Outil Recensement'!AJ101,\"\")","v":" "},{"$f":"IF('Outil Recensement'!W101>0,'Outil Recensement'!W101&\" \",\"\")&IF('Outil Recensement'!V101>0,'Outil Recensement'!V101,\"\")","v":""},null,{"$f":"IF('Outil Recensement'!X101>0,'Outil Recensement'!X101,\"\")","v":""},{"$f":"IF('Outil Recensement'!Y101>0,'Outil Recensement'!Y101,\"\")","v":""},{"$f":"IF('Outil Recensement'!Z101>0,'Outil Recensement'!Z101,\"\")","v":""},{"$f":"IF('Outil Recensement'!AA101>0,'Outil Recensement'!AA101,\"\")","v":""},{"$f":"IF('Outil Recensement'!E101>0,'Outil Recensement'!E101,\"\")","v":""},{"$f":"IF('Outil Recensement'!AK101>0,'Outil Recensement'!AK101,\"\")","v":""},{"$f":"IF('Outil Recensement'!AL101>0,'Outil Recensement'!AL101,\"\")","v":""},{"$f":"IF('Outil Recensement'!AM101>0,'Outil Recensement'!AM101,\"\")","v":""},{"$f":"IF('Outil Recensement'!AN101=\"Male\",\"Male\",IF('Outil Recensement'!AN101=\"Female\",\"Female\",IF('Outil Recensement'!AN101=\"M\",\"Male\",IF('Outil Recensement'!AN101=\"F\",\"Female\",\"\"))))","v":""},{"$f":"IF('Outil Recensement'!AO101=\"Single\",\"Single\",IF('Outil Recensement'!AO101=\"Family\",\"Family\",IF('Outil Recensement'!AO101=\"S\",\"Single\",IF('Outil Recensement'!AO101=\"F\",\"Family\",\"\"))))","v":""},{"$f":"IF('Outil Recensement'!AP101=\"Single\",\"Single\",IF('Outil Recensement'!AP101=\"Family\",\"Family\",IF('Outil Recensement'!AP101=\"S\",\"Single\",IF('Outil Recensement'!AP101=\"F\",\"Family\",\"\"))))","v":""},{"$f":"IF('Outil Recensement'!AQ101>0,'Outil Recensement'!AQ101,\"\")","v":""},{"$f":"IF('Outil Recensement'!AR101=\"Yes\",\"Yes\",IF('Outil Recensement'!AR101=\"No\",\"No\",IF('Outil Recensement'!AR101=\"Y\",\"Yes\",IF('Outil Recensement'!AR101=\"N\",\"No\",\"\"))))","v":""},{"$f":"IF('Outil Recensement'!AS101>0,'Outil Recensement'!AS101,\"\")","v":""},{"$f":"IF('Outil Recensement'!AT101>0,'Outil Recensement'!AT101,\"\")","v":""},{"$f":"IF('Outil Recensement'!AU101>0,'Outil Recensement'!AU101,\"\")","v":""},{"$f":"IF('Outil Recensement'!AV101=\"Male\",\"Male\",IF('Outil Recensement'!AV101=\"Female\",\"Female\",IF('Outil Recensement'!AV101=\"M\",\"Male\",IF('Outil Recensement'!AV101=\"F\",\"Female\",\"\"))))","v":""},{"$f":"IF('Outil Recensement'!AW101=\"Yes\",\"Yes\",IF('Outil Recensement'!AW101=\"No\",\"No\",IF('Outil Recensement'!AW101=\"Y\",\"Yes\",IF('Outil Recensement'!AW101=\"N\",\"No\",\"\"))))","v":""},{"$f":"IF('Outil Recensement'!AX101=\"Yes\",\"Yes\",IF('Outil Recensement'!AX101=\"No\",\"No\",IF('Outil Recensement'!AX101=\"Y\",\"Yes\",IF('Outil Recensement'!AX101=\"N\",\"No\",\"\"))))","v":""},{"$f":"IF('Outil Recensement'!AY101>0,'Outil Recensement'!AY101,\"\")","v":""},{"$f":"IF('Outil Recensement'!AZ101>0,'Outil Recensement'!AZ101,\"\")","v":""},{"$f":"IF('Outil Recensement'!BA101>0,'Outil Recensement'!BA101,\"\")","v":""},{"$f":"IF('Outil Recensement'!BB101=\"Male\",\"Male\",IF('Outil Recensement'!BB101=\"Female\",\"Female\",IF('Outil Recensement'!BB101=\"M\",\"Male\",IF('Outil Recensement'!BB101=\"F\",\"Female\",\"\"))))","v":""},{"$f":"IF('Outil Recensement'!BC101=\"Yes\",\"Yes\",IF('Outil Recensement'!BC101=\"No\",\"No\",IF('Outil Recensement'!BC101=\"Y\",\"Yes\",IF('Outil Recensement'!BC101=\"N\",\"No\",\"\"))))","v":""},{"$f":"IF('Outil Recensement'!BD101=\"Yes\",\"Yes\",IF('Outil Recensement'!BD101=\"No\",\"No\",IF('Outil Recensement'!BD101=\"Y\",\"Yes\",IF('Outil Recensement'!BD101=\"N\",\"No\",\"\"))))","v":""},{"$f":"IF('Outil Recensement'!BE101>0,'Outil Recensement'!BE101,\"\")","v":""},{"$f":"IF('Outil Recensement'!BF101>0,'Outil Recensement'!BF101,\"\")","v":""},{"$f":"IF('Outil Recensement'!BG101>0,'Outil Recensement'!BG101,\"\")","v":""},{"$f":"IF('Outil Recensement'!BH101=\"Male\",\"Male\",IF('Outil Recensement'!BH101=\"Female\",\"Female\",IF('Outil Recensement'!BH101=\"M\",\"Male\",IF('Outil Recensement'!BH101=\"F\",\"Female\",\"\"))))","v":""},{"$f":"IF('Outil Recensement'!BI101=\"Yes\",\"Yes\",IF('Outil Recensement'!BI101=\"No\",\"No\",IF('Outil Recensement'!BI101=\"Y\",\"Yes\",IF('Outil Recensement'!BI101=\"N\",\"No\",\"\"))))","v":""},{"$f":"IF('Outil Recensement'!BJ101=\"Yes\",\"Yes\",IF('Outil Recensement'!BJ101=\"No\",\"No\",IF('Outil Recensement'!BJ101=\"Y\",\"Yes\",IF('Outil Recensement'!BJ101=\"N\",\"No\",\"\"))))","v":""},{"$f":"IF('Outil Recensement'!BK101>0,'Outil Recensement'!BK101,\"\")","v":""},{"$f":"IF('Outil Recensement'!BL101>0,'Outil Recensement'!BL101,\"\")","v":""},{"$f":"IF('Outil Recensement'!BM101>0,'Outil Recensement'!BM101,\"\")","v":""},{"$f":"IF('Outil Recensement'!BN101=\"Male\",\"Male\",IF('Outil Recensement'!BN101=\"Female\",\"Female\",IF('Outil Recensement'!BN101=\"M\",\"Male\",IF('Outil Recensement'!BN101=\"F\",\"Female\",\"\"))))","v":""},{"$f":"IF('Outil Recensement'!BO101=\"Yes\",\"Yes\",IF('Outil Recensement'!BO101=\"No\",\"No\",IF('Outil Recensement'!BO101=\"Y\",\"Yes\",IF('Outil Recensement'!BO101=\"N\",\"No\",\"\"))))","v":""},{"$f":"IF('Outil Recensement'!BP101=\"Yes\",\"Yes\",IF('Outil Recensement'!BP101=\"No\",\"No\",IF('Outil Recensement'!BP101=\"Y\",\"Yes\",IF('Outil Recensement'!BP101=\"N\",\"No\",\"\"))))","v":""},{"$f":"IF('Outil Recensement'!BQ101>0,'Outil Recensement'!BQ101,\"\")","v":""},{"$f":"IF('Outil Recensement'!BR101>0,'Outil Recensement'!BR101,\"\")","v":""},{"$f":"IF('Outil Recensement'!BS101>0,'Outil Recensement'!BS101,\"\")","v":""},{"$f":"IF('Outil Recensement'!BT101=\"Male\",\"Male\",IF('Outil Recensement'!BT101=\"Female\",\"Female\",IF('Outil Recensement'!BT101=\"M\",\"Male\",IF('Outil Recensement'!BT101=\"F\",\"Female\",\"\"))))","v":""},{"$f":"IF('Outil Recensement'!BU101=\"Yes\",\"Yes\",IF('Outil Recensement'!BU101=\"No\",\"No\",IF('Outil Recensement'!BU101=\"Y\",\"Yes\",IF('Outil Recensement'!BU101=\"N\",\"No\",\"\"))))","v":""},{"$f":"IF('Outil Recensement'!BV101=\"Yes\",\"Yes\",IF('Outil Recensement'!BV101=\"No\",\"No\",IF('Outil Recensement'!BV101=\"Y\",\"Yes\",IF('Outil Recensement'!BV101=\"N\",\"No\",\"\"))))","v":""},{"$f":"IF('Outil Recensement'!BW101>0,'Outil Recensement'!BW101,\"\")","v":""},{"$f":"IF('Outil Recensement'!BX101>0,'Outil Recensement'!BX101,\"\")","v":""},{"$f":"IF('Outil Recensement'!BY101>0,'Outil Recensement'!BY101,\"\")","v":""},{"$f":"IF('Outil Recensement'!BZ101=\"Male\",\"Male\",IF('Outil Recensement'!BZ101=\"Female\",\"Female\",IF('Outil Recensement'!BZ101=\"M\",\"Male\",IF('Outil Recensement'!BZ101=\"F\",\"Female\",\"\"))))","v":""},{"$f":"IF('Outil Recensement'!CA101=\"Yes\",\"Yes\",IF('Outil Recensement'!CA101=\"No\",\"No\",IF('Outil Recensement'!CA101=\"Y\",\"Yes\",IF('Outil Recensement'!CA101=\"N\",\"No\",\"\"))))","v":""},{"$f":"IF('Outil Recensement'!CB101=\"Yes\",\"Yes\",IF('Outil Recensement'!CB101=\"No\",\"No\",IF('Outil Recensement'!CB101=\"Y\",\"Yes\",IF('Outil Recensement'!CB101=\"N\",\"No\",\"\"))))","v":""},{"$f":"IF('Outil Recensement'!CH101>0,'Outil Recensement'!CH101,\"\")","v":"    "}]
[{"$f":"IF('Outil Recensement'!A102>0,'Outil Recensement'!A102,\"\")","v":""},{"$f":"IF('Outil Recensement'!B102>0,'Outil Recensement'!B102,\"\")","v":""},{"$f":"IF('Outil Recensement'!C102>0,'Outil Recensement'!C102,\"\")","v":""},{"$f":"IF('Outil Recensement'!D102>0,'Outil Recensement'!D102,\"\")","v":""},{"$f":"IF('Outil Recensement'!P102>0,TEXT('Outil Recensement'!P102,\"000\"),\"\")","v":""},{"$f":"IF('Outil Recensement'!Q102>0,'Outil Recensement'!Q102,\"\")","v":""},{"$f":"IF('Outil Recensement'!R102>0,'Outil Recensement'!R102,\"\")","v":""},{"$f":"IF('Outil Recensement'!F102>0,DATEVALUE(TEXT('Outil Recensement'!F102,\"yyyy-mm-dd\")),\"\")","v":""},{"$f":"IF('Outil Recensement'!L102>0,DATEVALUE(TEXT('Outil Recensement'!L102,\"yyyy-mm-dd\")),\"\")","v":""},{"$f":"IF('Outil Recensement'!Y102>0,'Outil Recensement'!Y102,\"\")","v":""},{"$f":"IF('Outil Recensement'!T102>0,'Outil Recensement'!T102,\"\")","v":""},{"$f":"IF('Outil Recensement'!G102=\"Homme\",\"Male\",IF('Outil Recensement'!G102=\"Femme\",\"Female\",IF('Outil Recensement'!G102=\"H\",\"Male\",IF('Outil Recensement'!G102=\"F\",\"Female\",\"\"))))","v":""},{"$f":"IF('Outil Recensement'!U102=\"Yes\",\"Yes\",IF('Outil Recensement'!U102=\"No\",\"No\",IF('Outil Recensement'!U102=\"Y\",\"Yes\",IF('Outil Recensement'!U102=\"N\",\"No\",\"\"))))","v":""},{"$f":"IF('Outil Recensement'!I102=\"Individuelle\",\"Single\",IF('Outil Recensement'!I102=\"Familiale\",\"Family\",IF('Outil Recensement'!I102=\"Refus\",\"Family\",IF('Outil Recensement'!I102=\"Parent seul\",\"Family\",IF('Outil Recensement'!I102=\"Couple\",\"Family\",IF('Outil Recensement'!I102=\"In force\",\"Family\",IF('Outil Recensement'!I102=\"Applies\",\"Family\",IF('Outil Recensement'!I102=\"Applicable\",\"Family\",\"\"))))))))","v":""},{"$f":"IF('Outil Recensement'!AC102=\"Anglais\",\"English\",IF('Outil Recensement'!AC102=\"Français\",\"French\",IF('Outil Recensement'!AC102=\"A\",\"English\",IF('Outil Recensement'!AC102=\"F\",\"French\",\"\"))))","v":""},{"$f":"IF('Outil Recensement'!AB102=\"Oui\",\"Yes\",IF('Outil Recensement'!AB102=\"Non\",\"No\",IF('Outil Recensement'!AB102=\"O\",\"Yes\",IF('Outil Recensement'!AB102=\"N\",\"No\",\"\"))))","v":""},{"$f":"IF('Outil Recensement'!AD102>0,'Outil Recensement'!AD102,\"\")","v":""},{"$f":"IF('Outil Recensement'!M102=\"Annuel\",\"Annually\",IF('Outil Recensement'!M102=\"Mensuel\",\"Monthly\",IF('Outil Recensement'!M102=\"Bihebdomadaire\",\"Biweekly\",IF('Outil Recensement'!M102=\"Hebdomadaire\",\"Weekly\",IF('Outil Recensement'!M102=\"Horaire\",\"Hourly\",IF('Outil Recensement'!M102=\"Semi-mensuel\",\"Semi-monthly\",IF('Outil Recensement'!M102=\"Applies\",\"Annual\",IF('Outil Recensement'!M102=\"Applicable\",\"Annual\",\"\"))))))))","v":""},{"$f":"IF('Outil Recensement'!N102>0,'Outil Recensement'!N102,\"\")","v":""},{"$f":"IF('Outil Recensement'!O102>0,'Outil Recensement'!O102,\"\")","v":""},{"$f":"IF('Outil Recensement'!I102=\"Refus\",\"Yes\",\"\")","v":""},{"$f":"IF('Outil Recensement'!I102=\"Refus\",\"Yes\",\"\")","v":""},{"$f":"IF('Outil Recensement'!AE102>0,'Outil Recensement'!AE102,\"\")","v":""},{"$f":"IF('Outil Recensement'!AF102>0,'Outil Recensement'!AF102,\"\")","v":""},{"$f":"IF('Outil Recensement'!AG102>0,'Outil Recensement'!AG102,\"\")","v":""},{"$f":"IF('Outil Recensement'!AH102>0,'Outil Recensement'!AH102,\"\")","v":""},{"$f":"IF('Outil Recensement'!AI102>0,'Outil Recensement'!AI102,\"\")","v":" "},{"$f":"IF('Outil Recensement'!AJ102>0,'Outil Recensement'!AJ102,\"\")","v":" "},{"$f":"IF('Outil Recensement'!W102>0,'Outil Recensement'!W102&\" \",\"\")&IF('Outil Recensement'!V102>0,'Outil Recensement'!V102,\"\")","v":""},null,{"$f":"IF('Outil Recensement'!X102>0,'Outil Recensement'!X102,\"\")","v":""},{"$f":"IF('Outil Recensement'!Y102>0,'Outil Recensement'!Y102,\"\")","v":""},{"$f":"IF('Outil Recensement'!Z102>0,'Outil Recensement'!Z102,\"\")","v":""},{"$f":"IF('Outil Recensement'!AA102>0,'Outil Recensement'!AA102,\"\")","v":""},{"$f":"IF('Outil Recensement'!E102>0,'Outil Recensement'!E102,\"\")","v":""},{"$f":"IF('Outil Recensement'!AK102>0,'Outil Recensement'!AK102,\"\")","v":""},{"$f":"IF('Outil Recensement'!AL102>0,'Outil Recensement'!AL102,\"\")","v":""},{"$f":"IF('Outil Recensement'!AM102>0,'Outil Recensement'!AM102,\"\")","v":""},{"$f":"IF('Outil Recensement'!AN102=\"Male\",\"Male\",IF('Outil Recensement'!AN102=\"Female\",\"Female\",IF('Outil Recensement'!AN102=\"M\",\"Male\",IF('Outil Recensement'!AN102=\"F\",\"Female\",\"\"))))","v":""},{"$f":"IF('Outil Recensement'!AO102=\"Single\",\"Single\",IF('Outil Recensement'!AO102=\"Family\",\"Family\",IF('Outil Recensement'!AO102=\"S\",\"Single\",IF('Outil Recensement'!AO102=\"F\",\"Family\",\"\"))))","v":""},{"$f":"IF('Outil Recensement'!AP102=\"Single\",\"Single\",IF('Outil Recensement'!AP102=\"Family\",\"Family\",IF('Outil Recensement'!AP102=\"S\",\"Single\",IF('Outil Recensement'!AP102=\"F\",\"Family\",\"\"))))","v":""},{"$f":"IF('Outil Recensement'!AQ102>0,'Outil Recensement'!AQ102,\"\")","v":""},{"$f":"IF('Outil Recensement'!AR102=\"Yes\",\"Yes\",IF('Outil Recensement'!AR102=\"No\",\"No\",IF('Outil Recensement'!AR102=\"Y\",\"Yes\",IF('Outil Recensement'!AR102=\"N\",\"No\",\"\"))))","v":""},{"$f":"IF('Outil Recensement'!AS102>0,'Outil Recensement'!AS102,\"\")","v":""},{"$f":"IF('Outil Recensement'!AT102>0,'Outil Recensement'!AT102,\"\")","v":""},{"$f":"IF('Outil Recensement'!AU102>0,'Outil Recensement'!AU102,\"\")","v":""},{"$f":"IF('Outil Recensement'!AV102=\"Male\",\"Male\",IF('Outil Recensement'!AV102=\"Female\",\"Female\",IF('Outil Recensement'!AV102=\"M\",\"Male\",IF('Outil Recensement'!AV102=\"F\",\"Female\",\"\"))))","v":""},{"$f":"IF('Outil Recensement'!AW102=\"Yes\",\"Yes\",IF('Outil Recensement'!AW102=\"No\",\"No\",IF('Outil Recensement'!AW102=\"Y\",\"Yes\",IF('Outil Recensement'!AW102=\"N\",\"No\",\"\"))))","v":""},{"$f":"IF('Outil Recensement'!AX102=\"Yes\",\"Yes\",IF('Outil Recensement'!AX102=\"No\",\"No\",IF('Outil Recensement'!AX102=\"Y\",\"Yes\",IF('Outil Recensement'!AX102=\"N\",\"No\",\"\"))))","v":""},{"$f":"IF('Outil Recensement'!AY102>0,'Outil Recensement'!AY102,\"\")","v":""},{"$f":"IF('Outil Recensement'!AZ102>0,'Outil Recensement'!AZ102,\"\")","v":""},{"$f":"IF('Outil Recensement'!BA102>0,'Outil Recensement'!BA102,\"\")","v":""},{"$f":"IF('Outil Recensement'!BB102=\"Male\",\"Male\",IF('Outil Recensement'!BB102=\"Female\",\"Female\",IF('Outil Recensement'!BB102=\"M\",\"Male\",IF('Outil Recensement'!BB102=\"F\",\"Female\",\"\"))))","v":""},{"$f":"IF('Outil Recensement'!BC102=\"Yes\",\"Yes\",IF('Outil Recensement'!BC102=\"No\",\"No\",IF('Outil Recensement'!BC102=\"Y\",\"Yes\",IF('Outil Recensement'!BC102=\"N\",\"No\",\"\"))))","v":""},{"$f":"IF('Outil Recensement'!BD102=\"Yes\",\"Yes\",IF('Outil Recensement'!BD102=\"No\",\"No\",IF('Outil Recensement'!BD102=\"Y\",\"Yes\",IF('Outil Recensement'!BD102=\"N\",\"No\",\"\"))))","v":""},{"$f":"IF('Outil Recensement'!BE102>0,'Outil Recensement'!BE102,\"\")","v":""},{"$f":"IF('Outil Recensement'!BF102>0,'Outil Recensement'!BF102,\"\")","v":""},{"$f":"IF('Outil Recensement'!BG102>0,'Outil Recensement'!BG102,\"\")","v":""},{"$f":"IF('Outil Recensement'!BH102=\"Male\",\"Male\",IF('Outil Recensement'!BH102=\"Female\",\"Female\",IF('Outil Recensement'!BH102=\"M\",\"Male\",IF('Outil Recensement'!BH102=\"F\",\"Female\",\"\"))))","v":""},{"$f":"IF('Outil Recensement'!BI102=\"Yes\",\"Yes\",IF('Outil Recensement'!BI102=\"No\",\"No\",IF('Outil Recensement'!BI102=\"Y\",\"Yes\",IF('Outil Recensement'!BI102=\"N\",\"No\",\"\"))))","v":""},{"$f":"IF('Outil Recensement'!BJ102=\"Yes\",\"Yes\",IF('Outil Recensement'!BJ102=\"No\",\"No\",IF('Outil Recensement'!BJ102=\"Y\",\"Yes\",IF('Outil Recensement'!BJ102=\"N\",\"No\",\"\"))))","v":""},{"$f":"IF('Outil Recensement'!BK102>0,'Outil Recensement'!BK102,\"\")","v":""},{"$f":"IF('Outil Recensement'!BL102>0,'Outil Recensement'!BL102,\"\")","v":""},{"$f":"IF('Outil Recensement'!BM102>0,'Outil Recensement'!BM102,\"\")","v":""},{"$f":"IF('Outil Recensement'!BN102=\"Male\",\"Male\",IF('Outil Recensement'!BN102=\"Female\",\"Female\",IF('Outil Recensement'!BN102=\"M\",\"Male\",IF('Outil Recensement'!BN102=\"F\",\"Female\",\"\"))))","v":""},{"$f":"IF('Outil Recensement'!BO102=\"Yes\",\"Yes\",IF('Outil Recensement'!BO102=\"No\",\"No\",IF('Outil Recensement'!BO102=\"Y\",\"Yes\",IF('Outil Recensement'!BO102=\"N\",\"No\",\"\"))))","v":""},{"$f":"IF('Outil Recensement'!BP102=\"Yes\",\"Yes\",IF('Outil Recensement'!BP102=\"No\",\"No\",IF('Outil Recensement'!BP102=\"Y\",\"Yes\",IF('Outil Recensement'!BP102=\"N\",\"No\",\"\"))))","v":""},{"$f":"IF('Outil Recensement'!BQ102>0,'Outil Recensement'!BQ102,\"\")","v":""},{"$f":"IF('Outil Recensement'!BR102>0,'Outil Recensement'!BR102,\"\")","v":""},{"$f":"IF('Outil Recensement'!BS102>0,'Outil Recensement'!BS102,\"\")","v":""},{"$f":"IF('Outil Recensement'!BT102=\"Male\",\"Male\",IF('Outil Recensement'!BT102=\"Female\",\"Female\",IF('Outil Recensement'!BT102=\"M\",\"Male\",IF('Outil Recensement'!BT102=\"F\",\"Female\",\"\"))))","v":""},{"$f":"IF('Outil Recensement'!BU102=\"Yes\",\"Yes\",IF('Outil Recensement'!BU102=\"No\",\"No\",IF('Outil Recensement'!BU102=\"Y\",\"Yes\",IF('Outil Recensement'!BU102=\"N\",\"No\",\"\"))))","v":""},{"$f":"IF('Outil Recensement'!BV102=\"Yes\",\"Yes\",IF('Outil Recensement'!BV102=\"No\",\"No\",IF('Outil Recensement'!BV102=\"Y\",\"Yes\",IF('Outil Recensement'!BV102=\"N\",\"No\",\"\"))))","v":""},{"$f":"IF('Outil Recensement'!BW102>0,'Outil Recensement'!BW102,\"\")","v":""},{"$f":"IF('Outil Recensement'!BX102>0,'Outil Recensement'!BX102,\"\")","v":""},{"$f":"IF('Outil Recensement'!BY102>0,'Outil Recensement'!BY102,\"\")","v":""},{"$f":"IF('Outil Recensement'!BZ102=\"Male\",\"Male\",IF('Outil Recensement'!BZ102=\"Female\",\"Female\",IF('Outil Recensement'!BZ102=\"M\",\"Male\",IF('Outil Recensement'!BZ102=\"F\",\"Female\",\"\"))))","v":""},{"$f":"IF('Outil Recensement'!CA102=\"Yes\",\"Yes\",IF('Outil Recensement'!CA102=\"No\",\"No\",IF('Outil Recensement'!CA102=\"Y\",\"Yes\",IF('Outil Recensement'!CA102=\"N\",\"No\",\"\"))))","v":""},{"$f":"IF('Outil Recensement'!CB102=\"Yes\",\"Yes\",IF('Outil Recensement'!CB102=\"No\",\"No\",IF('Outil Recensement'!CB102=\"Y\",\"Yes\",IF('Outil Recensement'!CB102=\"N\",\"No\",\"\"))))","v":""},{"$f":"IF('Outil Recensement'!CH102>0,'Outil Recensement'!CH102,\"\")","v":"    "}]
[{"$f":"IF('Outil Recensement'!A103>0,'Outil Recensement'!A103,\"\")","v":""},{"$f":"IF('Outil Recensement'!B103>0,'Outil Recensement'!B103,\"\")","v":""},{"$f":"IF('Outil Recensement'!C103>0,'Outil Recensement'!C103,\"\")","v":""},{"$f":"IF('Outil Recensement'!D103>0,'Outil Recensement'!D103,\"\")","v":""},{"$f":"IF('Outil Recensement'!P103>0,TEXT('Outil Recensement'!P103,\"000\"),\"\")","v":""},{"$f":"IF('Outil Recensement'!Q103>0,'Outil Recensement'!Q103,\"\")","v":""},{"$f":"IF('Outil Recensement'!R103>0,'Outil Recensement'!R103,\"\")","v":""},{"$f":"IF('Outil Recensement'!F103>0,DATEVALUE(TEXT('Outil Recensement'!F103,\"yyyy-mm-dd\")),\"\")","v":""},{"$f":"IF('Outil Recensement'!L103>0,DATEVALUE(TEXT('Outil Recensement'!L103,\"yyyy-mm-dd\")),\"\")","v":""},{"$f":"IF('Outil Recensement'!Y103>0,'Outil Recensement'!Y103,\"\")","v":""},{"$f":"IF('Outil Recensement'!T103>0,'Outil Recensement'!T103,\"\")","v":""},{"$f":"IF('Outil Recensement'!G103=\"Homme\",\"Male\",IF('Outil Recensement'!G103=\"Femme\",\"Female\",IF('Outil Recensement'!G103=\"H\",\"Male\",IF('Outil Recensement'!G103=\"F\",\"Female\",\"\"))))","v":""},{"$f":"IF('Outil Recensement'!U103=\"Yes\",\"Yes\",IF('Outil Recensement'!U103=\"No\",\"No\",IF('Outil Recensement'!U103=\"Y\",\"Yes\",IF('Outil Recensement'!U103=\"N\",\"No\",\"\"))))","v":""},{"$f":"IF('Outil Recensement'!I103=\"Individuelle\",\"Single\",IF('Outil Recensement'!I103=\"Familiale\",\"Family\",IF('Outil Recensement'!I103=\"Refus\",\"Family\",IF('Outil Recensement'!I103=\"Parent seul\",\"Family\",IF('Outil Recensement'!I103=\"Couple\",\"Family\",IF('Outil Recensement'!I103=\"In force\",\"Family\",IF('Outil Recensement'!I103=\"Applies\",\"Family\",IF('Outil Recensement'!I103=\"Applicable\",\"Family\",\"\"))))))))","v":""},{"$f":"IF('Outil Recensement'!AC103=\"Anglais\",\"English\",IF('Outil Recensement'!AC103=\"Français\",\"French\",IF('Outil Recensement'!AC103=\"A\",\"English\",IF('Outil Recensement'!AC103=\"F\",\"French\",\"\"))))","v":""},{"$f":"IF('Outil Recensement'!AB103=\"Oui\",\"Yes\",IF('Outil Recensement'!AB103=\"Non\",\"No\",IF('Outil Recensement'!AB103=\"O\",\"Yes\",IF('Outil Recensement'!AB103=\"N\",\"No\",\"\"))))","v":""},{"$f":"IF('Outil Recensement'!AD103>0,'Outil Recensement'!AD103,\"\")","v":""},{"$f":"IF('Outil Recensement'!M103=\"Annuel\",\"Annually\",IF('Outil Recensement'!M103=\"Mensuel\",\"Monthly\",IF('Outil Recensement'!M103=\"Bihebdomadaire\",\"Biweekly\",IF('Outil Recensement'!M103=\"Hebdomadaire\",\"Weekly\",IF('Outil Recensement'!M103=\"Horaire\",\"Hourly\",IF('Outil Recensement'!M103=\"Semi-mensuel\",\"Semi-monthly\",IF('Outil Recensement'!M103=\"Applies\",\"Annual\",IF('Outil Recensement'!M103=\"Applicable\",\"Annual\",\"\"))))))))","v":""},{"$f":"IF('Outil Recensement'!N103>0,'Outil Recensement'!N103,\"\")","v":""},{"$f":"IF('Outil Recensement'!O103>0,'Outil Recensement'!O103,\"\")","v":""},{"$f":"IF('Outil Recensement'!I103=\"Refus\",\"Yes\",\"\")","v":""},{"$f":"IF('Outil Recensement'!I103=\"Refus\",\"Yes\",\"\")","v":""},{"$f":"IF('Outil Recensement'!AE103>0,'Outil Recensement'!AE103,\"\")","v":""},{"$f":"IF('Outil Recensement'!AF103>0,'Outil Recensement'!AF103,\"\")","v":""},{"$f":"IF('Outil Recensement'!AG103>0,'Outil Recensement'!AG103,\"\")","v":""},{"$f":"IF('Outil Recensement'!AH103>0,'Outil Recensement'!AH103,\"\")","v":""},{"$f":"IF('Outil Recensement'!AI103>0,'Outil Recensement'!AI103,\"\")","v":" "},{"$f":"IF('Outil Recensement'!AJ103>0,'Outil Recensement'!AJ103,\"\")","v":" "},{"$f":"IF('Outil Recensement'!W103>0,'Outil Recensement'!W103&\" \",\"\")&IF('Outil Recensement'!V103>0,'Outil Recensement'!V103,\"\")","v":""},null,{"$f":"IF('Outil Recensement'!X103>0,'Outil Recensement'!X103,\"\")","v":""},{"$f":"IF('Outil Recensement'!Y103>0,'Outil Recensement'!Y103,\"\")","v":""},{"$f":"IF('Outil Recensement'!Z103>0,'Outil Recensement'!Z103,\"\")","v":""},{"$f":"IF('Outil Recensement'!AA103>0,'Outil Recensement'!AA103,\"\")","v":""},{"$f":"IF('Outil Recensement'!E103>0,'Outil Recensement'!E103,\"\")","v":""},{"$f":"IF('Outil Recensement'!AK103>0,'Outil Recensement'!AK103,\"\")","v":""},{"$f":"IF('Outil Recensement'!AL103>0,'Outil Recensement'!AL103,\"\")","v":""},{"$f":"IF('Outil Recensement'!AM103>0,'Outil Recensement'!AM103,\"\")","v":""},{"$f":"IF('Outil Recensement'!AN103=\"Male\",\"Male\",IF('Outil Recensement'!AN103=\"Female\",\"Female\",IF('Outil Recensement'!AN103=\"M\",\"Male\",IF('Outil Recensement'!AN103=\"F\",\"Female\",\"\"))))","v":""},{"$f":"IF('Outil Recensement'!AO103=\"Single\",\"Single\",IF('Outil Recensement'!AO103=\"Family\",\"Family\",IF('Outil Recensement'!AO103=\"S\",\"Single\",IF('Outil Recensement'!AO103=\"F\",\"Family\",\"\"))))","v":""},{"$f":"IF('Outil Recensement'!AP103=\"Single\",\"Single\",IF('Outil Recensement'!AP103=\"Family\",\"Family\",IF('Outil Recensement'!AP103=\"S\",\"Single\",IF('Outil Recensement'!AP103=\"F\",\"Family\",\"\"))))","v":""},{"$f":"IF('Outil Recensement'!AQ103>0,'Outil Recensement'!AQ103,\"\")","v":""},{"$f":"IF('Outil Recensement'!AR103=\"Yes\",\"Yes\",IF('Outil Recensement'!AR103=\"No\",\"No\",IF('Outil Recensement'!AR103=\"Y\",\"Yes\",IF('Outil Recensement'!AR103=\"N\",\"No\",\"\"))))","v":""},{"$f":"IF('Outil Recensement'!AS103>0,'Outil Recensement'!AS103,\"\")","v":""},{"$f":"IF('Outil Recensement'!AT103>0,'Outil Recensement'!AT103,\"\")","v":""},{"$f":"IF('Outil Recensement'!AU103>0,'Outil Recensement'!AU103,\"\")","v":""},{"$f":"IF('Outil Recensement'!AV103=\"Male\",\"Male\",IF('Outil Recensement'!AV103=\"Female\",\"Female\",IF('Outil Recensement'!AV103=\"M\",\"Male\",IF('Outil Recensement'!AV103=\"F\",\"Female\",\"\"))))","v":""},{"$f":"IF('Outil Recensement'!AW103=\"Yes\",\"Yes\",IF('Outil Recensement'!AW103=\"No\",\"No\",IF('Outil Recensement'!AW103=\"Y\",\"Yes\",IF('Outil Recensement'!AW103=\"N\",\"No\",\"\"))))","v":""},{"$f":"IF('Outil Recensement'!AX103=\"Yes\",\"Yes\",IF('Outil Recensement'!AX103=\"No\",\"No\",IF('Outil Recensement'!AX103=\"Y\",\"Yes\",IF('Outil Recensement'!AX103=\"N\",\"No\",\"\"))))","v":""},{"$f":"IF('Outil Recensement'!AY103>0,'Outil Recensement'!AY103,\"\")","v":""},{"$f":"IF('Outil Recensement'!AZ103>0,'Outil Recensement'!AZ103,\"\")","v":""},{"$f":"IF('Outil Recensement'!BA103>0,'Outil Recensement'!BA103,\"\")","v":""},{"$f":"IF('Outil Recensement'!BB103=\"Male\",\"Male\",IF('Outil Recensement'!BB103=\"Female\",\"Female\",IF('Outil Recensement'!BB103=\"M\",\"Male\",IF('Outil Recensement'!BB103=\"F\",\"Female\",\"\"))))","v":""},{"$f":"IF('Outil Recensement'!BC103=\"Yes\",\"Yes\",IF('Outil Recensement'!BC103=\"No\",\"No\",IF('Outil Recensement'!BC103=\"Y\",\"Yes\",IF('Outil Recensement'!BC103=\"N\",\"No\",\"\"))))","v":""},{"$f":"IF('Outil Recensement'!BD103=\"Yes\",\"Yes\",IF('Outil Recensement'!BD103=\"No\",\"No\",IF('Outil Recensement'!BD103=\"Y\",\"Yes\",IF('Outil Recensement'!BD103=\"N\",\"No\",\"\"))))","v":""},{"$f":"IF('Outil Recensement'!BE103>0,'Outil Recensement'!BE103,\"\")","v":""},{"$f":"IF('Outil Recensement'!BF103>0,'Outil Recensement'!BF103,\"\")","v":""},{"$f":"IF('Outil Recensement'!BG103>0,'Outil Recensement'!BG103,\"\")","v":""},{"$f":"IF('Outil Recensement'!BH103=\"Male\",\"Male\",IF('Outil Recensement'!BH103=\"Female\",\"Female\",IF('Outil Recensement'!BH103=\"M\",\"Male\",IF('Outil Recensement'!BH103=\"F\",\"Female\",\"\"))))","v":""},{"$f":"IF('Outil Recensement'!BI103=\"Yes\",\"Yes\",IF('Outil Recensement'!BI103=\"No\",\"No\",IF('Outil Recensement'!BI103=\"Y\",\"Yes\",IF('Outil Recensement'!BI103=\"N\",\"No\",\"\"))))","v":""},{"$f":"IF('Outil Recensement'!BJ103=\"Yes\",\"Yes\",IF('Outil Recensement'!BJ103=\"No\",\"No\",IF('Outil Recensement'!BJ103=\"Y\",\"Yes\",IF('Outil Recensement'!BJ103=\"N\",\"No\",\"\"))))","v":""},{"$f":"IF('Outil Recensement'!BK103>0,'Outil Recensement'!BK103,\"\")","v":""},{"$f":"IF('Outil Recensement'!BL103>0,'Outil Recensement'!BL103,\"\")","v":""},{"$f":"IF('Outil Recensement'!BM103>0,'Outil Recensement'!BM103,\"\")","v":""},{"$f":"IF('Outil Recensement'!BN103=\"Male\",\"Male\",IF('Outil Recensement'!BN103=\"Female\",\"Female\",IF('Outil Recensement'!BN103=\"M\",\"Male\",IF('Outil Recensement'!BN103=\"F\",\"Female\",\"\"))))","v":""},{"$f":"IF('Outil Recensement'!BO103=\"Yes\",\"Yes\",IF('Outil Recensement'!BO103=\"No\",\"No\",IF('Outil Recensement'!BO103=\"Y\",\"Yes\",IF('Outil Recensement'!BO103=\"N\",\"No\",\"\"))))","v":""},{"$f":"IF('Outil Recensement'!BP103=\"Yes\",\"Yes\",IF('Outil Recensement'!BP103=\"No\",\"No\",IF('Outil Recensement'!BP103=\"Y\",\"Yes\",IF('Outil Recensement'!BP103=\"N\",\"No\",\"\"))))","v":""},{"$f":"IF('Outil Recensement'!BQ103>0,'Outil Recensement'!BQ103,\"\")","v":""},{"$f":"IF('Outil Recensement'!BR103>0,'Outil Recensement'!BR103,\"\")","v":""},{"$f":"IF('Outil Recensement'!BS103>0,'Outil Recensement'!BS103,\"\")","v":""},{"$f":"IF('Outil Recensement'!BT103=\"Male\",\"Male\",IF('Outil Recensement'!BT103=\"Female\",\"Female\",IF('Outil Recensement'!BT103=\"M\",\"Male\",IF('Outil Recensement'!BT103=\"F\",\"Female\",\"\"))))","v":""},{"$f":"IF('Outil Recensement'!BU103=\"Yes\",\"Yes\",IF('Outil Recensement'!BU103=\"No\",\"No\",IF('Outil Recensement'!BU103=\"Y\",\"Yes\",IF('Outil Recensement'!BU103=\"N\",\"No\",\"\"))))","v":""},{"$f":"IF('Outil Recensement'!BV103=\"Yes\",\"Yes\",IF('Outil Recensement'!BV103=\"No\",\"No\",IF('Outil Recensement'!BV103=\"Y\",\"Yes\",IF('Outil Recensement'!BV103=\"N\",\"No\",\"\"))))","v":""},{"$f":"IF('Outil Recensement'!BW103>0,'Outil Recensement'!BW103,\"\")","v":""},{"$f":"IF('Outil Recensement'!BX103>0,'Outil Recensement'!BX103,\"\")","v":""},{"$f":"IF('Outil Recensement'!BY103>0,'Outil Recensement'!BY103,\"\")","v":""},{"$f":"IF('Outil Recensement'!BZ103=\"Male\",\"Male\",IF('Outil Recensement'!BZ103=\"Female\",\"Female\",IF('Outil Recensement'!BZ103=\"M\",\"Male\",IF('Outil Recensement'!BZ103=\"F\",\"Female\",\"\"))))","v":""},{"$f":"IF('Outil Recensement'!CA103=\"Yes\",\"Yes\",IF('Outil Recensement'!CA103=\"No\",\"No\",IF('Outil Recensement'!CA103=\"Y\",\"Yes\",IF('Outil Recensement'!CA103=\"N\",\"No\",\"\"))))","v":""},{"$f":"IF('Outil Recensement'!CB103=\"Yes\",\"Yes\",IF('Outil Recensement'!CB103=\"No\",\"No\",IF('Outil Recensement'!CB103=\"Y\",\"Yes\",IF('Outil Recensement'!CB103=\"N\",\"No\",\"\"))))","v":""},{"$f":"IF('Outil Recensement'!CH103>0,'Outil Recensement'!CH103,\"\")","v":"    "}]
[{"$f":"IF('Outil Recensement'!A104>0,'Outil Recensement'!A104,\"\")","v":""},{"$f":"IF('Outil Recensement'!B104>0,'Outil Recensement'!B104,\"\")","v":""},{"$f":"IF('Outil Recensement'!C104>0,'Outil Recensement'!C104,\"\")","v":""},{"$f":"IF('Outil Recensement'!D104>0,'Outil Recensement'!D104,\"\")","v":""},{"$f":"IF('Outil Recensement'!P104>0,TEXT('Outil Recensement'!P104,\"000\"),\"\")","v":""},{"$f":"IF('Outil Recensement'!Q104>0,'Outil Recensement'!Q104,\"\")","v":""},{"$f":"IF('Outil Recensement'!R104>0,'Outil Recensement'!R104,\"\")","v":""},{"$f":"IF('Outil Recensement'!F104>0,DATEVALUE(TEXT('Outil Recensement'!F104,\"yyyy-mm-dd\")),\"\")","v":""},{"$f":"IF('Outil Recensement'!L104>0,DATEVALUE(TEXT('Outil Recensement'!L104,\"yyyy-mm-dd\")),\"\")","v":""},{"$f":"IF('Outil Recensement'!Y104>0,'Outil Recensement'!Y104,\"\")","v":""},{"$f":"IF('Outil Recensement'!T104>0,'Outil Recensement'!T104,\"\")","v":""},{"$f":"IF('Outil Recensement'!G104=\"Homme\",\"Male\",IF('Outil Recensement'!G104=\"Femme\",\"Female\",IF('Outil Recensement'!G104=\"H\",\"Male\",IF('Outil Recensement'!G104=\"F\",\"Female\",\"\"))))","v":""},{"$f":"IF('Outil Recensement'!U104=\"Yes\",\"Yes\",IF('Outil Recensement'!U104=\"No\",\"No\",IF('Outil Recensement'!U104=\"Y\",\"Yes\",IF('Outil Recensement'!U104=\"N\",\"No\",\"\"))))","v":""},{"$f":"IF('Outil Recensement'!I104=\"Individuelle\",\"Single\",IF('Outil Recensement'!I104=\"Familiale\",\"Family\",IF('Outil Recensement'!I104=\"Refus\",\"Family\",IF('Outil Recensement'!I104=\"Parent seul\",\"Family\",IF('Outil Recensement'!I104=\"Couple\",\"Family\",IF('Outil Recensement'!I104=\"In force\",\"Family\",IF('Outil Recensement'!I104=\"Applies\",\"Family\",IF('Outil Recensement'!I104=\"Applicable\",\"Family\",\"\"))))))))","v":""},{"$f":"IF('Outil Recensement'!AC104=\"Anglais\",\"English\",IF('Outil Recensement'!AC104=\"Français\",\"French\",IF('Outil Recensement'!AC104=\"A\",\"English\",IF('Outil Recensement'!AC104=\"F\",\"French\",\"\"))))","v":""},{"$f":"IF('Outil Recensement'!AB104=\"Oui\",\"Yes\",IF('Outil Recensement'!AB104=\"Non\",\"No\",IF('Outil Recensement'!AB104=\"O\",\"Yes\",IF('Outil Recensement'!AB104=\"N\",\"No\",\"\"))))","v":""},{"$f":"IF('Outil Recensement'!AD104>0,'Outil Recensement'!AD104,\"\")","v":""},{"$f":"IF('Outil Recensement'!M104=\"Annuel\",\"Annually\",IF('Outil Recensement'!M104=\"Mensuel\",\"Monthly\",IF('Outil Recensement'!M104=\"Bihebdomadaire\",\"Biweekly\",IF('Outil Recensement'!M104=\"Hebdomadaire\",\"Weekly\",IF('Outil Recensement'!M104=\"Horaire\",\"Hourly\",IF('Outil Recensement'!M104=\"Semi-mensuel\",\"Semi-monthly\",IF('Outil Recensement'!M104=\"Applies\",\"Annual\",IF('Outil Recensement'!M104=\"Applicable\",\"Annual\",\"\"))))))))","v":""},{"$f":"IF('Outil Recensement'!N104>0,'Outil Recensement'!N104,\"\")","v":""},{"$f":"IF('Outil Recensement'!O104>0,'Outil Recensement'!O104,\"\")","v":""},{"$f":"IF('Outil Recensement'!I104=\"Refus\",\"Yes\",\"\")","v":""},{"$f":"IF('Outil Recensement'!I104=\"Refus\",\"Yes\",\"\")","v":""},{"$f":"IF('Outil Recensement'!AE104>0,'Outil Recensement'!AE104,\"\")","v":""},{"$f":"IF('Outil Recensement'!AF104>0,'Outil Recensement'!AF104,\"\")","v":""},{"$f":"IF('Outil Recensement'!AG104>0,'Outil Recensement'!AG104,\"\")","v":""},{"$f":"IF('Outil Recensement'!AH104>0,'Outil Recensement'!AH104,\"\")","v":""},{"$f":"IF('Outil Recensement'!AI104>0,'Outil Recensement'!AI104,\"\")","v":" "},{"$f":"IF('Outil Recensement'!AJ104>0,'Outil Recensement'!AJ104,\"\")","v":" "},{"$f":"IF('Outil Recensement'!W104>0,'Outil Recensement'!W104&\" \",\"\")&IF('Outil Recensement'!V104>0,'Outil Recensement'!V104,\"\")","v":""},null,{"$f":"IF('Outil Recensement'!X104>0,'Outil Recensement'!X104,\"\")","v":""},{"$f":"IF('Outil Recensement'!Y104>0,'Outil Recensement'!Y104,\"\")","v":""},{"$f":"IF('Outil Recensement'!Z104>0,'Outil Recensement'!Z104,\"\")","v":""},{"$f":"IF('Outil Recensement'!AA104>0,'Outil Recensement'!AA104,\"\")","v":""},{"$f":"IF('Outil Recensement'!E104>0,'Outil Recensement'!E104,\"\")","v":""},{"$f":"IF('Outil Recensement'!AK104>0,'Outil Recensement'!AK104,\"\")","v":""},{"$f":"IF('Outil Recensement'!AL104>0,'Outil Recensement'!AL104,\"\")","v":""},{"$f":"IF('Outil Recensement'!AM104>0,'Outil Recensement'!AM104,\"\")","v":""},{"$f":"IF('Outil Recensement'!AN104=\"Male\",\"Male\",IF('Outil Recensement'!AN104=\"Female\",\"Female\",IF('Outil Recensement'!AN104=\"M\",\"Male\",IF('Outil Recensement'!AN104=\"F\",\"Female\",\"\"))))","v":""},{"$f":"IF('Outil Recensement'!AO104=\"Single\",\"Single\",IF('Outil Recensement'!AO104=\"Family\",\"Family\",IF('Outil Recensement'!AO104=\"S\",\"Single\",IF('Outil Recensement'!AO104=\"F\",\"Family\",\"\"))))","v":""},{"$f":"IF('Outil Recensement'!AP104=\"Single\",\"Single\",IF('Outil Recensement'!AP104=\"Family\",\"Family\",IF('Outil Recensement'!AP104=\"S\",\"Single\",IF('Outil Recensement'!AP104=\"F\",\"Family\",\"\"))))","v":""},{"$f":"IF('Outil Recensement'!AQ104>0,'Outil Recensement'!AQ104,\"\")","v":""},{"$f":"IF('Outil Recensement'!AR104=\"Yes\",\"Yes\",IF('Outil Recensement'!AR104=\"No\",\"No\",IF('Outil Recensement'!AR104=\"Y\",\"Yes\",IF('Outil Recensement'!AR104=\"N\",\"No\",\"\"))))","v":""},{"$f":"IF('Outil Recensement'!AS104>0,'Outil Recensement'!AS104,\"\")","v":""},{"$f":"IF('Outil Recensement'!AT104>0,'Outil Recensement'!AT104,\"\")","v":""},{"$f":"IF('Outil Recensement'!AU104>0,'Outil Recensement'!AU104,\"\")","v":""},{"$f":"IF('Outil Recensement'!AV104=\"Male\",\"Male\",IF('Outil Recensement'!AV104=\"Female\",\"Female\",IF('Outil Recensement'!AV104=\"M\",\"Male\",IF('Outil Recensement'!AV104=\"F\",\"Female\",\"\"))))","v":""},{"$f":"IF('Outil Recensement'!AW104=\"Yes\",\"Yes\",IF('Outil Recensement'!AW104=\"No\",\"No\",IF('Outil Recensement'!AW104=\"Y\",\"Yes\",IF('Outil Recensement'!AW104=\"N\",\"No\",\"\"))))","v":""},{"$f":"IF('Outil Recensement'!AX104=\"Yes\",\"Yes\",IF('Outil Recensement'!AX104=\"No\",\"No\",IF('Outil Recensement'!AX104=\"Y\",\"Yes\",IF('Outil Recensement'!AX104=\"N\",\"No\",\"\"))))","v":""},{"$f":"IF('Outil Recensement'!AY104>0,'Outil Recensement'!AY104,\"\")","v":""},{"$f":"IF('Outil Recensement'!AZ104>0,'Outil Recensement'!AZ104,\"\")","v":""},{"$f":"IF('Outil Recensement'!BA104>0,'Outil Recensement'!BA104,\"\")","v":""},{"$f":"IF('Outil Recensement'!BB104=\"Male\",\"Male\",IF('Outil Recensement'!BB104=\"Female\",\"Female\",IF('Outil Recensement'!BB104=\"M\",\"Male\",IF('Outil Recensement'!BB104=\"F\",\"Female\",\"\"))))","v":""},{"$f":"IF('Outil Recensement'!BC104=\"Yes\",\"Yes\",IF('Outil Recensement'!BC104=\"No\",\"No\",IF('Outil Recensement'!BC104=\"Y\",\"Yes\",IF('Outil Recensement'!BC104=\"N\",\"No\",\"\"))))","v":""},{"$f":"IF('Outil Recensement'!BD104=\"Yes\",\"Yes\",IF('Outil Recensement'!BD104=\"No\",\"No\",IF('Outil Recensement'!BD104=\"Y\",\"Yes\",IF('Outil Recensement'!BD104=\"N\",\"No\",\"\"))))","v":""},{"$f":"IF('Outil Recensement'!BE104>0,'Outil Recensement'!BE104,\"\")","v":""},{"$f":"IF('Outil Recensement'!BF104>0,'Outil Recensement'!BF104,\"\")","v":""},{"$f":"IF('Outil Recensement'!BG104>0,'Outil Recensement'!BG104,\"\")","v":""},{"$f":"IF('Outil Recensement'!BH104=\"Male\",\"Male\",IF('Outil Recensement'!BH104=\"Female\",\"Female\",IF('Outil Recensement'!BH104=\"M\",\"Male\",IF('Outil Recensement'!BH104=\"F\",\"Female\",\"\"))))","v":""},{"$f":"IF('Outil Recensement'!BI104=\"Yes\",\"Yes\",IF('Outil Recensement'!BI104=\"No\",\"No\",IF('Outil Recensement'!BI104=\"Y\",\"Yes\",IF('Outil Recensement'!BI104=\"N\",\"No\",\"\"))))","v":""},{"$f":"IF('Outil Recensement'!BJ104=\"Yes\",\"Yes\",IF('Outil Recensement'!BJ104=\"No\",\"No\",IF('Outil Recensement'!BJ104=\"Y\",\"Yes\",IF('Outil Recensement'!BJ104=\"N\",\"No\",\"\"))))","v":""},{"$f":"IF('Outil Recensement'!BK104>0,'Outil Recensement'!BK104,\"\")","v":""},{"$f":"IF('Outil Recensement'!BL104>0,'Outil Recensement'!BL104,\"\")","v":""},{"$f":"IF('Outil Recensement'!BM104>0,'Outil Recensement'!BM104,\"\")","v":""},{"$f":"IF('Outil Recensement'!BN104=\"Male\",\"Male\",IF('Outil Recensement'!BN104=\"Female\",\"Female\",IF('Outil Recensement'!BN104=\"M\",\"Male\",IF('Outil Recensement'!BN104=\"F\",\"Female\",\"\"))))","v":""},{"$f":"IF('Outil Recensement'!BO104=\"Yes\",\"Yes\",IF('Outil Recensement'!BO104=\"No\",\"No\",IF('Outil Recensement'!BO104=\"Y\",\"Yes\",IF('Outil Recensement'!BO104=\"N\",\"No\",\"\"))))","v":""},{"$f":"IF('Outil Recensement'!BP104=\"Yes\",\"Yes\",IF('Outil Recensement'!BP104=\"No\",\"No\",IF('Outil Recensement'!BP104=\"Y\",\"Yes\",IF('Outil Recensement'!BP104=\"N\",\"No\",\"\"))))","v":""},{"$f":"IF('Outil Recensement'!BQ104>0,'Outil Recensement'!BQ104,\"\")","v":""},{"$f":"IF('Outil Recensement'!BR104>0,'Outil Recensement'!BR104,\"\")","v":""},{"$f":"IF('Outil Recensement'!BS104>0,'Outil Recensement'!BS104,\"\")","v":""},{"$f":"IF('Outil Recensement'!BT104=\"Male\",\"Male\",IF('Outil Recensement'!BT104=\"Female\",\"Female\",IF('Outil Recensement'!BT104=\"M\",\"Male\",IF('Outil Recensement'!BT104=\"F\",\"Female\",\"\"))))","v":""},{"$f":"IF('Outil Recensement'!BU104=\"Yes\",\"Yes\",IF('Outil Recensement'!BU104=\"No\",\"No\",IF('Outil Recensement'!BU104=\"Y\",\"Yes\",IF('Outil Recensement'!BU104=\"N\",\"No\",\"\"))))","v":""},{"$f":"IF('Outil Recensement'!BV104=\"Yes\",\"Yes\",IF('Outil Recensement'!BV104=\"No\",\"No\",IF('Outil Recensement'!BV104=\"Y\",\"Yes\",IF('Outil Recensement'!BV104=\"N\",\"No\",\"\"))))","v":""},{"$f":"IF('Outil Recensement'!BW104>0,'Outil Recensement'!BW104,\"\")","v":""},{"$f":"IF('Outil Recensement'!BX104>0,'Outil Recensement'!BX104,\"\")","v":""},{"$f":"IF('Outil Recensement'!BY104>0,'Outil Recensement'!BY104,\"\")","v":""},{"$f":"IF('Outil Recensement'!BZ104=\"Male\",\"Male\",IF('Outil Recensement'!BZ104=\"Female\",\"Female\",IF('Outil Recensement'!BZ104=\"M\",\"Male\",IF('Outil Recensement'!BZ104=\"F\",\"Female\",\"\"))))","v":""},{"$f":"IF('Outil Recensement'!CA104=\"Yes\",\"Yes\",IF('Outil Recensement'!CA104=\"No\",\"No\",IF('Outil Recensement'!CA104=\"Y\",\"Yes\",IF('Outil Recensement'!CA104=\"N\",\"No\",\"\"))))","v":""},{"$f":"IF('Outil Recensement'!CB104=\"Yes\",\"Yes\",IF('Outil Recensement'!CB104=\"No\",\"No\",IF('Outil Recensement'!CB104=\"Y\",\"Yes\",IF('Outil Recensement'!CB104=\"N\",\"No\",\"\"))))","v":""},{"$f":"IF('Outil Recensement'!CH104>0,'Outil Recensement'!CH104,\"\")","v":"    "}]
[{"$f":"IF('Outil Recensement'!A105>0,'Outil Recensement'!A105,\"\")","v":""},{"$f":"IF('Outil Recensement'!B105>0,'Outil Recensement'!B105,\"\")","v":""},{"$f":"IF('Outil Recensement'!C105>0,'Outil Recensement'!C105,\"\")","v":""},{"$f":"IF('Outil Recensement'!D105>0,'Outil Recensement'!D105,\"\")","v":""},{"$f":"IF('Outil Recensement'!P105>0,TEXT('Outil Recensement'!P105,\"000\"),\"\")","v":""},{"$f":"IF('Outil Recensement'!Q105>0,'Outil Recensement'!Q105,\"\")","v":""},{"$f":"IF('Outil Recensement'!R105>0,'Outil Recensement'!R105,\"\")","v":""},{"$f":"IF('Outil Recensement'!F105>0,DATEVALUE(TEXT('Outil Recensement'!F105,\"yyyy-mm-dd\")),\"\")","v":""},{"$f":"IF('Outil Recensement'!L105>0,DATEVALUE(TEXT('Outil Recensement'!L105,\"yyyy-mm-dd\")),\"\")","v":""},{"$f":"IF('Outil Recensement'!Y105>0,'Outil Recensement'!Y105,\"\")","v":""},{"$f":"IF('Outil Recensement'!T105>0,'Outil Recensement'!T105,\"\")","v":""},{"$f":"IF('Outil Recensement'!G105=\"Homme\",\"Male\",IF('Outil Recensement'!G105=\"Femme\",\"Female\",IF('Outil Recensement'!G105=\"H\",\"Male\",IF('Outil Recensement'!G105=\"F\",\"Female\",\"\"))))","v":""},{"$f":"IF('Outil Recensement'!U105=\"Yes\",\"Yes\",IF('Outil Recensement'!U105=\"No\",\"No\",IF('Outil Recensement'!U105=\"Y\",\"Yes\",IF('Outil Recensement'!U105=\"N\",\"No\",\"\"))))","v":""},{"$f":"IF('Outil Recensement'!I105=\"Individuelle\",\"Single\",IF('Outil Recensement'!I105=\"Familiale\",\"Family\",IF('Outil Recensement'!I105=\"Refus\",\"Family\",IF('Outil Recensement'!I105=\"Parent seul\",\"Family\",IF('Outil Recensement'!I105=\"Couple\",\"Family\",IF('Outil Recensement'!I105=\"In force\",\"Family\",IF('Outil Recensement'!I105=\"Applies\",\"Family\",IF('Outil Recensement'!I105=\"Applicable\",\"Family\",\"\"))))))))","v":""},{"$f":"IF('Outil Recensement'!AC105=\"Anglais\",\"English\",IF('Outil Recensement'!AC105=\"Français\",\"French\",IF('Outil Recensement'!AC105=\"A\",\"English\",IF('Outil Recensement'!AC105=\"F\",\"French\",\"\"))))","v":""},{"$f":"IF('Outil Recensement'!AB105=\"Oui\",\"Yes\",IF('Outil Recensement'!AB105=\"Non\",\"No\",IF('Outil Recensement'!AB105=\"O\",\"Yes\",IF('Outil Recensement'!AB105=\"N\",\"No\",\"\"))))","v":""},{"$f":"IF('Outil Recensement'!AD105>0,'Outil Recensement'!AD105,\"\")","v":""},{"$f":"IF('Outil Recensement'!M105=\"Annuel\",\"Annually\",IF('Outil Recensement'!M105=\"Mensuel\",\"Monthly\",IF('Outil Recensement'!M105=\"Bihebdomadaire\",\"Biweekly\",IF('Outil Recensement'!M105=\"Hebdomadaire\",\"Weekly\",IF('Outil Recensement'!M105=\"Horaire\",\"Hourly\",IF('Outil Recensement'!M105=\"Semi-mensuel\",\"Semi-monthly\",IF('Outil Recensement'!M105=\"Applies\",\"Annual\",IF('Outil Recensement'!M105=\"Applicable\",\"Annual\",\"\"))))))))","v":""},{"$f":"IF('Outil Recensement'!N105>0,'Outil Recensement'!N105,\"\")","v":""},{"$f":"IF('Outil Recensement'!O105>0,'Outil Recensement'!O105,\"\")","v":""},{"$f":"IF('Outil Recensement'!I105=\"Refus\",\"Yes\",\"\")","v":""},{"$f":"IF('Outil Recensement'!I105=\"Refus\",\"Yes\",\"\")","v":""},{"$f":"IF('Outil Recensement'!AE105>0,'Outil Recensement'!AE105,\"\")","v":""},{"$f":"IF('Outil Recensement'!AF105>0,'Outil Recensement'!AF105,\"\")","v":""},{"$f":"IF('Outil Recensement'!AG105>0,'Outil Recensement'!AG105,\"\")","v":""},{"$f":"IF('Outil Recensement'!AH105>0,'Outil Recensement'!AH105,\"\")","v":""},{"$f":"IF('Outil Recensement'!AI105>0,'Outil Recensement'!AI105,\"\")","v":" "},{"$f":"IF('Outil Recensement'!AJ105>0,'Outil Recensement'!AJ105,\"\")","v":" "},{"$f":"IF('Outil Recensement'!W105>0,'Outil Recensement'!W105&\" \",\"\")&IF('Outil Recensement'!V105>0,'Outil Recensement'!V105,\"\")","v":""},null,{"$f":"IF('Outil Recensement'!X105>0,'Outil Recensement'!X105,\"\")","v":""},{"$f":"IF('Outil Recensement'!Y105>0,'Outil Recensement'!Y105,\"\")","v":""},{"$f":"IF('Outil Recensement'!Z105>0,'Outil Recensement'!Z105,\"\")","v":""},{"$f":"IF('Outil Recensement'!AA105>0,'Outil Recensement'!AA105,\"\")","v":""},{"$f":"IF('Outil Recensement'!E105>0,'Outil Recensement'!E105,\"\")","v":""},{"$f":"IF('Outil Recensement'!AK105>0,'Outil Recensement'!AK105,\"\")","v":""},{"$f":"IF('Outil Recensement'!AL105>0,'Outil Recensement'!AL105,\"\")","v":""},{"$f":"IF('Outil Recensement'!AM105>0,'Outil Recensement'!AM105,\"\")","v":""},{"$f":"IF('Outil Recensement'!AN105=\"Male\",\"Male\",IF('Outil Recensement'!AN105=\"Female\",\"Female\",IF('Outil Recensement'!AN105=\"M\",\"Male\",IF('Outil Recensement'!AN105=\"F\",\"Female\",\"\"))))","v":""},{"$f":"IF('Outil Recensement'!AO105=\"Single\",\"Single\",IF('Outil Recensement'!AO105=\"Family\",\"Family\",IF('Outil Recensement'!AO105=\"S\",\"Single\",IF('Outil Recensement'!AO105=\"F\",\"Family\",\"\"))))","v":""},{"$f":"IF('Outil Recensement'!AP105=\"Single\",\"Single\",IF('Outil Recensement'!AP105=\"Family\",\"Family\",IF('Outil Recensement'!AP105=\"S\",\"Single\",IF('Outil Recensement'!AP105=\"F\",\"Family\",\"\"))))","v":""},{"$f":"IF('Outil Recensement'!AQ105>0,'Outil Recensement'!AQ105,\"\")","v":""},{"$f":"IF('Outil Recensement'!AR105=\"Yes\",\"Yes\",IF('Outil Recensement'!AR105=\"No\",\"No\",IF('Outil Recensement'!AR105=\"Y\",\"Yes\",IF('Outil Recensement'!AR105=\"N\",\"No\",\"\"))))","v":""},{"$f":"IF('Outil Recensement'!AS105>0,'Outil Recensement'!AS105,\"\")","v":""},{"$f":"IF('Outil Recensement'!AT105>0,'Outil Recensement'!AT105,\"\")","v":""},{"$f":"IF('Outil Recensement'!AU105>0,'Outil Recensement'!AU105,\"\")","v":""},{"$f":"IF('Outil Recensement'!AV105=\"Male\",\"Male\",IF('Outil Recensement'!AV105=\"Female\",\"Female\",IF('Outil Recensement'!AV105=\"M\",\"Male\",IF('Outil Recensement'!AV105=\"F\",\"Female\",\"\"))))","v":""},{"$f":"IF('Outil Recensement'!AW105=\"Yes\",\"Yes\",IF('Outil Recensement'!AW105=\"No\",\"No\",IF('Outil Recensement'!AW105=\"Y\",\"Yes\",IF('Outil Recensement'!AW105=\"N\",\"No\",\"\"))))","v":""},{"$f":"IF('Outil Recensement'!AX105=\"Yes\",\"Yes\",IF('Outil Recensement'!AX105=\"No\",\"No\",IF('Outil Recensement'!AX105=\"Y\",\"Yes\",IF('Outil Recensement'!AX105=\"N\",\"No\",\"\"))))","v":""},{"$f":"IF('Outil Recensement'!AY105>0,'Outil Recensement'!AY105,\"\")","v":""},{"$f":"IF('Outil Recensement'!AZ105>0,'Outil Recensement'!AZ105,\"\")","v":""},{"$f":"IF('Outil Recensement'!BA105>0,'Outil Recensement'!BA105,\"\")","v":""},{"$f":"IF('Outil Recensement'!BB105=\"Male\",\"Male\",IF('Outil Recensement'!BB105=\"Female\",\"Female\",IF('Outil Recensement'!BB105=\"M\",\"Male\",IF('Outil Recensement'!BB105=\"F\",\"Female\",\"\"))))","v":""},{"$f":"IF('Outil Recensement'!BC105=\"Yes\",\"Yes\",IF('Outil Recensement'!BC105=\"No\",\"No\",IF('Outil Recensement'!BC105=\"Y\",\"Yes\",IF('Outil Recensement'!BC105=\"N\",\"No\",\"\"))))","v":""},{"$f":"IF('Outil Recensement'!BD105=\"Yes\",\"Yes\",IF('Outil Recensement'!BD105=\"No\",\"No\",IF('Outil Recensement'!BD105=\"Y\",\"Yes\",IF('Outil Recensement'!BD105=\"N\",\"No\",\"\"))))","v":""},{"$f":"IF('Outil Recensement'!BE105>0,'Outil Recensement'!BE105,\"\")","v":""},{"$f":"IF('Outil Recensement'!BF105>0,'Outil Recensement'!BF105,\"\")","v":""},{"$f":"IF('Outil Recensement'!BG105>0,'Outil Recensement'!BG105,\"\")","v":""},{"$f":"IF('Outil Recensement'!BH105=\"Male\",\"Male\",IF('Outil Recensement'!BH105=\"Female\",\"Female\",IF('Outil Recensement'!BH105=\"M\",\"Male\",IF('Outil Recensement'!BH105=\"F\",\"Female\",\"\"))))","v":""},{"$f":"IF('Outil Recensement'!BI105=\"Yes\",\"Yes\",IF('Outil Recensement'!BI105=\"No\",\"No\",IF('Outil Recensement'!BI105=\"Y\",\"Yes\",IF('Outil Recensement'!BI105=\"N\",\"No\",\"\"))))","v":""},{"$f":"IF('Outil Recensement'!BJ105=\"Yes\",\"Yes\",IF('Outil Recensement'!BJ105=\"No\",\"No\",IF('Outil Recensement'!BJ105=\"Y\",\"Yes\",IF('Outil Recensement'!BJ105=\"N\",\"No\",\"\"))))","v":""},{"$f":"IF('Outil Recensement'!BK105>0,'Outil Recensement'!BK105,\"\")","v":""},{"$f":"IF('Outil Recensement'!BL105>0,'Outil Recensement'!BL105,\"\")","v":""},{"$f":"IF('Outil Recensement'!BM105>0,'Outil Recensement'!BM105,\"\")","v":""},{"$f":"IF('Outil Recensement'!BN105=\"Male\",\"Male\",IF('Outil Recensement'!BN105=\"Female\",\"Female\",IF('Outil Recensement'!BN105=\"M\",\"Male\",IF('Outil Recensement'!BN105=\"F\",\"Female\",\"\"))))","v":""},{"$f":"IF('Outil Recensement'!BO105=\"Yes\",\"Yes\",IF('Outil Recensement'!BO105=\"No\",\"No\",IF('Outil Recensement'!BO105=\"Y\",\"Yes\",IF('Outil Recensement'!BO105=\"N\",\"No\",\"\"))))","v":""},{"$f":"IF('Outil Recensement'!BP105=\"Yes\",\"Yes\",IF('Outil Recensement'!BP105=\"No\",\"No\",IF('Outil Recensement'!BP105=\"Y\",\"Yes\",IF('Outil Recensement'!BP105=\"N\",\"No\",\"\"))))","v":""},{"$f":"IF('Outil Recensement'!BQ105>0,'Outil Recensement'!BQ105,\"\")","v":""},{"$f":"IF('Outil Recensement'!BR105>0,'Outil Recensement'!BR105,\"\")","v":""},{"$f":"IF('Outil Recensement'!BS105>0,'Outil Recensement'!BS105,\"\")","v":""},{"$f":"IF('Outil Recensement'!BT105=\"Male\",\"Male\",IF('Outil Recensement'!BT105=\"Female\",\"Female\",IF('Outil Recensement'!BT105=\"M\",\"Male\",IF('Outil Recensement'!BT105=\"F\",\"Female\",\"\"))))","v":""},{"$f":"IF('Outil Recensement'!BU105=\"Yes\",\"Yes\",IF('Outil Recensement'!BU105=\"No\",\"No\",IF('Outil Recensement'!BU105=\"Y\",\"Yes\",IF('Outil Recensement'!BU105=\"N\",\"No\",\"\"))))","v":""},{"$f":"IF('Outil Recensement'!BV105=\"Yes\",\"Yes\",IF('Outil Recensement'!BV105=\"No\",\"No\",IF('Outil Recensement'!BV105=\"Y\",\"Yes\",IF('Outil Recensement'!BV105=\"N\",\"No\",\"\"))))","v":""},{"$f":"IF('Outil Recensement'!BW105>0,'Outil Recensement'!BW105,\"\")","v":""},{"$f":"IF('Outil Recensement'!BX105>0,'Outil Recensement'!BX105,\"\")","v":""},{"$f":"IF('Outil Recensement'!BY105>0,'Outil Recensement'!BY105,\"\")","v":""},{"$f":"IF('Outil Recensement'!BZ105=\"Male\",\"Male\",IF('Outil Recensement'!BZ105=\"Female\",\"Female\",IF('Outil Recensement'!BZ105=\"M\",\"Male\",IF('Outil Recensement'!BZ105=\"F\",\"Female\",\"\"))))","v":""},{"$f":"IF('Outil Recensement'!CA105=\"Yes\",\"Yes\",IF('Outil Recensement'!CA105=\"No\",\"No\",IF('Outil Recensement'!CA105=\"Y\",\"Yes\",IF('Outil Recensement'!CA105=\"N\",\"No\",\"\"))))","v":""},{"$f":"IF('Outil Recensement'!CB105=\"Yes\",\"Yes\",IF('Outil Recensement'!CB105=\"No\",\"No\",IF('Outil Recensement'!CB105=\"Y\",\"Yes\",IF('Outil Recensement'!CB105=\"N\",\"No\",\"\"))))","v":""},{"$f":"IF('Outil Recensement'!CH105>0,'Outil Recensement'!CH105,\"\")","v":"    "}]
[{"$f":"IF('Outil Recensement'!A106>0,'Outil Recensement'!A106,\"\")","v":""},{"$f":"IF('Outil Recensement'!B106>0,'Outil Recensement'!B106,\"\")","v":""},{"$f":"IF('Outil Recensement'!C106>0,'Outil Recensement'!C106,\"\")","v":""},{"$f":"IF('Outil Recensement'!D106>0,'Outil Recensement'!D106,\"\")","v":""},{"$f":"IF('Outil Recensement'!P106>0,TEXT('Outil Recensement'!P106,\"000\"),\"\")","v":""},{"$f":"IF('Outil Recensement'!Q106>0,'Outil Recensement'!Q106,\"\")","v":""},{"$f":"IF('Outil Recensement'!R106>0,'Outil Recensement'!R106,\"\")","v":""},{"$f":"IF('Outil Recensement'!F106>0,DATEVALUE(TEXT('Outil Recensement'!F106,\"yyyy-mm-dd\")),\"\")","v":""},{"$f":"IF('Outil Recensement'!L106>0,DATEVALUE(TEXT('Outil Recensement'!L106,\"yyyy-mm-dd\")),\"\")","v":""},{"$f":"IF('Outil Recensement'!Y106>0,'Outil Recensement'!Y106,\"\")","v":""},{"$f":"IF('Outil Recensement'!T106>0,'Outil Recensement'!T106,\"\")","v":""},{"$f":"IF('Outil Recensement'!G106=\"Homme\",\"Male\",IF('Outil Recensement'!G106=\"Femme\",\"Female\",IF('Outil Recensement'!G106=\"H\",\"Male\",IF('Outil Recensement'!G106=\"F\",\"Female\",\"\"))))","v":""},{"$f":"IF('Outil Recensement'!U106=\"Yes\",\"Yes\",IF('Outil Recensement'!U106=\"No\",\"No\",IF('Outil Recensement'!U106=\"Y\",\"Yes\",IF('Outil Recensement'!U106=\"N\",\"No\",\"\"))))","v":""},{"$f":"IF('Outil Recensement'!I106=\"Individuelle\",\"Single\",IF('Outil Recensement'!I106=\"Familiale\",\"Family\",IF('Outil Recensement'!I106=\"Refus\",\"Family\",IF('Outil Recensement'!I106=\"Parent seul\",\"Family\",IF('Outil Recensement'!I106=\"Couple\",\"Family\",IF('Outil Recensement'!I106=\"In force\",\"Family\",IF('Outil Recensement'!I106=\"Applies\",\"Family\",IF('Outil Recensement'!I106=\"Applicable\",\"Family\",\"\"))))))))","v":""},{"$f":"IF('Outil Recensement'!AC106=\"Anglais\",\"English\",IF('Outil Recensement'!AC106=\"Français\",\"French\",IF('Outil Recensement'!AC106=\"A\",\"English\",IF('Outil Recensement'!AC106=\"F\",\"French\",\"\"))))","v":""},{"$f":"IF('Outil Recensement'!AB106=\"Oui\",\"Yes\",IF('Outil Recensement'!AB106=\"Non\",\"No\",IF('Outil Recensement'!AB106=\"O\",\"Yes\",IF('Outil Recensement'!AB106=\"N\",\"No\",\"\"))))","v":""},{"$f":"IF('Outil Recensement'!AD106>0,'Outil Recensement'!AD106,\"\")","v":""},{"$f":"IF('Outil Recensement'!M106=\"Annuel\",\"Annually\",IF('Outil Recensement'!M106=\"Mensuel\",\"Monthly\",IF('Outil Recensement'!M106=\"Bihebdomadaire\",\"Biweekly\",IF('Outil Recensement'!M106=\"Hebdomadaire\",\"Weekly\",IF('Outil Recensement'!M106=\"Horaire\",\"Hourly\",IF('Outil Recensement'!M106=\"Semi-mensuel\",\"Semi-monthly\",IF('Outil Recensement'!M106=\"Applies\",\"Annual\",IF('Outil Recensement'!M106=\"Applicable\",\"Annual\",\"\"))))))))","v":""},{"$f":"IF('Outil Recensement'!N106>0,'Outil Recensement'!N106,\"\")","v":""},{"$f":"IF('Outil Recensement'!O106>0,'Outil Recensement'!O106,\"\")","v":""},{"$f":"IF('Outil Recensement'!I106=\"Refus\",\"Yes\",\"\")","v":""},{"$f":"IF('Outil Recensement'!I106=\"Refus\",\"Yes\",\"\")","v":""},{"$f":"IF('Outil Recensement'!AE106>0,'Outil Recensement'!AE106,\"\")","v":""},{"$f":"IF('Outil Recensement'!AF106>0,'Outil Recensement'!AF106,\"\")","v":""},{"$f":"IF('Outil Recensement'!AG106>0,'Outil Recensement'!AG106,\"\")","v":""},{"$f":"IF('Outil Recensement'!AH106>0,'Outil Recensement'!AH106,\"\")","v":""},{"$f":"IF('Outil Recensement'!AI106>0,'Outil Recensement'!AI106,\"\")","v":" "},{"$f":"IF('Outil Recensement'!AJ106>0,'Outil Recensement'!AJ106,\"\")","v":" "},{"$f":"IF('Outil Recensement'!W106>0,'Outil Recensement'!W106&\" \",\"\")&IF('Outil Recensement'!V106>0,'Outil Recensement'!V106,\"\")","v":""},null,{"$f":"IF('Outil Recensement'!X106>0,'Outil Recensement'!X106,\"\")","v":""},{"$f":"IF('Outil Recensement'!Y106>0,'Outil Recensement'!Y106,\"\")","v":""},{"$f":"IF('Outil Recensement'!Z106>0,'Outil Recensement'!Z106,\"\")","v":""},{"$f":"IF('Outil Recensement'!AA106>0,'Outil Recensement'!AA106,\"\")","v":""},{"$f":"IF('Outil Recensement'!E106>0,'Outil Recensement'!E106,\"\")","v":""},{"$f":"IF('Outil Recensement'!AK106>0,'Outil Recensement'!AK106,\"\")","v":""},{"$f":"IF('Outil Recensement'!AL106>0,'Outil Recensement'!AL106,\"\")","v":""},{"$f":"IF('Outil Recensement'!AM106>0,'Outil Recensement'!AM106,\"\")","v":""},{"$f":"IF('Outil Recensement'!AN106=\"Male\",\"Male\",IF('Outil Recensement'!AN106=\"Female\",\"Female\",IF('Outil Recensement'!AN106=\"M\",\"Male\",IF('Outil Recensement'!AN106=\"F\",\"Female\",\"\"))))","v":""},{"$f":"IF('Outil Recensement'!AO106=\"Single\",\"Single\",IF('Outil Recensement'!AO106=\"Family\",\"Family\",IF('Outil Recensement'!AO106=\"S\",\"Single\",IF('Outil Recensement'!AO106=\"F\",\"Family\",\"\"))))","v":""},{"$f":"IF('Outil Recensement'!AP106=\"Single\",\"Single\",IF('Outil Recensement'!AP106=\"Family\",\"Family\",IF('Outil Recensement'!AP106=\"S\",\"Single\",IF('Outil Recensement'!AP106=\"F\",\"Family\",\"\"))))","v":""},{"$f":"IF('Outil Recensement'!AQ106>0,'Outil Recensement'!AQ106,\"\")","v":""},{"$f":"IF('Outil Recensement'!AR106=\"Yes\",\"Yes\",IF('Outil Recensement'!AR106=\"No\",\"No\",IF('Outil Recensement'!AR106=\"Y\",\"Yes\",IF('Outil Recensement'!AR106=\"N\",\"No\",\"\"))))","v":""},{"$f":"IF('Outil Recensement'!AS106>0,'Outil Recensement'!AS106,\"\")","v":""},{"$f":"IF('Outil Recensement'!AT106>0,'Outil Recensement'!AT106,\"\")","v":""},{"$f":"IF('Outil Recensement'!AU106>0,'Outil Recensement'!AU106,\"\")","v":""},{"$f":"IF('Outil Recensement'!AV106=\"Male\",\"Male\",IF('Outil Recensement'!AV106=\"Female\",\"Female\",IF('Outil Recensement'!AV106=\"M\",\"Male\",IF('Outil Recensement'!AV106=\"F\",\"Female\",\"\"))))","v":""},{"$f":"IF('Outil Recensement'!AW106=\"Yes\",\"Yes\",IF('Outil Recensement'!AW106=\"No\",\"No\",IF('Outil Recensement'!AW106=\"Y\",\"Yes\",IF('Outil Recensement'!AW106=\"N\",\"No\",\"\"))))","v":""},{"$f":"IF('Outil Recensement'!AX106=\"Yes\",\"Yes\",IF('Outil Recensement'!AX106=\"No\",\"No\",IF('Outil Recensement'!AX106=\"Y\",\"Yes\",IF('Outil Recensement'!AX106=\"N\",\"No\",\"\"))))","v":""},{"$f":"IF('Outil Recensement'!AY106>0,'Outil Recensement'!AY106,\"\")","v":""},{"$f":"IF('Outil Recensement'!AZ106>0,'Outil Recensement'!AZ106,\"\")","v":""},{"$f":"IF('Outil Recensement'!BA106>0,'Outil Recensement'!BA106,\"\")","v":""},{"$f":"IF('Outil Recensement'!BB106=\"Male\",\"Male\",IF('Outil Recensement'!BB106=\"Female\",\"Female\",IF('Outil Recensement'!BB106=\"M\",\"Male\",IF('Outil Recensement'!BB106=\"F\",\"Female\",\"\"))))","v":""},{"$f":"IF('Outil Recensement'!BC106=\"Yes\",\"Yes\",IF('Outil Recensement'!BC106=\"No\",\"No\",IF('Outil Recensement'!BC106=\"Y\",\"Yes\",IF('Outil Recensement'!BC106=\"N\",\"No\",\"\"))))","v":""},{"$f":"IF('Outil Recensement'!BD106=\"Yes\",\"Yes\",IF('Outil Recensement'!BD106=\"No\",\"No\",IF('Outil Recensement'!BD106=\"Y\",\"Yes\",IF('Outil Recensement'!BD106=\"N\",\"No\",\"\"))))","v":""},{"$f":"IF('Outil Recensement'!BE106>0,'Outil Recensement'!BE106,\"\")","v":""},{"$f":"IF('Outil Recensement'!BF106>0,'Outil Recensement'!BF106,\"\")","v":""},{"$f":"IF('Outil Recensement'!BG106>0,'Outil Recensement'!BG106,\"\")","v":""},{"$f":"IF('Outil Recensement'!BH106=\"Male\",\"Male\",IF('Outil Recensement'!BH106=\"Female\",\"Female\",IF('Outil Recensement'!BH106=\"M\",\"Male\",IF('Outil Recensement'!BH106=\"F\",\"Female\",\"\"))))","v":""},{"$f":"IF('Outil Recensement'!BI106=\"Yes\",\"Yes\",IF('Outil Recensement'!BI106=\"No\",\"No\",IF('Outil Recensement'!BI106=\"Y\",\"Yes\",IF('Outil Recensement'!BI106=\"N\",\"No\",\"\"))))","v":""},{"$f":"IF('Outil Recensement'!BJ106=\"Yes\",\"Yes\",IF('Outil Recensement'!BJ106=\"No\",\"No\",IF('Outil Recensement'!BJ106=\"Y\",\"Yes\",IF('Outil Recensement'!BJ106=\"N\",\"No\",\"\"))))","v":""},{"$f":"IF('Outil Recensement'!BK106>0,'Outil Recensement'!BK106,\"\")","v":""},{"$f":"IF('Outil Recensement'!BL106>0,'Outil Recensement'!BL106,\"\")","v":""},{"$f":"IF('Outil Recensement'!BM106>0,'Outil Recensement'!BM106,\"\")","v":""},{"$f":"IF('Outil Recensement'!BN106=\"Male\",\"Male\",IF('Outil Recensement'!BN106=\"Female\",\"Female\",IF('Outil Recensement'!BN106=\"M\",\"Male\",IF('Outil Recensement'!BN106=\"F\",\"Female\",\"\"))))","v":""},{"$f":"IF('Outil Recensement'!BO106=\"Yes\",\"Yes\",IF('Outil Recensement'!BO106=\"No\",\"No\",IF('Outil Recensement'!BO106=\"Y\",\"Yes\",IF('Outil Recensement'!BO106=\"N\",\"No\",\"\"))))","v":""},{"$f":"IF('Outil Recensement'!BP106=\"Yes\",\"Yes\",IF('Outil Recensement'!BP106=\"No\",\"No\",IF('Outil Recensement'!BP106=\"Y\",\"Yes\",IF('Outil Recensement'!BP106=\"N\",\"No\",\"\"))))","v":""},{"$f":"IF('Outil Recensement'!BQ106>0,'Outil Recensement'!BQ106,\"\")","v":""},{"$f":"IF('Outil Recensement'!BR106>0,'Outil Recensement'!BR106,\"\")","v":""},{"$f":"IF('Outil Recensement'!BS106>0,'Outil Recensement'!BS106,\"\")","v":""},{"$f":"IF('Outil Recensement'!BT106=\"Male\",\"Male\",IF('Outil Recensement'!BT106=\"Female\",\"Female\",IF('Outil Recensement'!BT106=\"M\",\"Male\",IF('Outil Recensement'!BT106=\"F\",\"Female\",\"\"))))","v":""},{"$f":"IF('Outil Recensement'!BU106=\"Yes\",\"Yes\",IF('Outil Recensement'!BU106=\"No\",\"No\",IF('Outil Recensement'!BU106=\"Y\",\"Yes\",IF('Outil Recensement'!BU106=\"N\",\"No\",\"\"))))","v":""},{"$f":"IF('Outil Recensement'!BV106=\"Yes\",\"Yes\",IF('Outil Recensement'!BV106=\"No\",\"No\",IF('Outil Recensement'!BV106=\"Y\",\"Yes\",IF('Outil Recensement'!BV106=\"N\",\"No\",\"\"))))","v":""},{"$f":"IF('Outil Recensement'!BW106>0,'Outil Recensement'!BW106,\"\")","v":""},{"$f":"IF('Outil Recensement'!BX106>0,'Outil Recensement'!BX106,\"\")","v":""},{"$f":"IF('Outil Recensement'!BY106>0,'Outil Recensement'!BY106,\"\")","v":""},{"$f":"IF('Outil Recensement'!BZ106=\"Male\",\"Male\",IF('Outil Recensement'!BZ106=\"Female\",\"Female\",IF('Outil Recensement'!BZ106=\"M\",\"Male\",IF('Outil Recensement'!BZ106=\"F\",\"Female\",\"\"))))","v":""},{"$f":"IF('Outil Recensement'!CA106=\"Yes\",\"Yes\",IF('Outil Recensement'!CA106=\"No\",\"No\",IF('Outil Recensement'!CA106=\"Y\",\"Yes\",IF('Outil Recensement'!CA106=\"N\",\"No\",\"\"))))","v":""},{"$f":"IF('Outil Recensement'!CB106=\"Yes\",\"Yes\",IF('Outil Recensement'!CB106=\"No\",\"No\",IF('Outil Recensement'!CB106=\"Y\",\"Yes\",IF('Outil Recensement'!CB106=\"N\",\"No\",\"\"))))","v":""},{"$f":"IF('Outil Recensement'!CH106>0,'Outil Recensement'!CH106,\"\")","v":"    "}]
[null,null,null,null,null,null,null,null,null,{"$f":"IF('Outil Recensement'!Y107>0,'Outil Recensement'!Y107,\"\")","v":""},null,{"$f":"IF('Outil Recensement'!G107=\"Homme\",\"Male\",IF('Outil Recensement'!G107=\"Femme\",\"Female\",IF('Outil Recensement'!G107=\"H\",\"Male\",IF('Outil Recensement'!G107=\"F\",\"Female\",\"\"))))","v":""},null,{"$f":"IF('Outil Recensement'!I107=\"Individuelle\",\"Single\",IF('Outil Recensement'!I107=\"Familiale\",\"Family\",IF('Outil Recensement'!I107=\"Refus\",\"Family\",IF('Outil Recensement'!I107=\"Parent seul\",\"Family\",IF('Outil Recensement'!I107=\"Couple\",\"Family\",IF('Outil Recensement'!I107=\"In force\",\"Family\",IF('Outil Recensement'!I107=\"Applies\",\"Family\",IF('Outil Recensement'!I107=\"Applicable\",\"Family\",\"\"))))))))","v":""},null,{"$f":"IF('Outil Recensement'!AB107=\"Oui\",\"Yes\",IF('Outil Recensement'!AB107=\"Non\",\"No\",IF('Outil Recensement'!AB107=\"O\",\"Yes\",IF('Outil Recensement'!AB107=\"N\",\"No\",\"\"))))","v":""},null,{"$f":"IF('Outil Recensement'!M107=\"Annuel\",\"Annually\",IF('Outil Recensement'!M107=\"Mensuel\",\"Monthly\",IF('Outil Recensement'!M107=\"Bihebdomadaire\",\"Biweekly\",IF('Outil Recensement'!M107=\"Hebdomadaire\",\"Weekly\",IF('Outil Recensement'!M107=\"Horaire\",\"Hourly\",IF('Outil Recensement'!M107=\"Semi-mensuel\",\"Semi-monthly\",IF('Outil Recensement'!M107=\"Applies\",\"Annual\",IF('Outil Recensement'!M107=\"Applicable\",\"Annual\",\"\"))))))))","v":""},null,null,{"$f":"IF('Outil Recensement'!I107=\"Refus\",\"Yes\",\"\")","v":""},{"$f":"IF('Outil Recensement'!I107=\"Refus\",\"Yes\",\"\")","v":""},null,null,null,null,{"$f":"IF('Outil Recensement'!AI107>0,'Outil Recensement'!AI107,\"\")","v":""},{"$f":"IF('Outil Recensement'!AJ107>0,'Outil Recensement'!AJ107,\"\")","v":""}]
[null,null,null,null,null,null,null,null,null,{"$f":"IF('Outil Recensement'!Y108>0,'Outil Recensement'!Y108,\"\")","v":""},null,{"$f":"IF('Outil Recensement'!G108=\"Homme\",\"Male\",IF('Outil Recensement'!G108=\"Femme\",\"Female\",IF('Outil Recensement'!G108=\"H\",\"Male\",IF('Outil Recensement'!G108=\"F\",\"Female\",\"\"))))","v":""},null,{"$f":"IF('Outil Recensement'!I108=\"Individuelle\",\"Single\",IF('Outil Recensement'!I108=\"Familiale\",\"Family\",IF('Outil Recensement'!I108=\"Refus\",\"Family\",IF('Outil Recensement'!I108=\"Parent seul\",\"Family\",IF('Outil Recensement'!I108=\"Couple\",\"Family\",IF('Outil Recensement'!I108=\"In force\",\"Family\",IF('Outil Recensement'!I108=\"Applies\",\"Family\",IF('Outil Recensement'!I108=\"Applicable\",\"Family\",\"\"))))))))","v":""},null,null,null,{"$f":"IF('Outil Recensement'!M108=\"Annuel\",\"Annually\",IF('Outil Recensement'!M108=\"Mensuel\",\"Monthly\",IF('Outil Recensement'!M108=\"Bihebdomadaire\",\"Biweekly\",IF('Outil Recensement'!M108=\"Hebdomadaire\",\"Weekly\",IF('Outil Recensement'!M108=\"Horaire\",\"Hourly\",IF('Outil Recensement'!M108=\"Semi-mensuel\",\"Semi-monthly\",IF('Outil Recensement'!M108=\"Applies\",\"Annual\",IF('Outil Recensement'!M108=\"Applicable\",\"Annual\",\"\"))))))))","v":""},null,null,{"$f":"IF('Outil Recensement'!I108=\"Refus\",\"Yes\",\"\")","v":""},{"$f":"IF('Outil Recensement'!I108=\"Refus\",\"Yes\",\"\")","v":""},null,null,null,null,{"$f":"IF('Outil Recensement'!AI108>0,'Outil Recensement'!AI108,\"\")","v":""},{"$f":"IF('Outil Recensement'!AJ108>0,'Outil Recensement'!AJ108,\"\")","v":""}]
[null,null,null,null,null,null,null,null,null,{"$f":"IF('Outil Recensement'!Y109>0,'Outil Recensement'!Y109,\"\")","v":""},null,{"$f":"IF('Outil Recensement'!G109=\"Homme\",\"Male\",IF('Outil Recensement'!G109=\"Femme\",\"Female\",IF('Outil Recensement'!G109=\"H\",\"Male\",IF('Outil Recensement'!G109=\"F\",\"Female\",\"\"))))","v":""},null,{"$f":"IF('Outil Recensement'!I109=\"Individuelle\",\"Single\",IF('Outil Recensement'!I109=\"Familiale\",\"Family\",IF('Outil Recensement'!I109=\"Refus\",\"Family\",IF('Outil Recensement'!I109=\"Parent seul\",\"Family\",IF('Outil Recensement'!I109=\"Couple\",\"Family\",IF('Outil Recensement'!I109=\"In force\",\"Family\",IF('Outil Recensement'!I109=\"Applies\",\"Family\",IF('Outil Recensement'!I109=\"Applicable\",\"Family\",\"\"))))))))","v":""},null,null,null,{"$f":"IF('Outil Recensement'!M109=\"Annuel\",\"Annually\",IF('Outil Recensement'!M109=\"Mensuel\",\"Monthly\",IF('Outil Recensement'!M109=\"Bihebdomadaire\",\"Biweekly\",IF('Outil Recensement'!M109=\"Hebdomadaire\",\"Weekly\",IF('Outil Recensement'!M109=\"Horaire\",\"Hourly\",IF('Outil Recensement'!M109=\"Semi-mensuel\",\"Semi-monthly\",IF('Outil Recensement'!M109=\"Applies\",\"Annual\",IF('Outil Recensement'!M109=\"Applicable\",\"Annual\",\"\"))))))))","v":""},null,null,{"$f":"IF('Outil Recensement'!I109=\"Refus\",\"Yes\",\"\")","v":""},{"$f":"IF('Outil Recensement'!I109=\"Refus\",\"Yes\",\"\")","v":""},null,null,null,null,{"$f":"IF('Outil Recensement'!AI109>0,'Outil Recensement'!AI109,\"\")","v":""},{"$f":"IF('Outil Recensement'!AJ109>0,'Outil Recensement'!AJ109,\"\")","v":""}]
[null,null,null,null,null,null,null,null,null,{"$f":"IF('Outil Recensement'!Y110>0,'Outil Recensement'!Y110,\"\")","v":""},null,{"$f":"IF('Outil Recensement'!G110=\"Homme\",\"Male\",IF('Outil Recensement'!G110=\"Femme\",\"Female\",IF('Outil Recensement'!G110=\"H\",\"Male\",IF('Outil Recensement'!G110=\"F\",\"Female\",\"\"))))","v":""},null,{"$f":"IF('Outil Recensement'!I110=\"Individuelle\",\"Single\",IF('Outil Recensement'!I110=\"Familiale\",\"Family\",IF('Outil Recensement'!I110=\"Refus\",\"Family\",IF('Outil Recensement'!I110=\"Parent seul\",\"Family\",IF('Outil Recensement'!I110=\"Couple\",\"Family\",IF('Outil Recensement'!I110=\"In force\",\"Family\",IF('Outil Recensement'!I110=\"Applies\",\"Family\",IF('Outil Recensement'!I110=\"Applicable\",\"Family\",\"\"))))))))","v":""},null,null,null,{"$f":"IF('Outil Recensement'!M110=\"Annuel\",\"Annually\",IF('Outil Recensement'!M110=\"Mensuel\",\"Monthly\",IF('Outil Recensement'!M110=\"Bihebdomadaire\",\"Biweekly\",IF('Outil Recensement'!M110=\"Hebdomadaire\",\"Weekly\",IF('Outil Recensement'!M110=\"Horaire\",\"Hourly\",IF('Outil Recensement'!M110=\"Semi-mensuel\",\"Semi-monthly\",IF('Outil Recensement'!M110=\"Applies\",\"Annual\",IF('Outil Recensement'!M110=\"Applicable\",\"Annual\",\"\"))))))))","v":""},null,null,{"$f":"IF('Outil Recensement'!I110=\"Refus\",\"Yes\",\"\")","v":""},{"$f":"IF('Outil Recensement'!I110=\"Refus\",\"Yes\",\"\")","v":""},null,null,null,null,{"$f":"IF('Outil Recensement'!AI110>0,'Outil Recensement'!AI110,\"\")","v":""},{"$f":"IF('Outil Recensement'!AJ110>0,'Outil Recensement'!AJ110,\"\")","v":""}]
[null,null,null,null,null,null,null,null,null,{"$f":"IF('Outil Recensement'!Y111>0,'Outil Recensement'!Y111,\"\")","v":""},null,{"$f":"IF('Outil Recensement'!G111=\"Homme\",\"Male\",IF('Outil Recensement'!G111=\"Femme\",\"Female\",IF('Outil Recensement'!G111=\"H\",\"Male\",IF('Outil Recensement'!G111=\"F\",\"Female\",\"\"))))","v":""},null,{"$f":"IF('Outil Recensement'!I111=\"Individuelle\",\"Single\",IF('Outil Recensement'!I111=\"Familiale\",\"Family\",IF('Outil Recensement'!I111=\"Refus\",\"Family\",IF('Outil Recensement'!I111=\"Parent seul\",\"Family\",IF('Outil Recensement'!I111=\"Couple\",\"Family\",IF('Outil Recensement'!I111=\"In force\",\"Family\",IF('Outil Recensement'!I111=\"Applies\",\"Family\",IF('Outil Recensement'!I111=\"Applicable\",\"Family\",\"\"))))))))","v":""},null,null,null,{"$f":"IF('Outil Recensement'!M111=\"Annuel\",\"Annually\",IF('Outil Recensement'!M111=\"Mensuel\",\"Monthly\",IF('Outil Recensement'!M111=\"Bihebdomadaire\",\"Biweekly\",IF('Outil Recensement'!M111=\"Hebdomadaire\",\"Weekly\",IF('Outil Recensement'!M111=\"Horaire\",\"Hourly\",IF('Outil Recensement'!M111=\"Semi-mensuel\",\"Semi-monthly\",IF('Outil Recensement'!M111=\"Applies\",\"Annual\",IF('Outil Recensement'!M111=\"Applicable\",\"Annual\",\"\"))))))))","v":""},null,null,{"$f":"IF('Outil Recensement'!I111=\"Refus\",\"Yes\",\"\")","v":""},{"$f":"IF('Outil Recensement'!I111=\"Refus\",\"Yes\",\"\")","v":""}]
[null,null,null,null,null,null,null,null,null,{"$f":"IF('Outil Recensement'!Y112>0,'Outil Recensement'!Y112,\"\")","v":""},null,{"$f":"IF('Outil Recensement'!G112=\"Homme\",\"Male\",IF('Outil Recensement'!G112=\"Femme\",\"Female\",IF('Outil Recensement'!G112=\"H\",\"Male\",IF('Outil Recensement'!G112=\"F\",\"Female\",\"\"))))","v":""},null,{"$f":"IF('Outil Recensement'!I112=\"Individuelle\",\"Single\",IF('Outil Recensement'!I112=\"Familiale\",\"Family\",IF('Outil Recensement'!I112=\"Refus\",\"Family\",IF('Outil Recensement'!I112=\"Parent seul\",\"Family\",IF('Outil Recensement'!I112=\"Couple\",\"Family\",IF('Outil Recensement'!I112=\"In force\",\"Family\",IF('Outil Recensement'!I112=\"Applies\",\"Family\",IF('Outil Recensement'!I112=\"Applicable\",\"Family\",\"\"))))))))","v":""},null,null,null,{"$f":"IF('Outil Recensement'!M112=\"Annuel\",\"Annually\",IF('Outil Recensement'!M112=\"Mensuel\",\"Monthly\",IF('Outil Recensement'!M112=\"Bihebdomadaire\",\"Biweekly\",IF('Outil Recensement'!M112=\"Hebdomadaire\",\"Weekly\",IF('Outil Recensement'!M112=\"Horaire\",\"Hourly\",IF('Outil Recensement'!M112=\"Semi-mensuel\",\"Semi-monthly\",IF('Outil Recensement'!M112=\"Applies\",\"Annual\",IF('Outil Recensement'!M112=\"Applicable\",\"Annual\",\"\"))))))))","v":""},null,null,{"$f":"IF('Outil Recensement'!I112=\"Refus\",\"Yes\",\"\")","v":""},{"$f":"IF('Outil Recensement'!I112=\"Refus\",\"Yes\",\"\")","v":""}]
[null,null,null,null,null,null,null,null,null,{"$f":"IF('Outil Recensement'!Y113>0,'Outil Recensement'!Y113,\"\")","v":""},null,{"$f":"IF('Outil Recensement'!G113=\"Homme\",\"Male\",IF('Outil Recensement'!G113=\"Femme\",\"Female\",IF('Outil Recensement'!G113=\"H\",\"Male\",IF('Outil Recensement'!G113=\"F\",\"Female\",\"\"))))","v":""},null,{"$f":"IF('Outil Recensement'!I113=\"Individuelle\",\"Single\",IF('Outil Recensement'!I113=\"Familiale\",\"Family\",IF('Outil Recensement'!I113=\"Refus\",\"Family\",IF('Outil Recensement'!I113=\"Parent seul\",\"Family\",IF('Outil Recensement'!I113=\"Couple\",\"Family\",IF('Outil Recensement'!I113=\"In force\",\"Family\",IF('Outil Recensement'!I113=\"Applies\",\"Family\",IF('Outil Recensement'!I113=\"Applicable\",\"Family\",\"\"))))))))","v":""},null,null,null,{"$f":"IF('Outil Recensement'!M113=\"Annuel\",\"Annually\",IF('Outil Recensement'!M113=\"Mensuel\",\"Monthly\",IF('Outil Recensement'!M113=\"Bihebdomadaire\",\"Biweekly\",IF('Outil Recensement'!M113=\"Hebdomadaire\",\"Weekly\",IF('Outil Recensement'!M113=\"Horaire\",\"Hourly\",IF('Outil Recensement'!M113=\"Semi-mensuel\",\"Semi-monthly\",IF('Outil Recensement'!M113=\"Applies\",\"Annual\",IF('Outil Recensement'!M113=\"Applicable\",\"Annual\",\"\"))))))))","v":""},null,null,{"$f":"IF('Outil Recensement'!I113=\"Refus\",\"Yes\",\"\")","v":""},{"$f":"IF('Outil Recensement'!I113=\"Refus\",\"Yes\",\"\")","v":""}]
[null,null,null,null,null,null,null,null,null,null,null,{"$f":"IF('Outil Recensement'!G114=\"Homme\",\"Male\",IF('Outil Recensement'!G114=\"Femme\",\"Female\",IF('Outil Recensement'!G114=\"H\",\"Male\",IF('Outil Recensement'!G114=\"F\",\"Female\",\"\"))))","v":""},null,{"$f":"IF('Outil Recensement'!I114=\"Individuelle\",\"Single\",IF('Outil Recensement'!I114=\"Familiale\",\"Family\",IF('Outil Recensement'!I114=\"Refus\",\"Family\",IF('Outil Recensement'!I114=\"Parent seul\",\"Family\",IF('Outil Recensement'!I114=\"Couple\",\"Family\",IF('Outil Recensement'!I114=\"In force\",\"Family\",IF('Outil Recensement'!I114=\"Applies\",\"Family\",IF('Outil Recensement'!I114=\"Applicable\",\"Family\",\"\"))))))))","v":""},null,null,null,{"$f":"IF('Outil Recensement'!M114=\"Annuel\",\"Annually\",IF('Outil Recensement'!M114=\"Mensuel\",\"Monthly\",IF('Outil Recensement'!M114=\"Bihebdomadaire\",\"Biweekly\",IF('Outil Recensement'!M114=\"Hebdomadaire\",\"Weekly\",IF('Outil Recensement'!M114=\"Horaire\",\"Hourly\",IF('Outil Recensement'!M114=\"Semi-mensuel\",\"Semi-monthly\",IF('Outil Recensement'!M114=\"Applies\",\"Annual\",IF('Outil Recensement'!M114=\"Applicable\",\"Annual\",\"\"))))))))","v":""},null,null,{"$f":"IF('Outil Recensement'!I114=\"Refus\",\"Yes\",\"\")","v":""},{"$f":"IF('Outil Recensement'!I114=\"Refus\",\"Yes\",\"\")","v":""}]
[null,null,null,null,null,null,null,null,null,null,null,{"$f":"IF('Outil Recensement'!G115=\"Homme\",\"Male\",IF('Outil Recensement'!G115=\"Femme\",\"Female\",IF('Outil Recensement'!G115=\"H\",\"Male\",IF('Outil Recensement'!G115=\"F\",\"Female\",\"\"))))","v":""},null,{"$f":"IF('Outil Recensement'!I115=\"Individuelle\",\"Single\",IF('Outil Recensement'!I115=\"Familiale\",\"Family\",IF('Outil Recensement'!I115=\"Refus\",\"Family\",IF('Outil Recensement'!I115=\"Parent seul\",\"Family\",IF('Outil Recensement'!I115=\"Couple\",\"Family\",IF('Outil Recensement'!I115=\"In force\",\"Family\",IF('Outil Recensement'!I115=\"Applies\",\"Family\",IF('Outil Recensement'!I115=\"Applicable\",\"Family\",\"\"))))))))","v":""},null,null,null,{"$f":"IF('Outil Recensement'!M115=\"Annuel\",\"Annually\",IF('Outil Recensement'!M115=\"Mensuel\",\"Monthly\",IF('Outil Recensement'!M115=\"Bihebdomadaire\",\"Biweekly\",IF('Outil Recensement'!M115=\"Hebdomadaire\",\"Weekly\",IF('Outil Recensement'!M115=\"Horaire\",\"Hourly\",IF('Outil Recensement'!M115=\"Semi-mensuel\",\"Semi-monthly\",IF('Outil Recensement'!M115=\"Applies\",\"Annual\",IF('Outil Recensement'!M115=\"Applicable\",\"Annual\",\"\"))))))))","v":""},null,null,{"$f":"IF('Outil Recensement'!I115=\"Refus\",\"Yes\",\"\")","v":""},{"$f":"IF('Outil Recensement'!I115=\"Refus\",\"Yes\",\"\")","v":""}]
[null,null,null,null,null,null,null,null,null,null,null,{"$f":"IF('Outil Recensement'!G116=\"Homme\",\"Male\",IF('Outil Recensement'!G116=\"Femme\",\"Female\",IF('Outil Recensement'!G116=\"H\",\"Male\",IF('Outil Recensement'!G116=\"F\",\"Female\",\"\"))))","v":""},null,{"$f":"IF('Outil Recensement'!I116=\"Individuelle\",\"Single\",IF('Outil Recensement'!I116=\"Familiale\",\"Family\",IF('Outil Recensement'!I116=\"Refus\",\"Family\",IF('Outil Recensement'!I116=\"Parent seul\",\"Family\",IF('Outil Recensement'!I116=\"Couple\",\"Family\",IF('Outil Recensement'!I116=\"In force\",\"Family\",IF('Outil Recensement'!I116=\"Applies\",\"Family\",IF('Outil Recensement'!I116=\"Applicable\",\"Family\",\"\"))))))))","v":""},null,null,null,{"$f":"IF('Outil Recensement'!M116=\"Annuel\",\"Annually\",IF('Outil Recensement'!M116=\"Mensuel\",\"Monthly\",IF('Outil Recensement'!M116=\"Bihebdomadaire\",\"Biweekly\",IF('Outil Recensement'!M116=\"Hebdomadaire\",\"Weekly\",IF('Outil Recensement'!M116=\"Horaire\",\"Hourly\",IF('Outil Recensement'!M116=\"Semi-mensuel\",\"Semi-monthly\",IF('Outil Recensement'!M116=\"Applies\",\"Annual\",IF('Outil Recensement'!M116=\"Applicable\",\"Annual\",\"\"))))))))","v":""},null,null,{"$f":"IF('Outil Recensement'!I116=\"Refus\",\"Yes\",\"\")","v":""},{"$f":"IF('Outil Recensement'!I116=\"Refus\",\"Yes\",\"\")","v":""}]
[null,null,null,null,null,null,null,null,null,null,null,{"$f":"IF('Outil Recensement'!G117=\"Male\",\"Homme\",IF('Outil Recensement'!G117=\"Femme\",\"Female\",IF('Outil Recensement'!G117=\"H\",\"Male\",IF('Outil Recensement'!G117=\"F\",\"Female\",\"\"))))","v":""},null,{"$f":"IF('Outil Recensement'!I117=\"Individuelle\",\"Single\",IF('Outil Recensement'!I117=\"Familiale\",\"Family\",IF('Outil Recensement'!I117=\"Refus\",\"Family\",IF('Outil Recensement'!I117=\"Parent seul\",\"Family\",IF('Outil Recensement'!I117=\"Couple\",\"Family\",IF('Outil Recensement'!I117=\"In force\",\"Family\",IF('Outil Recensement'!I117=\"Applies\",\"Family\",IF('Outil Recensement'!I117=\"Applicable\",\"Family\",\"\"))))))))","v":""},null,null,null,{"$f":"IF('Outil Recensement'!M117=\"Annuel\",\"Annually\",IF('Outil Recensement'!M117=\"Mensuel\",\"Monthly\",IF('Outil Recensement'!M117=\"Bihebdomadaire\",\"Biweekly\",IF('Outil Recensement'!M117=\"Hebdomadaire\",\"Weekly\",IF('Outil Recensement'!M117=\"Horaire\",\"Hourly\",IF('Outil Recensement'!M117=\"Semi-mensuel\",\"Semi-monthly\",IF('Outil Recensement'!M117=\"Applies\",\"Annual\",IF('Outil Recensement'!M117=\"Applicable\",\"Annual\",\"\"))))))))","v":""},null,null,{"$f":"IF('Outil Recensement'!I117=\"Refus\",\"Yes\",\"\")","v":""},{"$f":"IF('Outil Recensement'!I117=\"Refus\",\"Yes\",\"\")","v":""}]
[null,null,null,null,null,null,null,null,null,null,null,{"$f":"IF('Outil Recensement'!G118=\"Male\",\"Homme\",IF('Outil Recensement'!G118=\"Femme\",\"Female\",IF('Outil Recensement'!G118=\"H\",\"Male\",IF('Outil Recensement'!G118=\"F\",\"Female\",\"\"))))","v":""},null,{"$f":"IF('Outil Recensement'!I118=\"Individuelle\",\"Single\",IF('Outil Recensement'!I118=\"Familiale\",\"Family\",IF('Outil Recensement'!I118=\"Refus\",\"Family\",IF('Outil Recensement'!I118=\"Parent seul\",\"Family\",IF('Outil Recensement'!I118=\"Couple\",\"Family\",IF('Outil Recensement'!I118=\"In force\",\"Family\",IF('Outil Recensement'!I118=\"Applies\",\"Family\",IF('Outil Recensement'!I118=\"Applicable\",\"Family\",\"\"))))))))","v":""},null,null,null,{"$f":"IF('Outil Recensement'!M118=\"Annuel\",\"Annually\",IF('Outil Recensement'!M118=\"Mensuel\",\"Monthly\",IF('Outil Recensement'!M118=\"Bihebdomadaire\",\"Biweekly\",IF('Outil Recensement'!M118=\"Hebdomadaire\",\"Weekly\",IF('Outil Recensement'!M118=\"Horaire\",\"Hourly\",IF('Outil Recensement'!M118=\"Semi-mensuel\",\"Semi-monthly\",IF('Outil Recensement'!M118=\"Applies\",\"Annual\",IF('Outil Recensement'!M118=\"Applicable\",\"Annual\",\"\"))))))))","v":""},null,null,{"$f":"IF('Outil Recensement'!I118=\"Refus\",\"Yes\",\"\")","v":""},{"$f":"IF('Outil Recensement'!I118=\"Refus\",\"Yes\",\"\")","v":""}]
[null,null,null,null,null,null,null,null,null,null,null,{"$f":"IF('Outil Recensement'!G119=\"Male\",\"Homme\",IF('Outil Recensement'!G119=\"Femme\",\"Female\",IF('Outil Recensement'!G119=\"H\",\"Male\",IF('Outil Recensement'!G119=\"F\",\"Female\",\"\"))))","v":""},null,{"$f":"IF('Outil Recensement'!I119=\"Individuelle\",\"Single\",IF('Outil Recensement'!I119=\"Familiale\",\"Family\",IF('Outil Recensement'!I119=\"Refus\",\"Family\",IF('Outil Recensement'!I119=\"Parent seul\",\"Family\",IF('Outil Recensement'!I119=\"Couple\",\"Family\",IF('Outil Recensement'!I119=\"In force\",\"Family\",IF('Outil Recensement'!I119=\"Applies\",\"Family\",IF('Outil Recensement'!I119=\"Applicable\",\"Family\",\"\"))))))))","v":""},null,null,null,{"$f":"IF('Outil Recensement'!M119=\"Annuel\",\"Annually\",IF('Outil Recensement'!M119=\"Mensuel\",\"Monthly\",IF('Outil Recensement'!M119=\"Bihebdomadaire\",\"Biweekly\",IF('Outil Recensement'!M119=\"Hebdomadaire\",\"Weekly\",IF('Outil Recensement'!M119=\"Horaire\",\"Hourly\",IF('Outil Recensement'!M119=\"Semi-mensuel\",\"Semi-monthly\",IF('Outil Recensement'!M119=\"Applies\",\"Annual\",IF('Outil Recensement'!M119=\"Applicable\",\"Annual\",\"\"))))))))","v":""},null,null,{"$f":"IF('Outil Recensement'!I119=\"Refus\",\"Yes\",\"\")","v":""},{"$f":"IF('Outil Recensement'!I119=\"Refus\",\"Yes\",\"\")","v":""}]
[null,null,null,null,null,null,null,null,null,null,null,{"$f":"IF('Outil Recensement'!G120=\"Male\",\"Homme\",IF('Outil Recensement'!G120=\"Femme\",\"Female\",IF('Outil Recensement'!G120=\"H\",\"Male\",IF('Outil Recensement'!G120=\"F\",\"Female\",\"\"))))","v":""},null,{"$f":"IF('Outil Recensement'!I120=\"Individuelle\",\"Single\",IF('Outil Recensement'!I120=\"Familiale\",\"Family\",IF('Outil Recensement'!I120=\"Refus\",\"Family\",IF('Outil Recensement'!I120=\"Parent seul\",\"Family\",IF('Outil Recensement'!I120=\"Couple\",\"Family\",IF('Outil Recensement'!I120=\"In force\",\"Family\",IF('Outil Recensement'!I120=\"Applies\",\"Family\",IF('Outil Recensement'!I120=\"Applicable\",\"Family\",\"\"))))))))","v":""},null,null,null,{"$f":"IF('Outil Recensement'!M120=\"Annuel\",\"Annually\",IF('Outil Recensement'!M120=\"Mensuel\",\"Monthly\",IF('Outil Recensement'!M120=\"Bihebdomadaire\",\"Biweekly\",IF('Outil Recensement'!M120=\"Hebdomadaire\",\"Weekly\",IF('Outil Recensement'!M120=\"Horaire\",\"Hourly\",IF('Outil Recensement'!M120=\"Semi-mensuel\",\"Semi-monthly\",IF('Outil Recensement'!M120=\"Applies\",\"Annual\",IF('Outil Recensement'!M120=\"Applicable\",\"Annual\",\"\"))))))))","v":""},null,null,{"$f":"IF('Outil Recensement'!I120=\"Refus\",\"Yes\",\"\")","v":""},{"$f":"IF('Outil Recensement'!I120=\"Refus\",\"Yes\",\"\")","v":""}]
[null,null,null,null,null,null,null,null,null,null,null,{"$f":"IF('Outil Recensement'!G121=\"Male\",\"Homme\",IF('Outil Recensement'!G121=\"Femme\",\"Female\",IF('Outil Recensement'!G121=\"H\",\"Male\",IF('Outil Recensement'!G121=\"F\",\"Female\",\"\"))))","v":""},null,{"$f":"IF('Outil Recensement'!I121=\"Individuelle\",\"Single\",IF('Outil Recensement'!I121=\"Familiale\",\"Family\",IF('Outil Recensement'!I121=\"Refus\",\"Family\",IF('Outil Recensement'!I121=\"Parent seul\",\"Family\",IF('Outil Recensement'!I121=\"Couple\",\"Family\",IF('Outil Recensement'!I121=\"In force\",\"Family\",IF('Outil Recensement'!I121=\"Applies\",\"Family\",IF('Outil Recensement'!I121=\"Applicable\",\"Family\",\"\"))))))))","v":""},null,null,null,{"$f":"IF('Outil Recensement'!M121=\"Annuel\",\"Annually\",IF('Outil Recensement'!M121=\"Mensuel\",\"Monthly\",IF('Outil Recensement'!M121=\"Bihebdomadaire\",\"Biweekly\",IF('Outil Recensement'!M121=\"Hebdomadaire\",\"Weekly\",IF('Outil Recensement'!M121=\"Horaire\",\"Hourly\",IF('Outil Recensement'!M121=\"Semi-mensuel\",\"Semi-monthly\",IF('Outil Recensement'!M121=\"Applies\",\"Annual\",IF('Outil Recensement'!M121=\"Applicable\",\"Annual\",\"\"))))))))","v":""},null,null,{"$f":"IF('Outil Recensement'!I121=\"Refus\",\"Yes\",\"\")","v":""},{"$f":"IF('Outil Recensement'!I121=\"Refus\",\"Yes\",\"\")","v":""}]
[null,null,null,null,null,null,null,null,null,null,null,{"$f":"IF('Outil Recensement'!G122=\"Male\",\"Homme\",IF('Outil Recensement'!G122=\"Femme\",\"Female\",IF('Outil Recensement'!G122=\"H\",\"Male\",IF('Outil Recensement'!G122=\"F\",\"Female\",\"\"))))","v":""},null,{"$f":"IF('Outil Recensement'!I122=\"Individuelle\",\"Single\",IF('Outil Recensement'!I122=\"Familiale\",\"Family\",IF('Outil Recensement'!I122=\"Refus\",\"Family\",IF('Outil Recensement'!I122=\"Parent seul\",\"Family\",IF('Outil Recensement'!I122=\"Couple\",\"Family\",IF('Outil Recensement'!I122=\"In force\",\"Family\",IF('Outil Recensement'!I122=\"Applies\",\"Family\",IF('Outil Recensement'!I122=\"Applicable\",\"Family\",\"\"))))))))","v":""},null,null,null,{"$f":"IF('Outil Recensement'!M122=\"Annuel\",\"Annually\",IF('Outil Recensement'!M122=\"Mensuel\",\"Monthly\",IF('Outil Recensement'!M122=\"Bihebdomadaire\",\"Biweekly\",IF('Outil Recensement'!M122=\"Hebdomadaire\",\"Weekly\",IF('Outil Recensement'!M122=\"Horaire\",\"Hourly\",IF('Outil Recensement'!M122=\"Semi-mensuel\",\"Semi-monthly\",IF('Outil Recensement'!M122=\"Applies\",\"Annual\",IF('Outil Recensement'!M122=\"Applicable\",\"Annual\",\"\"))))))))","v":""},null,null,null,{"$f":"IF('Outil Recensement'!I122=\"Waive\",\"Yes\",\"\")","v":""}]
[null,null,null,null,null,null,null,null,null,null,null,{"$f":"IF('Outil Recensement'!G123=\"Male\",\"Homme\",IF('Outil Recensement'!G123=\"Femme\",\"Female\",IF('Outil Recensement'!G123=\"H\",\"Male\",IF('Outil Recensement'!G123=\"F\",\"Female\",\"\"))))","v":""},null,{"$f":"IF('Outil Recensement'!I123=\"Individuelle\",\"Single\",IF('Outil Recensement'!I123=\"Familiale\",\"Family\",IF('Outil Recensement'!I123=\"Refus\",\"Family\",IF('Outil Recensement'!I123=\"Parent seul\",\"Family\",IF('Outil Recensement'!I123=\"Couple\",\"Family\",IF('Outil Recensement'!I123=\"In force\",\"Family\",IF('Outil Recensement'!I123=\"Applies\",\"Family\",IF('Outil Recensement'!I123=\"Applicable\",\"Family\",\"\"))))))))","v":""},null,null,null,{"$f":"IF('Outil Recensement'!M123=\"Annuel\",\"Annually\",IF('Outil Recensement'!M123=\"Mensuel\",\"Monthly\",IF('Outil Recensement'!M123=\"Bihebdomadaire\",\"Biweekly\",IF('Outil Recensement'!M123=\"Hebdomadaire\",\"Weekly\",IF('Outil Recensement'!M123=\"Horaire\",\"Hourly\",IF('Outil Recensement'!M123=\"Semi-mensuel\",\"Semi-monthly\",IF('Outil Recensement'!M123=\"Applies\",\"Annual\",IF('Outil Recensement'!M123=\"Applicable\",\"Annual\",\"\"))))))))","v":""},null,null,null,{"$f":"IF('Outil Recensement'!I123=\"Waive\",\"Yes\",\"\")","v":""}]
[null,null,null,null,null,null,null,null,null,null,null,{"$f":"IF('Outil Recensement'!G124=\"Male\",\"Homme\",IF('Outil Recensement'!G124=\"Femme\",\"Female\",IF('Outil Recensement'!G124=\"H\",\"Male\",IF('Outil Recensement'!G124=\"F\",\"Female\",\"\"))))","v":""},null,{"$f":"IF('Outil Recensement'!I124=\"Individuelle\",\"Single\",IF('Outil Recensement'!I124=\"Familiale\",\"Family\",IF('Outil Recensement'!I124=\"Refus\",\"Family\",IF('Outil Recensement'!I124=\"Parent seul\",\"Family\",IF('Outil Recensement'!I124=\"Couple\",\"Family\",IF('Outil Recensement'!I124=\"In force\",\"Family\",IF('Outil Recensement'!I124=\"Applies\",\"Family\",IF('Outil Recensement'!I124=\"Applicable\",\"Family\",\"\"))))))))","v":""},null,null,null,{"$f":"IF('Outil Recensement'!M124=\"Annuel\",\"Annually\",IF('Outil Recensement'!M124=\"Mensuel\",\"Monthly\",IF('Outil Recensement'!M124=\"Bihebdomadaire\",\"Biweekly\",IF('Outil Recensement'!M124=\"Hebdomadaire\",\"Weekly\",IF('Outil Recensement'!M124=\"Horaire\",\"Hourly\",IF('Outil Recensement'!M124=\"Semi-mensuel\",\"Semi-monthly\",IF('Outil Recensement'!M124=\"Applies\",\"Annual\",IF('Outil Recensement'!M124=\"Applicable\",\"Annual\",\"\"))))))))","v":""},null,null,null,{"$f":"IF('Outil Recensement'!I124=\"Waive\",\"Yes\",\"\")","v":""}]
[null,null,null,null,null,null,null,null,null,null,null,{"$f":"IF('Outil Recensement'!G125=\"Male\",\"Homme\",IF('Outil Recensement'!G125=\"Femme\",\"Female\",IF('Outil Recensement'!G125=\"H\",\"Male\",IF('Outil Recensement'!G125=\"F\",\"Female\",\"\"))))","v":""},null,{"$f":"IF('Outil Recensement'!I125=\"Individuelle\",\"Single\",IF('Outil Recensement'!I125=\"Familiale\",\"Family\",IF('Outil Recensement'!I125=\"Refus\",\"Family\",IF('Outil Recensement'!I125=\"Parent seul\",\"Family\",IF('Outil Recensement'!I125=\"Couple\",\"Family\",IF('Outil Recensement'!I125=\"In force\",\"Family\",IF('Outil Recensement'!I125=\"Applies\",\"Family\",IF('Outil Recensement'!I125=\"Applicable\",\"Family\",\"\"))))))))","v":""},null,null,null,{"$f":"IF('Outil Recensement'!M125=\"Annuel\",\"Annually\",IF('Outil Recensement'!M125=\"Mensuel\",\"Monthly\",IF('Outil Recensement'!M125=\"Bihebdomadaire\",\"Biweekly\",IF('Outil Recensement'!M125=\"Hebdomadaire\",\"Weekly\",IF('Outil Recensement'!M125=\"Horaire\",\"Hourly\",IF('Outil Recensement'!M125=\"Semi-mensuel\",\"Semi-monthly\",IF('Outil Recensement'!M125=\"Applies\",\"Annual\",IF('Outil Recensement'!M125=\"Applicable\",\"Annual\",\"\"))))))))","v":""},null,null,null,{"$f":"IF('Outil Recensement'!I125=\"Waive\",\"Yes\",\"\")","v":""}]
[null,null,null,null,null,null,null,null,null,null,null,{"$f":"IF('Outil Recensement'!G126=\"Male\",\"Homme\",IF('Outil Recensement'!G126=\"Femme\",\"Female\",IF('Outil Recensement'!G126=\"H\",\"Male\",IF('Outil Recensement'!G126=\"F\",\"Female\",\"\"))))","v":""},null,{"$f":"IF('Outil Recensement'!I126=\"Individuelle\",\"Single\",IF('Outil Recensement'!I126=\"Familiale\",\"Family\",IF('Outil Recensement'!I126=\"Refus\",\"Family\",IF('Outil Recensement'!I126=\"Parent seul\",\"Family\",IF('Outil Recensement'!I126=\"Couple\",\"Family\",IF('Outil Recensement'!I126=\"In force\",\"Family\",IF('Outil Recensement'!I126=\"Applies\",\"Family\",IF('Outil Recensement'!I126=\"Applicable\",\"Family\",\"\"))))))))","v":""},null,null,null,{"$f":"IF('Outil Recensement'!M126=\"Annuel\",\"Annually\",IF('Outil Recensement'!M126=\"Mensuel\",\"Monthly\",IF('Outil Recensement'!M126=\"Bihebdomadaire\",\"Biweekly\",IF('Outil Recensement'!M126=\"Hebdomadaire\",\"Weekly\",IF('Outil Recensement'!M126=\"Horaire\",\"Hourly\",IF('Outil Recensement'!M126=\"Semi-mensuel\",\"Semi-monthly\",IF('Outil Recensement'!M126=\"Applies\",\"Annual\",IF('Outil Recensement'!M126=\"Applicable\",\"Annual\",\"\"))))))))","v":""},null,null,null,{"$f":"IF('Outil Recensement'!I126=\"Waive\",\"Yes\",\"\")","v":""}]
[null,null,null,null,null,null,null,null,null,null,null,{"$f":"IF('Outil Recensement'!G127=\"Male\",\"Homme\",IF('Outil Recensement'!G127=\"Femme\",\"Female\",IF('Outil Recensement'!G127=\"H\",\"Male\",IF('Outil Recensement'!G127=\"F\",\"Female\",\"\"))))","v":""},null,{"$f":"IF('Outil Recensement'!I127=\"Individuelle\",\"Single\",IF('Outil Recensement'!I127=\"Familiale\",\"Family\",IF('Outil Recensement'!I127=\"Refus\",\"Family\",IF('Outil Recensement'!I127=\"Parent seul\",\"Family\",IF('Outil Recensement'!I127=\"Couple\",\"Family\",IF('Outil Recensement'!I127=\"In force\",\"Family\",IF('Outil Recensement'!I127=\"Applies\",\"Family\",IF('Outil Recensement'!I127=\"Applicable\",\"Family\",\"\"))))))))","v":""},null,null,null,{"$f":"IF('Outil Recensement'!M127=\"Annuel\",\"Annually\",IF('Outil Recensement'!M127=\"Mensuel\",\"Monthly\",IF('Outil Recensement'!M127=\"Bihebdomadaire\",\"Biweekly\",IF('Outil Recensement'!M127=\"Hebdomadaire\",\"Weekly\",IF('Outil Recensement'!M127=\"Horaire\",\"Hourly\",IF('Outil Recensement'!M127=\"Semi-mensuel\",\"Semi-monthly\",IF('Outil Recensement'!M127=\"Applies\",\"Annual\",IF('Outil Recensement'!M127=\"Applicable\",\"Annual\",\"\"))))))))","v":""},null,null,null,{"$f":"IF('Outil Recensement'!I127=\"Waive\",\"Yes\",\"\")","v":""}]
[null,null,null,null,null,null,null,null,null,null,null,{"$f":"IF('Outil Recensement'!G128=\"Male\",\"Homme\",IF('Outil Recensement'!G128=\"Femme\",\"Female\",IF('Outil Recensement'!G128=\"H\",\"Male\",IF('Outil Recensement'!G128=\"F\",\"Female\",\"\"))))","v":""},null,{"$f":"IF('Outil Recensement'!I128=\"Individuelle\",\"Single\",IF('Outil Recensement'!I128=\"Familiale\",\"Family\",IF('Outil Recensement'!I128=\"Refus\",\"Family\",IF('Outil Recensement'!I128=\"Parent seul\",\"Family\",IF('Outil Recensement'!I128=\"Couple\",\"Family\",IF('Outil Recensement'!I128=\"In force\",\"Family\",IF('Outil Recensement'!I128=\"Applies\",\"Family\",IF('Outil Recensement'!I128=\"Applicable\",\"Family\",\"\"))))))))","v":""},null,null,null,{"$f":"IF('Outil Recensement'!M128=\"Annuel\",\"Annually\",IF('Outil Recensement'!M128=\"Mensuel\",\"Monthly\",IF('Outil Recensement'!M128=\"Bihebdomadaire\",\"Biweekly\",IF('Outil Recensement'!M128=\"Hebdomadaire\",\"Weekly\",IF('Outil Recensement'!M128=\"Horaire\",\"Hourly\",IF('Outil Recensement'!M128=\"Semi-mensuel\",\"Semi-monthly\",IF('Outil Recensement'!M128=\"Applies\",\"Annual\",IF('Outil Recensement'!M128=\"Applicable\",\"Annual\",\"\"))))))))","v":""},null,null,null,{"$f":"IF('Outil Recensement'!I128=\"Waive\",\"Yes\",\"\")","v":""}]
[null,null,null,null,null,null,null,null,null,null,null,{"$f":"IF('Outil Recensement'!G129=\"Male\",\"Homme\",IF('Outil Recensement'!G129=\"Femme\",\"Female\",IF('Outil Recensement'!G129=\"H\",\"Male\",IF('Outil Recensement'!G129=\"F\",\"Female\",\"\"))))","v":""},null,{"$f":"IF('Outil Recensement'!I129=\"Individuelle\",\"Single\",IF('Outil Recensement'!I129=\"Familiale\",\"Family\",IF('Outil Recensement'!I129=\"Refus\",\"Family\",IF('Outil Recensement'!I129=\"Parent seul\",\"Family\",IF('Outil Recensement'!I129=\"Couple\",\"Family\",IF('Outil Recensement'!I129=\"In force\",\"Family\",IF('Outil Recensement'!I129=\"Applies\",\"Family\",IF('Outil Recensement'!I129=\"Applicable\",\"Family\",\"\"))))))))","v":""},null,null,null,{"$f":"IF('Outil Recensement'!M129=\"Annuel\",\"Annually\",IF('Outil Recensement'!M129=\"Mensuel\",\"Monthly\",IF('Outil Recensement'!M129=\"Bihebdomadaire\",\"Biweekly\",IF('Outil Recensement'!M129=\"Hebdomadaire\",\"Weekly\",IF('Outil Recensement'!M129=\"Horaire\",\"Hourly\",IF('Outil Recensement'!M129=\"Semi-mensuel\",\"Semi-monthly\",IF('Outil Recensement'!M129=\"Applies\",\"Annual\",IF('Outil Recensement'!M129=\"Applicable\",\"Annual\",\"\"))))))))","v":""},null,null,null,{"$f":"IF('Outil Recensement'!I129=\"Waive\",\"Yes\",\"\")","v":""}]
[null,null,null,null,null,null,null,null,null,null,null,{"$f":"IF('Outil Recensement'!G130=\"Male\",\"Homme\",IF('Outil Recensement'!G130=\"Femme\",\"Female\",IF('Outil Recensement'!G130=\"H\",\"Male\",IF('Outil Recensement'!G130=\"F\",\"Female\",\"\"))))","v":""},null,{"$f":"IF('Outil Recensement'!I130=\"Individuelle\",\"Single\",IF('Outil Recensement'!I130=\"Familiale\",\"Family\",IF('Outil Recensement'!I130=\"Refus\",\"Family\",IF('Outil Recensement'!I130=\"Parent seul\",\"Family\",IF('Outil Recensement'!I130=\"Couple\",\"Family\",IF('Outil Recensement'!I130=\"In force\",\"Family\",IF('Outil Recensement'!I130=\"Applies\",\"Family\",IF('Outil Recensement'!I130=\"Applicable\",\"Family\",\"\"))))))))","v":""},null,null,null,{"$f":"IF('Outil Recensement'!M130=\"Annuel\",\"Annually\",IF('Outil Recensement'!M130=\"Mensuel\",\"Monthly\",IF('Outil Recensement'!M130=\"Bihebdomadaire\",\"Biweekly\",IF('Outil Recensement'!M130=\"Hebdomadaire\",\"Weekly\",IF('Outil Recensement'!M130=\"Horaire\",\"Hourly\",IF('Outil Recensement'!M130=\"Semi-mensuel\",\"Semi-monthly\",IF('Outil Recensement'!M130=\"Applies\",\"Annual\",IF('Outil Recensement'!M130=\"Applicable\",\"Annual\",\"\"))))))))","v":""},null,null,null,{"$f":"IF('Outil Recensement'!I130=\"Waive\",\"Yes\",\"\")","v":""}]
[null,null,null,null,null,null,null,null,null,null,null,{"$f":"IF('Outil Recensement'!G131=\"Male\",\"Homme\",IF('Outil Recensement'!G131=\"Femme\",\"Female\",IF('Outil Recensement'!G131=\"H\",\"Male\",IF('Outil Recensement'!G131=\"F\",\"Female\",\"\"))))","v":""},null,{"$f":"IF('Outil Recensement'!I131=\"Individuelle\",\"Single\",IF('Outil Recensement'!I131=\"Familiale\",\"Family\",IF('Outil Recensement'!I131=\"Refus\",\"Family\",IF('Outil Recensement'!I131=\"Parent seul\",\"Family\",IF('Outil Recensement'!I131=\"Couple\",\"Family\",IF('Outil Recensement'!I131=\"In force\",\"Family\",IF('Outil Recensement'!I131=\"Applies\",\"Family\",IF('Outil Recensement'!I131=\"Applicable\",\"Family\",\"\"))))))))","v":""},null,null,null,{"$f":"IF('Outil Recensement'!M131=\"Annuel\",\"Annually\",IF('Outil Recensement'!M131=\"Mensuel\",\"Monthly\",IF('Outil Recensement'!M131=\"Bihebdomadaire\",\"Biweekly\",IF('Outil Recensement'!M131=\"Hebdomadaire\",\"Weekly\",IF('Outil Recensement'!M131=\"Horaire\",\"Hourly\",IF('Outil Recensement'!M131=\"Semi-mensuel\",\"Semi-monthly\",IF('Outil Recensement'!M131=\"Applies\",\"Annual\",IF('Outil Recensement'!M131=\"Applicable\",\"Annual\",\"\"))))))))","v":""},null,null,null,{"$f":"IF('Outil Recensement'!I131=\"Waive\",\"Yes\",\"\")","v":""}]
[null,null,null,null,null,null,null,null,null,null,null,{"$f":"IF('Outil Recensement'!G132=\"Male\",\"Homme\",IF('Outil Recensement'!G132=\"Femme\",\"Female\",IF('Outil Recensement'!G132=\"H\",\"Male\",IF('Outil Recensement'!G132=\"F\",\"Female\",\"\"))))","v":""},null,{"$f":"IF('Outil Recensement'!I132=\"Individuelle\",\"Single\",IF('Outil Recensement'!I132=\"Familiale\",\"Family\",IF('Outil Recensement'!I132=\"Refus\",\"Family\",IF('Outil Recensement'!I132=\"Parent seul\",\"Family\",IF('Outil Recensement'!I132=\"Couple\",\"Family\",IF('Outil Recensement'!I132=\"In force\",\"Family\",IF('Outil Recensement'!I132=\"Applies\",\"Family\",IF('Outil Recensement'!I132=\"Applicable\",\"Family\",\"\"))))))))","v":""},null,null,null,{"$f":"IF('Outil Recensement'!M132=\"Annuel\",\"Annually\",IF('Outil Recensement'!M132=\"Mensuel\",\"Monthly\",IF('Outil Recensement'!M132=\"Bihebdomadaire\",\"Biweekly\",IF('Outil Recensement'!M132=\"Hebdomadaire\",\"Weekly\",IF('Outil Recensement'!M132=\"Horaire\",\"Hourly\",IF('Outil Recensement'!M132=\"Semi-mensuel\",\"Semi-monthly\",IF('Outil Recensement'!M132=\"Applies\",\"Annual\",IF('Outil Recensement'!M132=\"Applicable\",\"Annual\",\"\"))))))))","v":""},null,null,null,{"$f":"IF('Outil Recensement'!I132=\"Waive\",\"Yes\",\"\")","v":""}]
[null,null,null,null,null,null,null,null,null,null,null,{"$f":"IF('Outil Recensement'!G133=\"Male\",\"Homme\",IF('Outil Recensement'!G133=\"Femme\",\"Female\",IF('Outil Recensement'!G133=\"H\",\"Male\",IF('Outil Recensement'!G133=\"F\",\"Female\",\"\"))))","v":""},null,{"$f":"IF('Outil Recensement'!I133=\"Individuelle\",\"Single\",IF('Outil Recensement'!I133=\"Familiale\",\"Family\",IF('Outil Recensement'!I133=\"Refus\",\"Family\",IF('Outil Recensement'!I133=\"Parent seul\",\"Family\",IF('Outil Recensement'!I133=\"Couple\",\"Family\",IF('Outil Recensement'!I133=\"In force\",\"Family\",IF('Outil Recensement'!I133=\"Applies\",\"Family\",IF('Outil Recensement'!I133=\"Applicable\",\"Family\",\"\"))))))))","v":""},null,null,null,{"$f":"IF('Outil Recensement'!M133=\"Annuel\",\"Annually\",IF('Outil Recensement'!M133=\"Mensuel\",\"Monthly\",IF('Outil Recensement'!M133=\"Bihebdomadaire\",\"Biweekly\",IF('Outil Recensement'!M133=\"Hebdomadaire\",\"Weekly\",IF('Outil Recensement'!M133=\"Horaire\",\"Hourly\",IF('Outil Recensement'!M133=\"Semi-mensuel\",\"Semi-monthly\",IF('Outil Recensement'!M133=\"Applies\",\"Annual\",IF('Outil Recensement'!M133=\"Applicable\",\"Annual\",\"\"))))))))","v":""},null,null,null,{"$f":"IF('Outil Recensement'!I133=\"Waive\",\"Yes\",\"\")","v":""}]
[null,null,null,null,null,null,null,null,null,null,null,{"$f":"IF('Outil Recensement'!G134=\"Male\",\"Homme\",IF('Outil Recensement'!G134=\"Femme\",\"Female\",IF('Outil Recensement'!G134=\"H\",\"Male\",IF('Outil Recensement'!G134=\"F\",\"Female\",\"\"))))","v":""},null,{"$f":"IF('Outil Recensement'!I134=\"Individuelle\",\"Single\",IF('Outil Recensement'!I134=\"Familiale\",\"Family\",IF('Outil Recensement'!I134=\"Refus\",\"Family\",IF('Outil Recensement'!I134=\"Parent seul\",\"Family\",IF('Outil Recensement'!I134=\"Couple\",\"Family\",IF('Outil Recensement'!I134=\"In force\",\"Family\",IF('Outil Recensement'!I134=\"Applies\",\"Family\",IF('Outil Recensement'!I134=\"Applicable\",\"Family\",\"\"))))))))","v":""},null,null,null,{"$f":"IF('Outil Recensement'!M134=\"Annuel\",\"Annually\",IF('Outil Recensement'!M134=\"Mensuel\",\"Monthly\",IF('Outil Recensement'!M134=\"Bihebdomadaire\",\"Biweekly\",IF('Outil Recensement'!M134=\"Hebdomadaire\",\"Weekly\",IF('Outil Recensement'!M134=\"Horaire\",\"Hourly\",IF('Outil Recensement'!M134=\"Semi-mensuel\",\"Semi-monthly\",IF('Outil Recensement'!M134=\"Applies\",\"Annual\",IF('Outil Recensement'!M134=\"Applicable\",\"Annual\",\"\"))))))))","v":""},null,null,null,{"$f":"IF('Outil Recensement'!I134=\"Waive\",\"Yes\",\"\")","v":""}]
[null,null,null,null,null,null,null,null,null,null,null,{"$f":"IF('Outil Recensement'!G135=\"Male\",\"Homme\",IF('Outil Recensement'!G135=\"Femme\",\"Female\",IF('Outil Recensement'!G135=\"H\",\"Male\",IF('Outil Recensement'!G135=\"F\",\"Female\",\"\"))))","v":""},null,{"$f":"IF('Outil Recensement'!I135=\"Individuelle\",\"Single\",IF('Outil Recensement'!I135=\"Familiale\",\"Family\",IF('Outil Recensement'!I135=\"Refus\",\"Family\",IF('Outil Recensement'!I135=\"Parent seul\",\"Family\",IF('Outil Recensement'!I135=\"Couple\",\"Family\",IF('Outil Recensement'!I135=\"In force\",\"Family\",IF('Outil Recensement'!I135=\"Applies\",\"Family\",IF('Outil Recensement'!I135=\"Applicable\",\"Family\",\"\"))))))))","v":""},null,null,null,{"$f":"IF('Outil Recensement'!M135=\"Annuel\",\"Annually\",IF('Outil Recensement'!M135=\"Mensuel\",\"Monthly\",IF('Outil Recensement'!M135=\"Bihebdomadaire\",\"Biweekly\",IF('Outil Recensement'!M135=\"Hebdomadaire\",\"Weekly\",IF('Outil Recensement'!M135=\"Horaire\",\"Hourly\",IF('Outil Recensement'!M135=\"Semi-mensuel\",\"Semi-monthly\",IF('Outil Recensement'!M135=\"Applies\",\"Annual\",IF('Outil Recensement'!M135=\"Applicable\",\"Annual\",\"\"))))))))","v":""},null,null,null,{"$f":"IF('Outil Recensement'!I135=\"Waive\",\"Yes\",\"\")","v":""}]
[null,null,null,null,null,null,null,null,null,null,null,{"$f":"IF('Outil Recensement'!G136=\"Male\",\"Homme\",IF('Outil Recensement'!G136=\"Femme\",\"Female\",IF('Outil Recensement'!G136=\"H\",\"Male\",IF('Outil Recensement'!G136=\"F\",\"Female\",\"\"))))","v":""},null,{"$f":"IF('Outil Recensement'!I136=\"Individuelle\",\"Single\",IF('Outil Recensement'!I136=\"Familiale\",\"Family\",IF('Outil Recensement'!I136=\"Refus\",\"Family\",IF('Outil Recensement'!I136=\"Parent seul\",\"Family\",IF('Outil Recensement'!I136=\"Couple\",\"Family\",IF('Outil Recensement'!I136=\"In force\",\"Family\",IF('Outil Recensement'!I136=\"Applies\",\"Family\",IF('Outil Recensement'!I136=\"Applicable\",\"Family\",\"\"))))))))","v":""},null,null,null,{"$f":"IF('Outil Recensement'!M136=\"Annuel\",\"Annually\",IF('Outil Recensement'!M136=\"Mensuel\",\"Monthly\",IF('Outil Recensement'!M136=\"Bihebdomadaire\",\"Biweekly\",IF('Outil Recensement'!M136=\"Hebdomadaire\",\"Weekly\",IF('Outil Recensement'!M136=\"Horaire\",\"Hourly\",IF('Outil Recensement'!M136=\"Semi-mensuel\",\"Semi-monthly\",IF('Outil Recensement'!M136=\"Applies\",\"Annual\",IF('Outil Recensement'!M136=\"Applicable\",\"Annual\",\"\"))))))))","v":""},null,null,null,{"$f":"IF('Outil Recensement'!I136=\"Waive\",\"Yes\",\"\")","v":""}]
[null,null,null,null,null,null,null,null,null,null,null,{"$f":"IF('Outil Recensement'!G137=\"Male\",\"Homme\",IF('Outil Recensement'!G137=\"Femme\",\"Female\",IF('Outil Recensement'!G137=\"H\",\"Male\",IF('Outil Recensement'!G137=\"F\",\"Female\",\"\"))))","v":""},null,{"$f":"IF('Outil Recensement'!I137=\"Individuelle\",\"Single\",IF('Outil Recensement'!I137=\"Familiale\",\"Family\",IF('Outil Recensement'!I137=\"Refus\",\"Family\",IF('Outil Recensement'!I137=\"Parent seul\",\"Family\",IF('Outil Recensement'!I137=\"Couple\",\"Family\",IF('Outil Recensement'!I137=\"In force\",\"Family\",IF('Outil Recensement'!I137=\"Applies\",\"Family\",IF('Outil Recensement'!I137=\"Applicable\",\"Family\",\"\"))))))))","v":""},null,null,null,{"$f":"IF('Outil Recensement'!M137=\"Annuel\",\"Annually\",IF('Outil Recensement'!M137=\"Mensuel\",\"Monthly\",IF('Outil Recensement'!M137=\"Bihebdomadaire\",\"Biweekly\",IF('Outil Recensement'!M137=\"Hebdomadaire\",\"Weekly\",IF('Outil Recensement'!M137=\"Horaire\",\"Hourly\",IF('Outil Recensement'!M137=\"Semi-mensuel\",\"Semi-monthly\",IF('Outil Recensement'!M137=\"Applies\",\"Annual\",IF('Outil Recensement'!M137=\"Applicable\",\"Annual\",\"\"))))))))","v":""},null,null,null,{"$f":"IF('Outil Recensement'!I137=\"Waive\",\"Yes\",\"\")","v":""}]
[null,null,null,null,null,null,null,null,null,null,null,{"$f":"IF('Outil Recensement'!G138=\"Male\",\"Homme\",IF('Outil Recensement'!G138=\"Femme\",\"Female\",IF('Outil Recensement'!G138=\"H\",\"Male\",IF('Outil Recensement'!G138=\"F\",\"Female\",\"\"))))","v":""},null,{"$f":"IF('Outil Recensement'!I138=\"Individuelle\",\"Single\",IF('Outil Recensement'!I138=\"Familiale\",\"Family\",IF('Outil Recensement'!I138=\"Refus\",\"Family\",IF('Outil Recensement'!I138=\"Parent seul\",\"Family\",IF('Outil Recensement'!I138=\"Couple\",\"Family\",IF('Outil Recensement'!I138=\"In force\",\"Family\",IF('Outil Recensement'!I138=\"Applies\",\"Family\",IF('Outil Recensement'!I138=\"Applicable\",\"Family\",\"\"))))))))","v":""},null,null,null,{"$f":"IF('Outil Recensement'!M138=\"Annuel\",\"Annually\",IF('Outil Recensement'!M138=\"Mensuel\",\"Monthly\",IF('Outil Recensement'!M138=\"Bihebdomadaire\",\"Biweekly\",IF('Outil Recensement'!M138=\"Hebdomadaire\",\"Weekly\",IF('Outil Recensement'!M138=\"Horaire\",\"Hourly\",IF('Outil Recensement'!M138=\"Semi-mensuel\",\"Semi-monthly\",IF('Outil Recensement'!M138=\"Applies\",\"Annual\",IF('Outil Recensement'!M138=\"Applicable\",\"Annual\",\"\"))))))))","v":""},null,null,null,{"$f":"IF('Outil Recensement'!I138=\"Waive\",\"Yes\",\"\")","v":""}]
[null,null,null,null,null,null,null,null,null,null,null,{"$f":"IF('Outil Recensement'!G139=\"Male\",\"Homme\",IF('Outil Recensement'!G139=\"Femme\",\"Female\",IF('Outil Recensement'!G139=\"H\",\"Male\",IF('Outil Recensement'!G139=\"F\",\"Female\",\"\"))))","v":""},null,{"$f":"IF('Outil Recensement'!I139=\"Individuelle\",\"Single\",IF('Outil Recensement'!I139=\"Familiale\",\"Family\",IF('Outil Recensement'!I139=\"Refus\",\"Family\",IF('Outil Recensement'!I139=\"Parent seul\",\"Family\",IF('Outil Recensement'!I139=\"Couple\",\"Family\",IF('Outil Recensement'!I139=\"In force\",\"Family\",IF('Outil Recensement'!I139=\"Applies\",\"Family\",IF('Outil Recensement'!I139=\"Applicable\",\"Family\",\"\"))))))))","v":""},null,null,null,{"$f":"IF('Outil Recensement'!M139=\"Annuel\",\"Annually\",IF('Outil Recensement'!M139=\"Mensuel\",\"Monthly\",IF('Outil Recensement'!M139=\"Bihebdomadaire\",\"Biweekly\",IF('Outil Recensement'!M139=\"Hebdomadaire\",\"Weekly\",IF('Outil Recensement'!M139=\"Horaire\",\"Hourly\",IF('Outil Recensement'!M139=\"Semi-mensuel\",\"Semi-monthly\",IF('Outil Recensement'!M139=\"Applies\",\"Annual\",IF('Outil Recensement'!M139=\"Applicable\",\"Annual\",\"\"))))))))","v":""},null,null,null,{"$f":"IF('Outil Recensement'!I139=\"Waive\",\"Yes\",\"\")","v":""}]
[null,null,null,null,null,null,null,null,null,null,null,{"$f":"IF('Outil Recensement'!G140=\"Male\",\"Homme\",IF('Outil Recensement'!G140=\"Femme\",\"Female\",IF('Outil Recensement'!G140=\"H\",\"Male\",IF('Outil Recensement'!G140=\"F\",\"Female\",\"\"))))","v":""},null,{"$f":"IF('Outil Recensement'!I140=\"Individuelle\",\"Single\",IF('Outil Recensement'!I140=\"Familiale\",\"Family\",IF('Outil Recensement'!I140=\"Refus\",\"Family\",IF('Outil Recensement'!I140=\"Parent seul\",\"Family\",IF('Outil Recensement'!I140=\"Couple\",\"Family\",IF('Outil Recensement'!I140=\"In force\",\"Family\",IF('Outil Recensement'!I140=\"Applies\",\"Family\",IF('Outil Recensement'!I140=\"Applicable\",\"Family\",\"\"))))))))","v":""},null,null,null,{"$f":"IF('Outil Recensement'!M140=\"Annuel\",\"Annually\",IF('Outil Recensement'!M140=\"Mensuel\",\"Monthly\",IF('Outil Recensement'!M140=\"Bihebdomadaire\",\"Biweekly\",IF('Outil Recensement'!M140=\"Hebdomadaire\",\"Weekly\",IF('Outil Recensement'!M140=\"Horaire\",\"Hourly\",IF('Outil Recensement'!M140=\"Semi-mensuel\",\"Semi-monthly\",IF('Outil Recensement'!M140=\"Applies\",\"Annual\",IF('Outil Recensement'!M140=\"Applicable\",\"Annual\",\"\"))))))))","v":""},null,null,null,{"$f":"IF('Outil Recensement'!I140=\"Waive\",\"Yes\",\"\")","v":""}]
[null,null,null,null,null,null,null,null,null,null,null,{"$f":"IF('Outil Recensement'!G141=\"Male\",\"Homme\",IF('Outil Recensement'!G141=\"Femme\",\"Female\",IF('Outil Recensement'!G141=\"H\",\"Male\",IF('Outil Recensement'!G141=\"F\",\"Female\",\"\"))))","v":""},null,{"$f":"IF('Outil Recensement'!I141=\"Individuelle\",\"Single\",IF('Outil Recensement'!I141=\"Familiale\",\"Family\",IF('Outil Recensement'!I141=\"Refus\",\"Family\",IF('Outil Recensement'!I141=\"Parent seul\",\"Family\",IF('Outil Recensement'!I141=\"Couple\",\"Family\",IF('Outil Recensement'!I141=\"In force\",\"Family\",IF('Outil Recensement'!I141=\"Applies\",\"Family\",IF('Outil Recensement'!I141=\"Applicable\",\"Family\",\"\"))))))))","v":""},null,null,null,{"$f":"IF('Outil Recensement'!M141=\"Annuel\",\"Annually\",IF('Outil Recensement'!M141=\"Mensuel\",\"Monthly\",IF('Outil Recensement'!M141=\"Bihebdomadaire\",\"Biweekly\",IF('Outil Recensement'!M141=\"Hebdomadaire\",\"Weekly\",IF('Outil Recensement'!M141=\"Horaire\",\"Hourly\",IF('Outil Recensement'!M141=\"Semi-mensuel\",\"Semi-monthly\",IF('Outil Recensement'!M141=\"Applies\",\"Annual\",IF('Outil Recensement'!M141=\"Applicable\",\"Annual\",\"\"))))))))","v":""},null,null,null,{"$f":"IF('Outil Recensement'!I141=\"Waive\",\"Yes\",\"\")","v":""}]
[null,null,null,null,null,null,null,null,null,null,null,{"$f":"IF('Outil Recensement'!G142=\"Male\",\"Homme\",IF('Outil Recensement'!G142=\"Femme\",\"Female\",IF('Outil Recensement'!G142=\"H\",\"Male\",IF('Outil Recensement'!G142=\"F\",\"Female\",\"\"))))","v":""},null,{"$f":"IF('Outil Recensement'!I142=\"Individuelle\",\"Single\",IF('Outil Recensement'!I142=\"Familiale\",\"Family\",IF('Outil Recensement'!I142=\"Refus\",\"Family\",IF('Outil Recensement'!I142=\"Parent seul\",\"Family\",IF('Outil Recensement'!I142=\"Couple\",\"Family\",IF('Outil Recensement'!I142=\"In force\",\"Family\",IF('Outil Recensement'!I142=\"Applies\",\"Family\",IF('Outil Recensement'!I142=\"Applicable\",\"Family\",\"\"))))))))","v":""},null,null,null,{"$f":"IF('Outil Recensement'!M142=\"Annuel\",\"Annually\",IF('Outil Recensement'!M142=\"Mensuel\",\"Monthly\",IF('Outil Recensement'!M142=\"Bihebdomadaire\",\"Biweekly\",IF('Outil Recensement'!M142=\"Hebdomadaire\",\"Weekly\",IF('Outil Recensement'!M142=\"Horaire\",\"Hourly\",IF('Outil Recensement'!M142=\"Semi-mensuel\",\"Semi-monthly\",IF('Outil Recensement'!M142=\"Applies\",\"Annual\",IF('Outil Recensement'!M142=\"Applicable\",\"Annual\",\"\"))))))))","v":""},null,null,null,{"$f":"IF('Outil Recensement'!I142=\"Waive\",\"Yes\",\"\")","v":""}]
[null,null,null,null,null,null,null,null,null,null,null,{"$f":"IF('Outil Recensement'!G143=\"Male\",\"Homme\",IF('Outil Recensement'!G143=\"Femme\",\"Female\",IF('Outil Recensement'!G143=\"H\",\"Male\",IF('Outil Recensement'!G143=\"F\",\"Female\",\"\"))))","v":""},null,{"$f":"IF('Outil Recensement'!I143=\"Individuelle\",\"Single\",IF('Outil Recensement'!I143=\"Familiale\",\"Family\",IF('Outil Recensement'!I143=\"Refus\",\"Family\",IF('Outil Recensement'!I143=\"Parent seul\",\"Family\",IF('Outil Recensement'!I143=\"Couple\",\"Family\",IF('Outil Recensement'!I143=\"In force\",\"Family\",IF('Outil Recensement'!I143=\"Applies\",\"Family\",IF('Outil Recensement'!I143=\"Applicable\",\"Family\",\"\"))))))))","v":""},null,null,null,{"$f":"IF('Outil Recensement'!M143=\"Annuel\",\"Annually\",IF('Outil Recensement'!M143=\"Mensuel\",\"Monthly\",IF('Outil Recensement'!M143=\"Bihebdomadaire\",\"Biweekly\",IF('Outil Recensement'!M143=\"Hebdomadaire\",\"Weekly\",IF('Outil Recensement'!M143=\"Horaire\",\"Hourly\",IF('Outil Recensement'!M143=\"Semi-mensuel\",\"Semi-monthly\",IF('Outil Recensement'!M143=\"Applies\",\"Annual\",IF('Outil Recensement'!M143=\"Applicable\",\"Annual\",\"\"))))))))","v":""},null,null,null,{"$f":"IF('Outil Recensement'!I143=\"Waive\",\"Yes\",\"\")","v":""}]
[null,null,null,null,null,null,null,null,null,null,null,{"$f":"IF('Outil Recensement'!G144=\"Male\",\"Homme\",IF('Outil Recensement'!G144=\"Femme\",\"Female\",IF('Outil Recensement'!G144=\"H\",\"Male\",IF('Outil Recensement'!G144=\"F\",\"Female\",\"\"))))","v":""},null,{"$f":"IF('Outil Recensement'!I144=\"Individuelle\",\"Single\",IF('Outil Recensement'!I144=\"Familiale\",\"Family\",IF('Outil Recensement'!I144=\"Refus\",\"Family\",IF('Outil Recensement'!I144=\"Parent seul\",\"Family\",IF('Outil Recensement'!I144=\"Couple\",\"Family\",IF('Outil Recensement'!I144=\"In force\",\"Family\",IF('Outil Recensement'!I144=\"Applies\",\"Family\",IF('Outil Recensement'!I144=\"Applicable\",\"Family\",\"\"))))))))","v":""},null,null,null,{"$f":"IF('Outil Recensement'!M144=\"Annuel\",\"Annually\",IF('Outil Recensement'!M144=\"Mensuel\",\"Monthly\",IF('Outil Recensement'!M144=\"Bihebdomadaire\",\"Biweekly\",IF('Outil Recensement'!M144=\"Hebdomadaire\",\"Weekly\",IF('Outil Recensement'!M144=\"Horaire\",\"Hourly\",IF('Outil Recensement'!M144=\"Semi-mensuel\",\"Semi-monthly\",IF('Outil Recensement'!M144=\"Applies\",\"Annual\",IF('Outil Recensement'!M144=\"Applicable\",\"Annual\",\"\"))))))))","v":""},null,null,null,{"$f":"IF('Outil Recensement'!I144=\"Waive\",\"Yes\",\"\")","v":""}]
[null,null,null,null,null,null,null,null,null,null,null,{"$f":"IF('Outil Recensement'!G145=\"Male\",\"Homme\",IF('Outil Recensement'!G145=\"Femme\",\"Female\",IF('Outil Recensement'!G145=\"H\",\"Male\",IF('Outil Recensement'!G145=\"F\",\"Female\",\"\"))))","v":""},null,{"$f":"IF('Outil Recensement'!I145=\"Individuelle\",\"Single\",IF('Outil Recensement'!I145=\"Familiale\",\"Family\",IF('Outil Recensement'!I145=\"Refus\",\"Family\",IF('Outil Recensement'!I145=\"Parent seul\",\"Family\",IF('Outil Recensement'!I145=\"Couple\",\"Family\",IF('Outil Recensement'!I145=\"In force\",\"Family\",IF('Outil Recensement'!I145=\"Applies\",\"Family\",IF('Outil Recensement'!I145=\"Applicable\",\"Family\",\"\"))))))))","v":""},null,null,null,{"$f":"IF('Outil Recensement'!M145=\"Annuel\",\"Annually\",IF('Outil Recensement'!M145=\"Mensuel\",\"Monthly\",IF('Outil Recensement'!M145=\"Bihebdomadaire\",\"Biweekly\",IF('Outil Recensement'!M145=\"Hebdomadaire\",\"Weekly\",IF('Outil Recensement'!M145=\"Horaire\",\"Hourly\",IF('Outil Recensement'!M145=\"Semi-mensuel\",\"Semi-monthly\",IF('Outil Recensement'!M145=\"Applies\",\"Annual\",IF('Outil Recensement'!M145=\"Applicable\",\"Annual\",\"\"))))))))","v":""},null,null,null,{"$f":"IF('Outil Recensement'!I145=\"Waive\",\"Yes\",\"\")","v":""}]
[null,null,null,null,null,null,null,null,null,null,null,{"$f":"IF('Outil Recensement'!G146=\"Male\",\"Homme\",IF('Outil Recensement'!G146=\"Femme\",\"Female\",IF('Outil Recensement'!G146=\"H\",\"Male\",IF('Outil Recensement'!G146=\"F\",\"Female\",\"\"))))","v":""},null,{"$f":"IF('Outil Recensement'!I146=\"Individuelle\",\"Single\",IF('Outil Recensement'!I146=\"Familiale\",\"Family\",IF('Outil Recensement'!I146=\"Refus\",\"Family\",IF('Outil Recensement'!I146=\"Parent seul\",\"Family\",IF('Outil Recensement'!I146=\"Couple\",\"Family\",IF('Outil Recensement'!I146=\"In force\",\"Family\",IF('Outil Recensement'!I146=\"Applies\",\"Family\",IF('Outil Recensement'!I146=\"Applicable\",\"Family\",\"\"))))))))","v":""},null,null,null,{"$f":"IF('Outil Recensement'!M146=\"Annuel\",\"Annually\",IF('Outil Recensement'!M146=\"Mensuel\",\"Monthly\",IF('Outil Recensement'!M146=\"Bihebdomadaire\",\"Biweekly\",IF('Outil Recensement'!M146=\"Hebdomadaire\",\"Weekly\",IF('Outil Recensement'!M146=\"Horaire\",\"Hourly\",IF('Outil Recensement'!M146=\"Semi-mensuel\",\"Semi-monthly\",IF('Outil Recensement'!M146=\"Applies\",\"Annual\",IF('Outil Recensement'!M146=\"Applicable\",\"Annual\",\"\"))))))))","v":""},null,null,null,{"$f":"IF('Outil Recensement'!I146=\"Waive\",\"Yes\",\"\")","v":""}]
[null,null,null,null,null,null,null,null,null,null,null,{"$f":"IF('Outil Recensement'!G147=\"Male\",\"Homme\",IF('Outil Recensement'!G147=\"Femme\",\"Female\",IF('Outil Recensement'!G147=\"H\",\"Male\",IF('Outil Recensement'!G147=\"F\",\"Female\",\"\"))))","v":""},null,{"$f":"IF('Outil Recensement'!I147=\"Individuelle\",\"Single\",IF('Outil Recensement'!I147=\"Familiale\",\"Family\",IF('Outil Recensement'!I147=\"Refus\",\"Family\",IF('Outil Recensement'!I147=\"Parent seul\",\"Family\",IF('Outil Recensement'!I147=\"Couple\",\"Family\",IF('Outil Recensement'!I147=\"In force\",\"Family\",IF('Outil Recensement'!I147=\"Applies\",\"Family\",IF('Outil Recensement'!I147=\"Applicable\",\"Family\",\"\"))))))))","v":""},null,null,null,{"$f":"IF('Outil Recensement'!M147=\"Annuel\",\"Annually\",IF('Outil Recensement'!M147=\"Mensuel\",\"Monthly\",IF('Outil Recensement'!M147=\"Bihebdomadaire\",\"Biweekly\",IF('Outil Recensement'!M147=\"Hebdomadaire\",\"Weekly\",IF('Outil Recensement'!M147=\"Horaire\",\"Hourly\",IF('Outil Recensement'!M147=\"Semi-mensuel\",\"Semi-monthly\",IF('Outil Recensement'!M147=\"Applies\",\"Annual\",IF('Outil Recensement'!M147=\"Applicable\",\"Annual\",\"\"))))))))","v":""},null,null,null,{"$f":"IF('Outil Recensement'!I147=\"Waive\",\"Yes\",\"\")","v":""}]
[null,null,null,null,null,null,null,null,null,null,null,{"$f":"IF('Outil Recensement'!G148=\"Male\",\"Homme\",IF('Outil Recensement'!G148=\"Femme\",\"Female\",IF('Outil Recensement'!G148=\"H\",\"Male\",IF('Outil Recensement'!G148=\"F\",\"Female\",\"\"))))","v":""},null,{"$f":"IF('Outil Recensement'!I148=\"Individuelle\",\"Single\",IF('Outil Recensement'!I148=\"Familiale\",\"Family\",IF('Outil Recensement'!I148=\"Refus\",\"Family\",IF('Outil Recensement'!I148=\"Parent seul\",\"Family\",IF('Outil Recensement'!I148=\"Couple\",\"Family\",IF('Outil Recensement'!I148=\"In force\",\"Family\",IF('Outil Recensement'!I148=\"Applies\",\"Family\",IF('Outil Recensement'!I148=\"Applicable\",\"Family\",\"\"))))))))","v":""},null,null,null,{"$f":"IF('Outil Recensement'!M148=\"Annuel\",\"Annually\",IF('Outil Recensement'!M148=\"Mensuel\",\"Monthly\",IF('Outil Recensement'!M148=\"Bihebdomadaire\",\"Biweekly\",IF('Outil Recensement'!M148=\"Hebdomadaire\",\"Weekly\",IF('Outil Recensement'!M148=\"Horaire\",\"Hourly\",IF('Outil Recensement'!M148=\"Semi-mensuel\",\"Semi-monthly\",IF('Outil Recensement'!M148=\"Applies\",\"Annual\",IF('Outil Recensement'!M148=\"Applicable\",\"Annual\",\"\"))))))))","v":""},null,null,null,{"$f":"IF('Outil Recensement'!I148=\"Waive\",\"Yes\",\"\")","v":""}]
[null,null,null,null,null,null,null,null,null,null,null,{"$f":"IF('Outil Recensement'!G149=\"Male\",\"Homme\",IF('Outil Recensement'!G149=\"Femme\",\"Female\",IF('Outil Recensement'!G149=\"H\",\"Male\",IF('Outil Recensement'!G149=\"F\",\"Female\",\"\"))))","v":""},null,{"$f":"IF('Outil Recensement'!I149=\"Individuelle\",\"Single\",IF('Outil Recensement'!I149=\"Familiale\",\"Family\",IF('Outil Recensement'!I149=\"Refus\",\"Family\",IF('Outil Recensement'!I149=\"Parent seul\",\"Family\",IF('Outil Recensement'!I149=\"Couple\",\"Family\",IF('Outil Recensement'!I149=\"In force\",\"Family\",IF('Outil Recensement'!I149=\"Applies\",\"Family\",IF('Outil Recensement'!I149=\"Applicable\",\"Family\",\"\"))))))))","v":""},null,null,null,{"$f":"IF('Outil Recensement'!M149=\"Annuel\",\"Annually\",IF('Outil Recensement'!M149=\"Mensuel\",\"Monthly\",IF('Outil Recensement'!M149=\"Bihebdomadaire\",\"Biweekly\",IF('Outil Recensement'!M149=\"Hebdomadaire\",\"Weekly\",IF('Outil Recensement'!M149=\"Horaire\",\"Hourly\",IF('Outil Recensement'!M149=\"Semi-mensuel\",\"Semi-monthly\",IF('Outil Recensement'!M149=\"Applies\",\"Annual\",IF('Outil Recensement'!M149=\"Applicable\",\"Annual\",\"\"))))))))","v":""},null,null,null,{"$f":"IF('Outil Recensement'!I149=\"Waive\",\"Yes\",\"\")","v":""}]
[null,null,null,null,null,null,null,null,null,null,null,{"$f":"IF('Outil Recensement'!G150=\"Male\",\"Homme\",IF('Outil Recensement'!G150=\"Femme\",\"Female\",IF('Outil Recensement'!G150=\"H\",\"Male\",IF('Outil Recensement'!G150=\"F\",\"Female\",\"\"))))","v":""},null,{"$f":"IF('Outil Recensement'!I150=\"Individuelle\",\"Single\",IF('Outil Recensement'!I150=\"Familiale\",\"Family\",IF('Outil Recensement'!I150=\"Refus\",\"Family\",IF('Outil Recensement'!I150=\"Parent seul\",\"Family\",IF('Outil Recensement'!I150=\"Couple\",\"Family\",IF('Outil Recensement'!I150=\"In force\",\"Family\",IF('Outil Recensement'!I150=\"Applies\",\"Family\",IF('Outil Recensement'!I150=\"Applicable\",\"Family\",\"\"))))))))","v":""},null,null,null,{"$f":"IF('Outil Recensement'!M150=\"Annuel\",\"Annually\",IF('Outil Recensement'!M150=\"Mensuel\",\"Monthly\",IF('Outil Recensement'!M150=\"Bihebdomadaire\",\"Biweekly\",IF('Outil Recensement'!M150=\"Hebdomadaire\",\"Weekly\",IF('Outil Recensement'!M150=\"Horaire\",\"Hourly\",IF('Outil Recensement'!M150=\"Semi-mensuel\",\"Semi-monthly\",IF('Outil Recensement'!M150=\"Applies\",\"Annual\",IF('Outil Recensement'!M150=\"Applicable\",\"Annual\",\"\"))))))))","v":""},null,null,null,{"$f":"IF('Outil Recensement'!I150=\"Waive\",\"Yes\",\"\")","v":""}]
[null,null,null,null,null,null,null,null,null,null,null,{"$f":"IF('Outil Recensement'!G151=\"Male\",\"Homme\",IF('Outil Recensement'!G151=\"Femme\",\"Female\",IF('Outil Recensement'!G151=\"H\",\"Male\",IF('Outil Recensement'!G151=\"F\",\"Female\",\"\"))))","v":""},null,{"$f":"IF('Outil Recensement'!I151=\"Individuelle\",\"Single\",IF('Outil Recensement'!I151=\"Familiale\",\"Family\",IF('Outil Recensement'!I151=\"Refus\",\"Family\",IF('Outil Recensement'!I151=\"Parent seul\",\"Family\",IF('Outil Recensement'!I151=\"Couple\",\"Family\",IF('Outil Recensement'!I151=\"In force\",\"Family\",IF('Outil Recensement'!I151=\"Applies\",\"Family\",IF('Outil Recensement'!I151=\"Applicable\",\"Family\",\"\"))))))))","v":""},null,null,null,{"$f":"IF('Outil Recensement'!M151=\"Annuel\",\"Annually\",IF('Outil Recensement'!M151=\"Mensuel\",\"Monthly\",IF('Outil Recensement'!M151=\"Bihebdomadaire\",\"Biweekly\",IF('Outil Recensement'!M151=\"Hebdomadaire\",\"Weekly\",IF('Outil Recensement'!M151=\"Horaire\",\"Hourly\",IF('Outil Recensement'!M151=\"Semi-mensuel\",\"Semi-monthly\",IF('Outil Recensement'!M151=\"Applies\",\"Annual\",IF('Outil Recensement'!M151=\"Applicable\",\"Annual\",\"\"))))))))","v":""},null,null,null,{"$f":"IF('Outil Recensement'!I151=\"Waive\",\"Yes\",\"\")","v":""}]
[null,null,null,null,null,null,null,null,null,null,null,{"$f":"IF('Outil Recensement'!G152=\"Male\",\"Homme\",IF('Outil Recensement'!G152=\"Femme\",\"Female\",IF('Outil Recensement'!G152=\"H\",\"Male\",IF('Outil Recensement'!G152=\"F\",\"Female\",\"\"))))","v":""},null,{"$f":"IF('Outil Recensement'!I152=\"Individuelle\",\"Single\",IF('Outil Recensement'!I152=\"Familiale\",\"Family\",IF('Outil Recensement'!I152=\"Refus\",\"Family\",IF('Outil Recensement'!I152=\"Parent seul\",\"Family\",IF('Outil Recensement'!I152=\"Couple\",\"Family\",IF('Outil Recensement'!I152=\"In force\",\"Family\",IF('Outil Recensement'!I152=\"Applies\",\"Family\",IF('Outil Recensement'!I152=\"Applicable\",\"Family\",\"\"))))))))","v":""},null,null,null,{"$f":"IF('Outil Recensement'!M152=\"Annuel\",\"Annually\",IF('Outil Recensement'!M152=\"Mensuel\",\"Monthly\",IF('Outil Recensement'!M152=\"Bihebdomadaire\",\"Biweekly\",IF('Outil Recensement'!M152=\"Hebdomadaire\",\"Weekly\",IF('Outil Recensement'!M152=\"Horaire\",\"Hourly\",IF('Outil Recensement'!M152=\"Semi-mensuel\",\"Semi-monthly\",IF('Outil Recensement'!M152=\"Applies\",\"Annual\",IF('Outil Recensement'!M152=\"Applicable\",\"Annual\",\"\"))))))))","v":""},null,null,null,{"$f":"IF('Outil Recensement'!I152=\"Waive\",\"Yes\",\"\")","v":""}]
[null,null,null,null,null,null,null,null,null,null,null,{"$f":"IF('Outil Recensement'!G153=\"Male\",\"Homme\",IF('Outil Recensement'!G153=\"Femme\",\"Female\",IF('Outil Recensement'!G153=\"H\",\"Male\",IF('Outil Recensement'!G153=\"F\",\"Female\",\"\"))))","v":""},null,{"$f":"IF('Outil Recensement'!I153=\"Individuelle\",\"Single\",IF('Outil Recensement'!I153=\"Familiale\",\"Family\",IF('Outil Recensement'!I153=\"Refus\",\"Family\",IF('Outil Recensement'!I153=\"Parent seul\",\"Family\",IF('Outil Recensement'!I153=\"Couple\",\"Family\",IF('Outil Recensement'!I153=\"In force\",\"Family\",IF('Outil Recensement'!I153=\"Applies\",\"Family\",IF('Outil Recensement'!I153=\"Applicable\",\"Family\",\"\"))))))))","v":""},null,null,null,{"$f":"IF('Outil Recensement'!M153=\"Annuel\",\"Annually\",IF('Outil Recensement'!M153=\"Mensuel\",\"Monthly\",IF('Outil Recensement'!M153=\"Bihebdomadaire\",\"Biweekly\",IF('Outil Recensement'!M153=\"Hebdomadaire\",\"Weekly\",IF('Outil Recensement'!M153=\"Horaire\",\"Hourly\",IF('Outil Recensement'!M153=\"Semi-mensuel\",\"Semi-monthly\",IF('Outil Recensement'!M153=\"Applies\",\"Annual\",IF('Outil Recensement'!M153=\"Applicable\",\"Annual\",\"\"))))))))","v":""},null,null,null,{"$f":"IF('Outil Recensement'!I153=\"Waive\",\"Yes\",\"\")","v":""}]
[null,null,null,null,null,null,null,null,null,null,null,{"$f":"IF('Outil Recensement'!G154=\"Male\",\"Homme\",IF('Outil Recensement'!G154=\"Femme\",\"Female\",IF('Outil Recensement'!G154=\"H\",\"Male\",IF('Outil Recensement'!G154=\"F\",\"Female\",\"\"))))","v":""},null,{"$f":"IF('Outil Recensement'!I154=\"Individuelle\",\"Single\",IF('Outil Recensement'!I154=\"Familiale\",\"Family\",IF('Outil Recensement'!I154=\"Refus\",\"Family\",IF('Outil Recensement'!I154=\"Parent seul\",\"Family\",IF('Outil Recensement'!I154=\"Couple\",\"Family\",IF('Outil Recensement'!I154=\"In force\",\"Family\",IF('Outil Recensement'!I154=\"Applies\",\"Family\",IF('Outil Recensement'!I154=\"Applicable\",\"Family\",\"\"))))))))","v":""},null,null,null,{"$f":"IF('Outil Recensement'!M154=\"Annuel\",\"Annually\",IF('Outil Recensement'!M154=\"Mensuel\",\"Monthly\",IF('Outil Recensement'!M154=\"Bihebdomadaire\",\"Biweekly\",IF('Outil Recensement'!M154=\"Hebdomadaire\",\"Weekly\",IF('Outil Recensement'!M154=\"Horaire\",\"Hourly\",IF('Outil Recensement'!M154=\"Semi-mensuel\",\"Semi-monthly\",IF('Outil Recensement'!M154=\"Applies\",\"Annual\",IF('Outil Recensement'!M154=\"Applicable\",\"Annual\",\"\"))))))))","v":""},null,null,null,{"$f":"IF('Outil Recensement'!I154=\"Waive\",\"Yes\",\"\")","v":""}]
[null,null,null,null,null,null,null,null,null,null,null,{"$f":"IF('Outil Recensement'!G155=\"Male\",\"Homme\",IF('Outil Recensement'!G155=\"Femme\",\"Female\",IF('Outil Recensement'!G155=\"H\",\"Male\",IF('Outil Recensement'!G155=\"F\",\"Female\",\"\"))))","v":""},null,{"$f":"IF('Outil Recensement'!I155=\"Individuelle\",\"Single\",IF('Outil Recensement'!I155=\"Familiale\",\"Family\",IF('Outil Recensement'!I155=\"Refus\",\"Family\",IF('Outil Recensement'!I155=\"Parent seul\",\"Family\",IF('Outil Recensement'!I155=\"Couple\",\"Family\",IF('Outil Recensement'!I155=\"In force\",\"Family\",IF('Outil Recensement'!I155=\"Applies\",\"Family\",IF('Outil Recensement'!I155=\"Applicable\",\"Family\",\"\"))))))))","v":""},null,null,null,{"$f":"IF('Outil Recensement'!M155=\"Annuel\",\"Annually\",IF('Outil Recensement'!M155=\"Mensuel\",\"Monthly\",IF('Outil Recensement'!M155=\"Bihebdomadaire\",\"Biweekly\",IF('Outil Recensement'!M155=\"Hebdomadaire\",\"Weekly\",IF('Outil Recensement'!M155=\"Horaire\",\"Hourly\",IF('Outil Recensement'!M155=\"Semi-mensuel\",\"Semi-monthly\",IF('Outil Recensement'!M155=\"Applies\",\"Annual\",IF('Outil Recensement'!M155=\"Applicable\",\"Annual\",\"\"))))))))","v":""},null,null,null,{"$f":"IF('Outil Recensement'!I155=\"Waive\",\"Yes\",\"\")","v":""}]
[null,null,null,null,null,null,null,null,null,null,null,{"$f":"IF('Outil Recensement'!G156=\"Male\",\"Homme\",IF('Outil Recensement'!G156=\"Femme\",\"Female\",IF('Outil Recensement'!G156=\"H\",\"Male\",IF('Outil Recensement'!G156=\"F\",\"Female\",\"\"))))","v":""},null,{"$f":"IF('Outil Recensement'!I156=\"Individuelle\",\"Single\",IF('Outil Recensement'!I156=\"Familiale\",\"Family\",IF('Outil Recensement'!I156=\"Refus\",\"Family\",IF('Outil Recensement'!I156=\"Parent seul\",\"Family\",IF('Outil Recensement'!I156=\"Couple\",\"Family\",IF('Outil Recensement'!I156=\"In force\",\"Family\",IF('Outil Recensement'!I156=\"Applies\",\"Family\",IF('Outil Recensement'!I156=\"Applicable\",\"Family\",\"\"))))))))","v":""},null,null,null,{"$f":"IF('Outil Recensement'!M156=\"Annuel\",\"Annually\",IF('Outil Recensement'!M156=\"Mensuel\",\"Monthly\",IF('Outil Recensement'!M156=\"Bihebdomadaire\",\"Biweekly\",IF('Outil Recensement'!M156=\"Hebdomadaire\",\"Weekly\",IF('Outil Recensement'!M156=\"Horaire\",\"Hourly\",IF('Outil Recensement'!M156=\"Semi-mensuel\",\"Semi-monthly\",IF('Outil Recensement'!M156=\"Applies\",\"Annual\",IF('Outil Recensement'!M156=\"Applicable\",\"Annual\",\"\"))))))))","v":""},null,null,null,{"$f":"IF('Outil Recensement'!I156=\"Waive\",\"Yes\",\"\")","v":""}]
[null,null,null,null,null,null,null,null,null,null,null,{"$f":"IF('Outil Recensement'!G157=\"Male\",\"Homme\",IF('Outil Recensement'!G157=\"Femme\",\"Female\",IF('Outil Recensement'!G157=\"H\",\"Male\",IF('Outil Recensement'!G157=\"F\",\"Female\",\"\"))))","v":""},null,{"$f":"IF('Outil Recensement'!I157=\"Individuelle\",\"Single\",IF('Outil Recensement'!I157=\"Familiale\",\"Family\",IF('Outil Recensement'!I157=\"Refus\",\"Family\",IF('Outil Recensement'!I157=\"Parent seul\",\"Family\",IF('Outil Recensement'!I157=\"Couple\",\"Family\",IF('Outil Recensement'!I157=\"In force\",\"Family\",IF('Outil Recensement'!I157=\"Applies\",\"Family\",IF('Outil Recensement'!I157=\"Applicable\",\"Family\",\"\"))))))))","v":""},null,null,null,{"$f":"IF('Outil Recensement'!M157=\"Annuel\",\"Annually\",IF('Outil Recensement'!M157=\"Mensuel\",\"Monthly\",IF('Outil Recensement'!M157=\"Bihebdomadaire\",\"Biweekly\",IF('Outil Recensement'!M157=\"Hebdomadaire\",\"Weekly\",IF('Outil Recensement'!M157=\"Horaire\",\"Hourly\",IF('Outil Recensement'!M157=\"Semi-mensuel\",\"Semi-monthly\",IF('Outil Recensement'!M157=\"Applies\",\"Annual\",IF('Outil Recensement'!M157=\"Applicable\",\"Annual\",\"\"))))))))","v":""},null,null,null,{"$f":"IF('Outil Recensement'!I157=\"Waive\",\"Yes\",\"\")","v":""}]
[null,null,null,null,null,null,null,null,null,null,null,{"$f":"IF('Outil Recensement'!G158=\"Male\",\"Homme\",IF('Outil Recensement'!G158=\"Femme\",\"Female\",IF('Outil Recensement'!G158=\"H\",\"Male\",IF('Outil Recensement'!G158=\"F\",\"Female\",\"\"))))","v":""},null,{"$f":"IF('Outil Recensement'!I158=\"Individuelle\",\"Single\",IF('Outil Recensement'!I158=\"Familiale\",\"Family\",IF('Outil Recensement'!I158=\"Refus\",\"Family\",IF('Outil Recensement'!I158=\"Parent seul\",\"Family\",IF('Outil Recensement'!I158=\"Couple\",\"Family\",IF('Outil Recensement'!I158=\"In force\",\"Family\",IF('Outil Recensement'!I158=\"Applies\",\"Family\",IF('Outil Recensement'!I158=\"Applicable\",\"Family\",\"\"))))))))","v":""},null,null,null,{"$f":"IF('Outil Recensement'!M158=\"Annuel\",\"Annually\",IF('Outil Recensement'!M158=\"Mensuel\",\"Monthly\",IF('Outil Recensement'!M158=\"Bihebdomadaire\",\"Biweekly\",IF('Outil Recensement'!M158=\"Hebdomadaire\",\"Weekly\",IF('Outil Recensement'!M158=\"Horaire\",\"Hourly\",IF('Outil Recensement'!M158=\"Semi-mensuel\",\"Semi-monthly\",IF('Outil Recensement'!M158=\"Applies\",\"Annual\",IF('Outil Recensement'!M158=\"Applicable\",\"Annual\",\"\"))))))))","v":""},null,null,null,{"$f":"IF('Outil Recensement'!I158=\"Waive\",\"Yes\",\"\")","v":""}]
[null,null,null,null,null,null,null,null,null,null,null,{"$f":"IF('Outil Recensement'!G159=\"Male\",\"Homme\",IF('Outil Recensement'!G159=\"Femme\",\"Female\",IF('Outil Recensement'!G159=\"H\",\"Male\",IF('Outil Recensement'!G159=\"F\",\"Female\",\"\"))))","v":""},null,{"$f":"IF('Outil Recensement'!I159=\"Individuelle\",\"Single\",IF('Outil Recensement'!I159=\"Familiale\",\"Family\",IF('Outil Recensement'!I159=\"Refus\",\"Family\",IF('Outil Recensement'!I159=\"Parent seul\",\"Family\",IF('Outil Recensement'!I159=\"Couple\",\"Family\",IF('Outil Recensement'!I159=\"In force\",\"Family\",IF('Outil Recensement'!I159=\"Applies\",\"Family\",IF('Outil Recensement'!I159=\"Applicable\",\"Family\",\"\"))))))))","v":""},null,null,null,{"$f":"IF('Outil Recensement'!M159=\"Annuel\",\"Annually\",IF('Outil Recensement'!M159=\"Mensuel\",\"Monthly\",IF('Outil Recensement'!M159=\"Bihebdomadaire\",\"Biweekly\",IF('Outil Recensement'!M159=\"Hebdomadaire\",\"Weekly\",IF('Outil Recensement'!M159=\"Horaire\",\"Hourly\",IF('Outil Recensement'!M159=\"Semi-mensuel\",\"Semi-monthly\",IF('Outil Recensement'!M159=\"Applies\",\"Annual\",IF('Outil Recensement'!M159=\"Applicable\",\"Annual\",\"\"))))))))","v":""},null,null,null,{"$f":"IF('Outil Recensement'!I159=\"Waive\",\"Yes\",\"\")","v":""}]
[null,null,null,null,null,null,null,null,null,null,null,{"$f":"IF('Outil Recensement'!G160=\"Male\",\"Homme\",IF('Outil Recensement'!G160=\"Femme\",\"Female\",IF('Outil Recensement'!G160=\"H\",\"Male\",IF('Outil Recensement'!G160=\"F\",\"Female\",\"\"))))","v":""},null,{"$f":"IF('Outil Recensement'!I160=\"Individuelle\",\"Single\",IF('Outil Recensement'!I160=\"Familiale\",\"Family\",IF('Outil Recensement'!I160=\"Refus\",\"Family\",IF('Outil Recensement'!I160=\"Parent seul\",\"Family\",IF('Outil Recensement'!I160=\"Couple\",\"Family\",IF('Outil Recensement'!I160=\"In force\",\"Family\",IF('Outil Recensement'!I160=\"Applies\",\"Family\",IF('Outil Recensement'!I160=\"Applicable\",\"Family\",\"\"))))))))","v":""},null,null,null,{"$f":"IF('Outil Recensement'!M160=\"Annuel\",\"Annually\",IF('Outil Recensement'!M160=\"Mensuel\",\"Monthly\",IF('Outil Recensement'!M160=\"Bihebdomadaire\",\"Biweekly\",IF('Outil Recensement'!M160=\"Hebdomadaire\",\"Weekly\",IF('Outil Recensement'!M160=\"Horaire\",\"Hourly\",IF('Outil Recensement'!M160=\"Semi-mensuel\",\"Semi-monthly\",IF('Outil Recensement'!M160=\"Applies\",\"Annual\",IF('Outil Recensement'!M160=\"Applicable\",\"Annual\",\"\"))))))))","v":""},null,null,null,{"$f":"IF('Outil Recensement'!I160=\"Waive\",\"Yes\",\"\")","v":""}]
[null,null,null,null,null,null,null,null,null,null,null,{"$f":"IF('Outil Recensement'!G161=\"Male\",\"Homme\",IF('Outil Recensement'!G161=\"Femme\",\"Female\",IF('Outil Recensement'!G161=\"H\",\"Male\",IF('Outil Recensement'!G161=\"F\",\"Female\",\"\"))))","v":""},null,{"$f":"IF('Outil Recensement'!I161=\"Individuelle\",\"Single\",IF('Outil Recensement'!I161=\"Familiale\",\"Family\",IF('Outil Recensement'!I161=\"Refus\",\"Family\",IF('Outil Recensement'!I161=\"Parent seul\",\"Family\",IF('Outil Recensement'!I161=\"Couple\",\"Family\",IF('Outil Recensement'!I161=\"In force\",\"Family\",IF('Outil Recensement'!I161=\"Applies\",\"Family\",IF('Outil Recensement'!I161=\"Applicable\",\"Family\",\"\"))))))))","v":""},null,null,null,{"$f":"IF('Outil Recensement'!M161=\"Annuel\",\"Annually\",IF('Outil Recensement'!M161=\"Mensuel\",\"Monthly\",IF('Outil Recensement'!M161=\"Bihebdomadaire\",\"Biweekly\",IF('Outil Recensement'!M161=\"Hebdomadaire\",\"Weekly\",IF('Outil Recensement'!M161=\"Horaire\",\"Hourly\",IF('Outil Recensement'!M161=\"Semi-mensuel\",\"Semi-monthly\",IF('Outil Recensement'!M161=\"Applies\",\"Annual\",IF('Outil Recensement'!M161=\"Applicable\",\"Annual\",\"\"))))))))","v":""},null,null,null,{"$f":"IF('Outil Recensement'!I161=\"Waive\",\"Yes\",\"\")","v":""}]
[null,null,null,null,null,null,null,null,null,null,null,{"$f":"IF('Outil Recensement'!G162=\"Male\",\"Homme\",IF('Outil Recensement'!G162=\"Femme\",\"Female\",IF('Outil Recensement'!G162=\"H\",\"Male\",IF('Outil Recensement'!G162=\"F\",\"Female\",\"\"))))","v":""},null,{"$f":"IF('Outil Recensement'!I162=\"Individuelle\",\"Single\",IF('Outil Recensement'!I162=\"Familiale\",\"Family\",IF('Outil Recensement'!I162=\"Refus\",\"Family\",IF('Outil Recensement'!I162=\"Parent seul\",\"Family\",IF('Outil Recensement'!I162=\"Couple\",\"Family\",IF('Outil Recensement'!I162=\"In force\",\"Family\",IF('Outil Recensement'!I162=\"Applies\",\"Family\",IF('Outil Recensement'!I162=\"Applicable\",\"Family\",\"\"))))))))","v":""},null,null,null,{"$f":"IF('Outil Recensement'!M162=\"Annuel\",\"Annually\",IF('Outil Recensement'!M162=\"Mensuel\",\"Monthly\",IF('Outil Recensement'!M162=\"Bihebdomadaire\",\"Biweekly\",IF('Outil Recensement'!M162=\"Hebdomadaire\",\"Weekly\",IF('Outil Recensement'!M162=\"Horaire\",\"Hourly\",IF('Outil Recensement'!M162=\"Semi-mensuel\",\"Semi-monthly\",IF('Outil Recensement'!M162=\"Applies\",\"Annual\",IF('Outil Recensement'!M162=\"Applicable\",\"Annual\",\"\"))))))))","v":""},null,null,null,{"$f":"IF('Outil Recensement'!I162=\"Waive\",\"Yes\",\"\")","v":""}]
[null,null,null,null,null,null,null,null,null,null,null,{"$f":"IF('Outil Recensement'!G163=\"Male\",\"Homme\",IF('Outil Recensement'!G163=\"Femme\",\"Female\",IF('Outil Recensement'!G163=\"H\",\"Male\",IF('Outil Recensement'!G163=\"F\",\"Female\",\"\"))))","v":""},null,{"$f":"IF('Outil Recensement'!I163=\"Individuelle\",\"Single\",IF('Outil Recensement'!I163=\"Familiale\",\"Family\",IF('Outil Recensement'!I163=\"Refus\",\"Family\",IF('Outil Recensement'!I163=\"Parent seul\",\"Family\",IF('Outil Recensement'!I163=\"Couple\",\"Family\",IF('Outil Recensement'!I163=\"In force\",\"Family\",IF('Outil Recensement'!I163=\"Applies\",\"Family\",IF('Outil Recensement'!I163=\"Applicable\",\"Family\",\"\"))))))))","v":""},null,null,null,{"$f":"IF('Outil Recensement'!M163=\"Annuel\",\"Annually\",IF('Outil Recensement'!M163=\"Mensuel\",\"Monthly\",IF('Outil Recensement'!M163=\"Bihebdomadaire\",\"Biweekly\",IF('Outil Recensement'!M163=\"Hebdomadaire\",\"Weekly\",IF('Outil Recensement'!M163=\"Horaire\",\"Hourly\",IF('Outil Recensement'!M163=\"Semi-mensuel\",\"Semi-monthly\",IF('Outil Recensement'!M163=\"Applies\",\"Annual\",IF('Outil Recensement'!M163=\"Applicable\",\"Annual\",\"\"))))))))","v":""},null,null,null,{"$f":"IF('Outil Recensement'!I163=\"Waive\",\"Yes\",\"\")","v":""}]
[null,null,null,null,null,null,null,null,null,null,null,{"$f":"IF('Outil Recensement'!G164=\"Male\",\"Homme\",IF('Outil Recensement'!G164=\"Femme\",\"Female\",IF('Outil Recensement'!G164=\"H\",\"Male\",IF('Outil Recensement'!G164=\"F\",\"Female\",\"\"))))","v":""},null,{"$f":"IF('Outil Recensement'!I164=\"Individuelle\",\"Single\",IF('Outil Recensement'!I164=\"Familiale\",\"Family\",IF('Outil Recensement'!I164=\"Refus\",\"Family\",IF('Outil Recensement'!I164=\"Parent seul\",\"Family\",IF('Outil Recensement'!I164=\"Couple\",\"Family\",IF('Outil Recensement'!I164=\"In force\",\"Family\",IF('Outil Recensement'!I164=\"Applies\",\"Family\",IF('Outil Recensement'!I164=\"Applicable\",\"Family\",\"\"))))))))","v":""},null,null,null,{"$f":"IF('Outil Recensement'!M164=\"Annuel\",\"Annually\",IF('Outil Recensement'!M164=\"Mensuel\",\"Monthly\",IF('Outil Recensement'!M164=\"Bihebdomadaire\",\"Biweekly\",IF('Outil Recensement'!M164=\"Hebdomadaire\",\"Weekly\",IF('Outil Recensement'!M164=\"Horaire\",\"Hourly\",IF('Outil Recensement'!M164=\"Semi-mensuel\",\"Semi-monthly\",IF('Outil Recensement'!M164=\"Applies\",\"Annual\",IF('Outil Recensement'!M164=\"Applicable\",\"Annual\",\"\"))))))))","v":""},null,null,null,{"$f":"IF('Outil Recensement'!I164=\"Waive\",\"Yes\",\"\")","v":""}]
[null,null,null,null,null,null,null,null,null,null,null,{"$f":"IF('Outil Recensement'!G165=\"Male\",\"Homme\",IF('Outil Recensement'!G165=\"Femme\",\"Female\",IF('Outil Recensement'!G165=\"H\",\"Male\",IF('Outil Recensement'!G165=\"F\",\"Female\",\"\"))))","v":""},null,{"$f":"IF('Outil Recensement'!I165=\"Individuelle\",\"Single\",IF('Outil Recensement'!I165=\"Familiale\",\"Family\",IF('Outil Recensement'!I165=\"Refus\",\"Family\",IF('Outil Recensement'!I165=\"Parent seul\",\"Family\",IF('Outil Recensement'!I165=\"Couple\",\"Family\",IF('Outil Recensement'!I165=\"In force\",\"Family\",IF('Outil Recensement'!I165=\"Applies\",\"Family\",IF('Outil Recensement'!I165=\"Applicable\",\"Family\",\"\"))))))))","v":""},null,null,null,{"$f":"IF('Outil Recensement'!M165=\"Annuel\",\"Annually\",IF('Outil Recensement'!M165=\"Mensuel\",\"Monthly\",IF('Outil Recensement'!M165=\"Bihebdomadaire\",\"Biweekly\",IF('Outil Recensement'!M165=\"Hebdomadaire\",\"Weekly\",IF('Outil Recensement'!M165=\"Horaire\",\"Hourly\",IF('Outil Recensement'!M165=\"Semi-mensuel\",\"Semi-monthly\",IF('Outil Recensement'!M165=\"Applies\",\"Annual\",IF('Outil Recensement'!M165=\"Applicable\",\"Annual\",\"\"))))))))","v":""},null,null,null,{"$f":"IF('Outil Recensement'!I165=\"Waive\",\"Yes\",\"\")","v":""}]
[null,null,null,null,null,null,null,null,null,null,null,{"$f":"IF('Outil Recensement'!G166=\"Male\",\"Homme\",IF('Outil Recensement'!G166=\"Femme\",\"Female\",IF('Outil Recensement'!G166=\"H\",\"Male\",IF('Outil Recensement'!G166=\"F\",\"Female\",\"\"))))","v":""},null,{"$f":"IF('Outil Recensement'!I166=\"Individuelle\",\"Single\",IF('Outil Recensement'!I166=\"Familiale\",\"Family\",IF('Outil Recensement'!I166=\"Refus\",\"Family\",IF('Outil Recensement'!I166=\"Parent seul\",\"Family\",IF('Outil Recensement'!I166=\"Couple\",\"Family\",IF('Outil Recensement'!I166=\"In force\",\"Family\",IF('Outil Recensement'!I166=\"Applies\",\"Family\",IF('Outil Recensement'!I166=\"Applicable\",\"Family\",\"\"))))))))","v":""},null,null,null,{"$f":"IF('Outil Recensement'!M166=\"Annuel\",\"Annually\",IF('Outil Recensement'!M166=\"Mensuel\",\"Monthly\",IF('Outil Recensement'!M166=\"Bihebdomadaire\",\"Biweekly\",IF('Outil Recensement'!M166=\"Hebdomadaire\",\"Weekly\",IF('Outil Recensement'!M166=\"Horaire\",\"Hourly\",IF('Outil Recensement'!M166=\"Semi-mensuel\",\"Semi-monthly\",IF('Outil Recensement'!M166=\"Applies\",\"Annual\",IF('Outil Recensement'!M166=\"Applicable\",\"Annual\",\"\"))))))))","v":""},null,null,null,{"$f":"IF('Outil Recensement'!I166=\"Waive\",\"Yes\",\"\")","v":""}]
[null,null,null,null,null,null,null,null,null,null,null,{"$f":"IF('Outil Recensement'!G167=\"Male\",\"Homme\",IF('Outil Recensement'!G167=\"Femme\",\"Female\",IF('Outil Recensement'!G167=\"H\",\"Male\",IF('Outil Recensement'!G167=\"F\",\"Female\",\"\"))))","v":""},null,{"$f":"IF('Outil Recensement'!I167=\"Individuelle\",\"Single\",IF('Outil Recensement'!I167=\"Familiale\",\"Family\",IF('Outil Recensement'!I167=\"Refus\",\"Family\",IF('Outil Recensement'!I167=\"Parent seul\",\"Family\",IF('Outil Recensement'!I167=\"Couple\",\"Family\",IF('Outil Recensement'!I167=\"In force\",\"Family\",IF('Outil Recensement'!I167=\"Applies\",\"Family\",IF('Outil Recensement'!I167=\"Applicable\",\"Family\",\"\"))))))))","v":""},null,null,null,{"$f":"IF('Outil Recensement'!M167=\"Annuel\",\"Annually\",IF('Outil Recensement'!M167=\"Mensuel\",\"Monthly\",IF('Outil Recensement'!M167=\"Bihebdomadaire\",\"Biweekly\",IF('Outil Recensement'!M167=\"Hebdomadaire\",\"Weekly\",IF('Outil Recensement'!M167=\"Horaire\",\"Hourly\",IF('Outil Recensement'!M167=\"Semi-mensuel\",\"Semi-monthly\",IF('Outil Recensement'!M167=\"Applies\",\"Annual\",IF('Outil Recensement'!M167=\"Applicable\",\"Annual\",\"\"))))))))","v":""},null,null,null,{"$f":"IF('Outil Recensement'!I167=\"Waive\",\"Yes\",\"\")","v":""}]
[null,null,null,null,null,null,null,null,null,null,null,{"$f":"IF('Outil Recensement'!G168=\"Male\",\"Homme\",IF('Outil Recensement'!G168=\"Femme\",\"Female\",IF('Outil Recensement'!G168=\"H\",\"Male\",IF('Outil Recensement'!G168=\"F\",\"Female\",\"\"))))","v":""},null,{"$f":"IF('Outil Recensement'!I168=\"Individuelle\",\"Single\",IF('Outil Recensement'!I168=\"Familiale\",\"Family\",IF('Outil Recensement'!I168=\"Refus\",\"Family\",IF('Outil Recensement'!I168=\"Parent seul\",\"Family\",IF('Outil Recensement'!I168=\"Couple\",\"Family\",IF('Outil Recensement'!I168=\"In force\",\"Family\",IF('Outil Recensement'!I168=\"Applies\",\"Family\",IF('Outil Recensement'!I168=\"Applicable\",\"Family\",\"\"))))))))","v":""},null,null,null,{"$f":"IF('Outil Recensement'!M168=\"Annuel\",\"Annually\",IF('Outil Recensement'!M168=\"Mensuel\",\"Monthly\",IF('Outil Recensement'!M168=\"Bihebdomadaire\",\"Biweekly\",IF('Outil Recensement'!M168=\"Hebdomadaire\",\"Weekly\",IF('Outil Recensement'!M168=\"Horaire\",\"Hourly\",IF('Outil Recensement'!M168=\"Semi-mensuel\",\"Semi-monthly\",IF('Outil Recensement'!M168=\"Applies\",\"Annual\",IF('Outil Recensement'!M168=\"Applicable\",\"Annual\",\"\"))))))))","v":""},null,null,null,{"$f":"IF('Outil Recensement'!I168=\"Waive\",\"Yes\",\"\")","v":""}]
[null,null,null,null,null,null,null,null,null,null,null,{"$f":"IF('Outil Recensement'!G169=\"Male\",\"Homme\",IF('Outil Recensement'!G169=\"Femme\",\"Female\",IF('Outil Recensement'!G169=\"H\",\"Male\",IF('Outil Recensement'!G169=\"F\",\"Female\",\"\"))))","v":""},null,{"$f":"IF('Outil Recensement'!I169=\"Individuelle\",\"Single\",IF('Outil Recensement'!I169=\"Familiale\",\"Family\",IF('Outil Recensement'!I169=\"Refus\",\"Family\",IF('Outil Recensement'!I169=\"Parent seul\",\"Family\",IF('Outil Recensement'!I169=\"Couple\",\"Family\",IF('Outil Recensement'!I169=\"In force\",\"Family\",IF('Outil Recensement'!I169=\"Applies\",\"Family\",IF('Outil Recensement'!I169=\"Applicable\",\"Family\",\"\"))))))))","v":""},null,null,null,{"$f":"IF('Outil Recensement'!M169=\"Annuel\",\"Annually\",IF('Outil Recensement'!M169=\"Mensuel\",\"Monthly\",IF('Outil Recensement'!M169=\"Bihebdomadaire\",\"Biweekly\",IF('Outil Recensement'!M169=\"Hebdomadaire\",\"Weekly\",IF('Outil Recensement'!M169=\"Horaire\",\"Hourly\",IF('Outil Recensement'!M169=\"Semi-mensuel\",\"Semi-monthly\",IF('Outil Recensement'!M169=\"Applies\",\"Annual\",IF('Outil Recensement'!M169=\"Applicable\",\"Annual\",\"\"))))))))","v":""},null,null,null,{"$f":"IF('Outil Recensement'!I169=\"Waive\",\"Yes\",\"\")","v":""}]
[null,null,null,null,null,null,null,null,null,null,null,{"$f":"IF('Outil Recensement'!G170=\"Male\",\"Homme\",IF('Outil Recensement'!G170=\"Femme\",\"Female\",IF('Outil Recensement'!G170=\"H\",\"Male\",IF('Outil Recensement'!G170=\"F\",\"Female\",\"\"))))","v":""},null,{"$f":"IF('Outil Recensement'!I170=\"Individuelle\",\"Single\",IF('Outil Recensement'!I170=\"Familiale\",\"Family\",IF('Outil Recensement'!I170=\"Refus\",\"Family\",IF('Outil Recensement'!I170=\"Parent seul\",\"Family\",IF('Outil Recensement'!I170=\"Couple\",\"Family\",IF('Outil Recensement'!I170=\"In force\",\"Family\",IF('Outil Recensement'!I170=\"Applies\",\"Family\",IF('Outil Recensement'!I170=\"Applicable\",\"Family\",\"\"))))))))","v":""},null,null,null,{"$f":"IF('Outil Recensement'!M170=\"Annuel\",\"Annually\",IF('Outil Recensement'!M170=\"Mensuel\",\"Monthly\",IF('Outil Recensement'!M170=\"Bihebdomadaire\",\"Biweekly\",IF('Outil Recensement'!M170=\"Hebdomadaire\",\"Weekly\",IF('Outil Recensement'!M170=\"Horaire\",\"Hourly\",IF('Outil Recensement'!M170=\"Semi-mensuel\",\"Semi-monthly\",IF('Outil Recensement'!M170=\"Applies\",\"Annual\",IF('Outil Recensement'!M170=\"Applicable\",\"Annual\",\"\"))))))))","v":""},null,null,null,{"$f":"IF('Outil Recensement'!I170=\"Waive\",\"Yes\",\"\")","v":""}]
[null,null,null,null,null,null,null,null,null,null,null,{"$f":"IF('Outil Recensement'!G171=\"Male\",\"Homme\",IF('Outil Recensement'!G171=\"Femme\",\"Female\",IF('Outil Recensement'!G171=\"H\",\"Male\",IF('Outil Recensement'!G171=\"F\",\"Female\",\"\"))))","v":""},null,{"$f":"IF('Outil Recensement'!I171=\"Individuelle\",\"Single\",IF('Outil Recensement'!I171=\"Familiale\",\"Family\",IF('Outil Recensement'!I171=\"Refus\",\"Family\",IF('Outil Recensement'!I171=\"Parent seul\",\"Family\",IF('Outil Recensement'!I171=\"Couple\",\"Family\",IF('Outil Recensement'!I171=\"In force\",\"Family\",IF('Outil Recensement'!I171=\"Applies\",\"Family\",IF('Outil Recensement'!I171=\"Applicable\",\"Family\",\"\"))))))))","v":""},null,null,null,{"$f":"IF('Outil Recensement'!M171=\"Annuel\",\"Annually\",IF('Outil Recensement'!M171=\"Mensuel\",\"Monthly\",IF('Outil Recensement'!M171=\"Bihebdomadaire\",\"Biweekly\",IF('Outil Recensement'!M171=\"Hebdomadaire\",\"Weekly\",IF('Outil Recensement'!M171=\"Horaire\",\"Hourly\",IF('Outil Recensement'!M171=\"Semi-mensuel\",\"Semi-monthly\",IF('Outil Recensement'!M171=\"Applies\",\"Annual\",IF('Outil Recensement'!M171=\"Applicable\",\"Annual\",\"\"))))))))","v":""},null,null,null,{"$f":"IF('Outil Recensement'!I171=\"Waive\",\"Yes\",\"\")","v":""}]
[null,null,null,null,null,null,null,null,null,null,null,{"$f":"IF('Outil Recensement'!G172=\"Male\",\"Homme\",IF('Outil Recensement'!G172=\"Femme\",\"Female\",IF('Outil Recensement'!G172=\"H\",\"Male\",IF('Outil Recensement'!G172=\"F\",\"Female\",\"\"))))","v":""},null,{"$f":"IF('Outil Recensement'!I172=\"Individuelle\",\"Single\",IF('Outil Recensement'!I172=\"Familiale\",\"Family\",IF('Outil Recensement'!I172=\"Refus\",\"Family\",IF('Outil Recensement'!I172=\"Parent seul\",\"Family\",IF('Outil Recensement'!I172=\"Couple\",\"Family\",IF('Outil Recensement'!I172=\"In force\",\"Family\",IF('Outil Recensement'!I172=\"Applies\",\"Family\",IF('Outil Recensement'!I172=\"Applicable\",\"Family\",\"\"))))))))","v":""},null,null,null,{"$f":"IF('Outil Recensement'!M172=\"Annuel\",\"Annually\",IF('Outil Recensement'!M172=\"Mensuel\",\"Monthly\",IF('Outil Recensement'!M172=\"Bihebdomadaire\",\"Biweekly\",IF('Outil Recensement'!M172=\"Hebdomadaire\",\"Weekly\",IF('Outil Recensement'!M172=\"Horaire\",\"Hourly\",IF('Outil Recensement'!M172=\"Semi-mensuel\",\"Semi-monthly\",IF('Outil Recensement'!M172=\"Applies\",\"Annual\",IF('Outil Recensement'!M172=\"Applicable\",\"Annual\",\"\"))))))))","v":""},null,null,null,{"$f":"IF('Outil Recensement'!I172=\"Waive\",\"Yes\",\"\")","v":""}]
[null,null,null,null,null,null,null,null,null,null,null,{"$f":"IF('Outil Recensement'!G173=\"Male\",\"Homme\",IF('Outil Recensement'!G173=\"Femme\",\"Female\",IF('Outil Recensement'!G173=\"H\",\"Male\",IF('Outil Recensement'!G173=\"F\",\"Female\",\"\"))))","v":""},null,{"$f":"IF('Outil Recensement'!I173=\"Individuelle\",\"Single\",IF('Outil Recensement'!I173=\"Familiale\",\"Family\",IF('Outil Recensement'!I173=\"Refus\",\"Family\",IF('Outil Recensement'!I173=\"Parent seul\",\"Family\",IF('Outil Recensement'!I173=\"Couple\",\"Family\",IF('Outil Recensement'!I173=\"In force\",\"Family\",IF('Outil Recensement'!I173=\"Applies\",\"Family\",IF('Outil Recensement'!I173=\"Applicable\",\"Family\",\"\"))))))))","v":""},null,null,null,{"$f":"IF('Outil Recensement'!M173=\"Annuel\",\"Annually\",IF('Outil Recensement'!M173=\"Mensuel\",\"Monthly\",IF('Outil Recensement'!M173=\"Bihebdomadaire\",\"Biweekly\",IF('Outil Recensement'!M173=\"Hebdomadaire\",\"Weekly\",IF('Outil Recensement'!M173=\"Horaire\",\"Hourly\",IF('Outil Recensement'!M173=\"Semi-mensuel\",\"Semi-monthly\",IF('Outil Recensement'!M173=\"Applies\",\"Annual\",IF('Outil Recensement'!M173=\"Applicable\",\"Annual\",\"\"))))))))","v":""},null,null,null,{"$f":"IF('Outil Recensement'!I173=\"Waive\",\"Yes\",\"\")","v":""}]
[null,null,null,null,null,null,null,null,null,null,null,{"$f":"IF('Outil Recensement'!G174=\"Male\",\"Homme\",IF('Outil Recensement'!G174=\"Femme\",\"Female\",IF('Outil Recensement'!G174=\"H\",\"Male\",IF('Outil Recensement'!G174=\"F\",\"Female\",\"\"))))","v":""},null,{"$f":"IF('Outil Recensement'!I174=\"Individuelle\",\"Single\",IF('Outil Recensement'!I174=\"Familiale\",\"Family\",IF('Outil Recensement'!I174=\"Refus\",\"Family\",IF('Outil Recensement'!I174=\"Parent seul\",\"Family\",IF('Outil Recensement'!I174=\"Couple\",\"Family\",IF('Outil Recensement'!I174=\"In force\",\"Family\",IF('Outil Recensement'!I174=\"Applies\",\"Family\",IF('Outil Recensement'!I174=\"Applicable\",\"Family\",\"\"))))))))","v":""},null,null,null,{"$f":"IF('Outil Recensement'!M174=\"Annuel\",\"Annually\",IF('Outil Recensement'!M174=\"Mensuel\",\"Monthly\",IF('Outil Recensement'!M174=\"Bihebdomadaire\",\"Biweekly\",IF('Outil Recensement'!M174=\"Hebdomadaire\",\"Weekly\",IF('Outil Recensement'!M174=\"Horaire\",\"Hourly\",IF('Outil Recensement'!M174=\"Semi-mensuel\",\"Semi-monthly\",IF('Outil Recensement'!M174=\"Applies\",\"Annual\",IF('Outil Recensement'!M174=\"Applicable\",\"Annual\",\"\"))))))))","v":""},null,null,null,{"$f":"IF('Outil Recensement'!I174=\"Waive\",\"Yes\",\"\")","v":""}]
[null,null,null,null,null,null,null,null,null,null,null,{"$f":"IF('Outil Recensement'!G175=\"Male\",\"Homme\",IF('Outil Recensement'!G175=\"Femme\",\"Female\",IF('Outil Recensement'!G175=\"H\",\"Male\",IF('Outil Recensement'!G175=\"F\",\"Female\",\"\"))))","v":""},null,{"$f":"IF('Outil Recensement'!I175=\"Individuelle\",\"Single\",IF('Outil Recensement'!I175=\"Familiale\",\"Family\",IF('Outil Recensement'!I175=\"Refus\",\"Family\",IF('Outil Recensement'!I175=\"Parent seul\",\"Family\",IF('Outil Recensement'!I175=\"Couple\",\"Family\",IF('Outil Recensement'!I175=\"In force\",\"Family\",IF('Outil Recensement'!I175=\"Applies\",\"Family\",IF('Outil Recensement'!I175=\"Applicable\",\"Family\",\"\"))))))))","v":""},null,null,null,{"$f":"IF('Outil Recensement'!M175=\"Annuel\",\"Annually\",IF('Outil Recensement'!M175=\"Mensuel\",\"Monthly\",IF('Outil Recensement'!M175=\"Bihebdomadaire\",\"Biweekly\",IF('Outil Recensement'!M175=\"Hebdomadaire\",\"Weekly\",IF('Outil Recensement'!M175=\"Horaire\",\"Hourly\",IF('Outil Recensement'!M175=\"Semi-mensuel\",\"Semi-monthly\",IF('Outil Recensement'!M175=\"Applies\",\"Annual\",IF('Outil Recensement'!M175=\"Applicable\",\"Annual\",\"\"))))))))","v":""},null,null,null,{"$f":"IF('Outil Recensement'!I175=\"Waive\",\"Yes\",\"\")","v":""}]
[null,null,null,null,null,null,null,null,null,null,null,{"$f":"IF('Outil Recensement'!G176=\"Male\",\"Homme\",IF('Outil Recensement'!G176=\"Femme\",\"Female\",IF('Outil Recensement'!G176=\"H\",\"Male\",IF('Outil Recensement'!G176=\"F\",\"Female\",\"\"))))","v":""},null,{"$f":"IF('Outil Recensement'!I176=\"Individuelle\",\"Single\",IF('Outil Recensement'!I176=\"Familiale\",\"Family\",IF('Outil Recensement'!I176=\"Refus\",\"Family\",IF('Outil Recensement'!I176=\"Parent seul\",\"Family\",IF('Outil Recensement'!I176=\"Couple\",\"Family\",IF('Outil Recensement'!I176=\"In force\",\"Family\",IF('Outil Recensement'!I176=\"Applies\",\"Family\",IF('Outil Recensement'!I176=\"Applicable\",\"Family\",\"\"))))))))","v":""},null,null,null,{"$f":"IF('Outil Recensement'!M176=\"Annuel\",\"Annually\",IF('Outil Recensement'!M176=\"Mensuel\",\"Monthly\",IF('Outil Recensement'!M176=\"Bihebdomadaire\",\"Biweekly\",IF('Outil Recensement'!M176=\"Hebdomadaire\",\"Weekly\",IF('Outil Recensement'!M176=\"Horaire\",\"Hourly\",IF('Outil Recensement'!M176=\"Semi-mensuel\",\"Semi-monthly\",IF('Outil Recensement'!M176=\"Applies\",\"Annual\",IF('Outil Recensement'!M176=\"Applicable\",\"Annual\",\"\"))))))))","v":""},null,null,null,{"$f":"IF('Outil Recensement'!I176=\"Waive\",\"Yes\",\"\")","v":""}]
[null,null,null,null,null,null,null,null,null,null,null,{"$f":"IF('Outil Recensement'!G177=\"Male\",\"Homme\",IF('Outil Recensement'!G177=\"Femme\",\"Female\",IF('Outil Recensement'!G177=\"H\",\"Male\",IF('Outil Recensement'!G177=\"F\",\"Female\",\"\"))))","v":""},null,{"$f":"IF('Outil Recensement'!I177=\"Individuelle\",\"Single\",IF('Outil Recensement'!I177=\"Familiale\",\"Family\",IF('Outil Recensement'!I177=\"Refus\",\"Family\",IF('Outil Recensement'!I177=\"Parent seul\",\"Family\",IF('Outil Recensement'!I177=\"Couple\",\"Family\",IF('Outil Recensement'!I177=\"In force\",\"Family\",IF('Outil Recensement'!I177=\"Applies\",\"Family\",IF('Outil Recensement'!I177=\"Applicable\",\"Family\",\"\"))))))))","v":""},null,null,null,{"$f":"IF('Outil Recensement'!M177=\"Annuel\",\"Annually\",IF('Outil Recensement'!M177=\"Mensuel\",\"Monthly\",IF('Outil Recensement'!M177=\"Bihebdomadaire\",\"Biweekly\",IF('Outil Recensement'!M177=\"Hebdomadaire\",\"Weekly\",IF('Outil Recensement'!M177=\"Horaire\",\"Hourly\",IF('Outil Recensement'!M177=\"Semi-mensuel\",\"Semi-monthly\",IF('Outil Recensement'!M177=\"Applies\",\"Annual\",IF('Outil Recensement'!M177=\"Applicable\",\"Annual\",\"\"))))))))","v":""},null,null,null,{"$f":"IF('Outil Recensement'!I177=\"Waive\",\"Yes\",\"\")","v":""}]
[null,null,null,null,null,null,null,null,null,null,null,{"$f":"IF('Outil Recensement'!G178=\"Male\",\"Homme\",IF('Outil Recensement'!G178=\"Femme\",\"Female\",IF('Outil Recensement'!G178=\"H\",\"Male\",IF('Outil Recensement'!G178=\"F\",\"Female\",\"\"))))","v":""},null,{"$f":"IF('Outil Recensement'!I178=\"Individuelle\",\"Single\",IF('Outil Recensement'!I178=\"Familiale\",\"Family\",IF('Outil Recensement'!I178=\"Refus\",\"Family\",IF('Outil Recensement'!I178=\"Parent seul\",\"Family\",IF('Outil Recensement'!I178=\"Couple\",\"Family\",IF('Outil Recensement'!I178=\"In force\",\"Family\",IF('Outil Recensement'!I178=\"Applies\",\"Family\",IF('Outil Recensement'!I178=\"Applicable\",\"Family\",\"\"))))))))","v":""},null,null,null,{"$f":"IF('Outil Recensement'!M178=\"Annuel\",\"Annually\",IF('Outil Recensement'!M178=\"Mensuel\",\"Monthly\",IF('Outil Recensement'!M178=\"Bihebdomadaire\",\"Biweekly\",IF('Outil Recensement'!M178=\"Hebdomadaire\",\"Weekly\",IF('Outil Recensement'!M178=\"Horaire\",\"Hourly\",IF('Outil Recensement'!M178=\"Semi-mensuel\",\"Semi-monthly\",IF('Outil Recensement'!M178=\"Applies\",\"Annual\",IF('Outil Recensement'!M178=\"Applicable\",\"Annual\",\"\"))))))))","v":""},null,null,null,{"$f":"IF('Outil Recensement'!I178=\"Waive\",\"Yes\",\"\")","v":""}]
[null,null,null,null,null,null,null,null,null,null,null,{"$f":"IF('Outil Recensement'!G179=\"Male\",\"Homme\",IF('Outil Recensement'!G179=\"Femme\",\"Female\",IF('Outil Recensement'!G179=\"H\",\"Male\",IF('Outil Recensement'!G179=\"F\",\"Female\",\"\"))))","v":""},null,{"$f":"IF('Outil Recensement'!I179=\"Individuelle\",\"Single\",IF('Outil Recensement'!I179=\"Familiale\",\"Family\",IF('Outil Recensement'!I179=\"Refus\",\"Family\",IF('Outil Recensement'!I179=\"Parent seul\",\"Family\",IF('Outil Recensement'!I179=\"Couple\",\"Family\",IF('Outil Recensement'!I179=\"In force\",\"Family\",IF('Outil Recensement'!I179=\"Applies\",\"Family\",IF('Outil Recensement'!I179=\"Applicable\",\"Family\",\"\"))))))))","v":""},null,null,null,{"$f":"IF('Outil Recensement'!M179=\"Annuel\",\"Annually\",IF('Outil Recensement'!M179=\"Mensuel\",\"Monthly\",IF('Outil Recensement'!M179=\"Bihebdomadaire\",\"Biweekly\",IF('Outil Recensement'!M179=\"Hebdomadaire\",\"Weekly\",IF('Outil Recensement'!M179=\"Horaire\",\"Hourly\",IF('Outil Recensement'!M179=\"Semi-mensuel\",\"Semi-monthly\",IF('Outil Recensement'!M179=\"Applies\",\"Annual\",IF('Outil Recensement'!M179=\"Applicable\",\"Annual\",\"\"))))))))","v":""},null,null,null,{"$f":"IF('Outil Recensement'!I179=\"Waive\",\"Yes\",\"\")","v":""}]
[null,null,null,null,null,null,null,null,null,null,null,{"$f":"IF('Outil Recensement'!G180=\"Male\",\"Homme\",IF('Outil Recensement'!G180=\"Femme\",\"Female\",IF('Outil Recensement'!G180=\"H\",\"Male\",IF('Outil Recensement'!G180=\"F\",\"Female\",\"\"))))","v":""},null,{"$f":"IF('Outil Recensement'!I180=\"Individuelle\",\"Single\",IF('Outil Recensement'!I180=\"Familiale\",\"Family\",IF('Outil Recensement'!I180=\"Refus\",\"Family\",IF('Outil Recensement'!I180=\"Parent seul\",\"Family\",IF('Outil Recensement'!I180=\"Couple\",\"Family\",IF('Outil Recensement'!I180=\"In force\",\"Family\",IF('Outil Recensement'!I180=\"Applies\",\"Family\",IF('Outil Recensement'!I180=\"Applicable\",\"Family\",\"\"))))))))","v":""},null,null,null,{"$f":"IF('Outil Recensement'!M180=\"Annuel\",\"Annually\",IF('Outil Recensement'!M180=\"Mensuel\",\"Monthly\",IF('Outil Recensement'!M180=\"Bihebdomadaire\",\"Biweekly\",IF('Outil Recensement'!M180=\"Hebdomadaire\",\"Weekly\",IF('Outil Recensement'!M180=\"Horaire\",\"Hourly\",IF('Outil Recensement'!M180=\"Semi-mensuel\",\"Semi-monthly\",IF('Outil Recensement'!M180=\"Applies\",\"Annual\",IF('Outil Recensement'!M180=\"Applicable\",\"Annual\",\"\"))))))))","v":""},null,null,null,{"$f":"IF('Outil Recensement'!I180=\"Waive\",\"Yes\",\"\")","v":""}]
[null,null,null,null,null,null,null,null,null,null,null,{"$f":"IF('Outil Recensement'!G181=\"Male\",\"Homme\",IF('Outil Recensement'!G181=\"Femme\",\"Female\",IF('Outil Recensement'!G181=\"H\",\"Male\",IF('Outil Recensement'!G181=\"F\",\"Female\",\"\"))))","v":""},null,{"$f":"IF('Outil Recensement'!I181=\"Individuelle\",\"Single\",IF('Outil Recensement'!I181=\"Familiale\",\"Family\",IF('Outil Recensement'!I181=\"Refus\",\"Family\",IF('Outil Recensement'!I181=\"Parent seul\",\"Family\",IF('Outil Recensement'!I181=\"Couple\",\"Family\",IF('Outil Recensement'!I181=\"In force\",\"Family\",IF('Outil Recensement'!I181=\"Applies\",\"Family\",IF('Outil Recensement'!I181=\"Applicable\",\"Family\",\"\"))))))))","v":""},null,null,null,{"$f":"IF('Outil Recensement'!M181=\"Annuel\",\"Annually\",IF('Outil Recensement'!M181=\"Mensuel\",\"Monthly\",IF('Outil Recensement'!M181=\"Bihebdomadaire\",\"Biweekly\",IF('Outil Recensement'!M181=\"Hebdomadaire\",\"Weekly\",IF('Outil Recensement'!M181=\"Horaire\",\"Hourly\",IF('Outil Recensement'!M181=\"Semi-mensuel\",\"Semi-monthly\",IF('Outil Recensement'!M181=\"Applies\",\"Annual\",IF('Outil Recensement'!M181=\"Applicable\",\"Annual\",\"\"))))))))","v":""},null,null,null,{"$f":"IF('Outil Recensement'!I181=\"Waive\",\"Yes\",\"\")","v":""}]
[null,null,null,null,null,null,null,null,null,null,null,{"$f":"IF('Outil Recensement'!G182=\"Male\",\"Homme\",IF('Outil Recensement'!G182=\"Femme\",\"Female\",IF('Outil Recensement'!G182=\"H\",\"Male\",IF('Outil Recensement'!G182=\"F\",\"Female\",\"\"))))","v":""},null,{"$f":"IF('Outil Recensement'!I182=\"Individuelle\",\"Single\",IF('Outil Recensement'!I182=\"Familiale\",\"Family\",IF('Outil Recensement'!I182=\"Refus\",\"Family\",IF('Outil Recensement'!I182=\"Parent seul\",\"Family\",IF('Outil Recensement'!I182=\"Couple\",\"Family\",IF('Outil Recensement'!I182=\"In force\",\"Family\",IF('Outil Recensement'!I182=\"Applies\",\"Family\",IF('Outil Recensement'!I182=\"Applicable\",\"Family\",\"\"))))))))","v":""},null,null,null,{"$f":"IF('Outil Recensement'!M182=\"Annuel\",\"Annually\",IF('Outil Recensement'!M182=\"Mensuel\",\"Monthly\",IF('Outil Recensement'!M182=\"Bihebdomadaire\",\"Biweekly\",IF('Outil Recensement'!M182=\"Hebdomadaire\",\"Weekly\",IF('Outil Recensement'!M182=\"Horaire\",\"Hourly\",IF('Outil Recensement'!M182=\"Semi-mensuel\",\"Semi-monthly\",IF('Outil Recensement'!M182=\"Applies\",\"Annual\",IF('Outil Recensement'!M182=\"Applicable\",\"Annual\",\"\"))))))))","v":""},null,null,null,{"$f":"IF('Outil Recensement'!I182=\"Waive\",\"Yes\",\"\")","v":""}]
[null,null,null,null,null,null,null,null,null,null,null,{"$f":"IF('Outil Recensement'!G183=\"Male\",\"Homme\",IF('Outil Recensement'!G183=\"Femme\",\"Female\",IF('Outil Recensement'!G183=\"H\",\"Male\",IF('Outil Recensement'!G183=\"F\",\"Female\",\"\"))))","v":""},null,{"$f":"IF('Outil Recensement'!I183=\"Individuelle\",\"Single\",IF('Outil Recensement'!I183=\"Familiale\",\"Family\",IF('Outil Recensement'!I183=\"Refus\",\"Family\",IF('Outil Recensement'!I183=\"Parent seul\",\"Family\",IF('Outil Recensement'!I183=\"Couple\",\"Family\",IF('Outil Recensement'!I183=\"In force\",\"Family\",IF('Outil Recensement'!I183=\"Applies\",\"Family\",IF('Outil Recensement'!I183=\"Applicable\",\"Family\",\"\"))))))))","v":""},null,null,null,{"$f":"IF('Outil Recensement'!M183=\"Annuel\",\"Annually\",IF('Outil Recensement'!M183=\"Mensuel\",\"Monthly\",IF('Outil Recensement'!M183=\"Bihebdomadaire\",\"Biweekly\",IF('Outil Recensement'!M183=\"Hebdomadaire\",\"Weekly\",IF('Outil Recensement'!M183=\"Horaire\",\"Hourly\",IF('Outil Recensement'!M183=\"Semi-mensuel\",\"Semi-monthly\",IF('Outil Recensement'!M183=\"Applies\",\"Annual\",IF('Outil Recensement'!M183=\"Applicable\",\"Annual\",\"\"))))))))","v":""},null,null,null,{"$f":"IF('Outil Recensement'!I183=\"Waive\",\"Yes\",\"\")","v":""}]
[null,null,null,null,null,null,null,null,null,null,null,{"$f":"IF('Outil Recensement'!G184=\"Male\",\"Homme\",IF('Outil Recensement'!G184=\"Femme\",\"Female\",IF('Outil Recensement'!G184=\"H\",\"Male\",IF('Outil Recensement'!G184=\"F\",\"Female\",\"\"))))","v":""},null,{"$f":"IF('Outil Recensement'!I184=\"Individuelle\",\"Single\",IF('Outil Recensement'!I184=\"Familiale\",\"Family\",IF('Outil Recensement'!I184=\"Refus\",\"Family\",IF('Outil Recensement'!I184=\"Parent seul\",\"Family\",IF('Outil Recensement'!I184=\"Couple\",\"Family\",IF('Outil Recensement'!I184=\"In force\",\"Family\",IF('Outil Recensement'!I184=\"Applies\",\"Family\",IF('Outil Recensement'!I184=\"Applicable\",\"Family\",\"\"))))))))","v":""},null,null,null,{"$f":"IF('Outil Recensement'!M184=\"Annuel\",\"Annually\",IF('Outil Recensement'!M184=\"Mensuel\",\"Monthly\",IF('Outil Recensement'!M184=\"Bihebdomadaire\",\"Biweekly\",IF('Outil Recensement'!M184=\"Hebdomadaire\",\"Weekly\",IF('Outil Recensement'!M184=\"Horaire\",\"Hourly\",IF('Outil Recensement'!M184=\"Semi-mensuel\",\"Semi-monthly\",IF('Outil Recensement'!M184=\"Applies\",\"Annual\",IF('Outil Recensement'!M184=\"Applicable\",\"Annual\",\"\"))))))))","v":""},null,null,null,{"$f":"IF('Outil Recensement'!I184=\"Waive\",\"Yes\",\"\")","v":""}]
[null,null,null,null,null,null,null,null,null,null,null,{"$f":"IF('Outil Recensement'!G185=\"Male\",\"Homme\",IF('Outil Recensement'!G185=\"Femme\",\"Female\",IF('Outil Recensement'!G185=\"H\",\"Male\",IF('Outil Recensement'!G185=\"F\",\"Female\",\"\"))))","v":""},null,{"$f":"IF('Outil Recensement'!I185=\"Individuelle\",\"Single\",IF('Outil Recensement'!I185=\"Familiale\",\"Family\",IF('Outil Recensement'!I185=\"Refus\",\"Family\",IF('Outil Recensement'!I185=\"Parent seul\",\"Family\",IF('Outil Recensement'!I185=\"Couple\",\"Family\",IF('Outil Recensement'!I185=\"In force\",\"Family\",IF('Outil Recensement'!I185=\"Applies\",\"Family\",IF('Outil Recensement'!I185=\"Applicable\",\"Family\",\"\"))))))))","v":""},null,null,null,{"$f":"IF('Outil Recensement'!M185=\"Annuel\",\"Annually\",IF('Outil Recensement'!M185=\"Mensuel\",\"Monthly\",IF('Outil Recensement'!M185=\"Bihebdomadaire\",\"Biweekly\",IF('Outil Recensement'!M185=\"Hebdomadaire\",\"Weekly\",IF('Outil Recensement'!M185=\"Horaire\",\"Hourly\",IF('Outil Recensement'!M185=\"Semi-mensuel\",\"Semi-monthly\",IF('Outil Recensement'!M185=\"Applies\",\"Annual\",IF('Outil Recensement'!M185=\"Applicable\",\"Annual\",\"\"))))))))","v":""},null,null,null,{"$f":"IF('Outil Recensement'!I185=\"Waive\",\"Yes\",\"\")","v":""}]
[null,null,null,null,null,null,null,null,null,null,null,{"$f":"IF('Outil Recensement'!G186=\"Male\",\"Homme\",IF('Outil Recensement'!G186=\"Femme\",\"Female\",IF('Outil Recensement'!G186=\"H\",\"Male\",IF('Outil Recensement'!G186=\"F\",\"Female\",\"\"))))","v":""},null,{"$f":"IF('Outil Recensement'!I186=\"Individuelle\",\"Single\",IF('Outil Recensement'!I186=\"Familiale\",\"Family\",IF('Outil Recensement'!I186=\"Refus\",\"Family\",IF('Outil Recensement'!I186=\"Parent seul\",\"Family\",IF('Outil Recensement'!I186=\"Couple\",\"Family\",IF('Outil Recensement'!I186=\"In force\",\"Family\",IF('Outil Recensement'!I186=\"Applies\",\"Family\",IF('Outil Recensement'!I186=\"Applicable\",\"Family\",\"\"))))))))","v":""},null,null,null,{"$f":"IF('Outil Recensement'!M186=\"Annuel\",\"Annually\",IF('Outil Recensement'!M186=\"Mensuel\",\"Monthly\",IF('Outil Recensement'!M186=\"Bihebdomadaire\",\"Biweekly\",IF('Outil Recensement'!M186=\"Hebdomadaire\",\"Weekly\",IF('Outil Recensement'!M186=\"Horaire\",\"Hourly\",IF('Outil Recensement'!M186=\"Semi-mensuel\",\"Semi-monthly\",IF('Outil Recensement'!M186=\"Applies\",\"Annual\",IF('Outil Recensement'!M186=\"Applicable\",\"Annual\",\"\"))))))))","v":""},null,null,null,{"$f":"IF('Outil Recensement'!I186=\"Waive\",\"Yes\",\"\")","v":""}]
[null,null,null,null,null,null,null,null,null,null,null,{"$f":"IF('Outil Recensement'!G187=\"Male\",\"Homme\",IF('Outil Recensement'!G187=\"Femme\",\"Female\",IF('Outil Recensement'!G187=\"H\",\"Male\",IF('Outil Recensement'!G187=\"F\",\"Female\",\"\"))))","v":""},null,{"$f":"IF('Outil Recensement'!I187=\"Individuelle\",\"Single\",IF('Outil Recensement'!I187=\"Familiale\",\"Family\",IF('Outil Recensement'!I187=\"Refus\",\"Family\",IF('Outil Recensement'!I187=\"Parent seul\",\"Family\",IF('Outil Recensement'!I187=\"Couple\",\"Family\",IF('Outil Recensement'!I187=\"In force\",\"Family\",IF('Outil Recensement'!I187=\"Applies\",\"Family\",IF('Outil Recensement'!I187=\"Applicable\",\"Family\",\"\"))))))))","v":""},null,null,null,{"$f":"IF('Outil Recensement'!M187=\"Annuel\",\"Annually\",IF('Outil Recensement'!M187=\"Mensuel\",\"Monthly\",IF('Outil Recensement'!M187=\"Bihebdomadaire\",\"Biweekly\",IF('Outil Recensement'!M187=\"Hebdomadaire\",\"Weekly\",IF('Outil Recensement'!M187=\"Horaire\",\"Hourly\",IF('Outil Recensement'!M187=\"Semi-mensuel\",\"Semi-monthly\",IF('Outil Recensement'!M187=\"Applies\",\"Annual\",IF('Outil Recensement'!M187=\"Applicable\",\"Annual\",\"\"))))))))","v":""},null,null,null,{"$f":"IF('Outil Recensement'!I187=\"Waive\",\"Yes\",\"\")","v":""}]
[null,null,null,null,null,null,null,null,null,null,null,{"$f":"IF('Outil Recensement'!G188=\"Male\",\"Homme\",IF('Outil Recensement'!G188=\"Femme\",\"Female\",IF('Outil Recensement'!G188=\"H\",\"Male\",IF('Outil Recensement'!G188=\"F\",\"Female\",\"\"))))","v":""},null,{"$f":"IF('Outil Recensement'!I188=\"Individuelle\",\"Single\",IF('Outil Recensement'!I188=\"Familiale\",\"Family\",IF('Outil Recensement'!I188=\"Refus\",\"Family\",IF('Outil Recensement'!I188=\"Parent seul\",\"Family\",IF('Outil Recensement'!I188=\"Couple\",\"Family\",IF('Outil Recensement'!I188=\"In force\",\"Family\",IF('Outil Recensement'!I188=\"Applies\",\"Family\",IF('Outil Recensement'!I188=\"Applicable\",\"Family\",\"\"))))))))","v":""},null,null,null,null,null,null,null,{"$f":"IF('Outil Recensement'!I188=\"Waive\",\"Yes\",\"\")","v":""}]
[null,null,null,null,null,null,null,null,null,null,null,{"$f":"IF('Outil Recensement'!G189=\"Male\",\"Homme\",IF('Outil Recensement'!G189=\"Femme\",\"Female\",IF('Outil Recensement'!G189=\"H\",\"Male\",IF('Outil Recensement'!G189=\"F\",\"Female\",\"\"))))","v":""},null,{"$f":"IF('Outil Recensement'!I189=\"Individuelle\",\"Single\",IF('Outil Recensement'!I189=\"Familiale\",\"Family\",IF('Outil Recensement'!I189=\"Refus\",\"Family\",IF('Outil Recensement'!I189=\"Parent seul\",\"Family\",IF('Outil Recensement'!I189=\"Couple\",\"Family\",IF('Outil Recensement'!I189=\"In force\",\"Family\",IF('Outil Recensement'!I189=\"Applies\",\"Family\",IF('Outil Recensement'!I189=\"Applicable\",\"Family\",\"\"))))))))","v":""},null,null,null,null,null,null,null,{"$f":"IF('Outil Recensement'!I189=\"Waive\",\"Yes\",\"\")","v":""}]
[null,null,null,null,null,null,null,null,null,null,null,{"$f":"IF('Outil Recensement'!G190=\"Male\",\"Homme\",IF('Outil Recensement'!G190=\"Femme\",\"Female\",IF('Outil Recensement'!G190=\"H\",\"Male\",IF('Outil Recensement'!G190=\"F\",\"Female\",\"\"))))","v":""},null,{"$f":"IF('Outil Recensement'!I190=\"Individuelle\",\"Single\",IF('Outil Recensement'!I190=\"Familiale\",\"Family\",IF('Outil Recensement'!I190=\"Refus\",\"Family\",IF('Outil Recensement'!I190=\"Parent seul\",\"Family\",IF('Outil Recensement'!I190=\"Couple\",\"Family\",IF('Outil Recensement'!I190=\"In force\",\"Family\",IF('Outil Recensement'!I190=\"Applies\",\"Family\",IF('Outil Recensement'!I190=\"Applicable\",\"Family\",\"\"))))))))","v":""},null,null,null,null,null,null,null,{"$f":"IF('Outil Recensement'!I190=\"Waive\",\"Yes\",\"\")","v":""}]
[null,null,null,null,null,null,null,null,null,null,null,{"$f":"IF('Outil Recensement'!G191=\"Male\",\"Homme\",IF('Outil Recensement'!G191=\"Femme\",\"Female\",IF('Outil Recensement'!G191=\"H\",\"Male\",IF('Outil Recensement'!G191=\"F\",\"Female\",\"\"))))","v":""},null,{"$f":"IF('Outil Recensement'!I191=\"Individuelle\",\"Single\",IF('Outil Recensement'!I191=\"Familiale\",\"Family\",IF('Outil Recensement'!I191=\"Refus\",\"Family\",IF('Outil Recensement'!I191=\"Parent seul\",\"Family\",IF('Outil Recensement'!I191=\"Couple\",\"Family\",IF('Outil Recensement'!I191=\"In force\",\"Family\",IF('Outil Recensement'!I191=\"Applies\",\"Family\",IF('Outil Recensement'!I191=\"Applicable\",\"Family\",\"\"))))))))","v":""},null,null,null,null,null,null,null,{"$f":"IF('Outil Recensement'!I191=\"Waive\",\"Yes\",\"\")","v":""}]
[null,null,null,null,null,null,null,null,null,null,null,{"$f":"IF('Outil Recensement'!G192=\"Male\",\"Homme\",IF('Outil Recensement'!G192=\"Femme\",\"Female\",IF('Outil Recensement'!G192=\"H\",\"Male\",IF('Outil Recensement'!G192=\"F\",\"Female\",\"\"))))","v":""},null,{"$f":"IF('Outil Recensement'!I192=\"Individuelle\",\"Single\",IF('Outil Recensement'!I192=\"Familiale\",\"Family\",IF('Outil Recensement'!I192=\"Refus\",\"Family\",IF('Outil Recensement'!I192=\"Parent seul\",\"Family\",IF('Outil Recensement'!I192=\"Couple\",\"Family\",IF('Outil Recensement'!I192=\"In force\",\"Family\",IF('Outil Recensement'!I192=\"Applies\",\"Family\",IF('Outil Recensement'!I192=\"Applicable\",\"Family\",\"\"))))))))","v":""},null,null,null,null,null,null,null,{"$f":"IF('Outil Recensement'!I192=\"Waive\",\"Yes\",\"\")","v":""}]
[null,null,null,null,null,null,null,null,null,null,null,{"$f":"IF('Outil Recensement'!G193=\"Male\",\"Homme\",IF('Outil Recensement'!G193=\"Femme\",\"Female\",IF('Outil Recensement'!G193=\"H\",\"Male\",IF('Outil Recensement'!G193=\"F\",\"Female\",\"\"))))","v":""},null,{"$f":"IF('Outil Recensement'!I193=\"Individuelle\",\"Single\",IF('Outil Recensement'!I193=\"Familiale\",\"Family\",IF('Outil Recensement'!I193=\"Refus\",\"Family\",IF('Outil Recensement'!I193=\"Parent seul\",\"Family\",IF('Outil Recensement'!I193=\"Couple\",\"Family\",IF('Outil Recensement'!I193=\"In force\",\"Family\",IF('Outil Recensement'!I193=\"Applies\",\"Family\",IF('Outil Recensement'!I193=\"Applicable\",\"Family\",\"\"))))))))","v":""},null,null,null,null,null,null,null,{"$f":"IF('Outil Recensement'!I193=\"Waive\",\"Yes\",\"\")","v":""}]
[null,null,null,null,null,null,null,null,null,null,null,{"$f":"IF('Outil Recensement'!G194=\"Male\",\"Homme\",IF('Outil Recensement'!G194=\"Femme\",\"Female\",IF('Outil Recensement'!G194=\"H\",\"Male\",IF('Outil Recensement'!G194=\"F\",\"Female\",\"\"))))","v":""},null,{"$f":"IF('Outil Recensement'!I194=\"Individuelle\",\"Single\",IF('Outil Recensement'!I194=\"Familiale\",\"Family\",IF('Outil Recensement'!I194=\"Refus\",\"Family\",IF('Outil Recensement'!I194=\"Parent seul\",\"Family\",IF('Outil Recensement'!I194=\"Couple\",\"Family\",IF('Outil Recensement'!I194=\"In force\",\"Family\",IF('Outil Recensement'!I194=\"Applies\",\"Family\",IF('Outil Recensement'!I194=\"Applicable\",\"Family\",\"\"))))))))","v":""},null,null,null,null,null,null,null,{"$f":"IF('Outil Recensement'!I194=\"Waive\",\"Yes\",\"\")","v":""}]
[null,null,null,null,null,null,null,null,null,null,null,{"$f":"IF('Outil Recensement'!G195=\"Male\",\"Homme\",IF('Outil Recensement'!G195=\"Femme\",\"Female\",IF('Outil Recensement'!G195=\"H\",\"Male\",IF('Outil Recensement'!G195=\"F\",\"Female\",\"\"))))","v":""},null,{"$f":"IF('Outil Recensement'!I195=\"Individuelle\",\"Single\",IF('Outil Recensement'!I195=\"Familiale\",\"Family\",IF('Outil Recensement'!I195=\"Refus\",\"Family\",IF('Outil Recensement'!I195=\"Parent seul\",\"Family\",IF('Outil Recensement'!I195=\"Couple\",\"Family\",IF('Outil Recensement'!I195=\"In force\",\"Family\",IF('Outil Recensement'!I195=\"Applies\",\"Family\",IF('Outil Recensement'!I195=\"Applicable\",\"Family\",\"\"))))))))","v":""},null,null,null,null,null,null,null,{"$f":"IF('Outil Recensement'!I195=\"Waive\",\"Yes\",\"\")","v":""}]
[null,null,null,null,null,null,null,null,null,null,null,{"$f":"IF('Outil Recensement'!G196=\"Male\",\"Homme\",IF('Outil Recensement'!G196=\"Femme\",\"Female\",IF('Outil Recensement'!G196=\"H\",\"Male\",IF('Outil Recensement'!G196=\"F\",\"Female\",\"\"))))","v":""},null,{"$f":"IF('Outil Recensement'!I196=\"Individuelle\",\"Single\",IF('Outil Recensement'!I196=\"Familiale\",\"Family\",IF('Outil Recensement'!I196=\"Refus\",\"Family\",IF('Outil Recensement'!I196=\"Parent seul\",\"Family\",IF('Outil Recensement'!I196=\"Couple\",\"Family\",IF('Outil Recensement'!I196=\"In force\",\"Family\",IF('Outil Recensement'!I196=\"Applies\",\"Family\",IF('Outil Recensement'!I196=\"Applicable\",\"Family\",\"\"))))))))","v":""},null,null,null,null,null,null,null,{"$f":"IF('Outil Recensement'!I196=\"Waive\",\"Yes\",\"\")","v":""}]
[null,null,null,null,null,null,null,null,null,null,null,{"$f":"IF('Outil Recensement'!G197=\"Male\",\"Homme\",IF('Outil Recensement'!G197=\"Femme\",\"Female\",IF('Outil Recensement'!G197=\"H\",\"Male\",IF('Outil Recensement'!G197=\"F\",\"Female\",\"\"))))","v":""},null,{"$f":"IF('Outil Recensement'!I197=\"Individuelle\",\"Single\",IF('Outil Recensement'!I197=\"Familiale\",\"Family\",IF('Outil Recensement'!I197=\"Refus\",\"Family\",IF('Outil Recensement'!I197=\"Parent seul\",\"Family\",IF('Outil Recensement'!I197=\"Couple\",\"Family\",IF('Outil Recensement'!I197=\"In force\",\"Family\",IF('Outil Recensement'!I197=\"Applies\",\"Family\",IF('Outil Recensement'!I197=\"Applicable\",\"Family\",\"\"))))))))","v":""},null,null,null,null,null,null,null,{"$f":"IF('Outil Recensement'!I197=\"Waive\",\"Yes\",\"\")","v":""}]
[null,null,null,null,null,null,null,null,null,null,null,{"$f":"IF('Outil Recensement'!G198=\"Male\",\"Homme\",IF('Outil Recensement'!G198=\"Femme\",\"Female\",IF('Outil Recensement'!G198=\"H\",\"Male\",IF('Outil Recensement'!G198=\"F\",\"Female\",\"\"))))","v":""},null,{"$f":"IF('Outil Recensement'!I198=\"Individuelle\",\"Single\",IF('Outil Recensement'!I198=\"Familiale\",\"Family\",IF('Outil Recensement'!I198=\"Refus\",\"Family\",IF('Outil Recensement'!I198=\"Parent seul\",\"Family\",IF('Outil Recensement'!I198=\"Couple\",\"Family\",IF('Outil Recensement'!I198=\"In force\",\"Family\",IF('Outil Recensement'!I198=\"Applies\",\"Family\",IF('Outil Recensement'!I198=\"Applicable\",\"Family\",\"\"))))))))","v":""},null,null,null,null,null,null,null,{"$f":"IF('Outil Recensement'!I198=\"Waive\",\"Yes\",\"\")","v":""}]
[null,null,null,null,null,null,null,null,null,null,null,{"$f":"IF('Outil Recensement'!G199=\"Male\",\"Homme\",IF('Outil Recensement'!G199=\"Femme\",\"Female\",IF('Outil Recensement'!G199=\"H\",\"Male\",IF('Outil Recensement'!G199=\"F\",\"Female\",\"\"))))","v":""},null,{"$f":"IF('Outil Recensement'!I199=\"Individuelle\",\"Single\",IF('Outil Recensement'!I199=\"Familiale\",\"Family\",IF('Outil Recensement'!I199=\"Refus\",\"Family\",IF('Outil Recensement'!I199=\"Parent seul\",\"Family\",IF('Outil Recensement'!I199=\"Couple\",\"Family\",IF('Outil Recensement'!I199=\"In force\",\"Family\",IF('Outil Recensement'!I199=\"Applies\",\"Family\",IF('Outil Recensement'!I199=\"Applicable\",\"Family\",\"\"))))))))","v":""},null,null,null,null,null,null,null,{"$f":"IF('Outil Recensement'!I199=\"Waive\",\"Yes\",\"\")","v":""}]
[null,null,null,null,null,null,null,null,null,null,null,{"$f":"IF('Outil Recensement'!G200=\"Male\",\"Homme\",IF('Outil Recensement'!G200=\"Femme\",\"Female\",IF('Outil Recensement'!G200=\"H\",\"Male\",IF('Outil Recensement'!G200=\"F\",\"Female\",\"\"))))","v":""},null,{"$f":"IF('Outil Recensement'!I200=\"Individuelle\",\"Single\",IF('Outil Recensement'!I200=\"Familiale\",\"Family\",IF('Outil Recensement'!I200=\"Refus\",\"Family\",IF('Outil Recensement'!I200=\"Parent seul\",\"Family\",IF('Outil Recensement'!I200=\"Couple\",\"Family\",IF('Outil Recensement'!I200=\"In force\",\"Family\",IF('Outil Recensement'!I200=\"Applies\",\"Family\",IF('Outil Recensement'!I200=\"Applicable\",\"Family\",\"\"))))))))","v":""},null,null,null,null,null,null,null,{"$f":"IF('Outil Recensement'!I200=\"Waive\",\"Yes\",\"\")","v":""}]
[null,null,null,null,null,null,null,null,null,null,null,{"$f":"IF('Outil Recensement'!G201=\"Male\",\"Homme\",IF('Outil Recensement'!G201=\"Femme\",\"Female\",IF('Outil Recensement'!G201=\"H\",\"Male\",IF('Outil Recensement'!G201=\"F\",\"Female\",\"\"))))","v":""},null,{"$f":"IF('Outil Recensement'!I201=\"Individuelle\",\"Single\",IF('Outil Recensement'!I201=\"Familiale\",\"Family\",IF('Outil Recensement'!I201=\"Refus\",\"Family\",IF('Outil Recensement'!I201=\"Parent seul\",\"Family\",IF('Outil Recensement'!I201=\"Couple\",\"Family\",IF('Outil Recensement'!I201=\"In force\",\"Family\",IF('Outil Recensement'!I201=\"Applies\",\"Family\",IF('Outil Recensement'!I201=\"Applicable\",\"Family\",\"\"))))))))","v":""},null,null,null,null,null,null,null,{"$f":"IF('Outil Recensement'!I201=\"Waive\",\"Yes\",\"\")","v":""}]
[null,null,null,null,null,null,null,null,null,null,null,{"$f":"IF('Outil Recensement'!G202=\"Male\",\"Homme\",IF('Outil Recensement'!G202=\"Femme\",\"Female\",IF('Outil Recensement'!G202=\"H\",\"Male\",IF('Outil Recensement'!G202=\"F\",\"Female\",\"\"))))","v":""},null,{"$f":"IF('Outil Recensement'!I202=\"Individuelle\",\"Single\",IF('Outil Recensement'!I202=\"Familiale\",\"Family\",IF('Outil Recensement'!I202=\"Refus\",\"Family\",IF('Outil Recensement'!I202=\"Parent seul\",\"Family\",IF('Outil Recensement'!I202=\"Couple\",\"Family\",IF('Outil Recensement'!I202=\"In force\",\"Family\",IF('Outil Recensement'!I202=\"Applies\",\"Family\",IF('Outil Recensement'!I202=\"Applicable\",\"Family\",\"\"))))))))","v":""},null,null,null,null,null,null,null,{"$f":"IF('Outil Recensement'!I202=\"Waive\",\"Yes\",\"\")","v":""}]
[null,null,null,null,null,null,null,null,null,null,null,{"$f":"IF('Outil Recensement'!G203=\"Male\",\"Homme\",IF('Outil Recensement'!G203=\"Femme\",\"Female\",IF('Outil Recensement'!G203=\"H\",\"Male\",IF('Outil Recensement'!G203=\"F\",\"Female\",\"\"))))","v":""},null,{"$f":"IF('Outil Recensement'!I203=\"Individuelle\",\"Single\",IF('Outil Recensement'!I203=\"Familiale\",\"Family\",IF('Outil Recensement'!I203=\"Refus\",\"Family\",IF('Outil Recensement'!I203=\"Parent seul\",\"Family\",IF('Outil Recensement'!I203=\"Couple\",\"Family\",IF('Outil Recensement'!I203=\"In force\",\"Family\",IF('Outil Recensement'!I203=\"Applies\",\"Family\",IF('Outil Recensement'!I203=\"Applicable\",\"Family\",\"\"))))))))","v":""},null,null,null,null,null,null,null,{"$f":"IF('Outil Recensement'!I203=\"Waive\",\"Yes\",\"\")","v":""}]
[null,null,null,null,null,null,null,null,null,null,null,{"$f":"IF('Outil Recensement'!G204=\"Male\",\"Homme\",IF('Outil Recensement'!G204=\"Femme\",\"Female\",IF('Outil Recensement'!G204=\"H\",\"Male\",IF('Outil Recensement'!G204=\"F\",\"Female\",\"\"))))","v":""},null,{"$f":"IF('Outil Recensement'!I204=\"Individuelle\",\"Single\",IF('Outil Recensement'!I204=\"Familiale\",\"Family\",IF('Outil Recensement'!I204=\"Refus\",\"Family\",IF('Outil Recensement'!I204=\"Parent seul\",\"Family\",IF('Outil Recensement'!I204=\"Couple\",\"Family\",IF('Outil Recensement'!I204=\"In force\",\"Family\",IF('Outil Recensement'!I204=\"Applies\",\"Family\",IF('Outil Recensement'!I204=\"Applicable\",\"Family\",\"\"))))))))","v":""},null,null,null,null,null,null,null,{"$f":"IF('Outil Recensement'!I204=\"Waive\",\"Yes\",\"\")","v":""}]
[null,null,null,null,null,null,null,null,null,null,null,{"$f":"IF('Outil Recensement'!G205=\"Male\",\"Homme\",IF('Outil Recensement'!G205=\"Femme\",\"Female\",IF('Outil Recensement'!G205=\"H\",\"Male\",IF('Outil Recensement'!G205=\"F\",\"Female\",\"\"))))","v":""},null,{"$f":"IF('Outil Recensement'!I205=\"Individuelle\",\"Single\",IF('Outil Recensement'!I205=\"Familiale\",\"Family\",IF('Outil Recensement'!I205=\"Refus\",\"Family\",IF('Outil Recensement'!I205=\"Parent seul\",\"Family\",IF('Outil Recensement'!I205=\"Couple\",\"Family\",IF('Outil Recensement'!I205=\"In force\",\"Family\",IF('Outil Recensement'!I205=\"Applies\",\"Family\",IF('Outil Recensement'!I205=\"Applicable\",\"Family\",\"\"))))))))","v":""},null,null,null,null,null,null,null,{"$f":"IF('Outil Recensement'!I205=\"Waive\",\"Yes\",\"\")","v":""}]
[null,null,null,null,null,null,null,null,null,null,null,{"$f":"IF('Outil Recensement'!G206=\"Male\",\"Homme\",IF('Outil Recensement'!G206=\"Femme\",\"Female\",IF('Outil Recensement'!G206=\"H\",\"Male\",IF('Outil Recensement'!G206=\"F\",\"Female\",\"\"))))","v":""},null,{"$f":"IF('Outil Recensement'!I206=\"Individuelle\",\"Single\",IF('Outil Recensement'!I206=\"Familiale\",\"Family\",IF('Outil Recensement'!I206=\"Refus\",\"Family\",IF('Outil Recensement'!I206=\"Parent seul\",\"Family\",IF('Outil Recensement'!I206=\"Couple\",\"Family\",IF('Outil Recensement'!I206=\"In force\",\"Family\",IF('Outil Recensement'!I206=\"Applies\",\"Family\",IF('Outil Recensement'!I206=\"Applicable\",\"Family\",\"\"))))))))","v":""},null,null,null,null,null,null,null,{"$f":"IF('Outil Recensement'!I206=\"Waive\",\"Yes\",\"\")","v":""}]
[null,null,null,null,null,null,null,null,null,null,null,{"$f":"IF('Outil Recensement'!G207=\"Male\",\"Homme\",IF('Outil Recensement'!G207=\"Femme\",\"Female\",IF('Outil Recensement'!G207=\"H\",\"Male\",IF('Outil Recensement'!G207=\"F\",\"Female\",\"\"))))","v":""},null,{"$f":"IF('Outil Recensement'!I207=\"Individuelle\",\"Single\",IF('Outil Recensement'!I207=\"Familiale\",\"Family\",IF('Outil Recensement'!I207=\"Refus\",\"Family\",IF('Outil Recensement'!I207=\"Parent seul\",\"Family\",IF('Outil Recensement'!I207=\"Couple\",\"Family\",IF('Outil Recensement'!I207=\"In force\",\"Family\",IF('Outil Recensement'!I207=\"Applies\",\"Family\",IF('Outil Recensement'!I207=\"Applicable\",\"Family\",\"\"))))))))","v":""},null,null,null,null,null,null,null,{"$f":"IF('Outil Recensement'!I207=\"Waive\",\"Yes\",\"\")","v":""}]
[null,null,null,null,null,null,null,null,null,null,null,{"$f":"IF('Outil Recensement'!G208=\"Male\",\"Homme\",IF('Outil Recensement'!G208=\"Femme\",\"Female\",IF('Outil Recensement'!G208=\"H\",\"Male\",IF('Outil Recensement'!G208=\"F\",\"Female\",\"\"))))","v":""},null,{"$f":"IF('Outil Recensement'!I208=\"Individuelle\",\"Single\",IF('Outil Recensement'!I208=\"Familiale\",\"Family\",IF('Outil Recensement'!I208=\"Refus\",\"Family\",IF('Outil Recensement'!I208=\"Parent seul\",\"Family\",IF('Outil Recensement'!I208=\"Couple\",\"Family\",IF('Outil Recensement'!I208=\"In force\",\"Family\",IF('Outil Recensement'!I208=\"Applies\",\"Family\",IF('Outil Recensement'!I208=\"Applicable\",\"Family\",\"\"))))))))","v":""},null,null,null,null,null,null,null,{"$f":"IF('Outil Recensement'!I208=\"Waive\",\"Yes\",\"\")","v":""}]
[null,null,null,null,null,null,null,null,null,null,null,{"$f":"IF('Outil Recensement'!G209=\"Male\",\"Homme\",IF('Outil Recensement'!G209=\"Femme\",\"Female\",IF('Outil Recensement'!G209=\"H\",\"Male\",IF('Outil Recensement'!G209=\"F\",\"Female\",\"\"))))","v":""},null,{"$f":"IF('Outil Recensement'!I209=\"Individuelle\",\"Single\",IF('Outil Recensement'!I209=\"Familiale\",\"Family\",IF('Outil Recensement'!I209=\"Refus\",\"Family\",IF('Outil Recensement'!I209=\"Parent seul\",\"Family\",IF('Outil Recensement'!I209=\"Couple\",\"Family\",IF('Outil Recensement'!I209=\"In force\",\"Family\",IF('Outil Recensement'!I209=\"Applies\",\"Family\",IF('Outil Recensement'!I209=\"Applicable\",\"Family\",\"\"))))))))","v":""},null,null,null,null,null,null,null,{"$f":"IF('Outil Recensement'!I209=\"Waive\",\"Yes\",\"\")","v":""}]
[null,null,null,null,null,null,null,null,null,null,null,{"$f":"IF('Outil Recensement'!G210=\"Male\",\"Homme\",IF('Outil Recensement'!G210=\"Femme\",\"Female\",IF('Outil Recensement'!G210=\"H\",\"Male\",IF('Outil Recensement'!G210=\"F\",\"Female\",\"\"))))","v":""},null,{"$f":"IF('Outil Recensement'!I210=\"Individuelle\",\"Single\",IF('Outil Recensement'!I210=\"Familiale\",\"Family\",IF('Outil Recensement'!I210=\"Refus\",\"Family\",IF('Outil Recensement'!I210=\"Parent seul\",\"Family\",IF('Outil Recensement'!I210=\"Couple\",\"Family\",IF('Outil Recensement'!I210=\"In force\",\"Family\",IF('Outil Recensement'!I210=\"Applies\",\"Family\",IF('Outil Recensement'!I210=\"Applicable\",\"Family\",\"\"))))))))","v":""},null,null,null,null,null,null,null,{"$f":"IF('Outil Recensement'!I210=\"Waive\",\"Yes\",\"\")","v":""}]
[null,null,null,null,null,null,null,null,null,null,null,{"$f":"IF('Outil Recensement'!G211=\"Male\",\"Homme\",IF('Outil Recensement'!G211=\"Femme\",\"Female\",IF('Outil Recensement'!G211=\"H\",\"Male\",IF('Outil Recensement'!G211=\"F\",\"Female\",\"\"))))","v":""},null,{"$f":"IF('Outil Recensement'!I211=\"Individuelle\",\"Single\",IF('Outil Recensement'!I211=\"Familiale\",\"Family\",IF('Outil Recensement'!I211=\"Refus\",\"Family\",IF('Outil Recensement'!I211=\"Parent seul\",\"Family\",IF('Outil Recensement'!I211=\"Couple\",\"Family\",IF('Outil Recensement'!I211=\"In force\",\"Family\",IF('Outil Recensement'!I211=\"Applies\",\"Family\",IF('Outil Recensement'!I211=\"Applicable\",\"Family\",\"\"))))))))","v":""},null,null,null,null,null,null,null,{"$f":"IF('Outil Recensement'!I211=\"Waive\",\"Yes\",\"\")","v":""}]
[null,null,null,null,null,null,null,null,null,null,null,{"$f":"IF('Outil Recensement'!G212=\"Male\",\"Homme\",IF('Outil Recensement'!G212=\"Femme\",\"Female\",IF('Outil Recensement'!G212=\"H\",\"Male\",IF('Outil Recensement'!G212=\"F\",\"Female\",\"\"))))","v":""},null,{"$f":"IF('Outil Recensement'!I212=\"Individuelle\",\"Single\",IF('Outil Recensement'!I212=\"Familiale\",\"Family\",IF('Outil Recensement'!I212=\"Refus\",\"Family\",IF('Outil Recensement'!I212=\"Parent seul\",\"Family\",IF('Outil Recensement'!I212=\"Couple\",\"Family\",IF('Outil Recensement'!I212=\"In force\",\"Family\",IF('Outil Recensement'!I212=\"Applies\",\"Family\",IF('Outil Recensement'!I212=\"Applicable\",\"Family\",\"\"))))))))","v":""},null,null,null,null,null,null,null,{"$f":"IF('Outil Recensement'!I212=\"Waive\",\"Yes\",\"\")","v":""}]
[null,null,null,null,null,null,null,null,null,null,null,{"$f":"IF('Outil Recensement'!G213=\"Male\",\"Homme\",IF('Outil Recensement'!G213=\"Femme\",\"Female\",IF('Outil Recensement'!G213=\"H\",\"Male\",IF('Outil Recensement'!G213=\"F\",\"Female\",\"\"))))","v":""},null,{"$f":"IF('Outil Recensement'!I213=\"Individuelle\",\"Single\",IF('Outil Recensement'!I213=\"Familiale\",\"Family\",IF('Outil Recensement'!I213=\"Refus\",\"Family\",IF('Outil Recensement'!I213=\"Parent seul\",\"Family\",IF('Outil Recensement'!I213=\"Couple\",\"Family\",IF('Outil Recensement'!I213=\"In force\",\"Family\",IF('Outil Recensement'!I213=\"Applies\",\"Family\",IF('Outil Recensement'!I213=\"Applicable\",\"Family\",\"\"))))))))","v":""},null,null,null,null,null,null,null,{"$f":"IF('Outil Recensement'!I213=\"Waive\",\"Yes\",\"\")","v":""}]
[null,null,null,null,null,null,null,null,null,null,null,{"$f":"IF('Outil Recensement'!G214=\"Male\",\"Homme\",IF('Outil Recensement'!G214=\"Femme\",\"Female\",IF('Outil Recensement'!G214=\"H\",\"Male\",IF('Outil Recensement'!G214=\"F\",\"Female\",\"\"))))","v":""},null,{"$f":"IF('Outil Recensement'!I214=\"Individuelle\",\"Single\",IF('Outil Recensement'!I214=\"Familiale\",\"Family\",IF('Outil Recensement'!I214=\"Refus\",\"Family\",IF('Outil Recensement'!I214=\"Parent seul\",\"Family\",IF('Outil Recensement'!I214=\"Couple\",\"Family\",IF('Outil Recensement'!I214=\"In force\",\"Family\",IF('Outil Recensement'!I214=\"Applies\",\"Family\",IF('Outil Recensement'!I214=\"Applicable\",\"Family\",\"\"))))))))","v":""},null,null,null,null,null,null,null,{"$f":"IF('Outil Recensement'!I214=\"Waive\",\"Yes\",\"\")","v":""}]
[null,null,null,null,null,null,null,null,null,null,null,{"$f":"IF('Outil Recensement'!G215=\"Male\",\"Homme\",IF('Outil Recensement'!G215=\"Femme\",\"Female\",IF('Outil Recensement'!G215=\"H\",\"Male\",IF('Outil Recensement'!G215=\"F\",\"Female\",\"\"))))","v":""},null,{"$f":"IF('Outil Recensement'!I215=\"Individuelle\",\"Single\",IF('Outil Recensement'!I215=\"Familiale\",\"Family\",IF('Outil Recensement'!I215=\"Refus\",\"Family\",IF('Outil Recensement'!I215=\"Parent seul\",\"Family\",IF('Outil Recensement'!I215=\"Couple\",\"Family\",IF('Outil Recensement'!I215=\"In force\",\"Family\",IF('Outil Recensement'!I215=\"Applies\",\"Family\",IF('Outil Recensement'!I215=\"Applicable\",\"Family\",\"\"))))))))","v":""},null,null,null,null,null,null,null,{"$f":"IF('Outil Recensement'!I215=\"Waive\",\"Yes\",\"\")","v":""}]
[null,null,null,null,null,null,null,null,null,null,null,{"$f":"IF('Outil Recensement'!G216=\"Male\",\"Homme\",IF('Outil Recensement'!G216=\"Femme\",\"Female\",IF('Outil Recensement'!G216=\"H\",\"Male\",IF('Outil Recensement'!G216=\"F\",\"Female\",\"\"))))","v":""},null,{"$f":"IF('Outil Recensement'!I216=\"Individuelle\",\"Single\",IF('Outil Recensement'!I216=\"Familiale\",\"Family\",IF('Outil Recensement'!I216=\"Refus\",\"Family\",IF('Outil Recensement'!I216=\"Parent seul\",\"Family\",IF('Outil Recensement'!I216=\"Couple\",\"Family\",IF('Outil Recensement'!I216=\"In force\",\"Family\",IF('Outil Recensement'!I216=\"Applies\",\"Family\",IF('Outil Recensement'!I216=\"Applicable\",\"Family\",\"\"))))))))","v":""},null,null,null,null,null,null,null,{"$f":"IF('Outil Recensement'!I216=\"Waive\",\"Yes\",\"\")","v":""}]
[null,null,null,null,null,null,null,null,null,null,null,{"$f":"IF('Outil Recensement'!G217=\"Male\",\"Homme\",IF('Outil Recensement'!G217=\"Femme\",\"Female\",IF('Outil Recensement'!G217=\"H\",\"Male\",IF('Outil Recensement'!G217=\"F\",\"Female\",\"\"))))","v":""},null,{"$f":"IF('Outil Recensement'!I217=\"Individuelle\",\"Single\",IF('Outil Recensement'!I217=\"Familiale\",\"Family\",IF('Outil Recensement'!I217=\"Refus\",\"Family\",IF('Outil Recensement'!I217=\"Parent seul\",\"Family\",IF('Outil Recensement'!I217=\"Couple\",\"Family\",IF('Outil Recensement'!I217=\"In force\",\"Family\",IF('Outil Recensement'!I217=\"Applies\",\"Family\",IF('Outil Recensement'!I217=\"Applicable\",\"Family\",\"\"))))))))","v":""},null,null,null,null,null,null,null,{"$f":"IF('Outil Recensement'!I217=\"Waive\",\"Yes\",\"\")","v":""}]
[null,null,null,null,null,null,null,null,null,null,null,{"$f":"IF('Outil Recensement'!G218=\"Male\",\"Homme\",IF('Outil Recensement'!G218=\"Femme\",\"Female\",IF('Outil Recensement'!G218=\"H\",\"Male\",IF('Outil Recensement'!G218=\"F\",\"Female\",\"\"))))","v":""},null,{"$f":"IF('Outil Recensement'!I218=\"Individuelle\",\"Single\",IF('Outil Recensement'!I218=\"Familiale\",\"Family\",IF('Outil Recensement'!I218=\"Refus\",\"Family\",IF('Outil Recensement'!I218=\"Parent seul\",\"Family\",IF('Outil Recensement'!I218=\"Couple\",\"Family\",IF('Outil Recensement'!I218=\"In force\",\"Family\",IF('Outil Recensement'!I218=\"Applies\",\"Family\",IF('Outil Recensement'!I218=\"Applicable\",\"Family\",\"\"))))))))","v":""},null,null,null,null,null,null,null,{"$f":"IF('Outil Recensement'!I218=\"Waive\",\"Yes\",\"\")","v":""}]
[null,null,null,null,null,null,null,null,null,null,null,{"$f":"IF('Outil Recensement'!G219=\"Male\",\"Homme\",IF('Outil Recensement'!G219=\"Femme\",\"Female\",IF('Outil Recensement'!G219=\"H\",\"Male\",IF('Outil Recensement'!G219=\"F\",\"Female\",\"\"))))","v":""},null,{"$f":"IF('Outil Recensement'!I219=\"Individuelle\",\"Single\",IF('Outil Recensement'!I219=\"Familiale\",\"Family\",IF('Outil Recensement'!I219=\"Refus\",\"Family\",IF('Outil Recensement'!I219=\"Parent seul\",\"Family\",IF('Outil Recensement'!I219=\"Couple\",\"Family\",IF('Outil Recensement'!I219=\"In force\",\"Family\",IF('Outil Recensement'!I219=\"Applies\",\"Family\",IF('Outil Recensement'!I219=\"Applicable\",\"Family\",\"\"))))))))","v":""},null,null,null,null,null,null,null,{"$f":"IF('Outil Recensement'!I219=\"Waive\",\"Yes\",\"\")","v":""}]
[null,null,null,null,null,null,null,null,null,null,null,{"$f":"IF('Outil Recensement'!G220=\"Male\",\"Homme\",IF('Outil Recensement'!G220=\"Femme\",\"Female\",IF('Outil Recensement'!G220=\"H\",\"Male\",IF('Outil Recensement'!G220=\"F\",\"Female\",\"\"))))","v":""},null,{"$f":"IF('Outil Recensement'!I220=\"Individuelle\",\"Single\",IF('Outil Recensement'!I220=\"Familiale\",\"Family\",IF('Outil Recensement'!I220=\"Refus\",\"Family\",IF('Outil Recensement'!I220=\"Parent seul\",\"Family\",IF('Outil Recensement'!I220=\"Couple\",\"Family\",IF('Outil Recensement'!I220=\"In force\",\"Family\",IF('Outil Recensement'!I220=\"Applies\",\"Family\",IF('Outil Recensement'!I220=\"Applicable\",\"Family\",\"\"))))))))","v":""},null,null,null,null,null,null,null,{"$f":"IF('Outil Recensement'!I220=\"Waive\",\"Yes\",\"\")","v":""}]
[null,null,null,null,null,null,null,null,null,null,null,{"$f":"IF('Outil Recensement'!G221=\"Male\",\"Homme\",IF('Outil Recensement'!G221=\"Femme\",\"Female\",IF('Outil Recensement'!G221=\"H\",\"Male\",IF('Outil Recensement'!G221=\"F\",\"Female\",\"\"))))","v":""},null,{"$f":"IF('Outil Recensement'!I221=\"Individuelle\",\"Single\",IF('Outil Recensement'!I221=\"Familiale\",\"Family\",IF('Outil Recensement'!I221=\"Refus\",\"Family\",IF('Outil Recensement'!I221=\"Parent seul\",\"Family\",IF('Outil Recensement'!I221=\"Couple\",\"Family\",IF('Outil Recensement'!I221=\"In force\",\"Family\",IF('Outil Recensement'!I221=\"Applies\",\"Family\",IF('Outil Recensement'!I221=\"Applicable\",\"Family\",\"\"))))))))","v":""},null,null,null,null,null,null,null,{"$f":"IF('Outil Recensement'!I221=\"Waive\",\"Yes\",\"\")","v":""}]
[null,null,null,null,null,null,null,null,null,null,null,{"$f":"IF('Outil Recensement'!G222=\"Male\",\"Homme\",IF('Outil Recensement'!G222=\"Femme\",\"Female\",IF('Outil Recensement'!G222=\"H\",\"Male\",IF('Outil Recensement'!G222=\"F\",\"Female\",\"\"))))","v":""},null,{"$f":"IF('Outil Recensement'!I222=\"Individuelle\",\"Single\",IF('Outil Recensement'!I222=\"Familiale\",\"Family\",IF('Outil Recensement'!I222=\"Refus\",\"Family\",IF('Outil Recensement'!I222=\"Parent seul\",\"Family\",IF('Outil Recensement'!I222=\"Couple\",\"Family\",IF('Outil Recensement'!I222=\"In force\",\"Family\",IF('Outil Recensement'!I222=\"Applies\",\"Family\",IF('Outil Recensement'!I222=\"Applicable\",\"Family\",\"\"))))))))","v":""},null,null,null,null,null,null,null,{"$f":"IF('Outil Recensement'!I222=\"Waive\",\"Yes\",\"\")","v":""}]
[null,null,null,null,null,null,null,null,null,null,null,{"$f":"IF('Outil Recensement'!G223=\"Male\",\"Homme\",IF('Outil Recensement'!G223=\"Femme\",\"Female\",IF('Outil Recensement'!G223=\"H\",\"Male\",IF('Outil Recensement'!G223=\"F\",\"Female\",\"\"))))","v":""},null,{"$f":"IF('Outil Recensement'!I223=\"Individuelle\",\"Single\",IF('Outil Recensement'!I223=\"Familiale\",\"Family\",IF('Outil Recensement'!I223=\"Refus\",\"Family\",IF('Outil Recensement'!I223=\"Parent seul\",\"Family\",IF('Outil Recensement'!I223=\"Couple\",\"Family\",IF('Outil Recensement'!I223=\"In force\",\"Family\",IF('Outil Recensement'!I223=\"Applies\",\"Family\",IF('Outil Recensement'!I223=\"Applicable\",\"Family\",\"\"))))))))","v":""},null,null,null,null,null,null,null,{"$f":"IF('Outil Recensement'!I223=\"Waive\",\"Yes\",\"\")","v":""}]
[null,null,null,null,null,null,null,null,null,null,null,{"$f":"IF('Outil Recensement'!G224=\"Male\",\"Homme\",IF('Outil Recensement'!G224=\"Femme\",\"Female\",IF('Outil Recensement'!G224=\"H\",\"Male\",IF('Outil Recensement'!G224=\"F\",\"Female\",\"\"))))","v":""},null,{"$f":"IF('Outil Recensement'!I224=\"Individuelle\",\"Single\",IF('Outil Recensement'!I224=\"Familiale\",\"Family\",IF('Outil Recensement'!I224=\"Refus\",\"Family\",IF('Outil Recensement'!I224=\"Parent seul\",\"Family\",IF('Outil Recensement'!I224=\"Couple\",\"Family\",IF('Outil Recensement'!I224=\"In force\",\"Family\",IF('Outil Recensement'!I224=\"Applies\",\"Family\",IF('Outil Recensement'!I224=\"Applicable\",\"Family\",\"\"))))))))","v":""},null,null,null,null,null,null,null,{"$f":"IF('Outil Recensement'!I224=\"Waive\",\"Yes\",\"\")","v":""}]
[null,null,null,null,null,null,null,null,null,null,null,{"$f":"IF('Outil Recensement'!G225=\"Male\",\"Homme\",IF('Outil Recensement'!G225=\"Femme\",\"Female\",IF('Outil Recensement'!G225=\"H\",\"Male\",IF('Outil Recensement'!G225=\"F\",\"Female\",\"\"))))","v":""},null,{"$f":"IF('Outil Recensement'!I225=\"Individuelle\",\"Single\",IF('Outil Recensement'!I225=\"Familiale\",\"Family\",IF('Outil Recensement'!I225=\"Refus\",\"Family\",IF('Outil Recensement'!I225=\"Parent seul\",\"Family\",IF('Outil Recensement'!I225=\"Couple\",\"Family\",IF('Outil Recensement'!I225=\"In force\",\"Family\",IF('Outil Recensement'!I225=\"Applies\",\"Family\",IF('Outil Recensement'!I225=\"Applicable\",\"Family\",\"\"))))))))","v":""},null,null,null,null,null,null,null,{"$f":"IF('Outil Recensement'!I225=\"Waive\",\"Yes\",\"\")","v":""}]
[null,null,null,null,null,null,null,null,null,null,null,{"$f":"IF('Outil Recensement'!G226=\"Male\",\"Homme\",IF('Outil Recensement'!G226=\"Femme\",\"Female\",IF('Outil Recensement'!G226=\"H\",\"Male\",IF('Outil Recensement'!G226=\"F\",\"Female\",\"\"))))","v":""},null,{"$f":"IF('Outil Recensement'!I226=\"Individuelle\",\"Single\",IF('Outil Recensement'!I226=\"Familiale\",\"Family\",IF('Outil Recensement'!I226=\"Refus\",\"Family\",IF('Outil Recensement'!I226=\"Parent seul\",\"Family\",IF('Outil Recensement'!I226=\"Couple\",\"Family\",IF('Outil Recensement'!I226=\"In force\",\"Family\",IF('Outil Recensement'!I226=\"Applies\",\"Family\",IF('Outil Recensement'!I226=\"Applicable\",\"Family\",\"\"))))))))","v":""},null,null,null,null,null,null,null,{"$f":"IF('Outil Recensement'!I226=\"Waive\",\"Yes\",\"\")","v":""}]
[null,null,null,null,null,null,null,null,null,null,null,{"$f":"IF('Outil Recensement'!G227=\"Male\",\"Homme\",IF('Outil Recensement'!G227=\"Femme\",\"Female\",IF('Outil Recensement'!G227=\"H\",\"Male\",IF('Outil Recensement'!G227=\"F\",\"Female\",\"\"))))","v":""},null,{"$f":"IF('Outil Recensement'!I227=\"Individuelle\",\"Single\",IF('Outil Recensement'!I227=\"Familiale\",\"Family\",IF('Outil Recensement'!I227=\"Refus\",\"Family\",IF('Outil Recensement'!I227=\"Parent seul\",\"Family\",IF('Outil Recensement'!I227=\"Couple\",\"Family\",IF('Outil Recensement'!I227=\"In force\",\"Family\",IF('Outil Recensement'!I227=\"Applies\",\"Family\",IF('Outil Recensement'!I227=\"Applicable\",\"Family\",\"\"))))))))","v":""},null,null,null,null,null,null,null,{"$f":"IF('Outil Recensement'!I227=\"Waive\",\"Yes\",\"\")","v":""}]
[null,null,null,null,null,null,null,null,null,null,null,{"$f":"IF('Outil Recensement'!G228=\"Male\",\"Homme\",IF('Outil Recensement'!G228=\"Femme\",\"Female\",IF('Outil Recensement'!G228=\"H\",\"Male\",IF('Outil Recensement'!G228=\"F\",\"Female\",\"\"))))","v":""},null,{"$f":"IF('Outil Recensement'!I228=\"Individuelle\",\"Single\",IF('Outil Recensement'!I228=\"Familiale\",\"Family\",IF('Outil Recensement'!I228=\"Refus\",\"Family\",IF('Outil Recensement'!I228=\"Parent seul\",\"Family\",IF('Outil Recensement'!I228=\"Couple\",\"Family\",IF('Outil Recensement'!I228=\"In force\",\"Family\",IF('Outil Recensement'!I228=\"Applies\",\"Family\",IF('Outil Recensement'!I228=\"Applicable\",\"Family\",\"\"))))))))","v":""},null,null,null,null,null,null,null,{"$f":"IF('Outil Recensement'!I228=\"Waive\",\"Yes\",\"\")","v":""}]
[null,null,null,null,null,null,null,null,null,null,null,{"$f":"IF('Outil Recensement'!G229=\"Male\",\"Homme\",IF('Outil Recensement'!G229=\"Femme\",\"Female\",IF('Outil Recensement'!G229=\"H\",\"Male\",IF('Outil Recensement'!G229=\"F\",\"Female\",\"\"))))","v":""},null,{"$f":"IF('Outil Recensement'!I229=\"Individuelle\",\"Single\",IF('Outil Recensement'!I229=\"Familiale\",\"Family\",IF('Outil Recensement'!I229=\"Refus\",\"Family\",IF('Outil Recensement'!I229=\"Parent seul\",\"Family\",IF('Outil Recensement'!I229=\"Couple\",\"Family\",IF('Outil Recensement'!I229=\"In force\",\"Family\",IF('Outil Recensement'!I229=\"Applies\",\"Family\",IF('Outil Recensement'!I229=\"Applicable\",\"Family\",\"\"))))))))","v":""},null,null,null,null,null,null,null,{"$f":"IF('Outil Recensement'!I229=\"Waive\",\"Yes\",\"\")","v":""}]
[null,null,null,null,null,null,null,null,null,null,null,{"$f":"IF('Outil Recensement'!G230=\"Male\",\"Homme\",IF('Outil Recensement'!G230=\"Femme\",\"Female\",IF('Outil Recensement'!G230=\"H\",\"Male\",IF('Outil Recensement'!G230=\"F\",\"Female\",\"\"))))","v":""},null,{"$f":"IF('Outil Recensement'!I230=\"Individuelle\",\"Single\",IF('Outil Recensement'!I230=\"Familiale\",\"Family\",IF('Outil Recensement'!I230=\"Refus\",\"Family\",IF('Outil Recensement'!I230=\"Parent seul\",\"Family\",IF('Outil Recensement'!I230=\"Couple\",\"Family\",IF('Outil Recensement'!I230=\"In force\",\"Family\",IF('Outil Recensement'!I230=\"Applies\",\"Family\",IF('Outil Recensement'!I230=\"Applicable\",\"Family\",\"\"))))))))","v":""},null,null,null,null,null,null,null,{"$f":"IF('Outil Recensement'!I230=\"Waive\",\"Yes\",\"\")","v":""}]
[null,null,null,null,null,null,null,null,null,null,null,{"$f":"IF('Outil Recensement'!G231=\"Male\",\"Homme\",IF('Outil Recensement'!G231=\"Femme\",\"Female\",IF('Outil Recensement'!G231=\"H\",\"Male\",IF('Outil Recensement'!G231=\"F\",\"Female\",\"\"))))","v":""},null,{"$f":"IF('Outil Recensement'!I231=\"Individuelle\",\"Single\",IF('Outil Recensement'!I231=\"Familiale\",\"Family\",IF('Outil Recensement'!I231=\"Refus\",\"Family\",IF('Outil Recensement'!I231=\"Parent seul\",\"Family\",IF('Outil Recensement'!I231=\"Couple\",\"Family\",IF('Outil Recensement'!I231=\"In force\",\"Family\",IF('Outil Recensement'!I231=\"Applies\",\"Family\",IF('Outil Recensement'!I231=\"Applicable\",\"Family\",\"\"))))))))","v":""},null,null,null,null,null,null,null,{"$f":"IF('Outil Recensement'!I231=\"Waive\",\"Yes\",\"\")","v":""}]
[null,null,null,null,null,null,null,null,null,null,null,{"$f":"IF('Outil Recensement'!G232=\"Male\",\"Homme\",IF('Outil Recensement'!G232=\"Femme\",\"Female\",IF('Outil Recensement'!G232=\"H\",\"Male\",IF('Outil Recensement'!G232=\"F\",\"Female\",\"\"))))","v":""},null,{"$f":"IF('Outil Recensement'!I232=\"Individuelle\",\"Single\",IF('Outil Recensement'!I232=\"Familiale\",\"Family\",IF('Outil Recensement'!I232=\"Refus\",\"Family\",IF('Outil Recensement'!I232=\"Parent seul\",\"Family\",IF('Outil Recensement'!I232=\"Couple\",\"Family\",IF('Outil Recensement'!I232=\"In force\",\"Family\",IF('Outil Recensement'!I232=\"Applies\",\"Family\",IF('Outil Recensement'!I232=\"Applicable\",\"Family\",\"\"))))))))","v":""},null,null,null,null,null,null,null,{"$f":"IF('Outil Recensement'!I232=\"Waive\",\"Yes\",\"\")","v":""}]
[null,null,null,null,null,null,null,null,null,null,null,{"$f":"IF('Outil Recensement'!G233=\"Male\",\"Homme\",IF('Outil Recensement'!G233=\"Femme\",\"Female\",IF('Outil Recensement'!G233=\"H\",\"Male\",IF('Outil Recensement'!G233=\"F\",\"Female\",\"\"))))","v":""},null,{"$f":"IF('Outil Recensement'!I233=\"Individuelle\",\"Single\",IF('Outil Recensement'!I233=\"Familiale\",\"Family\",IF('Outil Recensement'!I233=\"Refus\",\"Family\",IF('Outil Recensement'!I233=\"Parent seul\",\"Family\",IF('Outil Recensement'!I233=\"Couple\",\"Family\",IF('Outil Recensement'!I233=\"In force\",\"Family\",IF('Outil Recensement'!I233=\"Applies\",\"Family\",IF('Outil Recensement'!I233=\"Applicable\",\"Family\",\"\"))))))))","v":""},null,null,null,null,null,null,null,{"$f":"IF('Outil Recensement'!I233=\"Waive\",\"Yes\",\"\")","v":""}]
[null,null,null,null,null,null,null,null,null,null,null,{"$f":"IF('Outil Recensement'!G234=\"Male\",\"Homme\",IF('Outil Recensement'!G234=\"Femme\",\"Female\",IF('Outil Recensement'!G234=\"H\",\"Male\",IF('Outil Recensement'!G234=\"F\",\"Female\",\"\"))))","v":""},null,{"$f":"IF('Outil Recensement'!I234=\"Individuelle\",\"Single\",IF('Outil Recensement'!I234=\"Familiale\",\"Family\",IF('Outil Recensement'!I234=\"Refus\",\"Family\",IF('Outil Recensement'!I234=\"Parent seul\",\"Family\",IF('Outil Recensement'!I234=\"Couple\",\"Family\",IF('Outil Recensement'!I234=\"In force\",\"Family\",IF('Outil Recensement'!I234=\"Applies\",\"Family\",IF('Outil Recensement'!I234=\"Applicable\",\"Family\",\"\"))))))))","v":""},null,null,null,null,null,null,null,{"$f":"IF('Outil Recensement'!I234=\"Waive\",\"Yes\",\"\")","v":""}]
[null,null,null,null,null,null,null,null,null,null,null,{"$f":"IF('Outil Recensement'!G235=\"Male\",\"Homme\",IF('Outil Recensement'!G235=\"Femme\",\"Female\",IF('Outil Recensement'!G235=\"H\",\"Male\",IF('Outil Recensement'!G235=\"F\",\"Female\",\"\"))))","v":""},null,{"$f":"IF('Outil Recensement'!I235=\"Individuelle\",\"Single\",IF('Outil Recensement'!I235=\"Familiale\",\"Family\",IF('Outil Recensement'!I235=\"Refus\",\"Family\",IF('Outil Recensement'!I235=\"Parent seul\",\"Family\",IF('Outil Recensement'!I235=\"Couple\",\"Family\",IF('Outil Recensement'!I235=\"In force\",\"Family\",IF('Outil Recensement'!I235=\"Applies\",\"Family\",IF('Outil Recensement'!I235=\"Applicable\",\"Family\",\"\"))))))))","v":""},null,null,null,null,null,null,null,{"$f":"IF('Outil Recensement'!I235=\"Waive\",\"Yes\",\"\")","v":""}]
[null,null,null,null,null,null,null,null,null,null,null,{"$f":"IF('Outil Recensement'!G236=\"Male\",\"Homme\",IF('Outil Recensement'!G236=\"Femme\",\"Female\",IF('Outil Recensement'!G236=\"H\",\"Male\",IF('Outil Recensement'!G236=\"F\",\"Female\",\"\"))))","v":""},null,{"$f":"IF('Outil Recensement'!I236=\"Individuelle\",\"Single\",IF('Outil Recensement'!I236=\"Familiale\",\"Family\",IF('Outil Recensement'!I236=\"Refus\",\"Family\",IF('Outil Recensement'!I236=\"Parent seul\",\"Family\",IF('Outil Recensement'!I236=\"Couple\",\"Family\",IF('Outil Recensement'!I236=\"In force\",\"Family\",IF('Outil Recensement'!I236=\"Applies\",\"Family\",IF('Outil Recensement'!I236=\"Applicable\",\"Family\",\"\"))))))))","v":""},null,null,null,null,null,null,null,{"$f":"IF('Outil Recensement'!I236=\"Waive\",\"Yes\",\"\")","v":""}]
[null,null,null,null,null,null,null,null,null,null,null,{"$f":"IF('Outil Recensement'!G237=\"Male\",\"Homme\",IF('Outil Recensement'!G237=\"Femme\",\"Female\",IF('Outil Recensement'!G237=\"H\",\"Male\",IF('Outil Recensement'!G237=\"F\",\"Female\",\"\"))))","v":""},null,{"$f":"IF('Outil Recensement'!I237=\"Individuelle\",\"Single\",IF('Outil Recensement'!I237=\"Familiale\",\"Family\",IF('Outil Recensement'!I237=\"Refus\",\"Family\",IF('Outil Recensement'!I237=\"Parent seul\",\"Family\",IF('Outil Recensement'!I237=\"Couple\",\"Family\",IF('Outil Recensement'!I237=\"In force\",\"Family\",IF('Outil Recensement'!I237=\"Applies\",\"Family\",IF('Outil Recensement'!I237=\"Applicable\",\"Family\",\"\"))))))))","v":""},null,null,null,null,null,null,null,{"$f":"IF('Outil Recensement'!I237=\"Waive\",\"Yes\",\"\")","v":""}]
[null,null,null,null,null,null,null,null,null,null,null,{"$f":"IF('Outil Recensement'!G238=\"Male\",\"Homme\",IF('Outil Recensement'!G238=\"Femme\",\"Female\",IF('Outil Recensement'!G238=\"H\",\"Male\",IF('Outil Recensement'!G238=\"F\",\"Female\",\"\"))))","v":""},null,{"$f":"IF('Outil Recensement'!I238=\"Individuelle\",\"Single\",IF('Outil Recensement'!I238=\"Familiale\",\"Family\",IF('Outil Recensement'!I238=\"Refus\",\"Family\",IF('Outil Recensement'!I238=\"Parent seul\",\"Family\",IF('Outil Recensement'!I238=\"Couple\",\"Family\",IF('Outil Recensement'!I238=\"In force\",\"Family\",IF('Outil Recensement'!I238=\"Applies\",\"Family\",IF('Outil Recensement'!I238=\"Applicable\",\"Family\",\"\"))))))))","v":""},null,null,null,null,null,null,null,{"$f":"IF('Outil Recensement'!I238=\"Waive\",\"Yes\",\"\")","v":""}]
[null,null,null,null,null,null,null,null,null,null,null,{"$f":"IF('Outil Recensement'!G239=\"Male\",\"Homme\",IF('Outil Recensement'!G239=\"Femme\",\"Female\",IF('Outil Recensement'!G239=\"H\",\"Male\",IF('Outil Recensement'!G239=\"F\",\"Female\",\"\"))))","v":""},null,{"$f":"IF('Outil Recensement'!I239=\"Individuelle\",\"Single\",IF('Outil Recensement'!I239=\"Familiale\",\"Family\",IF('Outil Recensement'!I239=\"Refus\",\"Family\",IF('Outil Recensement'!I239=\"Parent seul\",\"Family\",IF('Outil Recensement'!I239=\"Couple\",\"Family\",IF('Outil Recensement'!I239=\"In force\",\"Family\",IF('Outil Recensement'!I239=\"Applies\",\"Family\",IF('Outil Recensement'!I239=\"Applicable\",\"Family\",\"\"))))))))","v":""},null,null,null,null,null,null,null,{"$f":"IF('Outil Recensement'!I239=\"Waive\",\"Yes\",\"\")","v":""}]
[null,null,null,null,null,null,null,null,null,null,null,{"$f":"IF('Outil Recensement'!G240=\"Male\",\"Homme\",IF('Outil Recensement'!G240=\"Femme\",\"Female\",IF('Outil Recensement'!G240=\"H\",\"Male\",IF('Outil Recensement'!G240=\"F\",\"Female\",\"\"))))","v":""},null,{"$f":"IF('Outil Recensement'!I240=\"Individuelle\",\"Single\",IF('Outil Recensement'!I240=\"Familiale\",\"Family\",IF('Outil Recensement'!I240=\"Refus\",\"Family\",IF('Outil Recensement'!I240=\"Parent seul\",\"Family\",IF('Outil Recensement'!I240=\"Couple\",\"Family\",IF('Outil Recensement'!I240=\"In force\",\"Family\",IF('Outil Recensement'!I240=\"Applies\",\"Family\",IF('Outil Recensement'!I240=\"Applicable\",\"Family\",\"\"))))))))","v":""},null,null,null,null,null,null,null,{"$f":"IF('Outil Recensement'!I240=\"Waive\",\"Yes\",\"\")","v":""}]
[null,null,null,null,null,null,null,null,null,null,null,{"$f":"IF('Outil Recensement'!G241=\"Male\",\"Homme\",IF('Outil Recensement'!G241=\"Femme\",\"Female\",IF('Outil Recensement'!G241=\"H\",\"Male\",IF('Outil Recensement'!G241=\"F\",\"Female\",\"\"))))","v":""},null,{"$f":"IF('Outil Recensement'!I241=\"Individuelle\",\"Single\",IF('Outil Recensement'!I241=\"Familiale\",\"Family\",IF('Outil Recensement'!I241=\"Refus\",\"Family\",IF('Outil Recensement'!I241=\"Parent seul\",\"Family\",IF('Outil Recensement'!I241=\"Couple\",\"Family\",IF('Outil Recensement'!I241=\"In force\",\"Family\",IF('Outil Recensement'!I241=\"Applies\",\"Family\",IF('Outil Recensement'!I241=\"Applicable\",\"Family\",\"\"))))))))","v":""},null,null,null,null,null,null,null,{"$f":"IF('Outil Recensement'!I241=\"Waive\",\"Yes\",\"\")","v":""}]
[null,null,null,null,null,null,null,null,null,null,null,{"$f":"IF('Outil Recensement'!G242=\"Male\",\"Homme\",IF('Outil Recensement'!G242=\"Femme\",\"Female\",IF('Outil Recensement'!G242=\"H\",\"Male\",IF('Outil Recensement'!G242=\"F\",\"Female\",\"\"))))","v":""},null,{"$f":"IF('Outil Recensement'!I242=\"Individuelle\",\"Single\",IF('Outil Recensement'!I242=\"Familiale\",\"Family\",IF('Outil Recensement'!I242=\"Refus\",\"Family\",IF('Outil Recensement'!I242=\"Parent seul\",\"Family\",IF('Outil Recensement'!I242=\"Couple\",\"Family\",IF('Outil Recensement'!I242=\"In force\",\"Family\",IF('Outil Recensement'!I242=\"Applies\",\"Family\",IF('Outil Recensement'!I242=\"Applicable\",\"Family\",\"\"))))))))","v":""},null,null,null,null,null,null,null,{"$f":"IF('Outil Recensement'!I242=\"Waive\",\"Yes\",\"\")","v":""}]
[null,null,null,null,null,null,null,null,null,null,null,{"$f":"IF('Outil Recensement'!G243=\"Male\",\"Homme\",IF('Outil Recensement'!G243=\"Femme\",\"Female\",IF('Outil Recensement'!G243=\"H\",\"Male\",IF('Outil Recensement'!G243=\"F\",\"Female\",\"\"))))","v":""},null,{"$f":"IF('Outil Recensement'!I243=\"Individuelle\",\"Single\",IF('Outil Recensement'!I243=\"Familiale\",\"Family\",IF('Outil Recensement'!I243=\"Refus\",\"Family\",IF('Outil Recensement'!I243=\"Parent seul\",\"Family\",IF('Outil Recensement'!I243=\"Couple\",\"Family\",IF('Outil Recensement'!I243=\"In force\",\"Family\",IF('Outil Recensement'!I243=\"Applies\",\"Family\",IF('Outil Recensement'!I243=\"Applicable\",\"Family\",\"\"))))))))","v":""},null,null,null,null,null,null,null,{"$f":"IF('Outil Recensement'!I243=\"Waive\",\"Yes\",\"\")","v":""}]
[null,null,null,null,null,null,null,null,null,null,null,{"$f":"IF('Outil Recensement'!G244=\"Male\",\"Homme\",IF('Outil Recensement'!G244=\"Femme\",\"Female\",IF('Outil Recensement'!G244=\"H\",\"Male\",IF('Outil Recensement'!G244=\"F\",\"Female\",\"\"))))","v":""},null,{"$f":"IF('Outil Recensement'!I244=\"Individuelle\",\"Single\",IF('Outil Recensement'!I244=\"Familiale\",\"Family\",IF('Outil Recensement'!I244=\"Refus\",\"Family\",IF('Outil Recensement'!I244=\"Parent seul\",\"Family\",IF('Outil Recensement'!I244=\"Couple\",\"Family\",IF('Outil Recensement'!I244=\"In force\",\"Family\",IF('Outil Recensement'!I244=\"Applies\",\"Family\",IF('Outil Recensement'!I244=\"Applicable\",\"Family\",\"\"))))))))","v":""},null,null,null,null,null,null,null,{"$f":"IF('Outil Recensement'!I244=\"Waive\",\"Yes\",\"\")","v":""}]
[null,null,null,null,null,null,null,null,null,null,null,{"$f":"IF('Outil Recensement'!G245=\"Male\",\"Homme\",IF('Outil Recensement'!G245=\"Femme\",\"Female\",IF('Outil Recensement'!G245=\"H\",\"Male\",IF('Outil Recensement'!G245=\"F\",\"Female\",\"\"))))","v":""},null,{"$f":"IF('Outil Recensement'!I245=\"Individuelle\",\"Single\",IF('Outil Recensement'!I245=\"Familiale\",\"Family\",IF('Outil Recensement'!I245=\"Refus\",\"Family\",IF('Outil Recensement'!I245=\"Parent seul\",\"Family\",IF('Outil Recensement'!I245=\"Couple\",\"Family\",IF('Outil Recensement'!I245=\"In force\",\"Family\",IF('Outil Recensement'!I245=\"Applies\",\"Family\",IF('Outil Recensement'!I245=\"Applicable\",\"Family\",\"\"))))))))","v":""},null,null,null,null,null,null,null,{"$f":"IF('Outil Recensement'!I245=\"Waive\",\"Yes\",\"\")","v":""}]
[null,null,null,null,null,null,null,null,null,null,null,{"$f":"IF('Outil Recensement'!G246=\"Male\",\"Homme\",IF('Outil Recensement'!G246=\"Femme\",\"Female\",IF('Outil Recensement'!G246=\"H\",\"Male\",IF('Outil Recensement'!G246=\"F\",\"Female\",\"\"))))","v":""},null,{"$f":"IF('Outil Recensement'!I246=\"Individuelle\",\"Single\",IF('Outil Recensement'!I246=\"Familiale\",\"Family\",IF('Outil Recensement'!I246=\"Refus\",\"Family\",IF('Outil Recensement'!I246=\"Parent seul\",\"Family\",IF('Outil Recensement'!I246=\"Couple\",\"Family\",IF('Outil Recensement'!I246=\"In force\",\"Family\",IF('Outil Recensement'!I246=\"Applies\",\"Family\",IF('Outil Recensement'!I246=\"Applicable\",\"Family\",\"\"))))))))","v":""},null,null,null,null,null,null,null,{"$f":"IF('Outil Recensement'!I246=\"Waive\",\"Yes\",\"\")","v":""}]
[null,null,null,null,null,null,null,null,null,null,null,{"$f":"IF('Outil Recensement'!G247=\"Male\",\"Homme\",IF('Outil Recensement'!G247=\"Femme\",\"Female\",IF('Outil Recensement'!G247=\"H\",\"Male\",IF('Outil Recensement'!G247=\"F\",\"Female\",\"\"))))","v":""},null,{"$f":"IF('Outil Recensement'!I247=\"Individuelle\",\"Single\",IF('Outil Recensement'!I247=\"Familiale\",\"Family\",IF('Outil Recensement'!I247=\"Refus\",\"Family\",IF('Outil Recensement'!I247=\"Parent seul\",\"Family\",IF('Outil Recensement'!I247=\"Couple\",\"Family\",IF('Outil Recensement'!I247=\"In force\",\"Family\",IF('Outil Recensement'!I247=\"Applies\",\"Family\",IF('Outil Recensement'!I247=\"Applicable\",\"Family\",\"\"))))))))","v":""},null,null,null,null,null,null,null,{"$f":"IF('Outil Recensement'!I247=\"Waive\",\"Yes\",\"\")","v":""}]
[null,null,null,null,null,null,null,null,null,null,null,{"$f":"IF('Outil Recensement'!G248=\"Male\",\"Homme\",IF('Outil Recensement'!G248=\"Femme\",\"Female\",IF('Outil Recensement'!G248=\"H\",\"Male\",IF('Outil Recensement'!G248=\"F\",\"Female\",\"\"))))","v":""},null,{"$f":"IF('Outil Recensement'!I248=\"Individuelle\",\"Single\",IF('Outil Recensement'!I248=\"Familiale\",\"Family\",IF('Outil Recensement'!I248=\"Refus\",\"Family\",IF('Outil Recensement'!I248=\"Parent seul\",\"Family\",IF('Outil Recensement'!I248=\"Couple\",\"Family\",IF('Outil Recensement'!I248=\"In force\",\"Family\",IF('Outil Recensement'!I248=\"Applies\",\"Family\",IF('Outil Recensement'!I248=\"Applicable\",\"Family\",\"\"))))))))","v":""},null,null,null,null,null,null,null,{"$f":"IF('Outil Recensement'!I248=\"Waive\",\"Yes\",\"\")","v":""}]
[null,null,null,null,null,null,null,null,null,null,null,{"$f":"IF('Outil Recensement'!G249=\"Male\",\"Homme\",IF('Outil Recensement'!G249=\"Femme\",\"Female\",IF('Outil Recensement'!G249=\"H\",\"Male\",IF('Outil Recensement'!G249=\"F\",\"Female\",\"\"))))","v":""},null,{"$f":"IF('Outil Recensement'!I249=\"Individuelle\",\"Single\",IF('Outil Recensement'!I249=\"Familiale\",\"Family\",IF('Outil Recensement'!I249=\"Refus\",\"Family\",IF('Outil Recensement'!I249=\"Parent seul\",\"Family\",IF('Outil Recensement'!I249=\"Couple\",\"Family\",IF('Outil Recensement'!I249=\"In force\",\"Family\",IF('Outil Recensement'!I249=\"Applies\",\"Family\",IF('Outil Recensement'!I249=\"Applicable\",\"Family\",\"\"))))))))","v":""},null,null,null,null,null,null,null,{"$f":"IF('Outil Recensement'!I249=\"Waive\",\"Yes\",\"\")","v":""}]
[null,null,null,null,null,null,null,null,null,null,null,{"$f":"IF('Outil Recensement'!G250=\"Male\",\"Homme\",IF('Outil Recensement'!G250=\"Femme\",\"Female\",IF('Outil Recensement'!G250=\"H\",\"Male\",IF('Outil Recensement'!G250=\"F\",\"Female\",\"\"))))","v":""},null,{"$f":"IF('Outil Recensement'!I250=\"Individuelle\",\"Single\",IF('Outil Recensement'!I250=\"Familiale\",\"Family\",IF('Outil Recensement'!I250=\"Refus\",\"Family\",IF('Outil Recensement'!I250=\"Parent seul\",\"Family\",IF('Outil Recensement'!I250=\"Couple\",\"Family\",IF('Outil Recensement'!I250=\"In force\",\"Family\",IF('Outil Recensement'!I250=\"Applies\",\"Family\",IF('Outil Recensement'!I250=\"Applicable\",\"Family\",\"\"))))))))","v":""},null,null,null,null,null,null,null,{"$f":"IF('Outil Recensement'!I250=\"Waive\",\"Yes\",\"\")","v":""}]
[null,null,null,null,null,null,null,null,null,null,null,{"$f":"IF('Outil Recensement'!G251=\"Male\",\"Homme\",IF('Outil Recensement'!G251=\"Femme\",\"Female\",IF('Outil Recensement'!G251=\"H\",\"Male\",IF('Outil Recensement'!G251=\"F\",\"Female\",\"\"))))","v":""},null,{"$f":"IF('Outil Recensement'!I251=\"Individuelle\",\"Single\",IF('Outil Recensement'!I251=\"Familiale\",\"Family\",IF('Outil Recensement'!I251=\"Refus\",\"Family\",IF('Outil Recensement'!I251=\"Parent seul\",\"Family\",IF('Outil Recensement'!I251=\"Couple\",\"Family\",IF('Outil Recensement'!I251=\"In force\",\"Family\",IF('Outil Recensement'!I251=\"Applies\",\"Family\",IF('Outil Recensement'!I251=\"Applicable\",\"Family\",\"\"))))))))","v":""},null,null,null,null,null,null,null,{"$f":"IF('Outil Recensement'!I251=\"Waive\",\"Yes\",\"\")","v":""}]
[null,null,null,null,null,null,null,null,null,null,null,{"$f":"IF('Outil Recensement'!G252=\"Male\",\"Homme\",IF('Outil Recensement'!G252=\"Femme\",\"Female\",IF('Outil Recensement'!G252=\"H\",\"Male\",IF('Outil Recensement'!G252=\"F\",\"Female\",\"\"))))","v":""},null,{"$f":"IF('Outil Recensement'!I252=\"Individuelle\",\"Single\",IF('Outil Recensement'!I252=\"Familiale\",\"Family\",IF('Outil Recensement'!I252=\"Refus\",\"Family\",IF('Outil Recensement'!I252=\"Parent seul\",\"Family\",IF('Outil Recensement'!I252=\"Couple\",\"Family\",IF('Outil Recensement'!I252=\"In force\",\"Family\",IF('Outil Recensement'!I252=\"Applies\",\"Family\",IF('Outil Recensement'!I252=\"Applicable\",\"Family\",\"\"))))))))","v":""},null,null,null,null,null,null,null,{"$f":"IF('Outil Recensement'!I252=\"Waive\",\"Yes\",\"\")","v":""}]
[null,null,null,null,null,null,null,null,null,null,null,{"$f":"IF('Outil Recensement'!G253=\"Male\",\"Homme\",IF('Outil Recensement'!G253=\"Femme\",\"Female\",IF('Outil Recensement'!G253=\"H\",\"Male\",IF('Outil Recensement'!G253=\"F\",\"Female\",\"\"))))","v":""},null,{"$f":"IF('Outil Recensement'!I253=\"Individuelle\",\"Single\",IF('Outil Recensement'!I253=\"Familiale\",\"Family\",IF('Outil Recensement'!I253=\"Refus\",\"Family\",IF('Outil Recensement'!I253=\"Parent seul\",\"Family\",IF('Outil Recensement'!I253=\"Couple\",\"Family\",IF('Outil Recensement'!I253=\"In force\",\"Family\",IF('Outil Recensement'!I253=\"Applies\",\"Family\",IF('Outil Recensement'!I253=\"Applicable\",\"Family\",\"\"))))))))","v":""},null,null,null,null,null,null,null,{"$f":"IF('Outil Recensement'!I253=\"Waive\",\"Yes\",\"\")","v":""}]
[null,null,null,null,null,null,null,null,null,null,null,{"$f":"IF('Outil Recensement'!G254=\"Male\",\"Homme\",IF('Outil Recensement'!G254=\"Femme\",\"Female\",IF('Outil Recensement'!G254=\"H\",\"Male\",IF('Outil Recensement'!G254=\"F\",\"Female\",\"\"))))","v":""},null,{"$f":"IF('Outil Recensement'!I254=\"Individuelle\",\"Single\",IF('Outil Recensement'!I254=\"Familiale\",\"Family\",IF('Outil Recensement'!I254=\"Refus\",\"Family\",IF('Outil Recensement'!I254=\"Parent seul\",\"Family\",IF('Outil Recensement'!I254=\"Couple\",\"Family\",IF('Outil Recensement'!I254=\"In force\",\"Family\",IF('Outil Recensement'!I254=\"Applies\",\"Family\",IF('Outil Recensement'!I254=\"Applicable\",\"Family\",\"\"))))))))","v":""},null,null,null,null,null,null,null,{"$f":"IF('Outil Recensement'!I254=\"Waive\",\"Yes\",\"\")","v":""}]
[null,null,null,null,null,null,null,null,null,null,null,{"$f":"IF('Outil Recensement'!G255=\"Male\",\"Homme\",IF('Outil Recensement'!G255=\"Femme\",\"Female\",IF('Outil Recensement'!G255=\"H\",\"Male\",IF('Outil Recensement'!G255=\"F\",\"Female\",\"\"))))","v":""},null,{"$f":"IF('Outil Recensement'!I255=\"Individuelle\",\"Single\",IF('Outil Recensement'!I255=\"Familiale\",\"Family\",IF('Outil Recensement'!I255=\"Refus\",\"Family\",IF('Outil Recensement'!I255=\"Parent seul\",\"Family\",IF('Outil Recensement'!I255=\"Couple\",\"Family\",IF('Outil Recensement'!I255=\"In force\",\"Family\",IF('Outil Recensement'!I255=\"Applies\",\"Family\",IF('Outil Recensement'!I255=\"Applicable\",\"Family\",\"\"))))))))","v":""},null,null,null,null,null,null,null,{"$f":"IF('Outil Recensement'!I255=\"Waive\",\"Yes\",\"\")","v":""}]
[null,null,null,null,null,null,null,null,null,null,null,{"$f":"IF('Outil Recensement'!G256=\"Male\",\"Homme\",IF('Outil Recensement'!G256=\"Femme\",\"Female\",IF('Outil Recensement'!G256=\"H\",\"Male\",IF('Outil Recensement'!G256=\"F\",\"Female\",\"\"))))","v":""},null,{"$f":"IF('Outil Recensement'!I256=\"Individuelle\",\"Single\",IF('Outil Recensement'!I256=\"Familiale\",\"Family\",IF('Outil Recensement'!I256=\"Refus\",\"Family\",IF('Outil Recensement'!I256=\"Parent seul\",\"Family\",IF('Outil Recensement'!I256=\"Couple\",\"Family\",IF('Outil Recensement'!I256=\"In force\",\"Family\",IF('Outil Recensement'!I256=\"Applies\",\"Family\",IF('Outil Recensement'!I256=\"Applicable\",\"Family\",\"\"))))))))","v":""},null,null,null,null,null,null,null,{"$f":"IF('Outil Recensement'!I256=\"Waive\",\"Yes\",\"\")","v":""}]
[null,null,null,null,null,null,null,null,null,null,null,{"$f":"IF('Outil Recensement'!G257=\"Male\",\"Homme\",IF('Outil Recensement'!G257=\"Femme\",\"Female\",IF('Outil Recensement'!G257=\"H\",\"Male\",IF('Outil Recensement'!G257=\"F\",\"Female\",\"\"))))","v":""},null,{"$f":"IF('Outil Recensement'!I257=\"Individuelle\",\"Single\",IF('Outil Recensement'!I257=\"Familiale\",\"Family\",IF('Outil Recensement'!I257=\"Refus\",\"Family\",IF('Outil Recensement'!I257=\"Parent seul\",\"Family\",IF('Outil Recensement'!I257=\"Couple\",\"Family\",IF('Outil Recensement'!I257=\"In force\",\"Family\",IF('Outil Recensement'!I257=\"Applies\",\"Family\",IF('Outil Recensement'!I257=\"Applicable\",\"Family\",\"\"))))))))","v":""},null,null,null,null,null,null,null,{"$f":"IF('Outil Recensement'!I257=\"Waive\",\"Yes\",\"\")","v":""}]
[null,null,null,null,null,null,null,null,null,null,null,{"$f":"IF('Outil Recensement'!G258=\"Male\",\"Homme\",IF('Outil Recensement'!G258=\"Femme\",\"Female\",IF('Outil Recensement'!G258=\"H\",\"Male\",IF('Outil Recensement'!G258=\"F\",\"Female\",\"\"))))","v":""},null,{"$f":"IF('Outil Recensement'!I258=\"Individuelle\",\"Single\",IF('Outil Recensement'!I258=\"Familiale\",\"Family\",IF('Outil Recensement'!I258=\"Refus\",\"Family\",IF('Outil Recensement'!I258=\"Parent seul\",\"Family\",IF('Outil Recensement'!I258=\"Couple\",\"Family\",IF('Outil Recensement'!I258=\"In force\",\"Family\",IF('Outil Recensement'!I258=\"Applies\",\"Family\",IF('Outil Recensement'!I258=\"Applicable\",\"Family\",\"\"))))))))","v":""},null,null,null,null,null,null,null,{"$f":"IF('Outil Recensement'!I258=\"Waive\",\"Yes\",\"\")","v":""}]
[null,null,null,null,null,null,null,null,null,null,null,{"$f":"IF('Outil Recensement'!G259=\"Male\",\"Homme\",IF('Outil Recensement'!G259=\"Femme\",\"Female\",IF('Outil Recensement'!G259=\"H\",\"Male\",IF('Outil Recensement'!G259=\"F\",\"Female\",\"\"))))","v":""},null,{"$f":"IF('Outil Recensement'!I259=\"Individuelle\",\"Single\",IF('Outil Recensement'!I259=\"Familiale\",\"Family\",IF('Outil Recensement'!I259=\"Refus\",\"Family\",IF('Outil Recensement'!I259=\"Parent seul\",\"Family\",IF('Outil Recensement'!I259=\"Couple\",\"Family\",IF('Outil Recensement'!I259=\"In force\",\"Family\",IF('Outil Recensement'!I259=\"Applies\",\"Family\",IF('Outil Recensement'!I259=\"Applicable\",\"Family\",\"\"))))))))","v":""},null,null,null,null,null,null,null,{"$f":"IF('Outil Recensement'!I259=\"Waive\",\"Yes\",\"\")","v":""}]
[null,null,null,null,null,null,null,null,null,null,null,{"$f":"IF('Outil Recensement'!G260=\"Male\",\"Homme\",IF('Outil Recensement'!G260=\"Femme\",\"Female\",IF('Outil Recensement'!G260=\"H\",\"Male\",IF('Outil Recensement'!G260=\"F\",\"Female\",\"\"))))","v":""},null,{"$f":"IF('Outil Recensement'!I260=\"Individuelle\",\"Single\",IF('Outil Recensement'!I260=\"Familiale\",\"Family\",IF('Outil Recensement'!I260=\"Refus\",\"Family\",IF('Outil Recensement'!I260=\"Parent seul\",\"Family\",IF('Outil Recensement'!I260=\"Couple\",\"Family\",IF('Outil Recensement'!I260=\"In force\",\"Family\",IF('Outil Recensement'!I260=\"Applies\",\"Family\",IF('Outil Recensement'!I260=\"Applicable\",\"Family\",\"\"))))))))","v":""},null,null,null,null,null,null,null,{"$f":"IF('Outil Recensement'!I260=\"Waive\",\"Yes\",\"\")","v":""}]
[null,null,null,null,null,null,null,null,null,null,null,{"$f":"IF('Outil Recensement'!G261=\"Male\",\"Homme\",IF('Outil Recensement'!G261=\"Femme\",\"Female\",IF('Outil Recensement'!G261=\"H\",\"Male\",IF('Outil Recensement'!G261=\"F\",\"Female\",\"\"))))","v":""},null,{"$f":"IF('Outil Recensement'!I261=\"Individuelle\",\"Single\",IF('Outil Recensement'!I261=\"Familiale\",\"Family\",IF('Outil Recensement'!I261=\"Refus\",\"Family\",IF('Outil Recensement'!I261=\"Parent seul\",\"Family\",IF('Outil Recensement'!I261=\"Couple\",\"Family\",IF('Outil Recensement'!I261=\"In force\",\"Family\",IF('Outil Recensement'!I261=\"Applies\",\"Family\",IF('Outil Recensement'!I261=\"Applicable\",\"Family\",\"\"))))))))","v":""},null,null,null,null,null,null,null,{"$f":"IF('Outil Recensement'!I261=\"Waive\",\"Yes\",\"\")","v":""}]
[null,null,null,null,null,null,null,null,null,null,null,{"$f":"IF('Outil Recensement'!G262=\"Male\",\"Homme\",IF('Outil Recensement'!G262=\"Femme\",\"Female\",IF('Outil Recensement'!G262=\"H\",\"Male\",IF('Outil Recensement'!G262=\"F\",\"Female\",\"\"))))","v":""},null,{"$f":"IF('Outil Recensement'!I262=\"Individuelle\",\"Single\",IF('Outil Recensement'!I262=\"Familiale\",\"Family\",IF('Outil Recensement'!I262=\"Refus\",\"Family\",IF('Outil Recensement'!I262=\"Parent seul\",\"Family\",IF('Outil Recensement'!I262=\"Couple\",\"Family\",IF('Outil Recensement'!I262=\"In force\",\"Family\",IF('Outil Recensement'!I262=\"Applies\",\"Family\",IF('Outil Recensement'!I262=\"Applicable\",\"Family\",\"\"))))))))","v":""},null,null,null,null,null,null,null,{"$f":"IF('Outil Recensement'!I262=\"Waive\",\"Yes\",\"\")","v":""}]
[null,null,null,null,null,null,null,null,null,null,null,{"$f":"IF('Outil Recensement'!G263=\"Male\",\"Homme\",IF('Outil Recensement'!G263=\"Femme\",\"Female\",IF('Outil Recensement'!G263=\"H\",\"Male\",IF('Outil Recensement'!G263=\"F\",\"Female\",\"\"))))","v":""},null,{"$f":"IF('Outil Recensement'!I263=\"Individuelle\",\"Single\",IF('Outil Recensement'!I263=\"Familiale\",\"Family\",IF('Outil Recensement'!I263=\"Refus\",\"Family\",IF('Outil Recensement'!I263=\"Parent seul\",\"Family\",IF('Outil Recensement'!I263=\"Couple\",\"Family\",IF('Outil Recensement'!I263=\"In force\",\"Family\",IF('Outil Recensement'!I263=\"Applies\",\"Family\",IF('Outil Recensement'!I263=\"Applicable\",\"Family\",\"\"))))))))","v":""},null,null,null,null,null,null,null,{"$f":"IF('Outil Recensement'!I263=\"Waive\",\"Yes\",\"\")","v":""}]
[null,null,null,null,null,null,null,null,null,null,null,{"$f":"IF('Outil Recensement'!G264=\"Male\",\"Homme\",IF('Outil Recensement'!G264=\"Femme\",\"Female\",IF('Outil Recensement'!G264=\"H\",\"Male\",IF('Outil Recensement'!G264=\"F\",\"Female\",\"\"))))","v":""},null,{"$f":"IF('Outil Recensement'!I264=\"Individuelle\",\"Single\",IF('Outil Recensement'!I264=\"Familiale\",\"Family\",IF('Outil Recensement'!I264=\"Refus\",\"Family\",IF('Outil Recensement'!I264=\"Parent seul\",\"Family\",IF('Outil Recensement'!I264=\"Couple\",\"Family\",IF('Outil Recensement'!I264=\"In force\",\"Family\",IF('Outil Recensement'!I264=\"Applies\",\"Family\",IF('Outil Recensement'!I264=\"Applicable\",\"Family\",\"\"))))))))","v":""},null,null,null,null,null,null,null,{"$f":"IF('Outil Recensement'!I264=\"Waive\",\"Yes\",\"\")","v":""}]
[null,null,null,null,null,null,null,null,null,null,null,{"$f":"IF('Outil Recensement'!G265=\"Male\",\"Homme\",IF('Outil Recensement'!G265=\"Femme\",\"Female\",IF('Outil Recensement'!G265=\"H\",\"Male\",IF('Outil Recensement'!G265=\"F\",\"Female\",\"\"))))","v":""},null,{"$f":"IF('Outil Recensement'!I265=\"Individuelle\",\"Single\",IF('Outil Recensement'!I265=\"Familiale\",\"Family\",IF('Outil Recensement'!I265=\"Refus\",\"Family\",IF('Outil Recensement'!I265=\"Parent seul\",\"Family\",IF('Outil Recensement'!I265=\"Couple\",\"Family\",IF('Outil Recensement'!I265=\"In force\",\"Family\",IF('Outil Recensement'!I265=\"Applies\",\"Family\",IF('Outil Recensement'!I265=\"Applicable\",\"Family\",\"\"))))))))","v":""},null,null,null,null,null,null,null,{"$f":"IF('Outil Recensement'!I265=\"Waive\",\"Yes\",\"\")","v":""}]
[null,null,null,null,null,null,null,null,null,null,null,{"$f":"IF('Outil Recensement'!G266=\"Male\",\"Homme\",IF('Outil Recensement'!G266=\"Femme\",\"Female\",IF('Outil Recensement'!G266=\"H\",\"Male\",IF('Outil Recensement'!G266=\"F\",\"Female\",\"\"))))","v":""},null,{"$f":"IF('Outil Recensement'!I266=\"Individuelle\",\"Single\",IF('Outil Recensement'!I266=\"Familiale\",\"Family\",IF('Outil Recensement'!I266=\"Refus\",\"Family\",IF('Outil Recensement'!I266=\"Parent seul\",\"Family\",IF('Outil Recensement'!I266=\"Couple\",\"Family\",IF('Outil Recensement'!I266=\"In force\",\"Family\",IF('Outil Recensement'!I266=\"Applies\",\"Family\",IF('Outil Recensement'!I266=\"Applicable\",\"Family\",\"\"))))))))","v":""},null,null,null,null,null,null,null,{"$f":"IF('Outil Recensement'!I266=\"Waive\",\"Yes\",\"\")","v":""}]
[null,null,null,null,null,null,null,null,null,null,null,{"$f":"IF('Outil Recensement'!G267=\"Male\",\"Homme\",IF('Outil Recensement'!G267=\"Femme\",\"Female\",IF('Outil Recensement'!G267=\"H\",\"Male\",IF('Outil Recensement'!G267=\"F\",\"Female\",\"\"))))","v":""},null,{"$f":"IF('Outil Recensement'!I267=\"Individuelle\",\"Single\",IF('Outil Recensement'!I267=\"Familiale\",\"Family\",IF('Outil Recensement'!I267=\"Refus\",\"Family\",IF('Outil Recensement'!I267=\"Parent seul\",\"Family\",IF('Outil Recensement'!I267=\"Couple\",\"Family\",IF('Outil Recensement'!I267=\"In force\",\"Family\",IF('Outil Recensement'!I267=\"Applies\",\"Family\",IF('Outil Recensement'!I267=\"Applicable\",\"Family\",\"\"))))))))","v":""},null,null,null,null,null,null,null,{"$f":"IF('Outil Recensement'!I267=\"Waive\",\"Yes\",\"\")","v":""}]
[null,null,null,null,null,null,null,null,null,null,null,{"$f":"IF('Outil Recensement'!G268=\"Male\",\"Homme\",IF('Outil Recensement'!G268=\"Femme\",\"Female\",IF('Outil Recensement'!G268=\"H\",\"Male\",IF('Outil Recensement'!G268=\"F\",\"Female\",\"\"))))","v":""},null,{"$f":"IF('Outil Recensement'!I268=\"Individuelle\",\"Single\",IF('Outil Recensement'!I268=\"Familiale\",\"Family\",IF('Outil Recensement'!I268=\"Refus\",\"Family\",IF('Outil Recensement'!I268=\"Parent seul\",\"Family\",IF('Outil Recensement'!I268=\"Couple\",\"Family\",IF('Outil Recensement'!I268=\"In force\",\"Family\",IF('Outil Recensement'!I268=\"Applies\",\"Family\",IF('Outil Recensement'!I268=\"Applicable\",\"Family\",\"\"))))))))","v":""},null,null,null,null,null,null,null,{"$f":"IF('Outil Recensement'!I268=\"Waive\",\"Yes\",\"\")","v":""}]
[null,null,null,null,null,null,null,null,null,null,null,{"$f":"IF('Outil Recensement'!G269=\"Male\",\"Homme\",IF('Outil Recensement'!G269=\"Femme\",\"Female\",IF('Outil Recensement'!G269=\"H\",\"Male\",IF('Outil Recensement'!G269=\"F\",\"Female\",\"\"))))","v":""},null,{"$f":"IF('Outil Recensement'!I269=\"Individuelle\",\"Single\",IF('Outil Recensement'!I269=\"Familiale\",\"Family\",IF('Outil Recensement'!I269=\"Refus\",\"Family\",IF('Outil Recensement'!I269=\"Parent seul\",\"Family\",IF('Outil Recensement'!I269=\"Couple\",\"Family\",IF('Outil Recensement'!I269=\"In force\",\"Family\",IF('Outil Recensement'!I269=\"Applies\",\"Family\",IF('Outil Recensement'!I269=\"Applicable\",\"Family\",\"\"))))))))","v":""},null,null,null,null,null,null,null,{"$f":"IF('Outil Recensement'!I269=\"Waive\",\"Yes\",\"\")","v":""}]
[null,null,null,null,null,null,null,null,null,null,null,{"$f":"IF('Outil Recensement'!G270=\"Male\",\"Homme\",IF('Outil Recensement'!G270=\"Femme\",\"Female\",IF('Outil Recensement'!G270=\"H\",\"Male\",IF('Outil Recensement'!G270=\"F\",\"Female\",\"\"))))","v":""},null,{"$f":"IF('Outil Recensement'!I270=\"Individuelle\",\"Single\",IF('Outil Recensement'!I270=\"Familiale\",\"Family\",IF('Outil Recensement'!I270=\"Refus\",\"Family\",IF('Outil Recensement'!I270=\"Parent seul\",\"Family\",IF('Outil Recensement'!I270=\"Couple\",\"Family\",IF('Outil Recensement'!I270=\"In force\",\"Family\",IF('Outil Recensement'!I270=\"Applies\",\"Family\",IF('Outil Recensement'!I270=\"Applicable\",\"Family\",\"\"))))))))","v":""},null,null,null,null,null,null,null,{"$f":"IF('Outil Recensement'!I270=\"Waive\",\"Yes\",\"\")","v":""}]
[null,null,null,null,null,null,null,null,null,null,null,{"$f":"IF('Outil Recensement'!G271=\"Male\",\"Homme\",IF('Outil Recensement'!G271=\"Femme\",\"Female\",IF('Outil Recensement'!G271=\"H\",\"Male\",IF('Outil Recensement'!G271=\"F\",\"Female\",\"\"))))","v":""},null,{"$f":"IF('Outil Recensement'!I271=\"Individuelle\",\"Single\",IF('Outil Recensement'!I271=\"Familiale\",\"Family\",IF('Outil Recensement'!I271=\"Refus\",\"Family\",IF('Outil Recensement'!I271=\"Parent seul\",\"Family\",IF('Outil Recensement'!I271=\"Couple\",\"Family\",IF('Outil Recensement'!I271=\"In force\",\"Family\",IF('Outil Recensement'!I271=\"Applies\",\"Family\",IF('Outil Recensement'!I271=\"Applicable\",\"Family\",\"\"))))))))","v":""},null,null,null,null,null,null,null,{"$f":"IF('Outil Recensement'!I271=\"Waive\",\"Yes\",\"\")","v":""}]
[null,null,null,null,null,null,null,null,null,null,null,{"$f":"IF('Outil Recensement'!G272=\"Male\",\"Homme\",IF('Outil Recensement'!G272=\"Femme\",\"Female\",IF('Outil Recensement'!G272=\"H\",\"Male\",IF('Outil Recensement'!G272=\"F\",\"Female\",\"\"))))","v":""},null,{"$f":"IF('Outil Recensement'!I272=\"Individuelle\",\"Single\",IF('Outil Recensement'!I272=\"Familiale\",\"Family\",IF('Outil Recensement'!I272=\"Refus\",\"Family\",IF('Outil Recensement'!I272=\"Parent seul\",\"Family\",IF('Outil Recensement'!I272=\"Couple\",\"Family\",IF('Outil Recensement'!I272=\"In force\",\"Family\",IF('Outil Recensement'!I272=\"Applies\",\"Family\",IF('Outil Recensement'!I272=\"Applicable\",\"Family\",\"\"))))))))","v":""},null,null,null,null,null,null,null,{"$f":"IF('Outil Recensement'!I272=\"Waive\",\"Yes\",\"\")","v":""}]
[null,null,null,null,null,null,null,null,null,null,null,{"$f":"IF('Outil Recensement'!G273=\"Male\",\"Homme\",IF('Outil Recensement'!G273=\"Femme\",\"Female\",IF('Outil Recensement'!G273=\"H\",\"Male\",IF('Outil Recensement'!G273=\"F\",\"Female\",\"\"))))","v":""},null,{"$f":"IF('Outil Recensement'!I273=\"Individuelle\",\"Single\",IF('Outil Recensement'!I273=\"Familiale\",\"Family\",IF('Outil Recensement'!I273=\"Refus\",\"Family\",IF('Outil Recensement'!I273=\"Parent seul\",\"Family\",IF('Outil Recensement'!I273=\"Couple\",\"Family\",IF('Outil Recensement'!I273=\"In force\",\"Family\",IF('Outil Recensement'!I273=\"Applies\",\"Family\",IF('Outil Recensement'!I273=\"Applicable\",\"Family\",\"\"))))))))","v":""},null,null,null,null,null,null,null,{"$f":"IF('Outil Recensement'!I273=\"Waive\",\"Yes\",\"\")","v":""}]
[null,null,null,null,null,null,null,null,null,null,null,{"$f":"IF('Outil Recensement'!G274=\"Male\",\"Homme\",IF('Outil Recensement'!G274=\"Femme\",\"Female\",IF('Outil Recensement'!G274=\"H\",\"Male\",IF('Outil Recensement'!G274=\"F\",\"Female\",\"\"))))","v":""},null,{"$f":"IF('Outil Recensement'!I274=\"Individuelle\",\"Single\",IF('Outil Recensement'!I274=\"Familiale\",\"Family\",IF('Outil Recensement'!I274=\"Refus\",\"Family\",IF('Outil Recensement'!I274=\"Parent seul\",\"Family\",IF('Outil Recensement'!I274=\"Couple\",\"Family\",IF('Outil Recensement'!I274=\"In force\",\"Family\",IF('Outil Recensement'!I274=\"Applies\",\"Family\",IF('Outil Recensement'!I274=\"Applicable\",\"Family\",\"\"))))))))","v":""},null,null,null,null,null,null,null,{"$f":"IF('Outil Recensement'!I274=\"Waive\",\"Yes\",\"\")","v":""}]
[null,null,null,null,null,null,null,null,null,null,null,{"$f":"IF('Outil Recensement'!G275=\"Male\",\"Homme\",IF('Outil Recensement'!G275=\"Femme\",\"Female\",IF('Outil Recensement'!G275=\"H\",\"Male\",IF('Outil Recensement'!G275=\"F\",\"Female\",\"\"))))","v":""},null,{"$f":"IF('Outil Recensement'!I275=\"Individuelle\",\"Single\",IF('Outil Recensement'!I275=\"Familiale\",\"Family\",IF('Outil Recensement'!I275=\"Refus\",\"Family\",IF('Outil Recensement'!I275=\"Parent seul\",\"Family\",IF('Outil Recensement'!I275=\"Couple\",\"Family\",IF('Outil Recensement'!I275=\"In force\",\"Family\",IF('Outil Recensement'!I275=\"Applies\",\"Family\",IF('Outil Recensement'!I275=\"Applicable\",\"Family\",\"\"))))))))","v":""},null,null,null,null,null,null,null,{"$f":"IF('Outil Recensement'!I275=\"Waive\",\"Yes\",\"\")","v":""}]
[null,null,null,null,null,null,null,null,null,null,null,{"$f":"IF('Outil Recensement'!G276=\"Male\",\"Homme\",IF('Outil Recensement'!G276=\"Femme\",\"Female\",IF('Outil Recensement'!G276=\"H\",\"Male\",IF('Outil Recensement'!G276=\"F\",\"Female\",\"\"))))","v":""},null,{"$f":"IF('Outil Recensement'!I276=\"Individuelle\",\"Single\",IF('Outil Recensement'!I276=\"Familiale\",\"Family\",IF('Outil Recensement'!I276=\"Refus\",\"Family\",IF('Outil Recensement'!I276=\"Parent seul\",\"Family\",IF('Outil Recensement'!I276=\"Couple\",\"Family\",IF('Outil Recensement'!I276=\"In force\",\"Family\",IF('Outil Recensement'!I276=\"Applies\",\"Family\",IF('Outil Recensement'!I276=\"Applicable\",\"Family\",\"\"))))))))","v":""},null,null,null,null,null,null,null,{"$f":"IF('Outil Recensement'!I276=\"Waive\",\"Yes\",\"\")","v":""}]
[null,null,null,null,null,null,null,null,null,null,null,{"$f":"IF('Outil Recensement'!G277=\"Male\",\"Homme\",IF('Outil Recensement'!G277=\"Femme\",\"Female\",IF('Outil Recensement'!G277=\"H\",\"Male\",IF('Outil Recensement'!G277=\"F\",\"Female\",\"\"))))","v":""},null,{"$f":"IF('Outil Recensement'!I277=\"Individuelle\",\"Single\",IF('Outil Recensement'!I277=\"Familiale\",\"Family\",IF('Outil Recensement'!I277=\"Refus\",\"Family\",IF('Outil Recensement'!I277=\"Parent seul\",\"Family\",IF('Outil Recensement'!I277=\"Couple\",\"Family\",IF('Outil Recensement'!I277=\"In force\",\"Family\",IF('Outil Recensement'!I277=\"Applies\",\"Family\",IF('Outil Recensement'!I277=\"Applicable\",\"Family\",\"\"))))))))","v":""},null,null,null,null,null,null,null,{"$f":"IF('Outil Recensement'!I277=\"Waive\",\"Yes\",\"\")","v":""}]
[null,null,null,null,null,null,null,null,null,null,null,{"$f":"IF('Outil Recensement'!G278=\"Male\",\"Homme\",IF('Outil Recensement'!G278=\"Femme\",\"Female\",IF('Outil Recensement'!G278=\"H\",\"Male\",IF('Outil Recensement'!G278=\"F\",\"Female\",\"\"))))","v":""},null,{"$f":"IF('Outil Recensement'!I278=\"Individuelle\",\"Single\",IF('Outil Recensement'!I278=\"Familiale\",\"Family\",IF('Outil Recensement'!I278=\"Refus\",\"Family\",IF('Outil Recensement'!I278=\"Parent seul\",\"Family\",IF('Outil Recensement'!I278=\"Couple\",\"Family\",IF('Outil Recensement'!I278=\"In force\",\"Family\",IF('Outil Recensement'!I278=\"Applies\",\"Family\",IF('Outil Recensement'!I278=\"Applicable\",\"Family\",\"\"))))))))","v":""},null,null,null,null,null,null,null,{"$f":"IF('Outil Recensement'!I278=\"Waive\",\"Yes\",\"\")","v":""}]
[null,null,null,null,null,null,null,null,null,null,null,{"$f":"IF('Outil Recensement'!G279=\"Male\",\"Homme\",IF('Outil Recensement'!G279=\"Femme\",\"Female\",IF('Outil Recensement'!G279=\"H\",\"Male\",IF('Outil Recensement'!G279=\"F\",\"Female\",\"\"))))","v":""},null,{"$f":"IF('Outil Recensement'!I279=\"Individuelle\",\"Single\",IF('Outil Recensement'!I279=\"Familiale\",\"Family\",IF('Outil Recensement'!I279=\"Refus\",\"Family\",IF('Outil Recensement'!I279=\"Parent seul\",\"Family\",IF('Outil Recensement'!I279=\"Couple\",\"Family\",IF('Outil Recensement'!I279=\"In force\",\"Family\",IF('Outil Recensement'!I279=\"Applies\",\"Family\",IF('Outil Recensement'!I279=\"Applicable\",\"Family\",\"\"))))))))","v":""},null,null,null,null,null,null,null,{"$f":"IF('Outil Recensement'!I279=\"Waive\",\"Yes\",\"\")","v":""}]
[null,null,null,null,null,null,null,null,null,null,null,{"$f":"IF('Outil Recensement'!G280=\"Male\",\"Homme\",IF('Outil Recensement'!G280=\"Femme\",\"Female\",IF('Outil Recensement'!G280=\"H\",\"Male\",IF('Outil Recensement'!G280=\"F\",\"Female\",\"\"))))","v":""},null,{"$f":"IF('Outil Recensement'!I280=\"Individuelle\",\"Single\",IF('Outil Recensement'!I280=\"Familiale\",\"Family\",IF('Outil Recensement'!I280=\"Refus\",\"Family\",IF('Outil Recensement'!I280=\"Parent seul\",\"Family\",IF('Outil Recensement'!I280=\"Couple\",\"Family\",IF('Outil Recensement'!I280=\"In force\",\"Family\",IF('Outil Recensement'!I280=\"Applies\",\"Family\",IF('Outil Recensement'!I280=\"Applicable\",\"Family\",\"\"))))))))","v":""},null,null,null,null,null,null,null,{"$f":"IF('Outil Recensement'!I280=\"Waive\",\"Yes\",\"\")","v":""}]
[null,null,null,null,null,null,null,null,null,null,null,{"$f":"IF('Outil Recensement'!G281=\"Male\",\"Homme\",IF('Outil Recensement'!G281=\"Femme\",\"Female\",IF('Outil Recensement'!G281=\"H\",\"Male\",IF('Outil Recensement'!G281=\"F\",\"Female\",\"\"))))","v":""},null,{"$f":"IF('Outil Recensement'!I281=\"Individuelle\",\"Single\",IF('Outil Recensement'!I281=\"Familiale\",\"Family\",IF('Outil Recensement'!I281=\"Refus\",\"Family\",IF('Outil Recensement'!I281=\"Parent seul\",\"Family\",IF('Outil Recensement'!I281=\"Couple\",\"Family\",IF('Outil Recensement'!I281=\"In force\",\"Family\",IF('Outil Recensement'!I281=\"Applies\",\"Family\",IF('Outil Recensement'!I281=\"Applicable\",\"Family\",\"\"))))))))","v":""},null,null,null,null,null,null,null,{"$f":"IF('Outil Recensement'!I281=\"Waive\",\"Yes\",\"\")","v":""}]
[null,null,null,null,null,null,null,null,null,null,null,{"$f":"IF('Outil Recensement'!G282=\"Male\",\"Homme\",IF('Outil Recensement'!G282=\"Femme\",\"Female\",IF('Outil Recensement'!G282=\"H\",\"Male\",IF('Outil Recensement'!G282=\"F\",\"Female\",\"\"))))","v":""},null,{"$f":"IF('Outil Recensement'!I282=\"Individuelle\",\"Single\",IF('Outil Recensement'!I282=\"Familiale\",\"Family\",IF('Outil Recensement'!I282=\"Refus\",\"Family\",IF('Outil Recensement'!I282=\"Parent seul\",\"Family\",IF('Outil Recensement'!I282=\"Couple\",\"Family\",IF('Outil Recensement'!I282=\"In force\",\"Family\",IF('Outil Recensement'!I282=\"Applies\",\"Family\",IF('Outil Recensement'!I282=\"Applicable\",\"Family\",\"\"))))))))","v":""},null,null,null,null,null,null,null,{"$f":"IF('Outil Recensement'!I282=\"Waive\",\"Yes\",\"\")","v":""}]
[null,null,null,null,null,null,null,null,null,null,null,{"$f":"IF('Outil Recensement'!G283=\"Male\",\"Homme\",IF('Outil Recensement'!G283=\"Femme\",\"Female\",IF('Outil Recensement'!G283=\"H\",\"Male\",IF('Outil Recensement'!G283=\"F\",\"Female\",\"\"))))","v":""},null,{"$f":"IF('Outil Recensement'!I283=\"Individuelle\",\"Single\",IF('Outil Recensement'!I283=\"Familiale\",\"Family\",IF('Outil Recensement'!I283=\"Refus\",\"Family\",IF('Outil Recensement'!I283=\"Parent seul\",\"Family\",IF('Outil Recensement'!I283=\"Couple\",\"Family\",IF('Outil Recensement'!I283=\"In force\",\"Family\",IF('Outil Recensement'!I283=\"Applies\",\"Family\",IF('Outil Recensement'!I283=\"Applicable\",\"Family\",\"\"))))))))","v":""},null,null,null,null,null,null,null,{"$f":"IF('Outil Recensement'!I283=\"Waive\",\"Yes\",\"\")","v":""}]
[null,null,null,null,null,null,null,null,null,null,null,{"$f":"IF('Outil Recensement'!G284=\"Male\",\"Homme\",IF('Outil Recensement'!G284=\"Femme\",\"Female\",IF('Outil Recensement'!G284=\"H\",\"Male\",IF('Outil Recensement'!G284=\"F\",\"Female\",\"\"))))","v":""},null,{"$f":"IF('Outil Recensement'!I284=\"Individuelle\",\"Single\",IF('Outil Recensement'!I284=\"Familiale\",\"Family\",IF('Outil Recensement'!I284=\"Refus\",\"Family\",IF('Outil Recensement'!I284=\"Parent seul\",\"Family\",IF('Outil Recensement'!I284=\"Couple\",\"Family\",IF('Outil Recensement'!I284=\"In force\",\"Family\",IF('Outil Recensement'!I284=\"Applies\",\"Family\",IF('Outil Recensement'!I284=\"Applicable\",\"Family\",\"\"))))))))","v":""},null,null,null,null,null,null,null,{"$f":"IF('Outil Recensement'!I284=\"Waive\",\"Yes\",\"\")","v":""}]
[null,null,null,null,null,null,null,null,null,null,null,{"$f":"IF('Outil Recensement'!G285=\"Male\",\"Homme\",IF('Outil Recensement'!G285=\"Femme\",\"Female\",IF('Outil Recensement'!G285=\"H\",\"Male\",IF('Outil Recensement'!G285=\"F\",\"Female\",\"\"))))","v":""},null,{"$f":"IF('Outil Recensement'!I285=\"Individuelle\",\"Single\",IF('Outil Recensement'!I285=\"Familiale\",\"Family\",IF('Outil Recensement'!I285=\"Refus\",\"Family\",IF('Outil Recensement'!I285=\"Parent seul\",\"Family\",IF('Outil Recensement'!I285=\"Couple\",\"Family\",IF('Outil Recensement'!I285=\"In force\",\"Family\",IF('Outil Recensement'!I285=\"Applies\",\"Family\",IF('Outil Recensement'!I285=\"Applicable\",\"Family\",\"\"))))))))","v":""},null,null,null,null,null,null,null,{"$f":"IF('Outil Recensement'!I285=\"Waive\",\"Yes\",\"\")","v":""}]
[null,null,null,null,null,null,null,null,null,null,null,{"$f":"IF('Outil Recensement'!G286=\"Male\",\"Homme\",IF('Outil Recensement'!G286=\"Femme\",\"Female\",IF('Outil Recensement'!G286=\"H\",\"Male\",IF('Outil Recensement'!G286=\"F\",\"Female\",\"\"))))","v":""},null,{"$f":"IF('Outil Recensement'!I286=\"Individuelle\",\"Single\",IF('Outil Recensement'!I286=\"Familiale\",\"Family\",IF('Outil Recensement'!I286=\"Refus\",\"Family\",IF('Outil Recensement'!I286=\"Parent seul\",\"Family\",IF('Outil Recensement'!I286=\"Couple\",\"Family\",IF('Outil Recensement'!I286=\"In force\",\"Family\",IF('Outil Recensement'!I286=\"Applies\",\"Family\",IF('Outil Recensement'!I286=\"Applicable\",\"Family\",\"\"))))))))","v":""},null,null,null,null,null,null,null,{"$f":"IF('Outil Recensement'!I286=\"Waive\",\"Yes\",\"\")","v":""}]
[null,null,null,null,null,null,null,null,null,null,null,{"$f":"IF('Outil Recensement'!G287=\"Male\",\"Homme\",IF('Outil Recensement'!G287=\"Femme\",\"Female\",IF('Outil Recensement'!G287=\"H\",\"Male\",IF('Outil Recensement'!G287=\"F\",\"Female\",\"\"))))","v":""},null,{"$f":"IF('Outil Recensement'!I287=\"Individuelle\",\"Single\",IF('Outil Recensement'!I287=\"Familiale\",\"Family\",IF('Outil Recensement'!I287=\"Refus\",\"Family\",IF('Outil Recensement'!I287=\"Parent seul\",\"Family\",IF('Outil Recensement'!I287=\"Couple\",\"Family\",IF('Outil Recensement'!I287=\"In force\",\"Family\",IF('Outil Recensement'!I287=\"Applies\",\"Family\",IF('Outil Recensement'!I287=\"Applicable\",\"Family\",\"\"))))))))","v":""},null,null,null,null,null,null,null,{"$f":"IF('Outil Recensement'!I287=\"Waive\",\"Yes\",\"\")","v":""}]
[null,null,null,null,null,null,null,null,null,null,null,{"$f":"IF('Outil Recensement'!G288=\"Male\",\"Homme\",IF('Outil Recensement'!G288=\"Femme\",\"Female\",IF('Outil Recensement'!G288=\"H\",\"Male\",IF('Outil Recensement'!G288=\"F\",\"Female\",\"\"))))","v":""},null,{"$f":"IF('Outil Recensement'!I288=\"Individuelle\",\"Single\",IF('Outil Recensement'!I288=\"Familiale\",\"Family\",IF('Outil Recensement'!I288=\"Refus\",\"Family\",IF('Outil Recensement'!I288=\"Parent seul\",\"Family\",IF('Outil Recensement'!I288=\"Couple\",\"Family\",IF('Outil Recensement'!I288=\"In force\",\"Family\",IF('Outil Recensement'!I288=\"Applies\",\"Family\",IF('Outil Recensement'!I288=\"Applicable\",\"Family\",\"\"))))))))","v":""},null,null,null,null,null,null,null,{"$f":"IF('Outil Recensement'!I288=\"Waive\",\"Yes\",\"\")","v":""}]
[null,null,null,null,null,null,null,null,null,null,null,{"$f":"IF('Outil Recensement'!G289=\"Male\",\"Homme\",IF('Outil Recensement'!G289=\"Femme\",\"Female\",IF('Outil Recensement'!G289=\"H\",\"Male\",IF('Outil Recensement'!G289=\"F\",\"Female\",\"\"))))","v":""},null,{"$f":"IF('Outil Recensement'!I289=\"Individuelle\",\"Single\",IF('Outil Recensement'!I289=\"Familiale\",\"Family\",IF('Outil Recensement'!I289=\"Refus\",\"Family\",IF('Outil Recensement'!I289=\"Parent seul\",\"Family\",IF('Outil Recensement'!I289=\"Couple\",\"Family\",IF('Outil Recensement'!I289=\"In force\",\"Family\",IF('Outil Recensement'!I289=\"Applies\",\"Family\",IF('Outil Recensement'!I289=\"Applicable\",\"Family\",\"\"))))))))","v":""},null,null,null,null,null,null,null,{"$f":"IF('Outil Recensement'!I289=\"Waive\",\"Yes\",\"\")","v":""}]
[null,null,null,null,null,null,null,null,null,null,null,{"$f":"IF('Outil Recensement'!G290=\"Male\",\"Homme\",IF('Outil Recensement'!G290=\"Femme\",\"Female\",IF('Outil Recensement'!G290=\"H\",\"Male\",IF('Outil Recensement'!G290=\"F\",\"Female\",\"\"))))","v":""},null,{"$f":"IF('Outil Recensement'!I290=\"Individuelle\",\"Single\",IF('Outil Recensement'!I290=\"Familiale\",\"Family\",IF('Outil Recensement'!I290=\"Refus\",\"Family\",IF('Outil Recensement'!I290=\"Parent seul\",\"Family\",IF('Outil Recensement'!I290=\"Couple\",\"Family\",IF('Outil Recensement'!I290=\"In force\",\"Family\",IF('Outil Recensement'!I290=\"Applies\",\"Family\",IF('Outil Recensement'!I290=\"Applicable\",\"Family\",\"\"))))))))","v":""},null,null,null,null,null,null,null,{"$f":"IF('Outil Recensement'!I290=\"Waive\",\"Yes\",\"\")","v":""}]
[null,null,null,null,null,null,null,null,null,null,null,{"$f":"IF('Outil Recensement'!G291=\"Male\",\"Homme\",IF('Outil Recensement'!G291=\"Femme\",\"Female\",IF('Outil Recensement'!G291=\"H\",\"Male\",IF('Outil Recensement'!G291=\"F\",\"Female\",\"\"))))","v":""},null,{"$f":"IF('Outil Recensement'!I291=\"Individuelle\",\"Single\",IF('Outil Recensement'!I291=\"Familiale\",\"Family\",IF('Outil Recensement'!I291=\"Refus\",\"Family\",IF('Outil Recensement'!I291=\"Parent seul\",\"Family\",IF('Outil Recensement'!I291=\"Couple\",\"Family\",IF('Outil Recensement'!I291=\"In force\",\"Family\",IF('Outil Recensement'!I291=\"Applies\",\"Family\",IF('Outil Recensement'!I291=\"Applicable\",\"Family\",\"\"))))))))","v":""},null,null,null,null,null,null,null,{"$f":"IF('Outil Recensement'!I291=\"Waive\",\"Yes\",\"\")","v":""}]
[null,null,null,null,null,null,null,null,null,null,null,{"$f":"IF('Outil Recensement'!G292=\"Male\",\"Homme\",IF('Outil Recensement'!G292=\"Femme\",\"Female\",IF('Outil Recensement'!G292=\"H\",\"Male\",IF('Outil Recensement'!G292=\"F\",\"Female\",\"\"))))","v":""},null,{"$f":"IF('Outil Recensement'!I292=\"Individuelle\",\"Single\",IF('Outil Recensement'!I292=\"Familiale\",\"Family\",IF('Outil Recensement'!I292=\"Refus\",\"Family\",IF('Outil Recensement'!I292=\"Parent seul\",\"Family\",IF('Outil Recensement'!I292=\"Couple\",\"Family\",IF('Outil Recensement'!I292=\"In force\",\"Family\",IF('Outil Recensement'!I292=\"Applies\",\"Family\",IF('Outil Recensement'!I292=\"Applicable\",\"Family\",\"\"))))))))","v":""},null,null,null,null,null,null,null,{"$f":"IF('Outil Recensement'!I292=\"Waive\",\"Yes\",\"\")","v":""}]
[null,null,null,null,null,null,null,null,null,null,null,{"$f":"IF('Outil Recensement'!G293=\"Male\",\"Homme\",IF('Outil Recensement'!G293=\"Femme\",\"Female\",IF('Outil Recensement'!G293=\"H\",\"Male\",IF('Outil Recensement'!G293=\"F\",\"Female\",\"\"))))","v":""},null,{"$f":"IF('Outil Recensement'!I293=\"Individuelle\",\"Single\",IF('Outil Recensement'!I293=\"Familiale\",\"Family\",IF('Outil Recensement'!I293=\"Refus\",\"Family\",IF('Outil Recensement'!I293=\"Parent seul\",\"Family\",IF('Outil Recensement'!I293=\"Couple\",\"Family\",IF('Outil Recensement'!I293=\"In force\",\"Family\",IF('Outil Recensement'!I293=\"Applies\",\"Family\",IF('Outil Recensement'!I293=\"Applicable\",\"Family\",\"\"))))))))","v":""},null,null,null,null,null,null,null,{"$f":"IF('Outil Recensement'!I293=\"Waive\",\"Yes\",\"\")","v":""}]
[null,null,null,null,null,null,null,null,null,null,null,{"$f":"IF('Outil Recensement'!G294=\"Male\",\"Homme\",IF('Outil Recensement'!G294=\"Femme\",\"Female\",IF('Outil Recensement'!G294=\"H\",\"Male\",IF('Outil Recensement'!G294=\"F\",\"Female\",\"\"))))","v":""},null,{"$f":"IF('Outil Recensement'!I294=\"Individuelle\",\"Single\",IF('Outil Recensement'!I294=\"Familiale\",\"Family\",IF('Outil Recensement'!I294=\"Refus\",\"Family\",IF('Outil Recensement'!I294=\"Parent seul\",\"Family\",IF('Outil Recensement'!I294=\"Couple\",\"Family\",IF('Outil Recensement'!I294=\"In force\",\"Family\",IF('Outil Recensement'!I294=\"Applies\",\"Family\",IF('Outil Recensement'!I294=\"Applicable\",\"Family\",\"\"))))))))","v":""},null,null,null,null,null,null,null,{"$f":"IF('Outil Recensement'!I294=\"Waive\",\"Yes\",\"\")","v":""}]
[null,null,null,null,null,null,null,null,null,null,null,{"$f":"IF('Outil Recensement'!G295=\"Male\",\"Homme\",IF('Outil Recensement'!G295=\"Femme\",\"Female\",IF('Outil Recensement'!G295=\"H\",\"Male\",IF('Outil Recensement'!G295=\"F\",\"Female\",\"\"))))","v":""},null,{"$f":"IF('Outil Recensement'!I295=\"Individuelle\",\"Single\",IF('Outil Recensement'!I295=\"Familiale\",\"Family\",IF('Outil Recensement'!I295=\"Refus\",\"Family\",IF('Outil Recensement'!I295=\"Parent seul\",\"Family\",IF('Outil Recensement'!I295=\"Couple\",\"Family\",IF('Outil Recensement'!I295=\"In force\",\"Family\",IF('Outil Recensement'!I295=\"Applies\",\"Family\",IF('Outil Recensement'!I295=\"Applicable\",\"Family\",\"\"))))))))","v":""},null,null,null,null,null,null,null,{"$f":"IF('Outil Recensement'!I295=\"Waive\",\"Yes\",\"\")","v":""}]
[null,null,null,null,null,null,null,null,null,null,null,{"$f":"IF('Outil Recensement'!G296=\"Male\",\"Homme\",IF('Outil Recensement'!G296=\"Femme\",\"Female\",IF('Outil Recensement'!G296=\"H\",\"Male\",IF('Outil Recensement'!G296=\"F\",\"Female\",\"\"))))","v":""},null,{"$f":"IF('Outil Recensement'!I296=\"Individuelle\",\"Single\",IF('Outil Recensement'!I296=\"Familiale\",\"Family\",IF('Outil Recensement'!I296=\"Refus\",\"Family\",IF('Outil Recensement'!I296=\"Parent seul\",\"Family\",IF('Outil Recensement'!I296=\"Couple\",\"Family\",IF('Outil Recensement'!I296=\"In force\",\"Family\",IF('Outil Recensement'!I296=\"Applies\",\"Family\",IF('Outil Recensement'!I296=\"Applicable\",\"Family\",\"\"))))))))","v":""},null,null,null,null,null,null,null,{"$f":"IF('Outil Recensement'!I296=\"Waive\",\"Yes\",\"\")","v":""}]
[null,null,null,null,null,null,null,null,null,null,null,{"$f":"IF('Outil Recensement'!G297=\"Male\",\"Homme\",IF('Outil Recensement'!G297=\"Femme\",\"Female\",IF('Outil Recensement'!G297=\"H\",\"Male\",IF('Outil Recensement'!G297=\"F\",\"Female\",\"\"))))","v":""},null,{"$f":"IF('Outil Recensement'!I297=\"Individuelle\",\"Single\",IF('Outil Recensement'!I297=\"Familiale\",\"Family\",IF('Outil Recensement'!I297=\"Refus\",\"Family\",IF('Outil Recensement'!I297=\"Parent seul\",\"Family\",IF('Outil Recensement'!I297=\"Couple\",\"Family\",IF('Outil Recensement'!I297=\"In force\",\"Family\",IF('Outil Recensement'!I297=\"Applies\",\"Family\",IF('Outil Recensement'!I297=\"Applicable\",\"Family\",\"\"))))))))","v":""},null,null,null,null,null,null,null,{"$f":"IF('Outil Recensement'!I297=\"Waive\",\"Yes\",\"\")","v":""}]
[null,null,null,null,null,null,null,null,null,null,null,{"$f":"IF('Outil Recensement'!G298=\"Male\",\"Homme\",IF('Outil Recensement'!G298=\"Femme\",\"Female\",IF('Outil Recensement'!G298=\"H\",\"Male\",IF('Outil Recensement'!G298=\"F\",\"Female\",\"\"))))","v":""},null,{"$f":"IF('Outil Recensement'!I298=\"Individuelle\",\"Single\",IF('Outil Recensement'!I298=\"Familiale\",\"Family\",IF('Outil Recensement'!I298=\"Refus\",\"Family\",IF('Outil Recensement'!I298=\"Parent seul\",\"Family\",IF('Outil Recensement'!I298=\"Couple\",\"Family\",IF('Outil Recensement'!I298=\"In force\",\"Family\",IF('Outil Recensement'!I298=\"Applies\",\"Family\",IF('Outil Recensement'!I298=\"Applicable\",\"Family\",\"\"))))))))","v":""},null,null,null,null,null,null,null,{"$f":"IF('Outil Recensement'!I298=\"Waive\",\"Yes\",\"\")","v":""}]
[null,null,null,null,null,null,null,null,null,null,null,{"$f":"IF('Outil Recensement'!G299=\"Male\",\"Homme\",IF('Outil Recensement'!G299=\"Femme\",\"Female\",IF('Outil Recensement'!G299=\"H\",\"Male\",IF('Outil Recensement'!G299=\"F\",\"Female\",\"\"))))","v":""},null,{"$f":"IF('Outil Recensement'!I299=\"Individuelle\",\"Single\",IF('Outil Recensement'!I299=\"Familiale\",\"Family\",IF('Outil Recensement'!I299=\"Refus\",\"Family\",IF('Outil Recensement'!I299=\"Parent seul\",\"Family\",IF('Outil Recensement'!I299=\"Couple\",\"Family\",IF('Outil Recensement'!I299=\"In force\",\"Family\",IF('Outil Recensement'!I299=\"Applies\",\"Family\",IF('Outil Recensement'!I299=\"Applicable\",\"Family\",\"\"))))))))","v":""},null,null,null,null,null,null,null,{"$f":"IF('Outil Recensement'!I299=\"Waive\",\"Yes\",\"\")","v":""}]
[null,null,null,null,null,null,null,null,null,null,null,{"$f":"IF('Outil Recensement'!G300=\"Male\",\"Homme\",IF('Outil Recensement'!G300=\"Femme\",\"Female\",IF('Outil Recensement'!G300=\"H\",\"Male\",IF('Outil Recensement'!G300=\"F\",\"Female\",\"\"))))","v":""},null,{"$f":"IF('Outil Recensement'!I300=\"Individuelle\",\"Single\",IF('Outil Recensement'!I300=\"Familiale\",\"Family\",IF('Outil Recensement'!I300=\"Refus\",\"Family\",IF('Outil Recensement'!I300=\"Parent seul\",\"Family\",IF('Outil Recensement'!I300=\"Couple\",\"Family\",IF('Outil Recensement'!I300=\"In force\",\"Family\",IF('Outil Recensement'!I300=\"Applies\",\"Family\",IF('Outil Recensement'!I300=\"Applicable\",\"Family\",\"\"))))))))","v":""},null,null,null,null,null,null,null,{"$f":"IF('Outil Recensement'!I300=\"Waive\",\"Yes\",\"\")","v":""}]
[null,null,null,null,null,null,null,null,null,null,null,{"$f":"IF('Outil Recensement'!G301=\"Male\",\"Homme\",IF('Outil Recensement'!G301=\"Femme\",\"Female\",IF('Outil Recensement'!G301=\"H\",\"Male\",IF('Outil Recensement'!G301=\"F\",\"Female\",\"\"))))","v":""},null,{"$f":"IF('Outil Recensement'!I301=\"Individuelle\",\"Single\",IF('Outil Recensement'!I301=\"Familiale\",\"Family\",IF('Outil Recensement'!I301=\"Refus\",\"Family\",IF('Outil Recensement'!I301=\"Parent seul\",\"Family\",IF('Outil Recensement'!I301=\"Couple\",\"Family\",IF('Outil Recensement'!I301=\"In force\",\"Family\",IF('Outil Recensement'!I301=\"Applies\",\"Family\",IF('Outil Recensement'!I301=\"Applicable\",\"Family\",\"\"))))))))","v":""},null,null,null,null,null,null,null,{"$f":"IF('Outil Recensement'!I301=\"Waive\",\"Yes\",\"\")","v":""}]
[null,null,null,null,null,null,null,null,null,null,null,{"$f":"IF('Outil Recensement'!G302=\"Male\",\"Homme\",IF('Outil Recensement'!G302=\"Femme\",\"Female\",IF('Outil Recensement'!G302=\"H\",\"Male\",IF('Outil Recensement'!G302=\"F\",\"Female\",\"\"))))","v":""},null,{"$f":"IF('Outil Recensement'!I302=\"Individuelle\",\"Single\",IF('Outil Recensement'!I302=\"Familiale\",\"Family\",IF('Outil Recensement'!I302=\"Refus\",\"Family\",IF('Outil Recensement'!I302=\"Parent seul\",\"Family\",IF('Outil Recensement'!I302=\"Couple\",\"Family\",IF('Outil Recensement'!I302=\"In force\",\"Family\",IF('Outil Recensement'!I302=\"Applies\",\"Family\",IF('Outil Recensement'!I302=\"Applicable\",\"Family\",\"\"))))))))","v":""},null,null,null,null,null,null,null,{"$f":"IF('Outil Recensement'!I302=\"Waive\",\"Yes\",\"\")","v":""}]
[null,null,null,null,null,null,null,null,null,null,null,{"$f":"IF('Outil Recensement'!G303=\"Male\",\"Homme\",IF('Outil Recensement'!G303=\"Femme\",\"Female\",IF('Outil Recensement'!G303=\"H\",\"Male\",IF('Outil Recensement'!G303=\"F\",\"Female\",\"\"))))","v":""},null,{"$f":"IF('Outil Recensement'!I303=\"Individuelle\",\"Single\",IF('Outil Recensement'!I303=\"Familiale\",\"Family\",IF('Outil Recensement'!I303=\"Refus\",\"Family\",IF('Outil Recensement'!I303=\"Parent seul\",\"Family\",IF('Outil Recensement'!I303=\"Couple\",\"Family\",IF('Outil Recensement'!I303=\"In force\",\"Family\",IF('Outil Recensement'!I303=\"Applies\",\"Family\",IF('Outil Recensement'!I303=\"Applicable\",\"Family\",\"\"))))))))","v":""},null,null,null,null,null,null,null,{"$f":"IF('Outil Recensement'!I303=\"Waive\",\"Yes\",\"\")","v":""}]
[null,null,null,null,null,null,null,null,null,null,null,{"$f":"IF('Outil Recensement'!G304=\"Male\",\"Homme\",IF('Outil Recensement'!G304=\"Femme\",\"Female\",IF('Outil Recensement'!G304=\"H\",\"Male\",IF('Outil Recensement'!G304=\"F\",\"Female\",\"\"))))","v":""},null,{"$f":"IF('Outil Recensement'!I304=\"Individuelle\",\"Single\",IF('Outil Recensement'!I304=\"Familiale\",\"Family\",IF('Outil Recensement'!I304=\"Refus\",\"Family\",IF('Outil Recensement'!I304=\"Parent seul\",\"Family\",IF('Outil Recensement'!I304=\"Couple\",\"Family\",IF('Outil Recensement'!I304=\"In force\",\"Family\",IF('Outil Recensement'!I304=\"Applies\",\"Family\",IF('Outil Recensement'!I304=\"Applicable\",\"Family\",\"\"))))))))","v":""},null,null,null,null,null,null,null,{"$f":"IF('Outil Recensement'!I304=\"Waive\",\"Yes\",\"\")","v":""}]
[null,null,null,null,null,null,null,null,null,null,null,{"$f":"IF('Outil Recensement'!G305=\"Male\",\"Homme\",IF('Outil Recensement'!G305=\"Femme\",\"Female\",IF('Outil Recensement'!G305=\"H\",\"Male\",IF('Outil Recensement'!G305=\"F\",\"Female\",\"\"))))","v":""},null,{"$f":"IF('Outil Recensement'!I305=\"Individuelle\",\"Single\",IF('Outil Recensement'!I305=\"Familiale\",\"Family\",IF('Outil Recensement'!I305=\"Refus\",\"Family\",IF('Outil Recensement'!I305=\"Parent seul\",\"Family\",IF('Outil Recensement'!I305=\"Couple\",\"Family\",IF('Outil Recensement'!I305=\"In force\",\"Family\",IF('Outil Recensement'!I305=\"Applies\",\"Family\",IF('Outil Recensement'!I305=\"Applicable\",\"Family\",\"\"))))))))","v":""},null,null,null,null,null,null,null,{"$f":"IF('Outil Recensement'!I305=\"Waive\",\"Yes\",\"\")","v":""}]
[null,null,null,null,null,null,null,null,null,null,null,{"$f":"IF('Outil Recensement'!G306=\"Male\",\"Homme\",IF('Outil Recensement'!G306=\"Femme\",\"Female\",IF('Outil Recensement'!G306=\"H\",\"Male\",IF('Outil Recensement'!G306=\"F\",\"Female\",\"\"))))","v":""},null,{"$f":"IF('Outil Recensement'!I306=\"Individuelle\",\"Single\",IF('Outil Recensement'!I306=\"Familiale\",\"Family\",IF('Outil Recensement'!I306=\"Refus\",\"Family\",IF('Outil Recensement'!I306=\"Parent seul\",\"Family\",IF('Outil Recensement'!I306=\"Couple\",\"Family\",IF('Outil Recensement'!I306=\"In force\",\"Family\",IF('Outil Recensement'!I306=\"Applies\",\"Family\",IF('Outil Recensement'!I306=\"Applicable\",\"Family\",\"\"))))))))","v":""},null,null,null,null,null,null,null,{"$f":"IF('Outil Recensement'!I306=\"Waive\",\"Yes\",\"\")","v":""}]
[null,null,null,null,null,null,null,null,null,null,null,{"$f":"IF('Outil Recensement'!G307=\"Male\",\"Homme\",IF('Outil Recensement'!G307=\"Femme\",\"Female\",IF('Outil Recensement'!G307=\"H\",\"Male\",IF('Outil Recensement'!G307=\"F\",\"Female\",\"\"))))","v":""},null,{"$f":"IF('Outil Recensement'!I307=\"Individuelle\",\"Single\",IF('Outil Recensement'!I307=\"Familiale\",\"Family\",IF('Outil Recensement'!I307=\"Refus\",\"Family\",IF('Outil Recensement'!I307=\"Parent seul\",\"Family\",IF('Outil Recensement'!I307=\"Couple\",\"Family\",IF('Outil Recensement'!I307=\"In force\",\"Family\",IF('Outil Recensement'!I307=\"Applies\",\"Family\",IF('Outil Recensement'!I307=\"Applicable\",\"Family\",\"\"))))))))","v":""},null,null,null,null,null,null,null,{"$f":"IF('Outil Recensement'!I307=\"Waive\",\"Yes\",\"\")","v":""}]
[null,null,null,null,null,null,null,null,null,null,null,{"$f":"IF('Outil Recensement'!G308=\"Male\",\"Homme\",IF('Outil Recensement'!G308=\"Femme\",\"Female\",IF('Outil Recensement'!G308=\"H\",\"Male\",IF('Outil Recensement'!G308=\"F\",\"Female\",\"\"))))","v":""},null,{"$f":"IF('Outil Recensement'!I308=\"Individuelle\",\"Single\",IF('Outil Recensement'!I308=\"Familiale\",\"Family\",IF('Outil Recensement'!I308=\"Refus\",\"Family\",IF('Outil Recensement'!I308=\"Parent seul\",\"Family\",IF('Outil Recensement'!I308=\"Couple\",\"Family\",IF('Outil Recensement'!I308=\"In force\",\"Family\",IF('Outil Recensement'!I308=\"Applies\",\"Family\",IF('Outil Recensement'!I308=\"Applicable\",\"Family\",\"\"))))))))","v":""},null,null,null,null,null,null,null,{"$f":"IF('Outil Recensement'!I308=\"Waive\",\"Yes\",\"\")","v":""}]
[null,null,null,null,null,null,null,null,null,null,null,{"$f":"IF('Outil Recensement'!G309=\"Male\",\"Homme\",IF('Outil Recensement'!G309=\"Femme\",\"Female\",IF('Outil Recensement'!G309=\"H\",\"Male\",IF('Outil Recensement'!G309=\"F\",\"Female\",\"\"))))","v":""},null,{"$f":"IF('Outil Recensement'!I309=\"Individuelle\",\"Single\",IF('Outil Recensement'!I309=\"Familiale\",\"Family\",IF('Outil Recensement'!I309=\"Refus\",\"Family\",IF('Outil Recensement'!I309=\"Parent seul\",\"Family\",IF('Outil Recensement'!I309=\"Couple\",\"Family\",IF('Outil Recensement'!I309=\"In force\",\"Family\",IF('Outil Recensement'!I309=\"Applies\",\"Family\",IF('Outil Recensement'!I309=\"Applicable\",\"Family\",\"\"))))))))","v":""},null,null,null,null,null,null,null,{"$f":"IF('Outil Recensement'!I309=\"Waive\",\"Yes\",\"\")","v":""}]
[null,null,null,null,null,null,null,null,null,null,null,{"$f":"IF('Outil Recensement'!G310=\"Male\",\"Homme\",IF('Outil Recensement'!G310=\"Femme\",\"Female\",IF('Outil Recensement'!G310=\"H\",\"Male\",IF('Outil Recensement'!G310=\"F\",\"Female\",\"\"))))","v":""},null,{"$f":"IF('Outil Recensement'!I310=\"Individuelle\",\"Single\",IF('Outil Recensement'!I310=\"Familiale\",\"Family\",IF('Outil Recensement'!I310=\"Refus\",\"Family\",IF('Outil Recensement'!I310=\"Parent seul\",\"Family\",IF('Outil Recensement'!I310=\"Couple\",\"Family\",IF('Outil Recensement'!I310=\"In force\",\"Family\",IF('Outil Recensement'!I310=\"Applies\",\"Family\",IF('Outil Recensement'!I310=\"Applicable\",\"Family\",\"\"))))))))","v":""},null,null,null,null,null,null,null,{"$f":"IF('Outil Recensement'!I310=\"Waive\",\"Yes\",\"\")","v":""}]
[null,null,null,null,null,null,null,null,null,null,null,{"$f":"IF('Outil Recensement'!G311=\"Male\",\"Homme\",IF('Outil Recensement'!G311=\"Femme\",\"Female\",IF('Outil Recensement'!G311=\"H\",\"Male\",IF('Outil Recensement'!G311=\"F\",\"Female\",\"\"))))","v":""},null,{"$f":"IF('Outil Recensement'!I311=\"Individuelle\",\"Single\",IF('Outil Recensement'!I311=\"Familiale\",\"Family\",IF('Outil Recensement'!I311=\"Refus\",\"Family\",IF('Outil Recensement'!I311=\"Parent seul\",\"Family\",IF('Outil Recensement'!I311=\"Couple\",\"Family\",IF('Outil Recensement'!I311=\"In force\",\"Family\",IF('Outil Recensement'!I311=\"Applies\",\"Family\",IF('Outil Recensement'!I311=\"Applicable\",\"Family\",\"\"))))))))","v":""},null,null,null,null,null,null,null,{"$f":"IF('Outil Recensement'!I311=\"Waive\",\"Yes\",\"\")","v":""}]
[null,null,null,null,null,null,null,null,null,null,null,{"$f":"IF('Outil Recensement'!G312=\"Male\",\"Homme\",IF('Outil Recensement'!G312=\"Femme\",\"Female\",IF('Outil Recensement'!G312=\"H\",\"Male\",IF('Outil Recensement'!G312=\"F\",\"Female\",\"\"))))","v":""},null,{"$f":"IF('Outil Recensement'!I312=\"Individuelle\",\"Single\",IF('Outil Recensement'!I312=\"Familiale\",\"Family\",IF('Outil Recensement'!I312=\"Refus\",\"Family\",IF('Outil Recensement'!I312=\"Parent seul\",\"Family\",IF('Outil Recensement'!I312=\"Couple\",\"Family\",IF('Outil Recensement'!I312=\"In force\",\"Family\",IF('Outil Recensement'!I312=\"Applies\",\"Family\",IF('Outil Recensement'!I312=\"Applicable\",\"Family\",\"\"))))))))","v":""},null,null,null,null,null,null,null,{"$f":"IF('Outil Recensement'!I312=\"Waive\",\"Yes\",\"\")","v":""}]
[null,null,null,null,null,null,null,null,null,null,null,{"$f":"IF('Outil Recensement'!G313=\"Male\",\"Homme\",IF('Outil Recensement'!G313=\"Femme\",\"Female\",IF('Outil Recensement'!G313=\"H\",\"Male\",IF('Outil Recensement'!G313=\"F\",\"Female\",\"\"))))","v":""},null,{"$f":"IF('Outil Recensement'!I313=\"Individuelle\",\"Single\",IF('Outil Recensement'!I313=\"Familiale\",\"Family\",IF('Outil Recensement'!I313=\"Refus\",\"Family\",IF('Outil Recensement'!I313=\"Parent seul\",\"Family\",IF('Outil Recensement'!I313=\"Couple\",\"Family\",IF('Outil Recensement'!I313=\"In force\",\"Family\",IF('Outil Recensement'!I313=\"Applies\",\"Family\",IF('Outil Recensement'!I313=\"Applicable\",\"Family\",\"\"))))))))","v":""},null,null,null,null,null,null,null,{"$f":"IF('Outil Recensement'!I313=\"Waive\",\"Yes\",\"\")","v":""}]
[null,null,null,null,null,null,null,null,null,null,null,{"$f":"IF('Outil Recensement'!G314=\"Male\",\"Homme\",IF('Outil Recensement'!G314=\"Femme\",\"Female\",IF('Outil Recensement'!G314=\"H\",\"Male\",IF('Outil Recensement'!G314=\"F\",\"Female\",\"\"))))","v":""},null,{"$f":"IF('Outil Recensement'!I314=\"Individuelle\",\"Single\",IF('Outil Recensement'!I314=\"Familiale\",\"Family\",IF('Outil Recensement'!I314=\"Refus\",\"Family\",IF('Outil Recensement'!I314=\"Parent seul\",\"Family\",IF('Outil Recensement'!I314=\"Couple\",\"Family\",IF('Outil Recensement'!I314=\"In force\",\"Family\",IF('Outil Recensement'!I314=\"Applies\",\"Family\",IF('Outil Recensement'!I314=\"Applicable\",\"Family\",\"\"))))))))","v":""},null,null,null,null,null,null,null,{"$f":"IF('Outil Recensement'!I314=\"Waive\",\"Yes\",\"\")","v":""}]
[null,null,null,null,null,null,null,null,null,null,null,{"$f":"IF('Outil Recensement'!G315=\"Male\",\"Homme\",IF('Outil Recensement'!G315=\"Femme\",\"Female\",IF('Outil Recensement'!G315=\"H\",\"Male\",IF('Outil Recensement'!G315=\"F\",\"Female\",\"\"))))","v":""},null,{"$f":"IF('Outil Recensement'!I315=\"Individuelle\",\"Single\",IF('Outil Recensement'!I315=\"Familiale\",\"Family\",IF('Outil Recensement'!I315=\"Refus\",\"Family\",IF('Outil Recensement'!I315=\"Parent seul\",\"Family\",IF('Outil Recensement'!I315=\"Couple\",\"Family\",IF('Outil Recensement'!I315=\"In force\",\"Family\",IF('Outil Recensement'!I315=\"Applies\",\"Family\",IF('Outil Recensement'!I315=\"Applicable\",\"Family\",\"\"))))))))","v":""},null,null,null,null,null,null,null,{"$f":"IF('Outil Recensement'!I315=\"Waive\",\"Yes\",\"\")","v":""}]
[null,null,null,null,null,null,null,null,null,null,null,{"$f":"IF('Outil Recensement'!G316=\"Male\",\"Homme\",IF('Outil Recensement'!G316=\"Femme\",\"Female\",IF('Outil Recensement'!G316=\"H\",\"Male\",IF('Outil Recensement'!G316=\"F\",\"Female\",\"\"))))","v":""},null,{"$f":"IF('Outil Recensement'!I316=\"Individuelle\",\"Single\",IF('Outil Recensement'!I316=\"Familiale\",\"Family\",IF('Outil Recensement'!I316=\"Refus\",\"Family\",IF('Outil Recensement'!I316=\"Parent seul\",\"Family\",IF('Outil Recensement'!I316=\"Couple\",\"Family\",IF('Outil Recensement'!I316=\"In force\",\"Family\",IF('Outil Recensement'!I316=\"Applies\",\"Family\",IF('Outil Recensement'!I316=\"Applicable\",\"Family\",\"\"))))))))","v":""},null,null,null,null,null,null,null,{"$f":"IF('Outil Recensement'!I316=\"Waive\",\"Yes\",\"\")","v":""}]
[null,null,null,null,null,null,null,null,null,null,null,{"$f":"IF('Outil Recensement'!G317=\"Male\",\"Homme\",IF('Outil Recensement'!G317=\"Femme\",\"Female\",IF('Outil Recensement'!G317=\"H\",\"Male\",IF('Outil Recensement'!G317=\"F\",\"Female\",\"\"))))","v":""},null,{"$f":"IF('Outil Recensement'!I317=\"Individuelle\",\"Single\",IF('Outil Recensement'!I317=\"Familiale\",\"Family\",IF('Outil Recensement'!I317=\"Refus\",\"Family\",IF('Outil Recensement'!I317=\"Parent seul\",\"Family\",IF('Outil Recensement'!I317=\"Couple\",\"Family\",IF('Outil Recensement'!I317=\"In force\",\"Family\",IF('Outil Recensement'!I317=\"Applies\",\"Family\",IF('Outil Recensement'!I317=\"Applicable\",\"Family\",\"\"))))))))","v":""},null,null,null,null,null,null,null,{"$f":"IF('Outil Recensement'!I317=\"Waive\",\"Yes\",\"\")","v":""}]
[null,null,null,null,null,null,null,null,null,null,null,{"$f":"IF('Outil Recensement'!G318=\"Male\",\"Homme\",IF('Outil Recensement'!G318=\"Femme\",\"Female\",IF('Outil Recensement'!G318=\"H\",\"Male\",IF('Outil Recensement'!G318=\"F\",\"Female\",\"\"))))","v":""},null,{"$f":"IF('Outil Recensement'!I318=\"Individuelle\",\"Single\",IF('Outil Recensement'!I318=\"Familiale\",\"Family\",IF('Outil Recensement'!I318=\"Refus\",\"Family\",IF('Outil Recensement'!I318=\"Parent seul\",\"Family\",IF('Outil Recensement'!I318=\"Couple\",\"Family\",IF('Outil Recensement'!I318=\"In force\",\"Family\",IF('Outil Recensement'!I318=\"Applies\",\"Family\",IF('Outil Recensement'!I318=\"Applicable\",\"Family\",\"\"))))))))","v":""},null,null,null,null,null,null,null,{"$f":"IF('Outil Recensement'!I318=\"Waive\",\"Yes\",\"\")","v":""}]
[null,null,null,null,null,null,null,null,null,null,null,{"$f":"IF('Outil Recensement'!G319=\"Male\",\"Homme\",IF('Outil Recensement'!G319=\"Femme\",\"Female\",IF('Outil Recensement'!G319=\"H\",\"Male\",IF('Outil Recensement'!G319=\"F\",\"Female\",\"\"))))","v":""},null,{"$f":"IF('Outil Recensement'!I319=\"Individuelle\",\"Single\",IF('Outil Recensement'!I319=\"Familiale\",\"Family\",IF('Outil Recensement'!I319=\"Refus\",\"Family\",IF('Outil Recensement'!I319=\"Parent seul\",\"Family\",IF('Outil Recensement'!I319=\"Couple\",\"Family\",IF('Outil Recensement'!I319=\"In force\",\"Family\",IF('Outil Recensement'!I319=\"Applies\",\"Family\",IF('Outil Recensement'!I319=\"Applicable\",\"Family\",\"\"))))))))","v":""},null,null,null,null,null,null,null,{"$f":"IF('Outil Recensement'!I319=\"Waive\",\"Yes\",\"\")","v":""}]
[null,null,null,null,null,null,null,null,null,null,null,{"$f":"IF('Outil Recensement'!G320=\"Male\",\"Homme\",IF('Outil Recensement'!G320=\"Femme\",\"Female\",IF('Outil Recensement'!G320=\"H\",\"Male\",IF('Outil Recensement'!G320=\"F\",\"Female\",\"\"))))","v":""},null,{"$f":"IF('Outil Recensement'!I320=\"Individuelle\",\"Single\",IF('Outil Recensement'!I320=\"Familiale\",\"Family\",IF('Outil Recensement'!I320=\"Refus\",\"Family\",IF('Outil Recensement'!I320=\"Parent seul\",\"Family\",IF('Outil Recensement'!I320=\"Couple\",\"Family\",IF('Outil Recensement'!I320=\"In force\",\"Family\",IF('Outil Recensement'!I320=\"Applies\",\"Family\",IF('Outil Recensement'!I320=\"Applicable\",\"Family\",\"\"))))))))","v":""},null,null,null,null,null,null,null,{"$f":"IF('Outil Recensement'!I320=\"Waive\",\"Yes\",\"\")","v":""}]
[null,null,null,null,null,null,null,null,null,null,null,{"$f":"IF('Outil Recensement'!G321=\"Male\",\"Homme\",IF('Outil Recensement'!G321=\"Femme\",\"Female\",IF('Outil Recensement'!G321=\"H\",\"Male\",IF('Outil Recensement'!G321=\"F\",\"Female\",\"\"))))","v":""},null,{"$f":"IF('Outil Recensement'!I321=\"Individuelle\",\"Single\",IF('Outil Recensement'!I321=\"Familiale\",\"Family\",IF('Outil Recensement'!I321=\"Refus\",\"Family\",IF('Outil Recensement'!I321=\"Parent seul\",\"Family\",IF('Outil Recensement'!I321=\"Couple\",\"Family\",IF('Outil Recensement'!I321=\"In force\",\"Family\",IF('Outil Recensement'!I321=\"Applies\",\"Family\",IF('Outil Recensement'!I321=\"Applicable\",\"Family\",\"\"))))))))","v":""},null,null,null,null,null,null,null,{"$f":"IF('Outil Recensement'!I321=\"Waive\",\"Yes\",\"\")","v":""}]
[null,null,null,null,null,null,null,null,null,null,null,{"$f":"IF('Outil Recensement'!G322=\"Male\",\"Homme\",IF('Outil Recensement'!G322=\"Femme\",\"Female\",IF('Outil Recensement'!G322=\"H\",\"Male\",IF('Outil Recensement'!G322=\"F\",\"Female\",\"\"))))","v":""},null,{"$f":"IF('Outil Recensement'!I322=\"Individuelle\",\"Single\",IF('Outil Recensement'!I322=\"Familiale\",\"Family\",IF('Outil Recensement'!I322=\"Refus\",\"Family\",IF('Outil Recensement'!I322=\"Parent seul\",\"Family\",IF('Outil Recensement'!I322=\"Couple\",\"Family\",IF('Outil Recensement'!I322=\"In force\",\"Family\",IF('Outil Recensement'!I322=\"Applies\",\"Family\",IF('Outil Recensement'!I322=\"Applicable\",\"Family\",\"\"))))))))","v":""},null,null,null,null,null,null,null,{"$f":"IF('Outil Recensement'!I322=\"Waive\",\"Yes\",\"\")","v":""}]
[null,null,null,null,null,null,null,null,null,null,null,{"$f":"IF('Outil Recensement'!G323=\"Male\",\"Homme\",IF('Outil Recensement'!G323=\"Femme\",\"Female\",IF('Outil Recensement'!G323=\"H\",\"Male\",IF('Outil Recensement'!G323=\"F\",\"Female\",\"\"))))","v":""},null,{"$f":"IF('Outil Recensement'!I323=\"Individuelle\",\"Single\",IF('Outil Recensement'!I323=\"Familiale\",\"Family\",IF('Outil Recensement'!I323=\"Refus\",\"Family\",IF('Outil Recensement'!I323=\"Parent seul\",\"Family\",IF('Outil Recensement'!I323=\"Couple\",\"Family\",IF('Outil Recensement'!I323=\"In force\",\"Family\",IF('Outil Recensement'!I323=\"Applies\",\"Family\",IF('Outil Recensement'!I323=\"Applicable\",\"Family\",\"\"))))))))","v":""},null,null,null,null,null,null,null,{"$f":"IF('Outil Recensement'!I323=\"Waive\",\"Yes\",\"\")","v":""}]
[null,null,null,null,null,null,null,null,null,null,null,{"$f":"IF('Outil Recensement'!G324=\"Male\",\"Homme\",IF('Outil Recensement'!G324=\"Femme\",\"Female\",IF('Outil Recensement'!G324=\"H\",\"Male\",IF('Outil Recensement'!G324=\"F\",\"Female\",\"\"))))","v":""},null,{"$f":"IF('Outil Recensement'!I324=\"Individuelle\",\"Single\",IF('Outil Recensement'!I324=\"Familiale\",\"Family\",IF('Outil Recensement'!I324=\"Refus\",\"Family\",IF('Outil Recensement'!I324=\"Parent seul\",\"Family\",IF('Outil Recensement'!I324=\"Couple\",\"Family\",IF('Outil Recensement'!I324=\"In force\",\"Family\",IF('Outil Recensement'!I324=\"Applies\",\"Family\",IF('Outil Recensement'!I324=\"Applicable\",\"Family\",\"\"))))))))","v":""},null,null,null,null,null,null,null,{"$f":"IF('Outil Recensement'!I324=\"Waive\",\"Yes\",\"\")","v":""}]
[null,null,null,null,null,null,null,null,null,null,null,{"$f":"IF('Outil Recensement'!G325=\"Male\",\"Homme\",IF('Outil Recensement'!G325=\"Femme\",\"Female\",IF('Outil Recensement'!G325=\"H\",\"Male\",IF('Outil Recensement'!G325=\"F\",\"Female\",\"\"))))","v":""},null,{"$f":"IF('Outil Recensement'!I325=\"Individuelle\",\"Single\",IF('Outil Recensement'!I325=\"Familiale\",\"Family\",IF('Outil Recensement'!I325=\"Refus\",\"Family\",IF('Outil Recensement'!I325=\"Parent seul\",\"Family\",IF('Outil Recensement'!I325=\"Couple\",\"Family\",IF('Outil Recensement'!I325=\"In force\",\"Family\",IF('Outil Recensement'!I325=\"Applies\",\"Family\",IF('Outil Recensement'!I325=\"Applicable\",\"Family\",\"\"))))))))","v":""},null,null,null,null,null,null,null,{"$f":"IF('Outil Recensement'!I325=\"Waive\",\"Yes\",\"\")","v":""}]
[null,null,null,null,null,null,null,null,null,null,null,{"$f":"IF('Outil Recensement'!G326=\"Male\",\"Homme\",IF('Outil Recensement'!G326=\"Femme\",\"Female\",IF('Outil Recensement'!G326=\"H\",\"Male\",IF('Outil Recensement'!G326=\"F\",\"Female\",\"\"))))","v":""},null,{"$f":"IF('Outil Recensement'!I326=\"Individuelle\",\"Single\",IF('Outil Recensement'!I326=\"Familiale\",\"Family\",IF('Outil Recensement'!I326=\"Refus\",\"Family\",IF('Outil Recensement'!I326=\"Parent seul\",\"Family\",IF('Outil Recensement'!I326=\"Couple\",\"Family\",IF('Outil Recensement'!I326=\"In force\",\"Family\",IF('Outil Recensement'!I326=\"Applies\",\"Family\",IF('Outil Recensement'!I326=\"Applicable\",\"Family\",\"\"))))))))","v":""},null,null,null,null,null,null,null,{"$f":"IF('Outil Recensement'!I326=\"Waive\",\"Yes\",\"\")","v":""}]
[null,null,null,null,null,null,null,null,null,null,null,{"$f":"IF('Outil Recensement'!G327=\"Male\",\"Homme\",IF('Outil Recensement'!G327=\"Femme\",\"Female\",IF('Outil Recensement'!G327=\"H\",\"Male\",IF('Outil Recensement'!G327=\"F\",\"Female\",\"\"))))","v":""},null,{"$f":"IF('Outil Recensement'!I327=\"Individuelle\",\"Single\",IF('Outil Recensement'!I327=\"Familiale\",\"Family\",IF('Outil Recensement'!I327=\"Refus\",\"Family\",IF('Outil Recensement'!I327=\"Parent seul\",\"Family\",IF('Outil Recensement'!I327=\"Couple\",\"Family\",IF('Outil Recensement'!I327=\"In force\",\"Family\",IF('Outil Recensement'!I327=\"Applies\",\"Family\",IF('Outil Recensement'!I327=\"Applicable\",\"Family\",\"\"))))))))","v":""},null,null,null,null,null,null,null,{"$f":"IF('Outil Recensement'!I327=\"Waive\",\"Yes\",\"\")","v":""}]
[null,null,null,null,null,null,null,null,null,null,null,{"$f":"IF('Outil Recensement'!G328=\"Male\",\"Homme\",IF('Outil Recensement'!G328=\"Femme\",\"Female\",IF('Outil Recensement'!G328=\"H\",\"Male\",IF('Outil Recensement'!G328=\"F\",\"Female\",\"\"))))","v":""},null,{"$f":"IF('Outil Recensement'!I328=\"Individuelle\",\"Single\",IF('Outil Recensement'!I328=\"Familiale\",\"Family\",IF('Outil Recensement'!I328=\"Refus\",\"Family\",IF('Outil Recensement'!I328=\"Parent seul\",\"Family\",IF('Outil Recensement'!I328=\"Couple\",\"Family\",IF('Outil Recensement'!I328=\"In force\",\"Family\",IF('Outil Recensement'!I328=\"Applies\",\"Family\",IF('Outil Recensement'!I328=\"Applicable\",\"Family\",\"\"))))))))","v":""},null,null,null,null,null,null,null,{"$f":"IF('Outil Recensement'!I328=\"Waive\",\"Yes\",\"\")","v":""}]
[null,null,null,null,null,null,null,null,null,null,null,{"$f":"IF('Outil Recensement'!G329=\"Male\",\"Homme\",IF('Outil Recensement'!G329=\"Femme\",\"Female\",IF('Outil Recensement'!G329=\"H\",\"Male\",IF('Outil Recensement'!G329=\"F\",\"Female\",\"\"))))","v":""},null,{"$f":"IF('Outil Recensement'!I329=\"Individuelle\",\"Single\",IF('Outil Recensement'!I329=\"Familiale\",\"Family\",IF('Outil Recensement'!I329=\"Refus\",\"Family\",IF('Outil Recensement'!I329=\"Parent seul\",\"Family\",IF('Outil Recensement'!I329=\"Couple\",\"Family\",IF('Outil Recensement'!I329=\"In force\",\"Family\",IF('Outil Recensement'!I329=\"Applies\",\"Family\",IF('Outil Recensement'!I329=\"Applicable\",\"Family\",\"\"))))))))","v":""},null,null,null,null,null,null,null,{"$f":"IF('Outil Recensement'!I329=\"Waive\",\"Yes\",\"\")","v":""}]
[null,null,null,null,null,null,null,null,null,null,null,{"$f":"IF('Outil Recensement'!G330=\"Male\",\"Homme\",IF('Outil Recensement'!G330=\"Femme\",\"Female\",IF('Outil Recensement'!G330=\"H\",\"Male\",IF('Outil Recensement'!G330=\"F\",\"Female\",\"\"))))","v":""},null,{"$f":"IF('Outil Recensement'!I330=\"Individuelle\",\"Single\",IF('Outil Recensement'!I330=\"Familiale\",\"Family\",IF('Outil Recensement'!I330=\"Refus\",\"Family\",IF('Outil Recensement'!I330=\"Parent seul\",\"Family\",IF('Outil Recensement'!I330=\"Couple\",\"Family\",IF('Outil Recensement'!I330=\"In force\",\"Family\",IF('Outil Recensement'!I330=\"Applies\",\"Family\",IF('Outil Recensement'!I330=\"Applicable\",\"Family\",\"\"))))))))","v":""},null,null,null,null,null,null,null,{"$f":"IF('Outil Recensement'!I330=\"Waive\",\"Yes\",\"\")","v":""}]
[null,null,null,null,null,null,null,null,null,null,null,{"$f":"IF('Outil Recensement'!G331=\"Male\",\"Homme\",IF('Outil Recensement'!G331=\"Femme\",\"Female\",IF('Outil Recensement'!G331=\"H\",\"Male\",IF('Outil Recensement'!G331=\"F\",\"Female\",\"\"))))","v":""},null,{"$f":"IF('Outil Recensement'!I331=\"Individuelle\",\"Single\",IF('Outil Recensement'!I331=\"Familiale\",\"Family\",IF('Outil Recensement'!I331=\"Refus\",\"Family\",IF('Outil Recensement'!I331=\"Parent seul\",\"Family\",IF('Outil Recensement'!I331=\"Couple\",\"Family\",IF('Outil Recensement'!I331=\"In force\",\"Family\",IF('Outil Recensement'!I331=\"Applies\",\"Family\",IF('Outil Recensement'!I331=\"Applicable\",\"Family\",\"\"))))))))","v":""},null,null,null,null,null,null,null,{"$f":"IF('Outil Recensement'!I331=\"Waive\",\"Yes\",\"\")","v":""}]
[null,null,null,null,null,null,null,null,null,null,null,{"$f":"IF('Outil Recensement'!G332=\"Male\",\"Homme\",IF('Outil Recensement'!G332=\"Femme\",\"Female\",IF('Outil Recensement'!G332=\"H\",\"Male\",IF('Outil Recensement'!G332=\"F\",\"Female\",\"\"))))","v":""},null,{"$f":"IF('Outil Recensement'!I332=\"Individuelle\",\"Single\",IF('Outil Recensement'!I332=\"Familiale\",\"Family\",IF('Outil Recensement'!I332=\"Refus\",\"Family\",IF('Outil Recensement'!I332=\"Parent seul\",\"Family\",IF('Outil Recensement'!I332=\"Couple\",\"Family\",IF('Outil Recensement'!I332=\"In force\",\"Family\",IF('Outil Recensement'!I332=\"Applies\",\"Family\",IF('Outil Recensement'!I332=\"Applicable\",\"Family\",\"\"))))))))","v":""},null,null,null,null,null,null,null,{"$f":"IF('Outil Recensement'!I332=\"Waive\",\"Yes\",\"\")","v":""}]
[null,null,null,null,null,null,null,null,null,null,null,{"$f":"IF('Outil Recensement'!G333=\"Male\",\"Homme\",IF('Outil Recensement'!G333=\"Femme\",\"Female\",IF('Outil Recensement'!G333=\"H\",\"Male\",IF('Outil Recensement'!G333=\"F\",\"Female\",\"\"))))","v":""},null,{"$f":"IF('Outil Recensement'!I333=\"Individuelle\",\"Single\",IF('Outil Recensement'!I333=\"Familiale\",\"Family\",IF('Outil Recensement'!I333=\"Refus\",\"Family\",IF('Outil Recensement'!I333=\"Parent seul\",\"Family\",IF('Outil Recensement'!I333=\"Couple\",\"Family\",IF('Outil Recensement'!I333=\"In force\",\"Family\",IF('Outil Recensement'!I333=\"Applies\",\"Family\",IF('Outil Recensement'!I333=\"Applicable\",\"Family\",\"\"))))))))","v":""},null,null,null,null,null,null,null,{"$f":"IF('Outil Recensement'!I333=\"Waive\",\"Yes\",\"\")","v":""}]
[null,null,null,null,null,null,null,null,null,null,null,{"$f":"IF('Outil Recensement'!G334=\"Male\",\"Homme\",IF('Outil Recensement'!G334=\"Femme\",\"Female\",IF('Outil Recensement'!G334=\"H\",\"Male\",IF('Outil Recensement'!G334=\"F\",\"Female\",\"\"))))","v":""},null,{"$f":"IF('Outil Recensement'!I334=\"Individuelle\",\"Single\",IF('Outil Recensement'!I334=\"Familiale\",\"Family\",IF('Outil Recensement'!I334=\"Refus\",\"Family\",IF('Outil Recensement'!I334=\"Parent seul\",\"Family\",IF('Outil Recensement'!I334=\"Couple\",\"Family\",IF('Outil Recensement'!I334=\"In force\",\"Family\",IF('Outil Recensement'!I334=\"Applies\",\"Family\",IF('Outil Recensement'!I334=\"Applicable\",\"Family\",\"\"))))))))","v":""},null,null,null,null,null,null,null,{"$f":"IF('Outil Recensement'!I334=\"Waive\",\"Yes\",\"\")","v":""}]
[null,null,null,null,null,null,null,null,null,null,null,{"$f":"IF('Outil Recensement'!G335=\"Male\",\"Homme\",IF('Outil Recensement'!G335=\"Femme\",\"Female\",IF('Outil Recensement'!G335=\"H\",\"Male\",IF('Outil Recensement'!G335=\"F\",\"Female\",\"\"))))","v":""},null,{"$f":"IF('Outil Recensement'!I335=\"Individuelle\",\"Single\",IF('Outil Recensement'!I335=\"Familiale\",\"Family\",IF('Outil Recensement'!I335=\"Refus\",\"Family\",IF('Outil Recensement'!I335=\"Parent seul\",\"Family\",IF('Outil Recensement'!I335=\"Couple\",\"Family\",IF('Outil Recensement'!I335=\"In force\",\"Family\",IF('Outil Recensement'!I335=\"Applies\",\"Family\",IF('Outil Recensement'!I335=\"Applicable\",\"Family\",\"\"))))))))","v":""},null,null,null,null,null,null,null,{"$f":"IF('Outil Recensement'!I335=\"Waive\",\"Yes\",\"\")","v":""}]
[null,null,null,null,null,null,null,null,null,null,null,{"$f":"IF('Outil Recensement'!G336=\"Male\",\"Homme\",IF('Outil Recensement'!G336=\"Femme\",\"Female\",IF('Outil Recensement'!G336=\"H\",\"Male\",IF('Outil Recensement'!G336=\"F\",\"Female\",\"\"))))","v":""},null,{"$f":"IF('Outil Recensement'!I336=\"Individuelle\",\"Single\",IF('Outil Recensement'!I336=\"Familiale\",\"Family\",IF('Outil Recensement'!I336=\"Refus\",\"Family\",IF('Outil Recensement'!I336=\"Parent seul\",\"Family\",IF('Outil Recensement'!I336=\"Couple\",\"Family\",IF('Outil Recensement'!I336=\"In force\",\"Family\",IF('Outil Recensement'!I336=\"Applies\",\"Family\",IF('Outil Recensement'!I336=\"Applicable\",\"Family\",\"\"))))))))","v":""},null,null,null,null,null,null,null,{"$f":"IF('Outil Recensement'!I336=\"Waive\",\"Yes\",\"\")","v":""}]
[null,null,null,null,null,null,null,null,null,null,null,{"$f":"IF('Outil Recensement'!G337=\"Male\",\"Homme\",IF('Outil Recensement'!G337=\"Femme\",\"Female\",IF('Outil Recensement'!G337=\"H\",\"Male\",IF('Outil Recensement'!G337=\"F\",\"Female\",\"\"))))","v":""},null,{"$f":"IF('Outil Recensement'!I337=\"Individuelle\",\"Single\",IF('Outil Recensement'!I337=\"Familiale\",\"Family\",IF('Outil Recensement'!I337=\"Refus\",\"Family\",IF('Outil Recensement'!I337=\"Parent seul\",\"Family\",IF('Outil Recensement'!I337=\"Couple\",\"Family\",IF('Outil Recensement'!I337=\"In force\",\"Family\",IF('Outil Recensement'!I337=\"Applies\",\"Family\",IF('Outil Recensement'!I337=\"Applicable\",\"Family\",\"\"))))))))","v":""},null,null,null,null,null,null,null,{"$f":"IF('Outil Recensement'!I337=\"Waive\",\"Yes\",\"\")","v":""}]
[null,null,null,null,null,null,null,null,null,null,null,{"$f":"IF('Outil Recensement'!G338=\"Male\",\"Homme\",IF('Outil Recensement'!G338=\"Femme\",\"Female\",IF('Outil Recensement'!G338=\"H\",\"Male\",IF('Outil Recensement'!G338=\"F\",\"Female\",\"\"))))","v":""},null,{"$f":"IF('Outil Recensement'!I338=\"Individuelle\",\"Single\",IF('Outil Recensement'!I338=\"Familiale\",\"Family\",IF('Outil Recensement'!I338=\"Refus\",\"Family\",IF('Outil Recensement'!I338=\"Parent seul\",\"Family\",IF('Outil Recensement'!I338=\"Couple\",\"Family\",IF('Outil Recensement'!I338=\"In force\",\"Family\",IF('Outil Recensement'!I338=\"Applies\",\"Family\",IF('Outil Recensement'!I338=\"Applicable\",\"Family\",\"\"))))))))","v":""},null,null,null,null,null,null,null,{"$f":"IF('Outil Recensement'!I338=\"Waive\",\"Yes\",\"\")","v":""}]
[null,null,null,null,null,null,null,null,null,null,null,{"$f":"IF('Outil Recensement'!G339=\"Male\",\"Homme\",IF('Outil Recensement'!G339=\"Femme\",\"Female\",IF('Outil Recensement'!G339=\"H\",\"Male\",IF('Outil Recensement'!G339=\"F\",\"Female\",\"\"))))","v":""},null,{"$f":"IF('Outil Recensement'!I339=\"Individuelle\",\"Single\",IF('Outil Recensement'!I339=\"Familiale\",\"Family\",IF('Outil Recensement'!I339=\"Refus\",\"Family\",IF('Outil Recensement'!I339=\"Parent seul\",\"Family\",IF('Outil Recensement'!I339=\"Couple\",\"Family\",IF('Outil Recensement'!I339=\"In force\",\"Family\",IF('Outil Recensement'!I339=\"Applies\",\"Family\",IF('Outil Recensement'!I339=\"Applicable\",\"Family\",\"\"))))))))","v":""},null,null,null,null,null,null,null,{"$f":"IF('Outil Recensement'!I339=\"Waive\",\"Yes\",\"\")","v":""}]
[null,null,null,null,null,null,null,null,null,null,null,{"$f":"IF('Outil Recensement'!G340=\"Male\",\"Homme\",IF('Outil Recensement'!G340=\"Femme\",\"Female\",IF('Outil Recensement'!G340=\"H\",\"Male\",IF('Outil Recensement'!G340=\"F\",\"Female\",\"\"))))","v":""},null,{"$f":"IF('Outil Recensement'!I340=\"Individuelle\",\"Single\",IF('Outil Recensement'!I340=\"Familiale\",\"Family\",IF('Outil Recensement'!I340=\"Refus\",\"Family\",IF('Outil Recensement'!I340=\"Parent seul\",\"Family\",IF('Outil Recensement'!I340=\"Couple\",\"Family\",IF('Outil Recensement'!I340=\"In force\",\"Family\",IF('Outil Recensement'!I340=\"Applies\",\"Family\",IF('Outil Recensement'!I340=\"Applicable\",\"Family\",\"\"))))))))","v":""},null,null,null,null,null,null,null,{"$f":"IF('Outil Recensement'!I340=\"Waive\",\"Yes\",\"\")","v":""}]
[null,null,null,null,null,null,null,null,null,null,null,{"$f":"IF('Outil Recensement'!G341=\"Male\",\"Homme\",IF('Outil Recensement'!G341=\"Femme\",\"Female\",IF('Outil Recensement'!G341=\"H\",\"Male\",IF('Outil Recensement'!G341=\"F\",\"Female\",\"\"))))","v":""},null,{"$f":"IF('Outil Recensement'!I341=\"Individuelle\",\"Single\",IF('Outil Recensement'!I341=\"Familiale\",\"Family\",IF('Outil Recensement'!I341=\"Refus\",\"Family\",IF('Outil Recensement'!I341=\"Parent seul\",\"Family\",IF('Outil Recensement'!I341=\"Couple\",\"Family\",IF('Outil Recensement'!I341=\"In force\",\"Family\",IF('Outil Recensement'!I341=\"Applies\",\"Family\",IF('Outil Recensement'!I341=\"Applicable\",\"Family\",\"\"))))))))","v":""},null,null,null,null,null,null,null,{"$f":"IF('Outil Recensement'!I341=\"Waive\",\"Yes\",\"\")","v":""}]
[null,null,null,null,null,null,null,null,null,null,null,{"$f":"IF('Outil Recensement'!G342=\"Male\",\"Homme\",IF('Outil Recensement'!G342=\"Femme\",\"Female\",IF('Outil Recensement'!G342=\"H\",\"Male\",IF('Outil Recensement'!G342=\"F\",\"Female\",\"\"))))","v":""},null,{"$f":"IF('Outil Recensement'!I342=\"Individuelle\",\"Single\",IF('Outil Recensement'!I342=\"Familiale\",\"Family\",IF('Outil Recensement'!I342=\"Refus\",\"Family\",IF('Outil Recensement'!I342=\"Parent seul\",\"Family\",IF('Outil Recensement'!I342=\"Couple\",\"Family\",IF('Outil Recensement'!I342=\"In force\",\"Family\",IF('Outil Recensement'!I342=\"Applies\",\"Family\",IF('Outil Recensement'!I342=\"Applicable\",\"Family\",\"\"))))))))","v":""},null,null,null,null,null,null,null,{"$f":"IF('Outil Recensement'!I342=\"Waive\",\"Yes\",\"\")","v":""}]
[null,null,null,null,null,null,null,null,null,null,null,{"$f":"IF('Outil Recensement'!G343=\"Male\",\"Homme\",IF('Outil Recensement'!G343=\"Femme\",\"Female\",IF('Outil Recensement'!G343=\"H\",\"Male\",IF('Outil Recensement'!G343=\"F\",\"Female\",\"\"))))","v":""},null,{"$f":"IF('Outil Recensement'!I343=\"Individuelle\",\"Single\",IF('Outil Recensement'!I343=\"Familiale\",\"Family\",IF('Outil Recensement'!I343=\"Refus\",\"Family\",IF('Outil Recensement'!I343=\"Parent seul\",\"Family\",IF('Outil Recensement'!I343=\"Couple\",\"Family\",IF('Outil Recensement'!I343=\"In force\",\"Family\",IF('Outil Recensement'!I343=\"Applies\",\"Family\",IF('Outil Recensement'!I343=\"Applicable\",\"Family\",\"\"))))))))","v":""},null,null,null,null,null,null,null,{"$f":"IF('Outil Recensement'!I343=\"Waive\",\"Yes\",\"\")","v":""}]
[null,null,null,null,null,null,null,null,null,null,null,{"$f":"IF('Outil Recensement'!G344=\"Male\",\"Homme\",IF('Outil Recensement'!G344=\"Femme\",\"Female\",IF('Outil Recensement'!G344=\"H\",\"Male\",IF('Outil Recensement'!G344=\"F\",\"Female\",\"\"))))","v":""},null,{"$f":"IF('Outil Recensement'!I344=\"Individuelle\",\"Single\",IF('Outil Recensement'!I344=\"Familiale\",\"Family\",IF('Outil Recensement'!I344=\"Refus\",\"Family\",IF('Outil Recensement'!I344=\"Parent seul\",\"Family\",IF('Outil Recensement'!I344=\"Couple\",\"Family\",IF('Outil Recensement'!I344=\"In force\",\"Family\",IF('Outil Recensement'!I344=\"Applies\",\"Family\",IF('Outil Recensement'!I344=\"Applicable\",\"Family\",\"\"))))))))","v":""},null,null,null,null,null,null,null,{"$f":"IF('Outil Recensement'!I344=\"Waive\",\"Yes\",\"\")","v":""}]
[null,null,null,null,null,null,null,null,null,null,null,{"$f":"IF('Outil Recensement'!G345=\"Male\",\"Homme\",IF('Outil Recensement'!G345=\"Femme\",\"Female\",IF('Outil Recensement'!G345=\"H\",\"Male\",IF('Outil Recensement'!G345=\"F\",\"Female\",\"\"))))","v":""},null,{"$f":"IF('Outil Recensement'!I345=\"Individuelle\",\"Single\",IF('Outil Recensement'!I345=\"Familiale\",\"Family\",IF('Outil Recensement'!I345=\"Refus\",\"Family\",IF('Outil Recensement'!I345=\"Parent seul\",\"Family\",IF('Outil Recensement'!I345=\"Couple\",\"Family\",IF('Outil Recensement'!I345=\"In force\",\"Family\",IF('Outil Recensement'!I345=\"Applies\",\"Family\",IF('Outil Recensement'!I345=\"Applicable\",\"Family\",\"\"))))))))","v":""},null,null,null,null,null,null,null,{"$f":"IF('Outil Recensement'!I345=\"Waive\",\"Yes\",\"\")","v":""}]
[null,null,null,null,null,null,null,null,null,null,null,{"$f":"IF('Outil Recensement'!G346=\"Male\",\"Homme\",IF('Outil Recensement'!G346=\"Femme\",\"Female\",IF('Outil Recensement'!G346=\"H\",\"Male\",IF('Outil Recensement'!G346=\"F\",\"Female\",\"\"))))","v":""},null,{"$f":"IF('Outil Recensement'!I346=\"Individuelle\",\"Single\",IF('Outil Recensement'!I346=\"Familiale\",\"Family\",IF('Outil Recensement'!I346=\"Refus\",\"Family\",IF('Outil Recensement'!I346=\"Parent seul\",\"Family\",IF('Outil Recensement'!I346=\"Couple\",\"Family\",IF('Outil Recensement'!I346=\"In force\",\"Family\",IF('Outil Recensement'!I346=\"Applies\",\"Family\",IF('Outil Recensement'!I346=\"Applicable\",\"Family\",\"\"))))))))","v":""},null,null,null,null,null,null,null,{"$f":"IF('Outil Recensement'!I346=\"Waive\",\"Yes\",\"\")","v":""}]
[null,null,null,null,null,null,null,null,null,null,null,{"$f":"IF('Outil Recensement'!G347=\"Male\",\"Homme\",IF('Outil Recensement'!G347=\"Femme\",\"Female\",IF('Outil Recensement'!G347=\"H\",\"Male\",IF('Outil Recensement'!G347=\"F\",\"Female\",\"\"))))","v":""},null,{"$f":"IF('Outil Recensement'!I347=\"Individuelle\",\"Single\",IF('Outil Recensement'!I347=\"Familiale\",\"Family\",IF('Outil Recensement'!I347=\"Refus\",\"Family\",IF('Outil Recensement'!I347=\"Parent seul\",\"Family\",IF('Outil Recensement'!I347=\"Couple\",\"Family\",IF('Outil Recensement'!I347=\"In force\",\"Family\",IF('Outil Recensement'!I347=\"Applies\",\"Family\",IF('Outil Recensement'!I347=\"Applicable\",\"Family\",\"\"))))))))","v":""},null,null,null,null,null,null,null,{"$f":"IF('Outil Recensement'!I347=\"Waive\",\"Yes\",\"\")","v":""}]
[null,null,null,null,null,null,null,null,null,null,null,{"$f":"IF('Outil Recensement'!G348=\"Male\",\"Homme\",IF('Outil Recensement'!G348=\"Femme\",\"Female\",IF('Outil Recensement'!G348=\"H\",\"Male\",IF('Outil Recensement'!G348=\"F\",\"Female\",\"\"))))","v":""},null,{"$f":"IF('Outil Recensement'!I348=\"Individuelle\",\"Single\",IF('Outil Recensement'!I348=\"Familiale\",\"Family\",IF('Outil Recensement'!I348=\"Refus\",\"Family\",IF('Outil Recensement'!I348=\"Parent seul\",\"Family\",IF('Outil Recensement'!I348=\"Couple\",\"Family\",IF('Outil Recensement'!I348=\"In force\",\"Family\",IF('Outil Recensement'!I348=\"Applies\",\"Family\",IF('Outil Recensement'!I348=\"Applicable\",\"Family\",\"\"))))))))","v":""}]
[null,null,null,null,null,null,null,null,null,null,null,{"$f":"IF('Outil Recensement'!G349=\"Male\",\"Homme\",IF('Outil Recensement'!G349=\"Femme\",\"Female\",IF('Outil Recensement'!G349=\"H\",\"Male\",IF('Outil Recensement'!G349=\"F\",\"Female\",\"\"))))","v":""},null,{"$f":"IF('Outil Recensement'!I349=\"Individuelle\",\"Single\",IF('Outil Recensement'!I349=\"Familiale\",\"Family\",IF('Outil Recensement'!I349=\"Refus\",\"Family\",IF('Outil Recensement'!I349=\"Parent seul\",\"Family\",IF('Outil Recensement'!I349=\"Couple\",\"Family\",IF('Outil Recensement'!I349=\"In force\",\"Family\",IF('Outil Recensement'!I349=\"Applies\",\"Family\",IF('Outil Recensement'!I349=\"Applicable\",\"Family\",\"\"))))))))","v":""}]
[null,null,null,null,null,null,null,null,null,null,null,{"$f":"IF('Outil Recensement'!G350=\"Male\",\"Homme\",IF('Outil Recensement'!G350=\"Femme\",\"Female\",IF('Outil Recensement'!G350=\"H\",\"Male\",IF('Outil Recensement'!G350=\"F\",\"Female\",\"\"))))","v":""},null,{"$f":"IF('Outil Recensement'!I350=\"Individuelle\",\"Single\",IF('Outil Recensement'!I350=\"Familiale\",\"Family\",IF('Outil Recensement'!I350=\"Refus\",\"Family\",IF('Outil Recensement'!I350=\"Parent seul\",\"Family\",IF('Outil Recensement'!I350=\"Couple\",\"Family\",IF('Outil Recensement'!I350=\"In force\",\"Family\",IF('Outil Recensement'!I350=\"Applies\",\"Family\",IF('Outil Recensement'!I350=\"Applicable\",\"Family\",\"\"))))))))","v":""}]
[null,null,null,null,null,null,null,null,null,null,null,{"$f":"IF('Outil Recensement'!G351=\"Male\",\"Homme\",IF('Outil Recensement'!G351=\"Femme\",\"Female\",IF('Outil Recensement'!G351=\"H\",\"Male\",IF('Outil Recensement'!G351=\"F\",\"Female\",\"\"))))","v":""},null,{"$f":"IF('Outil Recensement'!I351=\"Individuelle\",\"Single\",IF('Outil Recensement'!I351=\"Familiale\",\"Family\",IF('Outil Recensement'!I351=\"Refus\",\"Family\",IF('Outil Recensement'!I351=\"Parent seul\",\"Family\",IF('Outil Recensement'!I351=\"Couple\",\"Family\",IF('Outil Recensement'!I351=\"In force\",\"Family\",IF('Outil Recensement'!I351=\"Applies\",\"Family\",IF('Outil Recensement'!I351=\"Applicable\",\"Family\",\"\"))))))))","v":""}]
[null,null,null,null,null,null,null,null,null,null,null,{"$f":"IF('Outil Recensement'!G352=\"Male\",\"Homme\",IF('Outil Recensement'!G352=\"Femme\",\"Female\",IF('Outil Recensement'!G352=\"H\",\"Male\",IF('Outil Recensement'!G352=\"F\",\"Female\",\"\"))))","v":""},null,{"$f":"IF('Outil Recensement'!I352=\"Individuelle\",\"Single\",IF('Outil Recensement'!I352=\"Familiale\",\"Family\",IF('Outil Recensement'!I352=\"Refus\",\"Family\",IF('Outil Recensement'!I352=\"Parent seul\",\"Family\",IF('Outil Recensement'!I352=\"Couple\",\"Family\",IF('Outil Recensement'!I352=\"In force\",\"Family\",IF('Outil Recensement'!I352=\"Applies\",\"Family\",IF('Outil Recensement'!I352=\"Applicable\",\"Family\",\"\"))))))))","v":""}]
[null,null,null,null,null,null,null,null,null,null,null,{"$f":"IF('Outil Recensement'!G353=\"Male\",\"Homme\",IF('Outil Recensement'!G353=\"Femme\",\"Female\",IF('Outil Recensement'!G353=\"H\",\"Male\",IF('Outil Recensement'!G353=\"F\",\"Female\",\"\"))))","v":""},null,{"$f":"IF('Outil Recensement'!I353=\"Individuelle\",\"Single\",IF('Outil Recensement'!I353=\"Familiale\",\"Family\",IF('Outil Recensement'!I353=\"Refus\",\"Family\",IF('Outil Recensement'!I353=\"Parent seul\",\"Family\",IF('Outil Recensement'!I353=\"Couple\",\"Family\",IF('Outil Recensement'!I353=\"In force\",\"Family\",IF('Outil Recensement'!I353=\"Applies\",\"Family\",IF('Outil Recensement'!I353=\"Applicable\",\"Family\",\"\"))))))))","v":""}]
[null,null,null,null,null,null,null,null,null,null,null,{"$f":"IF('Outil Recensement'!G354=\"Male\",\"Homme\",IF('Outil Recensement'!G354=\"Femme\",\"Female\",IF('Outil Recensement'!G354=\"H\",\"Male\",IF('Outil Recensement'!G354=\"F\",\"Female\",\"\"))))","v":""},null,{"$f":"IF('Outil Recensement'!I354=\"Individuelle\",\"Single\",IF('Outil Recensement'!I354=\"Familiale\",\"Family\",IF('Outil Recensement'!I354=\"Refus\",\"Family\",IF('Outil Recensement'!I354=\"Parent seul\",\"Family\",IF('Outil Recensement'!I354=\"Couple\",\"Family\",IF('Outil Recensement'!I354=\"In force\",\"Family\",IF('Outil Recensement'!I354=\"Applies\",\"Family\",IF('Outil Recensement'!I354=\"Applicable\",\"Family\",\"\"))))))))","v":""}]
[null,null,null,null,null,null,null,null,null,null,null,{"$f":"IF('Outil Recensement'!G355=\"Male\",\"Homme\",IF('Outil Recensement'!G355=\"Femme\",\"Female\",IF('Outil Recensement'!G355=\"H\",\"Male\",IF('Outil Recensement'!G355=\"F\",\"Female\",\"\"))))","v":""},null,{"$f":"IF('Outil Recensement'!I355=\"Individuelle\",\"Single\",IF('Outil Recensement'!I355=\"Familiale\",\"Family\",IF('Outil Recensement'!I355=\"Refus\",\"Family\",IF('Outil Recensement'!I355=\"Parent seul\",\"Family\",IF('Outil Recensement'!I355=\"Couple\",\"Family\",IF('Outil Recensement'!I355=\"In force\",\"Family\",IF('Outil Recensement'!I355=\"Applies\",\"Family\",IF('Outil Recensement'!I355=\"Applicable\",\"Family\",\"\"))))))))","v":""}]
[null,null,null,null,null,null,null,null,null,null,null,{"$f":"IF('Outil Recensement'!G356=\"Male\",\"Homme\",IF('Outil Recensement'!G356=\"Femme\",\"Female\",IF('Outil Recensement'!G356=\"H\",\"Male\",IF('Outil Recensement'!G356=\"F\",\"Female\",\"\"))))","v":""},null,{"$f":"IF('Outil Recensement'!I356=\"Individuelle\",\"Single\",IF('Outil Recensement'!I356=\"Familiale\",\"Family\",IF('Outil Recensement'!I356=\"Refus\",\"Family\",IF('Outil Recensement'!I356=\"Parent seul\",\"Family\",IF('Outil Recensement'!I356=\"Couple\",\"Family\",IF('Outil Recensement'!I356=\"In force\",\"Family\",IF('Outil Recensement'!I356=\"Applies\",\"Family\",IF('Outil Recensement'!I356=\"Applicable\",\"Family\",\"\"))))))))","v":""}]
[null,null,null,null,null,null,null,null,null,null,null,{"$f":"IF('Outil Recensement'!G357=\"Male\",\"Homme\",IF('Outil Recensement'!G357=\"Femme\",\"Female\",IF('Outil Recensement'!G357=\"H\",\"Male\",IF('Outil Recensement'!G357=\"F\",\"Female\",\"\"))))","v":""},null,{"$f":"IF('Outil Recensement'!I357=\"Individuelle\",\"Single\",IF('Outil Recensement'!I357=\"Familiale\",\"Family\",IF('Outil Recensement'!I357=\"Refus\",\"Family\",IF('Outil Recensement'!I357=\"Parent seul\",\"Family\",IF('Outil Recensement'!I357=\"Couple\",\"Family\",IF('Outil Recensement'!I357=\"In force\",\"Family\",IF('Outil Recensement'!I357=\"Applies\",\"Family\",IF('Outil Recensement'!I357=\"Applicable\",\"Family\",\"\"))))))))","v":""}]
[null,null,null,null,null,null,null,null,null,null,null,{"$f":"IF('Outil Recensement'!G358=\"Male\",\"Homme\",IF('Outil Recensement'!G358=\"Femme\",\"Female\",IF('Outil Recensement'!G358=\"H\",\"Male\",IF('Outil Recensement'!G358=\"F\",\"Female\",\"\"))))","v":""},null,{"$f":"IF('Outil Recensement'!I358=\"Individuelle\",\"Single\",IF('Outil Recensement'!I358=\"Familiale\",\"Family\",IF('Outil Recensement'!I358=\"Refus\",\"Family\",IF('Outil Recensement'!I358=\"Parent seul\",\"Family\",IF('Outil Recensement'!I358=\"Couple\",\"Family\",IF('Outil Recensement'!I358=\"In force\",\"Family\",IF('Outil Recensement'!I358=\"Applies\",\"Family\",IF('Outil Recensement'!I358=\"Applicable\",\"Family\",\"\"))))))))","v":""}]
[null,null,null,null,null,null,null,null,null,null,null,{"$f":"IF('Outil Recensement'!G359=\"Male\",\"Homme\",IF('Outil Recensement'!G359=\"Femme\",\"Female\",IF('Outil Recensement'!G359=\"H\",\"Male\",IF('Outil Recensement'!G359=\"F\",\"Female\",\"\"))))","v":""},null,{"$f":"IF('Outil Recensement'!I359=\"Individuelle\",\"Single\",IF('Outil Recensement'!I359=\"Familiale\",\"Family\",IF('Outil Recensement'!I359=\"Refus\",\"Family\",IF('Outil Recensement'!I359=\"Parent seul\",\"Family\",IF('Outil Recensement'!I359=\"Couple\",\"Family\",IF('Outil Recensement'!I359=\"In force\",\"Family\",IF('Outil Recensement'!I359=\"Applies\",\"Family\",IF('Outil Recensement'!I359=\"Applicable\",\"Family\",\"\"))))))))","v":""}]
[null,null,null,null,null,null,null,null,null,null,null,{"$f":"IF('Outil Recensement'!G360=\"Male\",\"Homme\",IF('Outil Recensement'!G360=\"Femme\",\"Female\",IF('Outil Recensement'!G360=\"H\",\"Male\",IF('Outil Recensement'!G360=\"F\",\"Female\",\"\"))))","v":""},null,{"$f":"IF('Outil Recensement'!I360=\"Individuelle\",\"Single\",IF('Outil Recensement'!I360=\"Familiale\",\"Family\",IF('Outil Recensement'!I360=\"Refus\",\"Family\",IF('Outil Recensement'!I360=\"Parent seul\",\"Family\",IF('Outil Recensement'!I360=\"Couple\",\"Family\",IF('Outil Recensement'!I360=\"In force\",\"Family\",IF('Outil Recensement'!I360=\"Applies\",\"Family\",IF('Outil Recensement'!I360=\"Applicable\",\"Family\",\"\"))))))))","v":""}]
[null,null,null,null,null,null,null,null,null,null,null,{"$f":"IF('Outil Recensement'!G361=\"Male\",\"Homme\",IF('Outil Recensement'!G361=\"Femme\",\"Female\",IF('Outil Recensement'!G361=\"H\",\"Male\",IF('Outil Recensement'!G361=\"F\",\"Female\",\"\"))))","v":""},null,{"$f":"IF('Outil Recensement'!I361=\"Individuelle\",\"Single\",IF('Outil Recensement'!I361=\"Familiale\",\"Family\",IF('Outil Recensement'!I361=\"Refus\",\"Family\",IF('Outil Recensement'!I361=\"Parent seul\",\"Family\",IF('Outil Recensement'!I361=\"Couple\",\"Family\",IF('Outil Recensement'!I361=\"In force\",\"Family\",IF('Outil Recensement'!I361=\"Applies\",\"Family\",IF('Outil Recensement'!I361=\"Applicable\",\"Family\",\"\"))))))))","v":""}]
[null,null,null,null,null,null,null,null,null,null,null,{"$f":"IF('Outil Recensement'!G362=\"Male\",\"Homme\",IF('Outil Recensement'!G362=\"Femme\",\"Female\",IF('Outil Recensement'!G362=\"H\",\"Male\",IF('Outil Recensement'!G362=\"F\",\"Female\",\"\"))))","v":""},null,{"$f":"IF('Outil Recensement'!I362=\"Individuelle\",\"Single\",IF('Outil Recensement'!I362=\"Familiale\",\"Family\",IF('Outil Recensement'!I362=\"Refus\",\"Family\",IF('Outil Recensement'!I362=\"Parent seul\",\"Family\",IF('Outil Recensement'!I362=\"Couple\",\"Family\",IF('Outil Recensement'!I362=\"In force\",\"Family\",IF('Outil Recensement'!I362=\"Applies\",\"Family\",IF('Outil Recensement'!I362=\"Applicable\",\"Family\",\"\"))))))))","v":""}]
[null,null,null,null,null,null,null,null,null,null,null,{"$f":"IF('Outil Recensement'!G363=\"Male\",\"Homme\",IF('Outil Recensement'!G363=\"Femme\",\"Female\",IF('Outil Recensement'!G363=\"H\",\"Male\",IF('Outil Recensement'!G363=\"F\",\"Female\",\"\"))))","v":""},null,{"$f":"IF('Outil Recensement'!I363=\"Individuelle\",\"Single\",IF('Outil Recensement'!I363=\"Familiale\",\"Family\",IF('Outil Recensement'!I363=\"Refus\",\"Family\",IF('Outil Recensement'!I363=\"Parent seul\",\"Family\",IF('Outil Recensement'!I363=\"Couple\",\"Family\",IF('Outil Recensement'!I363=\"In force\",\"Family\",IF('Outil Recensement'!I363=\"Applies\",\"Family\",IF('Outil Recensement'!I363=\"Applicable\",\"Family\",\"\"))))))))","v":""}]
[null,null,null,null,null,null,null,null,null,null,null,{"$f":"IF('Outil Recensement'!G364=\"Male\",\"Homme\",IF('Outil Recensement'!G364=\"Femme\",\"Female\",IF('Outil Recensement'!G364=\"H\",\"Male\",IF('Outil Recensement'!G364=\"F\",\"Female\",\"\"))))","v":""},null,{"$f":"IF('Outil Recensement'!I364=\"Individuelle\",\"Single\",IF('Outil Recensement'!I364=\"Familiale\",\"Family\",IF('Outil Recensement'!I364=\"Refus\",\"Family\",IF('Outil Recensement'!I364=\"Parent seul\",\"Family\",IF('Outil Recensement'!I364=\"Couple\",\"Family\",IF('Outil Recensement'!I364=\"In force\",\"Family\",IF('Outil Recensement'!I364=\"Applies\",\"Family\",IF('Outil Recensement'!I364=\"Applicable\",\"Family\",\"\"))))))))","v":""}]
[null,null,null,null,null,null,null,null,null,null,null,{"$f":"IF('Outil Recensement'!G365=\"Male\",\"Homme\",IF('Outil Recensement'!G365=\"Femme\",\"Female\",IF('Outil Recensement'!G365=\"H\",\"Male\",IF('Outil Recensement'!G365=\"F\",\"Female\",\"\"))))","v":""},null,{"$f":"IF('Outil Recensement'!I365=\"Individuelle\",\"Single\",IF('Outil Recensement'!I365=\"Familiale\",\"Family\",IF('Outil Recensement'!I365=\"Refus\",\"Family\",IF('Outil Recensement'!I365=\"Parent seul\",\"Family\",IF('Outil Recensement'!I365=\"Couple\",\"Family\",IF('Outil Recensement'!I365=\"In force\",\"Family\",IF('Outil Recensement'!I365=\"Applies\",\"Family\",IF('Outil Recensement'!I365=\"Applicable\",\"Family\",\"\"))))))))","v":""}]
[null,null,null,null,null,null,null,null,null,null,null,{"$f":"IF('Outil Recensement'!G366=\"Male\",\"Homme\",IF('Outil Recensement'!G366=\"Femme\",\"Female\",IF('Outil Recensement'!G366=\"H\",\"Male\",IF('Outil Recensement'!G366=\"F\",\"Female\",\"\"))))","v":""},null,{"$f":"IF('Outil Recensement'!I366=\"Individuelle\",\"Single\",IF('Outil Recensement'!I366=\"Familiale\",\"Family\",IF('Outil Recensement'!I366=\"Refus\",\"Family\",IF('Outil Recensement'!I366=\"Parent seul\",\"Family\",IF('Outil Recensement'!I366=\"Couple\",\"Family\",IF('Outil Recensement'!I366=\"In force\",\"Family\",IF('Outil Recensement'!I366=\"Applies\",\"Family\",IF('Outil Recensement'!I366=\"Applicable\",\"Family\",\"\"))))))))","v":""}]
[null,null,null,null,null,null,null,null,null,null,null,{"$f":"IF('Outil Recensement'!G367=\"Male\",\"Homme\",IF('Outil Recensement'!G367=\"Femme\",\"Female\",IF('Outil Recensement'!G367=\"H\",\"Male\",IF('Outil Recensement'!G367=\"F\",\"Female\",\"\"))))","v":""},null,{"$f":"IF('Outil Recensement'!I367=\"Individuelle\",\"Single\",IF('Outil Recensement'!I367=\"Familiale\",\"Family\",IF('Outil Recensement'!I367=\"Refus\",\"Family\",IF('Outil Recensement'!I367=\"Parent seul\",\"Family\",IF('Outil Recensement'!I367=\"Couple\",\"Family\",IF('Outil Recensement'!I367=\"In force\",\"Family\",IF('Outil Recensement'!I367=\"Applies\",\"Family\",IF('Outil Recensement'!I367=\"Applicable\",\"Family\",\"\"))))))))","v":""}]
[null,null,null,null,null,null,null,null,null,null,null,{"$f":"IF('Outil Recensement'!G368=\"Male\",\"Homme\",IF('Outil Recensement'!G368=\"Femme\",\"Female\",IF('Outil Recensement'!G368=\"H\",\"Male\",IF('Outil Recensement'!G368=\"F\",\"Female\",\"\"))))","v":""},null,{"$f":"IF('Outil Recensement'!I368=\"Individuelle\",\"Single\",IF('Outil Recensement'!I368=\"Familiale\",\"Family\",IF('Outil Recensement'!I368=\"Refus\",\"Family\",IF('Outil Recensement'!I368=\"Parent seul\",\"Family\",IF('Outil Recensement'!I368=\"Couple\",\"Family\",IF('Outil Recensement'!I368=\"In force\",\"Family\",IF('Outil Recensement'!I368=\"Applies\",\"Family\",IF('Outil Recensement'!I368=\"Applicable\",\"Family\",\"\"))))))))","v":""}]
[null,null,null,null,null,null,null,null,null,null,null,{"$f":"IF('Outil Recensement'!G369=\"Male\",\"Homme\",IF('Outil Recensement'!G369=\"Femme\",\"Female\",IF('Outil Recensement'!G369=\"H\",\"Male\",IF('Outil Recensement'!G369=\"F\",\"Female\",\"\"))))","v":""},null,{"$f":"IF('Outil Recensement'!I369=\"Individuelle\",\"Single\",IF('Outil Recensement'!I369=\"Familiale\",\"Family\",IF('Outil Recensement'!I369=\"Refus\",\"Family\",IF('Outil Recensement'!I369=\"Parent seul\",\"Family\",IF('Outil Recensement'!I369=\"Couple\",\"Family\",IF('Outil Recensement'!I369=\"In force\",\"Family\",IF('Outil Recensement'!I369=\"Applies\",\"Family\",IF('Outil Recensement'!I369=\"Applicable\",\"Family\",\"\"))))))))","v":""}]
[null,null,null,null,null,null,null,null,null,null,null,{"$f":"IF('Outil Recensement'!G370=\"Male\",\"Homme\",IF('Outil Recensement'!G370=\"Femme\",\"Female\",IF('Outil Recensement'!G370=\"H\",\"Male\",IF('Outil Recensement'!G370=\"F\",\"Female\",\"\"))))","v":""},null,{"$f":"IF('Outil Recensement'!I370=\"Individuelle\",\"Single\",IF('Outil Recensement'!I370=\"Familiale\",\"Family\",IF('Outil Recensement'!I370=\"Refus\",\"Family\",IF('Outil Recensement'!I370=\"Parent seul\",\"Family\",IF('Outil Recensement'!I370=\"Couple\",\"Family\",IF('Outil Recensement'!I370=\"In force\",\"Family\",IF('Outil Recensement'!I370=\"Applies\",\"Family\",IF('Outil Recensement'!I370=\"Applicable\",\"Family\",\"\"))))))))","v":""}]
[null,null,null,null,null,null,null,null,null,null,null,{"$f":"IF('Outil Recensement'!G371=\"Male\",\"Homme\",IF('Outil Recensement'!G371=\"Femme\",\"Female\",IF('Outil Recensement'!G371=\"H\",\"Male\",IF('Outil Recensement'!G371=\"F\",\"Female\",\"\"))))","v":""},null,{"$f":"IF('Outil Recensement'!I371=\"Individuelle\",\"Single\",IF('Outil Recensement'!I371=\"Familiale\",\"Family\",IF('Outil Recensement'!I371=\"Refus\",\"Family\",IF('Outil Recensement'!I371=\"Parent seul\",\"Family\",IF('Outil Recensement'!I371=\"Couple\",\"Family\",IF('Outil Recensement'!I371=\"In force\",\"Family\",IF('Outil Recensement'!I371=\"Applies\",\"Family\",IF('Outil Recensement'!I371=\"Applicable\",\"Family\",\"\"))))))))","v":""}]
[null,null,null,null,null,null,null,null,null,null,null,{"$f":"IF('Outil Recensement'!G372=\"Male\",\"Homme\",IF('Outil Recensement'!G372=\"Femme\",\"Female\",IF('Outil Recensement'!G372=\"H\",\"Male\",IF('Outil Recensement'!G372=\"F\",\"Female\",\"\"))))","v":""},null,{"$f":"IF('Outil Recensement'!I372=\"Individuelle\",\"Single\",IF('Outil Recensement'!I372=\"Familiale\",\"Family\",IF('Outil Recensement'!I372=\"Refus\",\"Family\",IF('Outil Recensement'!I372=\"Parent seul\",\"Family\",IF('Outil Recensement'!I372=\"Couple\",\"Family\",IF('Outil Recensement'!I372=\"In force\",\"Family\",IF('Outil Recensement'!I372=\"Applies\",\"Family\",IF('Outil Recensement'!I372=\"Applicable\",\"Family\",\"\"))))))))","v":""}]
[null,null,null,null,null,null,null,null,null,null,null,{"$f":"IF('Outil Recensement'!G373=\"Male\",\"Homme\",IF('Outil Recensement'!G373=\"Femme\",\"Female\",IF('Outil Recensement'!G373=\"H\",\"Male\",IF('Outil Recensement'!G373=\"F\",\"Female\",\"\"))))","v":""},null,{"$f":"IF('Outil Recensement'!I373=\"Individuelle\",\"Single\",IF('Outil Recensement'!I373=\"Familiale\",\"Family\",IF('Outil Recensement'!I373=\"Refus\",\"Family\",IF('Outil Recensement'!I373=\"Parent seul\",\"Family\",IF('Outil Recensement'!I373=\"Couple\",\"Family\",IF('Outil Recensement'!I373=\"In force\",\"Family\",IF('Outil Recensement'!I373=\"Applies\",\"Family\",IF('Outil Recensement'!I373=\"Applicable\",\"Family\",\"\"))))))))","v":""}]
[null,null,null,null,null,null,null,null,null,null,null,{"$f":"IF('Outil Recensement'!G374=\"Male\",\"Homme\",IF('Outil Recensement'!G374=\"Femme\",\"Female\",IF('Outil Recensement'!G374=\"H\",\"Male\",IF('Outil Recensement'!G374=\"F\",\"Female\",\"\"))))","v":""},null,{"$f":"IF('Outil Recensement'!I374=\"Individuelle\",\"Single\",IF('Outil Recensement'!I374=\"Familiale\",\"Family\",IF('Outil Recensement'!I374=\"Refus\",\"Family\",IF('Outil Recensement'!I374=\"Parent seul\",\"Family\",IF('Outil Recensement'!I374=\"Couple\",\"Family\",IF('Outil Recensement'!I374=\"In force\",\"Family\",IF('Outil Recensement'!I374=\"Applies\",\"Family\",IF('Outil Recensement'!I374=\"Applicable\",\"Family\",\"\"))))))))","v":""}]
[null,null,null,null,null,null,null,null,null,null,null,{"$f":"IF('Outil Recensement'!G375=\"Male\",\"Homme\",IF('Outil Recensement'!G375=\"Femme\",\"Female\",IF('Outil Recensement'!G375=\"H\",\"Male\",IF('Outil Recensement'!G375=\"F\",\"Female\",\"\"))))","v":""},null,{"$f":"IF('Outil Recensement'!I375=\"Individuelle\",\"Single\",IF('Outil Recensement'!I375=\"Familiale\",\"Family\",IF('Outil Recensement'!I375=\"Refus\",\"Family\",IF('Outil Recensement'!I375=\"Parent seul\",\"Family\",IF('Outil Recensement'!I375=\"Couple\",\"Family\",IF('Outil Recensement'!I375=\"In force\",\"Family\",IF('Outil Recensement'!I375=\"Applies\",\"Family\",IF('Outil Recensement'!I375=\"Applicable\",\"Family\",\"\"))))))))","v":""}]
[null,null,null,null,null,null,null,null,null,null,null,{"$f":"IF('Outil Recensement'!G376=\"Male\",\"Homme\",IF('Outil Recensement'!G376=\"Femme\",\"Female\",IF('Outil Recensement'!G376=\"H\",\"Male\",IF('Outil Recensement'!G376=\"F\",\"Female\",\"\"))))","v":""},null,{"$f":"IF('Outil Recensement'!I376=\"Individuelle\",\"Single\",IF('Outil Recensement'!I376=\"Familiale\",\"Family\",IF('Outil Recensement'!I376=\"Refus\",\"Family\",IF('Outil Recensement'!I376=\"Parent seul\",\"Family\",IF('Outil Recensement'!I376=\"Couple\",\"Family\",IF('Outil Recensement'!I376=\"In force\",\"Family\",IF('Outil Recensement'!I376=\"Applies\",\"Family\",IF('Outil Recensement'!I376=\"Applicable\",\"Family\",\"\"))))))))","v":""}]
[null,null,null,null,null,null,null,null,null,null,null,{"$f":"IF('Outil Recensement'!G377=\"Male\",\"Homme\",IF('Outil Recensement'!G377=\"Femme\",\"Female\",IF('Outil Recensement'!G377=\"H\",\"Male\",IF('Outil Recensement'!G377=\"F\",\"Female\",\"\"))))","v":""},null,{"$f":"IF('Outil Recensement'!I377=\"Individuelle\",\"Single\",IF('Outil Recensement'!I377=\"Familiale\",\"Family\",IF('Outil Recensement'!I377=\"Refus\",\"Family\",IF('Outil Recensement'!I377=\"Parent seul\",\"Family\",IF('Outil Recensement'!I377=\"Couple\",\"Family\",IF('Outil Recensement'!I377=\"In force\",\"Family\",IF('Outil Recensement'!I377=\"Applies\",\"Family\",IF('Outil Recensement'!I377=\"Applicable\",\"Family\",\"\"))))))))","v":""}]
[null,null,null,null,null,null,null,null,null,null,null,{"$f":"IF('Outil Recensement'!G378=\"Male\",\"Homme\",IF('Outil Recensement'!G378=\"Femme\",\"Female\",IF('Outil Recensement'!G378=\"H\",\"Male\",IF('Outil Recensement'!G378=\"F\",\"Female\",\"\"))))","v":""},null,{"$f":"IF('Outil Recensement'!I378=\"Individuelle\",\"Single\",IF('Outil Recensement'!I378=\"Familiale\",\"Family\",IF('Outil Recensement'!I378=\"Refus\",\"Family\",IF('Outil Recensement'!I378=\"Parent seul\",\"Family\",IF('Outil Recensement'!I378=\"Couple\",\"Family\",IF('Outil Recensement'!I378=\"In force\",\"Family\",IF('Outil Recensement'!I378=\"Applies\",\"Family\",IF('Outil Recensement'!I378=\"Applicable\",\"Family\",\"\"))))))))","v":""}]
[null,null,null,null,null,null,null,null,null,null,null,{"$f":"IF('Outil Recensement'!G379=\"Male\",\"Homme\",IF('Outil Recensement'!G379=\"Femme\",\"Female\",IF('Outil Recensement'!G379=\"H\",\"Male\",IF('Outil Recensement'!G379=\"F\",\"Female\",\"\"))))","v":""},null,{"$f":"IF('Outil Recensement'!I379=\"Individuelle\",\"Single\",IF('Outil Recensement'!I379=\"Familiale\",\"Family\",IF('Outil Recensement'!I379=\"Refus\",\"Family\",IF('Outil Recensement'!I379=\"Parent seul\",\"Family\",IF('Outil Recensement'!I379=\"Couple\",\"Family\",IF('Outil Recensement'!I379=\"In force\",\"Family\",IF('Outil Recensement'!I379=\"Applies\",\"Family\",IF('Outil Recensement'!I379=\"Applicable\",\"Family\",\"\"))))))))","v":""}]
[null,null,null,null,null,null,null,null,null,null,null,{"$f":"IF('Outil Recensement'!G380=\"Male\",\"Homme\",IF('Outil Recensement'!G380=\"Femme\",\"Female\",IF('Outil Recensement'!G380=\"H\",\"Male\",IF('Outil Recensement'!G380=\"F\",\"Female\",\"\"))))","v":""},null,{"$f":"IF('Outil Recensement'!I380=\"Individuelle\",\"Single\",IF('Outil Recensement'!I380=\"Familiale\",\"Family\",IF('Outil Recensement'!I380=\"Refus\",\"Family\",IF('Outil Recensement'!I380=\"Parent seul\",\"Family\",IF('Outil Recensement'!I380=\"Couple\",\"Family\",IF('Outil Recensement'!I380=\"In force\",\"Family\",IF('Outil Recensement'!I380=\"Applies\",\"Family\",IF('Outil Recensement'!I380=\"Applicable\",\"Family\",\"\"))))))))","v":""}]
[null,null,null,null,null,null,null,null,null,null,null,{"$f":"IF('Outil Recensement'!G381=\"Male\",\"Homme\",IF('Outil Recensement'!G381=\"Femme\",\"Female\",IF('Outil Recensement'!G381=\"H\",\"Male\",IF('Outil Recensement'!G381=\"F\",\"Female\",\"\"))))","v":""},null,{"$f":"IF('Outil Recensement'!I381=\"Individuelle\",\"Single\",IF('Outil Recensement'!I381=\"Familiale\",\"Family\",IF('Outil Recensement'!I381=\"Refus\",\"Family\",IF('Outil Recensement'!I381=\"Parent seul\",\"Family\",IF('Outil Recensement'!I381=\"Couple\",\"Family\",IF('Outil Recensement'!I381=\"In force\",\"Family\",IF('Outil Recensement'!I381=\"Applies\",\"Family\",IF('Outil Recensement'!I381=\"Applicable\",\"Family\",\"\"))))))))","v":""}]
[null,null,null,null,null,null,null,null,null,null,null,{"$f":"IF('Outil Recensement'!G382=\"Male\",\"Homme\",IF('Outil Recensement'!G382=\"Femme\",\"Female\",IF('Outil Recensement'!G382=\"H\",\"Male\",IF('Outil Recensement'!G382=\"F\",\"Female\",\"\"))))","v":""},null,{"$f":"IF('Outil Recensement'!I382=\"Individuelle\",\"Single\",IF('Outil Recensement'!I382=\"Familiale\",\"Family\",IF('Outil Recensement'!I382=\"Refus\",\"Family\",IF('Outil Recensement'!I382=\"Parent seul\",\"Family\",IF('Outil Recensement'!I382=\"Couple\",\"Family\",IF('Outil Recensement'!I382=\"In force\",\"Family\",IF('Outil Recensement'!I382=\"Applies\",\"Family\",IF('Outil Recensement'!I382=\"Applicable\",\"Family\",\"\"))))))))","v":""}]
[null,null,null,null,null,null,null,null,null,null,null,{"$f":"IF('Outil Recensement'!G383=\"Male\",\"Homme\",IF('Outil Recensement'!G383=\"Femme\",\"Female\",IF('Outil Recensement'!G383=\"H\",\"Male\",IF('Outil Recensement'!G383=\"F\",\"Female\",\"\"))))","v":""},null,{"$f":"IF('Outil Recensement'!I383=\"Individuelle\",\"Single\",IF('Outil Recensement'!I383=\"Familiale\",\"Family\",IF('Outil Recensement'!I383=\"Refus\",\"Family\",IF('Outil Recensement'!I383=\"Parent seul\",\"Family\",IF('Outil Recensement'!I383=\"Couple\",\"Family\",IF('Outil Recensement'!I383=\"In force\",\"Family\",IF('Outil Recensement'!I383=\"Applies\",\"Family\",IF('Outil Recensement'!I383=\"Applicable\",\"Family\",\"\"))))))))","v":""}]
[null,null,null,null,null,null,null,null,null,null,null,{"$f":"IF('Outil Recensement'!G384=\"Male\",\"Homme\",IF('Outil Recensement'!G384=\"Femme\",\"Female\",IF('Outil Recensement'!G384=\"H\",\"Male\",IF('Outil Recensement'!G384=\"F\",\"Female\",\"\"))))","v":""},null,{"$f":"IF('Outil Recensement'!I384=\"Individuelle\",\"Single\",IF('Outil Recensement'!I384=\"Familiale\",\"Family\",IF('Outil Recensement'!I384=\"Refus\",\"Family\",IF('Outil Recensement'!I384=\"Parent seul\",\"Family\",IF('Outil Recensement'!I384=\"Couple\",\"Family\",IF('Outil Recensement'!I384=\"In force\",\"Family\",IF('Outil Recensement'!I384=\"Applies\",\"Family\",IF('Outil Recensement'!I384=\"Applicable\",\"Family\",\"\"))))))))","v":""}]
[null,null,null,null,null,null,null,null,null,null,null,{"$f":"IF('Outil Recensement'!G385=\"Male\",\"Homme\",IF('Outil Recensement'!G385=\"Femme\",\"Female\",IF('Outil Recensement'!G385=\"H\",\"Male\",IF('Outil Recensement'!G385=\"F\",\"Female\",\"\"))))","v":""},null,{"$f":"IF('Outil Recensement'!I385=\"Individuelle\",\"Single\",IF('Outil Recensement'!I385=\"Familiale\",\"Family\",IF('Outil Recensement'!I385=\"Refus\",\"Family\",IF('Outil Recensement'!I385=\"Parent seul\",\"Family\",IF('Outil Recensement'!I385=\"Couple\",\"Family\",IF('Outil Recensement'!I385=\"In force\",\"Family\",IF('Outil Recensement'!I385=\"Applies\",\"Family\",IF('Outil Recensement'!I385=\"Applicable\",\"Family\",\"\"))))))))","v":""}]
[null,null,null,null,null,null,null,null,null,null,null,{"$f":"IF('Outil Recensement'!G386=\"Male\",\"Homme\",IF('Outil Recensement'!G386=\"Femme\",\"Female\",IF('Outil Recensement'!G386=\"H\",\"Male\",IF('Outil Recensement'!G386=\"F\",\"Female\",\"\"))))","v":""},null,{"$f":"IF('Outil Recensement'!I386=\"Individuelle\",\"Single\",IF('Outil Recensement'!I386=\"Familiale\",\"Family\",IF('Outil Recensement'!I386=\"Refus\",\"Family\",IF('Outil Recensement'!I386=\"Parent seul\",\"Family\",IF('Outil Recensement'!I386=\"Couple\",\"Family\",IF('Outil Recensement'!I386=\"In force\",\"Family\",IF('Outil Recensement'!I386=\"Applies\",\"Family\",IF('Outil Recensement'!I386=\"Applicable\",\"Family\",\"\"))))))))","v":""}]
[null,null,null,null,null,null,null,null,null,null,null,{"$f":"IF('Outil Recensement'!G387=\"Male\",\"Homme\",IF('Outil Recensement'!G387=\"Femme\",\"Female\",IF('Outil Recensement'!G387=\"H\",\"Male\",IF('Outil Recensement'!G387=\"F\",\"Female\",\"\"))))","v":""},null,{"$f":"IF('Outil Recensement'!I387=\"Individuelle\",\"Single\",IF('Outil Recensement'!I387=\"Familiale\",\"Family\",IF('Outil Recensement'!I387=\"Refus\",\"Family\",IF('Outil Recensement'!I387=\"Parent seul\",\"Family\",IF('Outil Recensement'!I387=\"Couple\",\"Family\",IF('Outil Recensement'!I387=\"In force\",\"Family\",IF('Outil Recensement'!I387=\"Applies\",\"Family\",IF('Outil Recensement'!I387=\"Applicable\",\"Family\",\"\"))))))))","v":""}]
[null,null,null,null,null,null,null,null,null,null,null,{"$f":"IF('Outil Recensement'!G388=\"Male\",\"Homme\",IF('Outil Recensement'!G388=\"Femme\",\"Female\",IF('Outil Recensement'!G388=\"H\",\"Male\",IF('Outil Recensement'!G388=\"F\",\"Female\",\"\"))))","v":""},null,{"$f":"IF('Outil Recensement'!I388=\"Individuelle\",\"Single\",IF('Outil Recensement'!I388=\"Familiale\",\"Family\",IF('Outil Recensement'!I388=\"Refus\",\"Family\",IF('Outil Recensement'!I388=\"Parent seul\",\"Family\",IF('Outil Recensement'!I388=\"Couple\",\"Family\",IF('Outil Recensement'!I388=\"In force\",\"Family\",IF('Outil Recensement'!I388=\"Applies\",\"Family\",IF('Outil Recensement'!I388=\"Applicable\",\"Family\",\"\"))))))))","v":""}]
[null,null,null,null,null,null,null,null,null,null,null,{"$f":"IF('Outil Recensement'!G389=\"Male\",\"Homme\",IF('Outil Recensement'!G389=\"Femme\",\"Female\",IF('Outil Recensement'!G389=\"H\",\"Male\",IF('Outil Recensement'!G389=\"F\",\"Female\",\"\"))))","v":""},null,{"$f":"IF('Outil Recensement'!I389=\"Individuelle\",\"Single\",IF('Outil Recensement'!I389=\"Familiale\",\"Family\",IF('Outil Recensement'!I389=\"Refus\",\"Family\",IF('Outil Recensement'!I389=\"Parent seul\",\"Family\",IF('Outil Recensement'!I389=\"Couple\",\"Family\",IF('Outil Recensement'!I389=\"In force\",\"Family\",IF('Outil Recensement'!I389=\"Applies\",\"Family\",IF('Outil Recensement'!I389=\"Applicable\",\"Family\",\"\"))))))))","v":""}]
[null,null,null,null,null,null,null,null,null,null,null,{"$f":"IF('Outil Recensement'!G390=\"Male\",\"Homme\",IF('Outil Recensement'!G390=\"Femme\",\"Female\",IF('Outil Recensement'!G390=\"H\",\"Male\",IF('Outil Recensement'!G390=\"F\",\"Female\",\"\"))))","v":""},null,{"$f":"IF('Outil Recensement'!I390=\"Individuelle\",\"Single\",IF('Outil Recensement'!I390=\"Familiale\",\"Family\",IF('Outil Recensement'!I390=\"Refus\",\"Family\",IF('Outil Recensement'!I390=\"Parent seul\",\"Family\",IF('Outil Recensement'!I390=\"Couple\",\"Family\",IF('Outil Recensement'!I390=\"In force\",\"Family\",IF('Outil Recensement'!I390=\"Applies\",\"Family\",IF('Outil Recensement'!I390=\"Applicable\",\"Family\",\"\"))))))))","v":""}]
[null,null,null,null,null,null,null,null,null,null,null,{"$f":"IF('Outil Recensement'!G391=\"Male\",\"Homme\",IF('Outil Recensement'!G391=\"Femme\",\"Female\",IF('Outil Recensement'!G391=\"H\",\"Male\",IF('Outil Recensement'!G391=\"F\",\"Female\",\"\"))))","v":""},null,{"$f":"IF('Outil Recensement'!I391=\"Individuelle\",\"Single\",IF('Outil Recensement'!I391=\"Familiale\",\"Family\",IF('Outil Recensement'!I391=\"Refus\",\"Family\",IF('Outil Recensement'!I391=\"Parent seul\",\"Family\",IF('Outil Recensement'!I391=\"Couple\",\"Family\",IF('Outil Recensement'!I391=\"In force\",\"Family\",IF('Outil Recensement'!I391=\"Applies\",\"Family\",IF('Outil Recensement'!I391=\"Applicable\",\"Family\",\"\"))))))))","v":""}]
[null,null,null,null,null,null,null,null,null,null,null,{"$f":"IF('Outil Recensement'!G392=\"Male\",\"Homme\",IF('Outil Recensement'!G392=\"Femme\",\"Female\",IF('Outil Recensement'!G392=\"H\",\"Male\",IF('Outil Recensement'!G392=\"F\",\"Female\",\"\"))))","v":""},null,{"$f":"IF('Outil Recensement'!I392=\"Individuelle\",\"Single\",IF('Outil Recensement'!I392=\"Familiale\",\"Family\",IF('Outil Recensement'!I392=\"Refus\",\"Family\",IF('Outil Recensement'!I392=\"Parent seul\",\"Family\",IF('Outil Recensement'!I392=\"Couple\",\"Family\",IF('Outil Recensement'!I392=\"In force\",\"Family\",IF('Outil Recensement'!I392=\"Applies\",\"Family\",IF('Outil Recensement'!I392=\"Applicable\",\"Family\",\"\"))))))))","v":""}]
[null,null,null,null,null,null,null,null,null,null,null,{"$f":"IF('Outil Recensement'!G393=\"Male\",\"Homme\",IF('Outil Recensement'!G393=\"Femme\",\"Female\",IF('Outil Recensement'!G393=\"H\",\"Male\",IF('Outil Recensement'!G393=\"F\",\"Female\",\"\"))))","v":""},null,{"$f":"IF('Outil Recensement'!I393=\"Individuelle\",\"Single\",IF('Outil Recensement'!I393=\"Familiale\",\"Family\",IF('Outil Recensement'!I393=\"Refus\",\"Family\",IF('Outil Recensement'!I393=\"Parent seul\",\"Family\",IF('Outil Recensement'!I393=\"Couple\",\"Family\",IF('Outil Recensement'!I393=\"In force\",\"Family\",IF('Outil Recensement'!I393=\"Applies\",\"Family\",IF('Outil Recensement'!I393=\"Applicable\",\"Family\",\"\"))))))))","v":""}]
[null,null,null,null,null,null,null,null,null,null,null,{"$f":"IF('Outil Recensement'!G394=\"Male\",\"Homme\",IF('Outil Recensement'!G394=\"Femme\",\"Female\",IF('Outil Recensement'!G394=\"H\",\"Male\",IF('Outil Recensement'!G394=\"F\",\"Female\",\"\"))))","v":""},null,{"$f":"IF('Outil Recensement'!I394=\"Individuelle\",\"Single\",IF('Outil Recensement'!I394=\"Familiale\",\"Family\",IF('Outil Recensement'!I394=\"Refus\",\"Family\",IF('Outil Recensement'!I394=\"Parent seul\",\"Family\",IF('Outil Recensement'!I394=\"Couple\",\"Family\",IF('Outil Recensement'!I394=\"In force\",\"Family\",IF('Outil Recensement'!I394=\"Applies\",\"Family\",IF('Outil Recensement'!I394=\"Applicable\",\"Family\",\"\"))))))))","v":""}]
[null,null,null,null,null,null,null,null,null,null,null,{"$f":"IF('Outil Recensement'!G395=\"Male\",\"Homme\",IF('Outil Recensement'!G395=\"Femme\",\"Female\",IF('Outil Recensement'!G395=\"H\",\"Male\",IF('Outil Recensement'!G395=\"F\",\"Female\",\"\"))))","v":""},null,{"$f":"IF('Outil Recensement'!I395=\"Individuelle\",\"Single\",IF('Outil Recensement'!I395=\"Familiale\",\"Family\",IF('Outil Recensement'!I395=\"Refus\",\"Family\",IF('Outil Recensement'!I395=\"Parent seul\",\"Family\",IF('Outil Recensement'!I395=\"Couple\",\"Family\",IF('Outil Recensement'!I395=\"In force\",\"Family\",IF('Outil Recensement'!I395=\"Applies\",\"Family\",IF('Outil Recensement'!I395=\"Applicable\",\"Family\",\"\"))))))))","v":""}]
[null,null,null,null,null,null,null,null,null,null,null,{"$f":"IF('Outil Recensement'!G396=\"Male\",\"Homme\",IF('Outil Recensement'!G396=\"Femme\",\"Female\",IF('Outil Recensement'!G396=\"H\",\"Male\",IF('Outil Recensement'!G396=\"F\",\"Female\",\"\"))))","v":""},null,{"$f":"IF('Outil Recensement'!I396=\"Individuelle\",\"Single\",IF('Outil Recensement'!I396=\"Familiale\",\"Family\",IF('Outil Recensement'!I396=\"Refus\",\"Family\",IF('Outil Recensement'!I396=\"Parent seul\",\"Family\",IF('Outil Recensement'!I396=\"Couple\",\"Family\",IF('Outil Recensement'!I396=\"In force\",\"Family\",IF('Outil Recensement'!I396=\"Applies\",\"Family\",IF('Outil Recensement'!I396=\"Applicable\",\"Family\",\"\"))))))))","v":""}]
[null,null,null,null,null,null,null,null,null,null,null,{"$f":"IF('Outil Recensement'!G397=\"Male\",\"Homme\",IF('Outil Recensement'!G397=\"Femme\",\"Female\",IF('Outil Recensement'!G397=\"H\",\"Male\",IF('Outil Recensement'!G397=\"F\",\"Female\",\"\"))))","v":""},null,{"$f":"IF('Outil Recensement'!I397=\"Individuelle\",\"Single\",IF('Outil Recensement'!I397=\"Familiale\",\"Family\",IF('Outil Recensement'!I397=\"Refus\",\"Family\",IF('Outil Recensement'!I397=\"Parent seul\",\"Family\",IF('Outil Recensement'!I397=\"Couple\",\"Family\",IF('Outil Recensement'!I397=\"In force\",\"Family\",IF('Outil Recensement'!I397=\"Applies\",\"Family\",IF('Outil Recensement'!I397=\"Applicable\",\"Family\",\"\"))))))))","v":""}]
[null,null,null,null,null,null,null,null,null,null,null,{"$f":"IF('Outil Recensement'!G398=\"Male\",\"Homme\",IF('Outil Recensement'!G398=\"Femme\",\"Female\",IF('Outil Recensement'!G398=\"H\",\"Male\",IF('Outil Recensement'!G398=\"F\",\"Female\",\"\"))))","v":""},null,{"$f":"IF('Outil Recensement'!I398=\"Individuelle\",\"Single\",IF('Outil Recensement'!I398=\"Familiale\",\"Family\",IF('Outil Recensement'!I398=\"Refus\",\"Family\",IF('Outil Recensement'!I398=\"Parent seul\",\"Family\",IF('Outil Recensement'!I398=\"Couple\",\"Family\",IF('Outil Recensement'!I398=\"In force\",\"Family\",IF('Outil Recensement'!I398=\"Applies\",\"Family\",IF('Outil Recensement'!I398=\"Applicable\",\"Family\",\"\"))))))))","v":""}]
[null,null,null,null,null,null,null,null,null,null,null,{"$f":"IF('Outil Recensement'!G399=\"Male\",\"Homme\",IF('Outil Recensement'!G399=\"Femme\",\"Female\",IF('Outil Recensement'!G399=\"H\",\"Male\",IF('Outil Recensement'!G399=\"F\",\"Female\",\"\"))))","v":""},null,{"$f":"IF('Outil Recensement'!I399=\"Individuelle\",\"Single\",IF('Outil Recensement'!I399=\"Familiale\",\"Family\",IF('Outil Recensement'!I399=\"Refus\",\"Family\",IF('Outil Recensement'!I399=\"Parent seul\",\"Family\",IF('Outil Recensement'!I399=\"Couple\",\"Family\",IF('Outil Recensement'!I399=\"In force\",\"Family\",IF('Outil Recensement'!I399=\"Applies\",\"Family\",IF('Outil Recensement'!I399=\"Applicable\",\"Family\",\"\"))))))))","v":""}]
[null,null,null,null,null,null,null,null,null,null,null,{"$f":"IF('Outil Recensement'!G400=\"Male\",\"Homme\",IF('Outil Recensement'!G400=\"Femme\",\"Female\",IF('Outil Recensement'!G400=\"H\",\"Male\",IF('Outil Recensement'!G400=\"F\",\"Female\",\"\"))))","v":""},null,{"$f":"IF('Outil Recensement'!I400=\"Individuelle\",\"Single\",IF('Outil Recensement'!I400=\"Familiale\",\"Family\",IF('Outil Recensement'!I400=\"Refus\",\"Family\",IF('Outil Recensement'!I400=\"Parent seul\",\"Family\",IF('Outil Recensement'!I400=\"Couple\",\"Family\",IF('Outil Recensement'!I400=\"In force\",\"Family\",IF('Outil Recensement'!I400=\"Applies\",\"Family\",IF('Outil Recensement'!I400=\"Applicable\",\"Family\",\"\"))))))))","v":""}]
[null,null,null,null,null,null,null,null,null,null,null,{"$f":"IF('Outil Recensement'!G401=\"Male\",\"Homme\",IF('Outil Recensement'!G401=\"Femme\",\"Female\",IF('Outil Recensement'!G401=\"H\",\"Male\",IF('Outil Recensement'!G401=\"F\",\"Female\",\"\"))))","v":""},null,{"$f":"IF('Outil Recensement'!I401=\"Individuelle\",\"Single\",IF('Outil Recensement'!I401=\"Familiale\",\"Family\",IF('Outil Recensement'!I401=\"Refus\",\"Family\",IF('Outil Recensement'!I401=\"Parent seul\",\"Family\",IF('Outil Recensement'!I401=\"Couple\",\"Family\",IF('Outil Recensement'!I401=\"In force\",\"Family\",IF('Outil Recensement'!I401=\"Applies\",\"Family\",IF('Outil Recensement'!I401=\"Applicable\",\"Family\",\"\"))))))))","v":""}]
[null,null,null,null,null,null,null,null,null,null,null,{"$f":"IF('Outil Recensement'!G402=\"Male\",\"Homme\",IF('Outil Recensement'!G402=\"Femme\",\"Female\",IF('Outil Recensement'!G402=\"H\",\"Male\",IF('Outil Recensement'!G402=\"F\",\"Female\",\"\"))))","v":""},null,{"$f":"IF('Outil Recensement'!I402=\"Individuelle\",\"Single\",IF('Outil Recensement'!I402=\"Familiale\",\"Family\",IF('Outil Recensement'!I402=\"Refus\",\"Family\",IF('Outil Recensement'!I402=\"Parent seul\",\"Family\",IF('Outil Recensement'!I402=\"Couple\",\"Family\",IF('Outil Recensement'!I402=\"In force\",\"Family\",IF('Outil Recensement'!I402=\"Applies\",\"Family\",IF('Outil Recensement'!I402=\"Applicable\",\"Family\",\"\"))))))))","v":""}]
[null,null,null,null,null,null,null,null,null,null,null,{"$f":"IF('Outil Recensement'!G403=\"Male\",\"Homme\",IF('Outil Recensement'!G403=\"Femme\",\"Female\",IF('Outil Recensement'!G403=\"H\",\"Male\",IF('Outil Recensement'!G403=\"F\",\"Female\",\"\"))))","v":""},null,{"$f":"IF('Outil Recensement'!I403=\"Individuelle\",\"Single\",IF('Outil Recensement'!I403=\"Familiale\",\"Family\",IF('Outil Recensement'!I403=\"Refus\",\"Family\",IF('Outil Recensement'!I403=\"Parent seul\",\"Family\",IF('Outil Recensement'!I403=\"Couple\",\"Family\",IF('Outil Recensement'!I403=\"In force\",\"Family\",IF('Outil Recensement'!I403=\"Applies\",\"Family\",IF('Outil Recensement'!I403=\"Applicable\",\"Family\",\"\"))))))))","v":""}]
[null,null,null,null,null,null,null,null,null,null,null,null,null,{"$f":"IF('Outil Recensement'!I404=\"Individuelle\",\"Single\",IF('Outil Recensement'!I404=\"Familiale\",\"Family\",IF('Outil Recensement'!I404=\"Refus\",\"Family\",IF('Outil Recensement'!I404=\"Parent seul\",\"Family\",IF('Outil Recensement'!I404=\"Couple\",\"Family\",IF('Outil Recensement'!I404=\"In force\",\"Family\",IF('Outil Recensement'!I404=\"Applies\",\"Family\",IF('Outil Recensement'!I404=\"Applicable\",\"Family\",\"\"))))))))","v":""}]
[null,null,null,null,null,null,null,null,null,null,null,null,null,{"$f":"IF('Outil Recensement'!I405=\"Individuelle\",\"Single\",IF('Outil Recensement'!I405=\"Familiale\",\"Family\",IF('Outil Recensement'!I405=\"Refus\",\"Family\",IF('Outil Recensement'!I405=\"Parent seul\",\"Family\",IF('Outil Recensement'!I405=\"Couple\",\"Family\",IF('Outil Recensement'!I405=\"In force\",\"Family\",IF('Outil Recensement'!I405=\"Applies\",\"Family\",IF('Outil Recensement'!I405=\"Applicable\",\"Family\",\"\"))))))))","v":""}]
[null,null,null,null,null,null,null,null,null,null,null,null,null,{"$f":"IF('Outil Recensement'!I406=\"Individuelle\",\"Single\",IF('Outil Recensement'!I406=\"Familiale\",\"Family\",IF('Outil Recensement'!I406=\"Refus\",\"Family\",IF('Outil Recensement'!I406=\"Parent seul\",\"Family\",IF('Outil Recensement'!I406=\"Couple\",\"Family\",IF('Outil Recensement'!I406=\"In force\",\"Family\",IF('Outil Recensement'!I406=\"Applies\",\"Family\",IF('Outil Recensement'!I406=\"Applicable\",\"Family\",\"\"))))))))","v":""}]
[null,null,null,null,null,null,null,null,null,null,null,null,null,{"$f":"IF('Outil Recensement'!I407=\"Individuelle\",\"Single\",IF('Outil Recensement'!I407=\"Familiale\",\"Family\",IF('Outil Recensement'!I407=\"Refus\",\"Family\",IF('Outil Recensement'!I407=\"Parent seul\",\"Family\",IF('Outil Recensement'!I407=\"Couple\",\"Family\",IF('Outil Recensement'!I407=\"In force\",\"Family\",IF('Outil Recensement'!I407=\"Applies\",\"Family\",IF('Outil Recensement'!I407=\"Applicable\",\"Family\",\"\"))))))))","v":""}]
[null,null,null,null,null,null,null,null,null,null,null,null,null,{"$f":"IF('Outil Recensement'!I408=\"Individuelle\",\"Single\",IF('Outil Recensement'!I408=\"Familiale\",\"Family\",IF('Outil Recensement'!I408=\"Refus\",\"Family\",IF('Outil Recensement'!I408=\"Parent seul\",\"Family\",IF('Outil Recensement'!I408=\"Couple\",\"Family\",IF('Outil Recensement'!I408=\"In force\",\"Family\",IF('Outil Recensement'!I408=\"Applies\",\"Family\",IF('Outil Recensement'!I408=\"Applicable\",\"Family\",\"\"))))))))","v":""}]
[null,null,null,null,null,null,null,null,null,null,null,null,null,{"$f":"IF('Outil Recensement'!I409=\"Individuelle\",\"Single\",IF('Outil Recensement'!I409=\"Familiale\",\"Family\",IF('Outil Recensement'!I409=\"Refus\",\"Family\",IF('Outil Recensement'!I409=\"Parent seul\",\"Family\",IF('Outil Recensement'!I409=\"Couple\",\"Family\",IF('Outil Recensement'!I409=\"In force\",\"Family\",IF('Outil Recensement'!I409=\"Applies\",\"Family\",IF('Outil Recensement'!I409=\"Applicable\",\"Family\",\"\"))))))))","v":""}]
[null,null,null,null,null,null,null,null,null,null,null,null,null,{"$f":"IF('Outil Recensement'!I410=\"Individuelle\",\"Single\",IF('Outil Recensement'!I410=\"Familiale\",\"Family\",IF('Outil Recensement'!I410=\"Refus\",\"Family\",IF('Outil Recensement'!I410=\"Parent seul\",\"Family\",IF('Outil Recensement'!I410=\"Couple\",\"Family\",IF('Outil Recensement'!I410=\"In force\",\"Family\",IF('Outil Recensement'!I410=\"Applies\",\"Family\",IF('Outil Recensement'!I410=\"Applicable\",\"Family\",\"\"))))))))","v":""}]
[null,null,null,null,null,null,null,null,null,null,null,null,null,{"$f":"IF('Outil Recensement'!I411=\"Individuelle\",\"Single\",IF('Outil Recensement'!I411=\"Familiale\",\"Family\",IF('Outil Recensement'!I411=\"Refus\",\"Family\",IF('Outil Recensement'!I411=\"Parent seul\",\"Family\",IF('Outil Recensement'!I411=\"Couple\",\"Family\",IF('Outil Recensement'!I411=\"In force\",\"Family\",IF('Outil Recensement'!I411=\"Applies\",\"Family\",IF('Outil Recensement'!I411=\"Applicable\",\"Family\",\"\"))))))))","v":""}]
[null,null,null,null,null,null,null,null,null,null,null,null,null,{"$f":"IF('Outil Recensement'!I412=\"Individuelle\",\"Single\",IF('Outil Recensement'!I412=\"Familiale\",\"Family\",IF('Outil Recensement'!I412=\"Refus\",\"Family\",IF('Outil Recensement'!I412=\"Parent seul\",\"Family\",IF('Outil Recensement'!I412=\"Couple\",\"Family\",IF('Outil Recensement'!I412=\"In force\",\"Family\",IF('Outil Recensement'!I412=\"Applies\",\"Family\",IF('Outil Recensement'!I412=\"Applicable\",\"Family\",\"\"))))))))","v":""}]
[null,null,null,null,null,null,null,null,null,null,null,null,null,{"$f":"IF('Outil Recensement'!I413=\"Individuelle\",\"Single\",IF('Outil Recensement'!I413=\"Familiale\",\"Family\",IF('Outil Recensement'!I413=\"Refus\",\"Family\",IF('Outil Recensement'!I413=\"Parent seul\",\"Family\",IF('Outil Recensement'!I413=\"Couple\",\"Family\",IF('Outil Recensement'!I413=\"In force\",\"Family\",IF('Outil Recensement'!I413=\"Applies\",\"Family\",IF('Outil Recensement'!I413=\"Applicable\",\"Family\",\"\"))))))))","v":""}]
[null,null,null,null,null,null,null,null,null,null,null,null,null,{"$f":"IF('Outil Recensement'!I414=\"Individuelle\",\"Single\",IF('Outil Recensement'!I414=\"Familiale\",\"Family\",IF('Outil Recensement'!I414=\"Refus\",\"Family\",IF('Outil Recensement'!I414=\"Parent seul\",\"Family\",IF('Outil Recensement'!I414=\"Couple\",\"Family\",IF('Outil Recensement'!I414=\"In force\",\"Family\",IF('Outil Recensement'!I414=\"Applies\",\"Family\",IF('Outil Recensement'!I414=\"Applicable\",\"Family\",\"\"))))))))","v":""}]
[null,null,null,null,null,null,null,null,null,null,null,null,null,{"$f":"IF('Outil Recensement'!I415=\"Individuelle\",\"Single\",IF('Outil Recensement'!I415=\"Familiale\",\"Family\",IF('Outil Recensement'!I415=\"Refus\",\"Family\",IF('Outil Recensement'!I415=\"Parent seul\",\"Family\",IF('Outil Recensement'!I415=\"Couple\",\"Family\",IF('Outil Recensement'!I415=\"In force\",\"Family\",IF('Outil Recensement'!I415=\"Applies\",\"Family\",IF('Outil Recensement'!I415=\"Applicable\",\"Family\",\"\"))))))))","v":""}]
[null,null,null,null,null,null,null,null,null,null,null,null,null,{"$f":"IF('Outil Recensement'!I416=\"Individuelle\",\"Single\",IF('Outil Recensement'!I416=\"Familiale\",\"Family\",IF('Outil Recensement'!I416=\"Refus\",\"Family\",IF('Outil Recensement'!I416=\"Parent seul\",\"Family\",IF('Outil Recensement'!I416=\"Couple\",\"Family\",IF('Outil Recensement'!I416=\"In force\",\"Family\",IF('Outil Recensement'!I416=\"Applies\",\"Family\",IF('Outil Recensement'!I416=\"Applicable\",\"Family\",\"\"))))))))","v":""}]
[null,null,null,null,null,null,null,null,null,null,null,null,null,{"$f":"IF('Outil Recensement'!I417=\"Individuelle\",\"Single\",IF('Outil Recensement'!I417=\"Familiale\",\"Family\",IF('Outil Recensement'!I417=\"Refus\",\"Family\",IF('Outil Recensement'!I417=\"Parent seul\",\"Family\",IF('Outil Recensement'!I417=\"Couple\",\"Family\",IF('Outil Recensement'!I417=\"In force\",\"Family\",IF('Outil Recensement'!I417=\"Applies\",\"Family\",IF('Outil Recensement'!I417=\"Applicable\",\"Family\",\"\"))))))))","v":""}]
[null,null,null,null,null,null,null,null,null,null,null,null,null,{"$f":"IF('Outil Recensement'!I418=\"Individuelle\",\"Single\",IF('Outil Recensement'!I418=\"Familiale\",\"Family\",IF('Outil Recensement'!I418=\"Refus\",\"Family\",IF('Outil Recensement'!I418=\"Parent seul\",\"Family\",IF('Outil Recensement'!I418=\"Couple\",\"Family\",IF('Outil Recensement'!I418=\"In force\",\"Family\",IF('Outil Recensement'!I418=\"Applies\",\"Family\",IF('Outil Recensement'!I418=\"Applicable\",\"Family\",\"\"))))))))","v":""}]
[null,null,null,null,null,null,null,null,null,null,null,null,null,{"$f":"IF('Outil Recensement'!I419=\"Individuelle\",\"Single\",IF('Outil Recensement'!I419=\"Familiale\",\"Family\",IF('Outil Recensement'!I419=\"Refus\",\"Family\",IF('Outil Recensement'!I419=\"Parent seul\",\"Family\",IF('Outil Recensement'!I419=\"Couple\",\"Family\",IF('Outil Recensement'!I419=\"In force\",\"Family\",IF('Outil Recensement'!I419=\"Applies\",\"Family\",IF('Outil Recensement'!I419=\"Applicable\",\"Family\",\"\"))))))))","v":""}]
[null,null,null,null,null,null,null,null,null,null,null,null,null,{"$f":"IF('Outil Recensement'!I420=\"Individuelle\",\"Single\",IF('Outil Recensement'!I420=\"Familiale\",\"Family\",IF('Outil Recensement'!I420=\"Refus\",\"Family\",IF('Outil Recensement'!I420=\"Parent seul\",\"Family\",IF('Outil Recensement'!I420=\"Couple\",\"Family\",IF('Outil Recensement'!I420=\"In force\",\"Family\",IF('Outil Recensement'!I420=\"Applies\",\"Family\",IF('Outil Recensement'!I420=\"Applicable\",\"Family\",\"\"))))))))","v":""}]
[null,null,null,null,null,null,null,null,null,null,null,null,null,{"$f":"IF('Outil Recensement'!I421=\"Individuelle\",\"Single\",IF('Outil Recensement'!I421=\"Familiale\",\"Family\",IF('Outil Recensement'!I421=\"Refus\",\"Family\",IF('Outil Recensement'!I421=\"Parent seul\",\"Family\",IF('Outil Recensement'!I421=\"Couple\",\"Family\",IF('Outil Recensement'!I421=\"In force\",\"Family\",IF('Outil Recensement'!I421=\"Applies\",\"Family\",IF('Outil Recensement'!I421=\"Applicable\",\"Family\",\"\"))))))))","v":""}]
[null,null,null,null,null,null,null,null,null,null,null,null,null,{"$f":"IF('Outil Recensement'!I422=\"Individuelle\",\"Single\",IF('Outil Recensement'!I422=\"Familiale\",\"Family\",IF('Outil Recensement'!I422=\"Refus\",\"Family\",IF('Outil Recensement'!I422=\"Parent seul\",\"Family\",IF('Outil Recensement'!I422=\"Couple\",\"Family\",IF('Outil Recensement'!I422=\"In force\",\"Family\",IF('Outil Recensement'!I422=\"Applies\",\"Family\",IF('Outil Recensement'!I422=\"Applicable\",\"Family\",\"\"))))))))","v":""}]
[null,null,null,null,null,null,null,null,null,null,null,null,null,{"$f":"IF('Outil Recensement'!I423=\"Individuelle\",\"Single\",IF('Outil Recensement'!I423=\"Familiale\",\"Family\",IF('Outil Recensement'!I423=\"Refus\",\"Family\",IF('Outil Recensement'!I423=\"Parent seul\",\"Family\",IF('Outil Recensement'!I423=\"Couple\",\"Family\",IF('Outil Recensement'!I423=\"In force\",\"Family\",IF('Outil Recensement'!I423=\"Applies\",\"Family\",IF('Outil Recensement'!I423=\"Applicable\",\"Family\",\"\"))))))))","v":""}]
[null,null,null,null,null,null,null,null,null,null,null,null,null,{"$f":"IF('Outil Recensement'!I424=\"Individuelle\",\"Single\",IF('Outil Recensement'!I424=\"Familiale\",\"Family\",IF('Outil Recensement'!I424=\"Refus\",\"Family\",IF('Outil Recensement'!I424=\"Parent seul\",\"Family\",IF('Outil Recensement'!I424=\"Couple\",\"Family\",IF('Outil Recensement'!I424=\"In force\",\"Family\",IF('Outil Recensement'!I424=\"Applies\",\"Family\",IF('Outil Recensement'!I424=\"Applicable\",\"Family\",\"\"))))))))","v":""}]
[null,null,null,null,null,null,null,null,null,null,null,null,null,{"$f":"IF('Outil Recensement'!I425=\"Individuelle\",\"Single\",IF('Outil Recensement'!I425=\"Familiale\",\"Family\",IF('Outil Recensement'!I425=\"Refus\",\"Family\",IF('Outil Recensement'!I425=\"Parent seul\",\"Family\",IF('Outil Recensement'!I425=\"Couple\",\"Family\",IF('Outil Recensement'!I425=\"In force\",\"Family\",IF('Outil Recensement'!I425=\"Applies\",\"Family\",IF('Outil Recensement'!I425=\"Applicable\",\"Family\",\"\"))))))))","v":""}]
[null,null,null,null,null,null,null,null,null,null,null,null,null,{"$f":"IF('Outil Recensement'!I426=\"Individuelle\",\"Single\",IF('Outil Recensement'!I426=\"Familiale\",\"Family\",IF('Outil Recensement'!I426=\"Refus\",\"Family\",IF('Outil Recensement'!I426=\"Parent seul\",\"Family\",IF('Outil Recensement'!I426=\"Couple\",\"Family\",IF('Outil Recensement'!I426=\"In force\",\"Family\",IF('Outil Recensement'!I426=\"Applies\",\"Family\",IF('Outil Recensement'!I426=\"Applicable\",\"Family\",\"\"))))))))","v":""}]
[null,null,null,null,null,null,null,null,null,null,null,null,null,{"$f":"IF('Outil Recensement'!I427=\"Individuelle\",\"Single\",IF('Outil Recensement'!I427=\"Familiale\",\"Family\",IF('Outil Recensement'!I427=\"Refus\",\"Family\",IF('Outil Recensement'!I427=\"Parent seul\",\"Family\",IF('Outil Recensement'!I427=\"Couple\",\"Family\",IF('Outil Recensement'!I427=\"In force\",\"Family\",IF('Outil Recensement'!I427=\"Applies\",\"Family\",IF('Outil Recensement'!I427=\"Applicable\",\"Family\",\"\"))))))))","v":""}]
[null,null,null,null,null,null,null,null,null,null,null,null,null,{"$f":"IF('Outil Recensement'!I428=\"Individuelle\",\"Single\",IF('Outil Recensement'!I428=\"Familiale\",\"Family\",IF('Outil Recensement'!I428=\"Refus\",\"Family\",IF('Outil Recensement'!I428=\"Parent seul\",\"Family\",IF('Outil Recensement'!I428=\"Couple\",\"Family\",IF('Outil Recensement'!I428=\"In force\",\"Family\",IF('Outil Recensement'!I428=\"Applies\",\"Family\",IF('Outil Recensement'!I428=\"Applicable\",\"Family\",\"\"))))))))","v":""}]
[null,null,null,null,null,null,null,null,null,null,null,null,null,{"$f":"IF('Outil Recensement'!I429=\"Individuelle\",\"Single\",IF('Outil Recensement'!I429=\"Familiale\",\"Family\",IF('Outil Recensement'!I429=\"Refus\",\"Family\",IF('Outil Recensement'!I429=\"Parent seul\",\"Family\",IF('Outil Recensement'!I429=\"Couple\",\"Family\",IF('Outil Recensement'!I429=\"In force\",\"Family\",IF('Outil Recensement'!I429=\"Applies\",\"Family\",IF('Outil Recensement'!I429=\"Applicable\",\"Family\",\"\"))))))))","v":""}]
[null,null,null,null,null,null,null,null,null,null,null,null,null,{"$f":"IF('Outil Recensement'!I430=\"Individuelle\",\"Single\",IF('Outil Recensement'!I430=\"Familiale\",\"Family\",IF('Outil Recensement'!I430=\"Refus\",\"Family\",IF('Outil Recensement'!I430=\"Parent seul\",\"Family\",IF('Outil Recensement'!I430=\"Couple\",\"Family\",IF('Outil Recensement'!I430=\"In force\",\"Family\",IF('Outil Recensement'!I430=\"Applies\",\"Family\",IF('Outil Recensement'!I430=\"Applicable\",\"Family\",\"\"))))))))","v":""}]
[null,null,null,null,null,null,null,null,null,null,null,null,null,{"$f":"IF('Outil Recensement'!I431=\"Individuelle\",\"Single\",IF('Outil Recensement'!I431=\"Familiale\",\"Family\",IF('Outil Recensement'!I431=\"Refus\",\"Family\",IF('Outil Recensement'!I431=\"Parent seul\",\"Family\",IF('Outil Recensement'!I431=\"Couple\",\"Family\",IF('Outil Recensement'!I431=\"In force\",\"Family\",IF('Outil Recensement'!I431=\"Applies\",\"Family\",IF('Outil Recensement'!I431=\"Applicable\",\"Family\",\"\"))))))))","v":""}]
[null,null,null,null,null,null,null,null,null,null,null,null,null,{"$f":"IF('Outil Recensement'!I432=\"Individuelle\",\"Single\",IF('Outil Recensement'!I432=\"Familiale\",\"Family\",IF('Outil Recensement'!I432=\"Refus\",\"Family\",IF('Outil Recensement'!I432=\"Parent seul\",\"Family\",IF('Outil Recensement'!I432=\"Couple\",\"Family\",IF('Outil Recensement'!I432=\"In force\",\"Family\",IF('Outil Recensement'!I432=\"Applies\",\"Family\",IF('Outil Recensement'!I432=\"Applicable\",\"Family\",\"\"))))))))","v":""}]
[null,null,null,null,null,null,null,null,null,null,null,null,null,{"$f":"IF('Outil Recensement'!I433=\"Individuelle\",\"Single\",IF('Outil Recensement'!I433=\"Familiale\",\"Family\",IF('Outil Recensement'!I433=\"Refus\",\"Family\",IF('Outil Recensement'!I433=\"Parent seul\",\"Family\",IF('Outil Recensement'!I433=\"Couple\",\"Family\",IF('Outil Recensement'!I433=\"In force\",\"Family\",IF('Outil Recensement'!I433=\"Applies\",\"Family\",IF('Outil Recensement'!I433=\"Applicable\",\"Family\",\"\"))))))))","v":""}]
[null,null,null,null,null,null,null,null,null,null,null,null,null,{"$f":"IF('Outil Recensement'!I434=\"Individuelle\",\"Single\",IF('Outil Recensement'!I434=\"Familiale\",\"Family\",IF('Outil Recensement'!I434=\"Refus\",\"Family\",IF('Outil Recensement'!I434=\"Parent seul\",\"Family\",IF('Outil Recensement'!I434=\"Couple\",\"Family\",IF('Outil Recensement'!I434=\"In force\",\"Family\",IF('Outil Recensement'!I434=\"Applies\",\"Family\",IF('Outil Recensement'!I434=\"Applicable\",\"Family\",\"\"))))))))","v":""}]
[null,null,null,null,null,null,null,null,null,null,null,null,null,{"$f":"IF('Outil Recensement'!I435=\"Individuelle\",\"Single\",IF('Outil Recensement'!I435=\"Familiale\",\"Family\",IF('Outil Recensement'!I435=\"Refus\",\"Family\",IF('Outil Recensement'!I435=\"Parent seul\",\"Family\",IF('Outil Recensement'!I435=\"Couple\",\"Family\",IF('Outil Recensement'!I435=\"In force\",\"Family\",IF('Outil Recensement'!I435=\"Applies\",\"Family\",IF('Outil Recensement'!I435=\"Applicable\",\"Family\",\"\"))))))))","v":""}]
[null,null,null,null,null,null,null,null,null,null,null,null,null,{"$f":"IF('Outil Recensement'!I436=\"Individuelle\",\"Single\",IF('Outil Recensement'!I436=\"Familiale\",\"Family\",IF('Outil Recensement'!I436=\"Refus\",\"Family\",IF('Outil Recensement'!I436=\"Parent seul\",\"Family\",IF('Outil Recensement'!I436=\"Couple\",\"Family\",IF('Outil Recensement'!I436=\"In force\",\"Family\",IF('Outil Recensement'!I436=\"Applies\",\"Family\",IF('Outil Recensement'!I436=\"Applicable\",\"Family\",\"\"))))))))","v":""}]
[null,null,null,null,null,null,null,null,null,null,null,null,null,{"$f":"IF('Outil Recensement'!I437=\"Individuelle\",\"Single\",IF('Outil Recensement'!I437=\"Familiale\",\"Family\",IF('Outil Recensement'!I437=\"Refus\",\"Family\",IF('Outil Recensement'!I437=\"Parent seul\",\"Family\",IF('Outil Recensement'!I437=\"Couple\",\"Family\",IF('Outil Recensement'!I437=\"In force\",\"Family\",IF('Outil Recensement'!I437=\"Applies\",\"Family\",IF('Outil Recensement'!I437=\"Applicable\",\"Family\",\"\"))))))))","v":""}]
[null,null,null,null,null,null,null,null,null,null,null,null,null,{"$f":"IF('Outil Recensement'!I438=\"Individuelle\",\"Single\",IF('Outil Recensement'!I438=\"Familiale\",\"Family\",IF('Outil Recensement'!I438=\"Refus\",\"Family\",IF('Outil Recensement'!I438=\"Parent seul\",\"Family\",IF('Outil Recensement'!I438=\"Couple\",\"Family\",IF('Outil Recensement'!I438=\"In force\",\"Family\",IF('Outil Recensement'!I438=\"Applies\",\"Family\",IF('Outil Recensement'!I438=\"Applicable\",\"Family\",\"\"))))))))","v":""}]
[null,null,null,null,null,null,null,null,null,null,null,null,null,{"$f":"IF('Outil Recensement'!I439=\"Individuelle\",\"Single\",IF('Outil Recensement'!I439=\"Familiale\",\"Family\",IF('Outil Recensement'!I439=\"Refus\",\"Family\",IF('Outil Recensement'!I439=\"Parent seul\",\"Family\",IF('Outil Recensement'!I439=\"Couple\",\"Family\",IF('Outil Recensement'!I439=\"In force\",\"Family\",IF('Outil Recensement'!I439=\"Applies\",\"Family\",IF('Outil Recensement'!I439=\"Applicable\",\"Family\",\"\"))))))))","v":""}]
[null,null,null,null,null,null,null,null,null,null,null,null,null,{"$f":"IF('Outil Recensement'!I440=\"Individuelle\",\"Single\",IF('Outil Recensement'!I440=\"Familiale\",\"Family\",IF('Outil Recensement'!I440=\"Refus\",\"Family\",IF('Outil Recensement'!I440=\"Parent seul\",\"Family\",IF('Outil Recensement'!I440=\"Couple\",\"Family\",IF('Outil Recensement'!I440=\"In force\",\"Family\",IF('Outil Recensement'!I440=\"Applies\",\"Family\",IF('Outil Recensement'!I440=\"Applicable\",\"Family\",\"\"))))))))","v":""}]
[null,null,null,null,null,null,null,null,null,null,null,null,null,{"$f":"IF('Outil Recensement'!I441=\"Individuelle\",\"Single\",IF('Outil Recensement'!I441=\"Familiale\",\"Family\",IF('Outil Recensement'!I441=\"Refus\",\"Family\",IF('Outil Recensement'!I441=\"Parent seul\",\"Family\",IF('Outil Recensement'!I441=\"Couple\",\"Family\",IF('Outil Recensement'!I441=\"In force\",\"Family\",IF('Outil Recensement'!I441=\"Applies\",\"Family\",IF('Outil Recensement'!I441=\"Applicable\",\"Family\",\"\"))))))))","v":""}]
[null,null,null,null,null,null,null,null,null,null,null,null,null,{"$f":"IF('Outil Recensement'!I442=\"Individuelle\",\"Single\",IF('Outil Recensement'!I442=\"Familiale\",\"Family\",IF('Outil Recensement'!I442=\"Refus\",\"Family\",IF('Outil Recensement'!I442=\"Parent seul\",\"Family\",IF('Outil Recensement'!I442=\"Couple\",\"Family\",IF('Outil Recensement'!I442=\"In force\",\"Family\",IF('Outil Recensement'!I442=\"Applies\",\"Family\",IF('Outil Recensement'!I442=\"Applicable\",\"Family\",\"\"))))))))","v":""}]
[null,null,null,null,null,null,null,null,null,null,null,null,null,{"$f":"IF('Outil Recensement'!I443=\"Individuelle\",\"Single\",IF('Outil Recensement'!I443=\"Familiale\",\"Family\",IF('Outil Recensement'!I443=\"Refus\",\"Family\",IF('Outil Recensement'!I443=\"Parent seul\",\"Family\",IF('Outil Recensement'!I443=\"Couple\",\"Family\",IF('Outil Recensement'!I443=\"In force\",\"Family\",IF('Outil Recensement'!I443=\"Applies\",\"Family\",IF('Outil Recensement'!I443=\"Applicable\",\"Family\",\"\"))))))))","v":""}]
[null,null,null,null,null,null,null,null,null,null,null,null,null,{"$f":"IF('Outil Recensement'!I444=\"Individuelle\",\"Single\",IF('Outil Recensement'!I444=\"Familiale\",\"Family\",IF('Outil Recensement'!I444=\"Refus\",\"Family\",IF('Outil Recensement'!I444=\"Parent seul\",\"Family\",IF('Outil Recensement'!I444=\"Couple\",\"Family\",IF('Outil Recensement'!I444=\"In force\",\"Family\",IF('Outil Recensement'!I444=\"Applies\",\"Family\",IF('Outil Recensement'!I444=\"Applicable\",\"Family\",\"\"))))))))","v":""}]
[null,null,null,null,null,null,null,null,null,null,null,null,null,{"$f":"IF('Outil Recensement'!I445=\"Individuelle\",\"Single\",IF('Outil Recensement'!I445=\"Familiale\",\"Family\",IF('Outil Recensement'!I445=\"Refus\",\"Family\",IF('Outil Recensement'!I445=\"Parent seul\",\"Family\",IF('Outil Recensement'!I445=\"Couple\",\"Family\",IF('Outil Recensement'!I445=\"In force\",\"Family\",IF('Outil Recensement'!I445=\"Applies\",\"Family\",IF('Outil Recensement'!I445=\"Applicable\",\"Family\",\"\"))))))))","v":""}]
[null,null,null,null,null,null,null,null,null,null,null,null,null,{"$f":"IF('Outil Recensement'!I446=\"Individuelle\",\"Single\",IF('Outil Recensement'!I446=\"Familiale\",\"Family\",IF('Outil Recensement'!I446=\"Refus\",\"Family\",IF('Outil Recensement'!I446=\"Parent seul\",\"Family\",IF('Outil Recensement'!I446=\"Couple\",\"Family\",IF('Outil Recensement'!I446=\"In force\",\"Family\",IF('Outil Recensement'!I446=\"Applies\",\"Family\",IF('Outil Recensement'!I446=\"Applicable\",\"Family\",\"\"))))))))","v":""}]
[null,null,null,null,null,null,null,null,null,null,null,null,null,{"$f":"IF('Outil Recensement'!I447=\"Individuelle\",\"Single\",IF('Outil Recensement'!I447=\"Familiale\",\"Family\",IF('Outil Recensement'!I447=\"Refus\",\"Family\",IF('Outil Recensement'!I447=\"Parent seul\",\"Family\",IF('Outil Recensement'!I447=\"Couple\",\"Family\",IF('Outil Recensement'!I447=\"In force\",\"Family\",IF('Outil Recensement'!I447=\"Applies\",\"Family\",IF('Outil Recensement'!I447=\"Applicable\",\"Family\",\"\"))))))))","v":""}]
[null,null,null,null,null,null,null,null,null,null,null,null,null,{"$f":"IF('Outil Recensement'!I448=\"Individuelle\",\"Single\",IF('Outil Recensement'!I448=\"Familiale\",\"Family\",IF('Outil Recensement'!I448=\"Refus\",\"Family\",IF('Outil Recensement'!I448=\"Parent seul\",\"Family\",IF('Outil Recensement'!I448=\"Couple\",\"Family\",IF('Outil Recensement'!I448=\"In force\",\"Family\",IF('Outil Recensement'!I448=\"Applies\",\"Family\",IF('Outil Recensement'!I448=\"Applicable\",\"Family\",\"\"))))))))","v":""}]
[null,null,null,null,null,null,null,null,null,null,null,null,null,{"$f":"IF('Outil Recensement'!I449=\"Individuelle\",\"Single\",IF('Outil Recensement'!I449=\"Familiale\",\"Family\",IF('Outil Recensement'!I449=\"Refus\",\"Family\",IF('Outil Recensement'!I449=\"Parent seul\",\"Family\",IF('Outil Recensement'!I449=\"Couple\",\"Family\",IF('Outil Recensement'!I449=\"In force\",\"Family\",IF('Outil Recensement'!I449=\"Applies\",\"Family\",IF('Outil Recensement'!I449=\"Applicable\",\"Family\",\"\"))))))))","v":""}]
[null,null,null,null,null,null,null,null,null,null,null,null,null,{"$f":"IF('Outil Recensement'!I450=\"Individuelle\",\"Single\",IF('Outil Recensement'!I450=\"Familiale\",\"Family\",IF('Outil Recensement'!I450=\"Refus\",\"Family\",IF('Outil Recensement'!I450=\"Parent seul\",\"Family\",IF('Outil Recensement'!I450=\"Couple\",\"Family\",IF('Outil Recensement'!I450=\"In force\",\"Family\",IF('Outil Recensement'!I450=\"Applies\",\"Family\",IF('Outil Recensement'!I450=\"Applicable\",\"Family\",\"\"))))))))","v":""}]
[null,null,null,null,null,null,null,null,null,null,null,null,null,{"$f":"IF('Outil Recensement'!I451=\"Individuelle\",\"Single\",IF('Outil Recensement'!I451=\"Familiale\",\"Family\",IF('Outil Recensement'!I451=\"Refus\",\"Family\",IF('Outil Recensement'!I451=\"Parent seul\",\"Family\",IF('Outil Recensement'!I451=\"Couple\",\"Family\",IF('Outil Recensement'!I451=\"In force\",\"Family\",IF('Outil Recensement'!I451=\"Applies\",\"Family\",IF('Outil Recensement'!I451=\"Applicable\",\"Family\",\"\"))))))))","v":""}]
[null,null,null,null,null,null,null,null,null,null,null,null,null,{"$f":"IF('Outil Recensement'!I452=\"Individuelle\",\"Single\",IF('Outil Recensement'!I452=\"Familiale\",\"Family\",IF('Outil Recensement'!I452=\"Refus\",\"Family\",IF('Outil Recensement'!I452=\"Parent seul\",\"Family\",IF('Outil Recensement'!I452=\"Couple\",\"Family\",IF('Outil Recensement'!I452=\"In force\",\"Family\",IF('Outil Recensement'!I452=\"Applies\",\"Family\",IF('Outil Recensement'!I452=\"Applicable\",\"Family\",\"\"))))))))","v":""}]
[null,null,null,null,null,null,null,null,null,null,null,null,null,{"$f":"IF('Outil Recensement'!I453=\"Individuelle\",\"Single\",IF('Outil Recensement'!I453=\"Familiale\",\"Family\",IF('Outil Recensement'!I453=\"Refus\",\"Family\",IF('Outil Recensement'!I453=\"Parent seul\",\"Family\",IF('Outil Recensement'!I453=\"Couple\",\"Family\",IF('Outil Recensement'!I453=\"In force\",\"Family\",IF('Outil Recensement'!I453=\"Applies\",\"Family\",IF('Outil Recensement'!I453=\"Applicable\",\"Family\",\"\"))))))))","v":""}]
[null,null,null,null,null,null,null,null,null,null,null,null,null,{"$f":"IF('Outil Recensement'!I454=\"Individuelle\",\"Single\",IF('Outil Recensement'!I454=\"Familiale\",\"Family\",IF('Outil Recensement'!I454=\"Refus\",\"Family\",IF('Outil Recensement'!I454=\"Parent seul\",\"Family\",IF('Outil Recensement'!I454=\"Couple\",\"Family\",IF('Outil Recensement'!I454=\"In force\",\"Family\",IF('Outil Recensement'!I454=\"Applies\",\"Family\",IF('Outil Recensement'!I454=\"Applicable\",\"Family\",\"\"))))))))","v":""}]
[null,null,null,null,null,null,null,null,null,null,null,null,null,{"$f":"IF('Outil Recensement'!I455=\"Individuelle\",\"Single\",IF('Outil Recensement'!I455=\"Familiale\",\"Family\",IF('Outil Recensement'!I455=\"Refus\",\"Family\",IF('Outil Recensement'!I455=\"Parent seul\",\"Family\",IF('Outil Recensement'!I455=\"Couple\",\"Family\",IF('Outil Recensement'!I455=\"In force\",\"Family\",IF('Outil Recensement'!I455=\"Applies\",\"Family\",IF('Outil Recensement'!I455=\"Applicable\",\"Family\",\"\"))))))))","v":""}]
[null,null,null,null,null,null,null,null,null,null,null,null,null,{"$f":"IF('Outil Recensement'!I456=\"Individuelle\",\"Single\",IF('Outil Recensement'!I456=\"Familiale\",\"Family\",IF('Outil Recensement'!I456=\"Refus\",\"Family\",IF('Outil Recensement'!I456=\"Parent seul\",\"Family\",IF('Outil Recensement'!I456=\"Couple\",\"Family\",IF('Outil Recensement'!I456=\"In force\",\"Family\",IF('Outil Recensement'!I456=\"Applies\",\"Family\",IF('Outil Recensement'!I456=\"Applicable\",\"Family\",\"\"))))))))","v":""}]
[null,null,null,null,null,null,null,null,null,null,null,null,null,{"$f":"IF('Outil Recensement'!I457=\"Individuelle\",\"Single\",IF('Outil Recensement'!I457=\"Familiale\",\"Family\",IF('Outil Recensement'!I457=\"Refus\",\"Family\",IF('Outil Recensement'!I457=\"Parent seul\",\"Family\",IF('Outil Recensement'!I457=\"Couple\",\"Family\",IF('Outil Recensement'!I457=\"In force\",\"Family\",IF('Outil Recensement'!I457=\"Applies\",\"Family\",IF('Outil Recensement'!I457=\"Applicable\",\"Family\",\"\"))))))))","v":""}]
[null,null,null,null,null,null,null,null,null,null,null,null,null,{"$f":"IF('Outil Recensement'!I458=\"Individuelle\",\"Single\",IF('Outil Recensement'!I458=\"Familiale\",\"Family\",IF('Outil Recensement'!I458=\"Refus\",\"Family\",IF('Outil Recensement'!I458=\"Parent seul\",\"Family\",IF('Outil Recensement'!I458=\"Couple\",\"Family\",IF('Outil Recensement'!I458=\"In force\",\"Family\",IF('Outil Recensement'!I458=\"Applies\",\"Family\",IF('Outil Recensement'!I458=\"Applicable\",\"Family\",\"\"))))))))","v":""}]
[null,null,null,null,null,null,null,null,null,null,null,null,null,{"$f":"IF('Outil Recensement'!I459=\"Individuelle\",\"Single\",IF('Outil Recensement'!I459=\"Familiale\",\"Family\",IF('Outil Recensement'!I459=\"Refus\",\"Family\",IF('Outil Recensement'!I459=\"Parent seul\",\"Family\",IF('Outil Recensement'!I459=\"Couple\",\"Family\",IF('Outil Recensement'!I459=\"In force\",\"Family\",IF('Outil Recensement'!I459=\"Applies\",\"Family\",IF('Outil Recensement'!I459=\"Applicable\",\"Family\",\"\"))))))))","v":""}]
[null,null,null,null,null,null,null,null,null,null,null,null,null,{"$f":"IF('Outil Recensement'!I460=\"Individuelle\",\"Single\",IF('Outil Recensement'!I460=\"Familiale\",\"Family\",IF('Outil Recensement'!I460=\"Refus\",\"Family\",IF('Outil Recensement'!I460=\"Parent seul\",\"Family\",IF('Outil Recensement'!I460=\"Couple\",\"Family\",IF('Outil Recensement'!I460=\"In force\",\"Family\",IF('Outil Recensement'!I460=\"Applies\",\"Family\",IF('Outil Recensement'!I460=\"Applicable\",\"Family\",\"\"))))))))","v":""}]
[null,null,null,null,null,null,null,null,null,null,null,null,null,{"$f":"IF('Outil Recensement'!I461=\"Individuelle\",\"Single\",IF('Outil Recensement'!I461=\"Familiale\",\"Family\",IF('Outil Recensement'!I461=\"Refus\",\"Family\",IF('Outil Recensement'!I461=\"Parent seul\",\"Family\",IF('Outil Recensement'!I461=\"Couple\",\"Family\",IF('Outil Recensement'!I461=\"In force\",\"Family\",IF('Outil Recensement'!I461=\"Applies\",\"Family\",IF('Outil Recensement'!I461=\"Applicable\",\"Family\",\"\"))))))))","v":""}]
[null,null,null,null,null,null,null,null,null,null,null,null,null,{"$f":"IF('Outil Recensement'!I462=\"Individuelle\",\"Single\",IF('Outil Recensement'!I462=\"Familiale\",\"Family\",IF('Outil Recensement'!I462=\"Refus\",\"Family\",IF('Outil Recensement'!I462=\"Parent seul\",\"Family\",IF('Outil Recensement'!I462=\"Couple\",\"Family\",IF('Outil Recensement'!I462=\"In force\",\"Family\",IF('Outil Recensement'!I462=\"Applies\",\"Family\",IF('Outil Recensement'!I462=\"Applicable\",\"Family\",\"\"))))))))","v":""}]
[null,null,null,null,null,null,null,null,null,null,null,null,null,{"$f":"IF('Outil Recensement'!I463=\"Individuelle\",\"Single\",IF('Outil Recensement'!I463=\"Familiale\",\"Family\",IF('Outil Recensement'!I463=\"Refus\",\"Family\",IF('Outil Recensement'!I463=\"Parent seul\",\"Family\",IF('Outil Recensement'!I463=\"Couple\",\"Family\",IF('Outil Recensement'!I463=\"In force\",\"Family\",IF('Outil Recensement'!I463=\"Applies\",\"Family\",IF('Outil Recensement'!I463=\"Applicable\",\"Family\",\"\"))))))))","v":""}]
[null,null,null,null,null,null,null,null,null,null,null,null,null,{"$f":"IF('Outil Recensement'!I464=\"Individuelle\",\"Single\",IF('Outil Recensement'!I464=\"Familiale\",\"Family\",IF('Outil Recensement'!I464=\"Refus\",\"Family\",IF('Outil Recensement'!I464=\"Parent seul\",\"Family\",IF('Outil Recensement'!I464=\"Couple\",\"Family\",IF('Outil Recensement'!I464=\"In force\",\"Family\",IF('Outil Recensement'!I464=\"Applies\",\"Family\",IF('Outil Recensement'!I464=\"Applicable\",\"Family\",\"\"))))))))","v":""}]
[null,null,null,null,null,null,null,null,null,null,null,null,null,{"$f":"IF('Outil Recensement'!I465=\"Individuelle\",\"Single\",IF('Outil Recensement'!I465=\"Familiale\",\"Family\",IF('Outil Recensement'!I465=\"Refus\",\"Family\",IF('Outil Recensement'!I465=\"Parent seul\",\"Family\",IF('Outil Recensement'!I465=\"Couple\",\"Family\",IF('Outil Recensement'!I465=\"In force\",\"Family\",IF('Outil Recensement'!I465=\"Applies\",\"Family\",IF('Outil Recensement'!I465=\"Applicable\",\"Family\",\"\"))))))))","v":""}]
[null,null,null,null,null,null,null,null,null,null,null,null,null,{"$f":"IF('Outil Recensement'!I466=\"Individuelle\",\"Single\",IF('Outil Recensement'!I466=\"Familiale\",\"Family\",IF('Outil Recensement'!I466=\"Refus\",\"Family\",IF('Outil Recensement'!I466=\"Parent seul\",\"Family\",IF('Outil Recensement'!I466=\"Couple\",\"Family\",IF('Outil Recensement'!I466=\"In force\",\"Family\",IF('Outil Recensement'!I466=\"Applies\",\"Family\",IF('Outil Recensement'!I466=\"Applicable\",\"Family\",\"\"))))))))","v":""}]
[null,null,null,null,null,null,null,null,null,null,null,null,null,{"$f":"IF('Outil Recensement'!I467=\"Individuelle\",\"Single\",IF('Outil Recensement'!I467=\"Familiale\",\"Family\",IF('Outil Recensement'!I467=\"Refus\",\"Family\",IF('Outil Recensement'!I467=\"Parent seul\",\"Family\",IF('Outil Recensement'!I467=\"Couple\",\"Family\",IF('Outil Recensement'!I467=\"In force\",\"Family\",IF('Outil Recensement'!I467=\"Applies\",\"Family\",IF('Outil Recensement'!I467=\"Applicable\",\"Family\",\"\"))))))))","v":""}]
[null,null,null,null,null,null,null,null,null,null,null,null,null,{"$f":"IF('Outil Recensement'!I468=\"Individuelle\",\"Single\",IF('Outil Recensement'!I468=\"Familiale\",\"Family\",IF('Outil Recensement'!I468=\"Refus\",\"Family\",IF('Outil Recensement'!I468=\"Parent seul\",\"Family\",IF('Outil Recensement'!I468=\"Couple\",\"Family\",IF('Outil Recensement'!I468=\"In force\",\"Family\",IF('Outil Recensement'!I468=\"Applies\",\"Family\",IF('Outil Recensement'!I468=\"Applicable\",\"Family\",\"\"))))))))","v":""}]
[null,null,null,null,null,null,null,null,null,null,null,null,null,{"$f":"IF('Outil Recensement'!I469=\"Individuelle\",\"Single\",IF('Outil Recensement'!I469=\"Familiale\",\"Family\",IF('Outil Recensement'!I469=\"Refus\",\"Family\",IF('Outil Recensement'!I469=\"Parent seul\",\"Family\",IF('Outil Recensement'!I469=\"Couple\",\"Family\",IF('Outil Recensement'!I469=\"In force\",\"Family\",IF('Outil Recensement'!I469=\"Applies\",\"Family\",IF('Outil Recensement'!I469=\"Applicable\",\"Family\",\"\"))))))))","v":""}]
[null,null,null,null,null,null,null,null,null,null,null,null,null,{"$f":"IF('Outil Recensement'!I470=\"Individuelle\",\"Single\",IF('Outil Recensement'!I470=\"Familiale\",\"Family\",IF('Outil Recensement'!I470=\"Refus\",\"Family\",IF('Outil Recensement'!I470=\"Parent seul\",\"Family\",IF('Outil Recensement'!I470=\"Couple\",\"Family\",IF('Outil Recensement'!I470=\"In force\",\"Family\",IF('Outil Recensement'!I470=\"Applies\",\"Family\",IF('Outil Recensement'!I470=\"Applicable\",\"Family\",\"\"))))))))","v":""}]
[null,null,null,null,null,null,null,null,null,null,null,null,null,{"$f":"IF('Outil Recensement'!I471=\"Individuelle\",\"Single\",IF('Outil Recensement'!I471=\"Familiale\",\"Family\",IF('Outil Recensement'!I471=\"Refus\",\"Family\",IF('Outil Recensement'!I471=\"Parent seul\",\"Family\",IF('Outil Recensement'!I471=\"Couple\",\"Family\",IF('Outil Recensement'!I471=\"In force\",\"Family\",IF('Outil Recensement'!I471=\"Applies\",\"Family\",IF('Outil Recensement'!I471=\"Applicable\",\"Family\",\"\"))))))))","v":""}]
[null,null,null,null,null,null,null,null,null,null,null,null,null,{"$f":"IF('Outil Recensement'!I472=\"Individuelle\",\"Single\",IF('Outil Recensement'!I472=\"Familiale\",\"Family\",IF('Outil Recensement'!I472=\"Refus\",\"Family\",IF('Outil Recensement'!I472=\"Parent seul\",\"Family\",IF('Outil Recensement'!I472=\"Couple\",\"Family\",IF('Outil Recensement'!I472=\"In force\",\"Family\",IF('Outil Recensement'!I472=\"Applies\",\"Family\",IF('Outil Recensement'!I472=\"Applicable\",\"Family\",\"\"))))))))","v":""}]
[null,null,null,null,null,null,null,null,null,null,null,null,null,{"$f":"IF('Outil Recensement'!I473=\"Individuelle\",\"Single\",IF('Outil Recensement'!I473=\"Familiale\",\"Family\",IF('Outil Recensement'!I473=\"Refus\",\"Family\",IF('Outil Recensement'!I473=\"Parent seul\",\"Family\",IF('Outil Recensement'!I473=\"Couple\",\"Family\",IF('Outil Recensement'!I473=\"In force\",\"Family\",IF('Outil Recensement'!I473=\"Applies\",\"Family\",IF('Outil Recensement'!I473=\"Applicable\",\"Family\",\"\"))))))))","v":""}]
[null,null,null,null,null,null,null,null,null,null,null,null,null,{"$f":"IF('Outil Recensement'!I474=\"Individuelle\",\"Single\",IF('Outil Recensement'!I474=\"Familiale\",\"Family\",IF('Outil Recensement'!I474=\"Refus\",\"Family\",IF('Outil Recensement'!I474=\"Parent seul\",\"Family\",IF('Outil Recensement'!I474=\"Couple\",\"Family\",IF('Outil Recensement'!I474=\"In force\",\"Family\",IF('Outil Recensement'!I474=\"Applies\",\"Family\",IF('Outil Recensement'!I474=\"Applicable\",\"Family\",\"\"))))))))","v":""}]
[null,null,null,null,null,null,null,null,null,null,null,null,null,{"$f":"IF('Outil Recensement'!I475=\"Individuelle\",\"Single\",IF('Outil Recensement'!I475=\"Familiale\",\"Family\",IF('Outil Recensement'!I475=\"Refus\",\"Family\",IF('Outil Recensement'!I475=\"Parent seul\",\"Family\",IF('Outil Recensement'!I475=\"Couple\",\"Family\",IF('Outil Recensement'!I475=\"In force\",\"Family\",IF('Outil Recensement'!I475=\"Applies\",\"Family\",IF('Outil Recensement'!I475=\"Applicable\",\"Family\",\"\"))))))))","v":""}]
[null,null,null,null,null,null,null,null,null,null,null,null,null,{"$f":"IF('Outil Recensement'!I476=\"Individuelle\",\"Single\",IF('Outil Recensement'!I476=\"Familiale\",\"Family\",IF('Outil Recensement'!I476=\"Refus\",\"Family\",IF('Outil Recensement'!I476=\"Parent seul\",\"Family\",IF('Outil Recensement'!I476=\"Couple\",\"Family\",IF('Outil Recensement'!I476=\"In force\",\"Family\",IF('Outil Recensement'!I476=\"Applies\",\"Family\",IF('Outil Recensement'!I476=\"Applicable\",\"Family\",\"\"))))))))","v":""}]
[null,null,null,null,null,null,null,null,null,null,null,null,null,{"$f":"IF('Outil Recensement'!I477=\"Individuelle\",\"Single\",IF('Outil Recensement'!I477=\"Familiale\",\"Family\",IF('Outil Recensement'!I477=\"Refus\",\"Family\",IF('Outil Recensement'!I477=\"Parent seul\",\"Family\",IF('Outil Recensement'!I477=\"Couple\",\"Family\",IF('Outil Recensement'!I477=\"In force\",\"Family\",IF('Outil Recensement'!I477=\"Applies\",\"Family\",IF('Outil Recensement'!I477=\"Applicable\",\"Family\",\"\"))))))))","v":""}]
[null,null,null,null,null,null,null,null,null,null,null,null,null,{"$f":"IF('Outil Recensement'!I478=\"Individuelle\",\"Single\",IF('Outil Recensement'!I478=\"Familiale\",\"Family\",IF('Outil Recensement'!I478=\"Refus\",\"Family\",IF('Outil Recensement'!I478=\"Parent seul\",\"Family\",IF('Outil Recensement'!I478=\"Couple\",\"Family\",IF('Outil Recensement'!I478=\"In force\",\"Family\",IF('Outil Recensement'!I478=\"Applies\",\"Family\",IF('Outil Recensement'!I478=\"Applicable\",\"Family\",\"\"))))))))","v":""}]
[null,null,null,null,null,null,null,null,null,null,null,null,null,{"$f":"IF('Outil Recensement'!I479=\"Individuelle\",\"Single\",IF('Outil Recensement'!I479=\"Familiale\",\"Family\",IF('Outil Recensement'!I479=\"Refus\",\"Family\",IF('Outil Recensement'!I479=\"Parent seul\",\"Family\",IF('Outil Recensement'!I479=\"Couple\",\"Family\",IF('Outil Recensement'!I479=\"In force\",\"Family\",IF('Outil Recensement'!I479=\"Applies\",\"Family\",IF('Outil Recensement'!I479=\"Applicable\",\"Family\",\"\"))))))))","v":""}]
[null,null,null,null,null,null,null,null,null,null,null,null,null,{"$f":"IF('Outil Recensement'!I480=\"Individuelle\",\"Single\",IF('Outil Recensement'!I480=\"Familiale\",\"Family\",IF('Outil Recensement'!I480=\"Refus\",\"Family\",IF('Outil Recensement'!I480=\"Parent seul\",\"Family\",IF('Outil Recensement'!I480=\"Couple\",\"Family\",IF('Outil Recensement'!I480=\"In force\",\"Family\",IF('Outil Recensement'!I480=\"Applies\",\"Family\",IF('Outil Recensement'!I480=\"Applicable\",\"Family\",\"\"))))))))","v":""}]
[null,null,null,null,null,null,null,null,null,null,null,null,null,{"$f":"IF('Outil Recensement'!I481=\"Individuelle\",\"Single\",IF('Outil Recensement'!I481=\"Familiale\",\"Family\",IF('Outil Recensement'!I481=\"Refus\",\"Family\",IF('Outil Recensement'!I481=\"Parent seul\",\"Family\",IF('Outil Recensement'!I481=\"Couple\",\"Family\",IF('Outil Recensement'!I481=\"In force\",\"Family\",IF('Outil Recensement'!I481=\"Applies\",\"Family\",IF('Outil Recensement'!I481=\"Applicable\",\"Family\",\"\"))))))))","v":""}]
[null,null,null,null,null,null,null,null,null,null,null,null,null,{"$f":"IF('Outil Recensement'!I482=\"Individuelle\",\"Single\",IF('Outil Recensement'!I482=\"Familiale\",\"Family\",IF('Outil Recensement'!I482=\"Refus\",\"Family\",IF('Outil Recensement'!I482=\"Parent seul\",\"Family\",IF('Outil Recensement'!I482=\"Couple\",\"Family\",IF('Outil Recensement'!I482=\"In force\",\"Family\",IF('Outil Recensement'!I482=\"Applies\",\"Family\",IF('Outil Recensement'!I482=\"Applicable\",\"Family\",\"\"))))))))","v":""}]
[null,null,null,null,null,null,null,null,null,null,null,null,null,{"$f":"IF('Outil Recensement'!I483=\"Individuelle\",\"Single\",IF('Outil Recensement'!I483=\"Familiale\",\"Family\",IF('Outil Recensement'!I483=\"Refus\",\"Family\",IF('Outil Recensement'!I483=\"Parent seul\",\"Family\",IF('Outil Recensement'!I483=\"Couple\",\"Family\",IF('Outil Recensement'!I483=\"In force\",\"Family\",IF('Outil Recensement'!I483=\"Applies\",\"Family\",IF('Outil Recensement'!I483=\"Applicable\",\"Family\",\"\"))))))))","v":""}]
[null,null,null,null,null,null,null,null,null,null,null,null,null,{"$f":"IF('Outil Recensement'!I484=\"Individuelle\",\"Single\",IF('Outil Recensement'!I484=\"Familiale\",\"Family\",IF('Outil Recensement'!I484=\"Refus\",\"Family\",IF('Outil Recensement'!I484=\"Parent seul\",\"Family\",IF('Outil Recensement'!I484=\"Couple\",\"Family\",IF('Outil Recensement'!I484=\"In force\",\"Family\",IF('Outil Recensement'!I484=\"Applies\",\"Family\",IF('Outil Recensement'!I484=\"Applicable\",\"Family\",\"\"))))))))","v":""}]
[null,null,null,null,null,null,null,null,null,null,null,null,null,{"$f":"IF('Outil Recensement'!I485=\"Individuelle\",\"Single\",IF('Outil Recensement'!I485=\"Familiale\",\"Family\",IF('Outil Recensement'!I485=\"Refus\",\"Family\",IF('Outil Recensement'!I485=\"Parent seul\",\"Family\",IF('Outil Recensement'!I485=\"Couple\",\"Family\",IF('Outil Recensement'!I485=\"In force\",\"Family\",IF('Outil Recensement'!I485=\"Applies\",\"Family\",IF('Outil Recensement'!I485=\"Applicable\",\"Family\",\"\"))))))))","v":""}]
[null,null,null,null,null,null,null,null,null,null,null,null,null,{"$f":"IF('Outil Recensement'!I486=\"Individuelle\",\"Single\",IF('Outil Recensement'!I486=\"Familiale\",\"Family\",IF('Outil Recensement'!I486=\"Refus\",\"Family\",IF('Outil Recensement'!I486=\"Parent seul\",\"Family\",IF('Outil Recensement'!I486=\"Couple\",\"Family\",IF('Outil Recensement'!I486=\"In force\",\"Family\",IF('Outil Recensement'!I486=\"Applies\",\"Family\",IF('Outil Recensement'!I486=\"Applicable\",\"Family\",\"\"))))))))","v":""}]
[null,null,null,null,null,null,null,null,null,null,null,null,null,{"$f":"IF('Outil Recensement'!I487=\"Individuelle\",\"Single\",IF('Outil Recensement'!I487=\"Familiale\",\"Family\",IF('Outil Recensement'!I487=\"Refus\",\"Family\",IF('Outil Recensement'!I487=\"Parent seul\",\"Family\",IF('Outil Recensement'!I487=\"Couple\",\"Family\",IF('Outil Recensement'!I487=\"In force\",\"Family\",IF('Outil Recensement'!I487=\"Applies\",\"Family\",IF('Outil Recensement'!I487=\"Applicable\",\"Family\",\"\"))))))))","v":""}]
[null,null,null,null,null,null,null,null,null,null,null,null,null,{"$f":"IF('Outil Recensement'!I488=\"Individuelle\",\"Single\",IF('Outil Recensement'!I488=\"Familiale\",\"Family\",IF('Outil Recensement'!I488=\"Refus\",\"Family\",IF('Outil Recensement'!I488=\"Parent seul\",\"Family\",IF('Outil Recensement'!I488=\"Couple\",\"Family\",IF('Outil Recensement'!I488=\"In force\",\"Family\",IF('Outil Recensement'!I488=\"Applies\",\"Family\",IF('Outil Recensement'!I488=\"Applicable\",\"Family\",\"\"))))))))","v":""}]
[null,null,null,null,null,null,null,null,null,null,null,null,null,{"$f":"IF('Outil Recensement'!I489=\"Individuelle\",\"Single\",IF('Outil Recensement'!I489=\"Familiale\",\"Family\",IF('Outil Recensement'!I489=\"Refus\",\"Family\",IF('Outil Recensement'!I489=\"Parent seul\",\"Family\",IF('Outil Recensement'!I489=\"Couple\",\"Family\",IF('Outil Recensement'!I489=\"In force\",\"Family\",IF('Outil Recensement'!I489=\"Applies\",\"Family\",IF('Outil Recensement'!I489=\"Applicable\",\"Family\",\"\"))))))))","v":""}]
[null,null,null,null,null,null,null,null,null,null,null,null,null,{"$f":"IF('Outil Recensement'!I490=\"Individuelle\",\"Single\",IF('Outil Recensement'!I490=\"Familiale\",\"Family\",IF('Outil Recensement'!I490=\"Refus\",\"Family\",IF('Outil Recensement'!I490=\"Parent seul\",\"Family\",IF('Outil Recensement'!I490=\"Couple\",\"Family\",IF('Outil Recensement'!I490=\"In force\",\"Family\",IF('Outil Recensement'!I490=\"Applies\",\"Family\",IF('Outil Recensement'!I490=\"Applicable\",\"Family\",\"\"))))))))","v":""}]
[null,null,null,null,null,null,null,null,null,null,null,null,null,{"$f":"IF('Outil Recensement'!I491=\"Individuelle\",\"Single\",IF('Outil Recensement'!I491=\"Familiale\",\"Family\",IF('Outil Recensement'!I491=\"Refus\",\"Family\",IF('Outil Recensement'!I491=\"Parent seul\",\"Family\",IF('Outil Recensement'!I491=\"Couple\",\"Family\",IF('Outil Recensement'!I491=\"In force\",\"Family\",IF('Outil Recensement'!I491=\"Applies\",\"Family\",IF('Outil Recensement'!I491=\"Applicable\",\"Family\",\"\"))))))))","v":""}]
[null,null,null,null,null,null,null,null,null,null,null,null,null,{"$f":"IF('Outil Recensement'!I492=\"Individuelle\",\"Single\",IF('Outil Recensement'!I492=\"Familiale\",\"Family\",IF('Outil Recensement'!I492=\"Refus\",\"Family\",IF('Outil Recensement'!I492=\"Parent seul\",\"Family\",IF('Outil Recensement'!I492=\"Couple\",\"Family\",IF('Outil Recensement'!I492=\"In force\",\"Family\",IF('Outil Recensement'!I492=\"Applies\",\"Family\",IF('Outil Recensement'!I492=\"Applicable\",\"Family\",\"\"))))))))","v":""}]
[null,null,null,null,null,null,null,null,null,null,null,null,null,{"$f":"IF('Outil Recensement'!I493=\"Individuelle\",\"Single\",IF('Outil Recensement'!I493=\"Familiale\",\"Family\",IF('Outil Recensement'!I493=\"Refus\",\"Family\",IF('Outil Recensement'!I493=\"Parent seul\",\"Family\",IF('Outil Recensement'!I493=\"Couple\",\"Family\",IF('Outil Recensement'!I493=\"In force\",\"Family\",IF('Outil Recensement'!I493=\"Applies\",\"Family\",IF('Outil Recensement'!I493=\"Applicable\",\"Family\",\"\"))))))))","v":""}]
[null,null,null,null,null,null,null,null,null,null,null,null,null,{"$f":"IF('Outil Recensement'!I494=\"Individuelle\",\"Single\",IF('Outil Recensement'!I494=\"Familiale\",\"Family\",IF('Outil Recensement'!I494=\"Refus\",\"Family\",IF('Outil Recensement'!I494=\"Parent seul\",\"Family\",IF('Outil Recensement'!I494=\"Couple\",\"Family\",IF('Outil Recensement'!I494=\"In force\",\"Family\",IF('Outil Recensement'!I494=\"Applies\",\"Family\",IF('Outil Recensement'!I494=\"Applicable\",\"Family\",\"\"))))))))","v":""}]
[null,null,null,null,null,null,null,null,null,null,null,null,null,{"$f":"IF('Outil Recensement'!I495=\"Individuelle\",\"Single\",IF('Outil Recensement'!I495=\"Familiale\",\"Family\",IF('Outil Recensement'!I495=\"Refus\",\"Family\",IF('Outil Recensement'!I495=\"Parent seul\",\"Family\",IF('Outil Recensement'!I495=\"Couple\",\"Family\",IF('Outil Recensement'!I495=\"In force\",\"Family\",IF('Outil Recensement'!I495=\"Applies\",\"Family\",IF('Outil Recensement'!I495=\"Applicable\",\"Family\",\"\"))))))))","v":""}]
[null,null,null,null,null,null,null,null,null,null,null,null,null,{"$f":"IF('Outil Recensement'!I496=\"Individuelle\",\"Single\",IF('Outil Recensement'!I496=\"Familiale\",\"Family\",IF('Outil Recensement'!I496=\"Refus\",\"Family\",IF('Outil Recensement'!I496=\"Parent seul\",\"Family\",IF('Outil Recensement'!I496=\"Couple\",\"Family\",IF('Outil Recensement'!I496=\"In force\",\"Family\",IF('Outil Recensement'!I496=\"Applies\",\"Family\",IF('Outil Recensement'!I496=\"Applicable\",\"Family\",\"\"))))))))","v":""}]
[null,null,null,null,null,null,null,null,null,null,null,null,null,{"$f":"IF('Outil Recensement'!I497=\"Individuelle\",\"Single\",IF('Outil Recensement'!I497=\"Familiale\",\"Family\",IF('Outil Recensement'!I497=\"Refus\",\"Family\",IF('Outil Recensement'!I497=\"Parent seul\",\"Family\",IF('Outil Recensement'!I497=\"Couple\",\"Family\",IF('Outil Recensement'!I497=\"In force\",\"Family\",IF('Outil Recensement'!I497=\"Applies\",\"Family\",IF('Outil Recensement'!I497=\"Applicable\",\"Family\",\"\"))))))))","v":""}]
[null,null,null,null,null,null,null,null,null,null,null,null,null,{"$f":"IF('Outil Recensement'!I498=\"Individuelle\",\"Single\",IF('Outil Recensement'!I498=\"Familiale\",\"Family\",IF('Outil Recensement'!I498=\"Refus\",\"Family\",IF('Outil Recensement'!I498=\"Parent seul\",\"Family\",IF('Outil Recensement'!I498=\"Couple\",\"Family\",IF('Outil Recensement'!I498=\"In force\",\"Family\",IF('Outil Recensement'!I498=\"Applies\",\"Family\",IF('Outil Recensement'!I498=\"Applicable\",\"Family\",\"\"))))))))","v":""}]
[null,null,null,null,null,null,null,null,null,null,null,null,null,{"$f":"IF('Outil Recensement'!I499=\"Individuelle\",\"Single\",IF('Outil Recensement'!I499=\"Familiale\",\"Family\",IF('Outil Recensement'!I499=\"Refus\",\"Family\",IF('Outil Recensement'!I499=\"Parent seul\",\"Family\",IF('Outil Recensement'!I499=\"Couple\",\"Family\",IF('Outil Recensement'!I499=\"In force\",\"Family\",IF('Outil Recensement'!I499=\"Applies\",\"Family\",IF('Outil Recensement'!I499=\"Applicable\",\"Family\",\"\"))))))))","v":""}]
[null,null,null,null,null,null,null,null,null,null,null,null,null,{"$f":"IF('Outil Recensement'!I500=\"Individuelle\",\"Single\",IF('Outil Recensement'!I500=\"Familiale\",\"Family\",IF('Outil Recensement'!I500=\"Refus\",\"Family\",IF('Outil Recensement'!I500=\"Parent seul\",\"Family\",IF('Outil Recensement'!I500=\"Couple\",\"Family\",IF('Outil Recensement'!I500=\"In force\",\"Family\",IF('Outil Recensement'!I500=\"Applies\",\"Family\",IF('Outil Recensement'!I500=\"Applicable\",\"Family\",\"\"))))))))","v":""}]
[null,null,null,null,null,null,null,null,null,null,null,null,null,{"$f":"IF('Outil Recensement'!I501=\"Individuelle\",\"Single\",IF('Outil Recensement'!I501=\"Familiale\",\"Family\",IF('Outil Recensement'!I501=\"Refus\",\"Family\",IF('Outil Recensement'!I501=\"Parent seul\",\"Family\",IF('Outil Recensement'!I501=\"Couple\",\"Family\",IF('Outil Recensement'!I501=\"In force\",\"Family\",IF('Outil Recensement'!I501=\"Applies\",\"Family\",IF('Outil Recensement'!I501=\"Applicable\",\"Family\",\"\"))))))))","v":""}]
[null,null,null,null,null,null,null,null,null,null,null,null,null,{"$f":"IF('Outil Recensement'!I502=\"Individuelle\",\"Single\",IF('Outil Recensement'!I502=\"Familiale\",\"Family\",IF('Outil Recensement'!I502=\"Refus\",\"Family\",IF('Outil Recensement'!I502=\"Parent seul\",\"Family\",IF('Outil Recensement'!I502=\"Couple\",\"Family\",IF('Outil Recensement'!I502=\"In force\",\"Family\",IF('Outil Recensement'!I502=\"Applies\",\"Family\",IF('Outil Recensement'!I502=\"Applicable\",\"Family\",\"\"))))))))","v":""}]
[null,null,null,null,null,null,null,null,null,null,null,null,null,{"$f":"IF('Outil Recensement'!I503=\"Individuelle\",\"Single\",IF('Outil Recensement'!I503=\"Familiale\",\"Family\",IF('Outil Recensement'!I503=\"Refus\",\"Family\",IF('Outil Recensement'!I503=\"Parent seul\",\"Family\",IF('Outil Recensement'!I503=\"Couple\",\"Family\",IF('Outil Recensement'!I503=\"In force\",\"Family\",IF('Outil Recensement'!I503=\"Applies\",\"Family\",IF('Outil Recensement'!I503=\"Applicable\",\"Family\",\"\"))))))))","v":""}]
[null,null,null,null,null,null,null,null,null,null,null,null,null,{"$f":"IF('Outil Recensement'!I504=\"Individuelle\",\"Single\",IF('Outil Recensement'!I504=\"Familiale\",\"Family\",IF('Outil Recensement'!I504=\"Refus\",\"Family\",IF('Outil Recensement'!I504=\"Parent seul\",\"Family\",IF('Outil Recensement'!I504=\"Couple\",\"Family\",IF('Outil Recensement'!I504=\"In force\",\"Family\",IF('Outil Recensement'!I504=\"Applies\",\"Family\",IF('Outil Recensement'!I504=\"Applicable\",\"Family\",\"\"))))))))","v":""}]
[null,null,null,null,null,null,null,null,null,null,null,null,null,{"$f":"IF('Outil Recensement'!I505=\"Individuelle\",\"Single\",IF('Outil Recensement'!I505=\"Familiale\",\"Family\",IF('Outil Recensement'!I505=\"Refus\",\"Family\",IF('Outil Recensement'!I505=\"Parent seul\",\"Family\",IF('Outil Recensement'!I505=\"Couple\",\"Family\",IF('Outil Recensement'!I505=\"In force\",\"Family\",IF('Outil Recensement'!I505=\"Applies\",\"Family\",IF('Outil Recensement'!I505=\"Applicable\",\"Family\",\"\"))))))))","v":""}]
[null,null,null,null,null,null,null,null,null,null,null,null,null,{"$f":"IF('Outil Recensement'!I506=\"Individuelle\",\"Single\",IF('Outil Recensement'!I506=\"Familiale\",\"Family\",IF('Outil Recensement'!I506=\"Refus\",\"Family\",IF('Outil Recensement'!I506=\"Parent seul\",\"Family\",IF('Outil Recensement'!I506=\"Couple\",\"Family\",IF('Outil Recensement'!I506=\"In force\",\"Family\",IF('Outil Recensement'!I506=\"Applies\",\"Family\",IF('Outil Recensement'!I506=\"Applicable\",\"Family\",\"\"))))))))","v":""}]
[null,null,null,null,null,null,null,null,null,null,null,null,null,{"$f":"IF('Outil Recensement'!I507=\"Individuelle\",\"Single\",IF('Outil Recensement'!I507=\"Familiale\",\"Family\",IF('Outil Recensement'!I507=\"Refus\",\"Family\",IF('Outil Recensement'!I507=\"Parent seul\",\"Family\",IF('Outil Recensement'!I507=\"Couple\",\"Family\",IF('Outil Recensement'!I507=\"In force\",\"Family\",IF('Outil Recensement'!I507=\"Applies\",\"Family\",IF('Outil Recensement'!I507=\"Applicable\",\"Family\",\"\"))))))))","v":""}]
[null,null,null,null,null,null,null,null,null,null,null,null,null,{"$f":"IF('Outil Recensement'!I508=\"Individuelle\",\"Single\",IF('Outil Recensement'!I508=\"Familiale\",\"Family\",IF('Outil Recensement'!I508=\"Refus\",\"Family\",IF('Outil Recensement'!I508=\"Parent seul\",\"Family\",IF('Outil Recensement'!I508=\"Couple\",\"Family\",IF('Outil Recensement'!I508=\"In force\",\"Family\",IF('Outil Recensement'!I508=\"Applies\",\"Family\",IF('Outil Recensement'!I508=\"Applicable\",\"Family\",\"\"))))))))","v":""}]
[null,null,null,null,null,null,null,null,null,null,null,null,null,{"$f":"IF('Outil Recensement'!I509=\"Individuelle\",\"Single\",IF('Outil Recensement'!I509=\"Familiale\",\"Family\",IF('Outil Recensement'!I509=\"Refus\",\"Family\",IF('Outil Recensement'!I509=\"Parent seul\",\"Family\",IF('Outil Recensement'!I509=\"Couple\",\"Family\",IF('Outil Recensement'!I509=\"In force\",\"Family\",IF('Outil Recensement'!I509=\"Applies\",\"Family\",IF('Outil Recensement'!I509=\"Applicable\",\"Family\",\"\"))))))))","v":""}]
[null,null,null,null,null,null,null,null,null,null,null,null,null,{"$f":"IF('Outil Recensement'!I510=\"Individuelle\",\"Single\",IF('Outil Recensement'!I510=\"Familiale\",\"Family\",IF('Outil Recensement'!I510=\"Refus\",\"Family\",IF('Outil Recensement'!I510=\"Parent seul\",\"Family\",IF('Outil Recensement'!I510=\"Couple\",\"Family\",IF('Outil Recensement'!I510=\"In force\",\"Family\",IF('Outil Recensement'!I510=\"Applies\",\"Family\",IF('Outil Recensement'!I510=\"Applicable\",\"Family\",\"\"))))))))","v":""}]
[null,null,null,null,null,null,null,null,null,null,null,null,null,{"$f":"IF('Outil Recensement'!I511=\"Individuelle\",\"Single\",IF('Outil Recensement'!I511=\"Familiale\",\"Family\",IF('Outil Recensement'!I511=\"Refus\",\"Family\",IF('Outil Recensement'!I511=\"Parent seul\",\"Family\",IF('Outil Recensement'!I511=\"Couple\",\"Family\",IF('Outil Recensement'!I511=\"In force\",\"Family\",IF('Outil Recensement'!I511=\"Applies\",\"Family\",IF('Outil Recensement'!I511=\"Applicable\",\"Family\",\"\"))))))))","v":""}]
[null,null,null,null,null,null,null,null,null,null,null,null,null,{"$f":"IF('Outil Recensement'!I512=\"Individuelle\",\"Single\",IF('Outil Recensement'!I512=\"Familiale\",\"Family\",IF('Outil Recensement'!I512=\"Refus\",\"Family\",IF('Outil Recensement'!I512=\"Parent seul\",\"Family\",IF('Outil Recensement'!I512=\"Couple\",\"Family\",IF('Outil Recensement'!I512=\"In force\",\"Family\",IF('Outil Recensement'!I512=\"Applies\",\"Family\",IF('Outil Recensement'!I512=\"Applicable\",\"Family\",\"\"))))))))","v":""}]
[null,null,null,null,null,null,null,null,null,null,null,null,null,{"$f":"IF('Outil Recensement'!I513=\"Individuelle\",\"Single\",IF('Outil Recensement'!I513=\"Familiale\",\"Family\",IF('Outil Recensement'!I513=\"Refus\",\"Family\",IF('Outil Recensement'!I513=\"Parent seul\",\"Family\",IF('Outil Recensement'!I513=\"Couple\",\"Family\",IF('Outil Recensement'!I513=\"In force\",\"Family\",IF('Outil Recensement'!I513=\"Applies\",\"Family\",IF('Outil Recensement'!I513=\"Applicable\",\"Family\",\"\"))))))))","v":""}]
[null,null,null,null,null,null,null,null,null,null,null,null,null,{"$f":"IF('Outil Recensement'!I514=\"Individuelle\",\"Single\",IF('Outil Recensement'!I514=\"Familiale\",\"Family\",IF('Outil Recensement'!I514=\"Refus\",\"Family\",IF('Outil Recensement'!I514=\"Parent seul\",\"Family\",IF('Outil Recensement'!I514=\"Couple\",\"Family\",IF('Outil Recensement'!I514=\"In force\",\"Family\",IF('Outil Recensement'!I514=\"Applies\",\"Family\",IF('Outil Recensement'!I514=\"Applicable\",\"Family\",\"\"))))))))","v":""}]
[null,null,null,null,null,null,null,null,null,null,null,null,null,{"$f":"IF('Outil Recensement'!I515=\"Individuelle\",\"Single\",IF('Outil Recensement'!I515=\"Familiale\",\"Family\",IF('Outil Recensement'!I515=\"Refus\",\"Family\",IF('Outil Recensement'!I515=\"Parent seul\",\"Family\",IF('Outil Recensement'!I515=\"Couple\",\"Family\",IF('Outil Recensement'!I515=\"In force\",\"Family\",IF('Outil Recensement'!I515=\"Applies\",\"Family\",IF('Outil Recensement'!I515=\"Applicable\",\"Family\",\"\"))))))))","v":""}]
[null,null,null,null,null,null,null,null,null,null,null,null,null,{"$f":"IF('Outil Recensement'!I516=\"Individuelle\",\"Single\",IF('Outil Recensement'!I516=\"Familiale\",\"Family\",IF('Outil Recensement'!I516=\"Refus\",\"Family\",IF('Outil Recensement'!I516=\"Parent seul\",\"Family\",IF('Outil Recensement'!I516=\"Couple\",\"Family\",IF('Outil Recensement'!I516=\"In force\",\"Family\",IF('Outil Recensement'!I516=\"Applies\",\"Family\",IF('Outil Recensement'!I516=\"Applicable\",\"Family\",\"\"))))))))","v":""}]
[null,null,null,null,null,null,null,null,null,null,null,null,null,{"$f":"IF('Outil Recensement'!I517=\"Individuelle\",\"Single\",IF('Outil Recensement'!I517=\"Familiale\",\"Family\",IF('Outil Recensement'!I517=\"Refus\",\"Family\",IF('Outil Recensement'!I517=\"Parent seul\",\"Family\",IF('Outil Recensement'!I517=\"Couple\",\"Family\",IF('Outil Recensement'!I517=\"In force\",\"Family\",IF('Outil Recensement'!I517=\"Applies\",\"Family\",IF('Outil Recensement'!I517=\"Applicable\",\"Family\",\"\"))))))))","v":""}]
[null,null,null,null,null,null,null,null,null,null,null,null,null,{"$f":"IF('Outil Recensement'!I518=\"Individuelle\",\"Single\",IF('Outil Recensement'!I518=\"Familiale\",\"Family\",IF('Outil Recensement'!I518=\"Refus\",\"Family\",IF('Outil Recensement'!I518=\"Parent seul\",\"Family\",IF('Outil Recensement'!I518=\"Couple\",\"Family\",IF('Outil Recensement'!I518=\"In force\",\"Family\",IF('Outil Recensement'!I518=\"Applies\",\"Family\",IF('Outil Recensement'!I518=\"Applicable\",\"Family\",\"\"))))))))","v":""}]
[null,null,null,null,null,null,null,null,null,null,null,null,null,{"$f":"IF('Outil Recensement'!I519=\"Individuelle\",\"Single\",IF('Outil Recensement'!I519=\"Familiale\",\"Family\",IF('Outil Recensement'!I519=\"Refus\",\"Family\",IF('Outil Recensement'!I519=\"Parent seul\",\"Family\",IF('Outil Recensement'!I519=\"Couple\",\"Family\",IF('Outil Recensement'!I519=\"In force\",\"Family\",IF('Outil Recensement'!I519=\"Applies\",\"Family\",IF('Outil Recensement'!I519=\"Applicable\",\"Family\",\"\"))))))))","v":""}]
[null,null,null,null,null,null,null,null,null,null,null,null,null,{"$f":"IF('Outil Recensement'!I520=\"Individuelle\",\"Single\",IF('Outil Recensement'!I520=\"Familiale\",\"Family\",IF('Outil Recensement'!I520=\"Refus\",\"Family\",IF('Outil Recensement'!I520=\"Parent seul\",\"Family\",IF('Outil Recensement'!I520=\"Couple\",\"Family\",IF('Outil Recensement'!I520=\"In force\",\"Family\",IF('Outil Recensement'!I520=\"Applies\",\"Family\",IF('Outil Recensement'!I520=\"Applicable\",\"Family\",\"\"))))))))","v":""}]
[null,null,null,null,null,null,null,null,null,null,null,null,null,{"$f":"IF('Outil Recensement'!I521=\"Individuelle\",\"Single\",IF('Outil Recensement'!I521=\"Familiale\",\"Family\",IF('Outil Recensement'!I521=\"Refus\",\"Family\",IF('Outil Recensement'!I521=\"Parent seul\",\"Family\",IF('Outil Recensement'!I521=\"Couple\",\"Family\",IF('Outil Recensement'!I521=\"In force\",\"Family\",IF('Outil Recensement'!I521=\"Applies\",\"Family\",IF('Outil Recensement'!I521=\"Applicable\",\"Family\",\"\"))))))))","v":""}]
[null,null,null,null,null,null,null,null,null,null,null,null,null,{"$f":"IF('Outil Recensement'!I522=\"Individuelle\",\"Single\",IF('Outil Recensement'!I522=\"Familiale\",\"Family\",IF('Outil Recensement'!I522=\"Refus\",\"Family\",IF('Outil Recensement'!I522=\"Parent seul\",\"Family\",IF('Outil Recensement'!I522=\"Couple\",\"Family\",IF('Outil Recensement'!I522=\"In force\",\"Family\",IF('Outil Recensement'!I522=\"Applies\",\"Family\",IF('Outil Recensement'!I522=\"Applicable\",\"Family\",\"\"))))))))","v":""}]
[null,null,null,null,null,null,null,null,null,null,null,null,null,{"$f":"IF('Outil Recensement'!I523=\"Individuelle\",\"Single\",IF('Outil Recensement'!I523=\"Familiale\",\"Family\",IF('Outil Recensement'!I523=\"Refus\",\"Family\",IF('Outil Recensement'!I523=\"Parent seul\",\"Family\",IF('Outil Recensement'!I523=\"Couple\",\"Family\",IF('Outil Recensement'!I523=\"In force\",\"Family\",IF('Outil Recensement'!I523=\"Applies\",\"Family\",IF('Outil Recensement'!I523=\"Applicable\",\"Family\",\"\"))))))))","v":""}]
[null,null,null,null,null,null,null,null,null,null,null,null,null,{"$f":"IF('Outil Recensement'!I524=\"Individuelle\",\"Single\",IF('Outil Recensement'!I524=\"Familiale\",\"Family\",IF('Outil Recensement'!I524=\"Refus\",\"Family\",IF('Outil Recensement'!I524=\"Parent seul\",\"Family\",IF('Outil Recensement'!I524=\"Couple\",\"Family\",IF('Outil Recensement'!I524=\"In force\",\"Family\",IF('Outil Recensement'!I524=\"Applies\",\"Family\",IF('Outil Recensement'!I524=\"Applicable\",\"Family\",\"\"))))))))","v":""}]
[null,null,null,null,null,null,null,null,null,null,null,null,null,{"$f":"IF('Outil Recensement'!I525=\"Individuelle\",\"Single\",IF('Outil Recensement'!I525=\"Familiale\",\"Family\",IF('Outil Recensement'!I525=\"Refus\",\"Family\",IF('Outil Recensement'!I525=\"Parent seul\",\"Family\",IF('Outil Recensement'!I525=\"Couple\",\"Family\",IF('Outil Recensement'!I525=\"In force\",\"Family\",IF('Outil Recensement'!I525=\"Applies\",\"Family\",IF('Outil Recensement'!I525=\"Applicable\",\"Family\",\"\"))))))))","v":""}]
[null,null,null,null,null,null,null,null,null,null,null,null,null,{"$f":"IF('Outil Recensement'!I526=\"Individuelle\",\"Single\",IF('Outil Recensement'!I526=\"Familiale\",\"Family\",IF('Outil Recensement'!I526=\"Refus\",\"Family\",IF('Outil Recensement'!I526=\"Parent seul\",\"Family\",IF('Outil Recensement'!I526=\"Couple\",\"Family\",IF('Outil Recensement'!I526=\"In force\",\"Family\",IF('Outil Recensement'!I526=\"Applies\",\"Family\",IF('Outil Recensement'!I526=\"Applicable\",\"Family\",\"\"))))))))","v":""}]
[null,null,null,null,null,null,null,null,null,null,null,null,null,{"$f":"IF('Outil Recensement'!I527=\"Individuelle\",\"Single\",IF('Outil Recensement'!I527=\"Familiale\",\"Family\",IF('Outil Recensement'!I527=\"Refus\",\"Family\",IF('Outil Recensement'!I527=\"Parent seul\",\"Family\",IF('Outil Recensement'!I527=\"Couple\",\"Family\",IF('Outil Recensement'!I527=\"In force\",\"Family\",IF('Outil Recensement'!I527=\"Applies\",\"Family\",IF('Outil Recensement'!I527=\"Applicable\",\"Family\",\"\"))))))))","v":""}]
[null,null,null,null,null,null,null,null,null,null,null,null,null,{"$f":"IF('Outil Recensement'!I528=\"Individuelle\",\"Single\",IF('Outil Recensement'!I528=\"Familiale\",\"Family\",IF('Outil Recensement'!I528=\"Refus\",\"Family\",IF('Outil Recensement'!I528=\"Parent seul\",\"Family\",IF('Outil Recensement'!I528=\"Couple\",\"Family\",IF('Outil Recensement'!I528=\"In force\",\"Family\",IF('Outil Recensement'!I528=\"Applies\",\"Family\",IF('Outil Recensement'!I528=\"Applicable\",\"Family\",\"\"))))))))","v":""}]
[null,null,null,null,null,null,null,null,null,null,null,null,null,{"$f":"IF('Outil Recensement'!I529=\"Individuelle\",\"Single\",IF('Outil Recensement'!I529=\"Familiale\",\"Family\",IF('Outil Recensement'!I529=\"Refus\",\"Family\",IF('Outil Recensement'!I529=\"Parent seul\",\"Family\",IF('Outil Recensement'!I529=\"Couple\",\"Family\",IF('Outil Recensement'!I529=\"In force\",\"Family\",IF('Outil Recensement'!I529=\"Applies\",\"Family\",IF('Outil Recensement'!I529=\"Applicable\",\"Family\",\"\"))))))))","v":""}]
[null,null,null,null,null,null,null,null,null,null,null,null,null,{"$f":"IF('Outil Recensement'!I530=\"Individuelle\",\"Single\",IF('Outil Recensement'!I530=\"Familiale\",\"Family\",IF('Outil Recensement'!I530=\"Refus\",\"Family\",IF('Outil Recensement'!I530=\"Parent seul\",\"Family\",IF('Outil Recensement'!I530=\"Couple\",\"Family\",IF('Outil Recensement'!I530=\"In force\",\"Family\",IF('Outil Recensement'!I530=\"Applies\",\"Family\",IF('Outil Recensement'!I530=\"Applicable\",\"Family\",\"\"))))))))","v":""}]
[null,null,null,null,null,null,null,null,null,null,null,null,null,{"$f":"IF('Outil Recensement'!I531=\"Individuelle\",\"Single\",IF('Outil Recensement'!I531=\"Familiale\",\"Family\",IF('Outil Recensement'!I531=\"Refus\",\"Family\",IF('Outil Recensement'!I531=\"Parent seul\",\"Family\",IF('Outil Recensement'!I531=\"Couple\",\"Family\",IF('Outil Recensement'!I531=\"In force\",\"Family\",IF('Outil Recensement'!I531=\"Applies\",\"Family\",IF('Outil Recensement'!I531=\"Applicable\",\"Family\",\"\"))))))))","v":""}]
[null,null,null,null,null,null,null,null,null,null,null,null,null,{"$f":"IF('Outil Recensement'!I532=\"Individuelle\",\"Single\",IF('Outil Recensement'!I532=\"Familiale\",\"Family\",IF('Outil Recensement'!I532=\"Refus\",\"Family\",IF('Outil Recensement'!I532=\"Parent seul\",\"Family\",IF('Outil Recensement'!I532=\"Couple\",\"Family\",IF('Outil Recensement'!I532=\"In force\",\"Family\",IF('Outil Recensement'!I532=\"Applies\",\"Family\",IF('Outil Recensement'!I532=\"Applicable\",\"Family\",\"\"))))))))","v":""}]
[null,null,null,null,null,null,null,null,null,null,null,null,null,{"$f":"IF('Outil Recensement'!I533=\"Individuelle\",\"Single\",IF('Outil Recensement'!I533=\"Familiale\",\"Family\",IF('Outil Recensement'!I533=\"Refus\",\"Family\",IF('Outil Recensement'!I533=\"Parent seul\",\"Family\",IF('Outil Recensement'!I533=\"Couple\",\"Family\",IF('Outil Recensement'!I533=\"In force\",\"Family\",IF('Outil Recensement'!I533=\"Applies\",\"Family\",IF('Outil Recensement'!I533=\"Applicable\",\"Family\",\"\"))))))))","v":""}]
[null,null,null,null,null,null,null,null,null,null,null,null,null,{"$f":"IF('Outil Recensement'!I534=\"Individuelle\",\"Single\",IF('Outil Recensement'!I534=\"Familiale\",\"Family\",IF('Outil Recensement'!I534=\"Refus\",\"Family\",IF('Outil Recensement'!I534=\"Parent seul\",\"Family\",IF('Outil Recensement'!I534=\"Couple\",\"Family\",IF('Outil Recensement'!I534=\"In force\",\"Family\",IF('Outil Recensement'!I534=\"Applies\",\"Family\",IF('Outil Recensement'!I534=\"Applicable\",\"Family\",\"\"))))))))","v":""}]
[null,null,null,null,null,null,null,null,null,null,null,null,null,{"$f":"IF('Outil Recensement'!I535=\"Individuelle\",\"Single\",IF('Outil Recensement'!I535=\"Familiale\",\"Family\",IF('Outil Recensement'!I535=\"Refus\",\"Family\",IF('Outil Recensement'!I535=\"Parent seul\",\"Family\",IF('Outil Recensement'!I535=\"Couple\",\"Family\",IF('Outil Recensement'!I535=\"In force\",\"Family\",IF('Outil Recensement'!I535=\"Applies\",\"Family\",IF('Outil Recensement'!I535=\"Applicable\",\"Family\",\"\"))))))))","v":""}]
[null,null,null,null,null,null,null,null,null,null,null,null,null,{"$f":"IF('Outil Recensement'!I536=\"Individuelle\",\"Single\",IF('Outil Recensement'!I536=\"Familiale\",\"Family\",IF('Outil Recensement'!I536=\"Refus\",\"Family\",IF('Outil Recensement'!I536=\"Parent seul\",\"Family\",IF('Outil Recensement'!I536=\"Couple\",\"Family\",IF('Outil Recensement'!I536=\"In force\",\"Family\",IF('Outil Recensement'!I536=\"Applies\",\"Family\",IF('Outil Recensement'!I536=\"Applicable\",\"Family\",\"\"))))))))","v":""}]
[null,null,null,null,null,null,null,null,null,null,null,null,null,{"$f":"IF('Outil Recensement'!I537=\"Individuelle\",\"Single\",IF('Outil Recensement'!I537=\"Familiale\",\"Family\",IF('Outil Recensement'!I537=\"Refus\",\"Family\",IF('Outil Recensement'!I537=\"Parent seul\",\"Family\",IF('Outil Recensement'!I537=\"Couple\",\"Family\",IF('Outil Recensement'!I537=\"In force\",\"Family\",IF('Outil Recensement'!I537=\"Applies\",\"Family\",IF('Outil Recensement'!I537=\"Applicable\",\"Family\",\"\"))))))))","v":""}]
[null,null,null,null,null,null,null,null,null,null,null,null,null,{"$f":"IF('Outil Recensement'!I538=\"Individuelle\",\"Single\",IF('Outil Recensement'!I538=\"Familiale\",\"Family\",IF('Outil Recensement'!I538=\"Refus\",\"Family\",IF('Outil Recensement'!I538=\"Parent seul\",\"Family\",IF('Outil Recensement'!I538=\"Couple\",\"Family\",IF('Outil Recensement'!I538=\"In force\",\"Family\",IF('Outil Recensement'!I538=\"Applies\",\"Family\",IF('Outil Recensement'!I538=\"Applicable\",\"Family\",\"\"))))))))","v":""}]
[null,null,null,null,null,null,null,null,null,null,null,null,null,{"$f":"IF('Outil Recensement'!I539=\"Individuelle\",\"Single\",IF('Outil Recensement'!I539=\"Familiale\",\"Family\",IF('Outil Recensement'!I539=\"Refus\",\"Family\",IF('Outil Recensement'!I539=\"Parent seul\",\"Family\",IF('Outil Recensement'!I539=\"Couple\",\"Family\",IF('Outil Recensement'!I539=\"In force\",\"Family\",IF('Outil Recensement'!I539=\"Applies\",\"Family\",IF('Outil Recensement'!I539=\"Applicable\",\"Family\",\"\"))))))))","v":""}]
[null,null,null,null,null,null,null,null,null,null,null,null,null,{"$f":"IF('Outil Recensement'!I540=\"Individuelle\",\"Single\",IF('Outil Recensement'!I540=\"Familiale\",\"Family\",IF('Outil Recensement'!I540=\"Refus\",\"Family\",IF('Outil Recensement'!I540=\"Parent seul\",\"Family\",IF('Outil Recensement'!I540=\"Couple\",\"Family\",IF('Outil Recensement'!I540=\"In force\",\"Family\",IF('Outil Recensement'!I540=\"Applies\",\"Family\",IF('Outil Recensement'!I540=\"Applicable\",\"Family\",\"\"))))))))","v":""}]
[null,null,null,null,null,null,null,null,null,null,null,null,null,{"$f":"IF('Outil Recensement'!I541=\"Individuelle\",\"Single\",IF('Outil Recensement'!I541=\"Familiale\",\"Family\",IF('Outil Recensement'!I541=\"Refus\",\"Family\",IF('Outil Recensement'!I541=\"Parent seul\",\"Family\",IF('Outil Recensement'!I541=\"Couple\",\"Family\",IF('Outil Recensement'!I541=\"In force\",\"Family\",IF('Outil Recensement'!I541=\"Applies\",\"Family\",IF('Outil Recensement'!I541=\"Applicable\",\"Family\",\"\"))))))))","v":""}]
[null,null,null,null,null,null,null,null,null,null,null,null,null,{"$f":"IF('Outil Recensement'!I542=\"Individuelle\",\"Single\",IF('Outil Recensement'!I542=\"Familiale\",\"Family\",IF('Outil Recensement'!I542=\"Refus\",\"Family\",IF('Outil Recensement'!I542=\"Parent seul\",\"Family\",IF('Outil Recensement'!I542=\"Couple\",\"Family\",IF('Outil Recensement'!I542=\"In force\",\"Family\",IF('Outil Recensement'!I542=\"Applies\",\"Family\",IF('Outil Recensement'!I542=\"Applicable\",\"Family\",\"\"))))))))","v":""}]
[null,null,null,null,null,null,null,null,null,null,null,null,null,{"$f":"IF('Outil Recensement'!I543=\"Individuelle\",\"Single\",IF('Outil Recensement'!I543=\"Familiale\",\"Family\",IF('Outil Recensement'!I543=\"Refus\",\"Family\",IF('Outil Recensement'!I543=\"Parent seul\",\"Family\",IF('Outil Recensement'!I543=\"Couple\",\"Family\",IF('Outil Recensement'!I543=\"In force\",\"Family\",IF('Outil Recensement'!I543=\"Applies\",\"Family\",IF('Outil Recensement'!I543=\"Applicable\",\"Family\",\"\"))))))))","v":""}]
[null,null,null,null,null,null,null,null,null,null,null,null,null,{"$f":"IF('Outil Recensement'!I544=\"Individuelle\",\"Single\",IF('Outil Recensement'!I544=\"Familiale\",\"Family\",IF('Outil Recensement'!I544=\"Refus\",\"Family\",IF('Outil Recensement'!I544=\"Parent seul\",\"Family\",IF('Outil Recensement'!I544=\"Couple\",\"Family\",IF('Outil Recensement'!I544=\"In force\",\"Family\",IF('Outil Recensement'!I544=\"Applies\",\"Family\",IF('Outil Recensement'!I544=\"Applicable\",\"Family\",\"\"))))))))","v":""}]
[null,null,null,null,null,null,null,null,null,null,null,null,null,{"$f":"IF('Outil Recensement'!I545=\"Individuelle\",\"Single\",IF('Outil Recensement'!I545=\"Familiale\",\"Family\",IF('Outil Recensement'!I545=\"Refus\",\"Family\",IF('Outil Recensement'!I545=\"Parent seul\",\"Family\",IF('Outil Recensement'!I545=\"Couple\",\"Family\",IF('Outil Recensement'!I545=\"In force\",\"Family\",IF('Outil Recensement'!I545=\"Applies\",\"Family\",IF('Outil Recensement'!I545=\"Applicable\",\"Family\",\"\"))))))))","v":""}]
[null,null,null,null,null,null,null,null,null,null,null,null,null,{"$f":"IF('Outil Recensement'!I546=\"Individuelle\",\"Single\",IF('Outil Recensement'!I546=\"Familiale\",\"Family\",IF('Outil Recensement'!I546=\"Refus\",\"Family\",IF('Outil Recensement'!I546=\"Parent seul\",\"Family\",IF('Outil Recensement'!I546=\"Couple\",\"Family\",IF('Outil Recensement'!I546=\"In force\",\"Family\",IF('Outil Recensement'!I546=\"Applies\",\"Family\",IF('Outil Recensement'!I546=\"Applicable\",\"Family\",\"\"))))))))","v":""}]
[null,null,null,null,null,null,null,null,null,null,null,null,null,{"$f":"IF('Outil Recensement'!I547=\"Individuelle\",\"Single\",IF('Outil Recensement'!I547=\"Familiale\",\"Family\",IF('Outil Recensement'!I547=\"Refus\",\"Family\",IF('Outil Recensement'!I547=\"Parent seul\",\"Family\",IF('Outil Recensement'!I547=\"Couple\",\"Family\",IF('Outil Recensement'!I547=\"In force\",\"Family\",IF('Outil Recensement'!I547=\"Applies\",\"Family\",IF('Outil Recensement'!I547=\"Applicable\",\"Family\",\"\"))))))))","v":""}]
[null,null,null,null,null,null,null,null,null,null,null,null,null,{"$f":"IF('Outil Recensement'!I548=\"Individuelle\",\"Single\",IF('Outil Recensement'!I548=\"Familiale\",\"Family\",IF('Outil Recensement'!I548=\"Refus\",\"Family\",IF('Outil Recensement'!I548=\"Parent seul\",\"Family\",IF('Outil Recensement'!I548=\"Couple\",\"Family\",IF('Outil Recensement'!I548=\"In force\",\"Family\",IF('Outil Recensement'!I548=\"Applies\",\"Family\",IF('Outil Recensement'!I548=\"Applicable\",\"Family\",\"\"))))))))","v":""}]
[null,null,null,null,null,null,null,null,null,null,null,null,null,{"$f":"IF('Outil Recensement'!I549=\"Individuelle\",\"Single\",IF('Outil Recensement'!I549=\"Familiale\",\"Family\",IF('Outil Recensement'!I549=\"Refus\",\"Family\",IF('Outil Recensement'!I549=\"Parent seul\",\"Family\",IF('Outil Recensement'!I549=\"Couple\",\"Family\",IF('Outil Recensement'!I549=\"In force\",\"Family\",IF('Outil Recensement'!I549=\"Applies\",\"Family\",IF('Outil Recensement'!I549=\"Applicable\",\"Family\",\"\"))))))))","v":""}]
[null,null,null,null,null,null,null,null,null,null,null,null,null,{"$f":"IF('Outil Recensement'!I550=\"Individuelle\",\"Single\",IF('Outil Recensement'!I550=\"Familiale\",\"Family\",IF('Outil Recensement'!I550=\"Refus\",\"Family\",IF('Outil Recensement'!I550=\"Parent seul\",\"Family\",IF('Outil Recensement'!I550=\"Couple\",\"Family\",IF('Outil Recensement'!I550=\"In force\",\"Family\",IF('Outil Recensement'!I550=\"Applies\",\"Family\",IF('Outil Recensement'!I550=\"Applicable\",\"Family\",\"\"))))))))","v":""}]
[null,null,null,null,null,null,null,null,null,null,null,null,null,{"$f":"IF('Outil Recensement'!I551=\"Individuelle\",\"Single\",IF('Outil Recensement'!I551=\"Familiale\",\"Family\",IF('Outil Recensement'!I551=\"Refus\",\"Family\",IF('Outil Recensement'!I551=\"Parent seul\",\"Family\",IF('Outil Recensement'!I551=\"Couple\",\"Family\",IF('Outil Recensement'!I551=\"In force\",\"Family\",IF('Outil Recensement'!I551=\"Applies\",\"Family\",IF('Outil Recensement'!I551=\"Applicable\",\"Family\",\"\"))))))))","v":""}]
[null,null,null,null,null,null,null,null,null,null,null,null,null,{"$f":"IF('Outil Recensement'!I552=\"Individuelle\",\"Single\",IF('Outil Recensement'!I552=\"Familiale\",\"Family\",IF('Outil Recensement'!I552=\"Refus\",\"Family\",IF('Outil Recensement'!I552=\"Parent seul\",\"Family\",IF('Outil Recensement'!I552=\"Couple\",\"Family\",IF('Outil Recensement'!I552=\"In force\",\"Family\",IF('Outil Recensement'!I552=\"Applies\",\"Family\",IF('Outil Recensement'!I552=\"Applicable\",\"Family\",\"\"))))))))","v":""}]
[null,null,null,null,null,null,null,null,null,null,null,null,null,{"$f":"IF('Outil Recensement'!I553=\"Individuelle\",\"Single\",IF('Outil Recensement'!I553=\"Familiale\",\"Family\",IF('Outil Recensement'!I553=\"Refus\",\"Family\",IF('Outil Recensement'!I553=\"Parent seul\",\"Family\",IF('Outil Recensement'!I553=\"Couple\",\"Family\",IF('Outil Recensement'!I553=\"In force\",\"Family\",IF('Outil Recensement'!I553=\"Applies\",\"Family\",IF('Outil Recensement'!I553=\"Applicable\",\"Family\",\"\"))))))))","v":""}]
[null,null,null,null,null,null,null,null,null,null,null,null,null,{"$f":"IF('Outil Recensement'!I554=\"Individuelle\",\"Single\",IF('Outil Recensement'!I554=\"Familiale\",\"Family\",IF('Outil Recensement'!I554=\"Refus\",\"Family\",IF('Outil Recensement'!I554=\"Parent seul\",\"Family\",IF('Outil Recensement'!I554=\"Couple\",\"Family\",IF('Outil Recensement'!I554=\"In force\",\"Family\",IF('Outil Recensement'!I554=\"Applies\",\"Family\",IF('Outil Recensement'!I554=\"Applicable\",\"Family\",\"\"))))))))","v":""}]
[null,null,null,null,null,null,null,null,null,null,null,null,null,{"$f":"IF('Outil Recensement'!I555=\"Individuelle\",\"Single\",IF('Outil Recensement'!I555=\"Familiale\",\"Family\",IF('Outil Recensement'!I555=\"Refus\",\"Family\",IF('Outil Recensement'!I555=\"Parent seul\",\"Family\",IF('Outil Recensement'!I555=\"Couple\",\"Family\",IF('Outil Recensement'!I555=\"In force\",\"Family\",IF('Outil Recensement'!I555=\"Applies\",\"Family\",IF('Outil Recensement'!I555=\"Applicable\",\"Family\",\"\"))))))))","v":""}]
[null,null,null,null,null,null,null,null,null,null,null,null,null,{"$f":"IF('Outil Recensement'!I556=\"Individuelle\",\"Single\",IF('Outil Recensement'!I556=\"Familiale\",\"Family\",IF('Outil Recensement'!I556=\"Refus\",\"Family\",IF('Outil Recensement'!I556=\"Parent seul\",\"Family\",IF('Outil Recensement'!I556=\"Couple\",\"Family\",IF('Outil Recensement'!I556=\"In force\",\"Family\",IF('Outil Recensement'!I556=\"Applies\",\"Family\",IF('Outil Recensement'!I556=\"Applicable\",\"Family\",\"\"))))))))","v":""}]
[null,null,null,null,null,null,null,null,null,null,null,null,null,{"$f":"IF('Outil Recensement'!I557=\"Individuelle\",\"Single\",IF('Outil Recensement'!I557=\"Familiale\",\"Family\",IF('Outil Recensement'!I557=\"Refus\",\"Family\",IF('Outil Recensement'!I557=\"Parent seul\",\"Family\",IF('Outil Recensement'!I557=\"Couple\",\"Family\",IF('Outil Recensement'!I557=\"In force\",\"Family\",IF('Outil Recensement'!I557=\"Applies\",\"Family\",IF('Outil Recensement'!I557=\"Applicable\",\"Family\",\"\"))))))))","v":""}]
[null,null,null,null,null,null,null,null,null,null,null,null,null,{"$f":"IF('Outil Recensement'!I558=\"Individuelle\",\"Single\",IF('Outil Recensement'!I558=\"Familiale\",\"Family\",IF('Outil Recensement'!I558=\"Refus\",\"Family\",IF('Outil Recensement'!I558=\"Parent seul\",\"Family\",IF('Outil Recensement'!I558=\"Couple\",\"Family\",IF('Outil Recensement'!I558=\"In force\",\"Family\",IF('Outil Recensement'!I558=\"Applies\",\"Family\",IF('Outil Recensement'!I558=\"Applicable\",\"Family\",\"\"))))))))","v":""}]
[null,null,null,null,null,null,null,null,null,null,null,null,null,{"$f":"IF('Outil Recensement'!I559=\"Individuelle\",\"Single\",IF('Outil Recensement'!I559=\"Familiale\",\"Family\",IF('Outil Recensement'!I559=\"Refus\",\"Family\",IF('Outil Recensement'!I559=\"Parent seul\",\"Family\",IF('Outil Recensement'!I559=\"Couple\",\"Family\",IF('Outil Recensement'!I559=\"In force\",\"Family\",IF('Outil Recensement'!I559=\"Applies\",\"Family\",IF('Outil Recensement'!I559=\"Applicable\",\"Family\",\"\"))))))))","v":""}]
[null,null,null,null,null,null,null,null,null,null,null,null,null,{"$f":"IF('Outil Recensement'!I560=\"Individuelle\",\"Single\",IF('Outil Recensement'!I560=\"Familiale\",\"Family\",IF('Outil Recensement'!I560=\"Refus\",\"Family\",IF('Outil Recensement'!I560=\"Parent seul\",\"Family\",IF('Outil Recensement'!I560=\"Couple\",\"Family\",IF('Outil Recensement'!I560=\"In force\",\"Family\",IF('Outil Recensement'!I560=\"Applies\",\"Family\",IF('Outil Recensement'!I560=\"Applicable\",\"Family\",\"\"))))))))","v":""}]
[null,null,null,null,null,null,null,null,null,null,null,null,null,{"$f":"IF('Outil Recensement'!I561=\"Individuelle\",\"Single\",IF('Outil Recensement'!I561=\"Familiale\",\"Family\",IF('Outil Recensement'!I561=\"Refus\",\"Family\",IF('Outil Recensement'!I561=\"Parent seul\",\"Family\",IF('Outil Recensement'!I561=\"Couple\",\"Family\",IF('Outil Recensement'!I561=\"In force\",\"Family\",IF('Outil Recensement'!I561=\"Applies\",\"Family\",IF('Outil Recensement'!I561=\"Applicable\",\"Family\",\"\"))))))))","v":""}]
[null,null,null,null,null,null,null,null,null,null,null,null,null,{"$f":"IF('Outil Recensement'!I562=\"Individuelle\",\"Single\",IF('Outil Recensement'!I562=\"Familiale\",\"Family\",IF('Outil Recensement'!I562=\"Refus\",\"Family\",IF('Outil Recensement'!I562=\"Parent seul\",\"Family\",IF('Outil Recensement'!I562=\"Couple\",\"Family\",IF('Outil Recensement'!I562=\"In force\",\"Family\",IF('Outil Recensement'!I562=\"Applies\",\"Family\",IF('Outil Recensement'!I562=\"Applicable\",\"Family\",\"\"))))))))","v":""}]
[null,null,null,null,null,null,null,null,null,null,null,null,null,{"$f":"IF('Outil Recensement'!I563=\"Individuelle\",\"Single\",IF('Outil Recensement'!I563=\"Familiale\",\"Family\",IF('Outil Recensement'!I563=\"Refus\",\"Family\",IF('Outil Recensement'!I563=\"Parent seul\",\"Family\",IF('Outil Recensement'!I563=\"Couple\",\"Family\",IF('Outil Recensement'!I563=\"In force\",\"Family\",IF('Outil Recensement'!I563=\"Applies\",\"Family\",IF('Outil Recensement'!I563=\"Applicable\",\"Family\",\"\"))))))))","v":""}]
[null,null,null,null,null,null,null,null,null,null,null,null,null,{"$f":"IF('Outil Recensement'!I564=\"Individuelle\",\"Single\",IF('Outil Recensement'!I564=\"Familiale\",\"Family\",IF('Outil Recensement'!I564=\"Refus\",\"Family\",IF('Outil Recensement'!I564=\"Parent seul\",\"Family\",IF('Outil Recensement'!I564=\"Couple\",\"Family\",IF('Outil Recensement'!I564=\"In force\",\"Family\",IF('Outil Recensement'!I564=\"Applies\",\"Family\",IF('Outil Recensement'!I564=\"Applicable\",\"Family\",\"\"))))))))","v":""}]
[null,null,null,null,null,null,null,null,null,null,null,null,null,{"$f":"IF('Outil Recensement'!I565=\"Individuelle\",\"Single\",IF('Outil Recensement'!I565=\"Familiale\",\"Family\",IF('Outil Recensement'!I565=\"Refus\",\"Family\",IF('Outil Recensement'!I565=\"Parent seul\",\"Family\",IF('Outil Recensement'!I565=\"Couple\",\"Family\",IF('Outil Recensement'!I565=\"In force\",\"Family\",IF('Outil Recensement'!I565=\"Applies\",\"Family\",IF('Outil Recensement'!I565=\"Applicable\",\"Family\",\"\"))))))))","v":""}]
[null,null,null,null,null,null,null,null,null,null,null,null,null,{"$f":"IF('Outil Recensement'!I566=\"Individuelle\",\"Single\",IF('Outil Recensement'!I566=\"Familiale\",\"Family\",IF('Outil Recensement'!I566=\"Refus\",\"Family\",IF('Outil Recensement'!I566=\"Parent seul\",\"Family\",IF('Outil Recensement'!I566=\"Couple\",\"Family\",IF('Outil Recensement'!I566=\"In force\",\"Family\",IF('Outil Recensement'!I566=\"Applies\",\"Family\",IF('Outil Recensement'!I566=\"Applicable\",\"Family\",\"\"))))))))","v":""}]
[null,null,null,null,null,null,null,null,null,null,null,null,null,{"$f":"IF('Outil Recensement'!I567=\"Individuelle\",\"Single\",IF('Outil Recensement'!I567=\"Familiale\",\"Family\",IF('Outil Recensement'!I567=\"Refus\",\"Family\",IF('Outil Recensement'!I567=\"Parent seul\",\"Family\",IF('Outil Recensement'!I567=\"Couple\",\"Family\",IF('Outil Recensement'!I567=\"In force\",\"Family\",IF('Outil Recensement'!I567=\"Applies\",\"Family\",IF('Outil Recensement'!I567=\"Applicable\",\"Family\",\"\"))))))))","v":""}]
[null,null,null,null,null,null,null,null,null,null,null,null,null,{"$f":"IF('Outil Recensement'!I568=\"Individuelle\",\"Single\",IF('Outil Recensement'!I568=\"Familiale\",\"Family\",IF('Outil Recensement'!I568=\"Refus\",\"Family\",IF('Outil Recensement'!I568=\"Parent seul\",\"Family\",IF('Outil Recensement'!I568=\"Couple\",\"Family\",IF('Outil Recensement'!I568=\"In force\",\"Family\",IF('Outil Recensement'!I568=\"Applies\",\"Family\",IF('Outil Recensement'!I568=\"Applicable\",\"Family\",\"\"))))))))","v":""}]
[null,null,null,null,null,null,null,null,null,null,null,null,null,{"$f":"IF('Outil Recensement'!I569=\"Individuelle\",\"Single\",IF('Outil Recensement'!I569=\"Familiale\",\"Family\",IF('Outil Recensement'!I569=\"Refus\",\"Family\",IF('Outil Recensement'!I569=\"Parent seul\",\"Family\",IF('Outil Recensement'!I569=\"Couple\",\"Family\",IF('Outil Recensement'!I569=\"In force\",\"Family\",IF('Outil Recensement'!I569=\"Applies\",\"Family\",IF('Outil Recensement'!I569=\"Applicable\",\"Family\",\"\"))))))))","v":""}]
[null,null,null,null,null,null,null,null,null,null,null,null,null,{"$f":"IF('Outil Recensement'!I570=\"Individuelle\",\"Single\",IF('Outil Recensement'!I570=\"Familiale\",\"Family\",IF('Outil Recensement'!I570=\"Refus\",\"Family\",IF('Outil Recensement'!I570=\"Parent seul\",\"Family\",IF('Outil Recensement'!I570=\"Couple\",\"Family\",IF('Outil Recensement'!I570=\"In force\",\"Family\",IF('Outil Recensement'!I570=\"Applies\",\"Family\",IF('Outil Recensement'!I570=\"Applicable\",\"Family\",\"\"))))))))","v":""}]
[null,null,null,null,null,null,null,null,null,null,null,null,null,{"$f":"IF('Outil Recensement'!I571=\"Individuelle\",\"Single\",IF('Outil Recensement'!I571=\"Familiale\",\"Family\",IF('Outil Recensement'!I571=\"Refus\",\"Family\",IF('Outil Recensement'!I571=\"Parent seul\",\"Family\",IF('Outil Recensement'!I571=\"Couple\",\"Family\",IF('Outil Recensement'!I571=\"In force\",\"Family\",IF('Outil Recensement'!I571=\"Applies\",\"Family\",IF('Outil Recensement'!I571=\"Applicable\",\"Family\",\"\"))))))))","v":""}]
[null,null,null,null,null,null,null,null,null,null,null,null,null,{"$f":"IF('Outil Recensement'!I572=\"Individuelle\",\"Single\",IF('Outil Recensement'!I572=\"Familiale\",\"Family\",IF('Outil Recensement'!I572=\"Refus\",\"Family\",IF('Outil Recensement'!I572=\"Parent seul\",\"Family\",IF('Outil Recensement'!I572=\"Couple\",\"Family\",IF('Outil Recensement'!I572=\"In force\",\"Family\",IF('Outil Recensement'!I572=\"Applies\",\"Family\",IF('Outil Recensement'!I572=\"Applicable\",\"Family\",\"\"))))))))","v":""}]
[null,null,null,null,null,null,null,null,null,null,null,null,null,{"$f":"IF('Outil Recensement'!I573=\"Individuelle\",\"Single\",IF('Outil Recensement'!I573=\"Familiale\",\"Family\",IF('Outil Recensement'!I573=\"Refus\",\"Family\",IF('Outil Recensement'!I573=\"Parent seul\",\"Family\",IF('Outil Recensement'!I573=\"Couple\",\"Family\",IF('Outil Recensement'!I573=\"In force\",\"Family\",IF('Outil Recensement'!I573=\"Applies\",\"Family\",IF('Outil Recensement'!I573=\"Applicable\",\"Family\",\"\"))))))))","v":""}]
[null,null,null,null,null,null,null,null,null,null,null,null,null,{"$f":"IF('Outil Recensement'!I574=\"Individuelle\",\"Single\",IF('Outil Recensement'!I574=\"Familiale\",\"Family\",IF('Outil Recensement'!I574=\"Refus\",\"Family\",IF('Outil Recensement'!I574=\"Parent seul\",\"Family\",IF('Outil Recensement'!I574=\"Couple\",\"Family\",IF('Outil Recensement'!I574=\"In force\",\"Family\",IF('Outil Recensement'!I574=\"Applies\",\"Family\",IF('Outil Recensement'!I574=\"Applicable\",\"Family\",\"\"))))))))","v":""}]
[null,null,null,null,null,null,null,null,null,null,null,null,null,{"$f":"IF('Outil Recensement'!I575=\"Individuelle\",\"Single\",IF('Outil Recensement'!I575=\"Familiale\",\"Family\",IF('Outil Recensement'!I575=\"Refus\",\"Family\",IF('Outil Recensement'!I575=\"Parent seul\",\"Family\",IF('Outil Recensement'!I575=\"Couple\",\"Family\",IF('Outil Recensement'!I575=\"In force\",\"Family\",IF('Outil Recensement'!I575=\"Applies\",\"Family\",IF('Outil Recensement'!I575=\"Applicable\",\"Family\",\"\"))))))))","v":""}]
[null,null,null,null,null,null,null,null,null,null,null,null,null,{"$f":"IF('Outil Recensement'!I576=\"Individuelle\",\"Single\",IF('Outil Recensement'!I576=\"Familiale\",\"Family\",IF('Outil Recensement'!I576=\"Refus\",\"Family\",IF('Outil Recensement'!I576=\"Parent seul\",\"Family\",IF('Outil Recensement'!I576=\"Couple\",\"Family\",IF('Outil Recensement'!I576=\"In force\",\"Family\",IF('Outil Recensement'!I576=\"Applies\",\"Family\",IF('Outil Recensement'!I576=\"Applicable\",\"Family\",\"\"))))))))","v":""}]
[null,null,null,null,null,null,null,null,null,null,null,null,null,{"$f":"IF('Outil Recensement'!I577=\"Individuelle\",\"Single\",IF('Outil Recensement'!I577=\"Familiale\",\"Family\",IF('Outil Recensement'!I577=\"Refus\",\"Family\",IF('Outil Recensement'!I577=\"Parent seul\",\"Family\",IF('Outil Recensement'!I577=\"Couple\",\"Family\",IF('Outil Recensement'!I577=\"In force\",\"Family\",IF('Outil Recensement'!I577=\"Applies\",\"Family\",IF('Outil Recensement'!I577=\"Applicable\",\"Family\",\"\"))))))))","v":""}]
[null,null,null,null,null,null,null,null,null,null,null,null,null,{"$f":"IF('Outil Recensement'!I578=\"Individuelle\",\"Single\",IF('Outil Recensement'!I578=\"Familiale\",\"Family\",IF('Outil Recensement'!I578=\"Refus\",\"Family\",IF('Outil Recensement'!I578=\"Parent seul\",\"Family\",IF('Outil Recensement'!I578=\"Couple\",\"Family\",IF('Outil Recensement'!I578=\"In force\",\"Family\",IF('Outil Recensement'!I578=\"Applies\",\"Family\",IF('Outil Recensement'!I578=\"Applicable\",\"Family\",\"\"))))))))","v":""}]
[null,null,null,null,null,null,null,null,null,null,null,null,null,{"$f":"IF('Outil Recensement'!I579=\"Individuelle\",\"Single\",IF('Outil Recensement'!I579=\"Familiale\",\"Family\",IF('Outil Recensement'!I579=\"Refus\",\"Family\",IF('Outil Recensement'!I579=\"Parent seul\",\"Family\",IF('Outil Recensement'!I579=\"Couple\",\"Family\",IF('Outil Recensement'!I579=\"In force\",\"Family\",IF('Outil Recensement'!I579=\"Applies\",\"Family\",IF('Outil Recensement'!I579=\"Applicable\",\"Family\",\"\"))))))))","v":""}]
[null,null,null,null,null,null,null,null,null,null,null,null,null,{"$f":"IF('Outil Recensement'!I580=\"Individuelle\",\"Single\",IF('Outil Recensement'!I580=\"Familiale\",\"Family\",IF('Outil Recensement'!I580=\"Refus\",\"Family\",IF('Outil Recensement'!I580=\"Parent seul\",\"Family\",IF('Outil Recensement'!I580=\"Couple\",\"Family\",IF('Outil Recensement'!I580=\"In force\",\"Family\",IF('Outil Recensement'!I580=\"Applies\",\"Family\",IF('Outil Recensement'!I580=\"Applicable\",\"Family\",\"\"))))))))","v":""}]
[null,null,null,null,null,null,null,null,null,null,null,null,null,{"$f":"IF('Outil Recensement'!I581=\"Individuelle\",\"Single\",IF('Outil Recensement'!I581=\"Familiale\",\"Family\",IF('Outil Recensement'!I581=\"Refus\",\"Family\",IF('Outil Recensement'!I581=\"Parent seul\",\"Family\",IF('Outil Recensement'!I581=\"Couple\",\"Family\",IF('Outil Recensement'!I581=\"In force\",\"Family\",IF('Outil Recensement'!I581=\"Applies\",\"Family\",IF('Outil Recensement'!I581=\"Applicable\",\"Family\",\"\"))))))))","v":""}]
[null,null,null,null,null,null,null,null,null,null,null,null,null,{"$f":"IF('Outil Recensement'!I582=\"Individuelle\",\"Single\",IF('Outil Recensement'!I582=\"Familiale\",\"Family\",IF('Outil Recensement'!I582=\"Refus\",\"Family\",IF('Outil Recensement'!I582=\"Parent seul\",\"Family\",IF('Outil Recensement'!I582=\"Couple\",\"Family\",IF('Outil Recensement'!I582=\"In force\",\"Family\",IF('Outil Recensement'!I582=\"Applies\",\"Family\",IF('Outil Recensement'!I582=\"Applicable\",\"Family\",\"\"))))))))","v":""}]
[null,null,null,null,null,null,null,null,null,null,null,null,null,{"$f":"IF('Outil Recensement'!I583=\"Individuelle\",\"Single\",IF('Outil Recensement'!I583=\"Familiale\",\"Family\",IF('Outil Recensement'!I583=\"Refus\",\"Family\",IF('Outil Recensement'!I583=\"Parent seul\",\"Family\",IF('Outil Recensement'!I583=\"Couple\",\"Family\",IF('Outil Recensement'!I583=\"In force\",\"Family\",IF('Outil Recensement'!I583=\"Applies\",\"Family\",IF('Outil Recensement'!I583=\"Applicable\",\"Family\",\"\"))))))))","v":""}]
[null,null,null,null,null,null,null,null,null,null,null,null,null,{"$f":"IF('Outil Recensement'!I584=\"Individuelle\",\"Single\",IF('Outil Recensement'!I584=\"Familiale\",\"Family\",IF('Outil Recensement'!I584=\"Refus\",\"Family\",IF('Outil Recensement'!I584=\"Parent seul\",\"Family\",IF('Outil Recensement'!I584=\"Couple\",\"Family\",IF('Outil Recensement'!I584=\"In force\",\"Family\",IF('Outil Recensement'!I584=\"Applies\",\"Family\",IF('Outil Recensement'!I584=\"Applicable\",\"Family\",\"\"))))))))","v":""}]
[null,null,null,null,null,null,null,null,null,null,null,null,null,{"$f":"IF('Outil Recensement'!I585=\"Individuelle\",\"Single\",IF('Outil Recensement'!I585=\"Familiale\",\"Family\",IF('Outil Recensement'!I585=\"Refus\",\"Family\",IF('Outil Recensement'!I585=\"Parent seul\",\"Family\",IF('Outil Recensement'!I585=\"Couple\",\"Family\",IF('Outil Recensement'!I585=\"In force\",\"Family\",IF('Outil Recensement'!I585=\"Applies\",\"Family\",IF('Outil Recensement'!I585=\"Applicable\",\"Family\",\"\"))))))))","v":""}]
[null,null,null,null,null,null,null,null,null,null,null,null,null,{"$f":"IF('Outil Recensement'!I586=\"Individuelle\",\"Single\",IF('Outil Recensement'!I586=\"Familiale\",\"Family\",IF('Outil Recensement'!I586=\"Refus\",\"Family\",IF('Outil Recensement'!I586=\"Parent seul\",\"Family\",IF('Outil Recensement'!I586=\"Couple\",\"Family\",IF('Outil Recensement'!I586=\"In force\",\"Family\",IF('Outil Recensement'!I586=\"Applies\",\"Family\",IF('Outil Recensement'!I586=\"Applicable\",\"Family\",\"\"))))))))","v":""}]
[null,null,null,null,null,null,null,null,null,null,null,null,null,{"$f":"IF('Outil Recensement'!I587=\"Individuelle\",\"Single\",IF('Outil Recensement'!I587=\"Familiale\",\"Family\",IF('Outil Recensement'!I587=\"Refus\",\"Family\",IF('Outil Recensement'!I587=\"Parent seul\",\"Family\",IF('Outil Recensement'!I587=\"Couple\",\"Family\",IF('Outil Recensement'!I587=\"In force\",\"Family\",IF('Outil Recensement'!I587=\"Applies\",\"Family\",IF('Outil Recensement'!I587=\"Applicable\",\"Family\",\"\"))))))))","v":""}]
[null,null,null,null,null,null,null,null,null,null,null,null,null,{"$f":"IF('Outil Recensement'!I588=\"Individuelle\",\"Single\",IF('Outil Recensement'!I588=\"Familiale\",\"Family\",IF('Outil Recensement'!I588=\"Refus\",\"Family\",IF('Outil Recensement'!I588=\"Parent seul\",\"Family\",IF('Outil Recensement'!I588=\"Couple\",\"Family\",IF('Outil Recensement'!I588=\"In force\",\"Family\",IF('Outil Recensement'!I588=\"Applies\",\"Family\",IF('Outil Recensement'!I588=\"Applicable\",\"Family\",\"\"))))))))","v":""}]
[null,null,null,null,null,null,null,null,null,null,null,null,null,{"$f":"IF('Outil Recensement'!I589=\"Individuelle\",\"Single\",IF('Outil Recensement'!I589=\"Familiale\",\"Family\",IF('Outil Recensement'!I589=\"Refus\",\"Family\",IF('Outil Recensement'!I589=\"Parent seul\",\"Family\",IF('Outil Recensement'!I589=\"Couple\",\"Family\",IF('Outil Recensement'!I589=\"In force\",\"Family\",IF('Outil Recensement'!I589=\"Applies\",\"Family\",IF('Outil Recensement'!I589=\"Applicable\",\"Family\",\"\"))))))))","v":""}]
[null,null,null,null,null,null,null,null,null,null,null,null,null,{"$f":"IF('Outil Recensement'!I590=\"Individuelle\",\"Single\",IF('Outil Recensement'!I590=\"Familiale\",\"Family\",IF('Outil Recensement'!I590=\"Refus\",\"Family\",IF('Outil Recensement'!I590=\"Parent seul\",\"Family\",IF('Outil Recensement'!I590=\"Couple\",\"Family\",IF('Outil Recensement'!I590=\"In force\",\"Family\",IF('Outil Recensement'!I590=\"Applies\",\"Family\",IF('Outil Recensement'!I590=\"Applicable\",\"Family\",\"\"))))))))","v":""}]
[null,null,null,null,null,null,null,null,null,null,null,null,null,{"$f":"IF('Outil Recensement'!I591=\"Individuelle\",\"Single\",IF('Outil Recensement'!I591=\"Familiale\",\"Family\",IF('Outil Recensement'!I591=\"Refus\",\"Family\",IF('Outil Recensement'!I591=\"Parent seul\",\"Family\",IF('Outil Recensement'!I591=\"Couple\",\"Family\",IF('Outil Recensement'!I591=\"In force\",\"Family\",IF('Outil Recensement'!I591=\"Applies\",\"Family\",IF('Outil Recensement'!I591=\"Applicable\",\"Family\",\"\"))))))))","v":""}]
[null,null,null,null,null,null,null,null,null,null,null,null,null,{"$f":"IF('Outil Recensement'!I592=\"Individuelle\",\"Single\",IF('Outil Recensement'!I592=\"Familiale\",\"Family\",IF('Outil Recensement'!I592=\"Refus\",\"Family\",IF('Outil Recensement'!I592=\"Parent seul\",\"Family\",IF('Outil Recensement'!I592=\"Couple\",\"Family\",IF('Outil Recensement'!I592=\"In force\",\"Family\",IF('Outil Recensement'!I592=\"Applies\",\"Family\",IF('Outil Recensement'!I592=\"Applicable\",\"Family\",\"\"))))))))","v":""}]
[null,null,null,null,null,null,null,null,null,null,null,null,null,{"$f":"IF('Outil Recensement'!I593=\"Individuelle\",\"Single\",IF('Outil Recensement'!I593=\"Familiale\",\"Family\",IF('Outil Recensement'!I593=\"Refus\",\"Family\",IF('Outil Recensement'!I593=\"Parent seul\",\"Family\",IF('Outil Recensement'!I593=\"Couple\",\"Family\",IF('Outil Recensement'!I593=\"In force\",\"Family\",IF('Outil Recensement'!I593=\"Applies\",\"Family\",IF('Outil Recensement'!I593=\"Applicable\",\"Family\",\"\"))))))))","v":""}]
[null,null,null,null,null,null,null,null,null,null,null,null,null,{"$f":"IF('Outil Recensement'!I594=\"Individuelle\",\"Single\",IF('Outil Recensement'!I594=\"Familiale\",\"Family\",IF('Outil Recensement'!I594=\"Refus\",\"Family\",IF('Outil Recensement'!I594=\"Parent seul\",\"Family\",IF('Outil Recensement'!I594=\"Couple\",\"Family\",IF('Outil Recensement'!I594=\"In force\",\"Family\",IF('Outil Recensement'!I594=\"Applies\",\"Family\",IF('Outil Recensement'!I594=\"Applicable\",\"Family\",\"\"))))))))","v":""}]
[null,null,null,null,null,null,null,null,null,null,null,null,null,{"$f":"IF('Outil Recensement'!I595=\"Individuelle\",\"Single\",IF('Outil Recensement'!I595=\"Familiale\",\"Family\",IF('Outil Recensement'!I595=\"Refus\",\"Family\",IF('Outil Recensement'!I595=\"Parent seul\",\"Family\",IF('Outil Recensement'!I595=\"Couple\",\"Family\",IF('Outil Recensement'!I595=\"In force\",\"Family\",IF('Outil Recensement'!I595=\"Applies\",\"Family\",IF('Outil Recensement'!I595=\"Applicable\",\"Family\",\"\"))))))))","v":""}]
[null,null,null,null,null,null,null,null,null,null,null,null,null,{"$f":"IF('Outil Recensement'!I596=\"Individuelle\",\"Single\",IF('Outil Recensement'!I596=\"Familiale\",\"Family\",IF('Outil Recensement'!I596=\"Refus\",\"Family\",IF('Outil Recensement'!I596=\"Parent seul\",\"Family\",IF('Outil Recensement'!I596=\"Couple\",\"Family\",IF('Outil Recensement'!I596=\"In force\",\"Family\",IF('Outil Recensement'!I596=\"Applies\",\"Family\",IF('Outil Recensement'!I596=\"Applicable\",\"Family\",\"\"))))))))","v":""}]
[null,null,null,null,null,null,null,null,null,null,null,null,null,{"$f":"IF('Outil Recensement'!I597=\"Individuelle\",\"Single\",IF('Outil Recensement'!I597=\"Familiale\",\"Family\",IF('Outil Recensement'!I597=\"Refus\",\"Family\",IF('Outil Recensement'!I597=\"Parent seul\",\"Family\",IF('Outil Recensement'!I597=\"Couple\",\"Family\",IF('Outil Recensement'!I597=\"In force\",\"Family\",IF('Outil Recensement'!I597=\"Applies\",\"Family\",IF('Outil Recensement'!I597=\"Applicable\",\"Family\",\"\"))))))))","v":""}]
[null,null,null,null,null,null,null,null,null,null,null,null,null,{"$f":"IF('Outil Recensement'!I598=\"Individuelle\",\"Single\",IF('Outil Recensement'!I598=\"Familiale\",\"Family\",IF('Outil Recensement'!I598=\"Refus\",\"Family\",IF('Outil Recensement'!I598=\"Parent seul\",\"Family\",IF('Outil Recensement'!I598=\"Couple\",\"Family\",IF('Outil Recensement'!I598=\"In force\",\"Family\",IF('Outil Recensement'!I598=\"Applies\",\"Family\",IF('Outil Recensement'!I598=\"Applicable\",\"Family\",\"\"))))))))","v":""}]
[null,null,null,null,null,null,null,null,null,null,null,null,null,{"$f":"IF('Outil Recensement'!I599=\"Individuelle\",\"Single\",IF('Outil Recensement'!I599=\"Familiale\",\"Family\",IF('Outil Recensement'!I599=\"Refus\",\"Family\",IF('Outil Recensement'!I599=\"Parent seul\",\"Family\",IF('Outil Recensement'!I599=\"Couple\",\"Family\",IF('Outil Recensement'!I599=\"In force\",\"Family\",IF('Outil Recensement'!I599=\"Applies\",\"Family\",IF('Outil Recensement'!I599=\"Applicable\",\"Family\",\"\"))))))))","v":""}]
[null,null,null,null,null,null,null,null,null,null,null,null,null,{"$f":"IF('Outil Recensement'!I600=\"Individuelle\",\"Single\",IF('Outil Recensement'!I600=\"Familiale\",\"Family\",IF('Outil Recensement'!I600=\"Refus\",\"Family\",IF('Outil Recensement'!I600=\"Parent seul\",\"Family\",IF('Outil Recensement'!I600=\"Couple\",\"Family\",IF('Outil Recensement'!I600=\"In force\",\"Family\",IF('Outil Recensement'!I600=\"Applies\",\"Family\",IF('Outil Recensement'!I600=\"Applicable\",\"Family\",\"\"))))))))","v":""}]
[null,null,null,null,null,null,null,null,null,null,null,null,null,{"$f":"IF('Outil Recensement'!I601=\"Individuelle\",\"Single\",IF('Outil Recensement'!I601=\"Familiale\",\"Family\",IF('Outil Recensement'!I601=\"Refus\",\"Family\",IF('Outil Recensement'!I601=\"Parent seul\",\"Family\",IF('Outil Recensement'!I601=\"Couple\",\"Family\",IF('Outil Recensement'!I601=\"In force\",\"Family\",IF('Outil Recensement'!I601=\"Applies\",\"Family\",IF('Outil Recensement'!I601=\"Applicable\",\"Family\",\"\"))))))))","v":""}]
[null,null,null,null,null,null,null,null,null,null,null,null,null,{"$f":"IF('Outil Recensement'!I602=\"Individuelle\",\"Single\",IF('Outil Recensement'!I602=\"Familiale\",\"Family\",IF('Outil Recensement'!I602=\"Refus\",\"Family\",IF('Outil Recensement'!I602=\"Parent seul\",\"Family\",IF('Outil Recensement'!I602=\"Couple\",\"Family\",IF('Outil Recensement'!I602=\"In force\",\"Family\",IF('Outil Recensement'!I602=\"Applies\",\"Family\",IF('Outil Recensement'!I602=\"Applicable\",\"Family\",\"\"))))))))","v":""}]
[null,null,null,null,null,null,null,null,null,null,null,null,null,{"$f":"IF('Outil Recensement'!I603=\"Individuelle\",\"Single\",IF('Outil Recensement'!I603=\"Familiale\",\"Family\",IF('Outil Recensement'!I603=\"Refus\",\"Family\",IF('Outil Recensement'!I603=\"Parent seul\",\"Family\",IF('Outil Recensement'!I603=\"Couple\",\"Family\",IF('Outil Recensement'!I603=\"In force\",\"Family\",IF('Outil Recensement'!I603=\"Applies\",\"Family\",IF('Outil Recensement'!I603=\"Applicable\",\"Family\",\"\"))))))))","v":""}]
[null,null,null,null,null,null,null,null,null,null,null,null,null,{"$f":"IF('Outil Recensement'!I604=\"Individuelle\",\"Single\",IF('Outil Recensement'!I604=\"Familiale\",\"Family\",IF('Outil Recensement'!I604=\"Refus\",\"Family\",IF('Outil Recensement'!I604=\"Parent seul\",\"Family\",IF('Outil Recensement'!I604=\"Couple\",\"Family\",IF('Outil Recensement'!I604=\"In force\",\"Family\",IF('Outil Recensement'!I604=\"Applies\",\"Family\",IF('Outil Recensement'!I604=\"Applicable\",\"Family\",\"\"))))))))","v":""}]
[null,null,null,null,null,null,null,null,null,null,null,null,null,{"$f":"IF('Outil Recensement'!I605=\"Individuelle\",\"Single\",IF('Outil Recensement'!I605=\"Familiale\",\"Family\",IF('Outil Recensement'!I605=\"Refus\",\"Family\",IF('Outil Recensement'!I605=\"Parent seul\",\"Family\",IF('Outil Recensement'!I605=\"Couple\",\"Family\",IF('Outil Recensement'!I605=\"In force\",\"Family\",IF('Outil Recensement'!I605=\"Applies\",\"Family\",IF('Outil Recensement'!I605=\"Applicable\",\"Family\",\"\"))))))))","v":""}]
[null,null,null,null,null,null,null,null,null,null,null,null,null,{"$f":"IF('Outil Recensement'!I606=\"Individuelle\",\"Single\",IF('Outil Recensement'!I606=\"Familiale\",\"Family\",IF('Outil Recensement'!I606=\"Refus\",\"Family\",IF('Outil Recensement'!I606=\"Parent seul\",\"Family\",IF('Outil Recensement'!I606=\"Couple\",\"Family\",IF('Outil Recensement'!I606=\"In force\",\"Family\",IF('Outil Recensement'!I606=\"Applies\",\"Family\",IF('Outil Recensement'!I606=\"Applicable\",\"Family\",\"\"))))))))","v":""}]
[null,null,null,null,null,null,null,null,null,null,null,null,null,{"$f":"IF('Outil Recensement'!I607=\"Individuelle\",\"Single\",IF('Outil Recensement'!I607=\"Familiale\",\"Family\",IF('Outil Recensement'!I607=\"Refus\",\"Family\",IF('Outil Recensement'!I607=\"Parent seul\",\"Family\",IF('Outil Recensement'!I607=\"Couple\",\"Family\",IF('Outil Recensement'!I607=\"In force\",\"Family\",IF('Outil Recensement'!I607=\"Applies\",\"Family\",IF('Outil Recensement'!I607=\"Applicable\",\"Family\",\"\"))))))))","v":""}]
[null,null,null,null,null,null,null,null,null,null,null,null,null,{"$f":"IF('Outil Recensement'!I608=\"Individuelle\",\"Single\",IF('Outil Recensement'!I608=\"Familiale\",\"Family\",IF('Outil Recensement'!I608=\"Refus\",\"Family\",IF('Outil Recensement'!I608=\"Parent seul\",\"Family\",IF('Outil Recensement'!I608=\"Couple\",\"Family\",IF('Outil Recensement'!I608=\"In force\",\"Family\",IF('Outil Recensement'!I608=\"Applies\",\"Family\",IF('Outil Recensement'!I608=\"Applicable\",\"Family\",\"\"))))))))","v":""}]
[null,null,null,null,null,null,null,null,null,null,null,null,null,{"$f":"IF('Outil Recensement'!I609=\"Individuelle\",\"Single\",IF('Outil Recensement'!I609=\"Familiale\",\"Family\",IF('Outil Recensement'!I609=\"Refus\",\"Family\",IF('Outil Recensement'!I609=\"Parent seul\",\"Family\",IF('Outil Recensement'!I609=\"Couple\",\"Family\",IF('Outil Recensement'!I609=\"In force\",\"Family\",IF('Outil Recensement'!I609=\"Applies\",\"Family\",IF('Outil Recensement'!I609=\"Applicable\",\"Family\",\"\"))))))))","v":""}]
[null,null,null,null,null,null,null,null,null,null,null,null,null,{"$f":"IF('Outil Recensement'!I610=\"Individuelle\",\"Single\",IF('Outil Recensement'!I610=\"Familiale\",\"Family\",IF('Outil Recensement'!I610=\"Refus\",\"Family\",IF('Outil Recensement'!I610=\"Parent seul\",\"Family\",IF('Outil Recensement'!I610=\"Couple\",\"Family\",IF('Outil Recensement'!I610=\"In force\",\"Family\",IF('Outil Recensement'!I610=\"Applies\",\"Family\",IF('Outil Recensement'!I610=\"Applicable\",\"Family\",\"\"))))))))","v":""}]
[null,null,null,null,null,null,null,null,null,null,null,null,null,{"$f":"IF('Outil Recensement'!I611=\"Individuelle\",\"Single\",IF('Outil Recensement'!I611=\"Familiale\",\"Family\",IF('Outil Recensement'!I611=\"Refus\",\"Family\",IF('Outil Recensement'!I611=\"Parent seul\",\"Family\",IF('Outil Recensement'!I611=\"Couple\",\"Family\",IF('Outil Recensement'!I611=\"In force\",\"Family\",IF('Outil Recensement'!I611=\"Applies\",\"Family\",IF('Outil Recensement'!I611=\"Applicable\",\"Family\",\"\"))))))))","v":""}]
[null,null,null,null,null,null,null,null,null,null,null,null,null,{"$f":"IF('Outil Recensement'!I612=\"Individuelle\",\"Single\",IF('Outil Recensement'!I612=\"Familiale\",\"Family\",IF('Outil Recensement'!I612=\"Refus\",\"Family\",IF('Outil Recensement'!I612=\"Parent seul\",\"Family\",IF('Outil Recensement'!I612=\"Couple\",\"Family\",IF('Outil Recensement'!I612=\"In force\",\"Family\",IF('Outil Recensement'!I612=\"Applies\",\"Family\",IF('Outil Recensement'!I612=\"Applicable\",\"Family\",\"\"))))))))","v":""}]
[null,null,null,null,null,null,null,null,null,null,null,null,null,{"$f":"IF('Outil Recensement'!I613=\"Individuelle\",\"Single\",IF('Outil Recensement'!I613=\"Familiale\",\"Family\",IF('Outil Recensement'!I613=\"Refus\",\"Family\",IF('Outil Recensement'!I613=\"Parent seul\",\"Family\",IF('Outil Recensement'!I613=\"Couple\",\"Family\",IF('Outil Recensement'!I613=\"In force\",\"Family\",IF('Outil Recensement'!I613=\"Applies\",\"Family\",IF('Outil Recensement'!I613=\"Applicable\",\"Family\",\"\"))))))))","v":""}]
[null,null,null,null,null,null,null,null,null,null,null,null,null,{"$f":"IF('Outil Recensement'!I614=\"Individuelle\",\"Single\",IF('Outil Recensement'!I614=\"Familiale\",\"Family\",IF('Outil Recensement'!I614=\"Refus\",\"Family\",IF('Outil Recensement'!I614=\"Parent seul\",\"Family\",IF('Outil Recensement'!I614=\"Couple\",\"Family\",IF('Outil Recensement'!I614=\"In force\",\"Family\",IF('Outil Recensement'!I614=\"Applies\",\"Family\",IF('Outil Recensement'!I614=\"Applicable\",\"Family\",\"\"))))))))","v":""}]
[null,null,null,null,null,null,null,null,null,null,null,null,null,{"$f":"IF('Outil Recensement'!I615=\"Individuelle\",\"Single\",IF('Outil Recensement'!I615=\"Familiale\",\"Family\",IF('Outil Recensement'!I615=\"Refus\",\"Family\",IF('Outil Recensement'!I615=\"Parent seul\",\"Family\",IF('Outil Recensement'!I615=\"Couple\",\"Family\",IF('Outil Recensement'!I615=\"In force\",\"Family\",IF('Outil Recensement'!I615=\"Applies\",\"Family\",IF('Outil Recensement'!I615=\"Applicable\",\"Family\",\"\"))))))))","v":""}]
[null,null,null,null,null,null,null,null,null,null,null,null,null,{"$f":"IF('Outil Recensement'!I616=\"Individuelle\",\"Single\",IF('Outil Recensement'!I616=\"Familiale\",\"Family\",IF('Outil Recensement'!I616=\"Refus\",\"Family\",IF('Outil Recensement'!I616=\"Parent seul\",\"Family\",IF('Outil Recensement'!I616=\"Couple\",\"Family\",IF('Outil Recensement'!I616=\"In force\",\"Family\",IF('Outil Recensement'!I616=\"Applies\",\"Family\",IF('Outil Recensement'!I616=\"Applicable\",\"Family\",\"\"))))))))","v":""}]
[null,null,null,null,null,null,null,null,null,null,null,null,null,{"$f":"IF('Outil Recensement'!I617=\"Individuelle\",\"Single\",IF('Outil Recensement'!I617=\"Familiale\",\"Family\",IF('Outil Recensement'!I617=\"Refus\",\"Family\",IF('Outil Recensement'!I617=\"Parent seul\",\"Family\",IF('Outil Recensement'!I617=\"Couple\",\"Family\",IF('Outil Recensement'!I617=\"In force\",\"Family\",IF('Outil Recensement'!I617=\"Applies\",\"Family\",IF('Outil Recensement'!I617=\"Applicable\",\"Family\",\"\"))))))))","v":""}]
[null,null,null,null,null,null,null,null,null,null,null,null,null,{"$f":"IF('Outil Recensement'!I618=\"Individuelle\",\"Single\",IF('Outil Recensement'!I618=\"Familiale\",\"Family\",IF('Outil Recensement'!I618=\"Refus\",\"Family\",IF('Outil Recensement'!I618=\"Parent seul\",\"Family\",IF('Outil Recensement'!I618=\"Couple\",\"Family\",IF('Outil Recensement'!I618=\"In force\",\"Family\",IF('Outil Recensement'!I618=\"Applies\",\"Family\",IF('Outil Recensement'!I618=\"Applicable\",\"Family\",\"\"))))))))","v":""}]
[null,null,null,null,null,null,null,null,null,null,null,null,null,{"$f":"IF('Outil Recensement'!I619=\"Individuelle\",\"Single\",IF('Outil Recensement'!I619=\"Familiale\",\"Family\",IF('Outil Recensement'!I619=\"Refus\",\"Family\",IF('Outil Recensement'!I619=\"Parent seul\",\"Family\",IF('Outil Recensement'!I619=\"Couple\",\"Family\",IF('Outil Recensement'!I619=\"In force\",\"Family\",IF('Outil Recensement'!I619=\"Applies\",\"Family\",IF('Outil Recensement'!I619=\"Applicable\",\"Family\",\"\"))))))))","v":""}]
[null,null,null,null,null,null,null,null,null,null,null,null,null,{"$f":"IF('Outil Recensement'!I620=\"Individuelle\",\"Single\",IF('Outil Recensement'!I620=\"Familiale\",\"Family\",IF('Outil Recensement'!I620=\"Refus\",\"Family\",IF('Outil Recensement'!I620=\"Parent seul\",\"Family\",IF('Outil Recensement'!I620=\"Couple\",\"Family\",IF('Outil Recensement'!I620=\"In force\",\"Family\",IF('Outil Recensement'!I620=\"Applies\",\"Family\",IF('Outil Recensement'!I620=\"Applicable\",\"Family\",\"\"))))))))","v":""}]
[null,null,null,null,null,null,null,null,null,null,null,null,null,{"$f":"IF('Outil Recensement'!I621=\"Individuelle\",\"Single\",IF('Outil Recensement'!I621=\"Familiale\",\"Family\",IF('Outil Recensement'!I621=\"Refus\",\"Family\",IF('Outil Recensement'!I621=\"Parent seul\",\"Family\",IF('Outil Recensement'!I621=\"Couple\",\"Family\",IF('Outil Recensement'!I621=\"In force\",\"Family\",IF('Outil Recensement'!I621=\"Applies\",\"Family\",IF('Outil Recensement'!I621=\"Applicable\",\"Family\",\"\"))))))))","v":""}]
[null,null,null,null,null,null,null,null,null,null,null,null,null,{"$f":"IF('Outil Recensement'!I622=\"Individuelle\",\"Single\",IF('Outil Recensement'!I622=\"Familiale\",\"Family\",IF('Outil Recensement'!I622=\"Refus\",\"Family\",IF('Outil Recensement'!I622=\"Parent seul\",\"Family\",IF('Outil Recensement'!I622=\"Couple\",\"Family\",IF('Outil Recensement'!I622=\"In force\",\"Family\",IF('Outil Recensement'!I622=\"Applies\",\"Family\",IF('Outil Recensement'!I622=\"Applicable\",\"Family\",\"\"))))))))","v":""}]
[null,null,null,null,null,null,null,null,null,null,null,null,null,{"$f":"IF('Outil Recensement'!I623=\"Individuelle\",\"Single\",IF('Outil Recensement'!I623=\"Familiale\",\"Family\",IF('Outil Recensement'!I623=\"Refus\",\"Family\",IF('Outil Recensement'!I623=\"Parent seul\",\"Family\",IF('Outil Recensement'!I623=\"Couple\",\"Family\",IF('Outil Recensement'!I623=\"In force\",\"Family\",IF('Outil Recensement'!I623=\"Applies\",\"Family\",IF('Outil Recensement'!I623=\"Applicable\",\"Family\",\"\"))))))))","v":""}]
[null,null,null,null,null,null,null,null,null,null,null,null,null,{"$f":"IF('Outil Recensement'!I624=\"Individuelle\",\"Single\",IF('Outil Recensement'!I624=\"Familiale\",\"Family\",IF('Outil Recensement'!I624=\"Refus\",\"Family\",IF('Outil Recensement'!I624=\"Parent seul\",\"Family\",IF('Outil Recensement'!I624=\"Couple\",\"Family\",IF('Outil Recensement'!I624=\"In force\",\"Family\",IF('Outil Recensement'!I624=\"Applies\",\"Family\",IF('Outil Recensement'!I624=\"Applicable\",\"Family\",\"\"))))))))","v":""}]
[null,null,null,null,null,null,null,null,null,null,null,null,null,{"$f":"IF('Outil Recensement'!I625=\"Individuelle\",\"Single\",IF('Outil Recensement'!I625=\"Familiale\",\"Family\",IF('Outil Recensement'!I625=\"Refus\",\"Family\",IF('Outil Recensement'!I625=\"Parent seul\",\"Family\",IF('Outil Recensement'!I625=\"Couple\",\"Family\",IF('Outil Recensement'!I625=\"In force\",\"Family\",IF('Outil Recensement'!I625=\"Applies\",\"Family\",IF('Outil Recensement'!I625=\"Applicable\",\"Family\",\"\"))))))))","v":""}]
[null,null,null,null,null,null,null,null,null,null,null,null,null,{"$f":"IF('Outil Recensement'!I626=\"Individuelle\",\"Single\",IF('Outil Recensement'!I626=\"Familiale\",\"Family\",IF('Outil Recensement'!I626=\"Refus\",\"Family\",IF('Outil Recensement'!I626=\"Parent seul\",\"Family\",IF('Outil Recensement'!I626=\"Couple\",\"Family\",IF('Outil Recensement'!I626=\"In force\",\"Family\",IF('Outil Recensement'!I626=\"Applies\",\"Family\",IF('Outil Recensement'!I626=\"Applicable\",\"Family\",\"\"))))))))","v":""}]
[null,null,null,null,null,null,null,null,null,null,null,null,null,{"$f":"IF('Outil Recensement'!I627=\"Individuelle\",\"Single\",IF('Outil Recensement'!I627=\"Familiale\",\"Family\",IF('Outil Recensement'!I627=\"Refus\",\"Family\",IF('Outil Recensement'!I627=\"Parent seul\",\"Family\",IF('Outil Recensement'!I627=\"Couple\",\"Family\",IF('Outil Recensement'!I627=\"In force\",\"Family\",IF('Outil Recensement'!I627=\"Applies\",\"Family\",IF('Outil Recensement'!I627=\"Applicable\",\"Family\",\"\"))))))))","v":""}]
[null,null,null,null,null,null,null,null,null,null,null,null,null,{"$f":"IF('Outil Recensement'!I628=\"Individuelle\",\"Single\",IF('Outil Recensement'!I628=\"Familiale\",\"Family\",IF('Outil Recensement'!I628=\"Refus\",\"Family\",IF('Outil Recensement'!I628=\"Parent seul\",\"Family\",IF('Outil Recensement'!I628=\"Couple\",\"Family\",IF('Outil Recensement'!I628=\"In force\",\"Family\",IF('Outil Recensement'!I628=\"Applies\",\"Family\",IF('Outil Recensement'!I628=\"Applicable\",\"Family\",\"\"))))))))","v":""}]
[null,null,null,null,null,null,null,null,null,null,null,null,null,{"$f":"IF('Outil Recensement'!I629=\"Individuelle\",\"Single\",IF('Outil Recensement'!I629=\"Familiale\",\"Family\",IF('Outil Recensement'!I629=\"Refus\",\"Family\",IF('Outil Recensement'!I629=\"Parent seul\",\"Family\",IF('Outil Recensement'!I629=\"Couple\",\"Family\",IF('Outil Recensement'!I629=\"In force\",\"Family\",IF('Outil Recensement'!I629=\"Applies\",\"Family\",IF('Outil Recensement'!I629=\"Applicable\",\"Family\",\"\"))))))))","v":""}]
[null,null,null,null,null,null,null,null,null,null,null,null,null,{"$f":"IF('Outil Recensement'!I630=\"Individuelle\",\"Single\",IF('Outil Recensement'!I630=\"Familiale\",\"Family\",IF('Outil Recensement'!I630=\"Refus\",\"Family\",IF('Outil Recensement'!I630=\"Parent seul\",\"Family\",IF('Outil Recensement'!I630=\"Couple\",\"Family\",IF('Outil Recensement'!I630=\"In force\",\"Family\",IF('Outil Recensement'!I630=\"Applies\",\"Family\",IF('Outil Recensement'!I630=\"Applicable\",\"Family\",\"\"))))))))","v":""}]
[null,null,null,null,null,null,null,null,null,null,null,null,null,{"$f":"IF('Outil Recensement'!I631=\"Individuelle\",\"Single\",IF('Outil Recensement'!I631=\"Familiale\",\"Family\",IF('Outil Recensement'!I631=\"Refus\",\"Family\",IF('Outil Recensement'!I631=\"Parent seul\",\"Family\",IF('Outil Recensement'!I631=\"Couple\",\"Family\",IF('Outil Recensement'!I631=\"In force\",\"Family\",IF('Outil Recensement'!I631=\"Applies\",\"Family\",IF('Outil Recensement'!I631=\"Applicable\",\"Family\",\"\"))))))))","v":""}]
[null,null,null,null,null,null,null,null,null,null,null,null,null,{"$f":"IF('Outil Recensement'!I632=\"Individuelle\",\"Single\",IF('Outil Recensement'!I632=\"Familiale\",\"Family\",IF('Outil Recensement'!I632=\"Refus\",\"Family\",IF('Outil Recensement'!I632=\"Parent seul\",\"Family\",IF('Outil Recensement'!I632=\"Couple\",\"Family\",IF('Outil Recensement'!I632=\"In force\",\"Family\",IF('Outil Recensement'!I632=\"Applies\",\"Family\",IF('Outil Recensement'!I632=\"Applicable\",\"Family\",\"\"))))))))","v":""}]
[null,null,null,null,null,null,null,null,null,null,null,null,null,{"$f":"IF('Outil Recensement'!I633=\"Individuelle\",\"Single\",IF('Outil Recensement'!I633=\"Familiale\",\"Family\",IF('Outil Recensement'!I633=\"Refus\",\"Family\",IF('Outil Recensement'!I633=\"Parent seul\",\"Family\",IF('Outil Recensement'!I633=\"Couple\",\"Family\",IF('Outil Recensement'!I633=\"In force\",\"Family\",IF('Outil Recensement'!I633=\"Applies\",\"Family\",IF('Outil Recensement'!I633=\"Applicable\",\"Family\",\"\"))))))))","v":""}]
[null,null,null,null,null,null,null,null,null,null,null,null,null,{"$f":"IF('Outil Recensement'!I634=\"Individuelle\",\"Single\",IF('Outil Recensement'!I634=\"Familiale\",\"Family\",IF('Outil Recensement'!I634=\"Refus\",\"Family\",IF('Outil Recensement'!I634=\"Parent seul\",\"Family\",IF('Outil Recensement'!I634=\"Couple\",\"Family\",IF('Outil Recensement'!I634=\"In force\",\"Family\",IF('Outil Recensement'!I634=\"Applies\",\"Family\",IF('Outil Recensement'!I634=\"Applicable\",\"Family\",\"\"))))))))","v":""}]
[null,null,null,null,null,null,null,null,null,null,null,null,null,{"$f":"IF('Outil Recensement'!I635=\"Individuelle\",\"Single\",IF('Outil Recensement'!I635=\"Familiale\",\"Family\",IF('Outil Recensement'!I635=\"Refus\",\"Family\",IF('Outil Recensement'!I635=\"Parent seul\",\"Family\",IF('Outil Recensement'!I635=\"Couple\",\"Family\",IF('Outil Recensement'!I635=\"In force\",\"Family\",IF('Outil Recensement'!I635=\"Applies\",\"Family\",IF('Outil Recensement'!I635=\"Applicable\",\"Family\",\"\"))))))))","v":""}]
[null,null,null,null,null,null,null,null,null,null,null,null,null,{"$f":"IF('Outil Recensement'!I636=\"Individuelle\",\"Single\",IF('Outil Recensement'!I636=\"Familiale\",\"Family\",IF('Outil Recensement'!I636=\"Refus\",\"Family\",IF('Outil Recensement'!I636=\"Parent seul\",\"Family\",IF('Outil Recensement'!I636=\"Couple\",\"Family\",IF('Outil Recensement'!I636=\"In force\",\"Family\",IF('Outil Recensement'!I636=\"Applies\",\"Family\",IF('Outil Recensement'!I636=\"Applicable\",\"Family\",\"\"))))))))","v":""}]
[null,null,null,null,null,null,null,null,null,null,null,null,null,{"$f":"IF('Outil Recensement'!I637=\"Individuelle\",\"Single\",IF('Outil Recensement'!I637=\"Familiale\",\"Family\",IF('Outil Recensement'!I637=\"Refus\",\"Family\",IF('Outil Recensement'!I637=\"Parent seul\",\"Family\",IF('Outil Recensement'!I637=\"Couple\",\"Family\",IF('Outil Recensement'!I637=\"In force\",\"Family\",IF('Outil Recensement'!I637=\"Applies\",\"Family\",IF('Outil Recensement'!I637=\"Applicable\",\"Family\",\"\"))))))))","v":""}]
[null,null,null,null,null,null,null,null,null,null,null,null,null,{"$f":"IF('Outil Recensement'!I638=\"Individuelle\",\"Single\",IF('Outil Recensement'!I638=\"Familiale\",\"Family\",IF('Outil Recensement'!I638=\"Refus\",\"Family\",IF('Outil Recensement'!I638=\"Parent seul\",\"Family\",IF('Outil Recensement'!I638=\"Couple\",\"Family\",IF('Outil Recensement'!I638=\"In force\",\"Family\",IF('Outil Recensement'!I638=\"Applies\",\"Family\",IF('Outil Recensement'!I638=\"Applicable\",\"Family\",\"\"))))))))","v":""}]
[null,null,null,null,null,null,null,null,null,null,null,null,null,{"$f":"IF('Outil Recensement'!I639=\"Individuelle\",\"Single\",IF('Outil Recensement'!I639=\"Familiale\",\"Family\",IF('Outil Recensement'!I639=\"Refus\",\"Family\",IF('Outil Recensement'!I639=\"Parent seul\",\"Family\",IF('Outil Recensement'!I639=\"Couple\",\"Family\",IF('Outil Recensement'!I639=\"In force\",\"Family\",IF('Outil Recensement'!I639=\"Applies\",\"Family\",IF('Outil Recensement'!I639=\"Applicable\",\"Family\",\"\"))))))))","v":""}]
[null,null,null,null,null,null,null,null,null,null,null,null,null,{"$f":"IF('Outil Recensement'!I640=\"Individuelle\",\"Single\",IF('Outil Recensement'!I640=\"Familiale\",\"Family\",IF('Outil Recensement'!I640=\"Refus\",\"Family\",IF('Outil Recensement'!I640=\"Parent seul\",\"Family\",IF('Outil Recensement'!I640=\"Couple\",\"Family\",IF('Outil Recensement'!I640=\"In force\",\"Family\",IF('Outil Recensement'!I640=\"Applies\",\"Family\",IF('Outil Recensement'!I640=\"Applicable\",\"Family\",\"\"))))))))","v":""}]
[null,null,null,null,null,null,null,null,null,null,null,null,null,{"$f":"IF('Outil Recensement'!I641=\"Individuelle\",\"Single\",IF('Outil Recensement'!I641=\"Familiale\",\"Family\",IF('Outil Recensement'!I641=\"Refus\",\"Family\",IF('Outil Recensement'!I641=\"Parent seul\",\"Family\",IF('Outil Recensement'!I641=\"Couple\",\"Family\",IF('Outil Recensement'!I641=\"In force\",\"Family\",IF('Outil Recensement'!I641=\"Applies\",\"Family\",IF('Outil Recensement'!I641=\"Applicable\",\"Family\",\"\"))))))))","v":""}]
[null,null,null,null,null,null,null,null,null,null,null,null,null,{"$f":"IF('Outil Recensement'!I642=\"Individuelle\",\"Single\",IF('Outil Recensement'!I642=\"Familiale\",\"Family\",IF('Outil Recensement'!I642=\"Refus\",\"Family\",IF('Outil Recensement'!I642=\"Parent seul\",\"Family\",IF('Outil Recensement'!I642=\"Couple\",\"Family\",IF('Outil Recensement'!I642=\"In force\",\"Family\",IF('Outil Recensement'!I642=\"Applies\",\"Family\",IF('Outil Recensement'!I642=\"Applicable\",\"Family\",\"\"))))))))","v":""}]
[null,null,null,null,null,null,null,null,null,null,null,null,null,{"$f":"IF('Outil Recensement'!I643=\"Individuelle\",\"Single\",IF('Outil Recensement'!I643=\"Familiale\",\"Family\",IF('Outil Recensement'!I643=\"Refus\",\"Family\",IF('Outil Recensement'!I643=\"Parent seul\",\"Family\",IF('Outil Recensement'!I643=\"Couple\",\"Family\",IF('Outil Recensement'!I643=\"In force\",\"Family\",IF('Outil Recensement'!I643=\"Applies\",\"Family\",IF('Outil Recensement'!I643=\"Applicable\",\"Family\",\"\"))))))))","v":""}]
[null,null,null,null,null,null,null,null,null,null,null,null,null,{"$f":"IF('Outil Recensement'!I644=\"Individuelle\",\"Single\",IF('Outil Recensement'!I644=\"Familiale\",\"Family\",IF('Outil Recensement'!I644=\"Refus\",\"Family\",IF('Outil Recensement'!I644=\"Parent seul\",\"Family\",IF('Outil Recensement'!I644=\"Couple\",\"Family\",IF('Outil Recensement'!I644=\"In force\",\"Family\",IF('Outil Recensement'!I644=\"Applies\",\"Family\",IF('Outil Recensement'!I644=\"Applicable\",\"Family\",\"\"))))))))","v":""}]
[null,null,null,null,null,null,null,null,null,null,null,null,null,{"$f":"IF('Outil Recensement'!I645=\"Individuelle\",\"Single\",IF('Outil Recensement'!I645=\"Familiale\",\"Family\",IF('Outil Recensement'!I645=\"Refus\",\"Family\",IF('Outil Recensement'!I645=\"Parent seul\",\"Family\",IF('Outil Recensement'!I645=\"Couple\",\"Family\",IF('Outil Recensement'!I645=\"In force\",\"Family\",IF('Outil Recensement'!I645=\"Applies\",\"Family\",IF('Outil Recensement'!I645=\"Applicable\",\"Family\",\"\"))))))))","v":""}]
[null,null,null,null,null,null,null,null,null,null,null,null,null,{"$f":"IF('Outil Recensement'!I646=\"Individuelle\",\"Single\",IF('Outil Recensement'!I646=\"Familiale\",\"Family\",IF('Outil Recensement'!I646=\"Refus\",\"Family\",IF('Outil Recensement'!I646=\"Parent seul\",\"Family\",IF('Outil Recensement'!I646=\"Couple\",\"Family\",IF('Outil Recensement'!I646=\"In force\",\"Family\",IF('Outil Recensement'!I646=\"Applies\",\"Family\",IF('Outil Recensement'!I646=\"Applicable\",\"Family\",\"\"))))))))","v":""}]
[null,null,null,null,null,null,null,null,null,null,null,null,null,{"$f":"IF('Outil Recensement'!I647=\"Individuelle\",\"Single\",IF('Outil Recensement'!I647=\"Familiale\",\"Family\",IF('Outil Recensement'!I647=\"Refus\",\"Family\",IF('Outil Recensement'!I647=\"Parent seul\",\"Family\",IF('Outil Recensement'!I647=\"Couple\",\"Family\",IF('Outil Recensement'!I647=\"In force\",\"Family\",IF('Outil Recensement'!I647=\"Applies\",\"Family\",IF('Outil Recensement'!I647=\"Applicable\",\"Family\",\"\"))))))))","v":""}]
[null,null,null,null,null,null,null,null,null,null,null,null,null,{"$f":"IF('Outil Recensement'!I648=\"Individuelle\",\"Single\",IF('Outil Recensement'!I648=\"Familiale\",\"Family\",IF('Outil Recensement'!I648=\"Refus\",\"Family\",IF('Outil Recensement'!I648=\"Parent seul\",\"Family\",IF('Outil Recensement'!I648=\"Couple\",\"Family\",IF('Outil Recensement'!I648=\"In force\",\"Family\",IF('Outil Recensement'!I648=\"Applies\",\"Family\",IF('Outil Recensement'!I648=\"Applicable\",\"Family\",\"\"))))))))","v":""}]
[null,null,null,null,null,null,null,null,null,null,null,null,null,{"$f":"IF('Outil Recensement'!I649=\"Individuelle\",\"Single\",IF('Outil Recensement'!I649=\"Familiale\",\"Family\",IF('Outil Recensement'!I649=\"Refus\",\"Family\",IF('Outil Recensement'!I649=\"Parent seul\",\"Family\",IF('Outil Recensement'!I649=\"Couple\",\"Family\",IF('Outil Recensement'!I649=\"In force\",\"Family\",IF('Outil Recensement'!I649=\"Applies\",\"Family\",IF('Outil Recensement'!I649=\"Applicable\",\"Family\",\"\"))))))))","v":""}]
[null,null,null,null,null,null,null,null,null,null,null,null,null,{"$f":"IF('Outil Recensement'!I650=\"Individuelle\",\"Single\",IF('Outil Recensement'!I650=\"Familiale\",\"Family\",IF('Outil Recensement'!I650=\"Refus\",\"Family\",IF('Outil Recensement'!I650=\"Parent seul\",\"Family\",IF('Outil Recensement'!I650=\"Couple\",\"Family\",IF('Outil Recensement'!I650=\"In force\",\"Family\",IF('Outil Recensement'!I650=\"Applies\",\"Family\",IF('Outil Recensement'!I650=\"Applicable\",\"Family\",\"\"))))))))","v":""}]
[null,null,null,null,null,null,null,null,null,null,null,null,null,{"$f":"IF('Outil Recensement'!I651=\"Individuelle\",\"Single\",IF('Outil Recensement'!I651=\"Familiale\",\"Family\",IF('Outil Recensement'!I651=\"Refus\",\"Family\",IF('Outil Recensement'!I651=\"Parent seul\",\"Family\",IF('Outil Recensement'!I651=\"Couple\",\"Family\",IF('Outil Recensement'!I651=\"In force\",\"Family\",IF('Outil Recensement'!I651=\"Applies\",\"Family\",IF('Outil Recensement'!I651=\"Applicable\",\"Family\",\"\"))))))))","v":""}]
[null,null,null,null,null,null,null,null,null,null,null,null,null,{"$f":"IF('Outil Recensement'!I652=\"Individuelle\",\"Single\",IF('Outil Recensement'!I652=\"Familiale\",\"Family\",IF('Outil Recensement'!I652=\"Refus\",\"Family\",IF('Outil Recensement'!I652=\"Parent seul\",\"Family\",IF('Outil Recensement'!I652=\"Couple\",\"Family\",IF('Outil Recensement'!I652=\"In force\",\"Family\",IF('Outil Recensement'!I652=\"Applies\",\"Family\",IF('Outil Recensement'!I652=\"Applicable\",\"Family\",\"\"))))))))","v":""}]
[null,null,null,null,null,null,null,null,null,null,null,null,null,{"$f":"IF('Outil Recensement'!I653=\"Individuelle\",\"Single\",IF('Outil Recensement'!I653=\"Familiale\",\"Family\",IF('Outil Recensement'!I653=\"Refus\",\"Family\",IF('Outil Recensement'!I653=\"Parent seul\",\"Family\",IF('Outil Recensement'!I653=\"Couple\",\"Family\",IF('Outil Recensement'!I653=\"In force\",\"Family\",IF('Outil Recensement'!I653=\"Applies\",\"Family\",IF('Outil Recensement'!I653=\"Applicable\",\"Family\",\"\"))))))))","v":""}]
[null,null,null,null,null,null,null,null,null,null,null,null,null,{"$f":"IF('Outil Recensement'!I654=\"Individuelle\",\"Single\",IF('Outil Recensement'!I654=\"Familiale\",\"Family\",IF('Outil Recensement'!I654=\"Refus\",\"Family\",IF('Outil Recensement'!I654=\"Parent seul\",\"Family\",IF('Outil Recensement'!I654=\"Couple\",\"Family\",IF('Outil Recensement'!I654=\"In force\",\"Family\",IF('Outil Recensement'!I654=\"Applies\",\"Family\",IF('Outil Recensement'!I654=\"Applicable\",\"Family\",\"\"))))))))","v":""}]
[null,null,null,null,null,null,null,null,null,null,null,null,null,{"$f":"IF('Outil Recensement'!I655=\"Individuelle\",\"Single\",IF('Outil Recensement'!I655=\"Familiale\",\"Family\",IF('Outil Recensement'!I655=\"Refus\",\"Family\",IF('Outil Recensement'!I655=\"Parent seul\",\"Family\",IF('Outil Recensement'!I655=\"Couple\",\"Family\",IF('Outil Recensement'!I655=\"In force\",\"Family\",IF('Outil Recensement'!I655=\"Applies\",\"Family\",IF('Outil Recensement'!I655=\"Applicable\",\"Family\",\"\"))))))))","v":""}]
[null,null,null,null,null,null,null,null,null,null,null,null,null,{"$f":"IF('Outil Recensement'!I656=\"Individuelle\",\"Single\",IF('Outil Recensement'!I656=\"Familiale\",\"Family\",IF('Outil Recensement'!I656=\"Refus\",\"Family\",IF('Outil Recensement'!I656=\"Parent seul\",\"Family\",IF('Outil Recensement'!I656=\"Couple\",\"Family\",IF('Outil Recensement'!I656=\"In force\",\"Family\",IF('Outil Recensement'!I656=\"Applies\",\"Family\",IF('Outil Recensement'!I656=\"Applicable\",\"Family\",\"\"))))))))","v":""}]
[null,null,null,null,null,null,null,null,null,null,null,null,null,{"$f":"IF('Outil Recensement'!I657=\"Individuelle\",\"Single\",IF('Outil Recensement'!I657=\"Familiale\",\"Family\",IF('Outil Recensement'!I657=\"Refus\",\"Family\",IF('Outil Recensement'!I657=\"Parent seul\",\"Family\",IF('Outil Recensement'!I657=\"Couple\",\"Family\",IF('Outil Recensement'!I657=\"In force\",\"Family\",IF('Outil Recensement'!I657=\"Applies\",\"Family\",IF('Outil Recensement'!I657=\"Applicable\",\"Family\",\"\"))))))))","v":""}]
[null,null,null,null,null,null,null,null,null,null,null,null,null,{"$f":"IF('Outil Recensement'!I658=\"Individuelle\",\"Single\",IF('Outil Recensement'!I658=\"Familiale\",\"Family\",IF('Outil Recensement'!I658=\"Refus\",\"Family\",IF('Outil Recensement'!I658=\"Parent seul\",\"Family\",IF('Outil Recensement'!I658=\"Couple\",\"Family\",IF('Outil Recensement'!I658=\"In force\",\"Family\",IF('Outil Recensement'!I658=\"Applies\",\"Family\",IF('Outil Recensement'!I658=\"Applicable\",\"Family\",\"\"))))))))","v":""}]
[null,null,null,null,null,null,null,null,null,null,null,null,null,{"$f":"IF('Outil Recensement'!I659=\"Individuelle\",\"Single\",IF('Outil Recensement'!I659=\"Familiale\",\"Family\",IF('Outil Recensement'!I659=\"Refus\",\"Family\",IF('Outil Recensement'!I659=\"Parent seul\",\"Family\",IF('Outil Recensement'!I659=\"Couple\",\"Family\",IF('Outil Recensement'!I659=\"In force\",\"Family\",IF('Outil Recensement'!I659=\"Applies\",\"Family\",IF('Outil Recensement'!I659=\"Applicable\",\"Family\",\"\"))))))))","v":""}]
[null,null,null,null,null,null,null,null,null,null,null,null,null,{"$f":"IF('Outil Recensement'!I660=\"Individuelle\",\"Single\",IF('Outil Recensement'!I660=\"Familiale\",\"Family\",IF('Outil Recensement'!I660=\"Refus\",\"Family\",IF('Outil Recensement'!I660=\"Parent seul\",\"Family\",IF('Outil Recensement'!I660=\"Couple\",\"Family\",IF('Outil Recensement'!I660=\"In force\",\"Family\",IF('Outil Recensement'!I660=\"Applies\",\"Family\",IF('Outil Recensement'!I660=\"Applicable\",\"Family\",\"\"))))))))","v":""}]
[null,null,null,null,null,null,null,null,null,null,null,null,null,{"$f":"IF('Outil Recensement'!I661=\"Individuelle\",\"Single\",IF('Outil Recensement'!I661=\"Familiale\",\"Family\",IF('Outil Recensement'!I661=\"Refus\",\"Family\",IF('Outil Recensement'!I661=\"Parent seul\",\"Family\",IF('Outil Recensement'!I661=\"Couple\",\"Family\",IF('Outil Recensement'!I661=\"In force\",\"Family\",IF('Outil Recensement'!I661=\"Applies\",\"Family\",IF('Outil Recensement'!I661=\"Applicable\",\"Family\",\"\"))))))))","v":""}]
[null,null,null,null,null,null,null,null,null,null,null,null,null,{"$f":"IF('Outil Recensement'!I662=\"Individuelle\",\"Single\",IF('Outil Recensement'!I662=\"Familiale\",\"Family\",IF('Outil Recensement'!I662=\"Refus\",\"Family\",IF('Outil Recensement'!I662=\"Parent seul\",\"Family\",IF('Outil Recensement'!I662=\"Couple\",\"Family\",IF('Outil Recensement'!I662=\"In force\",\"Family\",IF('Outil Recensement'!I662=\"Applies\",\"Family\",IF('Outil Recensement'!I662=\"Applicable\",\"Family\",\"\"))))))))","v":""}]
[null,null,null,null,null,null,null,null,null,null,null,null,null,{"$f":"IF('Outil Recensement'!I663=\"Individuelle\",\"Single\",IF('Outil Recensement'!I663=\"Familiale\",\"Family\",IF('Outil Recensement'!I663=\"Refus\",\"Family\",IF('Outil Recensement'!I663=\"Parent seul\",\"Family\",IF('Outil Recensement'!I663=\"Couple\",\"Family\",IF('Outil Recensement'!I663=\"In force\",\"Family\",IF('Outil Recensement'!I663=\"Applies\",\"Family\",IF('Outil Recensement'!I663=\"Applicable\",\"Family\",\"\"))))))))","v":""}]
[null,null,null,null,null,null,null,null,null,null,null,null,null,{"$f":"IF('Outil Recensement'!I664=\"Individuelle\",\"Single\",IF('Outil Recensement'!I664=\"Familiale\",\"Family\",IF('Outil Recensement'!I664=\"Refus\",\"Family\",IF('Outil Recensement'!I664=\"Parent seul\",\"Family\",IF('Outil Recensement'!I664=\"Couple\",\"Family\",IF('Outil Recensement'!I664=\"In force\",\"Family\",IF('Outil Recensement'!I664=\"Applies\",\"Family\",IF('Outil Recensement'!I664=\"Applicable\",\"Family\",\"\"))))))))","v":""}]
[null,null,null,null,null,null,null,null,null,null,null,null,null,{"$f":"IF('Outil Recensement'!I665=\"Individuelle\",\"Single\",IF('Outil Recensement'!I665=\"Familiale\",\"Family\",IF('Outil Recensement'!I665=\"Refus\",\"Family\",IF('Outil Recensement'!I665=\"Parent seul\",\"Family\",IF('Outil Recensement'!I665=\"Couple\",\"Family\",IF('Outil Recensement'!I665=\"In force\",\"Family\",IF('Outil Recensement'!I665=\"Applies\",\"Family\",IF('Outil Recensement'!I665=\"Applicable\",\"Family\",\"\"))))))))","v":""}]
[null,null,null,null,null,null,null,null,null,null,null,null,null,{"$f":"IF('Outil Recensement'!I666=\"Individuelle\",\"Single\",IF('Outil Recensement'!I666=\"Familiale\",\"Family\",IF('Outil Recensement'!I666=\"Refus\",\"Family\",IF('Outil Recensement'!I666=\"Parent seul\",\"Family\",IF('Outil Recensement'!I666=\"Couple\",\"Family\",IF('Outil Recensement'!I666=\"In force\",\"Family\",IF('Outil Recensement'!I666=\"Applies\",\"Family\",IF('Outil Recensement'!I666=\"Applicable\",\"Family\",\"\"))))))))","v":""}]
[null,null,null,null,null,null,null,null,null,null,null,null,null,{"$f":"IF('Outil Recensement'!I667=\"Individuelle\",\"Single\",IF('Outil Recensement'!I667=\"Familiale\",\"Family\",IF('Outil Recensement'!I667=\"Refus\",\"Family\",IF('Outil Recensement'!I667=\"Parent seul\",\"Family\",IF('Outil Recensement'!I667=\"Couple\",\"Family\",IF('Outil Recensement'!I667=\"In force\",\"Family\",IF('Outil Recensement'!I667=\"Applies\",\"Family\",IF('Outil Recensement'!I667=\"Applicable\",\"Family\",\"\"))))))))","v":""}]
[null,null,null,null,null,null,null,null,null,null,null,null,null,{"$f":"IF('Outil Recensement'!I668=\"Individuelle\",\"Single\",IF('Outil Recensement'!I668=\"Familiale\",\"Family\",IF('Outil Recensement'!I668=\"Refus\",\"Family\",IF('Outil Recensement'!I668=\"Parent seul\",\"Family\",IF('Outil Recensement'!I668=\"Couple\",\"Family\",IF('Outil Recensement'!I668=\"In force\",\"Family\",IF('Outil Recensement'!I668=\"Applies\",\"Family\",IF('Outil Recensement'!I668=\"Applicable\",\"Family\",\"\"))))))))","v":""}]
[null,null,null,null,null,null,null,null,null,null,null,null,null,{"$f":"IF('Outil Recensement'!I669=\"Individuelle\",\"Single\",IF('Outil Recensement'!I669=\"Familiale\",\"Family\",IF('Outil Recensement'!I669=\"Refus\",\"Family\",IF('Outil Recensement'!I669=\"Parent seul\",\"Family\",IF('Outil Recensement'!I669=\"Couple\",\"Family\",IF('Outil Recensement'!I669=\"In force\",\"Family\",IF('Outil Recensement'!I669=\"Applies\",\"Family\",IF('Outil Recensement'!I669=\"Applicable\",\"Family\",\"\"))))))))","v":""}]
[null,null,null,null,null,null,null,null,null,null,null,null,null,{"$f":"IF('Outil Recensement'!I670=\"Individuelle\",\"Single\",IF('Outil Recensement'!I670=\"Familiale\",\"Family\",IF('Outil Recensement'!I670=\"Refus\",\"Family\",IF('Outil Recensement'!I670=\"Parent seul\",\"Family\",IF('Outil Recensement'!I670=\"Couple\",\"Family\",IF('Outil Recensement'!I670=\"In force\",\"Family\",IF('Outil Recensement'!I670=\"Applies\",\"Family\",IF('Outil Recensement'!I670=\"Applicable\",\"Family\",\"\"))))))))","v":""}]
[null,null,null,null,null,null,null,null,null,null,null,null,null,{"$f":"IF('Outil Recensement'!I671=\"Individuelle\",\"Single\",IF('Outil Recensement'!I671=\"Familiale\",\"Family\",IF('Outil Recensement'!I671=\"Refus\",\"Family\",IF('Outil Recensement'!I671=\"Parent seul\",\"Family\",IF('Outil Recensement'!I671=\"Couple\",\"Family\",IF('Outil Recensement'!I671=\"In force\",\"Family\",IF('Outil Recensement'!I671=\"Applies\",\"Family\",IF('Outil Recensement'!I671=\"Applicable\",\"Family\",\"\"))))))))","v":""}]
[null,null,null,null,null,null,null,null,null,null,null,null,null,{"$f":"IF('Outil Recensement'!I672=\"Individuelle\",\"Single\",IF('Outil Recensement'!I672=\"Familiale\",\"Family\",IF('Outil Recensement'!I672=\"Refus\",\"Family\",IF('Outil Recensement'!I672=\"Parent seul\",\"Family\",IF('Outil Recensement'!I672=\"Couple\",\"Family\",IF('Outil Recensement'!I672=\"In force\",\"Family\",IF('Outil Recensement'!I672=\"Applies\",\"Family\",IF('Outil Recensement'!I672=\"Applicable\",\"Family\",\"\"))))))))","v":""}]
[null,null,null,null,null,null,null,null,null,null,null,null,null,{"$f":"IF('Outil Recensement'!I673=\"Individuelle\",\"Single\",IF('Outil Recensement'!I673=\"Familiale\",\"Family\",IF('Outil Recensement'!I673=\"Refus\",\"Family\",IF('Outil Recensement'!I673=\"Parent seul\",\"Family\",IF('Outil Recensement'!I673=\"Couple\",\"Family\",IF('Outil Recensement'!I673=\"In force\",\"Family\",IF('Outil Recensement'!I673=\"Applies\",\"Family\",IF('Outil Recensement'!I673=\"Applicable\",\"Family\",\"\"))))))))","v":""}]
[null,null,null,null,null,null,null,null,null,null,null,null,null,{"$f":"IF('Outil Recensement'!I674=\"Individuelle\",\"Single\",IF('Outil Recensement'!I674=\"Familiale\",\"Family\",IF('Outil Recensement'!I674=\"Refus\",\"Family\",IF('Outil Recensement'!I674=\"Parent seul\",\"Family\",IF('Outil Recensement'!I674=\"Couple\",\"Family\",IF('Outil Recensement'!I674=\"In force\",\"Family\",IF('Outil Recensement'!I674=\"Applies\",\"Family\",IF('Outil Recensement'!I674=\"Applicable\",\"Family\",\"\"))))))))","v":""}]
[null,null,null,null,null,null,null,null,null,null,null,null,null,{"$f":"IF('Outil Recensement'!I675=\"Individuelle\",\"Single\",IF('Outil Recensement'!I675=\"Familiale\",\"Family\",IF('Outil Recensement'!I675=\"Refus\",\"Family\",IF('Outil Recensement'!I675=\"Parent seul\",\"Family\",IF('Outil Recensement'!I675=\"Couple\",\"Family\",IF('Outil Recensement'!I675=\"In force\",\"Family\",IF('Outil Recensement'!I675=\"Applies\",\"Family\",IF('Outil Recensement'!I675=\"Applicable\",\"Family\",\"\"))))))))","v":""}]
[null,null,null,null,null,null,null,null,null,null,null,null,null,{"$f":"IF('Outil Recensement'!I676=\"Individuelle\",\"Single\",IF('Outil Recensement'!I676=\"Familiale\",\"Family\",IF('Outil Recensement'!I676=\"Refus\",\"Family\",IF('Outil Recensement'!I676=\"Parent seul\",\"Family\",IF('Outil Recensement'!I676=\"Couple\",\"Family\",IF('Outil Recensement'!I676=\"In force\",\"Family\",IF('Outil Recensement'!I676=\"Applies\",\"Family\",IF('Outil Recensement'!I676=\"Applicable\",\"Family\",\"\"))))))))","v":""}]
[null,null,null,null,null,null,null,null,null,null,null,null,null,{"$f":"IF('Outil Recensement'!I677=\"Individuelle\",\"Single\",IF('Outil Recensement'!I677=\"Familiale\",\"Family\",IF('Outil Recensement'!I677=\"Refus\",\"Family\",IF('Outil Recensement'!I677=\"Parent seul\",\"Family\",IF('Outil Recensement'!I677=\"Couple\",\"Family\",IF('Outil Recensement'!I677=\"In force\",\"Family\",IF('Outil Recensement'!I677=\"Applies\",\"Family\",IF('Outil Recensement'!I677=\"Applicable\",\"Family\",\"\"))))))))","v":""}]
[null,null,null,null,null,null,null,null,null,null,null,null,null,{"$f":"IF('Outil Recensement'!I678=\"Individuelle\",\"Single\",IF('Outil Recensement'!I678=\"Familiale\",\"Family\",IF('Outil Recensement'!I678=\"Refus\",\"Family\",IF('Outil Recensement'!I678=\"Parent seul\",\"Family\",IF('Outil Recensement'!I678=\"Couple\",\"Family\",IF('Outil Recensement'!I678=\"In force\",\"Family\",IF('Outil Recensement'!I678=\"Applies\",\"Family\",IF('Outil Recensement'!I678=\"Applicable\",\"Family\",\"\"))))))))","v":""}]
[null,null,null,null,null,null,null,null,null,null,null,null,null,{"$f":"IF('Outil Recensement'!I679=\"Individuelle\",\"Single\",IF('Outil Recensement'!I679=\"Familiale\",\"Family\",IF('Outil Recensement'!I679=\"Refus\",\"Family\",IF('Outil Recensement'!I679=\"Parent seul\",\"Family\",IF('Outil Recensement'!I679=\"Couple\",\"Family\",IF('Outil Recensement'!I679=\"In force\",\"Family\",IF('Outil Recensement'!I679=\"Applies\",\"Family\",IF('Outil Recensement'!I679=\"Applicable\",\"Family\",\"\"))))))))","v":""}]
[null,null,null,null,null,null,null,null,null,null,null,null,null,{"$f":"IF('Outil Recensement'!I680=\"Individuelle\",\"Single\",IF('Outil Recensement'!I680=\"Familiale\",\"Family\",IF('Outil Recensement'!I680=\"Refus\",\"Family\",IF('Outil Recensement'!I680=\"Parent seul\",\"Family\",IF('Outil Recensement'!I680=\"Couple\",\"Family\",IF('Outil Recensement'!I680=\"In force\",\"Family\",IF('Outil Recensement'!I680=\"Applies\",\"Family\",IF('Outil Recensement'!I680=\"Applicable\",\"Family\",\"\"))))))))","v":""}]
[null,null,null,null,null,null,null,null,null,null,null,null,null,{"$f":"IF('Outil Recensement'!I681=\"Individuelle\",\"Single\",IF('Outil Recensement'!I681=\"Familiale\",\"Family\",IF('Outil Recensement'!I681=\"Refus\",\"Family\",IF('Outil Recensement'!I681=\"Parent seul\",\"Family\",IF('Outil Recensement'!I681=\"Couple\",\"Family\",IF('Outil Recensement'!I681=\"In force\",\"Family\",IF('Outil Recensement'!I681=\"Applies\",\"Family\",IF('Outil Recensement'!I681=\"Applicable\",\"Family\",\"\"))))))))","v":""}]
[null,null,null,null,null,null,null,null,null,null,null,null,null,{"$f":"IF('Outil Recensement'!I682=\"Individuelle\",\"Single\",IF('Outil Recensement'!I682=\"Familiale\",\"Family\",IF('Outil Recensement'!I682=\"Refus\",\"Family\",IF('Outil Recensement'!I682=\"Parent seul\",\"Family\",IF('Outil Recensement'!I682=\"Couple\",\"Family\",IF('Outil Recensement'!I682=\"In force\",\"Family\",IF('Outil Recensement'!I682=\"Applies\",\"Family\",IF('Outil Recensement'!I682=\"Applicable\",\"Family\",\"\"))))))))","v":""}]
[null,null,null,null,null,null,null,null,null,null,null,null,null,{"$f":"IF('Outil Recensement'!I683=\"Individuelle\",\"Single\",IF('Outil Recensement'!I683=\"Familiale\",\"Family\",IF('Outil Recensement'!I683=\"Refus\",\"Family\",IF('Outil Recensement'!I683=\"Parent seul\",\"Family\",IF('Outil Recensement'!I683=\"Couple\",\"Family\",IF('Outil Recensement'!I683=\"In force\",\"Family\",IF('Outil Recensement'!I683=\"Applies\",\"Family\",IF('Outil Recensement'!I683=\"Applicable\",\"Family\",\"\"))))))))","v":""}]
[null,null,null,null,null,null,null,null,null,null,null,null,null,{"$f":"IF('Outil Recensement'!I684=\"Individuelle\",\"Single\",IF('Outil Recensement'!I684=\"Familiale\",\"Family\",IF('Outil Recensement'!I684=\"Refus\",\"Family\",IF('Outil Recensement'!I684=\"Parent seul\",\"Family\",IF('Outil Recensement'!I684=\"Couple\",\"Family\",IF('Outil Recensement'!I684=\"In force\",\"Family\",IF('Outil Recensement'!I684=\"Applies\",\"Family\",IF('Outil Recensement'!I684=\"Applicable\",\"Family\",\"\"))))))))","v":""}]
[null,null,null,null,null,null,null,null,null,null,null,null,null,{"$f":"IF('Outil Recensement'!I685=\"Individuelle\",\"Single\",IF('Outil Recensement'!I685=\"Familiale\",\"Family\",IF('Outil Recensement'!I685=\"Refus\",\"Family\",IF('Outil Recensement'!I685=\"Parent seul\",\"Family\",IF('Outil Recensement'!I685=\"Couple\",\"Family\",IF('Outil Recensement'!I685=\"In force\",\"Family\",IF('Outil Recensement'!I685=\"Applies\",\"Family\",IF('Outil Recensement'!I685=\"Applicable\",\"Family\",\"\"))))))))","v":""}]
[null,null,null,null,null,null,null,null,null,null,null,null,null,{"$f":"IF('Outil Recensement'!I686=\"Individuelle\",\"Single\",IF('Outil Recensement'!I686=\"Familiale\",\"Family\",IF('Outil Recensement'!I686=\"Refus\",\"Family\",IF('Outil Recensement'!I686=\"Parent seul\",\"Family\",IF('Outil Recensement'!I686=\"Couple\",\"Family\",IF('Outil Recensement'!I686=\"In force\",\"Family\",IF('Outil Recensement'!I686=\"Applies\",\"Family\",IF('Outil Recensement'!I686=\"Applicable\",\"Family\",\"\"))))))))","v":""}]
[null,null,null,null,null,null,null,null,null,null,null,null,null,{"$f":"IF('Outil Recensement'!I687=\"Individuelle\",\"Single\",IF('Outil Recensement'!I687=\"Familiale\",\"Family\",IF('Outil Recensement'!I687=\"Refus\",\"Family\",IF('Outil Recensement'!I687=\"Parent seul\",\"Family\",IF('Outil Recensement'!I687=\"Couple\",\"Family\",IF('Outil Recensement'!I687=\"In force\",\"Family\",IF('Outil Recensement'!I687=\"Applies\",\"Family\",IF('Outil Recensement'!I687=\"Applicable\",\"Family\",\"\"))))))))","v":""}]
[null,null,null,null,null,null,null,null,null,null,null,null,null,{"$f":"IF('Outil Recensement'!I688=\"Individuelle\",\"Single\",IF('Outil Recensement'!I688=\"Familiale\",\"Family\",IF('Outil Recensement'!I688=\"Refus\",\"Family\",IF('Outil Recensement'!I688=\"Parent seul\",\"Family\",IF('Outil Recensement'!I688=\"Couple\",\"Family\",IF('Outil Recensement'!I688=\"In force\",\"Family\",IF('Outil Recensement'!I688=\"Applies\",\"Family\",IF('Outil Recensement'!I688=\"Applicable\",\"Family\",\"\"))))))))","v":""}]
[null,null,null,null,null,null,null,null,null,null,null,null,null,{"$f":"IF('Outil Recensement'!I689=\"Individuelle\",\"Single\",IF('Outil Recensement'!I689=\"Familiale\",\"Family\",IF('Outil Recensement'!I689=\"Refus\",\"Family\",IF('Outil Recensement'!I689=\"Parent seul\",\"Family\",IF('Outil Recensement'!I689=\"Couple\",\"Family\",IF('Outil Recensement'!I689=\"In force\",\"Family\",IF('Outil Recensement'!I689=\"Applies\",\"Family\",IF('Outil Recensement'!I689=\"Applicable\",\"Family\",\"\"))))))))","v":""}]
[null,null,null,null,null,null,null,null,null,null,null,null,null,{"$f":"IF('Outil Recensement'!I690=\"Individuelle\",\"Single\",IF('Outil Recensement'!I690=\"Familiale\",\"Family\",IF('Outil Recensement'!I690=\"Refus\",\"Family\",IF('Outil Recensement'!I690=\"Parent seul\",\"Family\",IF('Outil Recensement'!I690=\"Couple\",\"Family\",IF('Outil Recensement'!I690=\"In force\",\"Family\",IF('Outil Recensement'!I690=\"Applies\",\"Family\",IF('Outil Recensement'!I690=\"Applicable\",\"Family\",\"\"))))))))","v":""}]
[null,null,null,null,null,null,null,null,null,null,null,null,null,{"$f":"IF('Outil Recensement'!I691=\"Individuelle\",\"Single\",IF('Outil Recensement'!I691=\"Familiale\",\"Family\",IF('Outil Recensement'!I691=\"Refus\",\"Family\",IF('Outil Recensement'!I691=\"Parent seul\",\"Family\",IF('Outil Recensement'!I691=\"Couple\",\"Family\",IF('Outil Recensement'!I691=\"In force\",\"Family\",IF('Outil Recensement'!I691=\"Applies\",\"Family\",IF('Outil Recensement'!I691=\"Applicable\",\"Family\",\"\"))))))))","v":""}]
[null,null,null,null,null,null,null,null,null,null,null,null,null,{"$f":"IF('Outil Recensement'!I692=\"Individuelle\",\"Single\",IF('Outil Recensement'!I692=\"Familiale\",\"Family\",IF('Outil Recensement'!I692=\"Refus\",\"Family\",IF('Outil Recensement'!I692=\"Parent seul\",\"Family\",IF('Outil Recensement'!I692=\"Couple\",\"Family\",IF('Outil Recensement'!I692=\"In force\",\"Family\",IF('Outil Recensement'!I692=\"Applies\",\"Family\",IF('Outil Recensement'!I692=\"Applicable\",\"Family\",\"\"))))))))","v":""}]
[null,null,null,null,null,null,null,null,null,null,null,null,null,{"$f":"IF('Outil Recensement'!I693=\"Individuelle\",\"Single\",IF('Outil Recensement'!I693=\"Familiale\",\"Family\",IF('Outil Recensement'!I693=\"Refus\",\"Family\",IF('Outil Recensement'!I693=\"Parent seul\",\"Family\",IF('Outil Recensement'!I693=\"Couple\",\"Family\",IF('Outil Recensement'!I693=\"In force\",\"Family\",IF('Outil Recensement'!I693=\"Applies\",\"Family\",IF('Outil Recensement'!I693=\"Applicable\",\"Family\",\"\"))))))))","v":""}]
[null,null,null,null,null,null,null,null,null,null,null,null,null,{"$f":"IF('Outil Recensement'!I694=\"Individuelle\",\"Single\",IF('Outil Recensement'!I694=\"Familiale\",\"Family\",IF('Outil Recensement'!I694=\"Refus\",\"Family\",IF('Outil Recensement'!I694=\"Parent seul\",\"Family\",IF('Outil Recensement'!I694=\"Couple\",\"Family\",IF('Outil Recensement'!I694=\"In force\",\"Family\",IF('Outil Recensement'!I694=\"Applies\",\"Family\",IF('Outil Recensement'!I694=\"Applicable\",\"Family\",\"\"))))))))","v":""}]
[null,null,null,null,null,null,null,null,null,null,null,null,null,{"$f":"IF('Outil Recensement'!I695=\"Individuelle\",\"Single\",IF('Outil Recensement'!I695=\"Familiale\",\"Family\",IF('Outil Recensement'!I695=\"Refus\",\"Family\",IF('Outil Recensement'!I695=\"Parent seul\",\"Family\",IF('Outil Recensement'!I695=\"Couple\",\"Family\",IF('Outil Recensement'!I695=\"In force\",\"Family\",IF('Outil Recensement'!I695=\"Applies\",\"Family\",IF('Outil Recensement'!I695=\"Applicable\",\"Family\",\"\"))))))))","v":""}]
[null,null,null,null,null,null,null,null,null,null,null,null,null,{"$f":"IF('Outil Recensement'!I696=\"Individuelle\",\"Single\",IF('Outil Recensement'!I696=\"Familiale\",\"Family\",IF('Outil Recensement'!I696=\"Refus\",\"Family\",IF('Outil Recensement'!I696=\"Parent seul\",\"Family\",IF('Outil Recensement'!I696=\"Couple\",\"Family\",IF('Outil Recensement'!I696=\"In force\",\"Family\",IF('Outil Recensement'!I696=\"Applies\",\"Family\",IF('Outil Recensement'!I696=\"Applicable\",\"Family\",\"\"))))))))","v":""}]
[null,null,null,null,null,null,null,null,null,null,null,null,null,{"$f":"IF('Outil Recensement'!I697=\"Individuelle\",\"Single\",IF('Outil Recensement'!I697=\"Familiale\",\"Family\",IF('Outil Recensement'!I697=\"Refus\",\"Family\",IF('Outil Recensement'!I697=\"Parent seul\",\"Family\",IF('Outil Recensement'!I697=\"Couple\",\"Family\",IF('Outil Recensement'!I697=\"In force\",\"Family\",IF('Outil Recensement'!I697=\"Applies\",\"Family\",IF('Outil Recensement'!I697=\"Applicable\",\"Family\",\"\"))))))))","v":""}]
[null,null,null,null,null,null,null,null,null,null,null,null,null,{"$f":"IF('Outil Recensement'!I698=\"Individuelle\",\"Single\",IF('Outil Recensement'!I698=\"Familiale\",\"Family\",IF('Outil Recensement'!I698=\"Refus\",\"Family\",IF('Outil Recensement'!I698=\"Parent seul\",\"Family\",IF('Outil Recensement'!I698=\"Couple\",\"Family\",IF('Outil Recensement'!I698=\"In force\",\"Family\",IF('Outil Recensement'!I698=\"Applies\",\"Family\",IF('Outil Recensement'!I698=\"Applicable\",\"Family\",\"\"))))))))","v":""}]
[null,null,null,null,null,null,null,null,null,null,null,null,null,{"$f":"IF('Outil Recensement'!I699=\"Individuelle\",\"Single\",IF('Outil Recensement'!I699=\"Familiale\",\"Family\",IF('Outil Recensement'!I699=\"Refus\",\"Family\",IF('Outil Recensement'!I699=\"Parent seul\",\"Family\",IF('Outil Recensement'!I699=\"Couple\",\"Family\",IF('Outil Recensement'!I699=\"In force\",\"Family\",IF('Outil Recensement'!I699=\"Applies\",\"Family\",IF('Outil Recensement'!I699=\"Applicable\",\"Family\",\"\"))))))))","v":""}]
[null,null,null,null,null,null,null,null,null,null,null,null,null,{"$f":"IF('Outil Recensement'!I700=\"Individuelle\",\"Single\",IF('Outil Recensement'!I700=\"Familiale\",\"Family\",IF('Outil Recensement'!I700=\"Refus\",\"Family\",IF('Outil Recensement'!I700=\"Parent seul\",\"Family\",IF('Outil Recensement'!I700=\"Couple\",\"Family\",IF('Outil Recensement'!I700=\"In force\",\"Family\",IF('Outil Recensement'!I700=\"Applies\",\"Family\",IF('Outil Recensement'!I700=\"Applicable\",\"Family\",\"\"))))))))","v":""}]
[null,null,null,null,null,null,null,null,null,null,null,null,null,{"$f":"IF('Outil Recensement'!I701=\"Individuelle\",\"Single\",IF('Outil Recensement'!I701=\"Familiale\",\"Family\",IF('Outil Recensement'!I701=\"Refus\",\"Family\",IF('Outil Recensement'!I701=\"Parent seul\",\"Family\",IF('Outil Recensement'!I701=\"Couple\",\"Family\",IF('Outil Recensement'!I701=\"In force\",\"Family\",IF('Outil Recensement'!I701=\"Applies\",\"Family\",IF('Outil Recensement'!I701=\"Applicable\",\"Family\",\"\"))))))))","v":""}]
[null,null,null,null,null,null,null,null,null,null,null,null,null,{"$f":"IF('Outil Recensement'!I702=\"Individuelle\",\"Single\",IF('Outil Recensement'!I702=\"Familiale\",\"Family\",IF('Outil Recensement'!I702=\"Refus\",\"Family\",IF('Outil Recensement'!I702=\"Parent seul\",\"Family\",IF('Outil Recensement'!I702=\"Couple\",\"Family\",IF('Outil Recensement'!I702=\"In force\",\"Family\",IF('Outil Recensement'!I702=\"Applies\",\"Family\",IF('Outil Recensement'!I702=\"Applicable\",\"Family\",\"\"))))))))","v":""}]
[null,null,null,null,null,null,null,null,null,null,null,null,null,{"$f":"IF('Outil Recensement'!I703=\"Individuelle\",\"Single\",IF('Outil Recensement'!I703=\"Familiale\",\"Family\",IF('Outil Recensement'!I703=\"Refus\",\"Family\",IF('Outil Recensement'!I703=\"Parent seul\",\"Family\",IF('Outil Recensement'!I703=\"Couple\",\"Family\",IF('Outil Recensement'!I703=\"In force\",\"Family\",IF('Outil Recensement'!I703=\"Applies\",\"Family\",IF('Outil Recensement'!I703=\"Applicable\",\"Family\",\"\"))))))))","v":""}]
[null,null,null,null,null,null,null,null,null,null,null,null,null,{"$f":"IF('Outil Recensement'!I704=\"Individuelle\",\"Single\",IF('Outil Recensement'!I704=\"Familiale\",\"Family\",IF('Outil Recensement'!I704=\"Refus\",\"Family\",IF('Outil Recensement'!I704=\"Parent seul\",\"Family\",IF('Outil Recensement'!I704=\"Couple\",\"Family\",IF('Outil Recensement'!I704=\"In force\",\"Family\",IF('Outil Recensement'!I704=\"Applies\",\"Family\",IF('Outil Recensement'!I704=\"Applicable\",\"Family\",\"\"))))))))","v":""}]
[null,null,null,null,null,null,null,null,null,null,null,null,null,{"$f":"IF('Outil Recensement'!I705=\"Individuelle\",\"Single\",IF('Outil Recensement'!I705=\"Familiale\",\"Family\",IF('Outil Recensement'!I705=\"Refus\",\"Family\",IF('Outil Recensement'!I705=\"Parent seul\",\"Family\",IF('Outil Recensement'!I705=\"Couple\",\"Family\",IF('Outil Recensement'!I705=\"In force\",\"Family\",IF('Outil Recensement'!I705=\"Applies\",\"Family\",IF('Outil Recensement'!I705=\"Applicable\",\"Family\",\"\"))))))))","v":""}]
[null,null,null,null,null,null,null,null,null,null,null,null,null,{"$f":"IF('Outil Recensement'!I706=\"Individuelle\",\"Single\",IF('Outil Recensement'!I706=\"Familiale\",\"Family\",IF('Outil Recensement'!I706=\"Refus\",\"Family\",IF('Outil Recensement'!I706=\"Parent seul\",\"Family\",IF('Outil Recensement'!I706=\"Couple\",\"Family\",IF('Outil Recensement'!I706=\"In force\",\"Family\",IF('Outil Recensement'!I706=\"Applies\",\"Family\",IF('Outil Recensement'!I706=\"Applicable\",\"Family\",\"\"))))))))","v":""}]
[null,null,null,null,null,null,null,null,null,null,null,null,null,{"$f":"IF('Outil Recensement'!I707=\"Individuelle\",\"Single\",IF('Outil Recensement'!I707=\"Familiale\",\"Family\",IF('Outil Recensement'!I707=\"Refus\",\"Family\",IF('Outil Recensement'!I707=\"Parent seul\",\"Family\",IF('Outil Recensement'!I707=\"Couple\",\"Family\",IF('Outil Recensement'!I707=\"In force\",\"Family\",IF('Outil Recensement'!I707=\"Applies\",\"Family\",IF('Outil Recensement'!I707=\"Applicable\",\"Family\",\"\"))))))))","v":""}]
[null,null,null,null,null,null,null,null,null,null,null,null,null,{"$f":"IF('Outil Recensement'!I708=\"Individuelle\",\"Single\",IF('Outil Recensement'!I708=\"Familiale\",\"Family\",IF('Outil Recensement'!I708=\"Refus\",\"Family\",IF('Outil Recensement'!I708=\"Parent seul\",\"Family\",IF('Outil Recensement'!I708=\"Couple\",\"Family\",IF('Outil Recensement'!I708=\"In force\",\"Family\",IF('Outil Recensement'!I708=\"Applies\",\"Family\",IF('Outil Recensement'!I708=\"Applicable\",\"Family\",\"\"))))))))","v":""}]
[null,null,null,null,null,null,null,null,null,null,null,null,null,{"$f":"IF('Outil Recensement'!I709=\"Individuelle\",\"Single\",IF('Outil Recensement'!I709=\"Familiale\",\"Family\",IF('Outil Recensement'!I709=\"Refus\",\"Family\",IF('Outil Recensement'!I709=\"Parent seul\",\"Family\",IF('Outil Recensement'!I709=\"Couple\",\"Family\",IF('Outil Recensement'!I709=\"In force\",\"Family\",IF('Outil Recensement'!I709=\"Applies\",\"Family\",IF('Outil Recensement'!I709=\"Applicable\",\"Family\",\"\"))))))))","v":""}]
[null,null,null,null,null,null,null,null,null,null,null,null,null,{"$f":"IF('Outil Recensement'!I710=\"Individuelle\",\"Single\",IF('Outil Recensement'!I710=\"Familiale\",\"Family\",IF('Outil Recensement'!I710=\"Refus\",\"Family\",IF('Outil Recensement'!I710=\"Parent seul\",\"Family\",IF('Outil Recensement'!I710=\"Couple\",\"Family\",IF('Outil Recensement'!I710=\"In force\",\"Family\",IF('Outil Recensement'!I710=\"Applies\",\"Family\",IF('Outil Recensement'!I710=\"Applicable\",\"Family\",\"\"))))))))","v":""}]
[null,null,null,null,null,null,null,null,null,null,null,null,null,{"$f":"IF('Outil Recensement'!I711=\"Individuelle\",\"Single\",IF('Outil Recensement'!I711=\"Familiale\",\"Family\",IF('Outil Recensement'!I711=\"Refus\",\"Family\",IF('Outil Recensement'!I711=\"Parent seul\",\"Family\",IF('Outil Recensement'!I711=\"Couple\",\"Family\",IF('Outil Recensement'!I711=\"In force\",\"Family\",IF('Outil Recensement'!I711=\"Applies\",\"Family\",IF('Outil Recensement'!I711=\"Applicable\",\"Family\",\"\"))))))))","v":""}]
[null,null,null,null,null,null,null,null,null,null,null,null,null,{"$f":"IF('Outil Recensement'!I712=\"Individuelle\",\"Single\",IF('Outil Recensement'!I712=\"Familiale\",\"Family\",IF('Outil Recensement'!I712=\"Refus\",\"Family\",IF('Outil Recensement'!I712=\"Parent seul\",\"Family\",IF('Outil Recensement'!I712=\"Couple\",\"Family\",IF('Outil Recensement'!I712=\"In force\",\"Family\",IF('Outil Recensement'!I712=\"Applies\",\"Family\",IF('Outil Recensement'!I712=\"Applicable\",\"Family\",\"\"))))))))","v":""}]
[null,null,null,null,null,null,null,null,null,null,null,null,null,{"$f":"IF('Outil Recensement'!I713=\"Individuelle\",\"Single\",IF('Outil Recensement'!I713=\"Familiale\",\"Family\",IF('Outil Recensement'!I713=\"Refus\",\"Family\",IF('Outil Recensement'!I713=\"Parent seul\",\"Family\",IF('Outil Recensement'!I713=\"Couple\",\"Family\",IF('Outil Recensement'!I713=\"In force\",\"Family\",IF('Outil Recensement'!I713=\"Applies\",\"Family\",IF('Outil Recensement'!I713=\"Applicable\",\"Family\",\"\"))))))))","v":""}]
[null,null,null,null,null,null,null,null,null,null,null,null,null,{"$f":"IF('Outil Recensement'!I714=\"Individuelle\",\"Single\",IF('Outil Recensement'!I714=\"Familiale\",\"Family\",IF('Outil Recensement'!I714=\"Refus\",\"Family\",IF('Outil Recensement'!I714=\"Parent seul\",\"Family\",IF('Outil Recensement'!I714=\"Couple\",\"Family\",IF('Outil Recensement'!I714=\"In force\",\"Family\",IF('Outil Recensement'!I714=\"Applies\",\"Family\",IF('Outil Recensement'!I714=\"Applicable\",\"Family\",\"\"))))))))","v":""}]
[null,null,null,null,null,null,null,null,null,null,null,null,null,{"$f":"IF('Outil Recensement'!I715=\"Individuelle\",\"Single\",IF('Outil Recensement'!I715=\"Familiale\",\"Family\",IF('Outil Recensement'!I715=\"Refus\",\"Family\",IF('Outil Recensement'!I715=\"Parent seul\",\"Family\",IF('Outil Recensement'!I715=\"Couple\",\"Family\",IF('Outil Recensement'!I715=\"In force\",\"Family\",IF('Outil Recensement'!I715=\"Applies\",\"Family\",IF('Outil Recensement'!I715=\"Applicable\",\"Family\",\"\"))))))))","v":""}]
[null,null,null,null,null,null,null,null,null,null,null,null,null,{"$f":"IF('Outil Recensement'!I716=\"Individuelle\",\"Single\",IF('Outil Recensement'!I716=\"Familiale\",\"Family\",IF('Outil Recensement'!I716=\"Refus\",\"Family\",IF('Outil Recensement'!I716=\"Parent seul\",\"Family\",IF('Outil Recensement'!I716=\"Couple\",\"Family\",IF('Outil Recensement'!I716=\"In force\",\"Family\",IF('Outil Recensement'!I716=\"Applies\",\"Family\",IF('Outil Recensement'!I716=\"Applicable\",\"Family\",\"\"))))))))","v":""}]
[null,null,null,null,null,null,null,null,null,null,null,null,null,{"$f":"IF('Outil Recensement'!I717=\"Individuelle\",\"Single\",IF('Outil Recensement'!I717=\"Familiale\",\"Family\",IF('Outil Recensement'!I717=\"Refus\",\"Family\",IF('Outil Recensement'!I717=\"Parent seul\",\"Family\",IF('Outil Recensement'!I717=\"Couple\",\"Family\",IF('Outil Recensement'!I717=\"In force\",\"Family\",IF('Outil Recensement'!I717=\"Applies\",\"Family\",IF('Outil Recensement'!I717=\"Applicable\",\"Family\",\"\"))))))))","v":""}]
[null,null,null,null,null,null,null,null,null,null,null,null,null,{"$f":"IF('Outil Recensement'!I718=\"Individuelle\",\"Single\",IF('Outil Recensement'!I718=\"Familiale\",\"Family\",IF('Outil Recensement'!I718=\"Refus\",\"Family\",IF('Outil Recensement'!I718=\"Parent seul\",\"Family\",IF('Outil Recensement'!I718=\"Couple\",\"Family\",IF('Outil Recensement'!I718=\"In force\",\"Family\",IF('Outil Recensement'!I718=\"Applies\",\"Family\",IF('Outil Recensement'!I718=\"Applicable\",\"Family\",\"\"))))))))","v":""}]
[null,null,null,null,null,null,null,null,null,null,null,null,null,{"$f":"IF('Outil Recensement'!I719=\"Individuelle\",\"Single\",IF('Outil Recensement'!I719=\"Familiale\",\"Family\",IF('Outil Recensement'!I719=\"Refus\",\"Family\",IF('Outil Recensement'!I719=\"Parent seul\",\"Family\",IF('Outil Recensement'!I719=\"Couple\",\"Family\",IF('Outil Recensement'!I719=\"In force\",\"Family\",IF('Outil Recensement'!I719=\"Applies\",\"Family\",IF('Outil Recensement'!I719=\"Applicable\",\"Family\",\"\"))))))))","v":""}]
[null,null,null,null,null,null,null,null,null,null,null,null,null,{"$f":"IF('Outil Recensement'!I720=\"Individuelle\",\"Single\",IF('Outil Recensement'!I720=\"Familiale\",\"Family\",IF('Outil Recensement'!I720=\"Refus\",\"Family\",IF('Outil Recensement'!I720=\"Parent seul\",\"Family\",IF('Outil Recensement'!I720=\"Couple\",\"Family\",IF('Outil Recensement'!I720=\"In force\",\"Family\",IF('Outil Recensement'!I720=\"Applies\",\"Family\",IF('Outil Recensement'!I720=\"Applicable\",\"Family\",\"\"))))))))","v":""}]
[null,null,null,null,null,null,null,null,null,null,null,null,null,{"$f":"IF('Outil Recensement'!I721=\"Individuelle\",\"Single\",IF('Outil Recensement'!I721=\"Familiale\",\"Family\",IF('Outil Recensement'!I721=\"Refus\",\"Family\",IF('Outil Recensement'!I721=\"Parent seul\",\"Family\",IF('Outil Recensement'!I721=\"Couple\",\"Family\",IF('Outil Recensement'!I721=\"In force\",\"Family\",IF('Outil Recensement'!I721=\"Applies\",\"Family\",IF('Outil Recensement'!I721=\"Applicable\",\"Family\",\"\"))))))))","v":""}]
[null,null,null,null,null,null,null,null,null,null,null,null,null,{"$f":"IF('Outil Recensement'!I722=\"Individuelle\",\"Single\",IF('Outil Recensement'!I722=\"Familiale\",\"Family\",IF('Outil Recensement'!I722=\"Refus\",\"Family\",IF('Outil Recensement'!I722=\"Parent seul\",\"Family\",IF('Outil Recensement'!I722=\"Couple\",\"Family\",IF('Outil Recensement'!I722=\"In force\",\"Family\",IF('Outil Recensement'!I722=\"Applies\",\"Family\",IF('Outil Recensement'!I722=\"Applicable\",\"Family\",\"\"))))))))","v":""}]
[null,null,null,null,null,null,null,null,null,null,null,null,null,{"$f":"IF('Outil Recensement'!I723=\"Individuelle\",\"Single\",IF('Outil Recensement'!I723=\"Familiale\",\"Family\",IF('Outil Recensement'!I723=\"Refus\",\"Family\",IF('Outil Recensement'!I723=\"Parent seul\",\"Family\",IF('Outil Recensement'!I723=\"Couple\",\"Family\",IF('Outil Recensement'!I723=\"In force\",\"Family\",IF('Outil Recensement'!I723=\"Applies\",\"Family\",IF('Outil Recensement'!I723=\"Applicable\",\"Family\",\"\"))))))))","v":""}]
[null,null,null,null,null,null,null,null,null,null,null,null,null,{"$f":"IF('Outil Recensement'!I724=\"Individuelle\",\"Single\",IF('Outil Recensement'!I724=\"Familiale\",\"Family\",IF('Outil Recensement'!I724=\"Refus\",\"Family\",IF('Outil Recensement'!I724=\"Parent seul\",\"Family\",IF('Outil Recensement'!I724=\"Couple\",\"Family\",IF('Outil Recensement'!I724=\"In force\",\"Family\",IF('Outil Recensement'!I724=\"Applies\",\"Family\",IF('Outil Recensement'!I724=\"Applicable\",\"Family\",\"\"))))))))","v":""}]
[null,null,null,null,null,null,null,null,null,null,null,null,null,{"$f":"IF('Outil Recensement'!I725=\"Individuelle\",\"Single\",IF('Outil Recensement'!I725=\"Familiale\",\"Family\",IF('Outil Recensement'!I725=\"Refus\",\"Family\",IF('Outil Recensement'!I725=\"Parent seul\",\"Family\",IF('Outil Recensement'!I725=\"Couple\",\"Family\",IF('Outil Recensement'!I725=\"In force\",\"Family\",IF('Outil Recensement'!I725=\"Applies\",\"Family\",IF('Outil Recensement'!I725=\"Applicable\",\"Family\",\"\"))))))))","v":""}]
[null,null,null,null,null,null,null,null,null,null,null,null,null,{"$f":"IF('Outil Recensement'!I726=\"Individuelle\",\"Single\",IF('Outil Recensement'!I726=\"Familiale\",\"Family\",IF('Outil Recensement'!I726=\"Refus\",\"Family\",IF('Outil Recensement'!I726=\"Parent seul\",\"Family\",IF('Outil Recensement'!I726=\"Couple\",\"Family\",IF('Outil Recensement'!I726=\"In force\",\"Family\",IF('Outil Recensement'!I726=\"Applies\",\"Family\",IF('Outil Recensement'!I726=\"Applicable\",\"Family\",\"\"))))))))","v":""}]
[null,null,null,null,null,null,null,null,null,null,null,null,null,{"$f":"IF('Outil Recensement'!I727=\"Individuelle\",\"Single\",IF('Outil Recensement'!I727=\"Familiale\",\"Family\",IF('Outil Recensement'!I727=\"Refus\",\"Family\",IF('Outil Recensement'!I727=\"Parent seul\",\"Family\",IF('Outil Recensement'!I727=\"Couple\",\"Family\",IF('Outil Recensement'!I727=\"In force\",\"Family\",IF('Outil Recensement'!I727=\"Applies\",\"Family\",IF('Outil Recensement'!I727=\"Applicable\",\"Family\",\"\"))))))))","v":""}]
[null,null,null,null,null,null,null,null,null,null,null,null,null,{"$f":"IF('Outil Recensement'!I728=\"Individuelle\",\"Single\",IF('Outil Recensement'!I728=\"Familiale\",\"Family\",IF('Outil Recensement'!I728=\"Refus\",\"Family\",IF('Outil Recensement'!I728=\"Parent seul\",\"Family\",IF('Outil Recensement'!I728=\"Couple\",\"Family\",IF('Outil Recensement'!I728=\"In force\",\"Family\",IF('Outil Recensement'!I728=\"Applies\",\"Family\",IF('Outil Recensement'!I728=\"Applicable\",\"Family\",\"\"))))))))","v":""}]
[null,null,null,null,null,null,null,null,null,null,null,null,null,{"$f":"IF('Outil Recensement'!I729=\"Individuelle\",\"Single\",IF('Outil Recensement'!I729=\"Familiale\",\"Family\",IF('Outil Recensement'!I729=\"Refus\",\"Family\",IF('Outil Recensement'!I729=\"Parent seul\",\"Family\",IF('Outil Recensement'!I729=\"Couple\",\"Family\",IF('Outil Recensement'!I729=\"In force\",\"Family\",IF('Outil Recensement'!I729=\"Applies\",\"Family\",IF('Outil Recensement'!I729=\"Applicable\",\"Family\",\"\"))))))))","v":""}]
[null,null,null,null,null,null,null,null,null,null,null,null,null,{"$f":"IF('Outil Recensement'!I730=\"Individuelle\",\"Single\",IF('Outil Recensement'!I730=\"Familiale\",\"Family\",IF('Outil Recensement'!I730=\"Refus\",\"Family\",IF('Outil Recensement'!I730=\"Parent seul\",\"Family\",IF('Outil Recensement'!I730=\"Couple\",\"Family\",IF('Outil Recensement'!I730=\"In force\",\"Family\",IF('Outil Recensement'!I730=\"Applies\",\"Family\",IF('Outil Recensement'!I730=\"Applicable\",\"Family\",\"\"))))))))","v":""}]
[null,null,null,null,null,null,null,null,null,null,null,null,null,{"$f":"IF('Outil Recensement'!I731=\"Individuelle\",\"Single\",IF('Outil Recensement'!I731=\"Familiale\",\"Family\",IF('Outil Recensement'!I731=\"Refus\",\"Family\",IF('Outil Recensement'!I731=\"Parent seul\",\"Family\",IF('Outil Recensement'!I731=\"Couple\",\"Family\",IF('Outil Recensement'!I731=\"In force\",\"Family\",IF('Outil Recensement'!I731=\"Applies\",\"Family\",IF('Outil Recensement'!I731=\"Applicable\",\"Family\",\"\"))))))))","v":""}]
[null,null,null,null,null,null,null,null,null,null,null,null,null,{"$f":"IF('Outil Recensement'!I732=\"Individuelle\",\"Single\",IF('Outil Recensement'!I732=\"Familiale\",\"Family\",IF('Outil Recensement'!I732=\"Refus\",\"Family\",IF('Outil Recensement'!I732=\"Parent seul\",\"Family\",IF('Outil Recensement'!I732=\"Couple\",\"Family\",IF('Outil Recensement'!I732=\"In force\",\"Family\",IF('Outil Recensement'!I732=\"Applies\",\"Family\",IF('Outil Recensement'!I732=\"Applicable\",\"Family\",\"\"))))))))","v":""}]
[null,null,null,null,null,null,null,null,null,null,null,null,null,{"$f":"IF('Outil Recensement'!I733=\"Individuelle\",\"Single\",IF('Outil Recensement'!I733=\"Familiale\",\"Family\",IF('Outil Recensement'!I733=\"Refus\",\"Family\",IF('Outil Recensement'!I733=\"Parent seul\",\"Family\",IF('Outil Recensement'!I733=\"Couple\",\"Family\",IF('Outil Recensement'!I733=\"In force\",\"Family\",IF('Outil Recensement'!I733=\"Applies\",\"Family\",IF('Outil Recensement'!I733=\"Applicable\",\"Family\",\"\"))))))))","v":""}]
[null,null,null,null,null,null,null,null,null,null,null,null,null,{"$f":"IF('Outil Recensement'!I734=\"Individuelle\",\"Single\",IF('Outil Recensement'!I734=\"Familiale\",\"Family\",IF('Outil Recensement'!I734=\"Refus\",\"Family\",IF('Outil Recensement'!I734=\"Parent seul\",\"Family\",IF('Outil Recensement'!I734=\"Couple\",\"Family\",IF('Outil Recensement'!I734=\"In force\",\"Family\",IF('Outil Recensement'!I734=\"Applies\",\"Family\",IF('Outil Recensement'!I734=\"Applicable\",\"Family\",\"\"))))))))","v":""}]
[null,null,null,null,null,null,null,null,null,null,null,null,null,{"$f":"IF('Outil Recensement'!I735=\"Individuelle\",\"Single\",IF('Outil Recensement'!I735=\"Familiale\",\"Family\",IF('Outil Recensement'!I735=\"Refus\",\"Family\",IF('Outil Recensement'!I735=\"Parent seul\",\"Family\",IF('Outil Recensement'!I735=\"Couple\",\"Family\",IF('Outil Recensement'!I735=\"In force\",\"Family\",IF('Outil Recensement'!I735=\"Applies\",\"Family\",IF('Outil Recensement'!I735=\"Applicable\",\"Family\",\"\"))))))))","v":""}]
[null,null,null,null,null,null,null,null,null,null,null,null,null,{"$f":"IF('Outil Recensement'!I736=\"Individuelle\",\"Single\",IF('Outil Recensement'!I736=\"Familiale\",\"Family\",IF('Outil Recensement'!I736=\"Refus\",\"Family\",IF('Outil Recensement'!I736=\"Parent seul\",\"Family\",IF('Outil Recensement'!I736=\"Couple\",\"Family\",IF('Outil Recensement'!I736=\"In force\",\"Family\",IF('Outil Recensement'!I736=\"Applies\",\"Family\",IF('Outil Recensement'!I736=\"Applicable\",\"Family\",\"\"))))))))","v":""}]
[null,null,null,null,null,null,null,null,null,null,null,null,null,{"$f":"IF('Outil Recensement'!I737=\"Individuelle\",\"Single\",IF('Outil Recensement'!I737=\"Familiale\",\"Family\",IF('Outil Recensement'!I737=\"Refus\",\"Family\",IF('Outil Recensement'!I737=\"Parent seul\",\"Family\",IF('Outil Recensement'!I737=\"Couple\",\"Family\",IF('Outil Recensement'!I737=\"In force\",\"Family\",IF('Outil Recensement'!I737=\"Applies\",\"Family\",IF('Outil Recensement'!I737=\"Applicable\",\"Family\",\"\"))))))))","v":""}]
[null,null,null,null,null,null,null,null,null,null,null,null,null,{"$f":"IF('Outil Recensement'!I738=\"Individuelle\",\"Single\",IF('Outil Recensement'!I738=\"Familiale\",\"Family\",IF('Outil Recensement'!I738=\"Refus\",\"Family\",IF('Outil Recensement'!I738=\"Parent seul\",\"Family\",IF('Outil Recensement'!I738=\"Couple\",\"Family\",IF('Outil Recensement'!I738=\"In force\",\"Family\",IF('Outil Recensement'!I738=\"Applies\",\"Family\",IF('Outil Recensement'!I738=\"Applicable\",\"Family\",\"\"))))))))","v":""}]
[null,null,null,null,null,null,null,null,null,null,null,null,null,{"$f":"IF('Outil Recensement'!I739=\"Individuelle\",\"Single\",IF('Outil Recensement'!I739=\"Familiale\",\"Family\",IF('Outil Recensement'!I739=\"Refus\",\"Family\",IF('Outil Recensement'!I739=\"Parent seul\",\"Family\",IF('Outil Recensement'!I739=\"Couple\",\"Family\",IF('Outil Recensement'!I739=\"In force\",\"Family\",IF('Outil Recensement'!I739=\"Applies\",\"Family\",IF('Outil Recensement'!I739=\"Applicable\",\"Family\",\"\"))))))))","v":""}]
[null,null,null,null,null,null,null,null,null,null,null,null,null,{"$f":"IF('Outil Recensement'!I740=\"Individuelle\",\"Single\",IF('Outil Recensement'!I740=\"Familiale\",\"Family\",IF('Outil Recensement'!I740=\"Refus\",\"Family\",IF('Outil Recensement'!I740=\"Parent seul\",\"Family\",IF('Outil Recensement'!I740=\"Couple\",\"Family\",IF('Outil Recensement'!I740=\"In force\",\"Family\",IF('Outil Recensement'!I740=\"Applies\",\"Family\",IF('Outil Recensement'!I740=\"Applicable\",\"Family\",\"\"))))))))","v":""}]
[null,null,null,null,null,null,null,null,null,null,null,null,null,{"$f":"IF('Outil Recensement'!I741=\"Individuelle\",\"Single\",IF('Outil Recensement'!I741=\"Familiale\",\"Family\",IF('Outil Recensement'!I741=\"Refus\",\"Family\",IF('Outil Recensement'!I741=\"Parent seul\",\"Family\",IF('Outil Recensement'!I741=\"Couple\",\"Family\",IF('Outil Recensement'!I741=\"In force\",\"Family\",IF('Outil Recensement'!I741=\"Applies\",\"Family\",IF('Outil Recensement'!I741=\"Applicable\",\"Family\",\"\"))))))))","v":""}]
[null,null,null,null,null,null,null,null,null,null,null,null,null,{"$f":"IF('Outil Recensement'!I742=\"Individuelle\",\"Single\",IF('Outil Recensement'!I742=\"Familiale\",\"Family\",IF('Outil Recensement'!I742=\"Refus\",\"Family\",IF('Outil Recensement'!I742=\"Parent seul\",\"Family\",IF('Outil Recensement'!I742=\"Couple\",\"Family\",IF('Outil Recensement'!I742=\"In force\",\"Family\",IF('Outil Recensement'!I742=\"Applies\",\"Family\",IF('Outil Recensement'!I742=\"Applicable\",\"Family\",\"\"))))))))","v":""}]
[null,null,null,null,null,null,null,null,null,null,null,null,null,{"$f":"IF('Outil Recensement'!I743=\"Individuelle\",\"Single\",IF('Outil Recensement'!I743=\"Familiale\",\"Family\",IF('Outil Recensement'!I743=\"Refus\",\"Family\",IF('Outil Recensement'!I743=\"Parent seul\",\"Family\",IF('Outil Recensement'!I743=\"Couple\",\"Family\",IF('Outil Recensement'!I743=\"In force\",\"Family\",IF('Outil Recensement'!I743=\"Applies\",\"Family\",IF('Outil Recensement'!I743=\"Applicable\",\"Family\",\"\"))))))))","v":""}]
[null,null,null,null,null,null,null,null,null,null,null,null,null,{"$f":"IF('Outil Recensement'!I744=\"Individuelle\",\"Single\",IF('Outil Recensement'!I744=\"Familiale\",\"Family\",IF('Outil Recensement'!I744=\"Refus\",\"Family\",IF('Outil Recensement'!I744=\"Parent seul\",\"Family\",IF('Outil Recensement'!I744=\"Couple\",\"Family\",IF('Outil Recensement'!I744=\"In force\",\"Family\",IF('Outil Recensement'!I744=\"Applies\",\"Family\",IF('Outil Recensement'!I744=\"Applicable\",\"Family\",\"\"))))))))","v":""}]
[null,null,null,null,null,null,null,null,null,null,null,null,null,{"$f":"IF('Outil Recensement'!I745=\"Individuelle\",\"Single\",IF('Outil Recensement'!I745=\"Familiale\",\"Family\",IF('Outil Recensement'!I745=\"Refus\",\"Family\",IF('Outil Recensement'!I745=\"Parent seul\",\"Family\",IF('Outil Recensement'!I745=\"Couple\",\"Family\",IF('Outil Recensement'!I745=\"In force\",\"Family\",IF('Outil Recensement'!I745=\"Applies\",\"Family\",IF('Outil Recensement'!I745=\"Applicable\",\"Family\",\"\"))))))))","v":""}]
[null,null,null,null,null,null,null,null,null,null,null,null,null,{"$f":"IF('Outil Recensement'!I746=\"Individuelle\",\"Single\",IF('Outil Recensement'!I746=\"Familiale\",\"Family\",IF('Outil Recensement'!I746=\"Refus\",\"Family\",IF('Outil Recensement'!I746=\"Parent seul\",\"Family\",IF('Outil Recensement'!I746=\"Couple\",\"Family\",IF('Outil Recensement'!I746=\"In force\",\"Family\",IF('Outil Recensement'!I746=\"Applies\",\"Family\",IF('Outil Recensement'!I746=\"Applicable\",\"Family\",\"\"))))))))","v":""}]
[null,null,null,null,null,null,null,null,null,null,null,null,null,{"$f":"IF('Outil Recensement'!I747=\"Individuelle\",\"Single\",IF('Outil Recensement'!I747=\"Familiale\",\"Family\",IF('Outil Recensement'!I747=\"Refus\",\"Family\",IF('Outil Recensement'!I747=\"Parent seul\",\"Family\",IF('Outil Recensement'!I747=\"Couple\",\"Family\",IF('Outil Recensement'!I747=\"In force\",\"Family\",IF('Outil Recensement'!I747=\"Applies\",\"Family\",IF('Outil Recensement'!I747=\"Applicable\",\"Family\",\"\"))))))))","v":""}]
[null,null,null,null,null,null,null,null,null,null,null,null,null,{"$f":"IF('Outil Recensement'!I748=\"Individuelle\",\"Single\",IF('Outil Recensement'!I748=\"Familiale\",\"Family\",IF('Outil Recensement'!I748=\"Refus\",\"Family\",IF('Outil Recensement'!I748=\"Parent seul\",\"Family\",IF('Outil Recensement'!I748=\"Couple\",\"Family\",IF('Outil Recensement'!I748=\"In force\",\"Family\",IF('Outil Recensement'!I748=\"Applies\",\"Family\",IF('Outil Recensement'!I748=\"Applicable\",\"Family\",\"\"))))))))","v":""}]
[null,null,null,null,null,null,null,null,null,null,null,null,null,{"$f":"IF('Outil Recensement'!I749=\"Individuelle\",\"Single\",IF('Outil Recensement'!I749=\"Familiale\",\"Family\",IF('Outil Recensement'!I749=\"Refus\",\"Family\",IF('Outil Recensement'!I749=\"Parent seul\",\"Family\",IF('Outil Recensement'!I749=\"Couple\",\"Family\",IF('Outil Recensement'!I749=\"In force\",\"Family\",IF('Outil Recensement'!I749=\"Applies\",\"Family\",IF('Outil Recensement'!I749=\"Applicable\",\"Family\",\"\"))))))))","v":""}]
[null,null,null,null,null,null,null,null,null,null,null,null,null,{"$f":"IF('Outil Recensement'!I750=\"Individuelle\",\"Single\",IF('Outil Recensement'!I750=\"Familiale\",\"Family\",IF('Outil Recensement'!I750=\"Refus\",\"Family\",IF('Outil Recensement'!I750=\"Parent seul\",\"Family\",IF('Outil Recensement'!I750=\"Couple\",\"Family\",IF('Outil Recensement'!I750=\"In force\",\"Family\",IF('Outil Recensement'!I750=\"Applies\",\"Family\",IF('Outil Recensement'!I750=\"Applicable\",\"Family\",\"\"))))))))","v":""}]
[null,null,null,null,null,null,null,null,null,null,null,null,null,{"$f":"IF('Outil Recensement'!I751=\"Individuelle\",\"Single\",IF('Outil Recensement'!I751=\"Familiale\",\"Family\",IF('Outil Recensement'!I751=\"Refus\",\"Family\",IF('Outil Recensement'!I751=\"Parent seul\",\"Family\",IF('Outil Recensement'!I751=\"Couple\",\"Family\",IF('Outil Recensement'!I751=\"In force\",\"Family\",IF('Outil Recensement'!I751=\"Applies\",\"Family\",IF('Outil Recensement'!I751=\"Applicable\",\"Family\",\"\"))))))))","v":""}]
[null,null,null,null,null,null,null,null,null,null,null,null,null,{"$f":"IF('Outil Recensement'!I752=\"Individuelle\",\"Single\",IF('Outil Recensement'!I752=\"Familiale\",\"Family\",IF('Outil Recensement'!I752=\"Refus\",\"Family\",IF('Outil Recensement'!I752=\"Parent seul\",\"Family\",IF('Outil Recensement'!I752=\"Couple\",\"Family\",IF('Outil Recensement'!I752=\"In force\",\"Family\",IF('Outil Recensement'!I752=\"Applies\",\"Family\",IF('Outil Recensement'!I752=\"Applicable\",\"Family\",\"\"))))))))","v":""}]
[null,null,null,null,null,null,null,null,null,null,null,null,null,{"$f":"IF('Outil Recensement'!I753=\"Individuelle\",\"Single\",IF('Outil Recensement'!I753=\"Familiale\",\"Family\",IF('Outil Recensement'!I753=\"Refus\",\"Family\",IF('Outil Recensement'!I753=\"Parent seul\",\"Family\",IF('Outil Recensement'!I753=\"Couple\",\"Family\",IF('Outil Recensement'!I753=\"In force\",\"Family\",IF('Outil Recensement'!I753=\"Applies\",\"Family\",IF('Outil Recensement'!I753=\"Applicable\",\"Family\",\"\"))))))))","v":""}]
[null,null,null,null,null,null,null,null,null,null,null,null,null,{"$f":"IF('Outil Recensement'!I754=\"Individuelle\",\"Single\",IF('Outil Recensement'!I754=\"Familiale\",\"Family\",IF('Outil Recensement'!I754=\"Refus\",\"Family\",IF('Outil Recensement'!I754=\"Parent seul\",\"Family\",IF('Outil Recensement'!I754=\"Couple\",\"Family\",IF('Outil Recensement'!I754=\"In force\",\"Family\",IF('Outil Recensement'!I754=\"Applies\",\"Family\",IF('Outil Recensement'!I754=\"Applicable\",\"Family\",\"\"))))))))","v":""}]
[null,null,null,null,null,null,null,null,null,null,null,null,null,{"$f":"IF('Outil Recensement'!I755=\"Individuelle\",\"Single\",IF('Outil Recensement'!I755=\"Familiale\",\"Family\",IF('Outil Recensement'!I755=\"Refus\",\"Family\",IF('Outil Recensement'!I755=\"Parent seul\",\"Family\",IF('Outil Recensement'!I755=\"Couple\",\"Family\",IF('Outil Recensement'!I755=\"In force\",\"Family\",IF('Outil Recensement'!I755=\"Applies\",\"Family\",IF('Outil Recensement'!I755=\"Applicable\",\"Family\",\"\"))))))))","v":""}]
[null,null,null,null,null,null,null,null,null,null,null,null,null,{"$f":"IF('Outil Recensement'!I756=\"Individuelle\",\"Single\",IF('Outil Recensement'!I756=\"Familiale\",\"Family\",IF('Outil Recensement'!I756=\"Refus\",\"Family\",IF('Outil Recensement'!I756=\"Parent seul\",\"Family\",IF('Outil Recensement'!I756=\"Couple\",\"Family\",IF('Outil Recensement'!I756=\"In force\",\"Family\",IF('Outil Recensement'!I756=\"Applies\",\"Family\",IF('Outil Recensement'!I756=\"Applicable\",\"Family\",\"\"))))))))","v":""}]
[null,null,null,null,null,null,null,null,null,null,null,null,null,{"$f":"IF('Outil Recensement'!I757=\"Individuelle\",\"Single\",IF('Outil Recensement'!I757=\"Familiale\",\"Family\",IF('Outil Recensement'!I757=\"Refus\",\"Family\",IF('Outil Recensement'!I757=\"Parent seul\",\"Family\",IF('Outil Recensement'!I757=\"Couple\",\"Family\",IF('Outil Recensement'!I757=\"In force\",\"Family\",IF('Outil Recensement'!I757=\"Applies\",\"Family\",IF('Outil Recensement'!I757=\"Applicable\",\"Family\",\"\"))))))))","v":""}]
[null,null,null,null,null,null,null,null,null,null,null,null,null,{"$f":"IF('Outil Recensement'!I758=\"Individuelle\",\"Single\",IF('Outil Recensement'!I758=\"Familiale\",\"Family\",IF('Outil Recensement'!I758=\"Refus\",\"Family\",IF('Outil Recensement'!I758=\"Parent seul\",\"Family\",IF('Outil Recensement'!I758=\"Couple\",\"Family\",IF('Outil Recensement'!I758=\"In force\",\"Family\",IF('Outil Recensement'!I758=\"Applies\",\"Family\",IF('Outil Recensement'!I758=\"Applicable\",\"Family\",\"\"))))))))","v":""}]
[null,null,null,null,null,null,null,null,null,null,null,null,null,{"$f":"IF('Outil Recensement'!I759=\"Individuelle\",\"Single\",IF('Outil Recensement'!I759=\"Familiale\",\"Family\",IF('Outil Recensement'!I759=\"Refus\",\"Family\",IF('Outil Recensement'!I759=\"Parent seul\",\"Family\",IF('Outil Recensement'!I759=\"Couple\",\"Family\",IF('Outil Recensement'!I759=\"In force\",\"Family\",IF('Outil Recensement'!I759=\"Applies\",\"Family\",IF('Outil Recensement'!I759=\"Applicable\",\"Family\",\"\"))))))))","v":""}]
[null,null,null,null,null,null,null,null,null,null,null,null,null,{"$f":"IF('Outil Recensement'!I760=\"Individuelle\",\"Single\",IF('Outil Recensement'!I760=\"Familiale\",\"Family\",IF('Outil Recensement'!I760=\"Refus\",\"Family\",IF('Outil Recensement'!I760=\"Parent seul\",\"Family\",IF('Outil Recensement'!I760=\"Couple\",\"Family\",IF('Outil Recensement'!I760=\"In force\",\"Family\",IF('Outil Recensement'!I760=\"Applies\",\"Family\",IF('Outil Recensement'!I760=\"Applicable\",\"Family\",\"\"))))))))","v":""}]
[null,null,null,null,null,null,null,null,null,null,null,null,null,{"$f":"IF('Outil Recensement'!I761=\"Individuelle\",\"Single\",IF('Outil Recensement'!I761=\"Familiale\",\"Family\",IF('Outil Recensement'!I761=\"Refus\",\"Family\",IF('Outil Recensement'!I761=\"Parent seul\",\"Family\",IF('Outil Recensement'!I761=\"Couple\",\"Family\",IF('Outil Recensement'!I761=\"In force\",\"Family\",IF('Outil Recensement'!I761=\"Applies\",\"Family\",IF('Outil Recensement'!I761=\"Applicable\",\"Family\",\"\"))))))))","v":""}]
[null,null,null,null,null,null,null,null,null,null,null,null,null,{"$f":"IF('Outil Recensement'!I762=\"Individuelle\",\"Single\",IF('Outil Recensement'!I762=\"Familiale\",\"Family\",IF('Outil Recensement'!I762=\"Refus\",\"Family\",IF('Outil Recensement'!I762=\"Parent seul\",\"Family\",IF('Outil Recensement'!I762=\"Couple\",\"Family\",IF('Outil Recensement'!I762=\"In force\",\"Family\",IF('Outil Recensement'!I762=\"Applies\",\"Family\",IF('Outil Recensement'!I762=\"Applicable\",\"Family\",\"\"))))))))","v":""}]
[null,null,null,null,null,null,null,null,null,null,null,null,null,{"$f":"IF('Outil Recensement'!I763=\"Individuelle\",\"Single\",IF('Outil Recensement'!I763=\"Familiale\",\"Family\",IF('Outil Recensement'!I763=\"Refus\",\"Family\",IF('Outil Recensement'!I763=\"Parent seul\",\"Family\",IF('Outil Recensement'!I763=\"Couple\",\"Family\",IF('Outil Recensement'!I763=\"In force\",\"Family\",IF('Outil Recensement'!I763=\"Applies\",\"Family\",IF('Outil Recensement'!I763=\"Applicable\",\"Family\",\"\"))))))))","v":""}]
[null,null,null,null,null,null,null,null,null,null,null,null,null,{"$f":"IF('Outil Recensement'!I764=\"Individuelle\",\"Single\",IF('Outil Recensement'!I764=\"Familiale\",\"Family\",IF('Outil Recensement'!I764=\"Refus\",\"Family\",IF('Outil Recensement'!I764=\"Parent seul\",\"Family\",IF('Outil Recensement'!I764=\"Couple\",\"Family\",IF('Outil Recensement'!I764=\"In force\",\"Family\",IF('Outil Recensement'!I764=\"Applies\",\"Family\",IF('Outil Recensement'!I764=\"Applicable\",\"Family\",\"\"))))))))","v":""}]
[null,null,null,null,null,null,null,null,null,null,null,null,null,{"$f":"IF('Outil Recensement'!I765=\"Individuelle\",\"Single\",IF('Outil Recensement'!I765=\"Familiale\",\"Family\",IF('Outil Recensement'!I765=\"Refus\",\"Family\",IF('Outil Recensement'!I765=\"Parent seul\",\"Family\",IF('Outil Recensement'!I765=\"Couple\",\"Family\",IF('Outil Recensement'!I765=\"In force\",\"Family\",IF('Outil Recensement'!I765=\"Applies\",\"Family\",IF('Outil Recensement'!I765=\"Applicable\",\"Family\",\"\"))))))))","v":""}]
[null,null,null,null,null,null,null,null,null,null,null,null,null,{"$f":"IF('Outil Recensement'!I766=\"Individuelle\",\"Single\",IF('Outil Recensement'!I766=\"Familiale\",\"Family\",IF('Outil Recensement'!I766=\"Refus\",\"Family\",IF('Outil Recensement'!I766=\"Parent seul\",\"Family\",IF('Outil Recensement'!I766=\"Couple\",\"Family\",IF('Outil Recensement'!I766=\"In force\",\"Family\",IF('Outil Recensement'!I766=\"Applies\",\"Family\",IF('Outil Recensement'!I766=\"Applicable\",\"Family\",\"\"))))))))","v":""}]
[null,null,null,null,null,null,null,null,null,null,null,null,null,{"$f":"IF('Outil Recensement'!I767=\"Individuelle\",\"Single\",IF('Outil Recensement'!I767=\"Familiale\",\"Family\",IF('Outil Recensement'!I767=\"Refus\",\"Family\",IF('Outil Recensement'!I767=\"Parent seul\",\"Family\",IF('Outil Recensement'!I767=\"Couple\",\"Family\",IF('Outil Recensement'!I767=\"In force\",\"Family\",IF('Outil Recensement'!I767=\"Applies\",\"Family\",IF('Outil Recensement'!I767=\"Applicable\",\"Family\",\"\"))))))))","v":""}]
[null,null,null,null,null,null,null,null,null,null,null,null,null,{"$f":"IF('Outil Recensement'!I768=\"Individuelle\",\"Single\",IF('Outil Recensement'!I768=\"Familiale\",\"Family\",IF('Outil Recensement'!I768=\"Refus\",\"Family\",IF('Outil Recensement'!I768=\"Parent seul\",\"Family\",IF('Outil Recensement'!I768=\"Couple\",\"Family\",IF('Outil Recensement'!I768=\"In force\",\"Family\",IF('Outil Recensement'!I768=\"Applies\",\"Family\",IF('Outil Recensement'!I768=\"Applicable\",\"Family\",\"\"))))))))","v":""}]
[null,null,null,null,null,null,null,null,null,null,null,null,null,{"$f":"IF('Outil Recensement'!I769=\"Individuelle\",\"Single\",IF('Outil Recensement'!I769=\"Familiale\",\"Family\",IF('Outil Recensement'!I769=\"Refus\",\"Family\",IF('Outil Recensement'!I769=\"Parent seul\",\"Family\",IF('Outil Recensement'!I769=\"Couple\",\"Family\",IF('Outil Recensement'!I769=\"In force\",\"Family\",IF('Outil Recensement'!I769=\"Applies\",\"Family\",IF('Outil Recensement'!I769=\"Applicable\",\"Family\",\"\"))))))))","v":""}]
[null,null,null,null,null,null,null,null,null,null,null,null,null,{"$f":"IF('Outil Recensement'!I770=\"Individuelle\",\"Single\",IF('Outil Recensement'!I770=\"Familiale\",\"Family\",IF('Outil Recensement'!I770=\"Refus\",\"Family\",IF('Outil Recensement'!I770=\"Parent seul\",\"Family\",IF('Outil Recensement'!I770=\"Couple\",\"Family\",IF('Outil Recensement'!I770=\"In force\",\"Family\",IF('Outil Recensement'!I770=\"Applies\",\"Family\",IF('Outil Recensement'!I770=\"Applicable\",\"Family\",\"\"))))))))","v":""}]
[null,null,null,null,null,null,null,null,null,null,null,null,null,{"$f":"IF('Outil Recensement'!I771=\"Individuelle\",\"Single\",IF('Outil Recensement'!I771=\"Familiale\",\"Family\",IF('Outil Recensement'!I771=\"Refus\",\"Family\",IF('Outil Recensement'!I771=\"Parent seul\",\"Family\",IF('Outil Recensement'!I771=\"Couple\",\"Family\",IF('Outil Recensement'!I771=\"In force\",\"Family\",IF('Outil Recensement'!I771=\"Applies\",\"Family\",IF('Outil Recensement'!I771=\"Applicable\",\"Family\",\"\"))))))))","v":""}]
[null,null,null,null,null,null,null,null,null,null,null,null,null,{"$f":"IF('Outil Recensement'!I772=\"Individuelle\",\"Single\",IF('Outil Recensement'!I772=\"Familiale\",\"Family\",IF('Outil Recensement'!I772=\"Refus\",\"Family\",IF('Outil Recensement'!I772=\"Parent seul\",\"Family\",IF('Outil Recensement'!I772=\"Couple\",\"Family\",IF('Outil Recensement'!I772=\"In force\",\"Family\",IF('Outil Recensement'!I772=\"Applies\",\"Family\",IF('Outil Recensement'!I772=\"Applicable\",\"Family\",\"\"))))))))","v":""}]
[null,null,null,null,null,null,null,null,null,null,null,null,null,{"$f":"IF('Outil Recensement'!I773=\"Individuelle\",\"Single\",IF('Outil Recensement'!I773=\"Familiale\",\"Family\",IF('Outil Recensement'!I773=\"Refus\",\"Family\",IF('Outil Recensement'!I773=\"Parent seul\",\"Family\",IF('Outil Recensement'!I773=\"Couple\",\"Family\",IF('Outil Recensement'!I773=\"In force\",\"Family\",IF('Outil Recensement'!I773=\"Applies\",\"Family\",IF('Outil Recensement'!I773=\"Applicable\",\"Family\",\"\"))))))))","v":""}]
[null,null,null,null,null,null,null,null,null,null,null,null,null,{"$f":"IF('Outil Recensement'!I774=\"Individuelle\",\"Single\",IF('Outil Recensement'!I774=\"Familiale\",\"Family\",IF('Outil Recensement'!I774=\"Refus\",\"Family\",IF('Outil Recensement'!I774=\"Parent seul\",\"Family\",IF('Outil Recensement'!I774=\"Couple\",\"Family\",IF('Outil Recensement'!I774=\"In force\",\"Family\",IF('Outil Recensement'!I774=\"Applies\",\"Family\",IF('Outil Recensement'!I774=\"Applicable\",\"Family\",\"\"))))))))","v":""}]
[null,null,null,null,null,null,null,null,null,null,null,null,null,{"$f":"IF('Outil Recensement'!I775=\"Individuelle\",\"Single\",IF('Outil Recensement'!I775=\"Familiale\",\"Family\",IF('Outil Recensement'!I775=\"Refus\",\"Family\",IF('Outil Recensement'!I775=\"Parent seul\",\"Family\",IF('Outil Recensement'!I775=\"Couple\",\"Family\",IF('Outil Recensement'!I775=\"In force\",\"Family\",IF('Outil Recensement'!I775=\"Applies\",\"Family\",IF('Outil Recensement'!I775=\"Applicable\",\"Family\",\"\"))))))))","v":""}]
[null,null,null,null,null,null,null,null,null,null,null,null,null,{"$f":"IF('Outil Recensement'!I776=\"Individuelle\",\"Single\",IF('Outil Recensement'!I776=\"Familiale\",\"Family\",IF('Outil Recensement'!I776=\"Refus\",\"Family\",IF('Outil Recensement'!I776=\"Parent seul\",\"Family\",IF('Outil Recensement'!I776=\"Couple\",\"Family\",IF('Outil Recensement'!I776=\"In force\",\"Family\",IF('Outil Recensement'!I776=\"Applies\",\"Family\",IF('Outil Recensement'!I776=\"Applicable\",\"Family\",\"\"))))))))","v":""}]
[null,null,null,null,null,null,null,null,null,null,null,null,null,{"$f":"IF('Outil Recensement'!I777=\"Individuelle\",\"Single\",IF('Outil Recensement'!I777=\"Familiale\",\"Family\",IF('Outil Recensement'!I777=\"Refus\",\"Family\",IF('Outil Recensement'!I777=\"Parent seul\",\"Family\",IF('Outil Recensement'!I777=\"Couple\",\"Family\",IF('Outil Recensement'!I777=\"In force\",\"Family\",IF('Outil Recensement'!I777=\"Applies\",\"Family\",IF('Outil Recensement'!I777=\"Applicable\",\"Family\",\"\"))))))))","v":""}]
[null,null,null,null,null,null,null,null,null,null,null,null,null,{"$f":"IF('Outil Recensement'!I778=\"Individuelle\",\"Single\",IF('Outil Recensement'!I778=\"Familiale\",\"Family\",IF('Outil Recensement'!I778=\"Refus\",\"Family\",IF('Outil Recensement'!I778=\"Parent seul\",\"Family\",IF('Outil Recensement'!I778=\"Couple\",\"Family\",IF('Outil Recensement'!I778=\"In force\",\"Family\",IF('Outil Recensement'!I778=\"Applies\",\"Family\",IF('Outil Recensement'!I778=\"Applicable\",\"Family\",\"\"))))))))","v":""}]
[null,null,null,null,null,null,null,null,null,null,null,null,null,{"$f":"IF('Outil Recensement'!I779=\"Individuelle\",\"Single\",IF('Outil Recensement'!I779=\"Familiale\",\"Family\",IF('Outil Recensement'!I779=\"Refus\",\"Family\",IF('Outil Recensement'!I779=\"Parent seul\",\"Family\",IF('Outil Recensement'!I779=\"Couple\",\"Family\",IF('Outil Recensement'!I779=\"In force\",\"Family\",IF('Outil Recensement'!I779=\"Applies\",\"Family\",IF('Outil Recensement'!I779=\"Applicable\",\"Family\",\"\"))))))))","v":""}]
[null,null,null,null,null,null,null,null,null,null,null,null,null,{"$f":"IF('Outil Recensement'!I780=\"Individuelle\",\"Single\",IF('Outil Recensement'!I780=\"Familiale\",\"Family\",IF('Outil Recensement'!I780=\"Refus\",\"Family\",IF('Outil Recensement'!I780=\"Parent seul\",\"Family\",IF('Outil Recensement'!I780=\"Couple\",\"Family\",IF('Outil Recensement'!I780=\"In force\",\"Family\",IF('Outil Recensement'!I780=\"Applies\",\"Family\",IF('Outil Recensement'!I780=\"Applicable\",\"Family\",\"\"))))))))","v":""}]
[null,null,null,null,null,null,null,null,null,null,null,null,null,{"$f":"IF('Outil Recensement'!I781=\"Individuelle\",\"Single\",IF('Outil Recensement'!I781=\"Familiale\",\"Family\",IF('Outil Recensement'!I781=\"Refus\",\"Family\",IF('Outil Recensement'!I781=\"Parent seul\",\"Family\",IF('Outil Recensement'!I781=\"Couple\",\"Family\",IF('Outil Recensement'!I781=\"In force\",\"Family\",IF('Outil Recensement'!I781=\"Applies\",\"Family\",IF('Outil Recensement'!I781=\"Applicable\",\"Family\",\"\"))))))))","v":""}]
[null,null,null,null,null,null,null,null,null,null,null,null,null,{"$f":"IF('Outil Recensement'!I782=\"Individuelle\",\"Single\",IF('Outil Recensement'!I782=\"Familiale\",\"Family\",IF('Outil Recensement'!I782=\"Refus\",\"Family\",IF('Outil Recensement'!I782=\"Parent seul\",\"Family\",IF('Outil Recensement'!I782=\"Couple\",\"Family\",IF('Outil Recensement'!I782=\"In force\",\"Family\",IF('Outil Recensement'!I782=\"Applies\",\"Family\",IF('Outil Recensement'!I782=\"Applicable\",\"Family\",\"\"))))))))","v":""}]
[null,null,null,null,null,null,null,null,null,null,null,null,null,{"$f":"IF('Outil Recensement'!I783=\"Individuelle\",\"Single\",IF('Outil Recensement'!I783=\"Familiale\",\"Family\",IF('Outil Recensement'!I783=\"Refus\",\"Family\",IF('Outil Recensement'!I783=\"Parent seul\",\"Family\",IF('Outil Recensement'!I783=\"Couple\",\"Family\",IF('Outil Recensement'!I783=\"In force\",\"Family\",IF('Outil Recensement'!I783=\"Applies\",\"Family\",IF('Outil Recensement'!I783=\"Applicable\",\"Family\",\"\"))))))))","v":""}]
[null,null,null,null,null,null,null,null,null,null,null,null,null,{"$f":"IF('Outil Recensement'!I784=\"Individuelle\",\"Single\",IF('Outil Recensement'!I784=\"Familiale\",\"Family\",IF('Outil Recensement'!I784=\"Refus\",\"Family\",IF('Outil Recensement'!I784=\"Parent seul\",\"Family\",IF('Outil Recensement'!I784=\"Couple\",\"Family\",IF('Outil Recensement'!I784=\"In force\",\"Family\",IF('Outil Recensement'!I784=\"Applies\",\"Family\",IF('Outil Recensement'!I784=\"Applicable\",\"Family\",\"\"))))))))","v":""}]
[null,null,null,null,null,null,null,null,null,null,null,null,null,{"$f":"IF('Outil Recensement'!I785=\"Individuelle\",\"Single\",IF('Outil Recensement'!I785=\"Familiale\",\"Family\",IF('Outil Recensement'!I785=\"Refus\",\"Family\",IF('Outil Recensement'!I785=\"Parent seul\",\"Family\",IF('Outil Recensement'!I785=\"Couple\",\"Family\",IF('Outil Recensement'!I785=\"In force\",\"Family\",IF('Outil Recensement'!I785=\"Applies\",\"Family\",IF('Outil Recensement'!I785=\"Applicable\",\"Family\",\"\"))))))))","v":""}]
[null,null,null,null,null,null,null,null,null,null,null,null,null,{"$f":"IF('Outil Recensement'!I786=\"Individuelle\",\"Single\",IF('Outil Recensement'!I786=\"Familiale\",\"Family\",IF('Outil Recensement'!I786=\"Refus\",\"Family\",IF('Outil Recensement'!I786=\"Parent seul\",\"Family\",IF('Outil Recensement'!I786=\"Couple\",\"Family\",IF('Outil Recensement'!I786=\"In force\",\"Family\",IF('Outil Recensement'!I786=\"Applies\",\"Family\",IF('Outil Recensement'!I786=\"Applicable\",\"Family\",\"\"))))))))","v":""}]
[null,null,null,null,null,null,null,null,null,null,null,null,null,{"$f":"IF('Outil Recensement'!I787=\"Individuelle\",\"Single\",IF('Outil Recensement'!I787=\"Familiale\",\"Family\",IF('Outil Recensement'!I787=\"Refus\",\"Family\",IF('Outil Recensement'!I787=\"Parent seul\",\"Family\",IF('Outil Recensement'!I787=\"Couple\",\"Family\",IF('Outil Recensement'!I787=\"In force\",\"Family\",IF('Outil Recensement'!I787=\"Applies\",\"Family\",IF('Outil Recensement'!I787=\"Applicable\",\"Family\",\"\"))))))))","v":""}]
[null,null,null,null,null,null,null,null,null,null,null,null,null,{"$f":"IF('Outil Recensement'!I788=\"Individuelle\",\"Single\",IF('Outil Recensement'!I788=\"Familiale\",\"Family\",IF('Outil Recensement'!I788=\"Refus\",\"Family\",IF('Outil Recensement'!I788=\"Parent seul\",\"Family\",IF('Outil Recensement'!I788=\"Couple\",\"Family\",IF('Outil Recensement'!I788=\"In force\",\"Family\",IF('Outil Recensement'!I788=\"Applies\",\"Family\",IF('Outil Recensement'!I788=\"Applicable\",\"Family\",\"\"))))))))","v":""}]
[null,null,null,null,null,null,null,null,null,null,null,null,null,{"$f":"IF('Outil Recensement'!I789=\"Individuelle\",\"Single\",IF('Outil Recensement'!I789=\"Familiale\",\"Family\",IF('Outil Recensement'!I789=\"Refus\",\"Family\",IF('Outil Recensement'!I789=\"Parent seul\",\"Family\",IF('Outil Recensement'!I789=\"Couple\",\"Family\",IF('Outil Recensement'!I789=\"In force\",\"Family\",IF('Outil Recensement'!I789=\"Applies\",\"Family\",IF('Outil Recensement'!I789=\"Applicable\",\"Family\",\"\"))))))))","v":""}]
[null,null,null,null,null,null,null,null,null,null,null,null,null,{"$f":"IF('Outil Recensement'!I790=\"Individuelle\",\"Single\",IF('Outil Recensement'!I790=\"Familiale\",\"Family\",IF('Outil Recensement'!I790=\"Refus\",\"Family\",IF('Outil Recensement'!I790=\"Parent seul\",\"Family\",IF('Outil Recensement'!I790=\"Couple\",\"Family\",IF('Outil Recensement'!I790=\"In force\",\"Family\",IF('Outil Recensement'!I790=\"Applies\",\"Family\",IF('Outil Recensement'!I790=\"Applicable\",\"Family\",\"\"))))))))","v":""}]
[null,null,null,null,null,null,null,null,null,null,null,null,null,{"$f":"IF('Outil Recensement'!I791=\"Individuelle\",\"Single\",IF('Outil Recensement'!I791=\"Familiale\",\"Family\",IF('Outil Recensement'!I791=\"Refus\",\"Family\",IF('Outil Recensement'!I791=\"Parent seul\",\"Family\",IF('Outil Recensement'!I791=\"Couple\",\"Family\",IF('Outil Recensement'!I791=\"In force\",\"Family\",IF('Outil Recensement'!I791=\"Applies\",\"Family\",IF('Outil Recensement'!I791=\"Applicable\",\"Family\",\"\"))))))))","v":""}]
[null,null,null,null,null,null,null,null,null,null,null,null,null,{"$f":"IF('Outil Recensement'!I792=\"Individuelle\",\"Single\",IF('Outil Recensement'!I792=\"Familiale\",\"Family\",IF('Outil Recensement'!I792=\"Refus\",\"Family\",IF('Outil Recensement'!I792=\"Parent seul\",\"Family\",IF('Outil Recensement'!I792=\"Couple\",\"Family\",IF('Outil Recensement'!I792=\"In force\",\"Family\",IF('Outil Recensement'!I792=\"Applies\",\"Family\",IF('Outil Recensement'!I792=\"Applicable\",\"Family\",\"\"))))))))","v":""}]
[null,null,null,null,null,null,null,null,null,null,null,null,null,{"$f":"IF('Outil Recensement'!I793=\"Individuelle\",\"Single\",IF('Outil Recensement'!I793=\"Familiale\",\"Family\",IF('Outil Recensement'!I793=\"Refus\",\"Family\",IF('Outil Recensement'!I793=\"Parent seul\",\"Family\",IF('Outil Recensement'!I793=\"Couple\",\"Family\",IF('Outil Recensement'!I793=\"In force\",\"Family\",IF('Outil Recensement'!I793=\"Applies\",\"Family\",IF('Outil Recensement'!I793=\"Applicable\",\"Family\",\"\"))))))))","v":""}]
[null,null,null,null,null,null,null,null,null,null,null,null,null,{"$f":"IF('Outil Recensement'!I794=\"Individuelle\",\"Single\",IF('Outil Recensement'!I794=\"Familiale\",\"Family\",IF('Outil Recensement'!I794=\"Refus\",\"Family\",IF('Outil Recensement'!I794=\"Parent seul\",\"Family\",IF('Outil Recensement'!I794=\"Couple\",\"Family\",IF('Outil Recensement'!I794=\"In force\",\"Family\",IF('Outil Recensement'!I794=\"Applies\",\"Family\",IF('Outil Recensement'!I794=\"Applicable\",\"Family\",\"\"))))))))","v":""}]
[null,null,null,null,null,null,null,null,null,null,null,null,null,{"$f":"IF('Outil Recensement'!I795=\"Individuelle\",\"Single\",IF('Outil Recensement'!I795=\"Familiale\",\"Family\",IF('Outil Recensement'!I795=\"Refus\",\"Family\",IF('Outil Recensement'!I795=\"Parent seul\",\"Family\",IF('Outil Recensement'!I795=\"Couple\",\"Family\",IF('Outil Recensement'!I795=\"In force\",\"Family\",IF('Outil Recensement'!I795=\"Applies\",\"Family\",IF('Outil Recensement'!I795=\"Applicable\",\"Family\",\"\"))))))))","v":""}]
[null,null,null,null,null,null,null,null,null,null,null,null,null,{"$f":"IF('Outil Recensement'!I796=\"Individuelle\",\"Single\",IF('Outil Recensement'!I796=\"Familiale\",\"Family\",IF('Outil Recensement'!I796=\"Refus\",\"Family\",IF('Outil Recensement'!I796=\"Parent seul\",\"Family\",IF('Outil Recensement'!I796=\"Couple\",\"Family\",IF('Outil Recensement'!I796=\"In force\",\"Family\",IF('Outil Recensement'!I796=\"Applies\",\"Family\",IF('Outil Recensement'!I796=\"Applicable\",\"Family\",\"\"))))))))","v":""}]
[null,null,null,null,null,null,null,null,null,null,null,null,null,{"$f":"IF('Outil Recensement'!I797=\"Individuelle\",\"Single\",IF('Outil Recensement'!I797=\"Familiale\",\"Family\",IF('Outil Recensement'!I797=\"Refus\",\"Family\",IF('Outil Recensement'!I797=\"Parent seul\",\"Family\",IF('Outil Recensement'!I797=\"Couple\",\"Family\",IF('Outil Recensement'!I797=\"In force\",\"Family\",IF('Outil Recensement'!I797=\"Applies\",\"Family\",IF('Outil Recensement'!I797=\"Applicable\",\"Family\",\"\"))))))))","v":""}]
[null,null,null,null,null,null,null,null,null,null,null,null,null,{"$f":"IF('Outil Recensement'!I798=\"Individuelle\",\"Single\",IF('Outil Recensement'!I798=\"Familiale\",\"Family\",IF('Outil Recensement'!I798=\"Refus\",\"Family\",IF('Outil Recensement'!I798=\"Parent seul\",\"Family\",IF('Outil Recensement'!I798=\"Couple\",\"Family\",IF('Outil Recensement'!I798=\"In force\",\"Family\",IF('Outil Recensement'!I798=\"Applies\",\"Family\",IF('Outil Recensement'!I798=\"Applicable\",\"Family\",\"\"))))))))","v":""}]
[null,null,null,null,null,null,null,null,null,null,null,null,null,{"$f":"IF('Outil Recensement'!I799=\"Individuelle\",\"Single\",IF('Outil Recensement'!I799=\"Familiale\",\"Family\",IF('Outil Recensement'!I799=\"Refus\",\"Family\",IF('Outil Recensement'!I799=\"Parent seul\",\"Family\",IF('Outil Recensement'!I799=\"Couple\",\"Family\",IF('Outil Recensement'!I799=\"In force\",\"Family\",IF('Outil Recensement'!I799=\"Applies\",\"Family\",IF('Outil Recensement'!I799=\"Applicable\",\"Family\",\"\"))))))))","v":""}]
[null,null,null,null,null,null,null,null,null,null,null,null,null,{"$f":"IF('Outil Recensement'!I800=\"Individuelle\",\"Single\",IF('Outil Recensement'!I800=\"Familiale\",\"Family\",IF('Outil Recensement'!I800=\"Refus\",\"Family\",IF('Outil Recensement'!I800=\"Parent seul\",\"Family\",IF('Outil Recensement'!I800=\"Couple\",\"Family\",IF('Outil Recensement'!I800=\"In force\",\"Family\",IF('Outil Recensement'!I800=\"Applies\",\"Family\",IF('Outil Recensement'!I800=\"Applicable\",\"Family\",\"\"))))))))","v":""}]
[null,null,null,null,null,null,null,null,null,null,null,null,null,{"$f":"IF('Outil Recensement'!I801=\"Individuelle\",\"Single\",IF('Outil Recensement'!I801=\"Familiale\",\"Family\",IF('Outil Recensement'!I801=\"Refus\",\"Family\",IF('Outil Recensement'!I801=\"Parent seul\",\"Family\",IF('Outil Recensement'!I801=\"Couple\",\"Family\",IF('Outil Recensement'!I801=\"In force\",\"Family\",IF('Outil Recensement'!I801=\"Applies\",\"Family\",IF('Outil Recensement'!I801=\"Applicable\",\"Family\",\"\"))))))))","v":""}]
[null,null,null,null,null,null,null,null,null,null,null,null,null,{"$f":"IF('Outil Recensement'!I802=\"Individuelle\",\"Single\",IF('Outil Recensement'!I802=\"Familiale\",\"Family\",IF('Outil Recensement'!I802=\"Refus\",\"Family\",IF('Outil Recensement'!I802=\"Parent seul\",\"Family\",IF('Outil Recensement'!I802=\"Couple\",\"Family\",IF('Outil Recensement'!I802=\"In force\",\"Family\",IF('Outil Recensement'!I802=\"Applies\",\"Family\",IF('Outil Recensement'!I802=\"Applicable\",\"Family\",\"\"))))))))","v":""}]
[null,null,null,null,null,null,null,null,null,null,null,null,null,{"$f":"IF('Outil Recensement'!I803=\"Individuelle\",\"Single\",IF('Outil Recensement'!I803=\"Familiale\",\"Family\",IF('Outil Recensement'!I803=\"Refus\",\"Family\",IF('Outil Recensement'!I803=\"Parent seul\",\"Family\",IF('Outil Recensement'!I803=\"Couple\",\"Family\",IF('Outil Recensement'!I803=\"In force\",\"Family\",IF('Outil Recensement'!I803=\"Applies\",\"Family\",IF('Outil Recensement'!I803=\"Applicable\",\"Family\",\"\"))))))))","v":""}]
[null,null,null,null,null,null,null,null,null,null,null,null,null,{"$f":"IF('Outil Recensement'!I804=\"Individuelle\",\"Single\",IF('Outil Recensement'!I804=\"Familiale\",\"Family\",IF('Outil Recensement'!I804=\"Refus\",\"Family\",IF('Outil Recensement'!I804=\"Parent seul\",\"Family\",IF('Outil Recensement'!I804=\"Couple\",\"Family\",IF('Outil Recensement'!I804=\"In force\",\"Family\",IF('Outil Recensement'!I804=\"Applies\",\"Family\",IF('Outil Recensement'!I804=\"Applicable\",\"Family\",\"\"))))))))","v":""}]
[null,null,null,null,null,null,null,null,null,null,null,null,null,{"$f":"IF('Outil Recensement'!I805=\"Individuelle\",\"Single\",IF('Outil Recensement'!I805=\"Familiale\",\"Family\",IF('Outil Recensement'!I805=\"Refus\",\"Family\",IF('Outil Recensement'!I805=\"Parent seul\",\"Family\",IF('Outil Recensement'!I805=\"Couple\",\"Family\",IF('Outil Recensement'!I805=\"In force\",\"Family\",IF('Outil Recensement'!I805=\"Applies\",\"Family\",IF('Outil Recensement'!I805=\"Applicable\",\"Family\",\"\"))))))))","v":""}]
[null,null,null,null,null,null,null,null,null,null,null,null,null,{"$f":"IF('Outil Recensement'!I806=\"Individuelle\",\"Single\",IF('Outil Recensement'!I806=\"Familiale\",\"Family\",IF('Outil Recensement'!I806=\"Refus\",\"Family\",IF('Outil Recensement'!I806=\"Parent seul\",\"Family\",IF('Outil Recensement'!I806=\"Couple\",\"Family\",IF('Outil Recensement'!I806=\"In force\",\"Family\",IF('Outil Recensement'!I806=\"Applies\",\"Family\",IF('Outil Recensement'!I806=\"Applicable\",\"Family\",\"\"))))))))","v":""}]
[null,null,null,null,null,null,null,null,null,null,null,null,null,{"$f":"IF('Outil Recensement'!I807=\"Individuelle\",\"Single\",IF('Outil Recensement'!I807=\"Familiale\",\"Family\",IF('Outil Recensement'!I807=\"Refus\",\"Family\",IF('Outil Recensement'!I807=\"Parent seul\",\"Family\",IF('Outil Recensement'!I807=\"Couple\",\"Family\",IF('Outil Recensement'!I807=\"In force\",\"Family\",IF('Outil Recensement'!I807=\"Applies\",\"Family\",IF('Outil Recensement'!I807=\"Applicable\",\"Family\",\"\"))))))))","v":""}]
[null,null,null,null,null,null,null,null,null,null,null,null,null,{"$f":"IF('Outil Recensement'!I808=\"Individuelle\",\"Single\",IF('Outil Recensement'!I808=\"Familiale\",\"Family\",IF('Outil Recensement'!I808=\"Refus\",\"Family\",IF('Outil Recensement'!I808=\"Parent seul\",\"Family\",IF('Outil Recensement'!I808=\"Couple\",\"Family\",IF('Outil Recensement'!I808=\"In force\",\"Family\",IF('Outil Recensement'!I808=\"Applies\",\"Family\",IF('Outil Recensement'!I808=\"Applicable\",\"Family\",\"\"))))))))","v":""}]
[null,null,null,null,null,null,null,null,null,null,null,null,null,{"$f":"IF('Outil Recensement'!I809=\"Individuelle\",\"Single\",IF('Outil Recensement'!I809=\"Familiale\",\"Family\",IF('Outil Recensement'!I809=\"Refus\",\"Family\",IF('Outil Recensement'!I809=\"Parent seul\",\"Family\",IF('Outil Recensement'!I809=\"Couple\",\"Family\",IF('Outil Recensement'!I809=\"In force\",\"Family\",IF('Outil Recensement'!I809=\"Applies\",\"Family\",IF('Outil Recensement'!I809=\"Applicable\",\"Family\",\"\"))))))))","v":""}]
[null,null,null,null,null,null,null,null,null,null,null,null,null,{"$f":"IF('Outil Recensement'!I810=\"Individuelle\",\"Single\",IF('Outil Recensement'!I810=\"Familiale\",\"Family\",IF('Outil Recensement'!I810=\"Refus\",\"Family\",IF('Outil Recensement'!I810=\"Parent seul\",\"Family\",IF('Outil Recensement'!I810=\"Couple\",\"Family\",IF('Outil Recensement'!I810=\"In force\",\"Family\",IF('Outil Recensement'!I810=\"Applies\",\"Family\",IF('Outil Recensement'!I810=\"Applicable\",\"Family\",\"\"))))))))","v":""}]
[null,null,null,null,null,null,null,null,null,null,null,null,null,{"$f":"IF('Outil Recensement'!I811=\"Individuelle\",\"Single\",IF('Outil Recensement'!I811=\"Familiale\",\"Family\",IF('Outil Recensement'!I811=\"Refus\",\"Family\",IF('Outil Recensement'!I811=\"Parent seul\",\"Family\",IF('Outil Recensement'!I811=\"Couple\",\"Family\",IF('Outil Recensement'!I811=\"In force\",\"Family\",IF('Outil Recensement'!I811=\"Applies\",\"Family\",IF('Outil Recensement'!I811=\"Applicable\",\"Family\",\"\"))))))))","v":""}]
[null,null,null,null,null,null,null,null,null,null,null,null,null,{"$f":"IF('Outil Recensement'!I812=\"Individuelle\",\"Single\",IF('Outil Recensement'!I812=\"Familiale\",\"Family\",IF('Outil Recensement'!I812=\"Refus\",\"Family\",IF('Outil Recensement'!I812=\"Parent seul\",\"Family\",IF('Outil Recensement'!I812=\"Couple\",\"Family\",IF('Outil Recensement'!I812=\"In force\",\"Family\",IF('Outil Recensement'!I812=\"Applies\",\"Family\",IF('Outil Recensement'!I812=\"Applicable\",\"Family\",\"\"))))))))","v":""}]
[null,null,null,null,null,null,null,null,null,null,null,null,null,{"$f":"IF('Outil Recensement'!I813=\"Individuelle\",\"Single\",IF('Outil Recensement'!I813=\"Familiale\",\"Family\",IF('Outil Recensement'!I813=\"Refus\",\"Family\",IF('Outil Recensement'!I813=\"Parent seul\",\"Family\",IF('Outil Recensement'!I813=\"Couple\",\"Family\",IF('Outil Recensement'!I813=\"In force\",\"Family\",IF('Outil Recensement'!I813=\"Applies\",\"Family\",IF('Outil Recensement'!I813=\"Applicable\",\"Family\",\"\"))))))))","v":""}]
[null,null,null,null,null,null,null,null,null,null,null,null,null,{"$f":"IF('Outil Recensement'!I814=\"Individuelle\",\"Single\",IF('Outil Recensement'!I814=\"Familiale\",\"Family\",IF('Outil Recensement'!I814=\"Refus\",\"Family\",IF('Outil Recensement'!I814=\"Parent seul\",\"Family\",IF('Outil Recensement'!I814=\"Couple\",\"Family\",IF('Outil Recensement'!I814=\"In force\",\"Family\",IF('Outil Recensement'!I814=\"Applies\",\"Family\",IF('Outil Recensement'!I814=\"Applicable\",\"Family\",\"\"))))))))","v":""}]
[null,null,null,null,null,null,null,null,null,null,null,null,null,{"$f":"IF('Outil Recensement'!I815=\"Individuelle\",\"Single\",IF('Outil Recensement'!I815=\"Familiale\",\"Family\",IF('Outil Recensement'!I815=\"Refus\",\"Family\",IF('Outil Recensement'!I815=\"Parent seul\",\"Family\",IF('Outil Recensement'!I815=\"Couple\",\"Family\",IF('Outil Recensement'!I815=\"In force\",\"Family\",IF('Outil Recensement'!I815=\"Applies\",\"Family\",IF('Outil Recensement'!I815=\"Applicable\",\"Family\",\"\"))))))))","v":""}]
[null,null,null,null,null,null,null,null,null,null,null,null,null,{"$f":"IF('Outil Recensement'!I816=\"Individuelle\",\"Single\",IF('Outil Recensement'!I816=\"Familiale\",\"Family\",IF('Outil Recensement'!I816=\"Refus\",\"Family\",IF('Outil Recensement'!I816=\"Parent seul\",\"Family\",IF('Outil Recensement'!I816=\"Couple\",\"Family\",IF('Outil Recensement'!I816=\"In force\",\"Family\",IF('Outil Recensement'!I816=\"Applies\",\"Family\",IF('Outil Recensement'!I816=\"Applicable\",\"Family\",\"\"))))))))","v":""}]
[null,null,null,null,null,null,null,null,null,null,null,null,null,{"$f":"IF('Outil Recensement'!I817=\"Individuelle\",\"Single\",IF('Outil Recensement'!I817=\"Familiale\",\"Family\",IF('Outil Recensement'!I817=\"Refus\",\"Family\",IF('Outil Recensement'!I817=\"Parent seul\",\"Family\",IF('Outil Recensement'!I817=\"Couple\",\"Family\",IF('Outil Recensement'!I817=\"In force\",\"Family\",IF('Outil Recensement'!I817=\"Applies\",\"Family\",IF('Outil Recensement'!I817=\"Applicable\",\"Family\",\"\"))))))))","v":""}]
[null,null,null,null,null,null,null,null,null,null,null,null,null,{"$f":"IF('Outil Recensement'!I818=\"Individuelle\",\"Single\",IF('Outil Recensement'!I818=\"Familiale\",\"Family\",IF('Outil Recensement'!I818=\"Refus\",\"Family\",IF('Outil Recensement'!I818=\"Parent seul\",\"Family\",IF('Outil Recensement'!I818=\"Couple\",\"Family\",IF('Outil Recensement'!I818=\"In force\",\"Family\",IF('Outil Recensement'!I818=\"Applies\",\"Family\",IF('Outil Recensement'!I818=\"Applicable\",\"Family\",\"\"))))))))","v":""}]
[null,null,null,null,null,null,null,null,null,null,null,null,null,{"$f":"IF('Outil Recensement'!I819=\"Individuelle\",\"Single\",IF('Outil Recensement'!I819=\"Familiale\",\"Family\",IF('Outil Recensement'!I819=\"Refus\",\"Family\",IF('Outil Recensement'!I819=\"Parent seul\",\"Family\",IF('Outil Recensement'!I819=\"Couple\",\"Family\",IF('Outil Recensement'!I819=\"In force\",\"Family\",IF('Outil Recensement'!I819=\"Applies\",\"Family\",IF('Outil Recensement'!I819=\"Applicable\",\"Family\",\"\"))))))))","v":""}]
[null,null,null,null,null,null,null,null,null,null,null,null,null,{"$f":"IF('Outil Recensement'!I820=\"Individuelle\",\"Single\",IF('Outil Recensement'!I820=\"Familiale\",\"Family\",IF('Outil Recensement'!I820=\"Refus\",\"Family\",IF('Outil Recensement'!I820=\"Parent seul\",\"Family\",IF('Outil Recensement'!I820=\"Couple\",\"Family\",IF('Outil Recensement'!I820=\"In force\",\"Family\",IF('Outil Recensement'!I820=\"Applies\",\"Family\",IF('Outil Recensement'!I820=\"Applicable\",\"Family\",\"\"))))))))","v":""}]
[null,null,null,null,null,null,null,null,null,null,null,null,null,{"$f":"IF('Outil Recensement'!I821=\"Individuelle\",\"Single\",IF('Outil Recensement'!I821=\"Familiale\",\"Family\",IF('Outil Recensement'!I821=\"Refus\",\"Family\",IF('Outil Recensement'!I821=\"Parent seul\",\"Family\",IF('Outil Recensement'!I821=\"Couple\",\"Family\",IF('Outil Recensement'!I821=\"In force\",\"Family\",IF('Outil Recensement'!I821=\"Applies\",\"Family\",IF('Outil Recensement'!I821=\"Applicable\",\"Family\",\"\"))))))))","v":""}]
[null,null,null,null,null,null,null,null,null,null,null,null,null,{"$f":"IF('Outil Recensement'!I822=\"Individuelle\",\"Single\",IF('Outil Recensement'!I822=\"Familiale\",\"Family\",IF('Outil Recensement'!I822=\"Refus\",\"Family\",IF('Outil Recensement'!I822=\"Parent seul\",\"Family\",IF('Outil Recensement'!I822=\"Couple\",\"Family\",IF('Outil Recensement'!I822=\"In force\",\"Family\",IF('Outil Recensement'!I822=\"Applies\",\"Family\",IF('Outil Recensement'!I822=\"Applicable\",\"Family\",\"\"))))))))","v":""}]
[null,null,null,null,null,null,null,null,null,null,null,null,null,{"$f":"IF('Outil Recensement'!I823=\"Individuelle\",\"Single\",IF('Outil Recensement'!I823=\"Familiale\",\"Family\",IF('Outil Recensement'!I823=\"Refus\",\"Family\",IF('Outil Recensement'!I823=\"Parent seul\",\"Family\",IF('Outil Recensement'!I823=\"Couple\",\"Family\",IF('Outil Recensement'!I823=\"In force\",\"Family\",IF('Outil Recensement'!I823=\"Applies\",\"Family\",IF('Outil Recensement'!I823=\"Applicable\",\"Family\",\"\"))))))))","v":""}]
[null,null,null,null,null,null,null,null,null,null,null,null,null,{"$f":"IF('Outil Recensement'!I824=\"Individuelle\",\"Single\",IF('Outil Recensement'!I824=\"Familiale\",\"Family\",IF('Outil Recensement'!I824=\"Refus\",\"Family\",IF('Outil Recensement'!I824=\"Parent seul\",\"Family\",IF('Outil Recensement'!I824=\"Couple\",\"Family\",IF('Outil Recensement'!I824=\"In force\",\"Family\",IF('Outil Recensement'!I824=\"Applies\",\"Family\",IF('Outil Recensement'!I824=\"Applicable\",\"Family\",\"\"))))))))","v":""}]
[null,null,null,null,null,null,null,null,null,null,null,null,null,{"$f":"IF('Outil Recensement'!I825=\"Individuelle\",\"Single\",IF('Outil Recensement'!I825=\"Familiale\",\"Family\",IF('Outil Recensement'!I825=\"Refus\",\"Family\",IF('Outil Recensement'!I825=\"Parent seul\",\"Family\",IF('Outil Recensement'!I825=\"Couple\",\"Family\",IF('Outil Recensement'!I825=\"In force\",\"Family\",IF('Outil Recensement'!I825=\"Applies\",\"Family\",IF('Outil Recensement'!I825=\"Applicable\",\"Family\",\"\"))))))))","v":""}]
[null,null,null,null,null,null,null,null,null,null,null,null,null,{"$f":"IF('Outil Recensement'!I826=\"Individuelle\",\"Single\",IF('Outil Recensement'!I826=\"Familiale\",\"Family\",IF('Outil Recensement'!I826=\"Refus\",\"Family\",IF('Outil Recensement'!I826=\"Parent seul\",\"Family\",IF('Outil Recensement'!I826=\"Couple\",\"Family\",IF('Outil Recensement'!I826=\"In force\",\"Family\",IF('Outil Recensement'!I826=\"Applies\",\"Family\",IF('Outil Recensement'!I826=\"Applicable\",\"Family\",\"\"))))))))","v":""}]
[null,null,null,null,null,null,null,null,null,null,null,null,null,{"$f":"IF('Outil Recensement'!I827=\"Individuelle\",\"Single\",IF('Outil Recensement'!I827=\"Familiale\",\"Family\",IF('Outil Recensement'!I827=\"Refus\",\"Family\",IF('Outil Recensement'!I827=\"Parent seul\",\"Family\",IF('Outil Recensement'!I827=\"Couple\",\"Family\",IF('Outil Recensement'!I827=\"In force\",\"Family\",IF('Outil Recensement'!I827=\"Applies\",\"Family\",IF('Outil Recensement'!I827=\"Applicable\",\"Family\",\"\"))))))))","v":""}]
[null,null,null,null,null,null,null,null,null,null,null,null,null,{"$f":"IF('Outil Recensement'!I828=\"Individuelle\",\"Single\",IF('Outil Recensement'!I828=\"Familiale\",\"Family\",IF('Outil Recensement'!I828=\"Refus\",\"Family\",IF('Outil Recensement'!I828=\"Parent seul\",\"Family\",IF('Outil Recensement'!I828=\"Couple\",\"Family\",IF('Outil Recensement'!I828=\"In force\",\"Family\",IF('Outil Recensement'!I828=\"Applies\",\"Family\",IF('Outil Recensement'!I828=\"Applicable\",\"Family\",\"\"))))))))","v":""}]
[null,null,null,null,null,null,null,null,null,null,null,null,null,{"$f":"IF('Outil Recensement'!I829=\"Individuelle\",\"Single\",IF('Outil Recensement'!I829=\"Familiale\",\"Family\",IF('Outil Recensement'!I829=\"Refus\",\"Family\",IF('Outil Recensement'!I829=\"Parent seul\",\"Family\",IF('Outil Recensement'!I829=\"Couple\",\"Family\",IF('Outil Recensement'!I829=\"In force\",\"Family\",IF('Outil Recensement'!I829=\"Applies\",\"Family\",IF('Outil Recensement'!I829=\"Applicable\",\"Family\",\"\"))))))))","v":""}]
[null,null,null,null,null,null,null,null,null,null,null,null,null,{"$f":"IF('Outil Recensement'!I830=\"Individuelle\",\"Single\",IF('Outil Recensement'!I830=\"Familiale\",\"Family\",IF('Outil Recensement'!I830=\"Refus\",\"Family\",IF('Outil Recensement'!I830=\"Parent seul\",\"Family\",IF('Outil Recensement'!I830=\"Couple\",\"Family\",IF('Outil Recensement'!I830=\"In force\",\"Family\",IF('Outil Recensement'!I830=\"Applies\",\"Family\",IF('Outil Recensement'!I830=\"Applicable\",\"Family\",\"\"))))))))","v":""}]
[null,null,null,null,null,null,null,null,null,null,null,null,null,{"$f":"IF('Outil Recensement'!I831=\"Individuelle\",\"Single\",IF('Outil Recensement'!I831=\"Familiale\",\"Family\",IF('Outil Recensement'!I831=\"Refus\",\"Family\",IF('Outil Recensement'!I831=\"Parent seul\",\"Family\",IF('Outil Recensement'!I831=\"Couple\",\"Family\",IF('Outil Recensement'!I831=\"In force\",\"Family\",IF('Outil Recensement'!I831=\"Applies\",\"Family\",IF('Outil Recensement'!I831=\"Applicable\",\"Family\",\"\"))))))))","v":""}]
[null,null,null,null,null,null,null,null,null,null,null,null,null,{"$f":"IF('Outil Recensement'!I832=\"Individuelle\",\"Single\",IF('Outil Recensement'!I832=\"Familiale\",\"Family\",IF('Outil Recensement'!I832=\"Refus\",\"Family\",IF('Outil Recensement'!I832=\"Parent seul\",\"Family\",IF('Outil Recensement'!I832=\"Couple\",\"Family\",IF('Outil Recensement'!I832=\"In force\",\"Family\",IF('Outil Recensement'!I832=\"Applies\",\"Family\",IF('Outil Recensement'!I832=\"Applicable\",\"Family\",\"\"))))))))","v":""}]
[null,null,null,null,null,null,null,null,null,null,null,null,null,{"$f":"IF('Outil Recensement'!I833=\"Individuelle\",\"Single\",IF('Outil Recensement'!I833=\"Familiale\",\"Family\",IF('Outil Recensement'!I833=\"Refus\",\"Family\",IF('Outil Recensement'!I833=\"Parent seul\",\"Family\",IF('Outil Recensement'!I833=\"Couple\",\"Family\",IF('Outil Recensement'!I833=\"In force\",\"Family\",IF('Outil Recensement'!I833=\"Applies\",\"Family\",IF('Outil Recensement'!I833=\"Applicable\",\"Family\",\"\"))))))))","v":""}]
[null,null,null,null,null,null,null,null,null,null,null,null,null,{"$f":"IF('Outil Recensement'!I834=\"Individuelle\",\"Single\",IF('Outil Recensement'!I834=\"Familiale\",\"Family\",IF('Outil Recensement'!I834=\"Refus\",\"Family\",IF('Outil Recensement'!I834=\"Parent seul\",\"Family\",IF('Outil Recensement'!I834=\"Couple\",\"Family\",IF('Outil Recensement'!I834=\"In force\",\"Family\",IF('Outil Recensement'!I834=\"Applies\",\"Family\",IF('Outil Recensement'!I834=\"Applicable\",\"Family\",\"\"))))))))","v":""}]
[null,null,null,null,null,null,null,null,null,null,null,null,null,{"$f":"IF('Outil Recensement'!I835=\"Individuelle\",\"Single\",IF('Outil Recensement'!I835=\"Familiale\",\"Family\",IF('Outil Recensement'!I835=\"Refus\",\"Family\",IF('Outil Recensement'!I835=\"Parent seul\",\"Family\",IF('Outil Recensement'!I835=\"Couple\",\"Family\",IF('Outil Recensement'!I835=\"In force\",\"Family\",IF('Outil Recensement'!I835=\"Applies\",\"Family\",IF('Outil Recensement'!I835=\"Applicable\",\"Family\",\"\"))))))))","v":""}]
[null,null,null,null,null,null,null,null,null,null,null,null,null,{"$f":"IF('Outil Recensement'!I836=\"Individuelle\",\"Single\",IF('Outil Recensement'!I836=\"Familiale\",\"Family\",IF('Outil Recensement'!I836=\"Refus\",\"Family\",IF('Outil Recensement'!I836=\"Parent seul\",\"Family\",IF('Outil Recensement'!I836=\"Couple\",\"Family\",IF('Outil Recensement'!I836=\"In force\",\"Family\",IF('Outil Recensement'!I836=\"Applies\",\"Family\",IF('Outil Recensement'!I836=\"Applicable\",\"Family\",\"\"))))))))","v":""}]
[null,null,null,null,null,null,null,null,null,null,null,null,null,{"$f":"IF('Outil Recensement'!I837=\"Individuelle\",\"Single\",IF('Outil Recensement'!I837=\"Familiale\",\"Family\",IF('Outil Recensement'!I837=\"Refus\",\"Family\",IF('Outil Recensement'!I837=\"Parent seul\",\"Family\",IF('Outil Recensement'!I837=\"Couple\",\"Family\",IF('Outil Recensement'!I837=\"In force\",\"Family\",IF('Outil Recensement'!I837=\"Applies\",\"Family\",IF('Outil Recensement'!I837=\"Applicable\",\"Family\",\"\"))))))))","v":""}]
[null,null,null,null,null,null,null,null,null,null,null,null,null,{"$f":"IF('Outil Recensement'!I838=\"Individuelle\",\"Single\",IF('Outil Recensement'!I838=\"Familiale\",\"Family\",IF('Outil Recensement'!I838=\"Refus\",\"Family\",IF('Outil Recensement'!I838=\"Parent seul\",\"Family\",IF('Outil Recensement'!I838=\"Couple\",\"Family\",IF('Outil Recensement'!I838=\"In force\",\"Family\",IF('Outil Recensement'!I838=\"Applies\",\"Family\",IF('Outil Recensement'!I838=\"Applicable\",\"Family\",\"\"))))))))","v":""}]
[null,null,null,null,null,null,null,null,null,null,null,null,null,{"$f":"IF('Outil Recensement'!I839=\"Individuelle\",\"Single\",IF('Outil Recensement'!I839=\"Familiale\",\"Family\",IF('Outil Recensement'!I839=\"Refus\",\"Family\",IF('Outil Recensement'!I839=\"Parent seul\",\"Family\",IF('Outil Recensement'!I839=\"Couple\",\"Family\",IF('Outil Recensement'!I839=\"In force\",\"Family\",IF('Outil Recensement'!I839=\"Applies\",\"Family\",IF('Outil Recensement'!I839=\"Applicable\",\"Family\",\"\"))))))))","v":""}]
[null,null,null,null,null,null,null,null,null,null,null,null,null,{"$f":"IF('Outil Recensement'!I840=\"Individuelle\",\"Single\",IF('Outil Recensement'!I840=\"Familiale\",\"Family\",IF('Outil Recensement'!I840=\"Refus\",\"Family\",IF('Outil Recensement'!I840=\"Parent seul\",\"Family\",IF('Outil Recensement'!I840=\"Couple\",\"Family\",IF('Outil Recensement'!I840=\"In force\",\"Family\",IF('Outil Recensement'!I840=\"Applies\",\"Family\",IF('Outil Recensement'!I840=\"Applicable\",\"Family\",\"\"))))))))","v":""}]
[null,null,null,null,null,null,null,null,null,null,null,null,null,{"$f":"IF('Outil Recensement'!I841=\"Individuelle\",\"Single\",IF('Outil Recensement'!I841=\"Familiale\",\"Family\",IF('Outil Recensement'!I841=\"Refus\",\"Family\",IF('Outil Recensement'!I841=\"Parent seul\",\"Family\",IF('Outil Recensement'!I841=\"Couple\",\"Family\",IF('Outil Recensement'!I841=\"In force\",\"Family\",IF('Outil Recensement'!I841=\"Applies\",\"Family\",IF('Outil Recensement'!I841=\"Applicable\",\"Family\",\"\"))))))))","v":""}]
[null,null,null,null,null,null,null,null,null,null,null,null,null,{"$f":"IF('Outil Recensement'!I842=\"Individuelle\",\"Single\",IF('Outil Recensement'!I842=\"Familiale\",\"Family\",IF('Outil Recensement'!I842=\"Refus\",\"Family\",IF('Outil Recensement'!I842=\"Parent seul\",\"Family\",IF('Outil Recensement'!I842=\"Couple\",\"Family\",IF('Outil Recensement'!I842=\"In force\",\"Family\",IF('Outil Recensement'!I842=\"Applies\",\"Family\",IF('Outil Recensement'!I842=\"Applicable\",\"Family\",\"\"))))))))","v":""}]
[null,null,null,null,null,null,null,null,null,null,null,null,null,{"$f":"IF('Outil Recensement'!I843=\"Individuelle\",\"Single\",IF('Outil Recensement'!I843=\"Familiale\",\"Family\",IF('Outil Recensement'!I843=\"Refus\",\"Family\",IF('Outil Recensement'!I843=\"Parent seul\",\"Family\",IF('Outil Recensement'!I843=\"Couple\",\"Family\",IF('Outil Recensement'!I843=\"In force\",\"Family\",IF('Outil Recensement'!I843=\"Applies\",\"Family\",IF('Outil Recensement'!I843=\"Applicable\",\"Family\",\"\"))))))))","v":""}]
[null,null,null,null,null,null,null,null,null,null,null,null,null,{"$f":"IF('Outil Recensement'!I844=\"Individuelle\",\"Single\",IF('Outil Recensement'!I844=\"Familiale\",\"Family\",IF('Outil Recensement'!I844=\"Refus\",\"Family\",IF('Outil Recensement'!I844=\"Parent seul\",\"Family\",IF('Outil Recensement'!I844=\"Couple\",\"Family\",IF('Outil Recensement'!I844=\"In force\",\"Family\",IF('Outil Recensement'!I844=\"Applies\",\"Family\",IF('Outil Recensement'!I844=\"Applicable\",\"Family\",\"\"))))))))","v":""}]
[null,null,null,null,null,null,null,null,null,null,null,null,null,{"$f":"IF('Outil Recensement'!I845=\"Individuelle\",\"Single\",IF('Outil Recensement'!I845=\"Familiale\",\"Family\",IF('Outil Recensement'!I845=\"Refus\",\"Family\",IF('Outil Recensement'!I845=\"Parent seul\",\"Family\",IF('Outil Recensement'!I845=\"Couple\",\"Family\",IF('Outil Recensement'!I845=\"In force\",\"Family\",IF('Outil Recensement'!I845=\"Applies\",\"Family\",IF('Outil Recensement'!I845=\"Applicable\",\"Family\",\"\"))))))))","v":""}]
[null,null,null,null,null,null,null,null,null,null,null,null,null,{"$f":"IF('Outil Recensement'!I846=\"Individuelle\",\"Single\",IF('Outil Recensement'!I846=\"Familiale\",\"Family\",IF('Outil Recensement'!I846=\"Refus\",\"Family\",IF('Outil Recensement'!I846=\"Parent seul\",\"Family\",IF('Outil Recensement'!I846=\"Couple\",\"Family\",IF('Outil Recensement'!I846=\"In force\",\"Family\",IF('Outil Recensement'!I846=\"Applies\",\"Family\",IF('Outil Recensement'!I846=\"Applicable\",\"Family\",\"\"))))))))","v":""}]
[null,null,null,null,null,null,null,null,null,null,null,null,null,{"$f":"IF('Outil Recensement'!I847=\"Individuelle\",\"Single\",IF('Outil Recensement'!I847=\"Familiale\",\"Family\",IF('Outil Recensement'!I847=\"Refus\",\"Family\",IF('Outil Recensement'!I847=\"Parent seul\",\"Family\",IF('Outil Recensement'!I847=\"Couple\",\"Family\",IF('Outil Recensement'!I847=\"In force\",\"Family\",IF('Outil Recensement'!I847=\"Applies\",\"Family\",IF('Outil Recensement'!I847=\"Applicable\",\"Family\",\"\"))))))))","v":""}]
[null,null,null,null,null,null,null,null,null,null,null,null,null,{"$f":"IF('Outil Recensement'!I848=\"Individuelle\",\"Single\",IF('Outil Recensement'!I848=\"Familiale\",\"Family\",IF('Outil Recensement'!I848=\"Refus\",\"Family\",IF('Outil Recensement'!I848=\"Parent seul\",\"Family\",IF('Outil Recensement'!I848=\"Couple\",\"Family\",IF('Outil Recensement'!I848=\"In force\",\"Family\",IF('Outil Recensement'!I848=\"Applies\",\"Family\",IF('Outil Recensement'!I848=\"Applicable\",\"Family\",\"\"))))))))","v":""}]
[null,null,null,null,null,null,null,null,null,null,null,null,null,{"$f":"IF('Outil Recensement'!I849=\"Individuelle\",\"Single\",IF('Outil Recensement'!I849=\"Familiale\",\"Family\",IF('Outil Recensement'!I849=\"Refus\",\"Family\",IF('Outil Recensement'!I849=\"Parent seul\",\"Family\",IF('Outil Recensement'!I849=\"Couple\",\"Family\",IF('Outil Recensement'!I849=\"In force\",\"Family\",IF('Outil Recensement'!I849=\"Applies\",\"Family\",IF('Outil Recensement'!I849=\"Applicable\",\"Family\",\"\"))))))))","v":""}]
[null,null,null,null,null,null,null,null,null,null,null,null,null,{"$f":"IF('Outil Recensement'!I850=\"Individuelle\",\"Single\",IF('Outil Recensement'!I850=\"Familiale\",\"Family\",IF('Outil Recensement'!I850=\"Refus\",\"Family\",IF('Outil Recensement'!I850=\"Parent seul\",\"Family\",IF('Outil Recensement'!I850=\"Couple\",\"Family\",IF('Outil Recensement'!I850=\"In force\",\"Family\",IF('Outil Recensement'!I850=\"Applies\",\"Family\",IF('Outil Recensement'!I850=\"Applicable\",\"Family\",\"\"))))))))","v":""}]
[null,null,null,null,null,null,null,null,null,null,null,null,null,{"$f":"IF('Outil Recensement'!I851=\"Individuelle\",\"Single\",IF('Outil Recensement'!I851=\"Familiale\",\"Family\",IF('Outil Recensement'!I851=\"Refus\",\"Family\",IF('Outil Recensement'!I851=\"Parent seul\",\"Family\",IF('Outil Recensement'!I851=\"Couple\",\"Family\",IF('Outil Recensement'!I851=\"In force\",\"Family\",IF('Outil Recensement'!I851=\"Applies\",\"Family\",IF('Outil Recensement'!I851=\"Applicable\",\"Family\",\"\"))))))))","v":""}]
[null,null,null,null,null,null,null,null,null,null,null,null,null,{"$f":"IF('Outil Recensement'!I852=\"Individuelle\",\"Single\",IF('Outil Recensement'!I852=\"Familiale\",\"Family\",IF('Outil Recensement'!I852=\"Refus\",\"Family\",IF('Outil Recensement'!I852=\"Parent seul\",\"Family\",IF('Outil Recensement'!I852=\"Couple\",\"Family\",IF('Outil Recensement'!I852=\"In force\",\"Family\",IF('Outil Recensement'!I852=\"Applies\",\"Family\",IF('Outil Recensement'!I852=\"Applicable\",\"Family\",\"\"))))))))","v":""}]
[null,null,null,null,null,null,null,null,null,null,null,null,null,{"$f":"IF('Outil Recensement'!I853=\"Individuelle\",\"Single\",IF('Outil Recensement'!I853=\"Familiale\",\"Family\",IF('Outil Recensement'!I853=\"Refus\",\"Family\",IF('Outil Recensement'!I853=\"Parent seul\",\"Family\",IF('Outil Recensement'!I853=\"Couple\",\"Family\",IF('Outil Recensement'!I853=\"In force\",\"Family\",IF('Outil Recensement'!I853=\"Applies\",\"Family\",IF('Outil Recensement'!I853=\"Applicable\",\"Family\",\"\"))))))))","v":""}]
[null,null,null,null,null,null,null,null,null,null,null,null,null,{"$f":"IF('Outil Recensement'!I854=\"Individuelle\",\"Single\",IF('Outil Recensement'!I854=\"Familiale\",\"Family\",IF('Outil Recensement'!I854=\"Refus\",\"Family\",IF('Outil Recensement'!I854=\"Parent seul\",\"Family\",IF('Outil Recensement'!I854=\"Couple\",\"Family\",IF('Outil Recensement'!I854=\"In force\",\"Family\",IF('Outil Recensement'!I854=\"Applies\",\"Family\",IF('Outil Recensement'!I854=\"Applicable\",\"Family\",\"\"))))))))","v":""}]
[null,null,null,null,null,null,null,null,null,null,null,null,null,{"$f":"IF('Outil Recensement'!I855=\"Individuelle\",\"Single\",IF('Outil Recensement'!I855=\"Familiale\",\"Family\",IF('Outil Recensement'!I855=\"Refus\",\"Family\",IF('Outil Recensement'!I855=\"Parent seul\",\"Family\",IF('Outil Recensement'!I855=\"Couple\",\"Family\",IF('Outil Recensement'!I855=\"In force\",\"Family\",IF('Outil Recensement'!I855=\"Applies\",\"Family\",IF('Outil Recensement'!I855=\"Applicable\",\"Family\",\"\"))))))))","v":""}]
[null,null,null,null,null,null,null,null,null,null,null,null,null,{"$f":"IF('Outil Recensement'!I856=\"Individuelle\",\"Single\",IF('Outil Recensement'!I856=\"Familiale\",\"Family\",IF('Outil Recensement'!I856=\"Refus\",\"Family\",IF('Outil Recensement'!I856=\"Parent seul\",\"Family\",IF('Outil Recensement'!I856=\"Couple\",\"Family\",IF('Outil Recensement'!I856=\"In force\",\"Family\",IF('Outil Recensement'!I856=\"Applies\",\"Family\",IF('Outil Recensement'!I856=\"Applicable\",\"Family\",\"\"))))))))","v":""}]
[null,null,null,null,null,null,null,null,null,null,null,null,null,{"$f":"IF('Outil Recensement'!I857=\"Individuelle\",\"Single\",IF('Outil Recensement'!I857=\"Familiale\",\"Family\",IF('Outil Recensement'!I857=\"Refus\",\"Family\",IF('Outil Recensement'!I857=\"Parent seul\",\"Family\",IF('Outil Recensement'!I857=\"Couple\",\"Family\",IF('Outil Recensement'!I857=\"In force\",\"Family\",IF('Outil Recensement'!I857=\"Applies\",\"Family\",IF('Outil Recensement'!I857=\"Applicable\",\"Family\",\"\"))))))))","v":""}]
[null,null,null,null,null,null,null,null,null,null,null,null,null,{"$f":"IF('Outil Recensement'!I858=\"Individuelle\",\"Single\",IF('Outil Recensement'!I858=\"Familiale\",\"Family\",IF('Outil Recensement'!I858=\"Refus\",\"Family\",IF('Outil Recensement'!I858=\"Parent seul\",\"Family\",IF('Outil Recensement'!I858=\"Couple\",\"Family\",IF('Outil Recensement'!I858=\"In force\",\"Family\",IF('Outil Recensement'!I858=\"Applies\",\"Family\",IF('Outil Recensement'!I858=\"Applicable\",\"Family\",\"\"))))))))","v":""}]
[null,null,null,null,null,null,null,null,null,null,null,null,null,{"$f":"IF('Outil Recensement'!I859=\"Individuelle\",\"Single\",IF('Outil Recensement'!I859=\"Familiale\",\"Family\",IF('Outil Recensement'!I859=\"Refus\",\"Family\",IF('Outil Recensement'!I859=\"Parent seul\",\"Family\",IF('Outil Recensement'!I859=\"Couple\",\"Family\",IF('Outil Recensement'!I859=\"In force\",\"Family\",IF('Outil Recensement'!I859=\"Applies\",\"Family\",IF('Outil Recensement'!I859=\"Applicable\",\"Family\",\"\"))))))))","v":""}]
[null,null,null,null,null,null,null,null,null,null,null,null,null,{"$f":"IF('Outil Recensement'!I860=\"Individuelle\",\"Single\",IF('Outil Recensement'!I860=\"Familiale\",\"Family\",IF('Outil Recensement'!I860=\"Refus\",\"Family\",IF('Outil Recensement'!I860=\"Parent seul\",\"Family\",IF('Outil Recensement'!I860=\"Couple\",\"Family\",IF('Outil Recensement'!I860=\"In force\",\"Family\",IF('Outil Recensement'!I860=\"Applies\",\"Family\",IF('Outil Recensement'!I860=\"Applicable\",\"Family\",\"\"))))))))","v":""}]
[null,null,null,null,null,null,null,null,null,null,null,null,null,{"$f":"IF('Outil Recensement'!I861=\"Individuelle\",\"Single\",IF('Outil Recensement'!I861=\"Familiale\",\"Family\",IF('Outil Recensement'!I861=\"Refus\",\"Family\",IF('Outil Recensement'!I861=\"Parent seul\",\"Family\",IF('Outil Recensement'!I861=\"Couple\",\"Family\",IF('Outil Recensement'!I861=\"In force\",\"Family\",IF('Outil Recensement'!I861=\"Applies\",\"Family\",IF('Outil Recensement'!I861=\"Applicable\",\"Family\",\"\"))))))))","v":""}]
[null,null,null,null,null,null,null,null,null,null,null,null,null,{"$f":"IF('Outil Recensement'!I862=\"Individuelle\",\"Single\",IF('Outil Recensement'!I862=\"Familiale\",\"Family\",IF('Outil Recensement'!I862=\"Refus\",\"Family\",IF('Outil Recensement'!I862=\"Parent seul\",\"Family\",IF('Outil Recensement'!I862=\"Couple\",\"Family\",IF('Outil Recensement'!I862=\"In force\",\"Family\",IF('Outil Recensement'!I862=\"Applies\",\"Family\",IF('Outil Recensement'!I862=\"Applicable\",\"Family\",\"\"))))))))","v":""}]
[null,null,null,null,null,null,null,null,null,null,null,null,null,{"$f":"IF('Outil Recensement'!I863=\"Individuelle\",\"Single\",IF('Outil Recensement'!I863=\"Familiale\",\"Family\",IF('Outil Recensement'!I863=\"Refus\",\"Family\",IF('Outil Recensement'!I863=\"Parent seul\",\"Family\",IF('Outil Recensement'!I863=\"Couple\",\"Family\",IF('Outil Recensement'!I863=\"In force\",\"Family\",IF('Outil Recensement'!I863=\"Applies\",\"Family\",IF('Outil Recensement'!I863=\"Applicable\",\"Family\",\"\"))))))))","v":""}]
[null,null,null,null,null,null,null,null,null,null,null,null,null,{"$f":"IF('Outil Recensement'!I864=\"Individuelle\",\"Single\",IF('Outil Recensement'!I864=\"Familiale\",\"Family\",IF('Outil Recensement'!I864=\"Refus\",\"Family\",IF('Outil Recensement'!I864=\"Parent seul\",\"Family\",IF('Outil Recensement'!I864=\"Couple\",\"Family\",IF('Outil Recensement'!I864=\"In force\",\"Family\",IF('Outil Recensement'!I864=\"Applies\",\"Family\",IF('Outil Recensement'!I864=\"Applicable\",\"Family\",\"\"))))))))","v":""}]
[null,null,null,null,null,null,null,null,null,null,null,null,null,{"$f":"IF('Outil Recensement'!I865=\"Individuelle\",\"Single\",IF('Outil Recensement'!I865=\"Familiale\",\"Family\",IF('Outil Recensement'!I865=\"Refus\",\"Family\",IF('Outil Recensement'!I865=\"Parent seul\",\"Family\",IF('Outil Recensement'!I865=\"Couple\",\"Family\",IF('Outil Recensement'!I865=\"In force\",\"Family\",IF('Outil Recensement'!I865=\"Applies\",\"Family\",IF('Outil Recensement'!I865=\"Applicable\",\"Family\",\"\"))))))))","v":""}]
[null,null,null,null,null,null,null,null,null,null,null,null,null,{"$f":"IF('Outil Recensement'!I866=\"Individuelle\",\"Single\",IF('Outil Recensement'!I866=\"Familiale\",\"Family\",IF('Outil Recensement'!I866=\"Refus\",\"Family\",IF('Outil Recensement'!I866=\"Parent seul\",\"Family\",IF('Outil Recensement'!I866=\"Couple\",\"Family\",IF('Outil Recensement'!I866=\"In force\",\"Family\",IF('Outil Recensement'!I866=\"Applies\",\"Family\",IF('Outil Recensement'!I866=\"Applicable\",\"Family\",\"\"))))))))","v":""}]
[null,null,null,null,null,null,null,null,null,null,null,null,null,{"$f":"IF('Outil Recensement'!I867=\"Individuelle\",\"Single\",IF('Outil Recensement'!I867=\"Familiale\",\"Family\",IF('Outil Recensement'!I867=\"Refus\",\"Family\",IF('Outil Recensement'!I867=\"Parent seul\",\"Family\",IF('Outil Recensement'!I867=\"Couple\",\"Family\",IF('Outil Recensement'!I867=\"In force\",\"Family\",IF('Outil Recensement'!I867=\"Applies\",\"Family\",IF('Outil Recensement'!I867=\"Applicable\",\"Family\",\"\"))))))))","v":""}]
[null,null,null,null,null,null,null,null,null,null,null,null,null,{"$f":"IF('Outil Recensement'!I868=\"Individuelle\",\"Single\",IF('Outil Recensement'!I868=\"Familiale\",\"Family\",IF('Outil Recensement'!I868=\"Refus\",\"Family\",IF('Outil Recensement'!I868=\"Parent seul\",\"Family\",IF('Outil Recensement'!I868=\"Couple\",\"Family\",IF('Outil Recensement'!I868=\"In force\",\"Family\",IF('Outil Recensement'!I868=\"Applies\",\"Family\",IF('Outil Recensement'!I868=\"Applicable\",\"Family\",\"\"))))))))","v":""}]
[null,null,null,null,null,null,null,null,null,null,null,null,null,{"$f":"IF('Outil Recensement'!I869=\"Individuelle\",\"Single\",IF('Outil Recensement'!I869=\"Familiale\",\"Family\",IF('Outil Recensement'!I869=\"Refus\",\"Family\",IF('Outil Recensement'!I869=\"Parent seul\",\"Family\",IF('Outil Recensement'!I869=\"Couple\",\"Family\",IF('Outil Recensement'!I869=\"In force\",\"Family\",IF('Outil Recensement'!I869=\"Applies\",\"Family\",IF('Outil Recensement'!I869=\"Applicable\",\"Family\",\"\"))))))))","v":""}]
[null,null,null,null,null,null,null,null,null,null,null,null,null,{"$f":"IF('Outil Recensement'!I870=\"Individuelle\",\"Single\",IF('Outil Recensement'!I870=\"Familiale\",\"Family\",IF('Outil Recensement'!I870=\"Refus\",\"Family\",IF('Outil Recensement'!I870=\"Parent seul\",\"Family\",IF('Outil Recensement'!I870=\"Couple\",\"Family\",IF('Outil Recensement'!I870=\"In force\",\"Family\",IF('Outil Recensement'!I870=\"Applies\",\"Family\",IF('Outil Recensement'!I870=\"Applicable\",\"Family\",\"\"))))))))","v":""}]
[null,null,null,null,null,null,null,null,null,null,null,null,null,{"$f":"IF('Outil Recensement'!I871=\"Individuelle\",\"Single\",IF('Outil Recensement'!I871=\"Familiale\",\"Family\",IF('Outil Recensement'!I871=\"Refus\",\"Family\",IF('Outil Recensement'!I871=\"Parent seul\",\"Family\",IF('Outil Recensement'!I871=\"Couple\",\"Family\",IF('Outil Recensement'!I871=\"In force\",\"Family\",IF('Outil Recensement'!I871=\"Applies\",\"Family\",IF('Outil Recensement'!I871=\"Applicable\",\"Family\",\"\"))))))))","v":""}]
[null,null,null,null,null,null,null,null,null,null,null,null,null,{"$f":"IF('Outil Recensement'!I872=\"Individuelle\",\"Single\",IF('Outil Recensement'!I872=\"Familiale\",\"Family\",IF('Outil Recensement'!I872=\"Refus\",\"Family\",IF('Outil Recensement'!I872=\"Parent seul\",\"Family\",IF('Outil Recensement'!I872=\"Couple\",\"Family\",IF('Outil Recensement'!I872=\"In force\",\"Family\",IF('Outil Recensement'!I872=\"Applies\",\"Family\",IF('Outil Recensement'!I872=\"Applicable\",\"Family\",\"\"))))))))","v":""}]
[null,null,null,null,null,null,null,null,null,null,null,null,null,{"$f":"IF('Outil Recensement'!I873=\"Individuelle\",\"Single\",IF('Outil Recensement'!I873=\"Familiale\",\"Family\",IF('Outil Recensement'!I873=\"Refus\",\"Family\",IF('Outil Recensement'!I873=\"Parent seul\",\"Family\",IF('Outil Recensement'!I873=\"Couple\",\"Family\",IF('Outil Recensement'!I873=\"In force\",\"Family\",IF('Outil Recensement'!I873=\"Applies\",\"Family\",IF('Outil Recensement'!I873=\"Applicable\",\"Family\",\"\"))))))))","v":""}]
[null,null,null,null,null,null,null,null,null,null,null,null,null,{"$f":"IF('Outil Recensement'!I874=\"Individuelle\",\"Single\",IF('Outil Recensement'!I874=\"Familiale\",\"Family\",IF('Outil Recensement'!I874=\"Refus\",\"Family\",IF('Outil Recensement'!I874=\"Parent seul\",\"Family\",IF('Outil Recensement'!I874=\"Couple\",\"Family\",IF('Outil Recensement'!I874=\"In force\",\"Family\",IF('Outil Recensement'!I874=\"Applies\",\"Family\",IF('Outil Recensement'!I874=\"Applicable\",\"Family\",\"\"))))))))","v":""}]
[null,null,null,null,null,null,null,null,null,null,null,null,null,{"$f":"IF('Outil Recensement'!I875=\"Individuelle\",\"Single\",IF('Outil Recensement'!I875=\"Familiale\",\"Family\",IF('Outil Recensement'!I875=\"Refus\",\"Family\",IF('Outil Recensement'!I875=\"Parent seul\",\"Family\",IF('Outil Recensement'!I875=\"Couple\",\"Family\",IF('Outil Recensement'!I875=\"In force\",\"Family\",IF('Outil Recensement'!I875=\"Applies\",\"Family\",IF('Outil Recensement'!I875=\"Applicable\",\"Family\",\"\"))))))))","v":""}]
[null,null,null,null,null,null,null,null,null,null,null,null,null,{"$f":"IF('Outil Recensement'!I876=\"Individuelle\",\"Single\",IF('Outil Recensement'!I876=\"Familiale\",\"Family\",IF('Outil Recensement'!I876=\"Refus\",\"Family\",IF('Outil Recensement'!I876=\"Parent seul\",\"Family\",IF('Outil Recensement'!I876=\"Couple\",\"Family\",IF('Outil Recensement'!I876=\"In force\",\"Family\",IF('Outil Recensement'!I876=\"Applies\",\"Family\",IF('Outil Recensement'!I876=\"Applicable\",\"Family\",\"\"))))))))","v":""}]
[null,null,null,null,null,null,null,null,null,null,null,null,null,{"$f":"IF('Outil Recensement'!I877=\"Individuelle\",\"Single\",IF('Outil Recensement'!I877=\"Familiale\",\"Family\",IF('Outil Recensement'!I877=\"Refus\",\"Family\",IF('Outil Recensement'!I877=\"Parent seul\",\"Family\",IF('Outil Recensement'!I877=\"Couple\",\"Family\",IF('Outil Recensement'!I877=\"In force\",\"Family\",IF('Outil Recensement'!I877=\"Applies\",\"Family\",IF('Outil Recensement'!I877=\"Applicable\",\"Family\",\"\"))))))))","v":""}]
[null,null,null,null,null,null,null,null,null,null,null,null,null,{"$f":"IF('Outil Recensement'!I878=\"Individuelle\",\"Single\",IF('Outil Recensement'!I878=\"Familiale\",\"Family\",IF('Outil Recensement'!I878=\"Refus\",\"Family\",IF('Outil Recensement'!I878=\"Parent seul\",\"Family\",IF('Outil Recensement'!I878=\"Couple\",\"Family\",IF('Outil Recensement'!I878=\"In force\",\"Family\",IF('Outil Recensement'!I878=\"Applies\",\"Family\",IF('Outil Recensement'!I878=\"Applicable\",\"Family\",\"\"))))))))","v":""}]
[null,null,null,null,null,null,null,null,null,null,null,null,null,{"$f":"IF('Outil Recensement'!I879=\"Individuelle\",\"Single\",IF('Outil Recensement'!I879=\"Familiale\",\"Family\",IF('Outil Recensement'!I879=\"Refus\",\"Family\",IF('Outil Recensement'!I879=\"Parent seul\",\"Family\",IF('Outil Recensement'!I879=\"Couple\",\"Family\",IF('Outil Recensement'!I879=\"In force\",\"Family\",IF('Outil Recensement'!I879=\"Applies\",\"Family\",IF('Outil Recensement'!I879=\"Applicable\",\"Family\",\"\"))))))))","v":""}]
[null,null,null,null,null,null,null,null,null,null,null,null,null,{"$f":"IF('Outil Recensement'!I880=\"Individuelle\",\"Single\",IF('Outil Recensement'!I880=\"Familiale\",\"Family\",IF('Outil Recensement'!I880=\"Refus\",\"Family\",IF('Outil Recensement'!I880=\"Parent seul\",\"Family\",IF('Outil Recensement'!I880=\"Couple\",\"Family\",IF('Outil Recensement'!I880=\"In force\",\"Family\",IF('Outil Recensement'!I880=\"Applies\",\"Family\",IF('Outil Recensement'!I880=\"Applicable\",\"Family\",\"\"))))))))","v":""}]
[null,null,null,null,null,null,null,null,null,null,null,null,null,{"$f":"IF('Outil Recensement'!I881=\"Individuelle\",\"Single\",IF('Outil Recensement'!I881=\"Familiale\",\"Family\",IF('Outil Recensement'!I881=\"Refus\",\"Family\",IF('Outil Recensement'!I881=\"Parent seul\",\"Family\",IF('Outil Recensement'!I881=\"Couple\",\"Family\",IF('Outil Recensement'!I881=\"In force\",\"Family\",IF('Outil Recensement'!I881=\"Applies\",\"Family\",IF('Outil Recensement'!I881=\"Applicable\",\"Family\",\"\"))))))))","v":""}]
[null,null,null,null,null,null,null,null,null,null,null,null,null,{"$f":"IF('Outil Recensement'!I882=\"Individuelle\",\"Single\",IF('Outil Recensement'!I882=\"Familiale\",\"Family\",IF('Outil Recensement'!I882=\"Refus\",\"Family\",IF('Outil Recensement'!I882=\"Parent seul\",\"Family\",IF('Outil Recensement'!I882=\"Couple\",\"Family\",IF('Outil Recensement'!I882=\"In force\",\"Family\",IF('Outil Recensement'!I882=\"Applies\",\"Family\",IF('Outil Recensement'!I882=\"Applicable\",\"Family\",\"\"))))))))","v":""}]
[null,null,null,null,null,null,null,null,null,null,null,null,null,{"$f":"IF('Outil Recensement'!I883=\"Individuelle\",\"Single\",IF('Outil Recensement'!I883=\"Familiale\",\"Family\",IF('Outil Recensement'!I883=\"Refus\",\"Family\",IF('Outil Recensement'!I883=\"Parent seul\",\"Family\",IF('Outil Recensement'!I883=\"Couple\",\"Family\",IF('Outil Recensement'!I883=\"In force\",\"Family\",IF('Outil Recensement'!I883=\"Applies\",\"Family\",IF('Outil Recensement'!I883=\"Applicable\",\"Family\",\"\"))))))))","v":""}]
[null,null,null,null,null,null,null,null,null,null,null,null,null,{"$f":"IF('Outil Recensement'!I884=\"Individuelle\",\"Single\",IF('Outil Recensement'!I884=\"Familiale\",\"Family\",IF('Outil Recensement'!I884=\"Refus\",\"Family\",IF('Outil Recensement'!I884=\"Parent seul\",\"Family\",IF('Outil Recensement'!I884=\"Couple\",\"Family\",IF('Outil Recensement'!I884=\"In force\",\"Family\",IF('Outil Recensement'!I884=\"Applies\",\"Family\",IF('Outil Recensement'!I884=\"Applicable\",\"Family\",\"\"))))))))","v":""}]
[null,null,null,null,null,null,null,null,null,null,null,null,null,{"$f":"IF('Outil Recensement'!I885=\"Individuelle\",\"Single\",IF('Outil Recensement'!I885=\"Familiale\",\"Family\",IF('Outil Recensement'!I885=\"Refus\",\"Family\",IF('Outil Recensement'!I885=\"Parent seul\",\"Family\",IF('Outil Recensement'!I885=\"Couple\",\"Family\",IF('Outil Recensement'!I885=\"In force\",\"Family\",IF('Outil Recensement'!I885=\"Applies\",\"Family\",IF('Outil Recensement'!I885=\"Applicable\",\"Family\",\"\"))))))))","v":""}]
[null,null,null,null,null,null,null,null,null,null,null,null,null,{"$f":"IF('Outil Recensement'!I886=\"Individuelle\",\"Single\",IF('Outil Recensement'!I886=\"Familiale\",\"Family\",IF('Outil Recensement'!I886=\"Refus\",\"Family\",IF('Outil Recensement'!I886=\"Parent seul\",\"Family\",IF('Outil Recensement'!I886=\"Couple\",\"Family\",IF('Outil Recensement'!I886=\"In force\",\"Family\",IF('Outil Recensement'!I886=\"Applies\",\"Family\",IF('Outil Recensement'!I886=\"Applicable\",\"Family\",\"\"))))))))","v":""}]
[null,null,null,null,null,null,null,null,null,null,null,null,null,{"$f":"IF('Outil Recensement'!I887=\"Individuelle\",\"Single\",IF('Outil Recensement'!I887=\"Familiale\",\"Family\",IF('Outil Recensement'!I887=\"Refus\",\"Family\",IF('Outil Recensement'!I887=\"Parent seul\",\"Family\",IF('Outil Recensement'!I887=\"Couple\",\"Family\",IF('Outil Recensement'!I887=\"In force\",\"Family\",IF('Outil Recensement'!I887=\"Applies\",\"Family\",IF('Outil Recensement'!I887=\"Applicable\",\"Family\",\"\"))))))))","v":""}]
[null,null,null,null,null,null,null,null,null,null,null,null,null,{"$f":"IF('Outil Recensement'!I888=\"Individuelle\",\"Single\",IF('Outil Recensement'!I888=\"Familiale\",\"Family\",IF('Outil Recensement'!I888=\"Refus\",\"Family\",IF('Outil Recensement'!I888=\"Parent seul\",\"Family\",IF('Outil Recensement'!I888=\"Couple\",\"Family\",IF('Outil Recensement'!I888=\"In force\",\"Family\",IF('Outil Recensement'!I888=\"Applies\",\"Family\",IF('Outil Recensement'!I888=\"Applicable\",\"Family\",\"\"))))))))","v":""}]
[null,null,null,null,null,null,null,null,null,null,null,null,null,{"$f":"IF('Outil Recensement'!I889=\"Individuelle\",\"Single\",IF('Outil Recensement'!I889=\"Familiale\",\"Family\",IF('Outil Recensement'!I889=\"Refus\",\"Family\",IF('Outil Recensement'!I889=\"Parent seul\",\"Family\",IF('Outil Recensement'!I889=\"Couple\",\"Family\",IF('Outil Recensement'!I889=\"In force\",\"Family\",IF('Outil Recensement'!I889=\"Applies\",\"Family\",IF('Outil Recensement'!I889=\"Applicable\",\"Family\",\"\"))))))))","v":""}]
[null,null,null,null,null,null,null,null,null,null,null,null,null,{"$f":"IF('Outil Recensement'!I890=\"Individuelle\",\"Single\",IF('Outil Recensement'!I890=\"Familiale\",\"Family\",IF('Outil Recensement'!I890=\"Refus\",\"Family\",IF('Outil Recensement'!I890=\"Parent seul\",\"Family\",IF('Outil Recensement'!I890=\"Couple\",\"Family\",IF('Outil Recensement'!I890=\"In force\",\"Family\",IF('Outil Recensement'!I890=\"Applies\",\"Family\",IF('Outil Recensement'!I890=\"Applicable\",\"Family\",\"\"))))))))","v":""}]
[null,null,null,null,null,null,null,null,null,null,null,null,null,{"$f":"IF('Outil Recensement'!I891=\"Individuelle\",\"Single\",IF('Outil Recensement'!I891=\"Familiale\",\"Family\",IF('Outil Recensement'!I891=\"Refus\",\"Family\",IF('Outil Recensement'!I891=\"Parent seul\",\"Family\",IF('Outil Recensement'!I891=\"Couple\",\"Family\",IF('Outil Recensement'!I891=\"In force\",\"Family\",IF('Outil Recensement'!I891=\"Applies\",\"Family\",IF('Outil Recensement'!I891=\"Applicable\",\"Family\",\"\"))))))))","v":""}]
[null,null,null,null,null,null,null,null,null,null,null,null,null,{"$f":"IF('Outil Recensement'!I892=\"Individuelle\",\"Single\",IF('Outil Recensement'!I892=\"Familiale\",\"Family\",IF('Outil Recensement'!I892=\"Refus\",\"Family\",IF('Outil Recensement'!I892=\"Parent seul\",\"Family\",IF('Outil Recensement'!I892=\"Couple\",\"Family\",IF('Outil Recensement'!I892=\"In force\",\"Family\",IF('Outil Recensement'!I892=\"Applies\",\"Family\",IF('Outil Recensement'!I892=\"Applicable\",\"Family\",\"\"))))))))","v":""}]
[null,null,null,null,null,null,null,null,null,null,null,null,null,{"$f":"IF('Outil Recensement'!I893=\"Individuelle\",\"Single\",IF('Outil Recensement'!I893=\"Familiale\",\"Family\",IF('Outil Recensement'!I893=\"Refus\",\"Family\",IF('Outil Recensement'!I893=\"Parent seul\",\"Family\",IF('Outil Recensement'!I893=\"Couple\",\"Family\",IF('Outil Recensement'!I893=\"In force\",\"Family\",IF('Outil Recensement'!I893=\"Applies\",\"Family\",IF('Outil Recensement'!I893=\"Applicable\",\"Family\",\"\"))))))))","v":""}]
[null,null,null,null,null,null,null,null,null,null,null,null,null,{"$f":"IF('Outil Recensement'!I894=\"Individuelle\",\"Single\",IF('Outil Recensement'!I894=\"Familiale\",\"Family\",IF('Outil Recensement'!I894=\"Refus\",\"Family\",IF('Outil Recensement'!I894=\"Parent seul\",\"Family\",IF('Outil Recensement'!I894=\"Couple\",\"Family\",IF('Outil Recensement'!I894=\"In force\",\"Family\",IF('Outil Recensement'!I894=\"Applies\",\"Family\",IF('Outil Recensement'!I894=\"Applicable\",\"Family\",\"\"))))))))","v":""}]
[null,null,null,null,null,null,null,null,null,null,null,null,null,{"$f":"IF('Outil Recensement'!I895=\"Individuelle\",\"Single\",IF('Outil Recensement'!I895=\"Familiale\",\"Family\",IF('Outil Recensement'!I895=\"Refus\",\"Family\",IF('Outil Recensement'!I895=\"Parent seul\",\"Family\",IF('Outil Recensement'!I895=\"Couple\",\"Family\",IF('Outil Recensement'!I895=\"In force\",\"Family\",IF('Outil Recensement'!I895=\"Applies\",\"Family\",IF('Outil Recensement'!I895=\"Applicable\",\"Family\",\"\"))))))))","v":""}]
[null,null,null,null,null,null,null,null,null,null,null,null,null,{"$f":"IF('Outil Recensement'!I896=\"Individuelle\",\"Single\",IF('Outil Recensement'!I896=\"Familiale\",\"Family\",IF('Outil Recensement'!I896=\"Refus\",\"Family\",IF('Outil Recensement'!I896=\"Parent seul\",\"Family\",IF('Outil Recensement'!I896=\"Couple\",\"Family\",IF('Outil Recensement'!I896=\"In force\",\"Family\",IF('Outil Recensement'!I896=\"Applies\",\"Family\",IF('Outil Recensement'!I896=\"Applicable\",\"Family\",\"\"))))))))","v":""}]
[null,null,null,null,null,null,null,null,null,null,null,null,null,{"$f":"IF('Outil Recensement'!I897=\"Individuelle\",\"Single\",IF('Outil Recensement'!I897=\"Familiale\",\"Family\",IF('Outil Recensement'!I897=\"Refus\",\"Family\",IF('Outil Recensement'!I897=\"Parent seul\",\"Family\",IF('Outil Recensement'!I897=\"Couple\",\"Family\",IF('Outil Recensement'!I897=\"In force\",\"Family\",IF('Outil Recensement'!I897=\"Applies\",\"Family\",IF('Outil Recensement'!I897=\"Applicable\",\"Family\",\"\"))))))))","v":""}]
[null,null,null,null,null,null,null,null,null,null,null,null,null,{"$f":"IF('Outil Recensement'!I898=\"Individuelle\",\"Single\",IF('Outil Recensement'!I898=\"Familiale\",\"Family\",IF('Outil Recensement'!I898=\"Refus\",\"Family\",IF('Outil Recensement'!I898=\"Parent seul\",\"Family\",IF('Outil Recensement'!I898=\"Couple\",\"Family\",IF('Outil Recensement'!I898=\"In force\",\"Family\",IF('Outil Recensement'!I898=\"Applies\",\"Family\",IF('Outil Recensement'!I898=\"Applicable\",\"Family\",\"\"))))))))","v":""}]
[null,null,null,null,null,null,null,null,null,null,null,null,null,{"$f":"IF('Outil Recensement'!I899=\"Individuelle\",\"Single\",IF('Outil Recensement'!I899=\"Familiale\",\"Family\",IF('Outil Recensement'!I899=\"Refus\",\"Family\",IF('Outil Recensement'!I899=\"Parent seul\",\"Family\",IF('Outil Recensement'!I899=\"Couple\",\"Family\",IF('Outil Recensement'!I899=\"In force\",\"Family\",IF('Outil Recensement'!I899=\"Applies\",\"Family\",IF('Outil Recensement'!I899=\"Applicable\",\"Family\",\"\"))))))))","v":""}]
[null,null,null,null,null,null,null,null,null,null,null,null,null,{"$f":"IF('Outil Recensement'!I900=\"Individuelle\",\"Single\",IF('Outil Recensement'!I900=\"Familiale\",\"Family\",IF('Outil Recensement'!I900=\"Refus\",\"Family\",IF('Outil Recensement'!I900=\"Parent seul\",\"Family\",IF('Outil Recensement'!I900=\"Couple\",\"Family\",IF('Outil Recensement'!I900=\"In force\",\"Family\",IF('Outil Recensement'!I900=\"Applies\",\"Family\",IF('Outil Recensement'!I900=\"Applicable\",\"Family\",\"\"))))))))","v":""}]
[null,null,null,null,null,null,null,null,null,null,null,null,null,{"$f":"IF('Outil Recensement'!I901=\"Individuelle\",\"Single\",IF('Outil Recensement'!I901=\"Familiale\",\"Family\",IF('Outil Recensement'!I901=\"Refus\",\"Family\",IF('Outil Recensement'!I901=\"Parent seul\",\"Family\",IF('Outil Recensement'!I901=\"Couple\",\"Family\",IF('Outil Recensement'!I901=\"In force\",\"Family\",IF('Outil Recensement'!I901=\"Applies\",\"Family\",IF('Outil Recensement'!I901=\"Applicable\",\"Family\",\"\"))))))))","v":""}]
[null,null,null,null,null,null,null,null,null,null,null,null,null,{"$f":"IF('Outil Recensement'!I902=\"Individuelle\",\"Single\",IF('Outil Recensement'!I902=\"Familiale\",\"Family\",IF('Outil Recensement'!I902=\"Refus\",\"Family\",IF('Outil Recensement'!I902=\"Parent seul\",\"Family\",IF('Outil Recensement'!I902=\"Couple\",\"Family\",IF('Outil Recensement'!I902=\"In force\",\"Family\",IF('Outil Recensement'!I902=\"Applies\",\"Family\",IF('Outil Recensement'!I902=\"Applicable\",\"Family\",\"\"))))))))","v":""}]
[null,null,null,null,null,null,null,null,null,null,null,null,null,{"$f":"IF('Outil Recensement'!I903=\"Individuelle\",\"Single\",IF('Outil Recensement'!I903=\"Familiale\",\"Family\",IF('Outil Recensement'!I903=\"Refus\",\"Family\",IF('Outil Recensement'!I903=\"Parent seul\",\"Family\",IF('Outil Recensement'!I903=\"Couple\",\"Family\",IF('Outil Recensement'!I903=\"In force\",\"Family\",IF('Outil Recensement'!I903=\"Applies\",\"Family\",IF('Outil Recensement'!I903=\"Applicable\",\"Family\",\"\"))))))))","v":""}]
[null,null,null,null,null,null,null,null,null,null,null,null,null,{"$f":"IF('Outil Recensement'!I904=\"Individuelle\",\"Single\",IF('Outil Recensement'!I904=\"Familiale\",\"Family\",IF('Outil Recensement'!I904=\"Refus\",\"Family\",IF('Outil Recensement'!I904=\"Parent seul\",\"Family\",IF('Outil Recensement'!I904=\"Couple\",\"Family\",IF('Outil Recensement'!I904=\"In force\",\"Family\",IF('Outil Recensement'!I904=\"Applies\",\"Family\",IF('Outil Recensement'!I904=\"Applicable\",\"Family\",\"\"))))))))","v":""}]
[null,null,null,null,null,null,null,null,null,null,null,null,null,{"$f":"IF('Outil Recensement'!I905=\"Individuelle\",\"Single\",IF('Outil Recensement'!I905=\"Familiale\",\"Family\",IF('Outil Recensement'!I905=\"Refus\",\"Family\",IF('Outil Recensement'!I905=\"Parent seul\",\"Family\",IF('Outil Recensement'!I905=\"Couple\",\"Family\",IF('Outil Recensement'!I905=\"In force\",\"Family\",IF('Outil Recensement'!I905=\"Applies\",\"Family\",IF('Outil Recensement'!I905=\"Applicable\",\"Family\",\"\"))))))))","v":""}]

{"sheet":"OASIS Manual Adjustments","index":3,"n_rows":104,"n_cols":8,"rows_kept":104,"cut":false,"hidden":true,"merged":[[2,5,2,6]]}
[]
[]
[null,null,null,null,null,"OASIS Manual Adjustment(s) to make:"]
[null,"Member ID","First Name","Last Name","Dependent Status indicated on Simplified Loader","EHC Coverage Selection","Dental Coverage Selection","Monthly HSA Allotment\n(if different between members)"]
[null,{"$f":"IF('Outil Recensement'!A10>0,'Outil Recensement'!A10,\"\")","v":""},{"$f":"IF('Outil Recensement'!B10>0,'Outil Recensement'!B10,\"\")","v":""},{"$f":"IF('Outil Recensement'!D10>0,'Outil Recensement'!D10,\"\")","v":""},{"$f":"IF('Simplified Loader (FOR COPY)'!N4>0,'Simplified Loader (FOR COPY)'!N4,\"\")","v":""},{"$f":"IF(AND('Simplified Loader (FOR COPY)'!N4=\"Family\",'Outil Recensement'!I10=\"Individuelle\"),\"Single\",IF('Outil Recensement'!I10=\"Parent seul\",\"Single + more\",IF('Outil Recensement'!I10=\"Couple\",\"Couple\",\"\")))","v":""},{"$f":"IF(AND('Simplified Loader (FOR COPY)'!N4=\"Family\",'Outil Recensement'!I10=\"Individuelle\"),\"Single\",IF('Outil Recensement'!I10=\"Parent seul\",\"Single + more\",IF('Outil Recensement'!I10=\"Couple\",\"Couple\",\"\")))","v":""},{"$f":"IF('Outil Recensement'!CI10>0,'Outil Recensement'!CI10,\"\")","v":""}]
[null,{"$f":"IF('Outil Recensement'!A11>0,'Outil Recensement'!A11,\"\")","v":""},{"$f":"IF('Outil Recensement'!B11>0,'Outil Recensement'!B11,\"\")","v":""},{"$f":"IF('Outil Recensement'!D11>0,'Outil Recensement'!D11,\"\")","v":""},{"$f":"IF('Simplified Loader (FOR COPY)'!N5>0,'Simplified Loader (FOR COPY)'!N5,\"\")","v":""},{"$f":"IF(AND('Simplified Loader (FOR COPY)'!N5=\"Family\",'Outil Recensement'!I11=\"Individuelle\"),\"Single\",IF('Outil Recensement'!I11=\"Parent seul\",\"Single + more\",IF('Outil Recensement'!I11=\"Couple\",\"Couple\",\"\")))","v":""},{"$f":"IF(AND('Simplified Loader (FOR COPY)'!N5=\"Family\",'Outil Recensement'!I11=\"Individuelle\"),\"Single\",IF('Outil Recensement'!I11=\"Parent seul\",\"Single + more\",IF('Outil Recensement'!I11=\"Couple\",\"Couple\",\"\")))","v":""},{"$f":"IF('Outil Recensement'!CI11>0,'Outil Recensement'!CI11,\"\")","v":""}]
[null,{"$f":"IF('Outil Recensement'!A12>0,'Outil Recensement'!A12,\"\")","v":""},{"$f":"IF('Outil Recensement'!B12>0,'Outil Recensement'!B12,\"\")","v":""},{"$f":"IF('Outil Recensement'!D12>0,'Outil Recensement'!D12,\"\")","v":""},{"$f":"IF('Simplified Loader (FOR COPY)'!N6>0,'Simplified Loader (FOR COPY)'!N6,\"\")","v":""},{"$f":"IF(AND('Simplified Loader (FOR COPY)'!N6=\"Family\",'Outil Recensement'!I12=\"Individuelle\"),\"Single\",IF('Outil Recensement'!I12=\"Parent seul\",\"Single + more\",IF('Outil Recensement'!I12=\"Couple\",\"Couple\",\"\")))","v":""},{"$f":"IF(AND('Simplified Loader (FOR COPY)'!N6=\"Family\",'Outil Recensement'!I12=\"Individuelle\"),\"Single\",IF('Outil Recensement'!I12=\"Parent seul\",\"Single + more\",IF('Outil Recensement'!I12=\"Couple\",\"Couple\",\"\")))","v":""},{"$f":"IF('Outil Recensement'!CI12>0,'Outil Recensement'!CI12,\"\")","v":""}]
[null,{"$f":"IF('Outil Recensement'!A13>0,'Outil Recensement'!A13,\"\")","v":""},{"$f":"IF('Outil Recensement'!B13>0,'Outil Recensement'!B13,\"\")","v":""},{"$f":"IF('Outil Recensement'!D13>0,'Outil Recensement'!D13,\"\")","v":""},{"$f":"IF('Simplified Loader (FOR COPY)'!N7>0,'Simplified Loader (FOR COPY)'!N7,\"\")","v":""},{"$f":"IF(AND('Simplified Loader (FOR COPY)'!N7=\"Family\",'Outil Recensement'!I13=\"Individuelle\"),\"Single\",IF('Outil Recensement'!I13=\"Parent seul\",\"Single + more\",IF('Outil Recensement'!I13=\"Couple\",\"Couple\",\"\")))","v":""},{"$f":"IF(AND('Simplified Loader (FOR COPY)'!N7=\"Family\",'Outil Recensement'!I13=\"Individuelle\"),\"Single\",IF('Outil Recensement'!I13=\"Parent seul\",\"Single + more\",IF('Outil Recensement'!I13=\"Couple\",\"Couple\",\"\")))","v":""},{"$f":"IF('Outil Recensement'!CI13>0,'Outil Recensement'!CI13,\"\")","v":""}]
[null,{"$f":"IF('Outil Recensement'!A14>0,'Outil Recensement'!A14,\"\")","v":""},{"$f":"IF('Outil Recensement'!B14>0,'Outil Recensement'!B14,\"\")","v":""},{"$f":"IF('Outil Recensement'!D14>0,'Outil Recensement'!D14,\"\")","v":""},{"$f":"IF('Simplified Loader (FOR COPY)'!N8>0,'Simplified Loader (FOR COPY)'!N8,\"\")","v":""},{"$f":"IF(AND('Simplified Loader (FOR COPY)'!N8=\"Family\",'Outil Recensement'!I14=\"Individuelle\"),\"Single\",IF('Outil Recensement'!I14=\"Parent seul\",\"Single + more\",IF('Outil Recensement'!I14=\"Couple\",\"Couple\",\"\")))","v":""},{"$f":"IF(AND('Simplified Loader (FOR COPY)'!N8=\"Family\",'Outil Recensement'!I14=\"Individuelle\"),\"Single\",IF('Outil Recensement'!I14=\"Parent seul\",\"Single + more\",IF('Outil Recensement'!I14=\"Couple\",\"Couple\",\"\")))","v":""},{"$f":"IF('Outil Recensement'!CI14>0,'Outil Recensement'!CI14,\"\")","v":""}]
[null,{"$f":"IF('Outil Recensement'!A15>0,'Outil Recensement'!A15,\"\")","v":""},{"$f":"IF('Outil Recensement'!B15>0,'Outil Recensement'!B15,\"\")","v":""},{"$f":"IF('Outil Recensement'!D15>0,'Outil Recensement'!D15,\"\")","v":""},{"$f":"IF('Simplified Loader (FOR COPY)'!N9>0,'Simplified Loader (FOR COPY)'!N9,\"\")","v":""},{"$f":"IF(AND('Simplified Loader (FOR COPY)'!N9=\"Family\",'Outil Recensement'!I15=\"Individuelle\"),\"Single\",IF('Outil Recensement'!I15=\"Parent seul\",\"Single + more\",IF('Outil Recensement'!I15=\"Couple\",\"Couple\",\"\")))","v":""},{"$f":"IF(AND('Simplified Loader (FOR COPY)'!N9=\"Family\",'Outil Recensement'!I15=\"Individuelle\"),\"Single\",IF('Outil Recensement'!I15=\"Parent seul\",\"Single + more\",IF('Outil Recensement'!I15=\"Couple\",\"Couple\",\"\")))","v":""},{"$f":"IF('Outil Recensement'!CI15>0,'Outil Recensement'!CI15,\"\")","v":""}]
[null,{"$f":"IF('Outil Recensement'!A16>0,'Outil Recensement'!A16,\"\")","v":""},{"$f":"IF('Outil Recensement'!B16>0,'Outil Recensement'!B16,\"\")","v":""},{"$f":"IF('Outil Recensement'!D16>0,'Outil Recensement'!D16,\"\")","v":""},{"$f":"IF('Simplified Loader (FOR COPY)'!N10>0,'Simplified Loader (FOR COPY)'!N10,\"\")","v":""},{"$f":"IF(AND('Simplified Loader (FOR COPY)'!N10=\"Family\",'Outil Recensement'!I16=\"Individuelle\"),\"Single\",IF('Outil Recensement'!I16=\"Parent seul\",\"Single + more\",IF('Outil Recensement'!I16=\"Couple\",\"Couple\",\"\")))","v":""},{"$f":"IF(AND('Simplified Loader (FOR COPY)'!N10=\"Family\",'Outil Recensement'!I16=\"Individuelle\"),\"Single\",IF('Outil Recensement'!I16=\"Parent seul\",\"Single + more\",IF('Outil Recensement'!I16=\"Couple\",\"Couple\",\"\")))","v":""},{"$f":"IF('Outil Recensement'!CI16>0,'Outil Recensement'!CI16,\"\")","v":""}]
[null,{"$f":"IF('Outil Recensement'!A17>0,'Outil Recensement'!A17,\"\")","v":""},{"$f":"IF('Outil Recensement'!B17>0,'Outil Recensement'!B17,\"\")","v":""},{"$f":"IF('Outil Recensement'!D17>0,'Outil Recensement'!D17,\"\")","v":""},{"$f":"IF('Simplified Loader (FOR COPY)'!N11>0,'Simplified Loader (FOR COPY)'!N11,\"\")","v":""},{"$f":"IF(AND('Simplified Loader (FOR COPY)'!N11=\"Family\",'Outil Recensement'!I17=\"Individuelle\"),\"Single\",IF('Outil Recensement'!I17=\"Parent seul\",\"Single + more\",IF('Outil Recensement'!I17=\"Couple\",\"Couple\",\"\")))","v":""},{"$f":"IF(AND('Simplified Loader (FOR COPY)'!N11=\"Family\",'Outil Recensement'!I17=\"Individuelle\"),\"Single\",IF('Outil Recensement'!I17=\"Parent seul\",\"Single + more\",IF('Outil Recensement'!I17=\"Couple\",\"Couple\",\"\")))","v":""},{"$f":"IF('Outil Recensement'!CI17>0,'Outil Recensement'!CI17,\"\")","v":""}]
[null,{"$f":"IF('Outil Recensement'!A18>0,'Outil Recensement'!A18,\"\")","v":""},{"$f":"IF('Outil Recensement'!B18>0,'Outil Recensement'!B18,\"\")","v":""},{"$f":"IF('Outil Recensement'!D18>0,'Outil Recensement'!D18,\"\")","v":""},{"$f":"IF('Simplified Loader (FOR COPY)'!N12>0,'Simplified Loader (FOR COPY)'!N12,\"\")","v":""},{"$f":"IF(AND('Simplified Loader (FOR COPY)'!N12=\"Family\",'Outil Recensement'!I18=\"Individuelle\"),\"Single\",IF('Outil Recensement'!I18=\"Parent seul\",\"Single + more\",IF('Outil Recensement'!I18=\"Couple\",\"Couple\",\"\")))","v":""},{"$f":"IF(AND('Simplified Loader (FOR COPY)'!N12=\"Family\",'Outil Recensement'!I18=\"Individuelle\"),\"Single\",IF('Outil Recensement'!I18=\"Parent seul\",\"Single + more\",IF('Outil Recensement'!I18=\"Couple\",\"Couple\",\"\")))","v":""},{"$f":"IF('Outil Recensement'!CI18>0,'Outil Recensement'!CI18,\"\")","v":""}]
[null,{"$f":"IF('Outil Recensement'!A19>0,'Outil Recensement'!A19,\"\")","v":""},{"$f":"IF('Outil Recensement'!B19>0,'Outil Recensement'!B19,\"\")","v":""},{"$f":"IF('Outil Recensement'!D19>0,'Outil Recensement'!D19,\"\")","v":""},{"$f":"IF('Simplified Loader (FOR COPY)'!N13>0,'Simplified Loader (FOR COPY)'!N13,\"\")","v":""},{"$f":"IF(AND('Simplified Loader (FOR COPY)'!N13=\"Family\",'Outil Recensement'!I19=\"Individuelle\"),\"Single\",IF('Outil Recensement'!I19=\"Parent seul\",\"Single + more\",IF('Outil Recensement'!I19=\"Couple\",\"Couple\",\"\")))","v":""},{"$f":"IF(AND('Simplified Loader (FOR COPY)'!N13=\"Family\",'Outil Recensement'!I19=\"Individuelle\"),\"Single\",IF('Outil Recensement'!I19=\"Parent seul\",\"Single + more\",IF('Outil Recensement'!I19=\"Couple\",\"Couple\",\"\")))","v":""},{"$f":"IF('Outil Recensement'!CI19>0,'Outil Recensement'!CI19,\"\")","v":""}]
[null,{"$f":"IF('Outil Recensement'!A20>0,'Outil Recensement'!A20,\"\")","v":""},{"$f":"IF('Outil Recensement'!B20>0,'Outil Recensement'!B20,\"\")","v":""},{"$f":"IF('Outil Recensement'!D20>0,'Outil Recensement'!D20,\"\")","v":""},{"$f":"IF('Simplified Loader (FOR COPY)'!N14>0,'Simplified Loader (FOR COPY)'!N14,\"\")","v":""},{"$f":"IF(AND('Simplified Loader (FOR COPY)'!N14=\"Family\",'Outil Recensement'!I20=\"Individuelle\"),\"Single\",IF('Outil Recensement'!I20=\"Parent seul\",\"Single + more\",IF('Outil Recensement'!I20=\"Couple\",\"Couple\",\"\")))","v":""},{"$f":"IF(AND('Simplified Loader (FOR COPY)'!N14=\"Family\",'Outil Recensement'!I20=\"Individuelle\"),\"Single\",IF('Outil Recensement'!I20=\"Parent seul\",\"Single + more\",IF('Outil Recensement'!I20=\"Couple\",\"Couple\",\"\")))","v":""},{"$f":"IF('Outil Recensement'!CI20>0,'Outil Recensement'!CI20,\"\")","v":""}]
[null,{"$f":"IF('Outil Recensement'!A21>0,'Outil Recensement'!A21,\"\")","v":""},{"$f":"IF('Outil Recensement'!B21>0,'Outil Recensement'!B21,\"\")","v":""},{"$f":"IF('Outil Recensement'!D21>0,'Outil Recensement'!D21,\"\")","v":""},{"$f":"IF('Simplified Loader (FOR COPY)'!N15>0,'Simplified Loader (FOR COPY)'!N15,\"\")","v":""},{"$f":"IF(AND('Simplified Loader (FOR COPY)'!N15=\"Family\",'Outil Recensement'!I21=\"Individuelle\"),\"Single\",IF('Outil Recensement'!I21=\"Parent seul\",\"Single + more\",IF('Outil Recensement'!I21=\"Couple\",\"Couple\",\"\")))","v":""},{"$f":"IF(AND('Simplified Loader (FOR COPY)'!N15=\"Family\",'Outil Recensement'!I21=\"Individuelle\"),\"Single\",IF('Outil Recensement'!I21=\"Parent seul\",\"Single + more\",IF('Outil Recensement'!I21=\"Couple\",\"Couple\",\"\")))","v":""},{"$f":"IF('Outil Recensement'!CI21>0,'Outil Recensement'!CI21,\"\")","v":""}]
[null,{"$f":"IF('Outil Recensement'!A22>0,'Outil Recensement'!A22,\"\")","v":""},{"$f":"IF('Outil Recensement'!B22>0,'Outil Recensement'!B22,\"\")","v":""},{"$f":"IF('Outil Recensement'!D22>0,'Outil Recensement'!D22,\"\")","v":""},{"$f":"IF('Simplified Loader (FOR COPY)'!N16>0,'Simplified Loader (FOR COPY)'!N16,\"\")","v":""},{"$f":"IF(AND('Simplified Loader (FOR COPY)'!N16=\"Family\",'Outil Recensement'!I22=\"Individuelle\"),\"Single\",IF('Outil Recensement'!I22=\"Parent seul\",\"Single + more\",IF('Outil Recensement'!I22=\"Couple\",\"Couple\",\"\")))","v":""},{"$f":"IF(AND('Simplified Loader (FOR COPY)'!N16=\"Family\",'Outil Recensement'!I22=\"Individuelle\"),\"Single\",IF('Outil Recensement'!I22=\"Parent seul\",\"Single + more\",IF('Outil Recensement'!I22=\"Couple\",\"Couple\",\"\")))","v":""},{"$f":"IF('Outil Recensement'!CI22>0,'Outil Recensement'!CI22,\"\")","v":""}]
[null,{"$f":"IF('Outil Recensement'!A23>0,'Outil Recensement'!A23,\"\")","v":""},{"$f":"IF('Outil Recensement'!B23>0,'Outil Recensement'!B23,\"\")","v":""},{"$f":"IF('Outil Recensement'!D23>0,'Outil Recensement'!D23,\"\")","v":""},{"$f":"IF('Simplified Loader (FOR COPY)'!N17>0,'Simplified Loader (FOR COPY)'!N17,\"\")","v":""},{"$f":"IF(AND('Simplified Loader (FOR COPY)'!N17=\"Family\",'Outil Recensement'!I23=\"Individuelle\"),\"Single\",IF('Outil Recensement'!I23=\"Parent seul\",\"Single + more\",IF('Outil Recensement'!I23=\"Couple\",\"Couple\",\"\")))","v":""},{"$f":"IF(AND('Simplified Loader (FOR COPY)'!N17=\"Family\",'Outil Recensement'!I23=\"Individuelle\"),\"Single\",IF('Outil Recensement'!I23=\"Parent seul\",\"Single + more\",IF('Outil Recensement'!I23=\"Couple\",\"Couple\",\"\")))","v":""},{"$f":"IF('Outil Recensement'!CI23>0,'Outil Recensement'!CI23,\"\")","v":""}]
[null,{"$f":"IF('Outil Recensement'!A24>0,'Outil Recensement'!A24,\"\")","v":""},{"$f":"IF('Outil Recensement'!B24>0,'Outil Recensement'!B24,\"\")","v":""},{"$f":"IF('Outil Recensement'!D24>0,'Outil Recensement'!D24,\"\")","v":""},{"$f":"IF('Simplified Loader (FOR COPY)'!N18>0,'Simplified Loader (FOR COPY)'!N18,\"\")","v":""},{"$f":"IF(AND('Simplified Loader (FOR COPY)'!N18=\"Family\",'Outil Recensement'!I24=\"Individuelle\"),\"Single\",IF('Outil Recensement'!I24=\"Parent seul\",\"Single + more\",IF('Outil Recensement'!I24=\"Couple\",\"Couple\",\"\")))","v":""},{"$f":"IF(AND('Simplified Loader (FOR COPY)'!N18=\"Family\",'Outil Recensement'!I24=\"Individuelle\"),\"Single\",IF('Outil Recensement'!I24=\"Parent seul\",\"Single + more\",IF('Outil Recensement'!I24=\"Couple\",\"Couple\",\"\")))","v":""},{"$f":"IF('Outil Recensement'!CI24>0,'Outil Recensement'!CI24,\"\")","v":""}]
[null,{"$f":"IF('Outil Recensement'!A25>0,'Outil Recensement'!A25,\"\")","v":""},{"$f":"IF('Outil Recensement'!B25>0,'Outil Recensement'!B25,\"\")","v":""},{"$f":"IF('Outil Recensement'!D25>0,'Outil Recensement'!D25,\"\")","v":""},{"$f":"IF('Simplified Loader (FOR COPY)'!N19>0,'Simplified Loader (FOR COPY)'!N19,\"\")","v":""},{"$f":"IF(AND('Simplified Loader (FOR COPY)'!N19=\"Family\",'Outil Recensement'!I25=\"Individuelle\"),\"Single\",IF('Outil Recensement'!I25=\"Parent seul\",\"Single + more\",IF('Outil Recensement'!I25=\"Couple\",\"Couple\",\"\")))","v":""},{"$f":"IF(AND('Simplified Loader (FOR COPY)'!N19=\"Family\",'Outil Recensement'!I25=\"Individuelle\"),\"Single\",IF('Outil Recensement'!I25=\"Parent seul\",\"Single + more\",IF('Outil Recensement'!I25=\"Couple\",\"Couple\",\"\")))","v":""},{"$f":"IF('Outil Recensement'!CI25>0,'Outil Recensement'!CI25,\"\")","v":""}]
[null,{"$f":"IF('Outil Recensement'!A26>0,'Outil Recensement'!A26,\"\")","v":""},{"$f":"IF('Outil Recensement'!B26>0,'Outil Recensement'!B26,\"\")","v":""},{"$f":"IF('Outil Recensement'!D26>0,'Outil Recensement'!D26,\"\")","v":""},{"$f":"IF('Simplified Loader (FOR COPY)'!N20>0,'Simplified Loader (FOR COPY)'!N20,\"\")","v":""},{"$f":"IF(AND('Simplified Loader (FOR COPY)'!N20=\"Family\",'Outil Recensement'!I26=\"Individuelle\"),\"Single\",IF('Outil Recensement'!I26=\"Parent seul\",\"Single + more\",IF('Outil Recensement'!I26=\"Couple\",\"Couple\",\"\")))","v":""},{"$f":"IF(AND('Simplified Loader (FOR COPY)'!N20=\"Family\",'Outil Recensement'!I26=\"Individuelle\"),\"Single\",IF('Outil Recensement'!I26=\"Parent seul\",\"Single + more\",IF('Outil Recensement'!I26=\"Couple\",\"Couple\",\"\")))","v":""},{"$f":"IF('Outil Recensement'!CI26>0,'Outil Recensement'!CI26,\"\")","v":""}]
[null,{"$f":"IF('Outil Recensement'!A27>0,'Outil Recensement'!A27,\"\")","v":""},{"$f":"IF('Outil Recensement'!B27>0,'Outil Recensement'!B27,\"\")","v":""},{"$f":"IF('Outil Recensement'!D27>0,'Outil Recensement'!D27,\"\")","v":""},{"$f":"IF('Simplified Loader (FOR COPY)'!N21>0,'Simplified Loader (FOR COPY)'!N21,\"\")","v":""},{"$f":"IF(AND('Simplified Loader (FOR COPY)'!N21=\"Family\",'Outil Recensement'!I27=\"Individuelle\"),\"Single\",IF('Outil Recensement'!I27=\"Parent seul\",\"Single + more\",IF('Outil Recensement'!I27=\"Couple\",\"Couple\",\"\")))","v":""},{"$f":"IF(AND('Simplified Loader (FOR COPY)'!N21=\"Family\",'Outil Recensement'!I27=\"Individuelle\"),\"Single\",IF('Outil Recensement'!I27=\"Parent seul\",\"Single + more\",IF('Outil Recensement'!I27=\"Couple\",\"Couple\",\"\")))","v":""},{"$f":"IF('Outil Recensement'!CI27>0,'Outil Recensement'!CI27,\"\")","v":""}]
[null,{"$f":"IF('Outil Recensement'!A28>0,'Outil Recensement'!A28,\"\")","v":""},{"$f":"IF('Outil Recensement'!B28>0,'Outil Recensement'!B28,\"\")","v":""},{"$f":"IF('Outil Recensement'!D28>0,'Outil Recensement'!D28,\"\")","v":""},{"$f":"IF('Simplified Loader (FOR COPY)'!N22>0,'Simplified Loader (FOR COPY)'!N22,\"\")","v":""},{"$f":"IF(AND('Simplified Loader (FOR COPY)'!N22=\"Family\",'Outil Recensement'!I28=\"Individuelle\"),\"Single\",IF('Outil Recensement'!I28=\"Parent seul\",\"Single + more\",IF('Outil Recensement'!I28=\"Couple\",\"Couple\",\"\")))","v":""},{"$f":"IF(AND('Simplified Loader (FOR COPY)'!N22=\"Family\",'Outil Recensement'!I28=\"Individuelle\"),\"Single\",IF('Outil Recensement'!I28=\"Parent seul\",\"Single + more\",IF('Outil Recensement'!I28=\"Couple\",\"Couple\",\"\")))","v":""},{"$f":"IF('Outil Recensement'!CI28>0,'Outil Recensement'!CI28,\"\")","v":""}]
[null,{"$f":"IF('Outil Recensement'!A29>0,'Outil Recensement'!A29,\"\")","v":""},{"$f":"IF('Outil Recensement'!B29>0,'Outil Recensement'!B29,\"\")","v":""},{"$f":"IF('Outil Recensement'!D29>0,'Outil Recensement'!D29,\"\")","v":""},{"$f":"IF('Simplified Loader (FOR COPY)'!N23>0,'Simplified Loader (FOR COPY)'!N23,\"\")","v":""},{"$f":"IF(AND('Simplified Loader (FOR COPY)'!N23=\"Family\",'Outil Recensement'!I29=\"Individuelle\"),\"Single\",IF('Outil Recensement'!I29=\"Parent seul\",\"Single + more\",IF('Outil Recensement'!I29=\"Couple\",\"Couple\",\"\")))","v":""},{"$f":"IF(AND('Simplified Loader (FOR COPY)'!N23=\"Family\",'Outil Recensement'!I29=\"Individuelle\"),\"Single\",IF('Outil Recensement'!I29=\"Parent seul\",\"Single + more\",IF('Outil Recensement'!I29=\"Couple\",\"Couple\",\"\")))","v":""},{"$f":"IF('Outil Recensement'!CI29>0,'Outil Recensement'!CI29,\"\")","v":""}]
[null,{"$f":"IF('Outil Recensement'!A30>0,'Outil Recensement'!A30,\"\")","v":""},{"$f":"IF('Outil Recensement'!B30>0,'Outil Recensement'!B30,\"\")","v":""},{"$f":"IF('Outil Recensement'!D30>0,'Outil Recensement'!D30,\"\")","v":""},{"$f":"IF('Simplified Loader (FOR COPY)'!N24>0,'Simplified Loader (FOR COPY)'!N24,\"\")","v":""},{"$f":"IF(AND('Simplified Loader (FOR COPY)'!N24=\"Family\",'Outil Recensement'!I30=\"Individuelle\"),\"Single\",IF('Outil Recensement'!I30=\"Parent seul\",\"Single + more\",IF('Outil Recensement'!I30=\"Couple\",\"Couple\",\"\")))","v":""},{"$f":"IF(AND('Simplified Loader (FOR COPY)'!N24=\"Family\",'Outil Recensement'!I30=\"Individuelle\"),\"Single\",IF('Outil Recensement'!I30=\"Parent seul\",\"Single + more\",IF('Outil Recensement'!I30=\"Couple\",\"Couple\",\"\")))","v":""},{"$f":"IF('Outil Recensement'!CI30>0,'Outil Recensement'!CI30,\"\")","v":""}]
[null,{"$f":"IF('Outil Recensement'!A31>0,'Outil Recensement'!A31,\"\")","v":""},{"$f":"IF('Outil Recensement'!B31>0,'Outil Recensement'!B31,\"\")","v":""},{"$f":"IF('Outil Recensement'!D31>0,'Outil Recensement'!D31,\"\")","v":""},{"$f":"IF('Simplified Loader (FOR COPY)'!N25>0,'Simplified Loader (FOR COPY)'!N25,\"\")","v":""},{"$f":"IF(AND('Simplified Loader (FOR COPY)'!N25=\"Family\",'Outil Recensement'!I31=\"Individuelle\"),\"Single\",IF('Outil Recensement'!I31=\"Parent seul\",\"Single + more\",IF('Outil Recensement'!I31=\"Couple\",\"Couple\",\"\")))","v":""},{"$f":"IF(AND('Simplified Loader (FOR COPY)'!N25=\"Family\",'Outil Recensement'!I31=\"Individuelle\"),\"Single\",IF('Outil Recensement'!I31=\"Parent seul\",\"Single + more\",IF('Outil Recensement'!I31=\"Couple\",\"Couple\",\"\")))","v":""},{"$f":"IF('Outil Recensement'!CI31>0,'Outil Recensement'!CI31,\"\")","v":""}]
[null,{"$f":"IF('Outil Recensement'!A32>0,'Outil Recensement'!A32,\"\")","v":""},{"$f":"IF('Outil Recensement'!B32>0,'Outil Recensement'!B32,\"\")","v":""},{"$f":"IF('Outil Recensement'!D32>0,'Outil Recensement'!D32,\"\")","v":""},{"$f":"IF('Simplified Loader (FOR COPY)'!N26>0,'Simplified Loader (FOR COPY)'!N26,\"\")","v":""},{"$f":"IF(AND('Simplified Loader (FOR COPY)'!N26=\"Family\",'Outil Recensement'!I32=\"Individuelle\"),\"Single\",IF('Outil Recensement'!I32=\"Parent seul\",\"Single + more\",IF('Outil Recensement'!I32=\"Couple\",\"Couple\",\"\")))","v":""},{"$f":"IF(AND('Simplified Loader (FOR COPY)'!N26=\"Family\",'Outil Recensement'!I32=\"Individuelle\"),\"Single\",IF('Outil Recensement'!I32=\"Parent seul\",\"Single + more\",IF('Outil Recensement'!I32=\"Couple\",\"Couple\",\"\")))","v":""},{"$f":"IF('Outil Recensement'!CI32>0,'Outil Recensement'!CI32,\"\")","v":""}]
[null,{"$f":"IF('Outil Recensement'!A33>0,'Outil Recensement'!A33,\"\")","v":""},{"$f":"IF('Outil Recensement'!B33>0,'Outil Recensement'!B33,\"\")","v":""},{"$f":"IF('Outil Recensement'!D33>0,'Outil Recensement'!D33,\"\")","v":""},{"$f":"IF('Simplified Loader (FOR COPY)'!N27>0,'Simplified Loader (FOR COPY)'!N27,\"\")","v":""},{"$f":"IF(AND('Simplified Loader (FOR COPY)'!N27=\"Family\",'Outil Recensement'!I33=\"Individuelle\"),\"Single\",IF('Outil Recensement'!I33=\"Parent seul\",\"Single + more\",IF('Outil Recensement'!I33=\"Couple\",\"Couple\",\"\")))","v":""},{"$f":"IF(AND('Simplified Loader (FOR COPY)'!N27=\"Family\",'Outil Recensement'!I33=\"Individuelle\"),\"Single\",IF('Outil Recensement'!I33=\"Parent seul\",\"Single + more\",IF('Outil Recensement'!I33=\"Couple\",\"Couple\",\"\")))","v":""},{"$f":"IF('Outil Recensement'!CI33>0,'Outil Recensement'!CI33,\"\")","v":""}]
[null,{"$f":"IF('Outil Recensement'!A34>0,'Outil Recensement'!A34,\"\")","v":""},{"$f":"IF('Outil Recensement'!B34>0,'Outil Recensement'!B34,\"\")","v":""},{"$f":"IF('Outil Recensement'!D34>0,'Outil Recensement'!D34,\"\")","v":""},{"$f":"IF('Simplified Loader (FOR COPY)'!N28>0,'Simplified Loader (FOR COPY)'!N28,\"\")","v":""},{"$f":"IF(AND('Simplified Loader (FOR COPY)'!N28=\"Family\",'Outil Recensement'!I34=\"Individuelle\"),\"Single\",IF('Outil Recensement'!I34=\"Parent seul\",\"Single + more\",IF('Outil Recensement'!I34=\"Couple\",\"Couple\",\"\")))","v":""},{"$f":"IF(AND('Simplified Loader (FOR COPY)'!N28=\"Family\",'Outil Recensement'!I34=\"Individuelle\"),\"Single\",IF('Outil Recensement'!I34=\"Parent seul\",\"Single + more\",IF('Outil Recensement'!I34=\"Couple\",\"Couple\",\"\")))","v":""},{"$f":"IF('Outil Recensement'!CI34>0,'Outil Recensement'!CI34,\"\")","v":""}]
[null,{"$f":"IF('Outil Recensement'!A35>0,'Outil Recensement'!A35,\"\")","v":""},{"$f":"IF('Outil Recensement'!B35>0,'Outil Recensement'!B35,\"\")","v":""},{"$f":"IF('Outil Recensement'!D35>0,'Outil Recensement'!D35,\"\")","v":""},{"$f":"IF('Simplified Loader (FOR COPY)'!N29>0,'Simplified Loader (FOR COPY)'!N29,\"\")","v":""},{"$f":"IF(AND('Simplified Loader (FOR COPY)'!N29=\"Family\",'Outil Recensement'!I35=\"Individuelle\"),\"Single\",IF('Outil Recensement'!I35=\"Parent seul\",\"Single + more\",IF('Outil Recensement'!I35=\"Couple\",\"Couple\",\"\")))","v":""},{"$f":"IF(AND('Simplified Loader (FOR COPY)'!N29=\"Family\",'Outil Recensement'!I35=\"Individuelle\"),\"Single\",IF('Outil Recensement'!I35=\"Parent seul\",\"Single + more\",IF('Outil Recensement'!I35=\"Couple\",\"Couple\",\"\")))","v":""},{"$f":"IF('Outil Recensement'!CI35>0,'Outil Recensement'!CI35,\"\")","v":""}]
[null,{"$f":"IF('Outil Recensement'!A36>0,'Outil Recensement'!A36,\"\")","v":""},{"$f":"IF('Outil Recensement'!B36>0,'Outil Recensement'!B36,\"\")","v":""},{"$f":"IF('Outil Recensement'!D36>0,'Outil Recensement'!D36,\"\")","v":""},{"$f":"IF('Simplified Loader (FOR COPY)'!N30>0,'Simplified Loader (FOR COPY)'!N30,\"\")","v":""},{"$f":"IF(AND('Simplified Loader (FOR COPY)'!N30=\"Family\",'Outil Recensement'!I36=\"Individuelle\"),\"Single\",IF('Outil Recensement'!I36=\"Parent seul\",\"Single + more\",IF('Outil Recensement'!I36=\"Couple\",\"Couple\",\"\")))","v":""},{"$f":"IF(AND('Simplified Loader (FOR COPY)'!N30=\"Family\",'Outil Recensement'!I36=\"Individuelle\"),\"Single\",IF('Outil Recensement'!I36=\"Parent seul\",\"Single + more\",IF('Outil Recensement'!I36=\"Couple\",\"Couple\",\"\")))","v":""},{"$f":"IF('Outil Recensement'!CI36>0,'Outil Recensement'!CI36,\"\")","v":""}]
[null,{"$f":"IF('Outil Recensement'!A37>0,'Outil Recensement'!A37,\"\")","v":""},{"$f":"IF('Outil Recensement'!B37>0,'Outil Recensement'!B37,\"\")","v":""},{"$f":"IF('Outil Recensement'!D37>0,'Outil Recensement'!D37,\"\")","v":""},{"$f":"IF('Simplified Loader (FOR COPY)'!N31>0,'Simplified Loader (FOR COPY)'!N31,\"\")","v":""},{"$f":"IF(AND('Simplified Loader (FOR COPY)'!N31=\"Family\",'Outil Recensement'!I37=\"Individuelle\"),\"Single\",IF('Outil Recensement'!I37=\"Parent seul\",\"Single + more\",IF('Outil Recensement'!I37=\"Couple\",\"Couple\",\"\")))","v":""},{"$f":"IF(AND('Simplified Loader (FOR COPY)'!N31=\"Family\",'Outil Recensement'!I37=\"Individuelle\"),\"Single\",IF('Outil Recensement'!I37=\"Parent seul\",\"Single + more\",IF('Outil Recensement'!I37=\"Couple\",\"Couple\",\"\")))","v":""},{"$f":"IF('Outil Recensement'!CI37>0,'Outil Recensement'!CI37,\"\")","v":""}]
[null,{"$f":"IF('Outil Recensement'!A38>0,'Outil Recensement'!A38,\"\")","v":""},{"$f":"IF('Outil Recensement'!B38>0,'Outil Recensement'!B38,\"\")","v":""},{"$f":"IF('Outil Recensement'!D38>0,'Outil Recensement'!D38,\"\")","v":""},{"$f":"IF('Simplified Loader (FOR COPY)'!N32>0,'Simplified Loader (FOR COPY)'!N32,\"\")","v":""},{"$f":"IF(AND('Simplified Loader (FOR COPY)'!N32=\"Family\",'Outil Recensement'!I38=\"Individuelle\"),\"Single\",IF('Outil Recensement'!I38=\"Parent seul\",\"Single + more\",IF('Outil Recensement'!I38=\"Couple\",\"Couple\",\"\")))","v":""},{"$f":"IF(AND('Simplified Loader (FOR COPY)'!N32=\"Family\",'Outil Recensement'!I38=\"Individuelle\"),\"Single\",IF('Outil Recensement'!I38=\"Parent seul\",\"Single + more\",IF('Outil Recensement'!I38=\"Couple\",\"Couple\",\"\")))","v":""},{"$f":"IF('Outil Recensement'!CI38>0,'Outil Recensement'!CI38,\"\")","v":""}]
[null,{"$f":"IF('Outil Recensement'!A39>0,'Outil Recensement'!A39,\"\")","v":""},{"$f":"IF('Outil Recensement'!B39>0,'Outil Recensement'!B39,\"\")","v":""},{"$f":"IF('Outil Recensement'!D39>0,'Outil Recensement'!D39,\"\")","v":""},{"$f":"IF('Simplified Loader (FOR COPY)'!N33>0,'Simplified Loader (FOR COPY)'!N33,\"\")","v":""},{"$f":"IF(AND('Simplified Loader (FOR COPY)'!N33=\"Family\",'Outil Recensement'!I39=\"Individuelle\"),\"Single\",IF('Outil Recensement'!I39=\"Parent seul\",\"Single + more\",IF('Outil Recensement'!I39=\"Couple\",\"Couple\",\"\")))","v":""},{"$f":"IF(AND('Simplified Loader (FOR COPY)'!N33=\"Family\",'Outil Recensement'!I39=\"Individuelle\"),\"Single\",IF('Outil Recensement'!I39=\"Parent seul\",\"Single + more\",IF('Outil Recensement'!I39=\"Couple\",\"Couple\",\"\")))","v":""},{"$f":"IF('Outil Recensement'!CI39>0,'Outil Recensement'!CI39,\"\")","v":""}]
[null,{"$f":"IF('Outil Recensement'!A40>0,'Outil Recensement'!A40,\"\")","v":""},{"$f":"IF('Outil Recensement'!B40>0,'Outil Recensement'!B40,\"\")","v":""},{"$f":"IF('Outil Recensement'!D40>0,'Outil Recensement'!D40,\"\")","v":""},{"$f":"IF('Simplified Loader (FOR COPY)'!N34>0,'Simplified Loader (FOR COPY)'!N34,\"\")","v":""},{"$f":"IF(AND('Simplified Loader (FOR COPY)'!N34=\"Family\",'Outil Recensement'!I40=\"Individuelle\"),\"Single\",IF('Outil Recensement'!I40=\"Parent seul\",\"Single + more\",IF('Outil Recensement'!I40=\"Couple\",\"Couple\",\"\")))","v":""},{"$f":"IF(AND('Simplified Loader (FOR COPY)'!N34=\"Family\",'Outil Recensement'!I40=\"Individuelle\"),\"Single\",IF('Outil Recensement'!I40=\"Parent seul\",\"Single + more\",IF('Outil Recensement'!I40=\"Couple\",\"Couple\",\"\")))","v":""},{"$f":"IF('Outil Recensement'!CI40>0,'Outil Recensement'!CI40,\"\")","v":""}]
[null,{"$f":"IF('Outil Recensement'!A41>0,'Outil Recensement'!A41,\"\")","v":""},{"$f":"IF('Outil Recensement'!B41>0,'Outil Recensement'!B41,\"\")","v":""},{"$f":"IF('Outil Recensement'!D41>0,'Outil Recensement'!D41,\"\")","v":""},{"$f":"IF('Simplified Loader (FOR COPY)'!N35>0,'Simplified Loader (FOR COPY)'!N35,\"\")","v":""},{"$f":"IF(AND('Simplified Loader (FOR COPY)'!N35=\"Family\",'Outil Recensement'!I41=\"Individuelle\"),\"Single\",IF('Outil Recensement'!I41=\"Parent seul\",\"Single + more\",IF('Outil Recensement'!I41=\"Couple\",\"Couple\",\"\")))","v":""},{"$f":"IF(AND('Simplified Loader (FOR COPY)'!N35=\"Family\",'Outil Recensement'!I41=\"Individuelle\"),\"Single\",IF('Outil Recensement'!I41=\"Parent seul\",\"Single + more\",IF('Outil Recensement'!I41=\"Couple\",\"Couple\",\"\")))","v":""},{"$f":"IF('Outil Recensement'!CI41>0,'Outil Recensement'!CI41,\"\")","v":""}]
[null,{"$f":"IF('Outil Recensement'!A42>0,'Outil Recensement'!A42,\"\")","v":""},{"$f":"IF('Outil Recensement'!B42>0,'Outil Recensement'!B42,\"\")","v":""},{"$f":"IF('Outil Recensement'!D42>0,'Outil Recensement'!D42,\"\")","v":""},{"$f":"IF('Simplified Loader (FOR COPY)'!N36>0,'Simplified Loader (FOR COPY)'!N36,\"\")","v":""},{"$f":"IF(AND('Simplified Loader (FOR COPY)'!N36=\"Family\",'Outil Recensement'!I42=\"Individuelle\"),\"Single\",IF('Outil Recensement'!I42=\"Parent seul\",\"Single + more\",IF('Outil Recensement'!I42=\"Couple\",\"Couple\",\"\")))","v":""},{"$f":"IF(AND('Simplified Loader (FOR COPY)'!N36=\"Family\",'Outil Recensement'!I42=\"Individuelle\"),\"Single\",IF('Outil Recensement'!I42=\"Parent seul\",\"Single + more\",IF('Outil Recensement'!I42=\"Couple\",\"Couple\",\"\")))","v":""},{"$f":"IF('Outil Recensement'!CI42>0,'Outil Recensement'!CI42,\"\")","v":""}]
[null,{"$f":"IF('Outil Recensement'!A43>0,'Outil Recensement'!A43,\"\")","v":""},{"$f":"IF('Outil Recensement'!B43>0,'Outil Recensement'!B43,\"\")","v":""},{"$f":"IF('Outil Recensement'!D43>0,'Outil Recensement'!D43,\"\")","v":""},{"$f":"IF('Simplified Loader (FOR COPY)'!N37>0,'Simplified Loader (FOR COPY)'!N37,\"\")","v":""},{"$f":"IF(AND('Simplified Loader (FOR COPY)'!N37=\"Family\",'Outil Recensement'!I43=\"Individuelle\"),\"Single\",IF('Outil Recensement'!I43=\"Parent seul\",\"Single + more\",IF('Outil Recensement'!I43=\"Couple\",\"Couple\",\"\")))","v":""},{"$f":"IF(AND('Simplified Loader (FOR COPY)'!N37=\"Family\",'Outil Recensement'!I43=\"Individuelle\"),\"Single\",IF('Outil Recensement'!I43=\"Parent seul\",\"Single + more\",IF('Outil Recensement'!I43=\"Couple\",\"Couple\",\"\")))","v":""},{"$f":"IF('Outil Recensement'!CI43>0,'Outil Recensement'!CI43,\"\")","v":""}]
[null,{"$f":"IF('Outil Recensement'!A44>0,'Outil Recensement'!A44,\"\")","v":""},{"$f":"IF('Outil Recensement'!B44>0,'Outil Recensement'!B44,\"\")","v":""},{"$f":"IF('Outil Recensement'!D44>0,'Outil Recensement'!D44,\"\")","v":""},{"$f":"IF('Simplified Loader (FOR COPY)'!N38>0,'Simplified Loader (FOR COPY)'!N38,\"\")","v":""},{"$f":"IF(AND('Simplified Loader (FOR COPY)'!N38=\"Family\",'Outil Recensement'!I44=\"Individuelle\"),\"Single\",IF('Outil Recensement'!I44=\"Parent seul\",\"Single + more\",IF('Outil Recensement'!I44=\"Couple\",\"Couple\",\"\")))","v":""},{"$f":"IF(AND('Simplified Loader (FOR COPY)'!N38=\"Family\",'Outil Recensement'!I44=\"Individuelle\"),\"Single\",IF('Outil Recensement'!I44=\"Parent seul\",\"Single + more\",IF('Outil Recensement'!I44=\"Couple\",\"Couple\",\"\")))","v":""},{"$f":"IF('Outil Recensement'!CI44>0,'Outil Recensement'!CI44,\"\")","v":""}]
[null,{"$f":"IF('Outil Recensement'!A45>0,'Outil Recensement'!A45,\"\")","v":""},{"$f":"IF('Outil Recensement'!B45>0,'Outil Recensement'!B45,\"\")","v":""},{"$f":"IF('Outil Recensement'!D45>0,'Outil Recensement'!D45,\"\")","v":""},{"$f":"IF('Simplified Loader (FOR COPY)'!N39>0,'Simplified Loader (FOR COPY)'!N39,\"\")","v":""},{"$f":"IF(AND('Simplified Loader (FOR COPY)'!N39=\"Family\",'Outil Recensement'!I45=\"Individuelle\"),\"Single\",IF('Outil Recensement'!I45=\"Parent seul\",\"Single + more\",IF('Outil Recensement'!I45=\"Couple\",\"Couple\",\"\")))","v":""},{"$f":"IF(AND('Simplified Loader (FOR COPY)'!N39=\"Family\",'Outil Recensement'!I45=\"Individuelle\"),\"Single\",IF('Outil Recensement'!I45=\"Parent seul\",\"Single + more\",IF('Outil Recensement'!I45=\"Couple\",\"Couple\",\"\")))","v":""},{"$f":"IF('Outil Recensement'!CI45>0,'Outil Recensement'!CI45,\"\")","v":""}]
[null,{"$f":"IF('Outil Recensement'!A46>0,'Outil Recensement'!A46,\"\")","v":""},{"$f":"IF('Outil Recensement'!B46>0,'Outil Recensement'!B46,\"\")","v":""},{"$f":"IF('Outil Recensement'!D46>0,'Outil Recensement'!D46,\"\")","v":""},{"$f":"IF('Simplified Loader (FOR COPY)'!N40>0,'Simplified Loader (FOR COPY)'!N40,\"\")","v":""},{"$f":"IF(AND('Simplified Loader (FOR COPY)'!N40=\"Family\",'Outil Recensement'!I46=\"Individuelle\"),\"Single\",IF('Outil Recensement'!I46=\"Parent seul\",\"Single + more\",IF('Outil Recensement'!I46=\"Couple\",\"Couple\",\"\")))","v":""},{"$f":"IF(AND('Simplified Loader (FOR COPY)'!N40=\"Family\",'Outil Recensement'!I46=\"Individuelle\"),\"Single\",IF('Outil Recensement'!I46=\"Parent seul\",\"Single + more\",IF('Outil Recensement'!I46=\"Couple\",\"Couple\",\"\")))","v":""},{"$f":"IF('Outil Recensement'!CI46>0,'Outil Recensement'!CI46,\"\")","v":""}]
[null,{"$f":"IF('Outil Recensement'!A47>0,'Outil Recensement'!A47,\"\")","v":""},{"$f":"IF('Outil Recensement'!B47>0,'Outil Recensement'!B47,\"\")","v":""},{"$f":"IF('Outil Recensement'!D47>0,'Outil Recensement'!D47,\"\")","v":""},{"$f":"IF('Simplified Loader (FOR COPY)'!N41>0,'Simplified Loader (FOR COPY)'!N41,\"\")","v":""},{"$f":"IF(AND('Simplified Loader (FOR COPY)'!N41=\"Family\",'Outil Recensement'!I47=\"Individuelle\"),\"Single\",IF('Outil Recensement'!I47=\"Parent seul\",\"Single + more\",IF('Outil Recensement'!I47=\"Couple\",\"Couple\",\"\")))","v":""},{"$f":"IF(AND('Simplified Loader (FOR COPY)'!N41=\"Family\",'Outil Recensement'!I47=\"Individuelle\"),\"Single\",IF('Outil Recensement'!I47=\"Parent seul\",\"Single + more\",IF('Outil Recensement'!I47=\"Couple\",\"Couple\",\"\")))","v":""},{"$f":"IF('Outil Recensement'!CI47>0,'Outil Recensement'!CI47,\"\")","v":""}]
[null,{"$f":"IF('Outil Recensement'!A48>0,'Outil Recensement'!A48,\"\")","v":""},{"$f":"IF('Outil Recensement'!B48>0,'Outil Recensement'!B48,\"\")","v":""},{"$f":"IF('Outil Recensement'!D48>0,'Outil Recensement'!D48,\"\")","v":""},{"$f":"IF('Simplified Loader (FOR COPY)'!N42>0,'Simplified Loader (FOR COPY)'!N42,\"\")","v":""},{"$f":"IF(AND('Simplified Loader (FOR COPY)'!N42=\"Family\",'Outil Recensement'!I48=\"Individuelle\"),\"Single\",IF('Outil Recensement'!I48=\"Parent seul\",\"Single + more\",IF('Outil Recensement'!I48=\"Couple\",\"Couple\",\"\")))","v":""},{"$f":"IF(AND('Simplified Loader (FOR COPY)'!N42=\"Family\",'Outil Recensement'!I48=\"Individuelle\"),\"Single\",IF('Outil Recensement'!I48=\"Parent seul\",\"Single + more\",IF('Outil Recensement'!I48=\"Couple\",\"Couple\",\"\")))","v":""},{"$f":"IF('Outil Recensement'!CI48>0,'Outil Recensement'!CI48,\"\")","v":""}]
[null,{"$f":"IF('Outil Recensement'!A49>0,'Outil Recensement'!A49,\"\")","v":""},{"$f":"IF('Outil Recensement'!B49>0,'Outil Recensement'!B49,\"\")","v":""},{"$f":"IF('Outil Recensement'!D49>0,'Outil Recensement'!D49,\"\")","v":""},{"$f":"IF('Simplified Loader (FOR COPY)'!N43>0,'Simplified Loader (FOR COPY)'!N43,\"\")","v":""},{"$f":"IF(AND('Simplified Loader (FOR COPY)'!N43=\"Family\",'Outil Recensement'!I49=\"Individuelle\"),\"Single\",IF('Outil Recensement'!I49=\"Parent seul\",\"Single + more\",IF('Outil Recensement'!I49=\"Couple\",\"Couple\",\"\")))","v":""},{"$f":"IF(AND('Simplified Loader (FOR COPY)'!N43=\"Family\",'Outil Recensement'!I49=\"Individuelle\"),\"Single\",IF('Outil Recensement'!I49=\"Parent seul\",\"Single + more\",IF('Outil Recensement'!I49=\"Couple\",\"Couple\",\"\")))","v":""},{"$f":"IF('Outil Recensement'!CI49>0,'Outil Recensement'!CI49,\"\")","v":""}]
[null,{"$f":"IF('Outil Recensement'!A50>0,'Outil Recensement'!A50,\"\")","v":""},{"$f":"IF('Outil Recensement'!B50>0,'Outil Recensement'!B50,\"\")","v":""},{"$f":"IF('Outil Recensement'!D50>0,'Outil Recensement'!D50,\"\")","v":""},{"$f":"IF('Simplified Loader (FOR COPY)'!N44>0,'Simplified Loader (FOR COPY)'!N44,\"\")","v":""},{"$f":"IF(AND('Simplified Loader (FOR COPY)'!N44=\"Family\",'Outil Recensement'!I50=\"Individuelle\"),\"Single\",IF('Outil Recensement'!I50=\"Parent seul\",\"Single + more\",IF('Outil Recensement'!I50=\"Couple\",\"Couple\",\"\")))","v":""},{"$f":"IF(AND('Simplified Loader (FOR COPY)'!N44=\"Family\",'Outil Recensement'!I50=\"Individuelle\"),\"Single\",IF('Outil Recensement'!I50=\"Parent seul\",\"Single + more\",IF('Outil Recensement'!I50=\"Couple\",\"Couple\",\"\")))","v":""},{"$f":"IF('Outil Recensement'!CI50>0,'Outil Recensement'!CI50,\"\")","v":""}]
[null,{"$f":"IF('Outil Recensement'!A51>0,'Outil Recensement'!A51,\"\")","v":""},{"$f":"IF('Outil Recensement'!B51>0,'Outil Recensement'!B51,\"\")","v":""},{"$f":"IF('Outil Recensement'!D51>0,'Outil Recensement'!D51,\"\")","v":""},{"$f":"IF('Simplified Loader (FOR COPY)'!N45>0,'Simplified Loader (FOR COPY)'!N45,\"\")","v":""},{"$f":"IF(AND('Simplified Loader (FOR COPY)'!N45=\"Family\",'Outil Recensement'!I51=\"Individuelle\"),\"Single\",IF('Outil Recensement'!I51=\"Parent seul\",\"Single + more\",IF('Outil Recensement'!I51=\"Couple\",\"Couple\",\"\")))","v":""},{"$f":"IF(AND('Simplified Loader (FOR COPY)'!N45=\"Family\",'Outil Recensement'!I51=\"Individuelle\"),\"Single\",IF('Outil Recensement'!I51=\"Parent seul\",\"Single + more\",IF('Outil Recensement'!I51=\"Couple\",\"Couple\",\"\")))","v":""},{"$f":"IF('Outil Recensement'!CI51>0,'Outil Recensement'!CI51,\"\")","v":""}]
[null,{"$f":"IF('Outil Recensement'!A52>0,'Outil Recensement'!A52,\"\")","v":""},{"$f":"IF('Outil Recensement'!B52>0,'Outil Recensement'!B52,\"\")","v":""},{"$f":"IF('Outil Recensement'!D52>0,'Outil Recensement'!D52,\"\")","v":""},{"$f":"IF('Simplified Loader (FOR COPY)'!N46>0,'Simplified Loader (FOR COPY)'!N46,\"\")","v":""},{"$f":"IF(AND('Simplified Loader (FOR COPY)'!N46=\"Family\",'Outil Recensement'!I52=\"Individuelle\"),\"Single\",IF('Outil Recensement'!I52=\"Parent seul\",\"Single + more\",IF('Outil Recensement'!I52=\"Couple\",\"Couple\",\"\")))","v":""},{"$f":"IF(AND('Simplified Loader (FOR COPY)'!N46=\"Family\",'Outil Recensement'!I52=\"Individuelle\"),\"Single\",IF('Outil Recensement'!I52=\"Parent seul\",\"Single + more\",IF('Outil Recensement'!I52=\"Couple\",\"Couple\",\"\")))","v":""},{"$f":"IF('Outil Recensement'!CI52>0,'Outil Recensement'!CI52,\"\")","v":""}]
[null,{"$f":"IF('Outil Recensement'!A53>0,'Outil Recensement'!A53,\"\")","v":""},{"$f":"IF('Outil Recensement'!B53>0,'Outil Recensement'!B53,\"\")","v":""},{"$f":"IF('Outil Recensement'!D53>0,'Outil Recensement'!D53,\"\")","v":""},{"$f":"IF('Simplified Loader (FOR COPY)'!N47>0,'Simplified Loader (FOR COPY)'!N47,\"\")","v":""},{"$f":"IF(AND('Simplified Loader (FOR COPY)'!N47=\"Family\",'Outil Recensement'!I53=\"Individuelle\"),\"Single\",IF('Outil Recensement'!I53=\"Parent seul\",\"Single + more\",IF('Outil Recensement'!I53=\"Couple\",\"Couple\",\"\")))","v":""},{"$f":"IF(AND('Simplified Loader (FOR COPY)'!N47=\"Family\",'Outil Recensement'!I53=\"Individuelle\"),\"Single\",IF('Outil Recensement'!I53=\"Parent seul\",\"Single + more\",IF('Outil Recensement'!I53=\"Couple\",\"Couple\",\"\")))","v":""},{"$f":"IF('Outil Recensement'!CI53>0,'Outil Recensement'!CI53,\"\")","v":""}]
[null,{"$f":"IF('Outil Recensement'!A54>0,'Outil Recensement'!A54,\"\")","v":""},{"$f":"IF('Outil Recensement'!B54>0,'Outil Recensement'!B54,\"\")","v":""},{"$f":"IF('Outil Recensement'!D54>0,'Outil Recensement'!D54,\"\")","v":""},{"$f":"IF('Simplified Loader (FOR COPY)'!N48>0,'Simplified Loader (FOR COPY)'!N48,\"\")","v":""},{"$f":"IF(AND('Simplified Loader (FOR COPY)'!N48=\"Family\",'Outil Recensement'!I54=\"Individuelle\"),\"Single\",IF('Outil Recensement'!I54=\"Parent seul\",\"Single + more\",IF('Outil Recensement'!I54=\"Couple\",\"Couple\",\"\")))","v":""},{"$f":"IF(AND('Simplified Loader (FOR COPY)'!N48=\"Family\",'Outil Recensement'!I54=\"Individuelle\"),\"Single\",IF('Outil Recensement'!I54=\"Parent seul\",\"Single + more\",IF('Outil Recensement'!I54=\"Couple\",\"Couple\",\"\")))","v":""},{"$f":"IF('Outil Recensement'!CI54>0,'Outil Recensement'!CI54,\"\")","v":""}]
[null,{"$f":"IF('Outil Recensement'!A55>0,'Outil Recensement'!A55,\"\")","v":""},{"$f":"IF('Outil Recensement'!B55>0,'Outil Recensement'!B55,\"\")","v":""},{"$f":"IF('Outil Recensement'!D55>0,'Outil Recensement'!D55,\"\")","v":""},{"$f":"IF('Simplified Loader (FOR COPY)'!N49>0,'Simplified Loader (FOR COPY)'!N49,\"\")","v":""},{"$f":"IF(AND('Simplified Loader (FOR COPY)'!N49=\"Family\",'Outil Recensement'!I55=\"Individuelle\"),\"Single\",IF('Outil Recensement'!I55=\"Parent seul\",\"Single + more\",IF('Outil Recensement'!I55=\"Couple\",\"Couple\",\"\")))","v":""},{"$f":"IF(AND('Simplified Loader (FOR COPY)'!N49=\"Family\",'Outil Recensement'!I55=\"Individuelle\"),\"Single\",IF('Outil Recensement'!I55=\"Parent seul\",\"Single + more\",IF('Outil Recensement'!I55=\"Couple\",\"Couple\",\"\")))","v":""},{"$f":"IF('Outil Recensement'!CI55>0,'Outil Recensement'!CI55,\"\")","v":""}]
[null,{"$f":"IF('Outil Recensement'!A56>0,'Outil Recensement'!A56,\"\")","v":""},{"$f":"IF('Outil Recensement'!B56>0,'Outil Recensement'!B56,\"\")","v":""},{"$f":"IF('Outil Recensement'!D56>0,'Outil Recensement'!D56,\"\")","v":""},{"$f":"IF('Simplified Loader (FOR COPY)'!N50>0,'Simplified Loader (FOR COPY)'!N50,\"\")","v":""},{"$f":"IF(AND('Simplified Loader (FOR COPY)'!N50=\"Family\",'Outil Recensement'!I56=\"Individuelle\"),\"Single\",IF('Outil Recensement'!I56=\"Parent seul\",\"Single + more\",IF('Outil Recensement'!I56=\"Couple\",\"Couple\",\"\")))","v":""},{"$f":"IF(AND('Simplified Loader (FOR COPY)'!N50=\"Family\",'Outil Recensement'!I56=\"Individuelle\"),\"Single\",IF('Outil Recensement'!I56=\"Parent seul\",\"Single + more\",IF('Outil Recensement'!I56=\"Couple\",\"Couple\",\"\")))","v":""},{"$f":"IF('Outil Recensement'!CI56>0,'Outil Recensement'!CI56,\"\")","v":""}]
[null,{"$f":"IF('Outil Recensement'!A57>0,'Outil Recensement'!A57,\"\")","v":""},{"$f":"IF('Outil Recensement'!B57>0,'Outil Recensement'!B57,\"\")","v":""},{"$f":"IF('Outil Recensement'!D57>0,'Outil Recensement'!D57,\"\")","v":""},{"$f":"IF('Simplified Loader (FOR COPY)'!N51>0,'Simplified Loader (FOR COPY)'!N51,\"\")","v":""},{"$f":"IF(AND('Simplified Loader (FOR COPY)'!N51=\"Family\",'Outil Recensement'!I57=\"Individuelle\"),\"Single\",IF('Outil Recensement'!I57=\"Parent seul\",\"Single + more\",IF('Outil Recensement'!I57=\"Couple\",\"Couple\",\"\")))","v":""},{"$f":"IF(AND('Simplified Loader (FOR COPY)'!N51=\"Family\",'Outil Recensement'!I57=\"Individuelle\"),\"Single\",IF('Outil Recensement'!I57=\"Parent seul\",\"Single + more\",IF('Outil Recensement'!I57=\"Couple\",\"Couple\",\"\")))","v":""},{"$f":"IF('Outil Recensement'!CI57>0,'Outil Recensement'!CI57,\"\")","v":""}]
[null,{"$f":"IF('Outil Recensement'!A58>0,'Outil Recensement'!A58,\"\")","v":""},{"$f":"IF('Outil Recensement'!B58>0,'Outil Recensement'!B58,\"\")","v":""},{"$f":"IF('Outil Recensement'!D58>0,'Outil Recensement'!D58,\"\")","v":""},{"$f":"IF('Simplified Loader (FOR COPY)'!N52>0,'Simplified Loader (FOR COPY)'!N52,\"\")","v":""},{"$f":"IF(AND('Simplified Loader (FOR COPY)'!N52=\"Family\",'Outil Recensement'!I58=\"Individuelle\"),\"Single\",IF('Outil Recensement'!I58=\"Parent seul\",\"Single + more\",IF('Outil Recensement'!I58=\"Couple\",\"Couple\",\"\")))","v":""},{"$f":"IF(AND('Simplified Loader (FOR COPY)'!N52=\"Family\",'Outil Recensement'!I58=\"Individuelle\"),\"Single\",IF('Outil Recensement'!I58=\"Parent seul\",\"Single + more\",IF('Outil Recensement'!I58=\"Couple\",\"Couple\",\"\")))","v":""},{"$f":"IF('Outil Recensement'!CI58>0,'Outil Recensement'!CI58,\"\")","v":""}]
[null,{"$f":"IF('Outil Recensement'!A59>0,'Outil Recensement'!A59,\"\")","v":""},{"$f":"IF('Outil Recensement'!B59>0,'Outil Recensement'!B59,\"\")","v":""},{"$f":"IF('Outil Recensement'!D59>0,'Outil Recensement'!D59,\"\")","v":""},{"$f":"IF('Simplified Loader (FOR COPY)'!N53>0,'Simplified Loader (FOR COPY)'!N53,\"\")","v":""},{"$f":"IF(AND('Simplified Loader (FOR COPY)'!N53=\"Family\",'Outil Recensement'!I59=\"Individuelle\"),\"Single\",IF('Outil Recensement'!I59=\"Parent seul\",\"Single + more\",IF('Outil Recensement'!I59=\"Couple\",\"Couple\",\"\")))","v":""},{"$f":"IF(AND('Simplified Loader (FOR COPY)'!N53=\"Family\",'Outil Recensement'!I59=\"Individuelle\"),\"Single\",IF('Outil Recensement'!I59=\"Parent seul\",\"Single + more\",IF('Outil Recensement'!I59=\"Couple\",\"Couple\",\"\")))","v":""},{"$f":"IF('Outil Recensement'!CI59>0,'Outil Recensement'!CI59,\"\")","v":""}]
[null,{"$f":"IF('Outil Recensement'!A60>0,'Outil Recensement'!A60,\"\")","v":""},{"$f":"IF('Outil Recensement'!B60>0,'Outil Recensement'!B60,\"\")","v":""},{"$f":"IF('Outil Recensement'!D60>0,'Outil Recensement'!D60,\"\")","v":""},{"$f":"IF('Simplified Loader (FOR COPY)'!N54>0,'Simplified Loader (FOR COPY)'!N54,\"\")","v":""},{"$f":"IF(AND('Simplified Loader (FOR COPY)'!N54=\"Family\",'Outil Recensement'!I60=\"Individuelle\"),\"Single\",IF('Outil Recensement'!I60=\"Parent seul\",\"Single + more\",IF('Outil Recensement'!I60=\"Couple\",\"Couple\",\"\")))","v":""},{"$f":"IF(AND('Simplified Loader (FOR COPY)'!N54=\"Family\",'Outil Recensement'!I60=\"Individuelle\"),\"Single\",IF('Outil Recensement'!I60=\"Parent seul\",\"Single + more\",IF('Outil Recensement'!I60=\"Couple\",\"Couple\",\"\")))","v":""},{"$f":"IF('Outil Recensement'!CI60>0,'Outil Recensement'!CI60,\"\")","v":""}]
[null,{"$f":"IF('Outil Recensement'!A61>0,'Outil Recensement'!A61,\"\")","v":""},{"$f":"IF('Outil Recensement'!B61>0,'Outil Recensement'!B61,\"\")","v":""},{"$f":"IF('Outil Recensement'!D61>0,'Outil Recensement'!D61,\"\")","v":""},{"$f":"IF('Simplified Loader (FOR COPY)'!N55>0,'Simplified Loader (FOR COPY)'!N55,\"\")","v":""},{"$f":"IF(AND('Simplified Loader (FOR COPY)'!N55=\"Family\",'Outil Recensement'!I61=\"Individuelle\"),\"Single\",IF('Outil Recensement'!I61=\"Parent seul\",\"Single + more\",IF('Outil Recensement'!I61=\"Couple\",\"Couple\",\"\")))","v":""},{"$f":"IF(AND('Simplified Loader (FOR COPY)'!N55=\"Family\",'Outil Recensement'!I61=\"Individuelle\"),\"Single\",IF('Outil Recensement'!I61=\"Parent seul\",\"Single + more\",IF('Outil Recensement'!I61=\"Couple\",\"Couple\",\"\")))","v":""},{"$f":"IF('Outil Recensement'!CI61>0,'Outil Recensement'!CI61,\"\")","v":""}]
[null,{"$f":"IF('Outil Recensement'!A62>0,'Outil Recensement'!A62,\"\")","v":""},{"$f":"IF('Outil Recensement'!B62>0,'Outil Recensement'!B62,\"\")","v":""},{"$f":"IF('Outil Recensement'!D62>0,'Outil Recensement'!D62,\"\")","v":""},{"$f":"IF('Simplified Loader (FOR COPY)'!N56>0,'Simplified Loader (FOR COPY)'!N56,\"\")","v":""},{"$f":"IF(AND('Simplified Loader (FOR COPY)'!N56=\"Family\",'Outil Recensement'!I62=\"Individuelle\"),\"Single\",IF('Outil Recensement'!I62=\"Parent seul\",\"Single + more\",IF('Outil Recensement'!I62=\"Couple\",\"Couple\",\"\")))","v":""},{"$f":"IF(AND('Simplified Loader (FOR COPY)'!N56=\"Family\",'Outil Recensement'!I62=\"Individuelle\"),\"Single\",IF('Outil Recensement'!I62=\"Parent seul\",\"Single + more\",IF('Outil Recensement'!I62=\"Couple\",\"Couple\",\"\")))","v":""},{"$f":"IF('Outil Recensement'!CI62>0,'Outil Recensement'!CI62,\"\")","v":""}]
[null,{"$f":"IF('Outil Recensement'!A63>0,'Outil Recensement'!A63,\"\")","v":""},{"$f":"IF('Outil Recensement'!B63>0,'Outil Recensement'!B63,\"\")","v":""},{"$f":"IF('Outil Recensement'!D63>0,'Outil Recensement'!D63,\"\")","v":""},{"$f":"IF('Simplified Loader (FOR COPY)'!N57>0,'Simplified Loader (FOR COPY)'!N57,\"\")","v":""},{"$f":"IF(AND('Simplified Loader (FOR COPY)'!N57=\"Family\",'Outil Recensement'!I63=\"Individuelle\"),\"Single\",IF('Outil Recensement'!I63=\"Parent seul\",\"Single + more\",IF('Outil Recensement'!I63=\"Couple\",\"Couple\",\"\")))","v":""},{"$f":"IF(AND('Simplified Loader (FOR COPY)'!N57=\"Family\",'Outil Recensement'!I63=\"Individuelle\"),\"Single\",IF('Outil Recensement'!I63=\"Parent seul\",\"Single + more\",IF('Outil Recensement'!I63=\"Couple\",\"Couple\",\"\")))","v":""},{"$f":"IF('Outil Recensement'!CI63>0,'Outil Recensement'!CI63,\"\")","v":""}]
[null,{"$f":"IF('Outil Recensement'!A64>0,'Outil Recensement'!A64,\"\")","v":""},{"$f":"IF('Outil Recensement'!B64>0,'Outil Recensement'!B64,\"\")","v":""},{"$f":"IF('Outil Recensement'!D64>0,'Outil Recensement'!D64,\"\")","v":""},{"$f":"IF('Simplified Loader (FOR COPY)'!N58>0,'Simplified Loader (FOR COPY)'!N58,\"\")","v":""},{"$f":"IF(AND('Simplified Loader (FOR COPY)'!N58=\"Family\",'Outil Recensement'!I64=\"Individuelle\"),\"Single\",IF('Outil Recensement'!I64=\"Parent seul\",\"Single + more\",IF('Outil Recensement'!I64=\"Couple\",\"Couple\",\"\")))","v":""},{"$f":"IF(AND('Simplified Loader (FOR COPY)'!N58=\"Family\",'Outil Recensement'!I64=\"Individuelle\"),\"Single\",IF('Outil Recensement'!I64=\"Parent seul\",\"Single + more\",IF('Outil Recensement'!I64=\"Couple\",\"Couple\",\"\")))","v":""},{"$f":"IF('Outil Recensement'!CI64>0,'Outil Recensement'!CI64,\"\")","v":""}]
[null,{"$f":"IF('Outil Recensement'!A65>0,'Outil Recensement'!A65,\"\")","v":""},{"$f":"IF('Outil Recensement'!B65>0,'Outil Recensement'!B65,\"\")","v":""},{"$f":"IF('Outil Recensement'!D65>0,'Outil Recensement'!D65,\"\")","v":""},{"$f":"IF('Simplified Loader (FOR COPY)'!N59>0,'Simplified Loader (FOR COPY)'!N59,\"\")","v":""},{"$f":"IF(AND('Simplified Loader (FOR COPY)'!N59=\"Family\",'Outil Recensement'!I65=\"Individuelle\"),\"Single\",IF('Outil Recensement'!I65=\"Parent seul\",\"Single + more\",IF('Outil Recensement'!I65=\"Couple\",\"Couple\",\"\")))","v":""},{"$f":"IF(AND('Simplified Loader (FOR COPY)'!N59=\"Family\",'Outil Recensement'!I65=\"Individuelle\"),\"Single\",IF('Outil Recensement'!I65=\"Parent seul\",\"Single + more\",IF('Outil Recensement'!I65=\"Couple\",\"Couple\",\"\")))","v":""},{"$f":"IF('Outil Recensement'!CI65>0,'Outil Recensement'!CI65,\"\")","v":""}]
[null,{"$f":"IF('Outil Recensement'!A66>0,'Outil Recensement'!A66,\"\")","v":""},{"$f":"IF('Outil Recensement'!B66>0,'Outil Recensement'!B66,\"\")","v":""},{"$f":"IF('Outil Recensement'!D66>0,'Outil Recensement'!D66,\"\")","v":""},{"$f":"IF('Simplified Loader (FOR COPY)'!N60>0,'Simplified Loader (FOR COPY)'!N60,\"\")","v":""},{"$f":"IF(AND('Simplified Loader (FOR COPY)'!N60=\"Family\",'Outil Recensement'!I66=\"Individuelle\"),\"Single\",IF('Outil Recensement'!I66=\"Parent seul\",\"Single + more\",IF('Outil Recensement'!I66=\"Couple\",\"Couple\",\"\")))","v":""},{"$f":"IF(AND('Simplified Loader (FOR COPY)'!N60=\"Family\",'Outil Recensement'!I66=\"Individuelle\"),\"Single\",IF('Outil Recensement'!I66=\"Parent seul\",\"Single + more\",IF('Outil Recensement'!I66=\"Couple\",\"Couple\",\"\")))","v":""},{"$f":"IF('Outil Recensement'!CI66>0,'Outil Recensement'!CI66,\"\")","v":""}]
[null,{"$f":"IF('Outil Recensement'!A67>0,'Outil Recensement'!A67,\"\")","v":""},{"$f":"IF('Outil Recensement'!B67>0,'Outil Recensement'!B67,\"\")","v":""},{"$f":"IF('Outil Recensement'!D67>0,'Outil Recensement'!D67,\"\")","v":""},{"$f":"IF('Simplified Loader (FOR COPY)'!N61>0,'Simplified Loader (FOR COPY)'!N61,\"\")","v":""},{"$f":"IF(AND('Simplified Loader (FOR COPY)'!N61=\"Family\",'Outil Recensement'!I67=\"Individuelle\"),\"Single\",IF('Outil Recensement'!I67=\"Parent seul\",\"Single + more\",IF('Outil Recensement'!I67=\"Couple\",\"Couple\",\"\")))","v":""},{"$f":"IF(AND('Simplified Loader (FOR COPY)'!N61=\"Family\",'Outil Recensement'!I67=\"Individuelle\"),\"Single\",IF('Outil Recensement'!I67=\"Parent seul\",\"Single + more\",IF('Outil Recensement'!I67=\"Couple\",\"Couple\",\"\")))","v":""},{"$f":"IF('Outil Recensement'!CI67>0,'Outil Recensement'!CI67,\"\")","v":""}]
[null,{"$f":"IF('Outil Recensement'!A68>0,'Outil Recensement'!A68,\"\")","v":""},{"$f":"IF('Outil Recensement'!B68>0,'Outil Recensement'!B68,\"\")","v":""},{"$f":"IF('Outil Recensement'!D68>0,'Outil Recensement'!D68,\"\")","v":""},{"$f":"IF('Simplified Loader (FOR COPY)'!N62>0,'Simplified Loader (FOR COPY)'!N62,\"\")","v":""},{"$f":"IF(AND('Simplified Loader (FOR COPY)'!N62=\"Family\",'Outil Recensement'!I68=\"Individuelle\"),\"Single\",IF('Outil Recensement'!I68=\"Parent seul\",\"Single + more\",IF('Outil Recensement'!I68=\"Couple\",\"Couple\",\"\")))","v":""},{"$f":"IF(AND('Simplified Loader (FOR COPY)'!N62=\"Family\",'Outil Recensement'!I68=\"Individuelle\"),\"Single\",IF('Outil Recensement'!I68=\"Parent seul\",\"Single + more\",IF('Outil Recensement'!I68=\"Couple\",\"Couple\",\"\")))","v":""},{"$f":"IF('Outil Recensement'!CI68>0,'Outil Recensement'!CI68,\"\")","v":""}]
[null,{"$f":"IF('Outil Recensement'!A69>0,'Outil Recensement'!A69,\"\")","v":""},{"$f":"IF('Outil Recensement'!B69>0,'Outil Recensement'!B69,\"\")","v":""},{"$f":"IF('Outil Recensement'!D69>0,'Outil Recensement'!D69,\"\")","v":""},{"$f":"IF('Simplified Loader (FOR COPY)'!N63>0,'Simplified Loader (FOR COPY)'!N63,\"\")","v":""},{"$f":"IF(AND('Simplified Loader (FOR COPY)'!N63=\"Family\",'Outil Recensement'!I69=\"Individuelle\"),\"Single\",IF('Outil Recensement'!I69=\"Parent seul\",\"Single + more\",IF('Outil Recensement'!I69=\"Couple\",\"Couple\",\"\")))","v":""},{"$f":"IF(AND('Simplified Loader (FOR COPY)'!N63=\"Family\",'Outil Recensement'!I69=\"Individuelle\"),\"Single\",IF('Outil Recensement'!I69=\"Parent seul\",\"Single + more\",IF('Outil Recensement'!I69=\"Couple\",\"Couple\",\"\")))","v":""},{"$f":"IF('Outil Recensement'!CI69>0,'Outil Recensement'!CI69,\"\")","v":""}]
[null,{"$f":"IF('Outil Recensement'!A70>0,'Outil Recensement'!A70,\"\")","v":""},{"$f":"IF('Outil Recensement'!B70>0,'Outil Recensement'!B70,\"\")","v":""},{"$f":"IF('Outil Recensement'!D70>0,'Outil Recensement'!D70,\"\")","v":""},{"$f":"IF('Simplified Loader (FOR COPY)'!N64>0,'Simplified Loader (FOR COPY)'!N64,\"\")","v":""},{"$f":"IF(AND('Simplified Loader (FOR COPY)'!N64=\"Family\",'Outil Recensement'!I70=\"Individuelle\"),\"Single\",IF('Outil Recensement'!I70=\"Parent seul\",\"Single + more\",IF('Outil Recensement'!I70=\"Couple\",\"Couple\",\"\")))","v":""},{"$f":"IF(AND('Simplified Loader (FOR COPY)'!N64=\"Family\",'Outil Recensement'!I70=\"Individuelle\"),\"Single\",IF('Outil Recensement'!I70=\"Parent seul\",\"Single + more\",IF('Outil Recensement'!I70=\"Couple\",\"Couple\",\"\")))","v":""},{"$f":"IF('Outil Recensement'!CI70>0,'Outil Recensement'!CI70,\"\")","v":""}]
[null,{"$f":"IF('Outil Recensement'!A71>0,'Outil Recensement'!A71,\"\")","v":""},{"$f":"IF('Outil Recensement'!B71>0,'Outil Recensement'!B71,\"\")","v":""},{"$f":"IF('Outil Recensement'!D71>0,'Outil Recensement'!D71,\"\")","v":""},{"$f":"IF('Simplified Loader (FOR COPY)'!N65>0,'Simplified Loader (FOR COPY)'!N65,\"\")","v":""},{"$f":"IF(AND('Simplified Loader (FOR COPY)'!N65=\"Family\",'Outil Recensement'!I71=\"Individuelle\"),\"Single\",IF('Outil Recensement'!I71=\"Parent seul\",\"Single + more\",IF('Outil Recensement'!I71=\"Couple\",\"Couple\",\"\")))","v":""},{"$f":"IF(AND('Simplified Loader (FOR COPY)'!N65=\"Family\",'Outil Recensement'!I71=\"Individuelle\"),\"Single\",IF('Outil Recensement'!I71=\"Parent seul\",\"Single + more\",IF('Outil Recensement'!I71=\"Couple\",\"Couple\",\"\")))","v":""},{"$f":"IF('Outil Recensement'!CI71>0,'Outil Recensement'!CI71,\"\")","v":""}]
[null,{"$f":"IF('Outil Recensement'!A72>0,'Outil Recensement'!A72,\"\")","v":""},{"$f":"IF('Outil Recensement'!B72>0,'Outil Recensement'!B72,\"\")","v":""},{"$f":"IF('Outil Recensement'!D72>0,'Outil Recensement'!D72,\"\")","v":""},{"$f":"IF('Simplified Loader (FOR COPY)'!N66>0,'Simplified Loader (FOR COPY)'!N66,\"\")","v":""},{"$f":"IF(AND('Simplified Loader (FOR COPY)'!N66=\"Family\",'Outil Recensement'!I72=\"Individuelle\"),\"Single\",IF('Outil Recensement'!I72=\"Parent seul\",\"Single + more\",IF('Outil Recensement'!I72=\"Couple\",\"Couple\",\"\")))","v":""},{"$f":"IF(AND('Simplified Loader (FOR COPY)'!N66=\"Family\",'Outil Recensement'!I72=\"Individuelle\"),\"Single\",IF('Outil Recensement'!I72=\"Parent seul\",\"Single + more\",IF('Outil Recensement'!I72=\"Couple\",\"Couple\",\"\")))","v":""},{"$f":"IF('Outil Recensement'!CI72>0,'Outil Recensement'!CI72,\"\")","v":""}]
[null,{"$f":"IF('Outil Recensement'!A73>0,'Outil Recensement'!A73,\"\")","v":""},{"$f":"IF('Outil Recensement'!B73>0,'Outil Recensement'!B73,\"\")","v":""},{"$f":"IF('Outil Recensement'!D73>0,'Outil Recensement'!D73,\"\")","v":""},{"$f":"IF('Simplified Loader (FOR COPY)'!N67>0,'Simplified Loader (FOR COPY)'!N67,\"\")","v":""},{"$f":"IF(AND('Simplified Loader (FOR COPY)'!N67=\"Family\",'Outil Recensement'!I73=\"Individuelle\"),\"Single\",IF('Outil Recensement'!I73=\"Parent seul\",\"Single + more\",IF('Outil Recensement'!I73=\"Couple\",\"Couple\",\"\")))","v":""},{"$f":"IF(AND('Simplified Loader (FOR COPY)'!N67=\"Family\",'Outil Recensement'!I73=\"Individuelle\"),\"Single\",IF('Outil Recensement'!I73=\"Parent seul\",\"Single + more\",IF('Outil Recensement'!I73=\"Couple\",\"Couple\",\"\")))","v":""},{"$f":"IF('Outil Recensement'!CI73>0,'Outil Recensement'!CI73,\"\")","v":""}]
[null,{"$f":"IF('Outil Recensement'!A74>0,'Outil Recensement'!A74,\"\")","v":""},{"$f":"IF('Outil Recensement'!B74>0,'Outil Recensement'!B74,\"\")","v":""},{"$f":"IF('Outil Recensement'!D74>0,'Outil Recensement'!D74,\"\")","v":""},{"$f":"IF('Simplified Loader (FOR COPY)'!N68>0,'Simplified Loader (FOR COPY)'!N68,\"\")","v":""},{"$f":"IF(AND('Simplified Loader (FOR COPY)'!N68=\"Family\",'Outil Recensement'!I74=\"Individuelle\"),\"Single\",IF('Outil Recensement'!I74=\"Parent seul\",\"Single + more\",IF('Outil Recensement'!I74=\"Couple\",\"Couple\",\"\")))","v":""},{"$f":"IF(AND('Simplified Loader (FOR COPY)'!N68=\"Family\",'Outil Recensement'!I74=\"Individuelle\"),\"Single\",IF('Outil Recensement'!I74=\"Parent seul\",\"Single + more\",IF('Outil Recensement'!I74=\"Couple\",\"Couple\",\"\")))","v":""},{"$f":"IF('Outil Recensement'!CI74>0,'Outil Recensement'!CI74,\"\")","v":""}]
[null,{"$f":"IF('Outil Recensement'!A75>0,'Outil Recensement'!A75,\"\")","v":""},{"$f":"IF('Outil Recensement'!B75>0,'Outil Recensement'!B75,\"\")","v":""},{"$f":"IF('Outil Recensement'!D75>0,'Outil Recensement'!D75,\"\")","v":""},{"$f":"IF('Simplified Loader (FOR COPY)'!N69>0,'Simplified Loader (FOR COPY)'!N69,\"\")","v":""},{"$f":"IF(AND('Simplified Loader (FOR COPY)'!N69=\"Family\",'Outil Recensement'!I75=\"Individuelle\"),\"Single\",IF('Outil Recensement'!I75=\"Parent seul\",\"Single + more\",IF('Outil Recensement'!I75=\"Couple\",\"Couple\",\"\")))","v":""},{"$f":"IF(AND('Simplified Loader (FOR COPY)'!N69=\"Family\",'Outil Recensement'!I75=\"Individuelle\"),\"Single\",IF('Outil Recensement'!I75=\"Parent seul\",\"Single + more\",IF('Outil Recensement'!I75=\"Couple\",\"Couple\",\"\")))","v":""},{"$f":"IF('Outil Recensement'!CI75>0,'Outil Recensement'!CI75,\"\")","v":""}]
[null,{"$f":"IF('Outil Recensement'!A76>0,'Outil Recensement'!A76,\"\")","v":""},{"$f":"IF('Outil Recensement'!B76>0,'Outil Recensement'!B76,\"\")","v":""},{"$f":"IF('Outil Recensement'!D76>0,'Outil Recensement'!D76,\"\")","v":""},{"$f":"IF('Simplified Loader (FOR COPY)'!N70>0,'Simplified Loader (FOR COPY)'!N70,\"\")","v":""},{"$f":"IF(AND('Simplified Loader (FOR COPY)'!N70=\"Family\",'Outil Recensement'!I76=\"Individuelle\"),\"Single\",IF('Outil Recensement'!I76=\"Parent seul\",\"Single + more\",IF('Outil Recensement'!I76=\"Couple\",\"Couple\",\"\")))","v":""},{"$f":"IF(AND('Simplified Loader (FOR COPY)'!N70=\"Family\",'Outil Recensement'!I76=\"Individuelle\"),\"Single\",IF('Outil Recensement'!I76=\"Parent seul\",\"Single + more\",IF('Outil Recensement'!I76=\"Couple\",\"Couple\",\"\")))","v":""},{"$f":"IF('Outil Recensement'!CI76>0,'Outil Recensement'!CI76,\"\")","v":""}]
[null,{"$f":"IF('Outil Recensement'!A77>0,'Outil Recensement'!A77,\"\")","v":""},{"$f":"IF('Outil Recensement'!B77>0,'Outil Recensement'!B77,\"\")","v":""},{"$f":"IF('Outil Recensement'!D77>0,'Outil Recensement'!D77,\"\")","v":""},{"$f":"IF('Simplified Loader (FOR COPY)'!N71>0,'Simplified Loader (FOR COPY)'!N71,\"\")","v":""},{"$f":"IF(AND('Simplified Loader (FOR COPY)'!N71=\"Family\",'Outil Recensement'!I77=\"Individuelle\"),\"Single\",IF('Outil Recensement'!I77=\"Parent seul\",\"Single + more\",IF('Outil Recensement'!I77=\"Couple\",\"Couple\",\"\")))","v":""},{"$f":"IF(AND('Simplified Loader (FOR COPY)'!N71=\"Family\",'Outil Recensement'!I77=\"Individuelle\"),\"Single\",IF('Outil Recensement'!I77=\"Parent seul\",\"Single + more\",IF('Outil Recensement'!I77=\"Couple\",\"Couple\",\"\")))","v":""},{"$f":"IF('Outil Recensement'!CI77>0,'Outil Recensement'!CI77,\"\")","v":""}]
[null,{"$f":"IF('Outil Recensement'!A78>0,'Outil Recensement'!A78,\"\")","v":""},{"$f":"IF('Outil Recensement'!B78>0,'Outil Recensement'!B78,\"\")","v":""},{"$f":"IF('Outil Recensement'!D78>0,'Outil Recensement'!D78,\"\")","v":""},{"$f":"IF('Simplified Loader (FOR COPY)'!N72>0,'Simplified Loader (FOR COPY)'!N72,\"\")","v":""},{"$f":"IF(AND('Simplified Loader (FOR COPY)'!N72=\"Family\",'Outil Recensement'!I78=\"Individuelle\"),\"Single\",IF('Outil Recensement'!I78=\"Parent seul\",\"Single + more\",IF('Outil Recensement'!I78=\"Couple\",\"Couple\",\"\")))","v":""},{"$f":"IF(AND('Simplified Loader (FOR COPY)'!N72=\"Family\",'Outil Recensement'!I78=\"Individuelle\"),\"Single\",IF('Outil Recensement'!I78=\"Parent seul\",\"Single + more\",IF('Outil Recensement'!I78=\"Couple\",\"Couple\",\"\")))","v":""},{"$f":"IF('Outil Recensement'!CI78>0,'Outil Recensement'!CI78,\"\")","v":""}]
[null,{"$f":"IF('Outil Recensement'!A79>0,'Outil Recensement'!A79,\"\")","v":""},{"$f":"IF('Outil Recensement'!B79>0,'Outil Recensement'!B79,\"\")","v":""},{"$f":"IF('Outil Recensement'!D79>0,'Outil Recensement'!D79,\"\")","v":""},{"$f":"IF('Simplified Loader (FOR COPY)'!N73>0,'Simplified Loader (FOR COPY)'!N73,\"\")","v":""},{"$f":"IF(AND('Simplified Loader (FOR COPY)'!N73=\"Family\",'Outil Recensement'!I79=\"Individuelle\"),\"Single\",IF('Outil Recensement'!I79=\"Parent seul\",\"Single + more\",IF('Outil Recensement'!I79=\"Couple\",\"Couple\",\"\")))","v":""},{"$f":"IF(AND('Simplified Loader (FOR COPY)'!N73=\"Family\",'Outil Recensement'!I79=\"Individuelle\"),\"Single\",IF('Outil Recensement'!I79=\"Parent seul\",\"Single + more\",IF('Outil Recensement'!I79=\"Couple\",\"Couple\",\"\")))","v":""},{"$f":"IF('Outil Recensement'!CI79>0,'Outil Recensement'!CI79,\"\")","v":""}]
[null,{"$f":"IF('Outil Recensement'!A80>0,'Outil Recensement'!A80,\"\")","v":""},{"$f":"IF('Outil Recensement'!B80>0,'Outil Recensement'!B80,\"\")","v":""},{"$f":"IF('Outil Recensement'!D80>0,'Outil Recensement'!D80,\"\")","v":""},{"$f":"IF('Simplified Loader (FOR COPY)'!N74>0,'Simplified Loader (FOR COPY)'!N74,\"\")","v":""},{"$f":"IF(AND('Simplified Loader (FOR COPY)'!N74=\"Family\",'Outil Recensement'!I80=\"Individuelle\"),\"Single\",IF('Outil Recensement'!I80=\"Parent seul\",\"Single + more\",IF('Outil Recensement'!I80=\"Couple\",\"Couple\",\"\")))","v":""},{"$f":"IF(AND('Simplified Loader (FOR COPY)'!N74=\"Family\",'Outil Recensement'!I80=\"Individuelle\"),\"Single\",IF('Outil Recensement'!I80=\"Parent seul\",\"Single + more\",IF('Outil Recensement'!I80=\"Couple\",\"Couple\",\"\")))","v":""},{"$f":"IF('Outil Recensement'!CI80>0,'Outil Recensement'!CI80,\"\")","v":""}]
[null,{"$f":"IF('Outil Recensement'!A81>0,'Outil Recensement'!A81,\"\")","v":""},{"$f":"IF('Outil Recensement'!B81>0,'Outil Recensement'!B81,\"\")","v":""},{"$f":"IF('Outil Recensement'!D81>0,'Outil Recensement'!D81,\"\")","v":""},{"$f":"IF('Simplified Loader (FOR COPY)'!N75>0,'Simplified Loader (FOR COPY)'!N75,\"\")","v":""},{"$f":"IF(AND('Simplified Loader (FOR COPY)'!N75=\"Family\",'Outil Recensement'!I81=\"Individuelle\"),\"Single\",IF('Outil Recensement'!I81=\"Parent seul\",\"Single + more\",IF('Outil Recensement'!I81=\"Couple\",\"Couple\",\"\")))","v":""},{"$f":"IF(AND('Simplified Loader (FOR COPY)'!N75=\"Family\",'Outil Recensement'!I81=\"Individuelle\"),\"Single\",IF('Outil Recensement'!I81=\"Parent seul\",\"Single + more\",IF('Outil Recensement'!I81=\"Couple\",\"Couple\",\"\")))","v":""},{"$f":"IF('Outil Recensement'!CI81>0,'Outil Recensement'!CI81,\"\")","v":""}]
[null,{"$f":"IF('Outil Recensement'!A82>0,'Outil Recensement'!A82,\"\")","v":""},{"$f":"IF('Outil Recensement'!B82>0,'Outil Recensement'!B82,\"\")","v":""},{"$f":"IF('Outil Recensement'!D82>0,'Outil Recensement'!D82,\"\")","v":""},{"$f":"IF('Simplified Loader (FOR COPY)'!N76>0,'Simplified Loader (FOR COPY)'!N76,\"\")","v":""},{"$f":"IF(AND('Simplified Loader (FOR COPY)'!N76=\"Family\",'Outil Recensement'!I82=\"Individuelle\"),\"Single\",IF('Outil Recensement'!I82=\"Parent seul\",\"Single + more\",IF('Outil Recensement'!I82=\"Couple\",\"Couple\",\"\")))","v":""},{"$f":"IF(AND('Simplified Loader (FOR COPY)'!N76=\"Family\",'Outil Recensement'!I82=\"Individuelle\"),\"Single\",IF('Outil Recensement'!I82=\"Parent seul\",\"Single + more\",IF('Outil Recensement'!I82=\"Couple\",\"Couple\",\"\")))","v":""},{"$f":"IF('Outil Recensement'!CI82>0,'Outil Recensement'!CI82,\"\")","v":""}]
[null,{"$f":"IF('Outil Recensement'!A83>0,'Outil Recensement'!A83,\"\")","v":""},{"$f":"IF('Outil Recensement'!B83>0,'Outil Recensement'!B83,\"\")","v":""},{"$f":"IF('Outil Recensement'!D83>0,'Outil Recensement'!D83,\"\")","v":""},{"$f":"IF('Simplified Loader (FOR COPY)'!N77>0,'Simplified Loader (FOR COPY)'!N77,\"\")","v":""},{"$f":"IF(AND('Simplified Loader (FOR COPY)'!N77=\"Family\",'Outil Recensement'!I83=\"Individuelle\"),\"Single\",IF('Outil Recensement'!I83=\"Parent seul\",\"Single + more\",IF('Outil Recensement'!I83=\"Couple\",\"Couple\",\"\")))","v":""},{"$f":"IF(AND('Simplified Loader (FOR COPY)'!N77=\"Family\",'Outil Recensement'!I83=\"Individuelle\"),\"Single\",IF('Outil Recensement'!I83=\"Parent seul\",\"Single + more\",IF('Outil Recensement'!I83=\"Couple\",\"Couple\",\"\")))","v":""},{"$f":"IF('Outil Recensement'!CI83>0,'Outil Recensement'!CI83,\"\")","v":""}]
[null,{"$f":"IF('Outil Recensement'!A84>0,'Outil Recensement'!A84,\"\")","v":""},{"$f":"IF('Outil Recensement'!B84>0,'Outil Recensement'!B84,\"\")","v":""},{"$f":"IF('Outil Recensement'!D84>0,'Outil Recensement'!D84,\"\")","v":""},{"$f":"IF('Simplified Loader (FOR COPY)'!N78>0,'Simplified Loader (FOR COPY)'!N78,\"\")","v":""},{"$f":"IF(AND('Simplified Loader (FOR COPY)'!N78=\"Family\",'Outil Recensement'!I84=\"Individuelle\"),\"Single\",IF('Outil Recensement'!I84=\"Parent seul\",\"Single + more\",IF('Outil Recensement'!I84=\"Couple\",\"Couple\",\"\")))","v":""},{"$f":"IF(AND('Simplified Loader (FOR COPY)'!N78=\"Family\",'Outil Recensement'!I84=\"Individuelle\"),\"Single\",IF('Outil Recensement'!I84=\"Parent seul\",\"Single + more\",IF('Outil Recensement'!I84=\"Couple\",\"Couple\",\"\")))","v":""},{"$f":"IF('Outil Recensement'!CI84>0,'Outil Recensement'!CI84,\"\")","v":""}]
[null,{"$f":"IF('Outil Recensement'!A85>0,'Outil Recensement'!A85,\"\")","v":""},{"$f":"IF('Outil Recensement'!B85>0,'Outil Recensement'!B85,\"\")","v":""},{"$f":"IF('Outil Recensement'!D85>0,'Outil Recensement'!D85,\"\")","v":""},{"$f":"IF('Simplified Loader (FOR COPY)'!N79>0,'Simplified Loader (FOR COPY)'!N79,\"\")","v":""},{"$f":"IF(AND('Simplified Loader (FOR COPY)'!N79=\"Family\",'Outil Recensement'!I85=\"Individuelle\"),\"Single\",IF('Outil Recensement'!I85=\"Parent seul\",\"Single + more\",IF('Outil Recensement'!I85=\"Couple\",\"Couple\",\"\")))","v":""},{"$f":"IF(AND('Simplified Loader (FOR COPY)'!N79=\"Family\",'Outil Recensement'!I85=\"Individuelle\"),\"Single\",IF('Outil Recensement'!I85=\"Parent seul\",\"Single + more\",IF('Outil Recensement'!I85=\"Couple\",\"Couple\",\"\")))","v":""},{"$f":"IF('Outil Recensement'!CI85>0,'Outil Recensement'!CI85,\"\")","v":""}]
[null,{"$f":"IF('Outil Recensement'!A86>0,'Outil Recensement'!A86,\"\")","v":""},{"$f":"IF('Outil Recensement'!B86>0,'Outil Recensement'!B86,\"\")","v":""},{"$f":"IF('Outil Recensement'!D86>0,'Outil Recensement'!D86,\"\")","v":""},{"$f":"IF('Simplified Loader (FOR COPY)'!N80>0,'Simplified Loader (FOR COPY)'!N80,\"\")","v":""},{"$f":"IF(AND('Simplified Loader (FOR COPY)'!N80=\"Family\",'Outil Recensement'!I86=\"Individuelle\"),\"Single\",IF('Outil Recensement'!I86=\"Parent seul\",\"Single + more\",IF('Outil Recensement'!I86=\"Couple\",\"Couple\",\"\")))","v":""},{"$f":"IF(AND('Simplified Loader (FOR COPY)'!N80=\"Family\",'Outil Recensement'!I86=\"Individuelle\"),\"Single\",IF('Outil Recensement'!I86=\"Parent seul\",\"Single + more\",IF('Outil Recensement'!I86=\"Couple\",\"Couple\",\"\")))","v":""},{"$f":"IF('Outil Recensement'!CI86>0,'Outil Recensement'!CI86,\"\")","v":""}]
[null,{"$f":"IF('Outil Recensement'!A87>0,'Outil Recensement'!A87,\"\")","v":""},{"$f":"IF('Outil Recensement'!B87>0,'Outil Recensement'!B87,\"\")","v":""},{"$f":"IF('Outil Recensement'!D87>0,'Outil Recensement'!D87,\"\")","v":""},{"$f":"IF('Simplified Loader (FOR COPY)'!N81>0,'Simplified Loader (FOR COPY)'!N81,\"\")","v":""},{"$f":"IF(AND('Simplified Loader (FOR COPY)'!N81=\"Family\",'Outil Recensement'!I87=\"Individuelle\"),\"Single\",IF('Outil Recensement'!I87=\"Parent seul\",\"Single + more\",IF('Outil Recensement'!I87=\"Couple\",\"Couple\",\"\")))","v":""},{"$f":"IF(AND('Simplified Loader (FOR COPY)'!N81=\"Family\",'Outil Recensement'!I87=\"Individuelle\"),\"Single\",IF('Outil Recensement'!I87=\"Parent seul\",\"Single + more\",IF('Outil Recensement'!I87=\"Couple\",\"Couple\",\"\")))","v":""},{"$f":"IF('Outil Recensement'!CI87>0,'Outil Recensement'!CI87,\"\")","v":""}]
[null,{"$f":"IF('Outil Recensement'!A88>0,'Outil Recensement'!A88,\"\")","v":""},{"$f":"IF('Outil Recensement'!B88>0,'Outil Recensement'!B88,\"\")","v":""},{"$f":"IF('Outil Recensement'!D88>0,'Outil Recensement'!D88,\"\")","v":""},{"$f":"IF('Simplified Loader (FOR COPY)'!N82>0,'Simplified Loader (FOR COPY)'!N82,\"\")","v":""},{"$f":"IF(AND('Simplified Loader (FOR COPY)'!N82=\"Family\",'Outil Recensement'!I88=\"Individuelle\"),\"Single\",IF('Outil Recensement'!I88=\"Parent seul\",\"Single + more\",IF('Outil Recensement'!I88=\"Couple\",\"Couple\",\"\")))","v":""},{"$f":"IF(AND('Simplified Loader (FOR COPY)'!N82=\"Family\",'Outil Recensement'!I88=\"Individuelle\"),\"Single\",IF('Outil Recensement'!I88=\"Parent seul\",\"Single + more\",IF('Outil Recensement'!I88=\"Couple\",\"Couple\",\"\")))","v":""},{"$f":"IF('Outil Recensement'!CI88>0,'Outil Recensement'!CI88,\"\")","v":""}]
[null,{"$f":"IF('Outil Recensement'!A89>0,'Outil Recensement'!A89,\"\")","v":""},{"$f":"IF('Outil Recensement'!B89>0,'Outil Recensement'!B89,\"\")","v":""},{"$f":"IF('Outil Recensement'!D89>0,'Outil Recensement'!D89,\"\")","v":""},{"$f":"IF('Simplified Loader (FOR COPY)'!N83>0,'Simplified Loader (FOR COPY)'!N83,\"\")","v":""},{"$f":"IF(AND('Simplified Loader (FOR COPY)'!N83=\"Family\",'Outil Recensement'!I89=\"Individuelle\"),\"Single\",IF('Outil Recensement'!I89=\"Parent seul\",\"Single + more\",IF('Outil Recensement'!I89=\"Couple\",\"Couple\",\"\")))","v":""},{"$f":"IF(AND('Simplified Loader (FOR COPY)'!N83=\"Family\",'Outil Recensement'!I89=\"Individuelle\"),\"Single\",IF('Outil Recensement'!I89=\"Parent seul\",\"Single + more\",IF('Outil Recensement'!I89=\"Couple\",\"Couple\",\"\")))","v":""},{"$f":"IF('Outil Recensement'!CI89>0,'Outil Recensement'!CI89,\"\")","v":""}]
[null,{"$f":"IF('Outil Recensement'!A90>0,'Outil Recensement'!A90,\"\")","v":""},{"$f":"IF('Outil Recensement'!B90>0,'Outil Recensement'!B90,\"\")","v":""},{"$f":"IF('Outil Recensement'!D90>0,'Outil Recensement'!D90,\"\")","v":""},{"$f":"IF('Simplified Loader (FOR COPY)'!N84>0,'Simplified Loader (FOR COPY)'!N84,\"\")","v":""},{"$f":"IF(AND('Simplified Loader (FOR COPY)'!N84=\"Family\",'Outil Recensement'!I90=\"Individuelle\"),\"Single\",IF('Outil Recensement'!I90=\"Parent seul\",\"Single + more\",IF('Outil Recensement'!I90=\"Couple\",\"Couple\",\"\")))","v":""},{"$f":"IF(AND('Simplified Loader (FOR COPY)'!N84=\"Family\",'Outil Recensement'!I90=\"Individuelle\"),\"Single\",IF('Outil Recensement'!I90=\"Parent seul\",\"Single + more\",IF('Outil Recensement'!I90=\"Couple\",\"Couple\",\"\")))","v":""},{"$f":"IF('Outil Recensement'!CI90>0,'Outil Recensement'!CI90,\"\")","v":""}]
[null,{"$f":"IF('Outil Recensement'!A91>0,'Outil Recensement'!A91,\"\")","v":""},{"$f":"IF('Outil Recensement'!B91>0,'Outil Recensement'!B91,\"\")","v":""},{"$f":"IF('Outil Recensement'!D91>0,'Outil Recensement'!D91,\"\")","v":""},{"$f":"IF('Simplified Loader (FOR COPY)'!N85>0,'Simplified Loader (FOR COPY)'!N85,\"\")","v":""},{"$f":"IF(AND('Simplified Loader (FOR COPY)'!N85=\"Family\",'Outil Recensement'!I91=\"Individuelle\"),\"Single\",IF('Outil Recensement'!I91=\"Parent seul\",\"Single + more\",IF('Outil Recensement'!I91=\"Couple\",\"Couple\",\"\")))","v":""},{"$f":"IF(AND('Simplified Loader (FOR COPY)'!N85=\"Family\",'Outil Recensement'!I91=\"Individuelle\"),\"Single\",IF('Outil Recensement'!I91=\"Parent seul\",\"Single + more\",IF('Outil Recensement'!I91=\"Couple\",\"Couple\",\"\")))","v":""},{"$f":"IF('Outil Recensement'!CI91>0,'Outil Recensement'!CI91,\"\")","v":""}]
[null,{"$f":"IF('Outil Recensement'!A92>0,'Outil Recensement'!A92,\"\")","v":""},{"$f":"IF('Outil Recensement'!B92>0,'Outil Recensement'!B92,\"\")","v":""},{"$f":"IF('Outil Recensement'!D92>0,'Outil Recensement'!D92,\"\")","v":""},{"$f":"IF('Simplified Loader (FOR COPY)'!N86>0,'Simplified Loader (FOR COPY)'!N86,\"\")","v":""},{"$f":"IF(AND('Simplified Loader (FOR COPY)'!N86=\"Family\",'Outil Recensement'!I92=\"Individuelle\"),\"Single\",IF('Outil Recensement'!I92=\"Parent seul\",\"Single + more\",IF('Outil Recensement'!I92=\"Couple\",\"Couple\",\"\")))","v":""},{"$f":"IF(AND('Simplified Loader (FOR COPY)'!N86=\"Family\",'Outil Recensement'!I92=\"Individuelle\"),\"Single\",IF('Outil Recensement'!I92=\"Parent seul\",\"Single + more\",IF('Outil Recensement'!I92=\"Couple\",\"Couple\",\"\")))","v":""},{"$f":"IF('Outil Recensement'!CI92>0,'Outil Recensement'!CI92,\"\")","v":""}]
[null,{"$f":"IF('Outil Recensement'!A93>0,'Outil Recensement'!A93,\"\")","v":""},{"$f":"IF('Outil Recensement'!B93>0,'Outil Recensement'!B93,\"\")","v":""},{"$f":"IF('Outil Recensement'!D93>0,'Outil Recensement'!D93,\"\")","v":""},{"$f":"IF('Simplified Loader (FOR COPY)'!N87>0,'Simplified Loader (FOR COPY)'!N87,\"\")","v":""},{"$f":"IF(AND('Simplified Loader (FOR COPY)'!N87=\"Family\",'Outil Recensement'!I93=\"Individuelle\"),\"Single\",IF('Outil Recensement'!I93=\"Parent seul\",\"Single + more\",IF('Outil Recensement'!I93=\"Couple\",\"Couple\",\"\")))","v":""},{"$f":"IF(AND('Simplified Loader (FOR COPY)'!N87=\"Family\",'Outil Recensement'!I93=\"Individuelle\"),\"Single\",IF('Outil Recensement'!I93=\"Parent seul\",\"Single + more\",IF('Outil Recensement'!I93=\"Couple\",\"Couple\",\"\")))","v":""},{"$f":"IF('Outil Recensement'!CI93>0,'Outil Recensement'!CI93,\"\")","v":""}]
[null,{"$f":"IF('Outil Recensement'!A94>0,'Outil Recensement'!A94,\"\")","v":""},{"$f":"IF('Outil Recensement'!B94>0,'Outil Recensement'!B94,\"\")","v":""},{"$f":"IF('Outil Recensement'!D94>0,'Outil Recensement'!D94,\"\")","v":""},{"$f":"IF('Simplified Loader (FOR COPY)'!N88>0,'Simplified Loader (FOR COPY)'!N88,\"\")","v":""},{"$f":"IF(AND('Simplified Loader (FOR COPY)'!N88=\"Family\",'Outil Recensement'!I94=\"Individuelle\"),\"Single\",IF('Outil Recensement'!I94=\"Parent seul\",\"Single + more\",IF('Outil Recensement'!I94=\"Couple\",\"Couple\",\"\")))","v":""},{"$f":"IF(AND('Simplified Loader (FOR COPY)'!N88=\"Family\",'Outil Recensement'!I94=\"Individuelle\"),\"Single\",IF('Outil Recensement'!I94=\"Parent seul\",\"Single + more\",IF('Outil Recensement'!I94=\"Couple\",\"Couple\",\"\")))","v":""},{"$f":"IF('Outil Recensement'!CI94>0,'Outil Recensement'!CI94,\"\")","v":""}]
[null,{"$f":"IF('Outil Recensement'!A95>0,'Outil Recensement'!A95,\"\")","v":""},{"$f":"IF('Outil Recensement'!B95>0,'Outil Recensement'!B95,\"\")","v":""},{"$f":"IF('Outil Recensement'!D95>0,'Outil Recensement'!D95,\"\")","v":""},{"$f":"IF('Simplified Loader (FOR COPY)'!N89>0,'Simplified Loader (FOR COPY)'!N89,\"\")","v":""},{"$f":"IF(AND('Simplified Loader (FOR COPY)'!N89=\"Family\",'Outil Recensement'!I95=\"Individuelle\"),\"Single\",IF('Outil Recensement'!I95=\"Parent seul\",\"Single + more\",IF('Outil Recensement'!I95=\"Couple\",\"Couple\",\"\")))","v":""},{"$f":"IF(AND('Simplified Loader (FOR COPY)'!N89=\"Family\",'Outil Recensement'!I95=\"Individuelle\"),\"Single\",IF('Outil Recensement'!I95=\"Parent seul\",\"Single + more\",IF('Outil Recensement'!I95=\"Couple\",\"Couple\",\"\")))","v":""},{"$f":"IF('Outil Recensement'!CI95>0,'Outil Recensement'!CI95,\"\")","v":""}]
[null,{"$f":"IF('Outil Recensement'!A96>0,'Outil Recensement'!A96,\"\")","v":""},{"$f":"IF('Outil Recensement'!B96>0,'Outil Recensement'!B96,\"\")","v":""},{"$f":"IF('Outil Recensement'!D96>0,'Outil Recensement'!D96,\"\")","v":""},{"$f":"IF('Simplified Loader (FOR COPY)'!N90>0,'Simplified Loader (FOR COPY)'!N90,\"\")","v":""},{"$f":"IF(AND('Simplified Loader (FOR COPY)'!N90=\"Family\",'Outil Recensement'!I96=\"Individuelle\"),\"Single\",IF('Outil Recensement'!I96=\"Parent seul\",\"Single + more\",IF('Outil Recensement'!I96=\"Couple\",\"Couple\",\"\")))","v":""},{"$f":"IF(AND('Simplified Loader (FOR COPY)'!N90=\"Family\",'Outil Recensement'!I96=\"Individuelle\"),\"Single\",IF('Outil Recensement'!I96=\"Parent seul\",\"Single + more\",IF('Outil Recensement'!I96=\"Couple\",\"Couple\",\"\")))","v":""},{"$f":"IF('Outil Recensement'!CI96>0,'Outil Recensement'!CI96,\"\")","v":""}]
[null,{"$f":"IF('Outil Recensement'!A97>0,'Outil Recensement'!A97,\"\")","v":""},{"$f":"IF('Outil Recensement'!B97>0,'Outil Recensement'!B97,\"\")","v":""},{"$f":"IF('Outil Recensement'!D97>0,'Outil Recensement'!D97,\"\")","v":""},{"$f":"IF('Simplified Loader (FOR COPY)'!N91>0,'Simplified Loader (FOR COPY)'!N91,\"\")","v":""},{"$f":"IF(AND('Simplified Loader (FOR COPY)'!N91=\"Family\",'Outil Recensement'!I97=\"Individuelle\"),\"Single\",IF('Outil Recensement'!I97=\"Parent seul\",\"Single + more\",IF('Outil Recensement'!I97=\"Couple\",\"Couple\",\"\")))","v":""},{"$f":"IF(AND('Simplified Loader (FOR COPY)'!N91=\"Family\",'Outil Recensement'!I97=\"Individuelle\"),\"Single\",IF('Outil Recensement'!I97=\"Parent seul\",\"Single + more\",IF('Outil Recensement'!I97=\"Couple\",\"Couple\",\"\")))","v":""},{"$f":"IF('Outil Recensement'!CI97>0,'Outil Recensement'!CI97,\"\")","v":""}]
[null,{"$f":"IF('Outil Recensement'!A98>0,'Outil Recensement'!A98,\"\")","v":""},{"$f":"IF('Outil Recensement'!B98>0,'Outil Recensement'!B98,\"\")","v":""},{"$f":"IF('Outil Recensement'!D98>0,'Outil Recensement'!D98,\"\")","v":""},{"$f":"IF('Simplified Loader (FOR COPY)'!N92>0,'Simplified Loader (FOR COPY)'!N92,\"\")","v":""},{"$f":"IF(AND('Simplified Loader (FOR COPY)'!N92=\"Family\",'Outil Recensement'!I98=\"Individuelle\"),\"Single\",IF('Outil Recensement'!I98=\"Parent seul\",\"Single + more\",IF('Outil Recensement'!I98=\"Couple\",\"Couple\",\"\")))","v":""},{"$f":"IF(AND('Simplified Loader (FOR COPY)'!N92=\"Family\",'Outil Recensement'!I98=\"Individuelle\"),\"Single\",IF('Outil Recensement'!I98=\"Parent seul\",\"Single + more\",IF('Outil Recensement'!I98=\"Couple\",\"Couple\",\"\")))","v":""},{"$f":"IF('Outil Recensement'!CI98>0,'Outil Recensement'!CI98,\"\")","v":""}]
[null,{"$f":"IF('Outil Recensement'!A99>0,'Outil Recensement'!A99,\"\")","v":""},{"$f":"IF('Outil Recensement'!B99>0,'Outil Recensement'!B99,\"\")","v":""},{"$f":"IF('Outil Recensement'!D99>0,'Outil Recensement'!D99,\"\")","v":""},{"$f":"IF('Simplified Loader (FOR COPY)'!N93>0,'Simplified Loader (FOR COPY)'!N93,\"\")","v":""},{"$f":"IF(AND('Simplified Loader (FOR COPY)'!N93=\"Family\",'Outil Recensement'!I99=\"Individuelle\"),\"Single\",IF('Outil Recensement'!I99=\"Parent seul\",\"Single + more\",IF('Outil Recensement'!I99=\"Couple\",\"Couple\",\"\")))","v":""},{"$f":"IF(AND('Simplified Loader (FOR COPY)'!N93=\"Family\",'Outil Recensement'!I99=\"Individuelle\"),\"Single\",IF('Outil Recensement'!I99=\"Parent seul\",\"Single + more\",IF('Outil Recensement'!I99=\"Couple\",\"Couple\",\"\")))","v":""},{"$f":"IF('Outil Recensement'!CI99>0,'Outil Recensement'!CI99,\"\")","v":""}]
[null,{"$f":"IF('Outil Recensement'!A100>0,'Outil Recensement'!A100,\"\")","v":""},{"$f":"IF('Outil Recensement'!B100>0,'Outil Recensement'!B100,\"\")","v":""},{"$f":"IF('Outil Recensement'!D100>0,'Outil Recensement'!D100,\"\")","v":""},{"$f":"IF('Simplified Loader (FOR COPY)'!N94>0,'Simplified Loader (FOR COPY)'!N94,\"\")","v":""},{"$f":"IF(AND('Simplified Loader (FOR COPY)'!N94=\"Family\",'Outil Recensement'!I100=\"Individuelle\"),\"Single\",IF('Outil Recensement'!I100=\"Parent seul\",\"Single + more\",IF('Outil Recensement'!I100=\"Couple\",\"Couple\",\"\")))","v":""},{"$f":"IF(AND('Simplified Loader (FOR COPY)'!N94=\"Family\",'Outil Recensement'!I100=\"Individuelle\"),\"Single\",IF('Outil Recensement'!I100=\"Parent seul\",\"Single + more\",IF('Outil Recensement'!I100=\"Couple\",\"Couple\",\"\")))","v":""},{"$f":"IF('Outil Recensement'!CI100>0,'Outil Recensement'!CI100,\"\")","v":""}]
[null,{"$f":"IF('Outil Recensement'!A101>0,'Outil Recensement'!A101,\"\")","v":""},{"$f":"IF('Outil Recensement'!B101>0,'Outil Recensement'!B101,\"\")","v":""},{"$f":"IF('Outil Recensement'!D101>0,'Outil Recensement'!D101,\"\")","v":""},{"$f":"IF('Simplified Loader (FOR COPY)'!N95>0,'Simplified Loader (FOR COPY)'!N95,\"\")","v":""},{"$f":"IF(AND('Simplified Loader (FOR COPY)'!N95=\"Family\",'Outil Recensement'!I101=\"Individuelle\"),\"Single\",IF('Outil Recensement'!I101=\"Parent seul\",\"Single + more\",IF('Outil Recensement'!I101=\"Couple\",\"Couple\",\"\")))","v":""},{"$f":"IF(AND('Simplified Loader (FOR COPY)'!N95=\"Family\",'Outil Recensement'!I101=\"Individuelle\"),\"Single\",IF('Outil Recensement'!I101=\"Parent seul\",\"Single + more\",IF('Outil Recensement'!I101=\"Couple\",\"Couple\",\"\")))","v":""},{"$f":"IF('Outil Recensement'!CI101>0,'Outil Recensement'!CI101,\"\")","v":""}]
[null,{"$f":"IF('Outil Recensement'!A102>0,'Outil Recensement'!A102,\"\")","v":""},{"$f":"IF('Outil Recensement'!B102>0,'Outil Recensement'!B102,\"\")","v":""},{"$f":"IF('Outil Recensement'!D102>0,'Outil Recensement'!D102,\"\")","v":""},{"$f":"IF('Simplified Loader (FOR COPY)'!N96>0,'Simplified Loader (FOR COPY)'!N96,\"\")","v":""},{"$f":"IF(AND('Simplified Loader (FOR COPY)'!N96=\"Family\",'Outil Recensement'!I102=\"Individuelle\"),\"Single\",IF('Outil Recensement'!I102=\"Parent seul\",\"Single + more\",IF('Outil Recensement'!I102=\"Couple\",\"Couple\",\"\")))","v":""},{"$f":"IF(AND('Simplified Loader (FOR COPY)'!N96=\"Family\",'Outil Recensement'!I102=\"Individuelle\"),\"Single\",IF('Outil Recensement'!I102=\"Parent seul\",\"Single + more\",IF('Outil Recensement'!I102=\"Couple\",\"Couple\",\"\")))","v":""},{"$f":"IF('Outil Recensement'!CI102>0,'Outil Recensement'!CI102,\"\")","v":""}]
[null,{"$f":"IF('Outil Recensement'!A103>0,'Outil Recensement'!A103,\"\")","v":""},{"$f":"IF('Outil Recensement'!B103>0,'Outil Recensement'!B103,\"\")","v":""},{"$f":"IF('Outil Recensement'!D103>0,'Outil Recensement'!D103,\"\")","v":""},{"$f":"IF('Simplified Loader (FOR COPY)'!N97>0,'Simplified Loader (FOR COPY)'!N97,\"\")","v":""},{"$f":"IF(AND('Simplified Loader (FOR COPY)'!N97=\"Family\",'Outil Recensement'!I103=\"Individuelle\"),\"Single\",IF('Outil Recensement'!I103=\"Parent seul\",\"Single + more\",IF('Outil Recensement'!I103=\"Couple\",\"Couple\",\"\")))","v":""},{"$f":"IF(AND('Simplified Loader (FOR COPY)'!N97=\"Family\",'Outil Recensement'!I103=\"Individuelle\"),\"Single\",IF('Outil Recensement'!I103=\"Parent seul\",\"Single + more\",IF('Outil Recensement'!I103=\"Couple\",\"Couple\",\"\")))","v":""},{"$f":"IF('Outil Recensement'!CI103>0,'Outil Recensement'!CI103,\"\")","v":""}]
[null,{"$f":"IF('Outil Recensement'!A104>0,'Outil Recensement'!A104,\"\")","v":""},{"$f":"IF('Outil Recensement'!B104>0,'Outil Recensement'!B104,\"\")","v":""},{"$f":"IF('Outil Recensement'!D104>0,'Outil Recensement'!D104,\"\")","v":""},{"$f":"IF('Simplified Loader (FOR COPY)'!N98>0,'Simplified Loader (FOR COPY)'!N98,\"\")","v":""},{"$f":"IF(AND('Simplified Loader (FOR COPY)'!N98=\"Family\",'Outil Recensement'!I104=\"Individuelle\"),\"Single\",IF('Outil Recensement'!I104=\"Parent seul\",\"Single + more\",IF('Outil Recensement'!I104=\"Couple\",\"Couple\",\"\")))","v":""},{"$f":"IF(AND('Simplified Loader (FOR COPY)'!N98=\"Family\",'Outil Recensement'!I104=\"Individuelle\"),\"Single\",IF('Outil Recensement'!I104=\"Parent seul\",\"Single + more\",IF('Outil Recensement'!I104=\"Couple\",\"Couple\",\"\")))","v":""},{"$f":"IF('Outil Recensement'!CI104>0,'Outil Recensement'!CI104,\"\")","v":""}]
[null,{"$f":"IF('Outil Recensement'!A105>0,'Outil Recensement'!A105,\"\")","v":""},{"$f":"IF('Outil Recensement'!B105>0,'Outil Recensement'!B105,\"\")","v":""},{"$f":"IF('Outil Recensement'!D105>0,'Outil Recensement'!D105,\"\")","v":""},{"$f":"IF('Simplified Loader (FOR COPY)'!N99>0,'Simplified Loader (FOR COPY)'!N99,\"\")","v":""},{"$f":"IF(AND('Simplified Loader (FOR COPY)'!N99=\"Family\",'Outil Recensement'!I105=\"Individuelle\"),\"Single\",IF('Outil Recensement'!I105=\"Parent seul\",\"Single + more\",IF('Outil Recensement'!I105=\"Couple\",\"Couple\",\"\")))","v":""},{"$f":"IF(AND('Simplified Loader (FOR COPY)'!N99=\"Family\",'Outil Recensement'!I105=\"Individuelle\"),\"Single\",IF('Outil Recensement'!I105=\"Parent seul\",\"Single + more\",IF('Outil Recensement'!I105=\"Couple\",\"Couple\",\"\")))","v":""},{"$f":"IF('Outil Recensement'!CI105>0,'Outil Recensement'!CI105,\"\")","v":""}]
[null,{"$f":"IF('Outil Recensement'!A106>0,'Outil Recensement'!A106,\"\")","v":""},{"$f":"IF('Outil Recensement'!B106>0,'Outil Recensement'!B106,\"\")","v":""},{"$f":"IF('Outil Recensement'!D106>0,'Outil Recensement'!D106,\"\")","v":""},{"$f":"IF('Simplified Loader (FOR COPY)'!N100>0,'Simplified Loader (FOR COPY)'!N100,\"\")","v":""},{"$f":"IF(AND('Simplified Loader (FOR COPY)'!N100=\"Family\",'Outil Recensement'!I106=\"Individuelle\"),\"Single\",IF('Outil Recensement'!I106=\"Parent seul\",\"Single + more\",IF('Outil Recensement'!I106=\"Couple\",\"Couple\",\"\")))","v":""},{"$f":"IF(AND('Simplified Loader (FOR COPY)'!N100=\"Family\",'Outil Recensement'!I106=\"Individuelle\"),\"Single\",IF('Outil Recensement'!I106=\"Parent seul\",\"Single + more\",IF('Outil Recensement'!I106=\"Couple\",\"Couple\",\"\")))","v":""},{"$f":"IF('Outil Recensement'!CI106>0,'Outil Recensement'!CI106,\"\")","v":""}]
[null,null,null,null,null,{"$f":"IF(AND('Simplified Loader (FOR COPY)'!N101=\"Family\",'Outil Recensement'!I107=\"Individuelle\"),\"Single\",IF('Outil Recensement'!I107=\"Parent seul\",\"Single + more\",IF('Outil Recensement'!I107=\"Couple\",\"Couple\",\"\")))","v":""},{"$f":"IF(AND('Simplified Loader (FOR COPY)'!N101=\"Family\",'Outil Recensement'!I107=\"Individuelle\"),\"Single\",IF('Outil Recensement'!I107=\"Parent seul\",\"Single + more\",IF('Outil Recensement'!I107=\"Couple\",\"Couple\",\"\")))","v":""}]
[null,null,null,null,null,{"$f":"IF(AND('Simplified Loader (FOR COPY)'!N102=\"Family\",'Outil Recensement'!I108=\"Individuelle\"),\"Single\",IF('Outil Recensement'!I108=\"Parent seul\",\"Single + more\",IF('Outil Recensement'!I108=\"Couple\",\"Couple\",\"\")))","v":""},{"$f":"IF(AND('Simplified Loader (FOR COPY)'!N102=\"Family\",'Outil Recensement'!I108=\"Individuelle\"),\"Single\",IF('Outil Recensement'!I108=\"Parent seul\",\"Single + more\",IF('Outil Recensement'!I108=\"Couple\",\"Couple\",\"\")))","v":""}]
[null,null,null,null,null,{"$f":"IF(AND('Simplified Loader (FOR COPY)'!N103=\"Family\",'Outil Recensement'!I109=\"Individuelle\"),\"Single\",IF('Outil Recensement'!I109=\"Parent seul\",\"Single + more\",IF('Outil Recensement'!I109=\"Couple\",\"Couple\",\"\")))","v":""},{"$f":"IF(AND('Simplified Loader (FOR COPY)'!N103=\"Family\",'Outil Recensement'!I109=\"Individuelle\"),\"Single\",IF('Outil Recensement'!I109=\"Parent seul\",\"Single + more\",IF('Outil Recensement'!I109=\"Couple\",\"Couple\",\"\")))","v":""}]