{"text_format":"1","workbook":"xlsx","n_sheets":4,"sheets":["Info","Outil Recensement simplifié","Simplified Loader (FOR COPY)","OASIS Manual Adjustments"],"not_rendered":{"charts":0,"images":9,"macros":1,"external_links":0,"defined_names":0,"comments":0,"pivot_tables":0},"unopened":[],"bounds":{"document_bytes":16777216,"sheet_cells":100000,"rows_first":2000,"rows_last":500,"rows_between":2000,"halvings":0,"cell_chars":16384,"cell_head_chars":4096},"cells_cut":0,"cells_raw":0,"read":"whole","date_system":"1900"}

{"sheet":"Info","index":0,"n_rows":20,"n_cols":2,"rows_kept":20,"cut":false,"hidden":false,"merged":[]}
["VERSION 2.4 (FRA)"]
[]
[null,"TRUCS ET ASTUCES!"]
[]
[null,"Entrée de données"]
[null,"Les données sur les participants comme les noms, dates, provinces, sexes, langues, salaires et sélections de couverture peuvent être pris en charge, à condition qu'ils soient dans un format compatible avec l'outil de recensement.\n\nSi le format des données n'est pas conforme, le champ deviendra rouge\n\nConcernant les courriels et l'information banquaire, la cellule deviendra jaune si la même information est entrée plus d'une fois. Chaque participant doit fournir son propre courriel personnel\n(pour l'information banquaire, vous pouvez ignorer si le même compte est utilisé pour des conjoints)"]
[]
[null,"Copier/Coller des données existantes"]
[null,"\nLes données copiées d'un autre document doivent être collées en utilisant l'option Coller des valeurs"]
[]
[null,"Séparer le contenu d'une colonne de format « Nom, Prénom »\nen colonnes séparées pour pouvoir les copier/coller"]
[null,"\n1. Sélectionnez la cellule ou la colonne qui contient le texte à fractionner."]
[null,"2. Cliquez sur Données > Convertir :"]
[null,"3. Cette commande démarre l’Assistant Conversion. Cliquez sur Délimité > Suivant."]
[null,"4. Cochez Virgule et Espace si votre texte est fractionné de cette façon (ex. Dupont, Jean avec une virgule est un espace entre les noms). Vous pouvez afficher un aperçu de vos données dans la fenêtre Aperçu des données :"]
[null,"5. Cliquez sur Suivant."]
[null,"6. Cliquez sur le bouton         à droite de la zone Destination pour réduire la boîte de dialogue."]
[null,"7. Sélectionnez les cellules dans votre classeur où vous voulez coller vos données fractionnées :"]
[null,"8. Cliquez sur le bouton         pour développer la boîte de dialogue, puis cliquez sur Terminer :"]
[null,"Source:  support.office.com"]

{"sheet":"Outil Recensement simplifié","index":1,"n_rows":101,"n_cols":87,"rows_kept":101,"cut":false,"hidden":false,"merged":[[0,0,0,1],[0,2,0,9],[0,23,0,25],[0,80,0,84],[1,0,1,5]]}
["Nom de la compagnie:",null,null,null,null,null,null,null,null,null,null,null,null,null,null,null,null,"Hidden",null,null,null,null,null,"Renseignements bancaires\n(Champs facultatifs)",null,null,"Hidden","Hidden","Hidden",null,null,null,null,null,null,null,null,null,null,null,null,null,null,null,null,null,null,null,null,null,null,null,null,null,null,null,null,null,null,null,null,null,null,null,null,null,null,null,null,null,null,null,null,null,null,null,null,null,null,null,"Renseignements sur les bénéficiaires :\n\nVeuillez noter que la Financière Sun Life vous aidera pour le chargement de ces renseignements à des fins administratives seulement. Il importe que vous sachiez que le formulaire de désignation de bénéficiaire est un document de portée juridique. Le formulaire original, signé à l'encre, devra être présenté en cas de demande de règlement d'assurance-vie. Il vous incombe donc de vérifier que vous l'avez dans vos dossiers."]
["IMPORTANT: SVP cliquez sur Activer la modification avant de commencer\n                     Si vous collez des données, svp utiliser l'option Coller des valeurs seulement"]
["Numéro de participant","Prénom","Initiale","Nom de famille","Division","Catégorie","Plan","Profession","Date de naissance","Date d'embauche","Province du domicile","Province où travaille le participant","Sexe","Situation - usage du tabac","Le participant a-t-il des personnes à charge? (pour Assurance vie des personnes à charge)","Langue du participant","Statut autochtone - exonéré(e) d'impôt?","Salary Type 1","Périodicité du salaire","Salaire","Heures par semaine ","Couverture demandée - Frais médicaux","Couverture demandée - Frais dentaires","Numéro d'établissement","Numéro de succursale","Numéro de compte","Type","Address Type","Addressee","Adresse (numéro et rue)","Numéro d'app.","Ville","Province","Code postal","Pays","Adresse courriel\n(unique pour chaque participant)","Prénom du conjoint","Nom de famille du conjoint","Date de naissance du conjoint","Sexe du conjoint","Coordination des prestations \n- Frais médicaux","Coordination des prestations \n- Frais dentaires","Nom de l'autre assureur (du conjoint)","Situation usage du tabac \n- conjoint","Prénom - Enfant 1","Nom de famille - Enfant 1","Date de naissance - Enfant 1","Sexe - Enfant 1","Étudiant ayant passé l'âge limite 1","Enfant handicapé 1","Prénom - Enfant 2","Nom de famille - Enfant 2","Date de naissance - Enfant 2","Sexe - Enfant 2","Étudiant ayant passé l'âge limite 2","Enfant handicapé 2","Prénom - Enfant 3","Nom de famille - Enfant 3","Date de naissance - Enfant 3","Sexe - Enfant 3","Étudiant ayant passé l'âge limite 3","Enfant handicapé 3","Prénom - Enfant 4","Nom de famille - Enfant 4","Date de naissance - Enfant 4","Sexe - Enfant 4","Étudiant ayant passé l'âge limite 4","Enfant handicapé 4","Prénom - Enfant 5","Nom de famille - Enfant 5","Date de naissance - Enfant 5","Sexe - Enfant 5","Étudiant ayant passé l'âge limite 5","Enfant handicapé 5","Prénom - Enfant 6","Nom de famille - Enfant 6","Date de naissance - Enfant 6","Sexe - Enfant 6","Étudiant ayant passé l'âge limite 6","Enfant handicapé 6","Désignation de bénéficiaire","Désignation révocable (si conjoint en vertu d'un mariage ou d'une union civile)?\n(Résidents du QC seulement)","Bénéficiaire en sous-ordre","Désignation révocable (si conjoint en vertu d'un mariage ou d'une union civile)?\n(Résidents du QC seulement)","Fiduciaire pour un bénéficiaire mineur\n(Non-résidents du QC seulement)","Beneficiary Information","Compte Soins de Santé - Montants mensuels (si différents parmis les participants)"]
["ex. 1234567890","ex. John","ex. H","ex. Smith","ex. 001","ex. A","A","ex. Comptable","(aaaa-mm-jj)","(aaaa-mm-jj)","ex. ON","ex. ON","Homme/Femme","Oui/Non","Oui/Non","Anglais/Français","Oui/Non","Actual Earnings","ex. Annuelle","ex. 50000","ex. 40","ex. Familiale","ex. Individuelle","ex. 123","ex. 12345","ex. 1234567890","Direct Claims Payments","Home","John Smith","ex. 123 rue Principale","ex. 7A","ex. Ottawa","ex. ON","ex. A1B 2C3","ex. Canada","ex. john.smith@hotmail.com","ex. Jane","ex. Smith","(aaaa-mm-jj)","Homme/Femme","Individuelle/Famille","Individuelle/Famille","ex. Insure Inc.","Oui/Non","ex. Jason","ex. Smith","(aaaa-mm-jj)","Homme/Femme","Oui/Non","Oui/Non","ex. Jane","ex. Smith","(aaaa-mm-jj)","Homme/Femme","Oui/Non","Oui/Non","ex. Jim","ex. Smith","(aaaa-mm-jj)","Homme/Femme","Oui/Non","Oui/Non","ex. Janet","ex. Smith","(aaaa-mm-jj)","Homme/Femme","Oui/Non","Oui/Non","ex. Jasmine","ex. Smith","(aaaa-mm-jj)","Homme/Femme","Oui/Non","Oui/Non","ex. Jack","ex. Smith","(aaaa-mm-jj)","Homme/Femme","Oui/Non","Oui/Non","ex. Jane Smith - épouse 100%","ex. Révocable","ex. Jason Smith - fils 50%, Jennifer Smith - fille 50%","ex. Révocable","ex. Sarah Parker",null,"ex. 125 $"]
[null,null,null,null,null,null,{"$f":"IF(F5>0,F5,\"\")","v":""},null,null,null,null,null,null,null,null,null,null,{"$f":"IF(T5>0,\"Actual Earnings\",\"\")","v":""},null,null,null,null,null,null,null,null,{"$f":"IF(Z5>0,\"Direct Claims Payments\",\"\")","v":""},{"$f":"IF(AD5>0,\"Home\",\"\")","v":""},{"$f":"B5&\" \"&D5","v":" "},null,null,null,{"$f":"IF(K5>0,K5,\"\")","v":""},null,{"$f":"IF(K5>0,\"Canada\",\"\")","v":""},null,null,null,null,null,null,null,null,null,null,null,null,null,null,null,null,null,null,null,null,null,null,null,null,null,null,null,null,null,null,null,null,null,null,null,null,null,null,null,null,null,null,null,null,null,null,null,null,null,null,{"$f":"CC5&\" \"&IF(K5=\"QC\",IF(CD5=\"Révocable\",\"(révocable)\",IF(CD5=\"Irrévocable\",\"(irrévocable)\",IF(CD5=\"\",\"\",\"\"))),\"\")&\" \"&IF(CE5>0,CHAR(10)&\"En sous-ordre: \"&CE5,\"\")&\" \"&IF(K5=\"QC\",IF(CF5=\"Révocable\",\"(révocable)\",IF(CF5=\"Irrévocable\",\"(irrévocable)\",IF(CF5=\"\",\"\",\"\"))),\"\")&\" \"&IF(CG5>0,CHAR(10)&\"Fiduciaire (mineur): \"&CG5,\"\")","v":"    "}]
[null,null,null,null,null,null,{"$f":"IF(F6>0,F6,\"\")","v":""},null,null,null,null,null,null,null,null,null,null,{"$f":"IF(T6>0,\"Actual Earnings\",\"\")","v":""},null,null,null,null,null,null,null,null,{"$f":"IF(Z6>0,\"Direct Claims Payments\",\"\")","v":""},{"$f":"IF(AD6>0,\"Home\",\"\")","v":""},{"$f":"B6&\" \"&D6","v":" "},null,null,null,{"$f":"IF(K6>0,K6,\"\")","v":""},null,{"$f":"IF(K6>0,\"Canada\",\"\")","v":""},null,null,null,null,null,null,null,null,null,null,null,null,null,null,null,null,null,null,null,null,null,null,null,null,null,null,null,null,null,null,null,null,null,null,null,null,null,null,null,null,null,null,null,null,null,null,null,null,null,null,{"$f":"CC6&\" \"&IF(K6=\"QC\",IF(CD6=\"Révocable\",\"(révocable)\",IF(CD6=\"Irrévocable\",\"(irrévocable)\",IF(CD6=\"\",\"\",\"\"))),\"\")&\" \"&IF(CE6>0,CHAR(10)&\"En sous-ordre: \"&CE6,\"\")&\" \"&IF(K6=\"QC\",IF(CF6=\"Révocable\",\"(révocable)\",IF(CF6=\"Irrévocable\",\"(irrévocable)\",IF(CF6=\"\",\"\",\"\"))),\"\")&\" \"&IF(CG6>0,CHAR(10)&\"Fiduciaire (mineur): \"&CG6,\"\")","v":"    "}]
[null,null,null,null,null,null,"",null,null,null,null,null,null,null,null,null,null,"",null,null,null,null,null,null,null,null,"",""," ",null,null,null,"",null,"",null,null,null,null,null,null,null,null,null,null,null,null,null,null,null,null,null,null,null,null,null,null,null,null,null,null,null,null,null,null,null,null,null,null,null,null,null,null,null,null,null,null,null,null,null,null,null,null,null,null,{"$f":"CC7&\" \"&IF(K7=\"QC\",IF(CD7=\"Révocable\",\"(révocable)\",IF(CD7=\"Irrévocable\",\"(irrévocable)\",IF(CD7=\"\",\"\",\"\"))),\"\")&\" \"&IF(CE7>0,CHAR(10)&\"En sous-ordre: \"&CE7,\"\")&\" \"&IF(K7=\"QC\",IF(CF7=\"Révocable\",\"(révocable)\",IF(CF7=\"Irrévocable\",\"(irrévocable)\",IF(CF7=\"\",\"\",\"\"))),\"\")&\" \"&IF(CG7>0,CHAR(10)&\"Fiduciaire (mineur): \"&CG7,\"\")","v":"    "}]
[null,null,null,null,null,null,"",null,null,null,null,null,null,null,null,null,null,"",null,null,null,null,null,null,null,null,"",""," ",null,null,null,"",null,"",null,null,null,null,null,null,null,null,null,null,null,null,null,null,null,null,null,null,null,null,null,null,null,null,null,null,null,null,null,null,null,null,null,null,null,null,null,null,null,null,null,null,null,null,null,null,null,null,null,null,"    "]
[null,null,null,null,null,null,"",null,null,null,null,null,null,null,null,null,null,"",null,null,null,null,null,null,null,null,"",""," ",null,null,null,"",null,"",null,null,null,null,null,null,null,null,null,null,null,null,null,null,null,null,null,null,null,null,null,null,null,null,null,null,null,null,null,null,null,null,null,null,null,null,null,null,null,null,null,null,null,null,null,null,null,null,null,null,"    "]
[null,null,null,null,null,null,"",null,null,null,null,null,null,null,null,null,null,"",null,null,null,null,null,null,null,null,"",""," ",null,null,null,"",null,"",null,null,null,null,null,null,null,null,null,null,null,null,null,null,null,null,null,null,null,null,null,null,null,null,null,null,null,null,null,null,null,null,null,null,null,null,null,null,null,null,null,null,null,null,null,null,null,null,null,null,"    "]
[null,null,null,null,null,null,"",null,null,null,null,null,null,null,null,null,null,"",null,null,null,null,null,null,null,null,"",""," ",null,null,null,"",null,"",null,null,null,null,null,null,null,null,null,null,null,null,null,null,null,null,null,null,null,null,null,null,null,null,null,null,null,null,null,null,null,null,null,null,null,null,null,null,null,null,null,null,null,null,null,null,null,null,null,null,"    "]
[null,null,null,null,null,null,"",null,null,null,null,null,null,null,null,null,null,"",null,null,null,null,null,null,null,null,"",""," ",null,null,null,"",null,"",null,null,null,null,null,null,null,null,null,null,null,null,null,null,null,null,null,null,null,null,null,null,null,null,null,null,null,null,null,null,null,null,null,null,null,null,null,null,null,null,null,null,null,null,null,null,null,null,null,null,"    "]
[null,null,null,null,null,null,"",null,null,null,null,null,null,null,null,null,null,"",null,null,null,null,null,null,null,null,"",""," ",null,null,null,"",null,"",null,null,null,null,null,null,null,null,null,null,null,null,null,null,null,null,null,null,null,null,null,null,null,null,null,null,null,null,null,null,null,null,null,null,null,null,null,null,null,null,null,null,null,null,null,null,null,null,null,null,"    "]
[null,null,null,null,null,null,"",null,null,null,null,null,null,null,null,null,null,"",null,null,null,null,null,null,null,null,"",""," ",null,null,null,"",null,"",null,null,null,null,null,null,null,null,null,null,null,null,null,null,null,null,null,null,null,null,null,null,null,null,null,null,null,null,null,null,null,null,null,null,null,null,null,null,null,null,null,null,null,null,null,null,null,null,null,null,"    "]
[null,null,null,null,null,null,"",null,null,null,null,null,null,null,null,null,null,"",null,null,null,null,null,null,null,null,"",""," ",null,null,null,"",null,"",null,null,null,null,null,null,null,null,null,null,null,null,null,null,null,null,null,null,null,null,null,null,null,null,null,null,null,null,null,null,null,null,null,null,null,null,null,null,null,null,null,null,null,null,null,null,null,null,null,null,"    "]
[null,null,null,null,null,null,"",null,null,null,null,null,null,null,null,null,null,"",null,null,null,null,null,null,null,null,"",""," ",null,null,null,"",null,"",null,null,null,null,null,null,null,null,null,null,null,null,null,null,null,null,null,null,null,null,null,null,null,null,null,null,null,null,null,null,null,null,null,null,null,null,null,null,null,null,null,null,null,null,null,null,null,null,null,null,"    "]
[null,null,null,null,null,null,"",null,null,null,null,null,null,null,null,null,null,"",null,null,null,null,null,null,null,null,"",""," ",null,null,null,"",null,"",null,null,null,null,null,null,null,null,null,null,null,null,null,null,null,null,null,null,null,null,null,null,null,null,null,null,null,null,null,null,null,null,null,null,null,null,null,null,null,null,null,null,null,null,null,null,null,null,null,null,"    "]
[null,null,null,null,null,null,"",null,null,null,null,null,null,null,null,null,null,"",null,null,null,null,null,null,null,null,"",""," ",null,null,null,"",null,"",null,null,null,null,null,null,null,null,null,null,null,null,null,null,null,null,null,null,null,null,null,null,null,null,null,null,null,null,null,null,null,null,null,null,null,null,null,null,null,null,null,null,null,null,null,null,null,null,null,null,"    "]
[null,null,null,null,null,null,"",null,null,null,null,null,null,null,null,null,null,"",null,null,null,null,null,null,null,null,"",""," ",null,null,null,"",null,"",null,null,null,null,null,null,null,null,null,null,null,null,null,null,null,null,null,null,null,null,null,null,null,null,null,null,null,null,null,null,null,null,null,null,null,null,null,null,null,null,null,null,null,null,null,null,null,null,null,null,"    "]
[null,null,null,null,null,null,"",null,null,null,null,null,null,null,null,null,null,"",null,null,null,null,null,null,null,null,"",""," ",null,null,null,"",null,"",null,null,null,null,null,null,null,null,null,null,null,null,null,null,null,null,null,null,null,null,null,null,null,null,null,null,null,null,null,null,null,null,null,null,null,null,null,null,null,null,null,null,null,null,null,null,null,null,null,null,"    "]
[null,null,null,null,null,null,"",null,null,null,null,null,null,null,null,null,null,"",null,null,null,null,null,null,null,null,"",""," ",null,null,null,"",null,"",null,null,null,null,null,null,null,null,null,null,null,null,null,null,null,null,null,null,null,null,null,null,null,null,null,null,null,null,null,null,null,null,null,null,null,null,null,null,null,null,null,null,null,null,null,null,null,null,null,null,"    "]
[null,null,null,null,null,null,"",null,null,null,null,null,null,null,null,null,null,"",null,null,null,null,null,null,null,null,"",""," ",null,null,null,"",null,"",null,null,null,null,null,null,null,null,null,null,null,null,null,null,null,null,null,null,null,null,null,null,null,null,null,null,null,null,null,null,null,null,null,null,null,null,null,null,null,null,null,null,null,null,null,null,null,null,null,null,"    "]
[null,null,null,null,null,null,"",null,null,null,null,null,null,null,null,null,null,"",null,null,null,null,null,null,null,null,"",""," ",null,null,null,"",null,"",null,null,null,null,null,null,null,null,null,null,null,null,null,null,null,null,null,null,null,null,null,null,null,null,null,null,null,null,null,null,null,null,null,null,null,null,null,null,null,null,null,null,null,null,null,null,null,null,null,null,"    "]
[null,null,null,null,null,null,"",null,null,null,null,null,null,null,null,null,null,"",null,null,null,null,null,null,null,null,"",""," ",null,null,null,"",null,"",null,null,null,null,null,null,null,null,null,null,null,null,null,null,null,null,null,null,null,null,null,null,null,null,null,null,null,null,null,null,null,null,null,null,null,null,null,null,null,null,null,null,null,null,null,null,null,null,null,null,"    "]
[null,null,null,null,null,null,"",null,null,null,null,null,null,null,null,null,null,"",null,null,null,null,null,null,null,null,"",""," ",null,null,null,"",null,"",null,null,null,null,null,null,null,null,null,null,null,null,null,null,null,null,null,null,null,null,null,null,null,null,null,null,null,null,null,null,null,null,null,null,null,null,null,null,null,null,null,null,null,null,null,null,null,null,null,null,"    "]
[null,null,null,null,null,null,"",null,null,null,null,null,null,null,null,null,null,"",null,null,null,null,null,null,null,null,"",""," ",null,null,null,"",null,"",null,null,null,null,null,null,null,null,null,null,null,null,null,null,null,null,null,null,null,null,null,null,null,null,null,null,null,null,null,null,null,null,null,null,null,null,null,null,null,null,null,null,null,null,null,null,null,null,null,null,"    "]
[null,null,null,null,null,null,"",null,null,null,null,null,null,null,null,null,null,"",null,null,null,null,null,null,null,null,"",""," ",null,null,null,"",null,"",null,null,null,null,null,null,null,null,null,null,null,null,null,null,null,null,null,null,null,null,null,null,null,null,null,null,null,null,null,null,null,null,null,null,null,null,null,null,null,null,null,null,null,null,null,null,null,null,null,null,"    "]
[null,null,null,null,null,null,"",null,null,null,null,null,null,null,null,null,null,"",null,null,null,null,null,null,null,null,"",""," ",null,null,null,"",null,"",null,null,null,null,null,null,null,null,null,null,null,null,null,null,null,null,null,null,null,null,null,null,null,null,null,null,null,null,null,null,null,null,null,null,null,null,null,null,null,null,null,null,null,null,null,null,null,null,null,null,"    "]
[null,null,null,null,null,null,"",null,null,null,null,null,null,null,null,null,null,"",null,null,null,null,null,null,null,null,"",""," ",null,null,null,"",null,"",null,null,null,null,null,null,null,null,null,null,null,null,null,null,null,null,null,null,null,null,null,null,null,null,null,null,null,null,null,null,null,null,null,null,null,null,null,null,null,null,null,null,null,null,null,null,null,null,null,null,"    "]
[null,null,null,null,null,null,"",null,null,null,null,null,null,null,null,null,null,"",null,null,null,null,null,null,null,null,"",""," ",null,null,null,"",null,"",null,null,null,null,null,null,null,null,null,null,null,null,null,null,null,null,null,null,null,null,null,null,null,null,null,null,null,null,null,null,null,null,null,null,null,null,null,null,null,null,null,null,null,null,null,null,null,null,null,null,"    "]
[null,null,null,null,null,null,"",null,null,null,null,null,null,null,null,null,null,"",null,null,null,null,null,null,null,null,"",""," ",null,null,null,"",null,"",null,null,null,null,null,null,null,null,null,null,null,null,null,null,null,null,null,null,null,null,null,null,null,null,null,null,null,null,null,null,null,null,null,null,null,null,null,null,null,null,null,null,null,null,null,null,null,null,null,null,"    "]
[null,null,null,null,null,null,"",null,null,null,null,null,null,null,null,null,null,"",null,null,null,null,null,null,null,null,"",""," ",null,null,null,"",null,"",null,null,null,null,null,null,null,null,null,null,null,null,null,null,null,null,null,null,null,null,null,null,null,null,null,null,null,null,null,null,null,null,null,null,null,null,null,null,null,null,null,null,null,null,null,null,null,null,null,null,"    "]
[null,null,null,null,null,null,"",null,null,null,null,null,null,null,null,null,null,"",null,null,null,null,null,null,null,null,"",""," ",null,null,null,"",null,"",null,null,null,null,null,null,null,null,null,null,null,null,null,null,null,null,null,null,null,null,null,null,null,null,null,null,null,null,null,null,null,null,null,null,null,null,null,null,null,null,null,null,null,null,null,null,null,null,null,null,"    "]
[null,null,null,null,null,null,"",null,null,null,null,null,null,null,null,null,null,"",null,null,null,null,null,null,null,null,"",""," ",null,null,null,"",null,"",null,null,null,null,null,null,null,null,null,null,null,null,null,null,null,null,null,null,null,null,null,null,null,null,null,null,null,null,null,null,null,null,null,null,null,null,null,null,null,null,null,null,null,null,null,null,null,null,null,null,"    "]
[null,null,null,null,null,null,"",null,null,null,null,null,null,null,null,null,null,"",null,null,null,null,null,null,null,null,"",""," ",null,null,null,"",null,"",null,null,null,null,null,null,null,null,null,null,null,null,null,null,null,null,null,null,null,null,null,null,null,null,null,null,null,null,null,null,null,null,null,null,null,null,null,null,null,null,null,null,null,null,null,null,null,null,null,null,"    "]
[null,null,null,null,null,null,"",null,null,null,null,null,null,null,null,null,null,"",null,null,null,null,null,null,null,null,"",""," ",null,null,null,"",null,"",null,null,null,null,null,null,null,null,null,null,null,null,null,null,null,null,null,null,null,null,null,null,null,null,null,null,null,null,null,null,null,null,null,null,null,null,null,null,null,null,null,null,null,null,null,null,null,null,null,null,"    "]
[null,null,null,null,null,null,"",null,null,null,null,null,null,null,null,null,null,"",null,null,null,null,null,null,null,null,"",""," ",null,null,null,"",null,"",null,null,null,null,null,null,null,null,null,null,null,null,null,null,null,null,null,null,null,null,null,null,null,null,null,null,null,null,null,null,null,null,null,null,null,null,null,null,null,null,null,null,null,null,null,null,null,null,null,null,"    "]
[null,null,null,null,null,null,"",null,null,null,null,null,null,null,null,null,null,"",null,null,null,null,null,null,null,null,"",""," ",null,null,null,"",null,"",null,null,null,null,null,null,null,null,null,null,null,null,null,null,null,null,null,null,null,null,null,null,null,null,null,null,null,null,null,null,null,null,null,null,null,null,null,null,null,null,null,null,null,null,null,null,null,null,null,null,"    "]
[null,null,null,null,null,null,"",null,null,null,null,null,null,null,null,null,null,"",null,null,null,null,null,null,null,null,"",""," ",null,null,null,"",null,"",null,null,null,null,null,null,null,null,null,null,null,null,null,null,null,null,null,null,null,null,null,null,null,null,null,null,null,null,null,null,null,null,null,null,null,null,null,null,null,null,null,null,null,null,null,null,null,null,null,null,"    "]
[null,null,null,null,null,null,"",null,null,null,null,null,null,null,null,null,null,"",null,null,null,null,null,null,null,null,"",""," ",null,null,null,"",null,"",null,null,null,null,null,null,null,null,null,null,null,null,null,null,null,null,null,null,null,null,null,null,null,null,null,null,null,null,null,null,null,null,null,null,null,null,null,null,null,null,null,null,null,null,null,null,null,null,null,null,"    "]
[null,null,null,null,null,null,"",null,null,null,null,null,null,null,null,null,null,"",null,null,null,null,null,null,null,null,"",""," ",null,null,null,"",null,"",null,null,null,null,null,null,null,null,null,null,null,null,null,null,null,null,null,null,null,null,null,null,null,null,null,null,null,null,null,null,null,null,null,null,null,null,null,null,null,null,null,null,null,null,null,null,null,null,null,null,"    "]
[null,null,null,null,null,null,"",null,null,null,null,null,null,null,null,null,null,"",null,null,null,null,null,null,null,null,"",""," ",null,null,null,"",null,"",null,null,null,null,null,null,null,null,null,null,null,null,null,null,null,null,null,null,null,null,null,null,null,null,null,null,null,null,null,null,null,null,null,null,null,null,null,null,null,null,null,null,null,null,null,null,null,null,null,null,"    "]
[null,null,null,null,null,null,"",null,null,null,null,null,null,null,null,null,null,"",null,null,null,null,null,null,null,null,"",""," ",null,null,null,"",null,"",null,null,null,null,null,null,null,null,null,null,null,null,null,null,null,null,null,null,null,null,null,null,null,null,null,null,null,null,null,null,null,null,null,null,null,null,null,null,null,null,null,null,null,null,null,null,null,null,null,null,"    "]
[null,null,null,null,null,null,"",null,null,null,null,null,null,null,null,null,null,"",null,null,null,null,null,null,null,null,"",""," ",null,null,null,"",null,"",null,null,null,null,null,null,null,null,null,null,null,null,null,null,null,null,null,null,null,null,null,null,null,null,null,null,null,null,null,null,null,null,null,null,null,null,null,null,null,null,null,null,null,null,null,null,null,null,null,null,"    "]
[null,null,null,null,null,null,"",null,null,null,null,null,null,null,null,null,null,"",null,null,null,null,null,null,null,null,"",""," ",null,null,null,"",null,"",null,null,null,null,null,null,null,null,null,null,null,null,null,null,null,null,null,null,null,null,null,null,null,null,null,null,null,null,null,null,null,null,null,null,null,null,null,null,null,null,null,null,null,null,null,null,null,null,null,null,"    "]
[null,null,null,null,null,null,"",null,null,null,null,null,null,null,null,null,null,"",null,null,null,null,null,null,null,null,"",""," ",null,null,null,"",null,"",null,null,null,null,null,null,null,null,null,null,null,null,null,null,null,null,null,null,null,null,null,null,null,null,null,null,null,null,null,null,null,null,null,null,null,null,null,null,null,null,null,null,null,null,null,null,null,null,null,null,"    "]
[null,null,null,null,null,null,"",null,null,null,null,null,null,null,null,null,null,"",null,null,null,null,null,null,null,null,"",""," ",null,null,null,"",null,"",null,null,null,null,null,null,null,null,null,null,null,null,null,null,null,null,null,null,null,null,null,null,null,null,null,null,null,null,null,null,null,null,null,null,null,null,null,null,null,null,null,null,null,null,null,null,null,null,null,null,"    "]
[null,null,null,null,null,null,"",null,null,null,null,null,null,null,null,null,null,"",null,null,null,null,null,null,null,null,"",""," ",null,null,null,"",null,"",null,null,null,null,null,null,null,null,null,null,null,null,null,null,null,null,null,null,null,null,null,null,null,null,null,null,null,null,null,null,null,null,null,null,null,null,null,null,null,null,null,null,null,null,null,null,null,null,null,null,"    "]
[null,null,null,null,null,null,"",null,null,null,null,null,null,null,null,null,null,"",null,null,null,null,null,null,null,null,"",""," ",null,null,null,"",null,"",null,null,null,null,null,null,null,null,null,null,null,null,null,null,null,null,null,null,null,null,null,null,null,null,null,null,null,null,null,null,null,null,null,null,null,null,null,null,null,null,null,null,null,null,null,null,null,null,null,null,"    "]
[null,null,null,null,null,null,"",null,null,null,null,null,null,null,null,null,null,"",null,null,null,null,null,null,null,null,"",""," ",null,null,null,"",null,"",null,null,null,null,null,null,null,null,null,null,null,null,null,null,null,null,null,null,null,null,null,null,null,null,null,null,null,null,null,null,null,null,null,null,null,null,null,null,null,null,null,null,null,null,null,null,null,null,null,null,"    "]
[null,null,null,null,null,null,"",null,null,null,null,null,null,null,null,null,null,"",null,null,null,null,null,null,null,null,"",""," ",null,null,null,"",null,"",null,null,null,null,null,null,null,null,null,null,null,null,null,null,null,null,null,null,null,null,null,null,null,null,null,null,null,null,null,null,null,null,null,null,null,null,null,null,null,null,null,null,null,null,null,null,null,null,null,null,"    "]
[null,null,null,null,null,null,"",null,null,null,null,null,null,null,null,null,null,"",null,null,null,null,null,null,null,null,"",""," ",null,null,null,"",null,"",null,null,null,null,null,null,null,null,null,null,null,null,null,null,null,null,null,null,null,null,null,null,null,null,null,null,null,null,null,null,null,null,null,null,null,null,null,null,null,null,null,null,null,null,null,null,null,null,null,null,"    "]
[null,null,null,null,null,null,"",null,null,null,null,null,null,null,null,null,null,"",null,null,null,null,null,null,null,null,"",""," ",null,null,null,"",null,"",null,null,null,null,null,null,null,null,null,null,null,null,null,null,null,null,null,null,null,null,null,null,null,null,null,null,null,null,null,null,null,null,null,null,null,null,null,null,null,null,null,null,null,null,null,null,null,null,null,null,"    "]
[null,null,null,null,null,null,"",null,null,null,null,null,null,null,null,null,null,"",null,null,null,null,null,null,null,null,"",""," ",null,null,null,"",null,"",null,null,null,null,null,null,null,null,null,null,null,null,null,null,null,null,null,null,null,null,null,null,null,null,null,null,null,null,null,null,null,null,null,null,null,null,null,null,null,null,null,null,null,null,null,null,null,null,null,null,"    "]
[null,null,null,null,null,null,"",null,null,null,null,null,null,null,null,null,null,"",null,null,null,null,null,null,null,null,"",""," ",null,null,null,"",null,"",null,null,null,null,null,null,null,null,null,null,null,null,null,null,null,null,null,null,null,null,null,null,null,null,null,null,null,null,null,null,null,null,null,null,null,null,null,null,null,null,null,null,null,null,null,null,null,null,null,null,"    "]
[null,null,null,null,null,null,"",null,null,null,null,null,null,null,null,null,null,"",null,null,null,null,null,null,null,null,"",""," ",null,null,null,"",null,"",null,null,null,null,null,null,null,null,null,null,null,null,null,null,null,null,null,null,null,null,null,null,null,null,null,null,null,null,null,null,null,null,null,null,null,null,null,null,null,null,null,null,null,null,null,null,null,null,null,null,"    "]
[null,null,null,null,null,null,"",null,null,null,null,null,null,null,null,null,null,"",null,null,null,null,null,null,null,null,"",""," ",null,null,null,"",null,"",null,null,null,null,null,null,null,null,null,null,null,null,null,null,null,null,null,null,null,null,null,null,null,null,null,null,null,null,null,null,null,null,null,null,null,null,null,null,null,null,null,null,null,null,null,null,null,null,null,null,"    "]
[null,null,null,null,null,null,"",null,null,null,null,null,null,null,null,null,null,"",null,null,null,null,null,null,null,null,"",""," ",null,null,null,"",null,"",null,null,null,null,null,null,null,null,null,null,null,null,null,null,null,null,null,null,null,null,null,null,null,null,null,null,null,null,null,null,null,null,null,null,null,null,null,null,null,null,null,null,null,null,null,null,null,null,null,null,"    "]
[null,null,null,null,null,null,"",null,null,null,null,null,null,null,null,null,null,"",null,null,null,null,null,null,null,null,"",""," ",null,null,null,"",null,"",null,null,null,null,null,null,null,null,null,null,null,null,null,null,null,null,null,null,null,null,null,null,null,null,null,null,null,null,null,null,null,null,null,null,null,null,null,null,null,null,null,null,null,null,null,null,null,null,null,null,"    "]
[null,null,null,null,null,null,"",null,null,null,null,null,null,null,null,null,null,"",null,null,null,null,null,null,null,null,"",""," ",null,null,null,"",null,"",null,null,null,null,null,null,null,null,null,null,null,null,null,null,null,null,null,null,null,null,null,null,null,null,null,null,null,null,null,null,null,null,null,null,null,null,null,null,null,null,null,null,null,null,null,null,null,null,null,null,"    "]
[null,null,null,null,null,null,"",null,null,null,null,null,null,null,null,null,null,"",null,null,null,null,null,null,null,null,"",""," ",null,null,null,"",null,"",null,null,null,null,null,null,null,null,null,null,null,null,null,null,null,null,null,null,null,null,null,null,null,null,null,null,null,null,null,null,null,null,null,null,null,null,null,null,null,null,null,null,null,null,null,null,null,null,null,null,"    "]
[null,null,null,null,null,null,"",null,null,null,null,null,null,null,null,null,null,"",null,null,null,null,null,null,null,null,"",""," ",null,null,null,"",null,"",null,null,null,null,null,null,null,null,null,null,null,null,null,null,null,null,null,null,null,null,null,null,null,null,null,null,null,null,null,null,null,null,null,null,null,null,null,null,null,null,null,null,null,null,null,null,null,null,null,null,"    "]
[null,null,null,null,null,null,"",null,null,null,null,null,null,null,null,null,null,"",null,null,null,null,null,null,null,null,"",""," ",null,null,null,"",null,"",null,null,null,null,null,null,null,null,null,null,null,null,null,null,null,null,null,null,null,null,null,null,null,null,null,null,null,null,null,null,null,null,null,null,null,null,null,null,null,null,null,null,null,null,null,null,null,null,null,null,"    "]
[null,null,null,null,null,null,"",null,null,null,null,null,null,null,null,null,null,"",null,null,null,null,null,null,null,null,"",""," ",null,null,null,"",null,"",null,null,null,null,null,null,null,null,null,null,null,null,null,null,null,null,null,null,null,null,null,null,null,null,null,null,null,null,null,null,null,null,null,null,null,null,null,null,null,null,null,null,null,null,null,null,null,null,null,null,"    "]
[null,null,null,null,null,null,"",null,null,null,null,null,null,null,null,null,null,"",null,null,null,null,null,null,null,null,"",""," ",null,null,null,"",null,"",null,null,null,null,null,null,null,null,null,null,null,null,null,null,null,null,null,null,null,null,null,null,null,null,null,null,null,null,null,null,null,null,null,null,null,null,null,null,null,null,null,null,null,null,null,null,null,null,null,null,"    "]
[null,null,null,null,null,null,"",null,null,null,null,null,null,null,null,null,null,"",null,null,null,null,null,null,null,null,"",""," ",null,null,null,"",null,"",null,null,null,null,null,null,null,null,null,null,null,null,null,null,null,null,null,null,null,null,null,null,null,null,null,null,null,null,null,null,null,null,null,null,null,null,null,null,null,null,null,null,null,null,null,null,null,null,null,null,"    "]
[null,null,null,null,null,null,"",null,null,null,null,null,null,null,null,null,null,"",null,null,null,null,null,null,null,null,"",""," ",null,null,null,"",null,"",null,null,null,null,null,null,null,null,null,null,null,null,null,null,null,null,null,null,null,null,null,null,null,null,null,null,null,null,null,null,null,null,null,null,null,null,null,null,null,null,null,null,null,null,null,null,null,null,null,null,"    "]
[null,null,null,null,null,null,"",null,null,null,null,null,null,null,null,null,null,"",null,null,null,null,null,null,null,null,"",""," ",null,null,null,"",null,"",null,null,null,null,null,null,null,null,null,null,null,null,null,null,null,null,null,null,null,null,null,null,null,null,null,null,null,null,null,null,null,null,null,null,null,null,null,null,null,null,null,null,null,null,null,null,null,null,null,null,"    "]
[null,null,null,null,null,null,"",null,null,null,null,null,null,null,null,null,null,"",null,null,null,null,null,null,null,null,"",""," ",null,null,null,"",null,"",null,null,null,null,null,null,null,null,null,null,null,null,null,null,null,null,null,null,null,null,null,null,null,null,null,null,null,null,null,null,null,null,null,null,null,null,null,null,null,null,null,null,null,null,null,null,null,null,null,null,"    "]
[null,null,null,null,null,null,{"$f":"IF(F70>0,F70,\"\")","v":""},null,null,null,null,null,null,null,null,null,null,{"$f":"IF(T70>0,\"Actual Earnings\",\"\")","v":""},null,null,null,null,null,null,null,null,{"$f":"IF(Z70>0,\"Direct Claims Payments\",\"\")","v":""},{"$f":"IF(AD70>0,\"Home\",\"\")","v":""},{"$f":"B70&\" \"&D70","v":" "},null,null,null,{"$f":"IF(K70>0,K70,\"\")","v":""},null,{"$f":"IF(K70>0,\"Canada\",\"\")","v":""},null,null,null,null,null,null,null,null,null,null,null,null,null,null,null,null,null,null,null,null,null,null,null,null,null,null,null,null,null,null,null,null,null,null,null,null,null,null,null,null,null,null,null,null,null,null,null,null,null,null,{"$f":"CC70&\" \"&IF(K70=\"QC\",IF(CD70=\"Révocable\",\"(révocable)\",IF(CD70=\"Irrévocable\",\"(irrévocable)\",IF(CD70=\"\",\"\",\"\"))),\"\")&\" \"&IF(CE70>0,CHAR(10)&\"En sous-ordre: \"&CE70,\"\")&\" \"&IF(K70=\"QC\",IF(CF70=\"Révocable\",\"(révocable)\",IF(CF70=\"Irrévocable\",\"(irrévocable)\",IF(CF70=\"\",\"\",\"\"))),\"\")&\" \"&IF(CG70>0,CHAR(10)&\"Fiduciaire (mineur): \"&CG70,\"\")","v":"    "}]
[null,null,null,null,null,null,"",null,null,null,null,null,null,null,null,null,null,"",null,null,null,null,null,null,null,null,"",""," ",null,null,null,"",null,"",null,null,null,null,null,null,null,null,null,null,null,null,null,null,null,null,null,null,null,null,null,null,null,null,null,null,null,null,null,null,null,null,null,null,null,null,null,null,null,null,null,null,null,null,null,null,null,null,null,null,"    "]
[null,null,null,null,null,null,"",null,null,null,null,null,null,null,null,null,null,"",null,null,null,null,null,null,null,null,"",""," ",null,null,null,"",null,"",null,null,null,null,null,null,null,null,null,null,null,null,null,null,null,null,null,null,null,null,null,null,null,null,null,null,null,null,null,null,null,null,null,null,null,null,null,null,null,null,null,null,null,null,null,null,null,null,null,null,"    "]
[null,null,null,null,null,null,"",null,null,null,null,null,null,null,null,null,null,"",null,null,null,null,null,null,null,null,"",""," ",null,null,null,"",null,"",null,null,null,null,null,null,null,null,null,null,null,null,null,null,null,null,null,null,null,null,null,null,null,null,null,null,null,null,null,null,null,null,null,null,null,null,null,null,null,null,null,null,null,null,null,null,null,null,null,null,"    "]
[null,null,null,null,null,null,"",null,null,null,null,null,null,null,null,null,null,"",null,null,null,null,null,null,null,null,"",""," ",null,null,null,"",null,"",null,null,null,null,null,null,null,null,null,null,null,null,null,null,null,null,null,null,null,null,null,null,null,null,null,null,null,null,null,null,null,null,null,null,null,null,null,null,null,null,null,null,null,null,null,null,null,null,null,null,"    "]
[null,null,null,null,null,null,"",null,null,null,null,null,null,null,null,null,null,"",null,null,null,null,null,null,null,null,"",""," ",null,null,null,"",null,"",null,null,null,null,null,null,null,null,null,null,null,null,null,null,null,null,null,null,null,null,null,null,null,null,null,null,null,null,null,null,null,null,null,null,null,null,null,null,null,null,null,null,null,null,null,null,null,null,null,null,"    "]
[null,null,null,null,null,null,"",null,null,null,null,null,null,null,null,null,null,"",null,null,null,null,null,null,null,null,"",""," ",null,null,null,"",null,"",null,null,null,null,null,null,null,null,null,null,null,null,null,null,null,null,null,null,null,null,null,null,null,null,null,null,null,null,null,null,null,null,null,null,null,null,null,null,null,null,null,null,null,null,null,null,null,null,null,null,"    "]
[null,null,null,null,null,null,"",null,null,null,null,null,null,null,null,null,null,"",null,null,null,null,null,null,null,null,"",""," ",null,null,null,"",null,"",null,null,null,null,null,null,null,null,null,null,null,null,null,null,null,null,null,null,null,null,null,null,null,null,null,null,null,null,null,null,null,null,null,null,null,null,null,null,null,null,null,null,null,null,null,null,null,null,null,null,"    "]
[null,null,null,null,null,null,"",null,null,null,null,null,null,null,null,null,null,"",null,null,null,null,null,null,null,null,"",""," ",null,null,null,"",null,"",null,null,null,null,null,null,null,null,null,null,null,null,null,null,null,null,null,null,null,null,null,null,null,null,null,null,null,null,null,null,null,null,null,null,null,null,null,null,null,null,null,null,null,null,null,null,null,null,null,null,"    "]
[null,null,null,null,null,null,"",null,null,null,null,null,null,null,null,null,null,"",null,null,null,null,null,null,null,null,"",""," ",null,null,null,"",null,"",null,null,null,null,null,null,null,null,null,null,null,null,null,null,null,null,null,null,null,null,null,null,null,null,null,null,null,null,null,null,null,null,null,null,null,null,null,null,null,null,null,null,null,null,null,null,null,null,null,null,"    "]
[null,null,null,null,null,null,"",null,null,null,null,null,null,null,null,null,null,"",null,null,null,null,null,null,null,null,"",""," ",null,null,null,"",null,"",null,null,null,null,null,null,null,null,null,null,null,null,null,null,null,null,null,null,null,null,null,null,null,null,null,null,null,null,null,null,null,null,null,null,null,null,null,null,null,null,null,null,null,null,null,null,null,null,null,null,"    "]
[null,null,null,null,null,null,"",null,null,null,null,null,null,null,null,null,null,"",null,null,null,null,null,null,null,null,"",""," ",null,null,null,"",null,"",null,null,null,null,null,null,null,null,null,null,null,null,null,null,null,null,null,null,null,null,null,null,null,null,null,null,null,null,null,null,null,null,null,null,null,null,null,null,null,null,null,null,null,null,null,null,null,null,null,null,"    "]
[null,null,null,null,null,null,"",null,null,null,null,null,null,null,null,null,null,"",null,null,null,null,null,null,null,null,"",""," ",null,null,null,"",null,"",null,null,null,null,null,null,null,null,null,null,null,null,null,null,null,null,null,null,null,null,null,null,null,null,null,null,null,null,null,null,null,null,null,null,null,null,null,null,null,null,null,null,null,null,null,null,null,null,null,null,"    "]
[null,null,null,null,null,null,"",null,null,null,null,null,null,null,null,null,null,"",null,null,null,null,null,null,null,null,"",""," ",null,null,null,"",null,"",null,null,null,null,null,null,null,null,null,null,null,null,null,null,null,null,null,null,null,null,null,null,null,null,null,null,null,null,null,null,null,null,null,null,null,null,null,null,null,null,null,null,null,null,null,null,null,null,null,null,"    "]
[null,null,null,null,null,null,"",null,null,null,null,null,null,null,null,null,null,"",null,null,null,null,null,null,null,null,"",""," ",null,null,null,"",null,"",null,null,null,null,null,null,null,null,null,null,null,null,null,null,null,null,null,null,null,null,null,null,null,null,null,null,null,null,null,null,null,null,null,null,null,null,null,null,null,null,null,null,null,null,null,null,null,null,null,null,"    "]
[null,null,null,null,null,null,"",null,null,null,null,null,null,null,null,null,null,"",null,null,null,null,null,null,null,null,"",""," ",null,null,null,"",null,"",null,null,null,null,null,null,null,null,null,null,null,null,null,null,null,null,null,null,null,null,null,null,null,null,null,null,null,null,null,null,null,null,null,null,null,null,null,null,null,null,null,null,null,null,null,null,null,null,null,null,"    "]
[null,null,null,null,null,null,"",null,null,null,null,null,null,null,null,null,null,"",null,null,null,null,null,null,null,null,"",""," ",null,null,null,"",null,"",null,null,null,null,null,null,null,null,null,null,null,null,null,null,null,null,null,null,null,null,null,null,null,null,null,null,null,null,null,null,null,null,null,null,null,null,null,null,null,null,null,null,null,null,null,null,null,null,null,null,"    "]
[null,null,null,null,null,null,"",null,null,null,null,null,null,null,null,null,null,"",null,null,null,null,null,null,null,null,"",""," ",null,null,null,"",null,"",null,null,null,null,null,null,null,null,null,null,null,null,null,null,null,null,null,null,null,null,null,null,null,null,null,null,null,null,null,null,null,null,null,null,null,null,null,null,null,null,null,null,null,null,null,null,null,null,null,null,"    "]
[null,null,null,null,null,null,"",null,null,null,null,null,null,null,null,null,null,"",null,null,null,null,null,null,null,null,"",""," ",null,null,null,"",null,"",null,null,null,null,null,null,null,null,null,null,null,null,null,null,null,null,null,null,null,null,null,null,null,null,null,null,null,null,null,null,null,null,null,null,null,null,null,null,null,null,null,null,null,null,null,null,null,null,null,null,"    "]
[null,null,null,null,null,null,"",null,null,null,null,null,null,null,null,null,null,"",null,null,null,null,null,null,null,null,"",""," ",null,null,null,"",null,"",null,null,null,null,null,null,null,null,null,null,null,null,null,null,null,null,null,null,null,null,null,null,null,null,null,null,null,null,null,null,null,null,null,null,null,null,null,null,null,null,null,null,null,null,null,null,null,null,null,null,"    "]
[null,null,null,null,null,null,"",null,null,null,null,null,null,null,null,null,null,"",null,null,null,null,null,null,null,null,"",""," ",null,null,null,"",null,"",null,null,null,null,null,null,null,null,null,null,null,null,null,null,null,null,null,null,null,null,null,null,null,null,null,null,null,null,null,null,null,null,null,null,null,null,null,null,null,null,null,null,null,null,null,null,null,null,null,null,"    "]
[null,null,null,null,null,null,"",null,null,null,null,null,null,null,null,null,null,"",null,null,null,null,null,null,null,null,"",""," ",null,null,null,"",null,"",null,null,null,null,null,null,null,null,null,null,null,null,null,null,null,null,null,null,null,null,null,null,null,null,null,null,null,null,null,null,null,null,null,null,null,null,null,null,null,null,null,null,null,null,null,null,null,null,null,null,"    "]
[null,null,null,null,null,null,"",null,null,null,null,null,null,null,null,null,null,"",null,null,null,null,null,null,null,null,"",""," ",null,null,null,"",null,"",null,null,null,null,null,null,null,null,null,null,null,null,null,null,null,null,null,null,null,null,null,null,null,null,null,null,null,null,null,null,null,null,null,null,null,null,null,null,null,null,null,null,null,null,null,null,null,null,null,null,"    "]
[null,null,null,null,null,null,"",null,null,null,null,null,null,null,null,null,null,"",null,null,null,null,null,null,null,null,"",""," ",null,null,null,"",null,"",null,null,null,null,null,null,null,null,null,null,null,null,null,null,null,null,null,null,null,null,null,null,null,null,null,null,null,null,null,null,null,null,null,null,null,null,null,null,null,null,null,null,null,null,null,null,null,null,null,null,"    "]
[null,null,null,null,null,null,"",null,null,null,null,null,null,null,null,null,null,"",null,null,null,null,null,null,null,null,"",""," ",null,null,null,"",null,"",null,null,null,null,null,null,null,null,null,null,null,null,null,null,null,null,null,null,null,null,null,null,null,null,null,null,null,null,null,null,null,null,null,null,null,null,null,null,null,null,null,null,null,null,null,null,null,null,null,null,"    "]
[null,null,null,null,null,null,"",null,null,null,null,null,null,null,null,null,null,"",null,null,null,null,null,null,null,null,"",""," ",null,null,null,"",null,"",null,null,null,null,null,null,null,null,null,null,null,null,null,null,null,null,null,null,null,null,null,null,null,null,null,null,null,null,null,null,null,null,null,null,null,null,null,null,null,null,null,null,null,null,null,null,null,null,null,null,"    "]
[null,null,null,null,null,null,"",null,null,null,null,null,null,null,null,null,null,"",null,null,null,null,null,null,null,null,"",""," ",null,null,null,"",null,"",null,null,null,null,null,null,null,null,null,null,null,null,null,null,null,null,null,null,null,null,null,null,null,null,null,null,null,null,null,null,null,null,null,null,null,null,null,null,null,null,null,null,null,null,null,null,null,null,null,null,"    "]
[null,null,null,null,null,null,"",null,null,null,null,null,null,null,null,null,null,"",null,null,null,null,null,null,null,null,"",""," ",null,null,null,"",null,"",null,null,null,null,null,null,null,null,null,null,null,null,null,null,null,null,null,null,null,null,null,null,null,null,null,null,null,null,null,null,null,null,null,null,null,null,null,null,null,null,null,null,null,null,null,null,null,null,null,null,"    "]
[null,null,null,null,null,null,"",null,null,null,null,null,null,null,null,null,null,"",null,null,null,null,null,null,null,null,"",""," ",null,null,null,"",null,"",null,null,null,null,null,null,null,null,null,null,null,null,null,null,null,null,null,null,null,null,null,null,null,null,null,null,null,null,null,null,null,null,null,null,null,null,null,null,null,null,null,null,null,null,null,null,null,null,null,null,"    "]
[null,null,null,null,null,null,"",null,null,null,null,null,null,null,null,null,null,"",null,null,null,null,null,null,null,null,"",""," ",null,null,null,"",null,"",null,null,null,null,null,null,null,null,null,null,null,null,null,null,null,null,null,null,null,null,null,null,null,null,null,null,null,null,null,null,null,null,null,null,null,null,null,null,null,null,null,null,null,null,null,null,null,null,null,null,"    "]
[null,null,null,null,null,null,"",null,null,null,null,null,null,null,null,null,null,"",null,null,null,null,null,null,null,null,"",""," ",null,null,null,"",null,"",null,null,null,null,null,null,null,null,null,null,null,null,null,null,null,null,null,null,null,null,null,null,null,null,null,null,null,null,null,null,null,null,null,null,null,null,null,null,null,null,null,null,null,null,null,null,null,null,null,null,"    "]
[null,null,null,null,null,null,"",null,null,null,null,null,null,null,null,null,null,"",null,null,null,null,null,null,null,null,"",""," ",null,null,null,"",null,"",null,null,null,null,null,null,null,null,null,null,null,null,null,null,null,null,null,null,null,null,null,null,null,null,null,null,null,null,null,null,null,null,null,null,null,null,null,null,null,null,null,null,null,null,null,null,null,null,null,null,"    "]

{"sheet":"Simplified Loader (FOR COPY)","index":2,"n_rows":100,"n_cols":80,"rows_kept":100,"cut":false,"hidden":true,"merged":[[0,0,0,1],[0,2,0,8],[0,22,0,24]]}
["Company Name:",null,{"$f":"IF('Outil Recensement simplifié'!C1:J1>0,'Outil Recensement simplifié'!C1:J1,\"\")","v":""},null,null,null,null,null,null,null,null,null,null,null,null,null,"Hidden",null,null,null,null,null,"Renseignements bancaires",null,null,"Hidden","Hidden","Hidden"]
["ex: 1234567890","ex: John","H","ex: Smith","ex: 001","ex: A","A","(YYYY-MM-DD)","(YYYY-MM-DD)","ex: ON","ex: ON","Male/Female","Yes/No","Single/Family","English/French","Yes/No","Actual Earnings","ex: Annually","ex: 50000","ex: 40","Yes/No","Yes/No","ex: 123","ex: 12345","ex: 1234567890","Direct Claims Payments","Home","John Smith","ex: 123 Any St.","ex: 7A","ex: Any Town","ex: ON","ex: A1B 2C3","ex: Canada","ex: john.smith@hotmail.com","ex: Jane","ex: Smith","(YYYY/MM/DD)","Male/Female","Single/Family","Single/Family","ex: Insure Inc.","Yes/No","ex: Jason","ex: Smith","(YYYY/MM/DD)","Male/Female","Yes/No","Yes/No","ex: Jane","ex: Smith","(YYYY/MM/DD)","Female/Male","Yes/No","Yes/No","ex: Jim","ex: Smith","(YYYY/MM/DD)","Male/Female","Yes/No","Yes/No","ex: Janet","ex: Smith","(YYYY/MM/DD)","Female/Male","Yes/No","Yes/No","ex: Jasmine","ex: Smith","(YYYY/MM/DD)","Female/Male","Yes/No","Yes/No","ex: Jack","ex: Smith","(YYYY/MM/DD)","Male/Female","Yes/No","Yes/No","ex: Jane Smith - Spouse 100%"]
["Member ID","First Name","Middle Initial","Last Name","Location ","Class","Plan","Birth Date","Employment Date","Residence Code","Work Residence Code","Gender","Smoker Status","Dependent Status","Member Language","Tax exempted","Salary Type 1","Salary Basis 1","Salary Amount 1 ","Hours Per Week 1","EHC Refusal","Dental Refusal","Institution Number","Transit Number","Account Number","Type","Address Type","Addressee","Street Address","Suite","City","Province/State","Postal/Zip Code","Country","Email address","Spouse First Name","Spouse Last Name","Spouse Date Of Birth","Spouse Gender","EHC COB","Dental COB","Other Carrier Name","Spouse Smoker Status","Child 1 First Name","Child 1 Last Name","Child 1 Date Of Birth","Child 1 Gender","Student Flag 1","Disabled Status 1","Child 2 First Name","Child 2 Last Name","Child 2 Date Of Birth","Child 2 Gender","Student Flag 2","Disabled Status 2","Child 3 First Name","Child 3 Last Name","Child 3 Date Of Birth","Child 3 Gender","Student Flag 3","Disabled Status 3","Child 4 First Name","Child 4 Last Name","Child 4 Date Of Birth","Child 4 Gender","Student Flag 4","Disabled Status 4","Child 5 First Name","Child 5 Last Name","Child 5 Date Of Birth","Child 5 Gender","Student Flag 5","Disabled Status 5","Child 6 First Name","Child 6 Last Name","Child 6 Date Of Birth","Child 6 Gender","Student Flag 6","Disabled Status 6","Beneficiary Information"]
[{"$f":"IF('Outil Recensement simplifié'!A5>0,'Outil Recensement simplifié'!A5,\"\")","v":""},{"$f":"IF('Outil Recensement simplifié'!B5>0,'Outil Recensement simplifié'!B5,\"\")","v":""},{"$f":"IF('Outil Recensement simplifié'!C5>0,'Outil Recensement simplifié'!C5,\"\")","v":""},{"$f":"IF('Outil Recensement simplifié'!D5>0,'Outil Recensement simplifié'!D5,\"\")","v":""},{"$f":"IF('Outil Recensement simplifié'!E5>0,TEXT('Outil Recensement simplifié'!E5,\"000\"),\"\")","v":""},{"$f":"IF('Outil Recensement simplifié'!F5>0,'Outil Recensement simplifié'!F5,\"\")","v":""},{"$f":"IF('Outil Recensement simplifié'!G5>0,'Outil Recensement simplifié'!G5,\"\")","v":""},{"$f":"IF('Outil Recensement simplifié'!I5>0,'Outil Recensement simplifié'!I5,\"\")","v":""},{"$f":"IF('Outil Recensement simplifié'!J5>0,'Outil Recensement simplifié'!J5,\"\")","v":""},{"$f":"IF('Outil Recensement simplifié'!K5>0,'Outil Recensement simplifié'!K5,\"\")","v":""},{"$f":"IF('Outil Recensement simplifié'!L5>0,'Outil Recensement simplifié'!L5,\"\")","v":""},{"$f":"IF('Outil Recensement simplifié'!M5=\"Homme\",\"Male\",IF('Outil Recensement simplifié'!M5=\"Femme\",\"Female\",IF('Outil Recensement simplifié'!M5=\"H\",\"Male\",IF('Outil Recensement simplifié'!M5=\"F\",\"Female\",\"\"))))","v":""},{"$f":"IF('Outil Recensement simplifié'!N5=\"Oui\",\"Yes\",IF('Outil Recensement simplifié'!N5=\"Non\",\"No\",IF('Outil Recensement simplifié'!N5=\"O\",\"Yes\",IF('Outil Recensement simplifié'!N5=\"N\",\"No\",\"\"))))","v":""},{"$f":"IF('Outil Recensement simplifié'!O5=\"Non\",\"Single\",IF('Outil Recensement simplifié'!O5=\"Oui\",\"Family\",IF('Outil Recensement simplifié'!O5=\"N\",\"Single\",IF('Outil Recensement simplifié'!O5=\"O\",\"Family\",IF('Outil Recensement simplifié'!O5=\"En vigueur\",\"Family\",\"\")))))","v":""},{"$f":"IF('Outil Recensement simplifié'!P5=\"Anglais\",\"English\",IF('Outil Recensement simplifié'!P5=\"Français\",\"French\",IF('Outil Recensement simplifié'!P5=\"A\",\"English\",IF('Outil Recensement simplifié'!P5=\"F\",\"French\",\"\"))))","v":""},{"$f":"IF('Outil Recensement simplifié'!Q5=\"Oui\",\"Yes\",IF('Outil Recensement simplifié'!Q5=\"Non\",\"No\",IF('Outil Recensement simplifié'!Q5=\"O\",\"Yes\",IF('Outil Recensement simplifié'!Q5=\"N\",\"No\",\"\"))))","v":""},{"$f":"IF('Outil Recensement simplifié'!R5>0,'Outil Recensement simplifié'!R5,\"\")","v":""},{"$f":"IF('Outil Recensement simplifié'!S5=\"Annuelle\",\"Annually\",IF('Outil Recensement simplifié'!S5=\"Mensuelle\",\"Monthly\",IF('Outil Recensement simplifié'!S5=\"Aux deux semaines\",\"Biweekly\",IF('Outil Recensement simplifié'!S5=\"Bimensuelle\",\"Semi-Monthly\",IF('Outil Recensement simplifié'!S5=\"Hebdomadaire\",\"Weekly\",IF('Outil Recensement simplifié'!S5=\"Horaire\",\"Hourly\",\"\"))))))","v":""},{"$f":"IF('Outil Recensement simplifié'!T5>0,'Outil Recensement simplifié'!T5,\"\")","v":""},{"$f":"IF('Outil Recensement simplifié'!U5>0,'Outil Recensement simplifié'!U5,\"\")","v":""},{"$f":"IF('Outil Recensement simplifié'!V5=\"Exemptée\",\"Yes\",\"\")","v":""},{"$f":"IF('Outil Recensement simplifié'!W5=\"Exemptée\",\"Yes\",\"\")","v":""},{"$f":"IF('Outil Recensement simplifié'!X5>0,'Outil Recensement simplifié'!X5,\"\")","v":""},{"$f":"IF('Outil Recensement simplifié'!Y5>0,'Outil Recensement simplifié'!Y5,\"\")","v":""},{"$f":"IF('Outil Recensement simplifié'!Z5>0,'Outil Recensement simplifié'!Z5,\"\")","v":""},{"$f":"IF('Outil Recensement simplifié'!AA5>0,'Outil Recensement simplifié'!AA5,\"\")","v":""},{"$f":"IF('Outil Recensement simplifié'!AB5>0,'Outil Recensement simplifié'!AB5,\"\")","v":""},{"$f":"IF('Outil Recensement simplifié'!AC5>0,'Outil Recensement simplifié'!AC5,\"\")","v":" "},{"$f":"IF('Outil Recensement simplifié'!AE5>0,'Outil Recensement simplifié'!AE5&\" \",\"\")&IF('Outil Recensement simplifié'!AD5>0,'Outil Recensement simplifié'!AD5,\"\")","v":""},null,{"$f":"IF('Outil Recensement simplifié'!AF5>0,'Outil Recensement simplifié'!AF5,\"\")","v":""},{"$f":"IF('Outil Recensement simplifié'!AG5>0,'Outil Recensement simplifié'!AG5,\"\")","v":""},{"$f":"IF('Outil Recensement simplifié'!AH5>0,'Outil Recensement simplifié'!AH5,\"\")","v":""},{"$f":"IF('Outil Recensement simplifié'!AI5>0,'Outil Recensement simplifié'!AI5,\"\")","v":""},{"$f":"IF('Outil Recensement simplifié'!AJ5>0,'Outil Recensement simplifié'!AJ5,\"\")","v":""},{"$f":"IF('Outil Recensement simplifié'!AK5>0,'Outil Recensement simplifié'!AK5,\"\")","v":""},{"$f":"IF('Outil Recensement simplifié'!AL5>0,'Outil Recensement simplifié'!AL5,\"\")","v":""},{"$f":"IF('Outil Recensement simplifié'!AM5>0,'Outil Recensement simplifié'!AM5,\"\")","v":""},{"$f":"IF('Outil Recensement simplifié'!AN5=\"Homme\",\"Male\",IF('Outil Recensement simplifié'!AN5=\"Femme\",\"Female\",IF('Outil Recensement simplifié'!AN5=\"H\",\"Male\",IF('Outil Recensement simplifié'!AN5=\"F\",\"Female\",\"\"))))","v":""},{"$f":"IF('Outil Recensement simplifié'!AO5=\"Individuelle\",\"Single\",IF('Outil Recensement simplifié'!AO5=\"Famille\",\"Family\",IF('Outil Recensement simplifié'!AO5=\"Individuel\",\"Single\",IF('Outil Recensement simplifié'!AO5=\"Familiale\",\"Family\",IF('Outil Recensement simplifié'!AO5=\"I\",\"Single\",IF('Outil Recensement simplifié'!AO5=\"F\",\"Family\",\"\"))))))","v":""},{"$f":"IF('Outil Recensement simplifié'!AP5=\"Individuelle\",\"Single\",IF('Outil Recensement simplifié'!AP5=\"Famille\",\"Family\",IF('Outil Recensement simplifié'!AP5=\"Individuel\",\"Single\",IF('Outil Recensement simplifié'!AP5=\"Familiale\",\"Family\",IF('Outil Recensement simplifié'!AP5=\"I\",\"Single\",IF('Outil Recensement simplifié'!AP5=\"F\",\"Family\",\"\"))))))","v":""},{"$f":"IF('Outil Recensement simplifié'!AQ5>0,'Outil Recensement simplifié'!AQ5,\"\")","v":""},{"$f":"IF('Outil Recensement simplifié'!AR5=\"Oui\",\"Yes\",IF('Outil Recensement simplifié'!AR5=\"Non\",\"No\",IF('Outil Recensement simplifié'!AR5=\"O\",\"Yes\",IF('Outil Recensement simplifié'!AR5=\"N\",\"No\",\"\"))))","v":""},{"$f":"IF('Outil Recensement simplifié'!AS5>0,'Outil Recensement simplifié'!AS5,\"\")","v":""},{"$f":"IF('Outil Recensement simplifié'!AT5>0,'Outil Recensement simplifié'!AT5,\"\")","v":""},{"$f":"IF('Outil Recensement simplifié'!AU5>0,'Outil Recensement simplifié'!AU5,\"\")","v":""},{"$f":"IF('Outil Recensement simplifié'!AV5=\"Homme\",\"Male\",IF('Outil Recensement simplifié'!AV5=\"Femme\",\"Female\",IF('Outil Recensement simplifié'!AV5=\"H\",\"Male\",IF('Outil Recensement simplifié'!AV5=\"F\",\"Female\",\"\"))))","v":""},{"$f":"IF('Outil Recensement simplifié'!AW5=\"Oui\",\"Yes\",IF('Outil Recensement simplifié'!AW5=\"Non\",\"No\",IF('Outil Recensement simplifié'!AW5=\"O\",\"Yes\",IF('Outil Recensement simplifié'!AW5=\"N\",\"No\",\"\"))))","v":""},{"$f":"IF('Outil Recensement simplifié'!AX5=\"Oui\",\"Yes\",IF('Outil Recensement simplifié'!AX5=\"Non\",\"No\",IF('Outil Recensement simplifié'!AX5=\"O\",\"Yes\",IF('Outil Recensement simplifié'!AX5=\"N\",\"No\",\"\"))))","v":""},{"$f":"IF('Outil Recensement simplifié'!AY5>0,'Outil Recensement simplifié'!AY5,\"\")","v":""},{"$f":"IF('Outil Recensement simplifié'!AZ5>0,'Outil Recensement simplifié'!AZ5,\"\")","v":""},{"$f":"IF('Outil Recensement simplifié'!BA5>0,'Outil Recensement simplifié'!BA5,\"\")","v":""},{"$f":"IF('Outil Recensement simplifié'!BB5=\"Homme\",\"Male\",IF('Outil Recensement simplifié'!BB5=\"Femme\",\"Female\",IF('Outil Recensement simplifié'!BB5=\"H\",\"Male\",IF('Outil Recensement simplifié'!BB5=\"F\",\"Female\",\"\"))))","v":""},{"$f":"IF('Outil Recensement simplifié'!BC5=\"Oui\",\"Yes\",IF('Outil Recensement simplifié'!BC5=\"Non\",\"No\",IF('Outil Recensement simplifié'!BC5=\"O\",\"Yes\",IF('Outil Recensement simplifié'!BC5=\"N\",\"No\",\"\"))))","v":""},{"$f":"IF('Outil Recensement simplifié'!BD5=\"Oui\",\"Yes\",IF('Outil Recensement simplifié'!BD5=\"Non\",\"No\",IF('Outil Recensement simplifié'!BD5=\"O\",\"Yes\",IF('Outil Recensement simplifié'!BD5=\"N\",\"No\",\"\"))))","v":""},{"$f":"IF('Outil Recensement simplifié'!BE5>0,'Outil Recensement simplifié'!BE5,\"\")","v":""},{"$f":"IF('Outil Recensement simplifié'!BF5>0,'Outil Recensement simplifié'!BF5,\"\")","v":""},{"$f":"IF('Outil Recensement simplifié'!BG5>0,'Outil Recensement simplifié'!BG5,\"\")","v":""},{"$f":"IF('Outil Recensement simplifié'!BH5=\"Homme\",\"Male\",IF('Outil Recensement simplifié'!BH5=\"Femme\",\"Female\",IF('Outil Recensement simplifié'!BH5=\"H\",\"Male\",IF('Outil Recensement simplifié'!BH5=\"F\",\"Female\",\"\"))))","v":""},{"$f":"IF('Outil Recensement simplifié'!BI5=\"Oui\",\"Yes\",IF('Outil Recensement simplifié'!BI5=\"Non\",\"No\",IF('Outil Recensement simplifié'!BI5=\"O\",\"Yes\",IF('Outil Recensement simplifié'!BI5=\"N\",\"No\",\"\"))))","v":""},{"$f":"IF('Outil Recensement simplifié'!BJ5=\"Oui\",\"Yes\",IF('Outil Recensement simplifié'!BJ5=\"Non\",\"No\",IF('Outil Recensement simplifié'!BJ5=\"O\",\"Yes\",IF('Outil Recensement simplifié'!BJ5=\"N\",\"No\",\"\"))))","v":""},{"$f":"IF('Outil Recensement simplifié'!BK5>0,'Outil Recensement simplifié'!BK5,\"\")","v":""},{"$f":"IF('Outil Recensement simplifié'!BL5>0,'Outil Recensement simplifié'!BL5,\"\")","v":""},{"$f":"IF('Outil Recensement simplifié'!BM5>0,'Outil Recensement simplifié'!BM5,\"\")","v":""},{"$f":"IF('Outil Recensement simplifié'!BN5=\"Homme\",\"Male\",IF('Outil Recensement simplifié'!BN5=\"Femme\",\"Female\",IF('Outil Recensement simplifié'!BN5=\"H\",\"Male\",IF('Outil Recensement simplifié'!BN5=\"F\",\"Female\",\"\"))))","v":""},{"$f":"IF('Outil Recensement simplifié'!BO5=\"Oui\",\"Yes\",IF('Outil Recensement simplifié'!BO5=\"Non\",\"No\",IF('Outil Recensement simplifié'!BO5=\"O\",\"Yes\",IF('Outil Recensement simplifié'!BO5=\"N\",\"No\",\"\"))))","v":""},{"$f":"IF('Outil Recensement simplifié'!BP5=\"Oui\",\"Yes\",IF('Outil Recensement simplifié'!BP5=\"Non\",\"No\",IF('Outil Recensement simplifié'!BP5=\"O\",\"Yes\",IF('Outil Recensement simplifié'!BP5=\"N\",\"No\",\"\"))))","v":""},{"$f":"IF('Outil Recensement simplifié'!BQ5>0,'Outil Recensement simplifié'!BQ5,\"\")","v":""},{"$f":"IF('Outil Recensement simplifié'!BR5>0,'Outil Recensement simplifié'!BR5,\"\")","v":""},{"$f":"IF('Outil Recensement simplifié'!BS5>0,'Outil Recensement simplifié'!BS5,\"\")","v":""},{"$f":"IF('Outil Recensement simplifié'!BT5=\"Homme\",\"Male\",IF('Outil Recensement simplifié'!BT5=\"Femme\",\"Female\",IF('Outil Recensement simplifié'!BT5=\"H\",\"Male\",IF('Outil Recensement simplifié'!BT5=\"F\",\"Female\",\"\"))))","v":""},{"$f":"IF('Outil Recensement simplifié'!BU5=\"Oui\",\"Yes\",IF('Outil Recensement simplifié'!BU5=\"Non\",\"No\",IF('Outil Recensement simplifié'!BU5=\"O\",\"Yes\",IF('Outil Recensement simplifié'!BU5=\"N\",\"No\",\"\"))))","v":""},{"$f":"IF('Outil Recensement simplifié'!BV5=\"Oui\",\"Yes\",IF('Outil Recensement simplifié'!BV5=\"Non\",\"No\",IF('Outil Recensement simplifié'!BV5=\"O\",\"Yes\",IF('Outil Recensement simplifié'!BV5=\"N\",\"No\",\"\"))))","v":""},{"$f":"IF('Outil Recensement simplifié'!BW5>0,'Outil Recensement simplifié'!BW5,\"\")","v":""},{"$f":"IF('Outil Recensement simplifié'!BX5>0,'Outil Recensement simplifié'!BX5,\"\")","v":""},{"$f":"IF('Outil Recensement simplifié'!BY5>0,'Outil Recensement simplifié'!BY5,\"\")","v":""},{"$f":"IF('Outil Recensement simplifié'!BZ5=\"Homme\",\"Male\",IF('Outil Recensement simplifié'!BZ5=\"Femme\",\"Female\",IF('Outil Recensement simplifié'!BZ5=\"H\",\"Male\",IF('Outil Recensement simplifié'!BZ5=\"F\",\"Female\",\"\"))))","v":""},{"$f":"IF('Outil Recensement simplifié'!CA5=\"Oui\",\"Yes\",IF('Outil Recensement simplifié'!CA5=\"Non\",\"No\",IF('Outil Recensement simplifié'!CA5=\"O\",\"Yes\",IF('Outil Recensement simplifié'!CA5=\"N\",\"No\",\"\"))))","v":""},{"$f":"IF('Outil Recensement simplifié'!CB5=\"Oui\",\"Yes\",IF('Outil Recensement simplifié'!CB5=\"Non\",\"No\",IF('Outil Recensement simplifié'!CB5=\"O\",\"Yes\",IF('Outil Recensement simplifié'!CB5=\"N\",\"No\",\"\"))))","v":""},{"$f":"IF('Outil Recensement simplifié'!CH5>0,'Outil Recensement simplifié'!CH5,\"\")","v":"    "}]
[{"$f":"IF('Outil Recensement simplifié'!A6>0,'Outil Recensement simplifié'!A6,\"\")","v":""},{"$f":"IF('Outil Recensement simplifié'!B6>0,'Outil Recensement simplifié'!B6,\"\")","v":""},{"$f":"IF('Outil Recensement simplifié'!C6>0,'Outil Recensement simplifié'!C6,\"\")","v":""},{"$f":"IF('Outil Recensement simplifié'!D6>0,'Outil Recensement simplifié'!D6,\"\")","v":""},{"$f":"IF('Outil Recensement simplifié'!E6>0,TEXT('Outil Recensement simplifié'!E6,\"000\"),\"\")","v":""},{"$f":"IF('Outil Recensement simplifié'!F6>0,'Outil Recensement simplifié'!F6,\"\")","v":""},{"$f":"IF('Outil Recensement simplifié'!G6>0,'Outil Recensement simplifié'!G6,\"\")","v":""},{"$f":"IF('Outil Recensement simplifié'!I6>0,'Outil Recensement simplifié'!I6,\"\")","v":""},{"$f":"IF('Outil Recensement simplifié'!J6>0,'Outil Recensement simplifié'!J6,\"\")","v":""},{"$f":"IF('Outil Recensement simplifié'!K6>0,'Outil Recensement simplifié'!K6,\"\")","v":""},{"$f":"IF('Outil Recensement simplifié'!L6>0,'Outil Recensement simplifié'!L6,\"\")","v":""},{"$f":"IF('Outil Recensement simplifié'!M6=\"Homme\",\"Male\",IF('Outil Recensement simplifié'!M6=\"Femme\",\"Female\",IF('Outil Recensement simplifié'!M6=\"H\",\"Male\",IF('Outil Recensement simplifié'!M6=\"F\",\"Female\",\"\"))))","v":""},{"$f":"IF('Outil Recensement simplifié'!N6=\"Oui\",\"Yes\",IF('Outil Recensement simplifié'!N6=\"Non\",\"No\",IF('Outil Recensement simplifié'!N6=\"O\",\"Yes\",IF('Outil Recensement simplifié'!N6=\"N\",\"No\",\"\"))))","v":""},{"$f":"IF('Outil Recensement simplifié'!O6=\"Non\",\"Single\",IF('Outil Recensement simplifié'!O6=\"Oui\",\"Family\",IF('Outil Recensement simplifié'!O6=\"N\",\"Single\",IF('Outil Recensement simplifié'!O6=\"O\",\"Family\",IF('Outil Recensement simplifié'!O6=\"En vigueur\",\"Family\",\"\")))))","v":""},{"$f":"IF('Outil Recensement simplifié'!P6=\"Anglais\",\"English\",IF('Outil Recensement simplifié'!P6=\"Français\",\"French\",IF('Outil Recensement simplifié'!P6=\"A\",\"English\",IF('Outil Recensement simplifié'!P6=\"F\",\"French\",\"\"))))","v":""},{"$f":"IF('Outil Recensement simplifié'!Q6=\"Oui\",\"Yes\",IF('Outil Recensement simplifié'!Q6=\"Non\",\"No\",IF('Outil Recensement simplifié'!Q6=\"O\",\"Yes\",IF('Outil Recensement simplifié'!Q6=\"N\",\"No\",\"\"))))","v":""},{"$f":"IF('Outil Recensement simplifié'!R6>0,'Outil Recensement simplifié'!R6,\"\")","v":""},{"$f":"IF('Outil Recensement simplifié'!S6=\"Annuelle\",\"Annually\",IF('Outil Recensement simplifié'!S6=\"Mensuelle\",\"Monthly\",IF('Outil Recensement simplifié'!S6=\"Aux deux semaines\",\"Biweekly\",IF('Outil Recensement simplifié'!S6=\"Bimensuelle\",\"Semi-Monthly\",IF('Outil Recensement simplifié'!S6=\"Hebdomadaire\",\"Weekly\",IF('Outil Recensement simplifié'!S6=\"Horaire\",\"Hourly\",\"\"))))))","v":""},{"$f":"IF('Outil Recensement simplifié'!T6>0,'Outil Recensement simplifié'!T6,\"\")","v":""},{"$f":"IF('Outil Recensement simplifié'!U6>0,'Outil Recensement simplifié'!U6,\"\")","v":""},{"$f":"IF('Outil Recensement simplifié'!V6=\"Exemptée\",\"Yes\",\"\")","v":""},{"$f":"IF('Outil Recensement simplifié'!W6=\"Exemptée\",\"Yes\",\"\")","v":""},{"$f":"IF('Outil Recensement simplifié'!X6>0,'Outil Recensement simplifié'!X6,\"\")","v":""},{"$f":"IF('Outil Recensement simplifié'!Y6>0,'Outil Recensement simplifié'!Y6,\"\")","v":""},{"$f":"IF('Outil Recensement simplifié'!Z6>0,'Outil Recensement simplifié'!Z6,\"\")","v":""},{"$f":"IF('Outil Recensement simplifié'!AA6>0,'Outil Recensement simplifié'!AA6,\"\")","v":""},{"$f":"IF('Outil Recensement simplifié'!AB6>0,'Outil Recensement simplifié'!AB6,\"\")","v":""},{"$f":"IF('Outil Recensement simplifié'!AC6>0,'Outil Recensement simplifié'!AC6,\"\")","v":" "},{"$f":"IF('Outil Recensement simplifié'!AE6>0,'Outil Recensement simplifié'!AE6&\" \",\"\")&IF('Outil Recensement simplifié'!AD6>0,'Outil Recensement simplifié'!AD6,\"\")","v":""},null,{"$f":"IF('Outil Recensement simplifié'!AF6>0,'Outil Recensement simplifié'!AF6,\"\")","v":""},{"$f":"IF('Outil Recensement simplifié'!AG6>0,'Outil Recensement simplifié'!AG6,\"\")","v":""},{"$f":"IF('Outil Recensement simplifié'!AH6>0,'Outil Recensement simplifié'!AH6,\"\")","v":""},{"$f":"IF('Outil Recensement simplifié'!AI6>0,'Outil Recensement simplifié'!AI6,\"\")","v":""},{"$f":"IF('Outil Recensement simplifié'!AJ6>0,'Outil Recensement simplifié'!AJ6,\"\")","v":""},{"$f":"IF('Outil Recensement simplifié'!AK6>0,'Outil Recensement simplifié'!AK6,\"\")","v":""},{"$f":"IF('Outil Recensement simplifié'!AL6>0,'Outil Recensement simplifié'!AL6,\"\")","v":""},{"$f":"IF('Outil Recensement simplifié'!AM6>0,'Outil Recensement simplifié'!AM6,\"\")","v":""},{"$f":"IF('Outil Recensement simplifié'!AN6=\"Homme\",\"Male\",IF('Outil Recensement simplifié'!AN6=\"Femme\",\"Female\",IF('Outil Recensement simplifié'!AN6=\"H\",\"Male\",IF('Outil Recensement simplifié'!AN6=\"F\",\"Female\",\"\"))))","v":""},{"$f":"IF('Outil Recensement simplifié'!AO6=\"Individuelle\",\"Single\",IF('Outil Recensement simplifié'!AO6=\"Famille\",\"Family\",IF('Outil Recensement simplifié'!AO6=\"Individuel\",\"Single\",IF('Outil Recensement simplifié'!AO6=\"Familiale\",\"Family\",IF('Outil Recensement simplifié'!AO6=\"I\",\"Single\",IF('Outil Recensement simplifié'!AO6=\"F\",\"Family\",\"\"))))))","v":""},{"$f":"IF('Outil Recensement simplifié'!AP6=\"Individuelle\",\"Single\",IF('Outil Recensement simplifié'!AP6=\"Famille\",\"Family\",IF('Outil Recensement simplifié'!AP6=\"Individuel\",\"Single\",IF('Outil Recensement simplifié'!AP6=\"Familiale\",\"Family\",IF('Outil Recensement simplifié'!AP6=\"I\",\"Single\",IF('Outil Recensement simplifié'!AP6=\"F\",\"Family\",\"\"))))))","v":""},{"$f":"IF('Outil Recensement simplifié'!AQ6>0,'Outil Recensement simplifié'!AQ6,\"\")","v":""},{"$f":"IF('Outil Recensement simplifié'!AR6=\"Oui\",\"Yes\",IF('Outil Recensement simplifié'!AR6=\"Non\",\"No\",IF('Outil Recensement simplifié'!AR6=\"O\",\"Yes\",IF('Outil Recensement simplifié'!AR6=\"N\",\"No\",\"\"))))","v":""},{"$f":"IF('Outil Recensement simplifié'!AS6>0,'Outil Recensement simplifié'!AS6,\"\")","v":""},{"$f":"IF('Outil Recensement simplifié'!AT6>0,'Outil Recensement simplifié'!AT6,\"\")","v":""},{"$f":"IF('Outil Recensement simplifié'!AU6>0,'Outil Recensement simplifié'!AU6,\"\")","v":""},{"$f":"IF('Outil Recensement simplifié'!AV6=\"Homme\",\"Male\",IF('Outil Recensement simplifié'!AV6=\"Femme\",\"Female\",IF('Outil Recensement simplifié'!AV6=\"H\",\"Male\",IF('Outil Recensement simplifié'!AV6=\"F\",\"Female\",\"\"))))","v":""},{"$f":"IF('Outil Recensement simplifié'!AW6=\"Oui\",\"Yes\",IF('Outil Recensement simplifié'!AW6=\"Non\",\"No\",IF('Outil Recensement simplifié'!AW6=\"O\",\"Yes\",IF('Outil Recensement simplifié'!AW6=\"N\",\"No\",\"\"))))","v":""},{"$f":"IF('Outil Recensement simplifié'!AX6=\"Oui\",\"Yes\",IF('Outil Recensement simplifié'!AX6=\"Non\",\"No\",IF('Outil Recensement simplifié'!AX6=\"O\",\"Yes\",IF('Outil Recensement simplifié'!AX6=\"N\",\"No\",\"\"))))","v":""},{"$f":"IF('Outil Recensement simplifié'!AY6>0,'Outil Recensement simplifié'!AY6,\"\")","v":""},{"$f":"IF('Outil Recensement simplifié'!AZ6>0,'Outil Recensement simplifié'!AZ6,\"\")","v":""},{"$f":"IF('Outil Recensement simplifié'!BA6>0,'Outil Recensement simplifié'!BA6,\"\")","v":""},{"$f":"IF('Outil Recensement simplifié'!BB6=\"Homme\",\"Male\",IF('Outil Recensement simplifié'!BB6=\"Femme\",\"Female\",IF('Outil Recensement simplifié'!BB6=\"H\",\"Male\",IF('Outil Recensement simplifié'!BB6=\"F\",\"Female\",\"\"))))","v":""},{"$f":"IF('Outil Recensement simplifié'!BC6=\"Oui\",\"Yes\",IF('Outil Recensement simplifié'!BC6=\"Non\",\"No\",IF('Outil Recensement simplifié'!BC6=\"O\",\"Yes\",IF('Outil Recensement simplifié'!BC6=\"N\",\"No\",\"\"))))","v":""},{"$f":"IF('Outil Recensement simplifié'!BD6=\"Oui\",\"Yes\",IF('Outil Recensement simplifié'!BD6=\"Non\",\"No\",IF('Outil Recensement simplifié'!BD6=\"O\",\"Yes\",IF('Outil Recensement simplifié'!BD6=\"N\",\"No\",\"\"))))","v":""},{"$f":"IF('Outil Recensement simplifié'!BE6>0,'Outil Recensement simplifié'!BE6,\"\")","v":""},{"$f":"IF('Outil Recensement simplifié'!BF6>0,'Outil Recensement simplifié'!BF6,\"\")","v":""},{"$f":"IF('Outil Recensement simplifié'!BG6>0,'Outil Recensement simplifié'!BG6,\"\")","v":""},{"$f":"IF('Outil Recensement simplifié'!BH6=\"Homme\",\"Male\",IF('Outil Recensement simplifié'!BH6=\"Femme\",\"Female\",IF('Outil Recensement simplifié'!BH6=\"H\",\"Male\",IF('Outil Recensement simplifié'!BH6=\"F\",\"Female\",\"\"))))","v":""},{"$f":"IF('Outil Recensement simplifié'!BI6=\"Oui\",\"Yes\",IF('Outil Recensement simplifié'!BI6=\"Non\",\"No\",IF('Outil Recensement simplifié'!BI6=\"O\",\"Yes\",IF('Outil Recensement simplifié'!BI6=\"N\",\"No\",\"\"))))","v":""},{"$f":"IF('Outil Recensement simplifié'!BJ6=\"Oui\",\"Yes\",IF('Outil Recensement simplifié'!BJ6=\"Non\",\"No\",IF('Outil Recensement simplifié'!BJ6=\"O\",\"Yes\",IF('Outil Recensement simplifié'!BJ6=\"N\",\"No\",\"\"))))","v":""},{"$f":"IF('Outil Recensement simplifié'!BK6>0,'Outil Recensement simplifié'!BK6,\"\")","v":""},{"$f":"IF('Outil Recensement simplifié'!BL6>0,'Outil Recensement simplifié'!BL6,\"\")","v":""},{"$f":"IF('Outil Recensement simplifié'!BM6>0,'Outil Recensement simplifié'!BM6,\"\")","v":""},{"$f":"IF('Outil Recensement simplifié'!BN6=\"Homme\",\"Male\",IF('Outil Recensement simplifié'!BN6=\"Femme\",\"Female\",IF('Outil Recensement simplifié'!BN6=\"H\",\"Male\",IF('Outil Recensement simplifié'!BN6=\"F\",\"Female\",\"\"))))","v":""},{"$f":"IF('Outil Recensement simplifié'!BO6=\"Oui\",\"Yes\",IF('Outil Recensement simplifié'!BO6=\"Non\",\"No\",IF('Outil Recensement simplifié'!BO6=\"O\",\"Yes\",IF('Outil Recensement simplifié'!BO6=\"N\",\"No\",\"\"))))","v":""},{"$f":"IF('Outil Recensement simplifié'!BP6=\"Oui\",\"Yes\",IF('Outil Recensement simplifié'!BP6=\"Non\",\"No\",IF('Outil Recensement simplifié'!BP6=\"O\",\"Yes\",IF('Outil Recensement simplifié'!BP6=\"N\",\"No\",\"\"))))","v":""},{"$f":"IF('Outil Recensement simplifié'!BQ6>0,'Outil Recensement simplifié'!BQ6,\"\")","v":""},{"$f":"IF('Outil Recensement simplifié'!BR6>0,'Outil Recensement simplifié'!BR6,\"\")","v":""},{"$f":"IF('Outil Recensement simplifié'!BS6>0,'Outil Recensement simplifié'!BS6,\"\")","v":""},{"$f":"IF('Outil Recensement simplifié'!BT6=\"Homme\",\"Male\",IF('Outil Recensement simplifié'!BT6=\"Femme\",\"Female\",IF('Outil Recensement simplifié'!BT6=\"H\",\"Male\",IF('Outil Recensement simplifié'!BT6=\"F\",\"Female\",\"\"))))","v":""},{"$f":"IF('Outil Recensement simplifié'!BU6=\"Oui\",\"Yes\",IF('Outil Recensement simplifié'!BU6=\"Non\",\"No\",IF('Outil Recensement simplifié'!BU6=\"O\",\"Yes\",IF('Outil Recensement simplifié'!BU6=\"N\",\"No\",\"\"))))","v":""},{"$f":"IF('Outil Recensement simplifié'!BV6=\"Oui\",\"Yes\",IF('Outil Recensement simplifié'!BV6=\"Non\",\"No\",IF('Outil Recensement simplifié'!BV6=\"O\",\"Yes\",IF('Outil Recensement simplifié'!BV6=\"N\",\"No\",\"\"))))","v":""},{"$f":"IF('Outil Recensement simplifié'!BW6>0,'Outil Recensement simplifié'!BW6,\"\")","v":""},{"$f":"IF('Outil Recensement simplifié'!BX6>0,'Outil Recensement simplifié'!BX6,\"\")","v":""},{"$f":"IF('Outil Recensement simplifié'!BY6>0,'Outil Recensement simplifié'!BY6,\"\")","v":""},{"$f":"IF('Outil Recensement simplifié'!BZ6=\"Homme\",\"Male\",IF('Outil Recensement simplifié'!BZ6=\"Femme\",\"Female\",IF('Outil Recensement simplifié'!BZ6=\"H\",\"Male\",IF('Outil Recensement simplifié'!BZ6=\"F\",\"Female\",\"\"))))","v":""},{"$f":"IF('Outil Recensement simplifié'!CA6=\"Oui\",\"Yes\",IF('Outil Recensement simplifié'!CA6=\"Non\",\"No\",IF('Outil Recensement simplifié'!CA6=\"O\",\"Yes\",IF('Outil Recensement simplifié'!CA6=\"N\",\"No\",\"\"))))","v":""},{"$f":"IF('Outil Recensement simplifié'!CB6=\"Oui\",\"Yes\",IF('Outil Recensement simplifié'!CB6=\"Non\",\"No\",IF('Outil Recensement simplifié'!CB6=\"O\",\"Yes\",IF('Outil Recensement simplifié'!CB6=\"N\",\"No\",\"\"))))","v":""},{"$f":"IF('Outil Recensement simplifié'!CH6>0,'Outil Recensement simplifié'!CH6,\"\")","v":"    "}]
[{"$f":"IF('Outil Recensement simplifié'!A7>0,'Outil Recensement simplifié'!A7,\"\")","v":""},{"$f":"IF('Outil Recensement simplifié'!B7>0,'Outil Recensement simplifié'!B7,\"\")","v":""},{"$f":"IF('Outil Recensement simplifié'!C7>0,'Outil Recensement simplifié'!C7,\"\")","v":""},{"$f":"IF('Outil Recensement simplifié'!D7>0,'Outil Recensement simplifié'!D7,\"\")","v":""},{"$f":"IF('Outil Recensement simplifié'!E7>0,TEXT('Outil Recensement simplifié'!E7,\"000\"),\"\")","v":""},{"$f":"IF('Outil Recensement simplifié'!F7>0,'Outil Recensement simplifié'!F7,\"\")","v":""},{"$f":"IF('Outil Recensement simplifié'!G7>0,'Outil Recensement simplifié'!G7,\"\")","v":""},{"$f":"IF('Outil Recensement simplifié'!I7>0,'Outil Recensement simplifié'!I7,\"\")","v":""},{"$f":"IF('Outil Recensement simplifié'!J7>0,'Outil Recensement simplifié'!J7,\"\")","v":""},{"$f":"IF('Outil Recensement simplifié'!K7>0,'Outil Recensement simplifié'!K7,\"\")","v":""},{"$f":"IF('Outil Recensement simplifié'!L7>0,'Outil Recensement simplifié'!L7,\"\")","v":""},{"$f":"IF('Outil Recensement simplifié'!M7=\"Homme\",\"Male\",IF('Outil Recensement simplifié'!M7=\"Femme\",\"Female\",IF('Outil Recensement simplifié'!M7=\"H\",\"Male\",IF('Outil Recensement simplifié'!M7=\"F\",\"Female\",\"\"))))","v":""},{"$f":"IF('Outil Recensement simplifié'!N7=\"Oui\",\"Yes\",IF('Outil Recensement simplifié'!N7=\"Non\",\"No\",IF('Outil Recensement simplifié'!N7=\"O\",\"Yes\",IF('Outil Recensement simplifié'!N7=\"N\",\"No\",\"\"))))","v":""},{"$f":"IF('Outil Recensement simplifié'!O7=\"Non\",\"Single\",IF('Outil Recensement simplifié'!O7=\"Oui\",\"Family\",IF('Outil Recensement simplifié'!O7=\"N\",\"Single\",IF('Outil Recensement simplifié'!O7=\"O\",\"Family\",IF('Outil Recensement simplifié'!O7=\"En vigueur\",\"Family\",\"\")))))","v":""},{"$f":"IF('Outil Recensement simplifié'!P7=\"Anglais\",\"English\",IF('Outil Recensement simplifié'!P7=\"Français\",\"French\",IF('Outil Recensement simplifié'!P7=\"A\",\"English\",IF('Outil Recensement simplifié'!P7=\"F\",\"French\",\"\"))))","v":""},{"$f":"IF('Outil Recensement simplifié'!Q7=\"Oui\",\"Yes\",IF('Outil Recensement simplifié'!Q7=\"Non\",\"No\",IF('Outil Recensement simplifié'!Q7=\"O\",\"Yes\",IF('Outil Recensement simplifié'!Q7=\"N\",\"No\",\"\"))))","v":""},{"$f":"IF('Outil Recensement simplifié'!R7>0,'Outil Recensement simplifié'!R7,\"\")","v":""},{"$f":"IF('Outil Recensement simplifié'!S7=\"Annuelle\",\"Annually\",IF('Outil Recensement simplifié'!S7=\"Mensuelle\",\"Monthly\",IF('Outil Recensement simplifié'!S7=\"Aux deux semaines\",\"Biweekly\",IF('Outil Recensement simplifié'!S7=\"Bimensuelle\",\"Semi-Monthly\",IF('Outil Recensement simplifié'!S7=\"Hebdomadaire\",\"Weekly\",IF('Outil Recensement simplifié'!S7=\"Horaire\",\"Hourly\",\"\"))))))","v":""},{"$f":"IF('Outil Recensement simplifié'!T7>0,'Outil Recensement simplifié'!T7,\"\")","v":""},{"$f":"IF('Outil Recensement simplifié'!U7>0,'Outil Recensement simplifié'!U7,\"\")","v":""},{"$f":"IF('Outil Recensement simplifié'!V7=\"Exemptée\",\"Yes\",\"\")","v":""},{"$f":"IF('Outil Recensement simplifié'!W7=\"Exemptée\",\"Yes\",\"\")","v":""},{"$f":"IF('Outil Recensement simplifié'!X7>0,'Outil Recensement simplifié'!X7,\"\")","v":""},{"$f":"IF('Outil Recensement simplifié'!Y7>0,'Outil Recensement simplifié'!Y7,\"\")","v":""},{"$f":"IF('Outil Recensement simplifié'!Z7>0,'Outil Recensement simplifié'!Z7,\"\")","v":""},{"$f":"IF('Outil Recensement simplifié'!AA7>0,'Outil Recensement simplifié'!AA7,\"\")","v":""},{"$f":"IF('Outil Recensement simplifié'!AB7>0,'Outil Recensement simplifié'!AB7,\"\")","v":""},{"$f":"IF('Outil Recensement simplifié'!AC7>0,'Outil Recensement simplifié'!AC7,\"\")","v":" "},{"$f":"IF('Outil Recensement simplifié'!AE7>0,'Outil Recensement simplifié'!AE7&\" \",\"\")&IF('Outil Recensement simplifié'!AD7>0,'Outil Recensement simplifié'!AD7,\"\")","v":""},null,{"$f":"IF('Outil Recensement simplifié'!AF7>0,'Outil Recensement simplifié'!AF7,\"\")","v":""},{"$f":"IF('Outil Recensement simplifié'!AG7>0,'Outil Recensement simplifié'!AG7,\"\")","v":""},{"$f":"IF('Outil Recensement simplifié'!AH7>0,'Outil Recensement simplifié'!AH7,\"\")","v":""},{"$f":"IF('Outil Recensement simplifié'!AI7>0,'Outil Recensement simplifié'!AI7,\"\")","v":""},{"$f":"IF('Outil Recensement simplifié'!AJ7>0,'Outil Recensement simplifié'!AJ7,\"\")","v":""},{"$f":"IF('Outil Recensement simplifié'!AK7>0,'Outil Recensement simplifié'!AK7,\"\")","v":""},{"$f":"IF('Outil Recensement simplifié'!AL7>0,'Outil Recensement simplifié'!AL7,\"\")","v":""},{"$f":"IF('Outil Recensement simplifié'!AM7>0,'Outil Recensement simplifié'!AM7,\"\")","v":""},{"$f":"IF('Outil Recensement simplifié'!AN7=\"Homme\",\"Male\",IF('Outil Recensement simplifié'!AN7=\"Femme\",\"Female\",IF('Outil Recensement simplifié'!AN7=\"H\",\"Male\",IF('Outil Recensement simplifié'!AN7=\"F\",\"Female\",\"\"))))","v":""},{"$f":"IF('Outil Recensement simplifié'!AO7=\"Individuelle\",\"Single\",IF('Outil Recensement simplifié'!AO7=\"Famille\",\"Family\",IF('Outil Recensement simplifié'!AO7=\"Individuel\",\"Single\",IF('Outil Recensement simplifié'!AO7=\"Familiale\",\"Family\",IF('Outil Recensement simplifié'!AO7=\"I\",\"Single\",IF('Outil Recensement simplifié'!AO7=\"F\",\"Family\",\"\"))))))","v":""},{"$f":"IF('Outil Recensement simplifié'!AP7=\"Individuelle\",\"Single\",IF('Outil Recensement simplifié'!AP7=\"Famille\",\"Family\",IF('Outil Recensement simplifié'!AP7=\"Individuel\",\"Single\",IF('Outil Recensement simplifié'!AP7=\"Familiale\",\"Family\",IF('Outil Recensement simplifié'!AP7=\"I\",\"Single\",IF('Outil Recensement simplifié'!AP7=\"F\",\"Family\",\"\"))))))","v":""},{"$f":"IF('Outil Recensement simplifié'!AQ7>0,'Outil Recensement simplifié'!AQ7,\"\")","v":""},{"$f":"IF('Outil Recensement simplifié'!AR7=\"Oui\",\"Yes\",IF('Outil Recensement simplifié'!AR7=\"Non\",\"No\",IF('Outil Recensement simplifié'!AR7=\"O\",\"Yes\",IF('Outil Recensement simplifié'!AR7=\"N\",\"No\",\"\"))))","v":""},{"$f":"IF('Outil Recensement simplifié'!AS7>0,'Outil Recensement simplifié'!AS7,\"\")","v":""},{"$f":"IF('Outil Recensement simplifié'!AT7>0,'Outil Recensement simplifié'!AT7,\"\")","v":""},{"$f":"IF('Outil Recensement simplifié'!AU7>0,'Outil Recensement simplifié'!AU7,\"\")","v":""},{"$f":"IF('Outil Recensement simplifié'!AV7=\"Homme\",\"Male\",IF('Outil Recensement simplifié'!AV7=\"Femme\",\"Female\",IF('Outil Recensement simplifié'!AV7=\"H\",\"Male\",IF('Outil Recensement simplifié'!AV7=\"F\",\"Female\",\"\"))))","v":""},{"$f":"IF('Outil Recensement simplifié'!AW7=\"Oui\",\"Yes\",IF('Outil Recensement simplifié'!AW7=\"Non\",\"No\",IF('Outil Recensement simplifié'!AW7=\"O\",\"Yes\",IF('Outil Recensement simplifié'!AW7=\"N\",\"No\",\"\"))))","v":""},{"$f":"IF('Outil Recensement simplifié'!AX7=\"Oui\",\"Yes\",IF('Outil Recensement simplifié'!AX7=\"Non\",\"No\",IF('Outil Recensement simplifié'!AX7=\"O\",\"Yes\",IF('Outil Recensement simplifié'!AX7=\"N\",\"No\",\"\"))))","v":""},{"$f":"IF('Outil Recensement simplifié'!AY7>0,'Outil Recensement simplifié'!AY7,\"\")","v":""},{"$f":"IF('Outil Recensement simplifié'!AZ7>0,'Outil Recensement simplifié'!AZ7,\"\")","v":""},{"$f":"IF('Outil Recensement simplifié'!BA7>0,'Outil Recensement simplifié'!BA7,\"\")","v":""},{"$f":"IF('Outil Recensement simplifié'!BB7=\"Homme\",\"Male\",IF('Outil Recensement simplifié'!BB7=\"Femme\",\"Female\",IF('Outil Recensement simplifié'!BB7=\"H\",\"Male\",IF('Outil Recensement simplifié'!BB7=\"F\",\"Female\",\"\"))))","v":""},{"$f":"IF('Outil Recensement simplifié'!BC7=\"Oui\",\"Yes\",IF('Outil Recensement simplifié'!BC7=\"Non\",\"No\",IF('Outil Recensement simplifié'!BC7=\"O\",\"Yes\",IF('Outil Recensement simplifié'!BC7=\"N\",\"No\",\"\"))))","v":""},{"$f":"IF('Outil Recensement simplifié'!BD7=\"Oui\",\"Yes\",IF('Outil Recensement simplifié'!BD7=\"Non\",\"No\",IF('Outil Recensement simplifié'!BD7=\"O\",\"Yes\",IF('Outil Recensement simplifié'!BD7=\"N\",\"No\",\"\"))))","v":""},{"$f":"IF('Outil Recensement simplifié'!BE7>0,'Outil Recensement simplifié'!BE7,\"\")","v":""},{"$f":"IF('Outil Recensement simplifié'!BF7>0,'Outil Recensement simplifié'!BF7,\"\")","v":""},{"$f":"IF('Outil Recensement simplifié'!BG7>0,'Outil Recensement simplifié'!BG7,\"\")","v":""},{"$f":"IF('Outil Recensement simplifié'!BH7=\"Homme\",\"Male\",IF('Outil Recensement simplifié'!BH7=\"Femme\",\"Female\",IF('Outil Recensement simplifié'!BH7=\"H\",\"Male\",IF('Outil Recensement simplifié'!BH7=\"F\",\"Female\",\"\"))))","v":""},{"$f":"IF('Outil Recensement simplifié'!BI7=\"Oui\",\"Yes\",IF('Outil Recensement simplifié'!BI7=\"Non\",\"No\",IF('Outil Recensement simplifié'!BI7=\"O\",\"Yes\",IF('Outil Recensement simplifié'!BI7=\"N\",\"No\",\"\"))))","v":""},{"$f":"IF('Outil Recensement simplifié'!BJ7=\"Oui\",\"Yes\",IF('Outil Recensement simplifié'!BJ7=\"Non\",\"No\",IF('Outil Recensement simplifié'!BJ7=\"O\",\"Yes\",IF('Outil Recensement simplifié'!BJ7=\"N\",\"No\",\"\"))))","v":""},{"$f":"IF('Outil Recensement simplifié'!BK7>0,'Outil Recensement simplifié'!BK7,\"\")","v":""},{"$f":"IF('Outil Recensement simplifié'!BL7>0,'Outil Recensement simplifié'!BL7,\"\")","v":""},{"$f":"IF('Outil Recensement simplifié'!BM7>0,'Outil Recensement simplifié'!BM7,\"\")","v":""},{"$f":"IF('Outil Recensement simplifié'!BN7=\"Homme\",\"Male\",IF('Outil Recensement simplifié'!BN7=\"Femme\",\"Female\",IF('Outil Recensement simplifié'!BN7=\"H\",\"Male\",IF('Outil Recensement simplifié'!BN7=\"F\",\"Female\",\"\"))))","v":""},{"$f":"IF('Outil Recensement simplifié'!BO7=\"Oui\",\"Yes\",IF('Outil Recensement simplifié'!BO7=\"Non\",\"No\",IF('Outil Recensement simplifié'!BO7=\"O\",\"Yes\",IF('Outil Recensement simplifié'!BO7=\"N\",\"No\",\"\"))))","v":""},{"$f":"IF('Outil Recensement simplifié'!BP7=\"Oui\",\"Yes\",IF('Outil Recensement simplifié'!BP7=\"Non\",\"No\",IF('Outil Recensement simplifié'!BP7=\"O\",\"Yes\",IF('Outil Recensement simplifié'!BP7=\"N\",\"No\",\"\"))))","v":""},{"$f":"IF('Outil Recensement simplifié'!BQ7>0,'Outil Recensement simplifié'!BQ7,\"\")","v":""},{"$f":"IF('Outil Recensement simplifié'!BR7>0,'Outil Recensement simplifié'!BR7,\"\")","v":""},{"$f":"IF('Outil Recensement simplifié'!BS7>0,'Outil Recensement simplifié'!BS7,\"\")","v":""},{"$f":"IF('Outil Recensement simplifié'!BT7=\"Homme\",\"Male\",IF('Outil Recensement simplifié'!BT7=\"Femme\",\"Female\",IF('Outil Recensement simplifié'!BT7=\"H\",\"Male\",IF('Outil Recensement simplifié'!BT7=\"F\",\"Female\",\"\"))))","v":""},{"$f":"IF('Outil Recensement simplifié'!BU7=\"Oui\",\"Yes\",IF('Outil Recensement simplifié'!BU7=\"Non\",\"No\",IF('Outil Recensement simplifié'!BU7=\"O\",\"Yes\",IF('Outil Recensement simplifié'!BU7=\"N\",\"No\",\"\"))))","v":""},{"$f":"IF('Outil Recensement simplifié'!BV7=\"Oui\",\"Yes\",IF('Outil Recensement simplifié'!BV7=\"Non\",\"No\",IF('Outil Recensement simplifié'!BV7=\"O\",\"Yes\",IF('Outil Recensement simplifié'!BV7=\"N\",\"No\",\"\"))))","v":""},{"$f":"IF('Outil Recensement simplifié'!BW7>0,'Outil Recensement simplifié'!BW7,\"\")","v":""},{"$f":"IF('Outil Recensement simplifié'!BX7>0,'Outil Recensement simplifié'!BX7,\"\")","v":""},{"$f":"IF('Outil Recensement simplifié'!BY7>0,'Outil Recensement simplifié'!BY7,\"\")","v":""},{"$f":"IF('Outil Recensement simplifié'!BZ7=\"Homme\",\"Male\",IF('Outil Recensement simplifié'!BZ7=\"Femme\",\"Female\",IF('Outil Recensement simplifié'!BZ7=\"H\",\"Male\",IF('Outil Recensement simplifié'!BZ7=\"F\",\"Female\",\"\"))))","v":""},{"$f":"IF('Outil Recensement simplifié'!CA7=\"Oui\",\"Yes\",IF('Outil Recensement simplifié'!CA7=\"Non\",\"No\",IF('Outil Recensement simplifié'!CA7=\"O\",\"Yes\",IF('Outil Recensement simplifié'!CA7=\"N\",\"No\",\"\"))))","v":""},{"$f":"IF('Outil Recensement simplifié'!CB7=\"Oui\",\"Yes\",IF('Outil Recensement simplifié'!CB7=\"Non\",\"No\",IF('Outil Recensement simplifié'!CB7=\"O\",\"Yes\",IF('Outil Recensement simplifié'!CB7=\"N\",\"No\",\"\"))))","v":""},{"$f":"IF('Outil Recensement simplifié'!CH7>0,'Outil Recensement simplifié'!CH7,\"\")","v":"    "}]
[{"$f":"IF('Outil Recensement simplifié'!A8>0,'Outil Recensement simplifié'!A8,\"\")","v":""},{"$f":"IF('Outil Recensement simplifié'!B8>0,'Outil Recensement simplifié'!B8,\"\")","v":""},{"$f":"IF('Outil Recensement simplifié'!C8>0,'Outil Recensement simplifié'!C8,\"\")","v":""},{"$f":"IF('Outil Recensement simplifié'!D8>0,'Outil Recensement simplifié'!D8,\"\")","v":""},{"$f":"IF('Outil Recensement simplifié'!E8>0,TEXT('Outil Recensement simplifié'!E8,\"000\"),\"\")","v":""},{"$f":"IF('Outil Recensement simplifié'!F8>0,'Outil Recensement simplifié'!F8,\"\")","v":""},{"$f":"IF('Outil Recensement simplifié'!G8>0,'Outil Recensement simplifié'!G8,\"\")","v":""},{"$f":"IF('Outil Recensement simplifié'!I8>0,'Outil Recensement simplifié'!I8,\"\")","v":""},{"$f":"IF('Outil Recensement simplifié'!J8>0,'Outil Recensement simplifié'!J8,\"\")","v":""},{"$f":"IF('Outil Recensement simplifié'!K8>0,'Outil Recensement simplifié'!K8,\"\")","v":""},{"$f":"IF('Outil Recensement simplifié'!L8>0,'Outil Recensement simplifié'!L8,\"\")","v":""},{"$f":"IF('Outil Recensement simplifié'!M8=\"Homme\",\"Male\",IF('Outil Recensement simplifié'!M8=\"Femme\",\"Female\",IF('Outil Recensement simplifié'!M8=\"H\",\"Male\",IF('Outil Recensement simplifié'!M8=\"F\",\"Female\",\"\"))))","v":""},{"$f":"IF('Outil Recensement simplifié'!N8=\"Oui\",\"Yes\",IF('Outil Recensement simplifié'!N8=\"Non\",\"No\",IF('Outil Recensement simplifié'!N8=\"O\",\"Yes\",IF('Outil Recensement simplifié'!N8=\"N\",\"No\",\"\"))))","v":""},{"$f":"IF('Outil Recensement simplifié'!O8=\"Non\",\"Single\",IF('Outil Recensement simplifié'!O8=\"Oui\",\"Family\",IF('Outil Recensement simplifié'!O8=\"N\",\"Single\",IF('Outil Recensement simplifié'!O8=\"O\",\"Family\",IF('Outil Recensement simplifié'!O8=\"En vigueur\",\"Family\",\"\")))))","v":""},{"$f":"IF('Outil Recensement simplifié'!P8=\"Anglais\",\"English\",IF('Outil Recensement simplifié'!P8=\"Français\",\"French\",IF('Outil Recensement simplifié'!P8=\"A\",\"English\",IF('Outil Recensement simplifié'!P8=\"F\",\"French\",\"\"))))","v":""},{"$f":"IF('Outil Recensement simplifié'!Q8=\"Oui\",\"Yes\",IF('Outil Recensement simplifié'!Q8=\"Non\",\"No\",IF('Outil Recensement simplifié'!Q8=\"O\",\"Yes\",IF('Outil Recensement simplifié'!Q8=\"N\",\"No\",\"\"))))","v":""},{"$f":"IF('Outil Recensement simplifié'!R8>0,'Outil Recensement simplifié'!R8,\"\")","v":""},{"$f":"IF('Outil Recensement simplifié'!S8=\"Annuelle\",\"Annually\",IF('Outil Recensement simplifié'!S8=\"Mensuelle\",\"Monthly\",IF('Outil Recensement simplifié'!S8=\"Aux deux semaines\",\"Biweekly\",IF('Outil Recensement simplifié'!S8=\"Bimensuelle\",\"Semi-Monthly\",IF('Outil Recensement simplifié'!S8=\"Hebdomadaire\",\"Weekly\",IF('Outil Recensement simplifié'!S8=\"Horaire\",\"Hourly\",\"\"))))))","v":""},{"$f":"IF('Outil Recensement simplifié'!T8>0,'Outil Recensement simplifié'!T8,\"\")","v":""},{"$f":"IF('Outil Recensement simplifié'!U8>0,'Outil Recensement simplifié'!U8,\"\")","v":""},{"$f":"IF('Outil Recensement simplifié'!V8=\"Exemptée\",\"Yes\",\"\")","v":""},{"$f":"IF('Outil Recensement simplifié'!W8=\"Exemptée\",\"Yes\",\"\")","v":""},{"$f":"IF('Outil Recensement simplifié'!X8>0,'Outil Recensement simplifié'!X8,\"\")","v":""},{"$f":"IF('Outil Recensement simplifié'!Y8>0,'Outil Recensement simplifié'!Y8,\"\")","v":""},{"$f":"IF('Outil Recensement simplifié'!Z8>0,'Outil Recensement simplifié'!Z8,\"\")","v":""},{"$f":"IF('Outil Recensement simplifié'!AA8>0,'Outil Recensement simplifié'!AA8,\"\")","v":""},{"$f":"IF('Outil Recensement simplifié'!AB8>0,'Outil Recensement simplifié'!AB8,\"\")","v":""},{"$f":"IF('Outil Recensement simplifié'!AC8>0,'Outil Recensement simplifié'!AC8,\"\")","v":" "},{"$f":"IF('Outil Recensement simplifié'!AE8>0,'Outil Recensement simplifié'!AE8&\" \",\"\")&IF('Outil Recensement simplifié'!AD8>0,'Outil Recensement simplifié'!AD8,\"\")","v":""},null,{"$f":"IF('Outil Recensement simplifié'!AF8>0,'Outil Recensement simplifié'!AF8,\"\")","v":""},{"$f":"IF('Outil Recensement simplifié'!AG8>0,'Outil Recensement simplifié'!AG8,\"\")","v":""},{"$f":"IF('Outil Recensement simplifié'!AH8>0,'Outil Recensement simplifié'!AH8,\"\")","v":""},{"$f":"IF('Outil Recensement simplifié'!AI8>0,'Outil Recensement simplifié'!AI8,\"\")","v":""},{"$f":"IF('Outil Recensement simplifié'!AJ8>0,'Outil Recensement simplifié'!AJ8,\"\")","v":""},{"$f":"IF('Outil Recensement simplifié'!AK8>0,'Outil Recensement simplifié'!AK8,\"\")","v":""},{"$f":"IF('Outil Recensement simplifié'!AL8>0,'Outil Recensement simplifié'!AL8,\"\")","v":""},{"$f":"IF('Outil Recensement simplifié'!AM8>0,'Outil Recensement simplifié'!AM8,\"\")","v":""},{"$f":"IF('Outil Recensement simplifié'!AN8=\"Homme\",\"Male\",IF('Outil Recensement simplifié'!AN8=\"Femme\",\"Female\",IF('Outil Recensement simplifié'!AN8=\"H\",\"Male\",IF('Outil Recensement simplifié'!AN8=\"F\",\"Female\",\"\"))))","v":""},{"$f":"IF('Outil Recensement simplifié'!AO8=\"Individuelle\",\"Single\",IF('Outil Recensement simplifié'!AO8=\"Famille\",\"Family\",IF('Outil Recensement simplifié'!AO8=\"Individuel\",\"Single\",IF('Outil Recensement simplifié'!AO8=\"Familiale\",\"Family\",IF('Outil Recensement simplifié'!AO8=\"I\",\"Single\",IF('Outil Recensement simplifié'!AO8=\"F\",\"Family\",\"\"))))))","v":""},{"$f":"IF('Outil Recensement simplifié'!AP8=\"Individuelle\",\"Single\",IF('Outil Recensement simplifié'!AP8=\"Famille\",\"Family\",IF('Outil Recensement simplifié'!AP8=\"Individuel\",\"Single\",IF('Outil Recensement simplifié'!AP8=\"Familiale\",\"Family\",IF('Outil Recensement simplifié'!AP8=\"I\",\"Single\",IF('Outil Recensement simplifié'!AP8=\"F\",\"Family\",\"\"))))))","v":""},{"$f":"IF('Outil Recensement simplifié'!AQ8>0,'Outil Recensement simplifié'!AQ8,\"\")","v":""},{"$f":"IF('Outil Recensement simplifié'!AR8=\"Oui\",\"Yes\",IF('Outil Recensement simplifié'!AR8=\"Non\",\"No\",IF('Outil Recensement simplifié'!AR8=\"O\",\"Yes\",IF('Outil Recensement simplifié'!AR8=\"N\",\"No\",\"\"))))","v":""},{"$f":"IF('Outil Recensement simplifié'!AS8>0,'Outil Recensement simplifié'!AS8,\"\")","v":""},{"$f":"IF('Outil Recensement simplifié'!AT8>0,'Outil Recensement simplifié'!AT8,\"\")","v":""},{"$f":"IF('Outil Recensement simplifié'!AU8>0,'Outil Recensement simplifié'!AU8,\"\")","v":""},{"$f":"IF('Outil Recensement simplifié'!AV8=\"Homme\",\"Male\",IF('Outil Recensement simplifié'!AV8=\"Femme\",\"Female\",IF('Outil Recensement simplifié'!AV8=\"H\",\"Male\",IF('Outil Recensement simplifié'!AV8=\"F\",\"Female\",\"\"))))","v":""},{"$f":"IF('Outil Recensement simplifié'!AW8=\"Oui\",\"Yes\",IF('Outil Recensement simplifié'!AW8=\"Non\",\"No\",IF('Outil Recensement simplifié'!AW8=\"O\",\"Yes\",IF('Outil Recensement simplifié'!AW8=\"N\",\"No\",\"\"))))","v":""},{"$f":"IF('Outil Recensement simplifié'!AX8=\"Oui\",\"Yes\",IF('Outil Recensement simplifié'!AX8=\"Non\",\"No\",IF('Outil Recensement simplifié'!AX8=\"O\",\"Yes\",IF('Outil Recensement simplifié'!AX8=\"N\",\"No\",\"\"))))","v":""},{"$f":"IF('Outil Recensement simplifié'!AY8>0,'Outil Recensement simplifié'!AY8,\"\")","v":""},{"$f":"IF('Outil Recensement simplifié'!AZ8>0,'Outil Recensement simplifié'!AZ8,\"\")","v":""},{"$f":"IF('Outil Recensement simplifié'!BA8>0,'Outil Recensement simplifié'!BA8,\"\")","v":""},{"$f":"IF('Outil Recensement simplifié'!BB8=\"Homme\",\"Male\",IF('Outil Recensement simplifié'!BB8=\"Femme\",\"Female\",IF('Outil Recensement simplifié'!BB8=\"H\",\"Male\",IF('Outil Recensement simplifié'!BB8=\"F\",\"Female\",\"\"))))","v":""},{"$f":"IF('Outil Recensement simplifié'!BC8=\"Oui\",\"Yes\",IF('Outil Recensement simplifié'!BC8=\"Non\",\"No\",IF('Outil Recensement simplifié'!BC8=\"O\",\"Yes\",IF('Outil Recensement simplifié'!BC8=\"N\",\"No\",\"\"))))","v":""},{"$f":"IF('Outil Recensement simplifié'!BD8=\"Oui\",\"Yes\",IF('Outil Recensement simplifié'!BD8=\"Non\",\"No\",IF('Outil Recensement simplifié'!BD8=\"O\",\"Yes\",IF('Outil Recensement simplifié'!BD8=\"N\",\"No\",\"\"))))","v":""},{"$f":"IF('Outil Recensement simplifié'!BE8>0,'Outil Recensement simplifié'!BE8,\"\")","v":""},{"$f":"IF('Outil Recensement simplifié'!BF8>0,'Outil Recensement simplifié'!BF8,\"\")","v":""},{"$f":"IF('Outil Recensement simplifié'!BG8>0,'Outil Recensement simplifié'!BG8,\"\")","v":""},{"$f":"IF('Outil Recensement simplifié'!BH8=\"Homme\",\"Male\",IF('Outil Recensement simplifié'!BH8=\"Femme\",\"Female\",IF('Outil Recensement simplifié'!BH8=\"H\",\"Male\",IF('Outil Recensement simplifié'!BH8=\"F\",\"Female\",\"\"))))","v":""},{"$f":"IF('Outil Recensement simplifié'!BI8=\"Oui\",\"Yes\",IF('Outil Recensement simplifié'!BI8=\"Non\",\"No\",IF('Outil Recensement simplifié'!BI8=\"O\",\"Yes\",IF('Outil Recensement simplifié'!BI8=\"N\",\"No\",\"\"))))","v":""},{"$f":"IF('Outil Recensement simplifié'!BJ8=\"Oui\",\"Yes\",IF('Outil Recensement simplifié'!BJ8=\"Non\",\"No\",IF('Outil Recensement simplifié'!BJ8=\"O\",\"Yes\",IF('Outil Recensement simplifié'!BJ8=\"N\",\"No\",\"\"))))","v":""},{"$f":"IF('Outil Recensement simplifié'!BK8>0,'Outil Recensement simplifié'!BK8,\"\")","v":""},{"$f":"IF('Outil Recensement simplifié'!BL8>0,'Outil Recensement simplifié'!BL8,\"\")","v":""},{"$f":"IF('Outil Recensement simplifié'!BM8>0,'Outil Recensement simplifié'!BM8,\"\")","v":""},{"$f":"IF('Outil Recensement simplifié'!BN8=\"Homme\",\"Male\",IF('Outil Recensement simplifié'!BN8=\"Femme\",\"Female\",IF('Outil Recensement simplifié'!BN8=\"H\",\"Male\",IF('Outil Recensement simplifié'!BN8=\"F\",\"Female\",\"\"))))","v":""},{"$f":"IF('Outil Recensement simplifié'!BO8=\"Oui\",\"Yes\",IF('Outil Recensement simplifié'!BO8=\"Non\",\"No\",IF('Outil Recensement simplifié'!BO8=\"O\",\"Yes\",IF('Outil Recensement simplifié'!BO8=\"N\",\"No\",\"\"))))","v":""},{"$f":"IF('Outil Recensement simplifié'!BP8=\"Oui\",\"Yes\",IF('Outil Recensement simplifié'!BP8=\"Non\",\"No\",IF('Outil Recensement simplifié'!BP8=\"O\",\"Yes\",IF('Outil Recensement simplifié'!BP8=\"N\",\"No\",\"\"))))","v":""},{"$f":"IF('Outil Recensement simplifié'!BQ8>0,'Outil Recensement simplifié'!BQ8,\"\")","v":""},{"$f":"IF('Outil Recensement simplifié'!BR8>0,'Outil Recensement simplifié'!BR8,\"\")","v":""},{"$f":"IF('Outil Recensement simplifié'!BS8>0,'Outil Recensement simplifié'!BS8,\"\")","v":""},{"$f":"IF('Outil Recensement simplifié'!BT8=\"Homme\",\"Male\",IF('Outil Recensement simplifié'!BT8=\"Femme\",\"Female\",IF('Outil Recensement simplifié'!BT8=\"H\",\"Male\",IF('Outil Recensement simplifié'!BT8=\"F\",\"Female\",\"\"))))","v":""},{"$f":"IF('Outil Recensement simplifié'!BU8=\"Oui\",\"Yes\",IF('Outil Recensement simplifié'!BU8=\"Non\",\"No\",IF('Outil Recensement simplifié'!BU8=\"O\",\"Yes\",IF('Outil Recensement simplifié'!BU8=\"N\",\"No\",\"\"))))","v":""},{"$f":"IF('Outil Recensement simplifié'!BV8=\"Oui\",\"Yes\",IF('Outil Recensement simplifié'!BV8=\"Non\",\"No\",IF('Outil Recensement simplifié'!BV8=\"O\",\"Yes\",IF('Outil Recensement simplifié'!BV8=\"N\",\"No\",\"\"))))","v":""},{"$f":"IF('Outil Recensement simplifié'!BW8>0,'Outil Recensement simplifié'!BW8,\"\")","v":""},{"$f":"IF('Outil Recensement simplifié'!BX8>0,'Outil Recensement simplifié'!BX8,\"\")","v":""},{"$f":"IF('Outil Recensement simplifié'!BY8>0,'Outil Recensement simplifié'!BY8,\"\")","v":""},{"$f":"IF('Outil Recensement simplifié'!BZ8=\"Homme\",\"Male\",IF('Outil Recensement simplifié'!BZ8=\"Femme\",\"Female\",IF('Outil Recensement simplifié'!BZ8=\"H\",\"Male\",IF('Outil Recensement simplifié'!BZ8=\"F\",\"Female\",\"\"))))","v":""},{"$f":"IF('Outil Recensement simplifié'!CA8=\"Oui\",\"Yes\",IF('Outil Recensement simplifié'!CA8=\"Non\",\"No\",IF('Outil Recensement simplifié'!CA8=\"O\",\"Yes\",IF('Outil Recensement simplifié'!CA8=\"N\",\"No\",\"\"))))","v":""},{"$f":"IF('Outil Recensement simplifié'!CB8=\"Oui\",\"Yes\",IF('Outil Recensement simplifié'!CB8=\"Non\",\"No\",IF('Outil Recensement simplifié'!CB8=\"O\",\"Yes\",IF('Outil Recensement simplifié'!CB8=\"N\",\"No\",\"\"))))","v":""},{"$f":"IF('Outil Recensement simplifié'!CH8>0,'Outil Recensement simplifié'!CH8,\"\")","v":"    "}]
[{"$f":"IF('Outil Recensement simplifié'!A9>0,'Outil Recensement simplifié'!A9,\"\")","v":""},{"$f":"IF('Outil Recensement simplifié'!B9>0,'Outil Recensement simplifié'!B9,\"\")","v":""},{"$f":"IF('Outil Recensement simplifié'!C9>0,'Outil Recensement simplifié'!C9,\"\")","v":""},{"$f":"IF('Outil Recensement simplifié'!D9>0,'Outil Recensement simplifié'!D9,\"\")","v":""},{"$f":"IF('Outil Recensement simplifié'!E9>0,TEXT('Outil Recensement simplifié'!E9,\"000\"),\"\")","v":""},{"$f":"IF('Outil Recensement simplifié'!F9>0,'Outil Recensement simplifié'!F9,\"\")","v":""},{"$f":"IF('Outil Recensement simplifié'!G9>0,'Outil Recensement simplifié'!G9,\"\")","v":""},{"$f":"IF('Outil Recensement simplifié'!I9>0,'Outil Recensement simplifié'!I9,\"\")","v":""},{"$f":"IF('Outil Recensement simplifié'!J9>0,'Outil Recensement simplifié'!J9,\"\")","v":""},{"$f":"IF('Outil Recensement simplifié'!K9>0,'Outil Recensement simplifié'!K9,\"\")","v":""},{"$f":"IF('Outil Recensement simplifié'!L9>0,'Outil Recensement simplifié'!L9,\"\")","v":""},{"$f":"IF('Outil Recensement simplifié'!M9=\"Homme\",\"Male\",IF('Outil Recensement simplifié'!M9=\"Femme\",\"Female\",IF('Outil Recensement simplifié'!M9=\"H\",\"Male\",IF('Outil Recensement simplifié'!M9=\"F\",\"Female\",\"\"))))","v":""},{"$f":"IF('Outil Recensement simplifié'!N9=\"Oui\",\"Yes\",IF('Outil Recensement simplifié'!N9=\"Non\",\"No\",IF('Outil Recensement simplifié'!N9=\"O\",\"Yes\",IF('Outil Recensement simplifié'!N9=\"N\",\"No\",\"\"))))","v":""},{"$f":"IF('Outil Recensement simplifié'!O9=\"Non\",\"Single\",IF('Outil Recensement simplifié'!O9=\"Oui\",\"Family\",IF('Outil Recensement simplifié'!O9=\"N\",\"Single\",IF('Outil Recensement simplifié'!O9=\"O\",\"Family\",IF('Outil Recensement simplifié'!O9=\"En vigueur\",\"Family\",\"\")))))","v":""},{"$f":"IF('Outil Recensement simplifié'!P9=\"Anglais\",\"English\",IF('Outil Recensement simplifié'!P9=\"Français\",\"French\",IF('Outil Recensement simplifié'!P9=\"A\",\"English\",IF('Outil Recensement simplifié'!P9=\"F\",\"French\",\"\"))))","v":""},{"$f":"IF('Outil Recensement simplifié'!Q9=\"Oui\",\"Yes\",IF('Outil Recensement simplifié'!Q9=\"Non\",\"No\",IF('Outil Recensement simplifié'!Q9=\"O\",\"Yes\",IF('Outil Recensement simplifié'!Q9=\"N\",\"No\",\"\"))))","v":""},{"$f":"IF('Outil Recensement simplifié'!R9>0,'Outil Recensement simplifié'!R9,\"\")","v":""},{"$f":"IF('Outil Recensement simplifié'!S9=\"Annuelle\",\"Annually\",IF('Outil Recensement simplifié'!S9=\"Mensuelle\",\"Monthly\",IF('Outil Recensement simplifié'!S9=\"Aux deux semaines\",\"Biweekly\",IF('Outil Recensement simplifié'!S9=\"Bimensuelle\",\"Semi-Monthly\",IF('Outil Recensement simplifié'!S9=\"Hebdomadaire\",\"Weekly\",IF('Outil Recensement simplifié'!S9=\"Horaire\",\"Hourly\",\"\"))))))","v":""},{"$f":"IF('Outil Recensement simplifié'!T9>0,'Outil Recensement simplifié'!T9,\"\")","v":""},{"$f":"IF('Outil Recensement simplifié'!U9>0,'Outil Recensement simplifié'!U9,\"\")","v":""},{"$f":"IF('Outil Recensement simplifié'!V9=\"Exemptée\",\"Yes\",\"\")","v":""},{"$f":"IF('Outil Recensement simplifié'!W9=\"Exemptée\",\"Yes\",\"\")","v":""},{"$f":"IF('Outil Recensement simplifié'!X9>0,'Outil Recensement simplifié'!X9,\"\")","v":""},{"$f":"IF('Outil Recensement simplifié'!Y9>0,'Outil Recensement simplifié'!Y9,\"\")","v":""},{"$f":"IF('Outil Recensement simplifié'!Z9>0,'Outil Recensement simplifié'!Z9,\"\")","v":""},{"$f":"IF('Outil Recensement simplifié'!AA9>0,'Outil Recensement simplifié'!AA9,\"\")","v":""},{"$f":"IF('Outil Recensement simplifié'!AB9>0,'Outil Recensement simplifié'!AB9,\"\")","v":""},{"$f":"IF('Outil Recensement simplifié'!AC9>0,'Outil Recensement simplifié'!AC9,\"\")","v":" "},{"$f":"IF('Outil Recensement simplifié'!AE9>0,'Outil Recensement simplifié'!AE9&\" \",\"\")&IF('Outil Recensement simplifié'!AD9>0,'Outil Recensement simplifié'!AD9,\"\")","v":""},null,{"$f":"IF('Outil Recensement simplifié'!AF9>0,'Outil Recensement simplifié'!AF9,\"\")","v":""},{"$f":"IF('Outil Recensement simplifié'!AG9>0,'Outil Recensement simplifié'!AG9,\"\")","v":""},{"$f":"IF('Outil Recensement simplifié'!AH9>0,'Outil Recensement simplifié'!AH9,\"\")","v":""},{"$f":"IF('Outil Recensement simplifié'!AI9>0,'Outil Recensement simplifié'!AI9,\"\")","v":""},{"$f":"IF('Outil Recensement simplifié'!AJ9>0,'Outil Recensement simplifié'!AJ9,\"\")","v":""},{"$f":"IF('Outil Recensement simplifié'!AK9>0,'Outil Recensement simplifié'!AK9,\"\")","v":""},{"$f":"IF('Outil Recensement simplifié'!AL9>0,'Outil Recensement simplifié'!AL9,\"\")","v":""},{"$f":"IF('Outil Recensement simplifié'!AM9>0,'Outil Recensement simplifié'!AM9,\"\")","v":""},{"$f":"IF('Outil Recensement simplifié'!AN9=\"Homme\",\"Male\",IF('Outil Recensement simplifié'!AN9=\"Femme\",\"Female\",IF('Outil Recensement simplifié'!AN9=\"H\",\"Male\",IF('Outil Recensement simplifié'!AN9=\"F\",\"Female\",\"\"))))","v":""},{"$f":"IF('Outil Recensement simplifié'!AO9=\"Individuelle\",\"Single\",IF('Outil Recensement simplifié'!AO9=\"Famille\",\"Family\",IF('Outil Recensement simplifié'!AO9=\"Individuel\",\"Single\",IF('Outil Recensement simplifié'!AO9=\"Familiale\",\"Family\",IF('Outil Recensement simplifié'!AO9=\"I\",\"Single\",IF('Outil Recensement simplifié'!AO9=\"F\",\"Family\",\"\"))))))","v":""},{"$f":"IF('Outil Recensement simplifié'!AP9=\"Individuelle\",\"Single\",IF('Outil Recensement simplifié'!AP9=\"Famille\",\"Family\",IF('Outil Recensement simplifié'!AP9=\"Individuel\",\"Single\",IF('Outil Recensement simplifié'!AP9=\"Familiale\",\"Family\",IF('Outil Recensement simplifié'!AP9=\"I\",\"Single\",IF('Outil Recensement simplifié'!AP9=\"F\",\"Family\",\"\"))))))","v":""},{"$f":"IF('Outil Recensement simplifié'!AQ9>0,'Outil Recensement simplifié'!AQ9,\"\")","v":""},{"$f":"IF('Outil Recensement simplifié'!AR9=\"Oui\",\"Yes\",IF('Outil Recensement simplifié'!AR9=\"Non\",\"No\",IF('Outil Recensement simplifié'!AR9=\"O\",\"Yes\",IF('Outil Recensement simplifié'!AR9=\"N\",\"No\",\"\"))))","v":""},{"$f":"IF('Outil Recensement simplifié'!AS9>0,'Outil Recensement simplifié'!AS9,\"\")","v":""},{"$f":"IF('Outil Recensement simplifié'!AT9>0,'Outil Recensement simplifié'!AT9,\"\")","v":""},{"$f":"IF('Outil Recensement simplifié'!AU9>0,'Outil Recensement simplifié'!AU9,\"\")","v":""},{"$f":"IF('Outil Recensement simplifié'!AV9=\"Homme\",\"Male\",IF('Outil Recensement simplifié'!AV9=\"Femme\",\"Female\",IF('Outil Recensement simplifié'!AV9=\"H\",\"Male\",IF('Outil Recensement simplifié'!AV9=\"F\",\"Female\",\"\"))))","v":""},{"$f":"IF('Outil Recensement simplifié'!AW9=\"Oui\",\"Yes\",IF('Outil Recensement simplifié'!AW9=\"Non\",\"No\",IF('Outil Recensement simplifié'!AW9=\"O\",\"Yes\",IF('Outil Recensement simplifié'!AW9=\"N\",\"No\",\"\"))))","v":""},{"$f":"IF('Outil Recensement simplifié'!AX9=\"Oui\",\"Yes\",IF('Outil Recensement simplifié'!AX9=\"Non\",\"No\",IF('Outil Recensement simplifié'!AX9=\"O\",\"Yes\",IF('Outil Recensement simplifié'!AX9=\"N\",\"No\",\"\"))))","v":""},{"$f":"IF('Outil Recensement simplifié'!AY9>0,'Outil Recensement simplifié'!AY9,\"\")","v":""},{"$f":"IF('Outil Recensement simplifié'!AZ9>0,'Outil Recensement simplifié'!AZ9,\"\")","v":""},{"$f":"IF('Outil Recensement simplifié'!BA9>0,'Outil Recensement simplifié'!BA9,\"\")","v":""},{"$f":"IF('Outil Recensement simplifié'!BB9=\"Homme\",\"Male\",IF('Outil Recensement simplifié'!BB9=\"Femme\",\"Female\",IF('Outil Recensement simplifié'!BB9=\"H\",\"Male\",IF('Outil Recensement simplifié'!BB9=\"F\",\"Female\",\"\"))))","v":""},{"$f":"IF('Outil Recensement simplifié'!BC9=\"Oui\",\"Yes\",IF('Outil Recensement simplifié'!BC9=\"Non\",\"No\",IF('Outil Recensement simplifié'!BC9=\"O\",\"Yes\",IF('Outil Recensement simplifié'!BC9=\"N\",\"No\",\"\"))))","v":""},{"$f":"IF('Outil Recensement simplifié'!BD9=\"Oui\",\"Yes\",IF('Outil Recensement simplifié'!BD9=\"Non\",\"No\",IF('Outil Recensement simplifié'!BD9=\"O\",\"Yes\",IF('Outil Recensement simplifié'!BD9=\"N\",\"No\",\"\"))))","v":""},{"$f":"IF('Outil Recensement simplifié'!BE9>0,'Outil Recensement simplifié'!BE9,\"\")","v":""},{"$f":"IF('Outil Recensement simplifié'!BF9>0,'Outil Recensement simplifié'!BF9,\"\")","v":""},{"$f":"IF('Outil Recensement simplifié'!BG9>0,'Outil Recensement simplifié'!BG9,\"\")","v":""},{"$f":"IF('Outil Recensement simplifié'!BH9=\"Homme\",\"Male\",IF('Outil Recensement simplifié'!BH9=\"Femme\",\"Female\",IF('Outil Recensement simplifié'!BH9=\"H\",\"Male\",IF('Outil Recensement simplifié'!BH9=\"F\",\"Female\",\"\"))))","v":""},{"$f":"IF('Outil Recensement simplifié'!BI9=\"Oui\",\"Yes\",IF('Outil Recensement simplifié'!BI9=\"Non\",\"No\",IF('Outil Recensement simplifié'!BI9=\"O\",\"Yes\",IF('Outil Recensement simplifié'!BI9=\"N\",\"No\",\"\"))))","v":""},{"$f":"IF('Outil Recensement simplifié'!BJ9=\"Oui\",\"Yes\",IF('Outil Recensement simplifié'!BJ9=\"Non\",\"No\",IF('Outil Recensement simplifié'!BJ9=\"O\",\"Yes\",IF('Outil Recensement simplifié'!BJ9=\"N\",\"No\",\"\"))))","v":""},{"$f":"IF('Outil Recensement simplifié'!BK9>0,'Outil Recensement simplifié'!BK9,\"\")","v":""},{"$f":"IF('Outil Recensement simplifié'!BL9>0,'Outil Recensement simplifié'!BL9,\"\")","v":""},{"$f":"IF('Outil Recensement simplifié'!BM9>0,'Outil Recensement simplifié'!BM9,\"\")","v":""},{"$f":"IF('Outil Recensement simplifié'!BN9=\"Homme\",\"Male\",IF('Outil Recensement simplifié'!BN9=\"Femme\",\"Female\",IF('Outil Recensement simplifié'!BN9=\"H\",\"Male\",IF('Outil Recensement simplifié'!BN9=\"F\",\"Female\",\"\"))))","v":""},{"$f":"IF('Outil Recensement simplifié'!BO9=\"Oui\",\"Yes\",IF('Outil Recensement simplifié'!BO9=\"Non\",\"No\",IF('Outil Recensement simplifié'!BO9=\"O\",\"Yes\",IF('Outil Recensement simplifié'!BO9=\"N\",\"No\",\"\"))))","v":""},{"$f":"IF('Outil Recensement simplifié'!BP9=\"Oui\",\"Yes\",IF('Outil Recensement simplifié'!BP9=\"Non\",\"No\",IF('Outil Recensement simplifié'!BP9=\"O\",\"Yes\",IF('Outil Recensement simplifié'!BP9=\"N\",\"No\",\"\"))))","v":""},{"$f":"IF('Outil Recensement simplifié'!BQ9>0,'Outil Recensement simplifié'!BQ9,\"\")","v":""},{"$f":"IF('Outil Recensement simplifié'!BR9>0,'Outil Recensement simplifié'!BR9,\"\")","v":""},{"$f":"IF('Outil Recensement simplifié'!BS9>0,'Outil Recensement simplifié'!BS9,\"\")","v":""},{"$f":"IF('Outil Recensement simplifié'!BT9=\"Homme\",\"Male\",IF('Outil Recensement simplifié'!BT9=\"Femme\",\"Female\",IF('Outil Recensement simplifié'!BT9=\"H\",\"Male\",IF('Outil Recensement simplifié'!BT9=\"F\",\"Female\",\"\"))))","v":""},{"$f":"IF('Outil Recensement simplifié'!BU9=\"Oui\",\"Yes\",IF('Outil Recensement simplifié'!BU9=\"Non\",\"No\",IF('Outil Recensement simplifié'!BU9=\"O\",\"Yes\",IF('Outil Recensement simplifié'!BU9=\"N\",\"No\",\"\"))))","v":""},{"$f":"IF('Outil Recensement simplifié'!BV9=\"Oui\",\"Yes\",IF('Outil Recensement simplifié'!BV9=\"Non\",\"No\",IF('Outil Recensement simplifié'!BV9=\"O\",\"Yes\",IF('Outil Recensement simplifié'!BV9=\"N\",\"No\",\"\"))))","v":""},{"$f":"IF('Outil Recensement simplifié'!BW9>0,'Outil Recensement simplifié'!BW9,\"\")","v":""},{"$f":"IF('Outil Recensement simplifié'!BX9>0,'Outil Recensement simplifié'!BX9,\"\")","v":""},{"$f":"IF('Outil Recensement simplifié'!BY9>0,'Outil Recensement simplifié'!BY9,\"\")","v":""},{"$f":"IF('Outil Recensement simplifié'!BZ9=\"Homme\",\"Male\",IF('Outil Recensement simplifié'!BZ9=\"Femme\",\"Female\",IF('Outil Recensement simplifié'!BZ9=\"H\",\"Male\",IF('Outil Recensement simplifié'!BZ9=\"F\",\"Female\",\"\"))))","v":""},{"$f":"IF('Outil Recensement simplifié'!CA9=\"Oui\",\"Yes\",IF('Outil Recensement simplifié'!CA9=\"Non\",\"No\",IF('Outil Recensement simplifié'!CA9=\"O\",\"Yes\",IF('Outil Recensement simplifié'!CA9=\"N\",\"No\",\"\"))))","v":""},{"$f":"IF('Outil Recensement simplifié'!CB9=\"Oui\",\"Yes\",IF('Outil Recensement simplifié'!CB9=\"Non\",\"No\",IF('Outil Recensement simplifié'!CB9=\"O\",\"Yes\",IF('Outil Recensement simplifié'!CB9=\"N\",\"No\",\"\"))))","v":""},{"$f":"IF('Outil Recensement simplifié'!CH9>0,'Outil Recensement simplifié'!CH9,\"\")","v":"    "}]
[{"$f":"IF('Outil Recensement simplifié'!A10>0,'Outil Recensement simplifié'!A10,\"\")","v":""},{"$f":"IF('Outil Recensement simplifié'!B10>0,'Outil Recensement simplifié'!B10,\"\")","v":""},{"$f":"IF('Outil Recensement simplifié'!C10>0,'Outil Recensement simplifié'!C10,\"\")","v":""},{"$f":"IF('Outil Recensement simplifié'!D10>0,'Outil Recensement simplifié'!D10,\"\")","v":""},{"$f":"IF('Outil Recensement simplifié'!E10>0,TEXT('Outil Recensement simplifié'!E10,\"000\"),\"\")","v":""},{"$f":"IF('Outil Recensement simplifié'!F10>0,'Outil Recensement simplifié'!F10,\"\")","v":""},{"$f":"IF('Outil Recensement simplifié'!G10>0,'Outil Recensement simplifié'!G10,\"\")","v":""},{"$f":"IF('Outil Recensement simplifié'!I10>0,'Outil Recensement simplifié'!I10,\"\")","v":""},{"$f":"IF('Outil Recensement simplifié'!J10>0,'Outil Recensement simplifié'!J10,\"\")","v":""},{"$f":"IF('Outil Recensement simplifié'!K10>0,'Outil Recensement simplifié'!K10,\"\")","v":""},{"$f":"IF('Outil Recensement simplifié'!L10>0,'Outil Recensement simplifié'!L10,\"\")","v":""},{"$f":"IF('Outil Recensement simplifié'!M10=\"Homme\",\"Male\",IF('Outil Recensement simplifié'!M10=\"Femme\",\"Female\",IF('Outil Recensement simplifié'!M10=\"H\",\"Male\",IF('Outil Recensement simplifié'!M10=\"F\",\"Female\",\"\"))))","v":""},{"$f":"IF('Outil Recensement simplifié'!N10=\"Oui\",\"Yes\",IF('Outil Recensement simplifié'!N10=\"Non\",\"No\",IF('Outil Recensement simplifié'!N10=\"O\",\"Yes\",IF('Outil Recensement simplifié'!N10=\"N\",\"No\",\"\"))))","v":""},{"$f":"IF('Outil Recensement simplifié'!O10=\"Non\",\"Single\",IF('Outil Recensement simplifié'!O10=\"Oui\",\"Family\",IF('Outil Recensement simplifié'!O10=\"N\",\"Single\",IF('Outil Recensement simplifié'!O10=\"O\",\"Family\",IF('Outil Recensement simplifié'!O10=\"En vigueur\",\"Family\",\"\")))))","v":""},{"$f":"IF('Outil Recensement simplifié'!P10=\"Anglais\",\"English\",IF('Outil Recensement simplifié'!P10=\"Français\",\"French\",IF('Outil Recensement simplifié'!P10=\"A\",\"English\",IF('Outil Recensement simplifié'!P10=\"F\",\"French\",\"\"))))","v":""},{"$f":"IF('Outil Recensement simplifié'!Q10=\"Oui\",\"Yes\",IF('Outil Recensement simplifié'!Q10=\"Non\",\"No\",IF('Outil Recensement simplifié'!Q10=\"O\",\"Yes\",IF('Outil Recensement simplifié'!Q10=\"N\",\"No\",\"\"))))","v":""},{"$f":"IF('Outil Recensement simplifié'!R10>0,'Outil Recensement simplifié'!R10,\"\")","v":""},{"$f":"IF('Outil Recensement simplifié'!S10=\"Annuelle\",\"Annually\",IF('Outil Recensement simplifié'!S10=\"Mensuelle\",\"Monthly\",IF('Outil Recensement simplifié'!S10=\"Aux deux semaines\",\"Biweekly\",IF('Outil Recensement simplifié'!S10=\"Bimensuelle\",\"Semi-Monthly\",IF('Outil Recensement simplifié'!S10=\"Hebdomadaire\",\"Weekly\",IF('Outil Recensement simplifié'!S10=\"Horaire\",\"Hourly\",\"\"))))))","v":""},{"$f":"IF('Outil Recensement simplifié'!T10>0,'Outil Recensement simplifié'!T10,\"\")","v":""},{"$f":"IF('Outil Recensement simplifié'!U10>0,'Outil Recensement simplifié'!U10,\"\")","v":""},{"$f":"IF('Outil Recensement simplifié'!V10=\"Exemptée\",\"Yes\",\"\")","v":""},{"$f":"IF('Outil Recensement simplifié'!W10=\"Exemptée\",\"Yes\",\"\")","v":""},{"$f":"IF('Outil Recensement simplifié'!X10>0,'Outil Recensement simplifié'!X10,\"\")","v":""},{"$f":"IF('Outil Recensement simplifié'!Y10>0,'Outil Recensement simplifié'!Y10,\"\")","v":""},{"$f":"IF('Outil Recensement simplifié'!Z10>0,'Outil Recensement simplifié'!Z10,\"\")","v":""},{"$f":"IF('Outil Recensement simplifié'!AA10>0,'Outil Recensement simplifié'!AA10,\"\")","v":""},{"$f":"IF('Outil Recensement simplifié'!AB10>0,'Outil Recensement simplifié'!AB10,\"\")","v":""},{"$f":"IF('Outil Recensement simplifié'!AC10>0,'Outil Recensement simplifié'!AC10,\"\")","v":" "},{"$f":"IF('Outil Recensement simplifié'!AE10>0,'Outil Recensement simplifié'!AE10&\" \",\"\")&IF('Outil Recensement simplifié'!AD10>0,'Outil Recensement simplifié'!AD10,\"\")","v":""},null,{"$f":"IF('Outil Recensement simplifié'!AF10>0,'Outil Recensement simplifié'!AF10,\"\")","v":""},{"$f":"IF('Outil Recensement simplifié'!AG10>0,'Outil Recensement simplifié'!AG10,\"\")","v":""},{"$f":"IF('Outil Recensement simplifié'!AH10>0,'Outil Recensement simplifié'!AH10,\"\")","v":""},{"$f":"IF('Outil Recensement simplifié'!AI10>0,'Outil Recensement simplifié'!AI10,\"\")","v":""},{"$f":"IF('Outil Recensement simplifié'!AJ10>0,'Outil Recensement simplifié'!AJ10,\"\")","v":""},{"$f":"IF('Outil Recensement simplifié'!AK10>0,'Outil Recensement simplifié'!AK10,\"\")","v":""},{"$f":"IF('Outil Recensement simplifié'!AL10>0,'Outil Recensement simplifié'!AL10,\"\")","v":""},{"$f":"IF('Outil Recensement simplifié'!AM10>0,'Outil Recensement simplifié'!AM10,\"\")","v":""},{"$f":"IF('Outil Recensement simplifié'!AN10=\"Homme\",\"Male\",IF('Outil Recensement simplifié'!AN10=\"Femme\",\"Female\",IF('Outil Recensement simplifié'!AN10=\"H\",\"Male\",IF('Outil Recensement simplifié'!AN10=\"F\",\"Female\",\"\"))))","v":""},{"$f":"IF('Outil Recensement simplifié'!AO10=\"Individuelle\",\"Single\",IF('Outil Recensement simplifié'!AO10=\"Famille\",\"Family\",IF('Outil Recensement simplifié'!AO10=\"Individuel\",\"Single\",IF('Outil Recensement simplifié'!AO10=\"Familiale\",\"Family\",IF('Outil Recensement simplifié'!AO10=\"I\",\"Single\",IF('Outil Recensement simplifié'!AO10=\"F\",\"Family\",\"\"))))))","v":""},{"$f":"IF('Outil Recensement simplifié'!AP10=\"Individuelle\",\"Single\",IF('Outil Recensement simplifié'!AP10=\"Famille\",\"Family\",IF('Outil Recensement simplifié'!AP10=\"Individuel\",\"Single\",IF('Outil Recensement simplifié'!AP10=\"Familiale\",\"Family\",IF('Outil Recensement simplifié'!AP10=\"I\",\"Single\",IF('Outil Recensement simplifié'!AP10=\"F\",\"Family\",\"\"))))))","v":""},{"$f":"IF('Outil Recensement simplifié'!AQ10>0,'Outil Recensement simplifié'!AQ10,\"\")","v":""},{"$f":"IF('Outil Recensement simplifié'!AR10=\"Oui\",\"Yes\",IF('Outil Recensement simplifié'!AR10=\"Non\",\"No\",IF('Outil Recensement simplifié'!AR10=\"O\",\"Yes\",IF('Outil Recensement simplifié'!AR10=\"N\",\"No\",\"\"))))","v":""},{"$f":"IF('Outil Recensement simplifié'!AS10>0,'Outil Recensement simplifié'!AS10,\"\")","v":""},{"$f":"IF('Outil Recensement simplifié'!AT10>0,'Outil Recensement simplifié'!AT10,\"\")","v":""},{"$f":"IF('Outil Recensement simplifié'!AU10>0,'Outil Recensement simplifié'!AU10,\"\")","v":""},{"$f":"IF('Outil Recensement simplifié'!AV10=\"Homme\",\"Male\",IF('Outil Recensement simplifié'!AV10=\"Femme\",\"Female\",IF('Outil Recensement simplifié'!AV10=\"H\",\"Male\",IF('Outil Recensement simplifié'!AV10=\"F\",\"Female\",\"\"))))","v":""},{"$f":"IF('Outil Recensement simplifié'!AW10=\"Oui\",\"Yes\",IF('Outil Recensement simplifié'!AW10=\"Non\",\"No\",IF('Outil Recensement simplifié'!AW10=\"O\",\"Yes\",IF('Outil Recensement simplifié'!AW10=\"N\",\"No\",\"\"))))","v":""},{"$f":"IF('Outil Recensement simplifié'!AX10=\"Oui\",\"Yes\",IF('Outil Recensement simplifié'!AX10=\"Non\",\"No\",IF('Outil Recensement simplifié'!AX10=\"O\",\"Yes\",IF('Outil Recensement simplifié'!AX10=\"N\",\"No\",\"\"))))","v":""},{"$f":"IF('Outil Recensement simplifié'!AY10>0,'Outil Recensement simplifié'!AY10,\"\")","v":""},{"$f":"IF('Outil Recensement simplifié'!AZ10>0,'Outil Recensement simplifié'!AZ10,\"\")","v":""},{"$f":"IF('Outil Recensement simplifié'!BA10>0,'Outil Recensement simplifié'!BA10,\"\")","v":""},{"$f":"IF('Outil Recensement simplifié'!BB10=\"Homme\",\"Male\",IF('Outil Recensement simplifié'!BB10=\"Femme\",\"Female\",IF('Outil Recensement simplifié'!BB10=\"H\",\"Male\",IF('Outil Recensement simplifié'!BB10=\"F\",\"Female\",\"\"))))","v":""},{"$f":"IF('Outil Recensement simplifié'!BC10=\"Oui\",\"Yes\",IF('Outil Recensement simplifié'!BC10=\"Non\",\"No\",IF('Outil Recensement simplifié'!BC10=\"O\",\"Yes\",IF('Outil Recensement simplifié'!BC10=\"N\",\"No\",\"\"))))","v":""},{"$f":"IF('Outil Recensement simplifié'!BD10=\"Oui\",\"Yes\",IF('Outil Recensement simplifié'!BD10=\"Non\",\"No\",IF('Outil Recensement simplifié'!BD10=\"O\",\"Yes\",IF('Outil Recensement simplifié'!BD10=\"N\",\"No\",\"\"))))","v":""},{"$f":"IF('Outil Recensement simplifié'!BE10>0,'Outil Recensement simplifié'!BE10,\"\")","v":""},{"$f":"IF('Outil Recensement simplifié'!BF10>0,'Outil Recensement simplifié'!BF10,\"\")","v":""},{"$f":"IF('Outil Recensement simplifié'!BG10>0,'Outil Recensement simplifié'!BG10,\"\")","v":""},{"$f":"IF('Outil Recensement simplifié'!BH10=\"Homme\",\"Male\",IF('Outil Recensement simplifié'!BH10=\"Femme\",\"Female\",IF('Outil Recensement simplifié'!BH10=\"H\",\"Male\",IF('Outil Recensement simplifié'!BH10=\"F\",\"Female\",\"\"))))","v":""},{"$f":"IF('Outil Recensement simplifié'!BI10=\"Oui\",\"Yes\",IF('Outil Recensement simplifié'!BI10=\"Non\",\"No\",IF('Outil Recensement simplifié'!BI10=\"O\",\"Yes\",IF('Outil Recensement simplifié'!BI10=\"N\",\"No\",\"\"))))","v":""},{"$f":"IF('Outil Recensement simplifié'!BJ10=\"Oui\",\"Yes\",IF('Outil Recensement simplifié'!BJ10=\"Non\",\"No\",IF('Outil Recensement simplifié'!BJ10=\"O\",\"Yes\",IF('Outil Recensement simplifié'!BJ10=\"N\",\"No\",\"\"))))","v":""},{"$f":"IF('Outil Recensement simplifié'!BK10>0,'Outil Recensement simplifié'!BK10,\"\")","v":""},{"$f":"IF('Outil Recensement simplifié'!BL10>0,'Outil Recensement simplifié'!BL10,\"\")","v":""},{"$f":"IF('Outil Recensement simplifié'!BM10>0,'Outil Recensement simplifié'!BM10,\"\")","v":""},{"$f":"IF('Outil Recensement simplifié'!BN10=\"Homme\",\"Male\",IF('Outil Recensement simplifié'!BN10=\"Femme\",\"Female\",IF('Outil Recensement simplifié'!BN10=\"H\",\"Male\",IF('Outil Recensement simplifié'!BN10=\"F\",\"Female\",\"\"))))","v":""},{"$f":"IF('Outil Recensement simplifié'!BO10=\"Oui\",\"Yes\",IF('Outil Recensement simplifié'!BO10=\"Non\",\"No\",IF('Outil Recensement simplifié'!BO10=\"O\",\"Yes\",IF('Outil Recensement simplifié'!BO10=\"N\",\"No\",\"\"))))","v":""},{"$f":"IF('Outil Recensement simplifié'!BP10=\"Oui\",\"Yes\",IF('Outil Recensement simplifié'!BP10=\"Non\",\"No\",IF('Outil Recensement simplifié'!BP10=\"O\",\"Yes\",IF('Outil Recensement simplifié'!BP10=\"N\",\"No\",\"\"))))","v":""},{"$f":"IF('Outil Recensement simplifié'!BQ10>0,'Outil Recensement simplifié'!BQ10,\"\")","v":""},{"$f":"IF('Outil Recensement simplifié'!BR10>0,'Outil Recensement simplifié'!BR10,\"\")","v":""},{"$f":"IF('Outil Recensement simplifié'!BS10>0,'Outil Recensement simplifié'!BS10,\"\")","v":""},{"$f":"IF('Outil Recensement simplifié'!BT10=\"Homme\",\"Male\",IF('Outil Recensement simplifié'!BT10=\"Femme\",\"Female\",IF('Outil Recensement simplifié'!BT10=\"H\",\"Male\",IF('Outil Recensement simplifié'!BT10=\"F\",\"Female\",\"\"))))","v":""},{"$f":"IF('Outil Recensement simplifié'!BU10=\"Oui\",\"Yes\",IF('Outil Recensement simplifié'!BU10=\"Non\",\"No\",IF('Outil Recensement simplifié'!BU10=\"O\",\"Yes\",IF('Outil Recensement simplifié'!BU10=\"N\",\"No\",\"\"))))","v":""},{"$f":"IF('Outil Recensement simplifié'!BV10=\"Oui\",\"Yes\",IF('Outil Recensement simplifié'!BV10=\"Non\",\"No\",IF('Outil Recensement simplifié'!BV10=\"O\",\"Yes\",IF('Outil Recensement simplifié'!BV10=\"N\",\"No\",\"\"))))","v":""},{"$f":"IF('Outil Recensement simplifié'!BW10>0,'Outil Recensement simplifié'!BW10,\"\")","v":""},{"$f":"IF('Outil Recensement simplifié'!BX10>0,'Outil Recensement simplifié'!BX10,\"\")","v":""},{"$f":"IF('Outil Recensement simplifié'!BY10>0,'Outil Recensement simplifié'!BY10,\"\")","v":""},{"$f":"IF('Outil Recensement simplifié'!BZ10=\"Homme\",\"Male\",IF('Outil Recensement simplifié'!BZ10=\"Femme\",\"Female\",IF('Outil Recensement simplifié'!BZ10=\"H\",\"Male\",IF('Outil Recensement simplifié'!BZ10=\"F\",\"Female\",\"\"))))","v":""},{"$f":"IF('Outil Recensement simplifié'!CA10=\"Oui\",\"Yes\",IF('Outil Recensement simplifié'!CA10=\"Non\",\"No\",IF('Outil Recensement simplifié'!CA10=\"O\",\"Yes\",IF('Outil Recensement simplifié'!CA10=\"N\",\"No\",\"\"))))","v":""},{"$f":"IF('Outil Recensement simplifié'!CB10=\"Oui\",\"Yes\",IF('Outil Recensement simplifié'!CB10=\"Non\",\"No\",IF('Outil Recensement simplifié'!CB10=\"O\",\"Yes\",IF('Outil Recensement simplifié'!CB10=\"N\",\"No\",\"\"))))","v":""},{"$f":"IF('Outil Recensement simplifié'!CH10>0,'Outil Recensement simplifié'!CH10,\"\")","v":"    "}]
[{"$f":"IF('Outil Recensement simplifié'!A11>0,'Outil Recensement simplifié'!A11,\"\")","v":""},{"$f":"IF('Outil Recensement simplifié'!B11>0,'Outil Recensement simplifié'!B11,\"\")","v":""},{"$f":"IF('Outil Recensement simplifié'!C11>0,'Outil Recensement simplifié'!C11,\"\")","v":""},{"$f":"IF('Outil Recensement simplifié'!D11>0,'Outil Recensement simplifié'!D11,\"\")","v":""},{"$f":"IF('Outil Recensement simplifié'!E11>0,TEXT('Outil Recensement simplifié'!E11,\"000\"),\"\")","v":""},{"$f":"IF('Outil Recensement simplifié'!F11>0,'Outil Recensement simplifié'!F11,\"\")","v":""},{"$f":"IF('Outil Recensement simplifié'!G11>0,'Outil Recensement simplifié'!G11,\"\")","v":""},{"$f":"IF('Outil Recensement simplifié'!I11>0,'Outil Recensement simplifié'!I11,\"\")","v":""},{"$f":"IF('Outil Recensement simplifié'!J11>0,'Outil Recensement simplifié'!J11,\"\")","v":""},{"$f":"IF('Outil Recensement simplifié'!K11>0,'Outil Recensement simplifié'!K11,\"\")","v":""},{"$f":"IF('Outil Recensement simplifié'!L11>0,'Outil Recensement simplifié'!L11,\"\")","v":""},{"$f":"IF('Outil Recensement simplifié'!M11=\"Homme\",\"Male\",IF('Outil Recensement simplifié'!M11=\"Femme\",\"Female\",IF('Outil Recensement simplifié'!M11=\"H\",\"Male\",IF('Outil Recensement simplifié'!M11=\"F\",\"Female\",\"\"))))","v":""},{"$f":"IF('Outil Recensement simplifié'!N11=\"Oui\",\"Yes\",IF('Outil Recensement simplifié'!N11=\"Non\",\"No\",IF('Outil Recensement simplifié'!N11=\"O\",\"Yes\",IF('Outil Recensement simplifié'!N11=\"N\",\"No\",\"\"))))","v":""},{"$f":"IF('Outil Recensement simplifié'!O11=\"Non\",\"Single\",IF('Outil Recensement simplifié'!O11=\"Oui\",\"Family\",IF('Outil Recensement simplifié'!O11=\"N\",\"Single\",IF('Outil Recensement simplifié'!O11=\"O\",\"Family\",IF('Outil Recensement simplifié'!O11=\"En vigueur\",\"Family\",\"\")))))","v":""},{"$f":"IF('Outil Recensement simplifié'!P11=\"Anglais\",\"English\",IF('Outil Recensement simplifié'!P11=\"Français\",\"French\",IF('Outil Recensement simplifié'!P11=\"A\",\"English\",IF('Outil Recensement simplifié'!P11=\"F\",\"French\",\"\"))))","v":""},{"$f":"IF('Outil Recensement simplifié'!Q11=\"Oui\",\"Yes\",IF('Outil Recensement simplifié'!Q11=\"Non\",\"No\",IF('Outil Recensement simplifié'!Q11=\"O\",\"Yes\",IF('Outil Recensement simplifié'!Q11=\"N\",\"No\",\"\"))))","v":""},{"$f":"IF('Outil Recensement simplifié'!R11>0,'Outil Recensement simplifié'!R11,\"\")","v":""},{"$f":"IF('Outil Recensement simplifié'!S11=\"Annuelle\",\"Annually\",IF('Outil Recensement simplifié'!S11=\"Mensuelle\",\"Monthly\",IF('Outil Recensement simplifié'!S11=\"Aux deux semaines\",\"Biweekly\",IF('Outil Recensement simplifié'!S11=\"Bimensuelle\",\"Semi-Monthly\",IF('Outil Recensement simplifié'!S11=\"Hebdomadaire\",\"Weekly\",IF('Outil Recensement simplifié'!S11=\"Horaire\",\"Hourly\",\"\"))))))","v":""},{"$f":"IF('Outil Recensement simplifié'!T11>0,'Outil Recensement simplifié'!T11,\"\")","v":""},{"$f":"IF('Outil Recensement simplifié'!U11>0,'Outil Recensement simplifié'!U11,\"\")","v":""},{"$f":"IF('Outil Recensement simplifié'!V11=\"Exemptée\",\"Yes\",\"\")","v":""},{"$f":"IF('Outil Recensement simplifié'!W11=\"Exemptée\",\"Yes\",\"\")","v":""},{"$f":"IF('Outil Recensement simplifié'!X11>0,'Outil Recensement simplifié'!X11,\"\")","v":""},{"$f":"IF('Outil Recensement simplifié'!Y11>0,'Outil Recensement simplifié'!Y11,\"\")","v":""},{"$f":"IF('Outil Recensement simplifié'!Z11>0,'Outil Recensement simplifié'!Z11,\"\")","v":""},{"$f":"IF('Outil Recensement simplifié'!AA11>0,'Outil Recensement simplifié'!AA11,\"\")","v":""},{"$f":"IF('Outil Recensement simplifié'!AB11>0,'Outil Recensement simplifié'!AB11,\"\")","v":""},{"$f":"IF('Outil Recensement simplifié'!AC11>0,'Outil Recensement simplifié'!AC11,\"\")","v":" "},{"$f":"IF('Outil Recensement simplifié'!AE11>0,'Outil Recensement simplifié'!AE11&\" \",\"\")&IF('Outil Recensement simplifié'!AD11>0,'Outil Recensement simplifié'!AD11,\"\")","v":""},null,{"$f":"IF('Outil Recensement simplifié'!AF11>0,'Outil Recensement simplifié'!AF11,\"\")","v":""},{"$f":"IF('Outil Recensement simplifié'!AG11>0,'Outil Recensement simplifié'!AG11,\"\")","v":""},{"$f":"IF('Outil Recensement simplifié'!AH11>0,'Outil Recensement simplifié'!AH11,\"\")","v":""},{"$f":"IF('Outil Recensement simplifié'!AI11>0,'Outil Recensement simplifié'!AI11,\"\")","v":""},{"$f":"IF('Outil Recensement simplifié'!AJ11>0,'Outil Recensement simplifié'!AJ11,\"\")","v":""},{"$f":"IF('Outil Recensement simplifié'!AK11>0,'Outil Recensement simplifié'!AK11,\"\")","v":""},{"$f":"IF('Outil Recensement simplifié'!AL11>0,'Outil Recensement simplifié'!AL11,\"\")","v":""},{"$f":"IF('Outil Recensement simplifié'!AM11>0,'Outil Recensement simplifié'!AM11,\"\")","v":""},{"$f":"IF('Outil Recensement simplifié'!AN11=\"Homme\",\"Male\",IF('Outil Recensement simplifié'!AN11=\"Femme\",\"Female\",IF('Outil Recensement simplifié'!AN11=\"H\",\"Male\",IF('Outil Recensement simplifié'!AN11=\"F\",\"Female\",\"\"))))","v":""},{"$f":"IF('Outil Recensement simplifié'!AO11=\"Individuelle\",\"Single\",IF('Outil Recensement simplifié'!AO11=\"Famille\",\"Family\",IF('Outil Recensement simplifié'!AO11=\"Individuel\",\"Single\",IF('Outil Recensement simplifié'!AO11=\"Familiale\",\"Family\",IF('Outil Recensement simplifié'!AO11=\"I\",\"Single\",IF('Outil Recensement simplifié'!AO11=\"F\",\"Family\",\"\"))))))","v":""},{"$f":"IF('Outil Recensement simplifié'!AP11=\"Individuelle\",\"Single\",IF('Outil Recensement simplifié'!AP11=\"Famille\",\"Family\",IF('Outil Recensement simplifié'!AP11=\"Individuel\",\"Single\",IF('Outil Recensement simplifié'!AP11=\"Familiale\",\"Family\",IF('Outil Recensement simplifié'!AP11=\"I\",\"Single\",IF('Outil Recensement simplifié'!AP11=\"F\",\"Family\",\"\"))))))","v":""},{"$f":"IF('Outil Recensement simplifié'!AQ11>0,'Outil Recensement simplifié'!AQ11,\"\")","v":""},{"$f":"IF('Outil Recensement simplifié'!AR11=\"Oui\",\"Yes\",IF('Outil Recensement simplifié'!AR11=\"Non\",\"No\",IF('Outil Recensement simplifié'!AR11=\"O\",\"Yes\",IF('Outil Recensement simplifié'!AR11=\"N\",\"No\",\"\"))))","v":""},{"$f":"IF('Outil Recensement simplifié'!AS11>0,'Outil Recensement simplifié'!AS11,\"\")","v":""},{"$f":"IF('Outil Recensement simplifié'!AT11>0,'Outil Recensement simplifié'!AT11,\"\")","v":""},{"$f":"IF('Outil Recensement simplifié'!AU11>0,'Outil Recensement simplifié'!AU11,\"\")","v":""},{"$f":"IF('Outil Recensement simplifié'!AV11=\"Homme\",\"Male\",IF('Outil Recensement simplifié'!AV11=\"Femme\",\"Female\",IF('Outil Recensement simplifié'!AV11=\"H\",\"Male\",IF('Outil Recensement simplifié'!AV11=\"F\",\"Female\",\"\"))))","v":""},{"$f":"IF('Outil Recensement simplifié'!AW11=\"Oui\",\"Yes\",IF('Outil Recensement simplifié'!AW11=\"Non\",\"No\",IF('Outil Recensement simplifié'!AW11=\"O\",\"Yes\",IF('Outil Recensement simplifié'!AW11=\"N\",\"No\",\"\"))))","v":""},{"$f":"IF('Outil Recensement simplifié'!AX11=\"Oui\",\"Yes\",IF('Outil Recensement simplifié'!AX11=\"Non\",\"No\",IF('Outil Recensement simplifié'!AX11=\"O\",\"Yes\",IF('Outil Recensement simplifié'!AX11=\"N\",\"No\",\"\"))))","v":""},{"$f":"IF('Outil Recensement simplifié'!AY11>0,'Outil Recensement simplifié'!AY11,\"\")","v":""},{"$f":"IF('Outil Recensement simplifié'!AZ11>0,'Outil Recensement simplifié'!AZ11,\"\")","v":""},{"$f":"IF('Outil Recensement simplifié'!BA11>0,'Outil Recensement simplifié'!BA11,\"\")","v":""},{"$f":"IF('Outil Recensement simplifié'!BB11=\"Homme\",\"Male\",IF('Outil Recensement simplifié'!BB11=\"Femme\",\"Female\",IF('Outil Recensement simplifié'!BB11=\"H\",\"Male\",IF('Outil Recensement simplifié'!BB11=\"F\",\"Female\",\"\"))))","v":""},{"$f":"IF('Outil Recensement simplifié'!BC11=\"Oui\",\"Yes\",IF('Outil Recensement simplifié'!BC11=\"Non\",\"No\",IF('Outil Recensement simplifié'!BC11=\"O\",\"Yes\",IF('Outil Recensement simplifié'!BC11=\"N\",\"No\",\"\"))))","v":""},{"$f":"IF('Outil Recensement simplifié'!BD11=\"Oui\",\"Yes\",IF('Outil Recensement simplifié'!BD11=\"Non\",\"No\",IF('Outil Recensement simplifié'!BD11=\"O\",\"Yes\",IF('Outil Recensement simplifié'!BD11=\"N\",\"No\",\"\"))))","v":""},{"$f":"IF('Outil Recensement simplifié'!BE11>0,'Outil Recensement simplifié'!BE11,\"\")","v":""},{"$f":"IF('Outil Recensement simplifié'!BF11>0,'Outil Recensement simplifié'!BF11,\"\")","v":""},{"$f":"IF('Outil Recensement simplifié'!BG11>0,'Outil Recensement simplifié'!BG11,\"\")","v":""},{"$f":"IF('Outil Recensement simplifié'!BH11=\"Homme\",\"Male\",IF('Outil Recensement simplifié'!BH11=\"Femme\",\"Female\",IF('Outil Recensement simplifié'!BH11=\"H\",\"Male\",IF('Outil Recensement simplifié'!BH11=\"F\",\"Female\",\"\"))))","v":""},{"$f":"IF('Outil Recensement simplifié'!BI11=\"Oui\",\"Yes\",IF('Outil Recensement simplifié'!BI11=\"Non\",\"No\",IF('Outil Recensement simplifié'!BI11=\"O\",\"Yes\",IF('Outil Recensement simplifié'!BI11=\"N\",\"No\",\"\"))))","v":""},{"$f":"IF('Outil Recensement simplifié'!BJ11=\"Oui\",\"Yes\",IF('Outil Recensement simplifié'!BJ11=\"Non\",\"No\",IF('Outil Recensement simplifié'!BJ11=\"O\",\"Yes\",IF('Outil Recensement simplifié'!BJ11=\"N\",\"No\",\"\"))))","v":""},{"$f":"IF('Outil Recensement simplifié'!BK11>0,'Outil Recensement simplifié'!BK11,\"\")","v":""},{"$f":"IF('Outil Recensement simplifié'!BL11>0,'Outil Recensement simplifié'!BL11,\"\")","v":""},{"$f":"IF('Outil Recensement simplifié'!BM11>0,'Outil Recensement simplifié'!BM11,\"\")","v":""},{"$f":"IF('Outil Recensement simplifié'!BN11=\"Homme\",\"Male\",IF('Outil Recensement simplifié'!BN11=\"Femme\",\"Female\",IF('Outil Recensement simplifié'!BN11=\"H\",\"Male\",IF('Outil Recensement simplifié'!BN11=\"F\",\"Female\",\"\"))))","v":""},{"$f":"IF('Outil Recensement simplifié'!BO11=\"Oui\",\"Yes\",IF('Outil Recensement simplifié'!BO11=\"Non\",\"No\",IF('Outil Recensement simplifié'!BO11=\"O\",\"Yes\",IF('Outil Recensement simplifié'!BO11=\"N\",\"No\",\"\"))))","v":""},{"$f":"IF('Outil Recensement simplifié'!BP11=\"Oui\",\"Yes\",IF('Outil Recensement simplifié'!BP11=\"Non\",\"No\",IF('Outil Recensement simplifié'!BP11=\"O\",\"Yes\",IF('Outil Recensement simplifié'!BP11=\"N\",\"No\",\"\"))))","v":""},{"$f":"IF('Outil Recensement simplifié'!BQ11>0,'Outil Recensement simplifié'!BQ11,\"\")","v":""},{"$f":"IF('Outil Recensement simplifié'!BR11>0,'Outil Recensement simplifié'!BR11,\"\")","v":""},{"$f":"IF('Outil Recensement simplifié'!BS11>0,'Outil Recensement simplifié'!BS11,\"\")","v":""},{"$f":"IF('Outil Recensement simplifié'!BT11=\"Homme\",\"Male\",IF('Outil Recensement simplifié'!BT11=\"Femme\",\"Female\",IF('Outil Recensement simplifié'!BT11=\"H\",\"Male\",IF('Outil Recensement simplifié'!BT11=\"F\",\"Female\",\"\"))))","v":""},{"$f":"IF('Outil Recensement simplifié'!BU11=\"Oui\",\"Yes\",IF('Outil Recensement simplifié'!BU11=\"Non\",\"No\",IF('Outil Recensement simplifié'!BU11=\"O\",\"Yes\",IF('Outil Recensement simplifié'!BU11=\"N\",\"No\",\"\"))))","v":""},{"$f":"IF('Outil Recensement simplifié'!BV11=\"Oui\",\"Yes\",IF('Outil Recensement simplifié'!BV11=\"Non\",\"No\",IF('Outil Recensement simplifié'!BV11=\"O\",\"Yes\",IF('Outil Recensement simplifié'!BV11=\"N\",\"No\",\"\"))))","v":""},{"$f":"IF('Outil Recensement simplifié'!BW11>0,'Outil Recensement simplifié'!BW11,\"\")","v":""},{"$f":"IF('Outil Recensement simplifié'!BX11>0,'Outil Recensement simplifié'!BX11,\"\")","v":""},{"$f":"IF('Outil Recensement simplifié'!BY11>0,'Outil Recensement simplifié'!BY11,\"\")","v":""},{"$f":"IF('Outil Recensement simplifié'!BZ11=\"Homme\",\"Male\",IF('Outil Recensement simplifié'!BZ11=\"Femme\",\"Female\",IF('Outil Recensement simplifié'!BZ11=\"H\",\"Male\",IF('Outil Recensement simplifié'!BZ11=\"F\",\"Female\",\"\"))))","v":""},{"$f":"IF('Outil Recensement simplifié'!CA11=\"Oui\",\"Yes\",IF('Outil Recensement simplifié'!CA11=\"Non\",\"No\",IF('Outil Recensement simplifié'!CA11=\"O\",\"Yes\",IF('Outil Recensement simplifié'!CA11=\"N\",\"No\",\"\"))))","v":""},{"$f":"IF('Outil Recensement simplifié'!CB11=\"Oui\",\"Yes\",IF('Outil Recensement simplifié'!CB11=\"Non\",\"No\",IF('Outil Recensement simplifié'!CB11=\"O\",\"Yes\",IF('Outil Recensement simplifié'!CB11=\"N\",\"No\",\"\"))))","v":""},{"$f":"IF('Outil Recensement simplifié'!CH11>0,'Outil Recensement simplifié'!CH11,\"\")","v":"    "}]
[{"$f":"IF('Outil Recensement simplifié'!A12>0,'Outil Recensement simplifié'!A12,\"\")","v":""},{"$f":"IF('Outil Recensement simplifié'!B12>0,'Outil Recensement simplifié'!B12,\"\")","v":""},{"$f":"IF('Outil Recensement simplifié'!C12>0,'Outil Recensement simplifié'!C12,\"\")","v":""},{"$f":"IF('Outil Recensement simplifié'!D12>0,'Outil Recensement simplifié'!D12,\"\")","v":""},{"$f":"IF('Outil Recensement simplifié'!E12>0,TEXT('Outil Recensement simplifié'!E12,\"000\"),\"\")","v":""},{"$f":"IF('Outil Recensement simplifié'!F12>0,'Outil Recensement simplifié'!F12,\"\")","v":""},{"$f":"IF('Outil Recensement simplifié'!G12>0,'Outil Recensement simplifié'!G12,\"\")","v":""},{"$f":"IF('Outil Recensement simplifié'!I12>0,'Outil Recensement simplifié'!I12,\"\")","v":""},{"$f":"IF('Outil Recensement simplifié'!J12>0,'Outil Recensement simplifié'!J12,\"\")","v":""},{"$f":"IF('Outil Recensement simplifié'!K12>0,'Outil Recensement simplifié'!K12,\"\")","v":""},{"$f":"IF('Outil Recensement simplifié'!L12>0,'Outil Recensement simplifié'!L12,\"\")","v":""},{"$f":"IF('Outil Recensement simplifié'!M12=\"Homme\",\"Male\",IF('Outil Recensement simplifié'!M12=\"Femme\",\"Female\",IF('Outil Recensement simplifié'!M12=\"H\",\"Male\",IF('Outil Recensement simplifié'!M12=\"F\",\"Female\",\"\"))))","v":""},{"$f":"IF('Outil Recensement simplifié'!N12=\"Oui\",\"Yes\",IF('Outil Recensement simplifié'!N12=\"Non\",\"No\",IF('Outil Recensement simplifié'!N12=\"O\",\"Yes\",IF('Outil Recensement simplifié'!N12=\"N\",\"No\",\"\"))))","v":""},{"$f":"IF('Outil Recensement simplifié'!O12=\"Non\",\"Single\",IF('Outil Recensement simplifié'!O12=\"Oui\",\"Family\",IF('Outil Recensement simplifié'!O12=\"N\",\"Single\",IF('Outil Recensement simplifié'!O12=\"O\",\"Family\",IF('Outil Recensement simplifié'!O12=\"En vigueur\",\"Family\",\"\")))))","v":""},{"$f":"IF('Outil Recensement simplifié'!P12=\"Anglais\",\"English\",IF('Outil Recensement simplifié'!P12=\"Français\",\"French\",IF('Outil Recensement simplifié'!P12=\"A\",\"English\",IF('Outil Recensement simplifié'!P12=\"F\",\"French\",\"\"))))","v":""},{"$f":"IF('Outil Recensement simplifié'!Q12=\"Oui\",\"Yes\",IF('Outil Recensement simplifié'!Q12=\"Non\",\"No\",IF('Outil Recensement simplifié'!Q12=\"O\",\"Yes\",IF('Outil Recensement simplifié'!Q12=\"N\",\"No\",\"\"))))","v":""},{"$f":"IF('Outil Recensement simplifié'!R12>0,'Outil Recensement simplifié'!R12,\"\")","v":""},{"$f":"IF('Outil Recensement simplifié'!S12=\"Annuelle\",\"Annually\",IF('Outil Recensement simplifié'!S12=\"Mensuelle\",\"Monthly\",IF('Outil Recensement simplifié'!S12=\"Aux deux semaines\",\"Biweekly\",IF('Outil Recensement simplifié'!S12=\"Bimensuelle\",\"Semi-Monthly\",IF('Outil Recensement simplifié'!S12=\"Hebdomadaire\",\"Weekly\",IF('Outil Recensement simplifié'!S12=\"Horaire\",\"Hourly\",\"\"))))))","v":""},{"$f":"IF('Outil Recensement simplifié'!T12>0,'Outil Recensement simplifié'!T12,\"\")","v":""},{"$f":"IF('Outil Recensement simplifié'!U12>0,'Outil Recensement simplifié'!U12,\"\")","v":""},{"$f":"IF('Outil Recensement simplifié'!V12=\"Exemptée\",\"Yes\",\"\")","v":""},{"$f":"IF('Outil Recensement simplifié'!W12=\"Exemptée\",\"Yes\",\"\")","v":""},{"$f":"IF('Outil Recensement simplifié'!X12>0,'Outil Recensement simplifié'!X12,\"\")","v":""},{"$f":"IF('Outil Recensement simplifié'!Y12>0,'Outil Recensement simplifié'!Y12,\"\")","v":""},{"$f":"IF('Outil Recensement simplifié'!Z12>0,'Outil Recensement simplifié'!Z12,\"\")","v":""},{"$f":"IF('Outil Recensement simplifié'!AA12>0,'Outil Recensement simplifié'!AA12,\"\")","v":""},{"$f":"IF('Outil Recensement simplifié'!AB12>0,'Outil Recensement simplifié'!AB12,\"\")","v":""},{"$f":"IF('Outil Recensement simplifié'!AC12>0,'Outil Recensement simplifié'!AC12,\"\")","v":" "},{"$f":"IF('Outil Recensement simplifié'!AE12>0,'Outil Recensement simplifié'!AE12&\" \",\"\")&IF('Outil Recensement simplifié'!AD12>0,'Outil Recensement simplifié'!AD12,\"\")","v":""},null,{"$f":"IF('Outil Recensement simplifié'!AF12>0,'Outil Recensement simplifié'!AF12,\"\")","v":""},{"$f":"IF('Outil Recensement simplifié'!AG12>0,'Outil Recensement simplifié'!AG12,\"\")","v":""},{"$f":"IF('Outil Recensement simplifié'!AH12>0,'Outil Recensement simplifié'!AH12,\"\")","v":""},{"$f":"IF('Outil Recensement simplifié'!AI12>0,'Outil Recensement simplifié'!AI12,\"\")","v":""},{"$f":"IF('Outil Recensement simplifié'!AJ12>0,'Outil Recensement simplifié'!AJ12,\"\")","v":""},{"$f":"IF('Outil Recensement simplifié'!AK12>0,'Outil Recensement simplifié'!AK12,\"\")","v":""},{"$f":"IF('Outil Recensement simplifié'!AL12>0,'Outil Recensement simplifié'!AL12,\"\")","v":""},{"$f":"IF('Outil Recensement simplifié'!AM12>0,'Outil Recensement simplifié'!AM12,\"\")","v":""},{"$f":"IF('Outil Recensement simplifié'!AN12=\"Homme\",\"Male\",IF('Outil Recensement simplifié'!AN12=\"Femme\",\"Female\",IF('Outil Recensement simplifié'!AN12=\"H\",\"Male\",IF('Outil Recensement simplifié'!AN12=\"F\",\"Female\",\"\"))))","v":""},{"$f":"IF('Outil Recensement simplifié'!AO12=\"Individuelle\",\"Single\",IF('Outil Recensement simplifié'!AO12=\"Famille\",\"Family\",IF('Outil Recensement simplifié'!AO12=\"Individuel\",\"Single\",IF('Outil Recensement simplifié'!AO12=\"Familiale\",\"Family\",IF('Outil Recensement simplifié'!AO12=\"I\",\"Single\",IF('Outil Recensement simplifié'!AO12=\"F\",\"Family\",\"\"))))))","v":""},{"$f":"IF('Outil Recensement simplifié'!AP12=\"Individuelle\",\"Single\",IF('Outil Recensement simplifié'!AP12=\"Famille\",\"Family\",IF('Outil Recensement simplifié'!AP12=\"Individuel\",\"Single\",IF('Outil Recensement simplifié'!AP12=\"Familiale\",\"Family\",IF('Outil Recensement simplifié'!AP12=\"I\",\"Single\",IF('Outil Recensement simplifié'!AP12=\"F\",\"Family\",\"\"))))))","v":""},{"$f":"IF('Outil Recensement simplifié'!AQ12>0,'Outil Recensement simplifié'!AQ12,\"\")","v":""},{"$f":"IF('Outil Recensement simplifié'!AR12=\"Oui\",\"Yes\",IF('Outil Recensement simplifié'!AR12=\"Non\",\"No\",IF('Outil Recensement simplifié'!AR12=\"O\",\"Yes\",IF('Outil Recensement simplifié'!AR12=\"N\",\"No\",\"\"))))","v":""},{"$f":"IF('Outil Recensement simplifié'!AS12>0,'Outil Recensement simplifié'!AS12,\"\")","v":""},{"$f":"IF('Outil Recensement simplifié'!AT12>0,'Outil Recensement simplifié'!AT12,\"\")","v":""},{"$f":"IF('Outil Recensement simplifié'!AU12>0,'Outil Recensement simplifié'!AU12,\"\")","v":""},{"$f":"IF('Outil Recensement simplifié'!AV12=\"Homme\",\"Male\",IF('Outil Recensement simplifié'!AV12=\"Femme\",\"Female\",IF('Outil Recensement simplifié'!AV12=\"H\",\"Male\",IF('Outil Recensement simplifié'!AV12=\"F\",\"Female\",\"\"))))","v":""},{"$f":"IF('Outil Recensement simplifié'!AW12=\"Oui\",\"Yes\",IF('Outil Recensement simplifié'!AW12=\"Non\",\"No\",IF('Outil Recensement simplifié'!AW12=\"O\",\"Yes\",IF('Outil Recensement simplifié'!AW12=\"N\",\"No\",\"\"))))","v":""},{"$f":"IF('Outil Recensement simplifié'!AX12=\"Oui\",\"Yes\",IF('Outil Recensement simplifié'!AX12=\"Non\",\"No\",IF('Outil Recensement simplifié'!AX12=\"O\",\"Yes\",IF('Outil Recensement simplifié'!AX12=\"N\",\"No\",\"\"))))","v":""},{"$f":"IF('Outil Recensement simplifié'!AY12>0,'Outil Recensement simplifié'!AY12,\"\")","v":""},{"$f":"IF('Outil Recensement simplifié'!AZ12>0,'Outil Recensement simplifié'!AZ12,\"\")","v":""},{"$f":"IF('Outil Recensement simplifié'!BA12>0,'Outil Recensement simplifié'!BA12,\"\")","v":""},{"$f":"IF('Outil Recensement simplifié'!BB12=\"Homme\",\"Male\",IF('Outil Recensement simplifié'!BB12=\"Femme\",\"Female\",IF('Outil Recensement simplifié'!BB12=\"H\",\"Male\",IF('Outil Recensement simplifié'!BB12=\"F\",\"Female\",\"\"))))","v":""},{"$f":"IF('Outil Recensement simplifié'!BC12=\"Oui\",\"Yes\",IF('Outil Recensement simplifié'!BC12=\"Non\",\"No\",IF('Outil Recensement simplifié'!BC12=\"O\",\"Yes\",IF('Outil Recensement simplifié'!BC12=\"N\",\"No\",\"\"))))","v":""},{"$f":"IF('Outil Recensement simplifié'!BD12=\"Oui\",\"Yes\",IF('Outil Recensement simplifié'!BD12=\"Non\",\"No\",IF('Outil Recensement simplifié'!BD12=\"O\",\"Yes\",IF('Outil Recensement simplifié'!BD12=\"N\",\"No\",\"\"))))","v":""},{"$f":"IF('Outil Recensement simplifié'!BE12>0,'Outil Recensement simplifié'!BE12,\"\")","v":""},{"$f":"IF('Outil Recensement simplifié'!BF12>0,'Outil Recensement simplifié'!BF12,\"\")","v":""},{"$f":"IF('Outil Recensement simplifié'!BG12>0,'Outil Recensement simplifié'!BG12,\"\")","v":""},{"$f":"IF('Outil Recensement simplifié'!BH12=\"Homme\",\"Male\",IF('Outil Recensement simplifié'!BH12=\"Femme\",\"Female\",IF('Outil Recensement simplifié'!BH12=\"H\",\"Male\",IF('Outil Recensement simplifié'!BH12=\"F\",\"Female\",\"\"))))","v":""},{"$f":"IF('Outil Recensement simplifié'!BI12=\"Oui\",\"Yes\",IF('Outil Recensement simplifié'!BI12=\"Non\",\"No\",IF('Outil Recensement simplifié'!BI12=\"O\",\"Yes\",IF('Outil Recensement simplifié'!BI12=\"N\",\"No\",\"\"))))","v":""},{"$f":"IF('Outil Recensement simplifié'!BJ12=\"Oui\",\"Yes\",IF('Outil Recensement simplifié'!BJ12=\"Non\",\"No\",IF('Outil Recensement simplifié'!BJ12=\"O\",\"Yes\",IF('Outil Recensement simplifié'!BJ12=\"N\",\"No\",\"\"))))","v":""},{"$f":"IF('Outil Recensement simplifié'!BK12>0,'Outil Recensement simplifié'!BK12,\"\")","v":""},{"$f":"IF('Outil Recensement simplifié'!BL12>0,'Outil Recensement simplifié'!BL12,\"\")","v":""},{"$f":"IF('Outil Recensement simplifié'!BM12>0,'Outil Recensement simplifié'!BM12,\"\")","v":""},{"$f":"IF('Outil Recensement simplifié'!BN12=\"Homme\",\"Male\",IF('Outil Recensement simplifié'!BN12=\"Femme\",\"Female\",IF('Outil Recensement simplifié'!BN12=\"H\",\"Male\",IF('Outil Recensement simplifié'!BN12=\"F\",\"Female\",\"\"))))","v":""},{"$f":"IF('Outil Recensement simplifié'!BO12=\"Oui\",\"Yes\",IF('Outil Recensement simplifié'!BO12=\"Non\",\"No\",IF('Outil Recensement simplifié'!BO12=\"O\",\"Yes\",IF('Outil Recensement simplifié'!BO12=\"N\",\"No\",\"\"))))","v":""},{"$f":"IF('Outil Recensement simplifié'!BP12=\"Oui\",\"Yes\",IF('Outil Recensement simplifié'!BP12=\"Non\",\"No\",IF('Outil Recensement simplifié'!BP12=\"O\",\"Yes\",IF('Outil Recensement simplifié'!BP12=\"N\",\"No\",\"\"))))","v":""},{"$f":"IF('Outil Recensement simplifié'!BQ12>0,'Outil Recensement simplifié'!BQ12,\"\")","v":""},{"$f":"IF('Outil Recensement simplifié'!BR12>0,'Outil Recensement simplifié'!BR12,\"\")","v":""},{"$f":"IF('Outil Recensement simplifié'!BS12>0,'Outil Recensement simplifié'!BS12,\"\")","v":""},{"$f":"IF('Outil Recensement simplifié'!BT12=\"Homme\",\"Male\",IF('Outil Recensement simplifié'!BT12=\"Femme\",\"Female\",IF('Outil Recensement simplifié'!BT12=\"H\",\"Male\",IF('Outil Recensement simplifié'!BT12=\"F\",\"Female\",\"\"))))","v":""},{"$f":"IF('Outil Recensement simplifié'!BU12=\"Oui\",\"Yes\",IF('Outil Recensement simplifié'!BU12=\"Non\",\"No\",IF('Outil Recensement simplifié'!BU12=\"O\",\"Yes\",IF('Outil Recensement simplifié'!BU12=\"N\",\"No\",\"\"))))","v":""},{"$f":"IF('Outil Recensement simplifié'!BV12=\"Oui\",\"Yes\",IF('Outil Recensement simplifié'!BV12=\"Non\",\"No\",IF('Outil Recensement simplifié'!BV12=\"O\",\"Yes\",IF('Outil Recensement simplifié'!BV12=\"N\",\"No\",\"\"))))","v":""},{"$f":"IF('Outil Recensement simplifié'!BW12>0,'Outil Recensement simplifié'!BW12,\"\")","v":""},{"$f":"IF('Outil Recensement simplifié'!BX12>0,'Outil Recensement simplifié'!BX12,\"\")","v":""},{"$f":"IF('Outil Recensement simplifié'!BY12>0,'Outil Recensement simplifié'!BY12,\"\")","v":""},{"$f":"IF('Outil Recensement simplifié'!BZ12=\"Homme\",\"Male\",IF('Outil Recensement simplifié'!BZ12=\"Femme\",\"Female\",IF('Outil Recensement simplifié'!BZ12=\"H\",\"Male\",IF('Outil Recensement simplifié'!BZ12=\"F\",\"Female\",\"\"))))","v":""},{"$f":"IF('Outil Recensement simplifié'!CA12=\"Oui\",\"Yes\",IF('Outil Recensement simplifié'!CA12=\"Non\",\"No\",IF('Outil Recensement simplifié'!CA12=\"O\",\"Yes\",IF('Outil Recensement simplifié'!CA12=\"N\",\"No\",\"\"))))","v":""},{"$f":"IF('Outil Recensement simplifié'!CB12=\"Oui\",\"Yes\",IF('Outil Recensement simplifié'!CB12=\"Non\",\"No\",IF('Outil Recensement simplifié'!CB12=\"O\",\"Yes\",IF('Outil Recensement simplifié'!CB12=\"N\",\"No\",\"\"))))","v":""},{"$f":"IF('Outil Recensement simplifié'!CH12>0,'Outil Recensement simplifié'!CH12,\"\")","v":"    "}]
[{"$f":"IF('Outil Recensement simplifié'!A13>0,'Outil Recensement simplifié'!A13,\"\")","v":""},{"$f":"IF('Outil Recensement simplifié'!B13>0,'Outil Recensement simplifié'!B13,\"\")","v":""},{"$f":"IF('Outil Recensement simplifié'!C13>0,'Outil Recensement simplifié'!C13,\"\")","v":""},{"$f":"IF('Outil Recensement simplifié'!D13>0,'Outil Recensement simplifié'!D13,\"\")","v":""},{"$f":"IF('Outil Recensement simplifié'!E13>0,TEXT('Outil Recensement simplifié'!E13,\"000\"),\"\")","v":""},{"$f":"IF('Outil Recensement simplifié'!F13>0,'Outil Recensement simplifié'!F13,\"\")","v":""},{"$f":"IF('Outil Recensement simplifié'!G13>0,'Outil Recensement simplifié'!G13,\"\")","v":""},{"$f":"IF('Outil Recensement simplifié'!I13>0,'Outil Recensement simplifié'!I13,\"\")","v":""},{"$f":"IF('Outil Recensement simplifié'!J13>0,'Outil Recensement simplifié'!J13,\"\")","v":""},{"$f":"IF('Outil Recensement simplifié'!K13>0,'Outil Recensement simplifié'!K13,\"\")","v":""},{"$f":"IF('Outil Recensement simplifié'!L13>0,'Outil Recensement simplifié'!L13,\"\")","v":""},{"$f":"IF('Outil Recensement simplifié'!M13=\"Homme\",\"Male\",IF('Outil Recensement simplifié'!M13=\"Femme\",\"Female\",IF('Outil Recensement simplifié'!M13=\"H\",\"Male\",IF('Outil Recensement simplifié'!M13=\"F\",\"Female\",\"\"))))","v":""},{"$f":"IF('Outil Recensement simplifié'!N13=\"Oui\",\"Yes\",IF('Outil Recensement simplifié'!N13=\"Non\",\"No\",IF('Outil Recensement simplifié'!N13=\"O\",\"Yes\",IF('Outil Recensement simplifié'!N13=\"N\",\"No\",\"\"))))","v":""},{"$f":"IF('Outil Recensement simplifié'!O13=\"Non\",\"Single\",IF('Outil Recensement simplifié'!O13=\"Oui\",\"Family\",IF('Outil Recensement simplifié'!O13=\"N\",\"Single\",IF('Outil Recensement simplifié'!O13=\"O\",\"Family\",IF('Outil Recensement simplifié'!O13=\"En vigueur\",\"Family\",\"\")))))","v":""},{"$f":"IF('Outil Recensement simplifié'!P13=\"Anglais\",\"English\",IF('Outil Recensement simplifié'!P13=\"Français\",\"French\",IF('Outil Recensement simplifié'!P13=\"A\",\"English\",IF('Outil Recensement simplifié'!P13=\"F\",\"French\",\"\"))))","v":""},{"$f":"IF('Outil Recensement simplifié'!Q13=\"Oui\",\"Yes\",IF('Outil Recensement simplifié'!Q13=\"Non\",\"No\",IF('Outil Recensement simplifié'!Q13=\"O\",\"Yes\",IF('Outil Recensement simplifié'!Q13=\"N\",\"No\",\"\"))))","v":""},{"$f":"IF('Outil Recensement simplifié'!R13>0,'Outil Recensement simplifié'!R13,\"\")","v":""},{"$f":"IF('Outil Recensement simplifié'!S13=\"Annuelle\",\"Annually\",IF('Outil Recensement simplifié'!S13=\"Mensuelle\",\"Monthly\",IF('Outil Recensement simplifié'!S13=\"Aux deux semaines\",\"Biweekly\",IF('Outil Recensement simplifié'!S13=\"Bimensuelle\",\"Semi-Monthly\",IF('Outil Recensement simplifié'!S13=\"Hebdomadaire\",\"Weekly\",IF('Outil Recensement simplifié'!S13=\"Horaire\",\"Hourly\",\"\"))))))","v":""},{"$f":"IF('Outil Recensement simplifié'!T13>0,'Outil Recensement simplifié'!T13,\"\")","v":""},{"$f":"IF('Outil Recensement simplifié'!U13>0,'Outil Recensement simplifié'!U13,\"\")","v":""},{"$f":"IF('Outil Recensement simplifié'!V13=\"Exemptée\",\"Yes\",\"\")","v":""},{"$f":"IF('Outil Recensement simplifié'!W13=\"Exemptée\",\"Yes\",\"\")","v":""},{"$f":"IF('Outil Recensement simplifié'!X13>0,'Outil Recensement simplifié'!X13,\"\")","v":""},{"$f":"IF('Outil Recensement simplifié'!Y13>0,'Outil Recensement simplifié'!Y13,\"\")","v":""},{"$f":"IF('Outil Recensement simplifié'!Z13>0,'Outil Recensement simplifié'!Z13,\"\")","v":""},{"$f":"IF('Outil Recensement simplifié'!AA13>0,'Outil Recensement simplifié'!AA13,\"\")","v":""},{"$f":"IF('Outil Recensement simplifié'!AB13>0,'Outil Recensement simplifié'!AB13,\"\")","v":""},{"$f":"IF('Outil Recensement simplifié'!AC13>0,'Outil Recensement simplifié'!AC13,\"\")","v":" "},{"$f":"IF('Outil Recensement simplifié'!AE13>0,'Outil Recensement simplifié'!AE13&\" \",\"\")&IF('Outil Recensement simplifié'!AD13>0,'Outil Recensement simplifié'!AD13,\"\")","v":""},null,{"$f":"IF('Outil Recensement simplifié'!AF13>0,'Outil Recensement simplifié'!AF13,\"\")","v":""},{"$f":"IF('Outil Recensement simplifié'!AG13>0,'Outil Recensement simplifié'!AG13,\"\")","v":""},{"$f":"IF('Outil Recensement simplifié'!AH13>0,'Outil Recensement simplifié'!AH13,\"\")","v":""},{"$f":"IF('Outil Recensement simplifié'!AI13>0,'Outil Recensement simplifié'!AI13,\"\")","v":""},{"$f":"IF('Outil Recensement simplifié'!AJ13>0,'Outil Recensement simplifié'!AJ13,\"\")","v":""},{"$f":"IF('Outil Recensement simplifié'!AK13>0,'Outil Recensement simplifié'!AK13,\"\")","v":""},{"$f":"IF('Outil Recensement simplifié'!AL13>0,'Outil Recensement simplifié'!AL13,\"\")","v":""},{"$f":"IF('Outil Recensement simplifié'!AM13>0,'Outil Recensement simplifié'!AM13,\"\")","v":""},{"$f":"IF('Outil Recensement simplifié'!AN13=\"Homme\",\"Male\",IF('Outil Recensement simplifié'!AN13=\"Femme\",\"Female\",IF('Outil Recensement simplifié'!AN13=\"H\",\"Male\",IF('Outil Recensement simplifié'!AN13=\"F\",\"Female\",\"\"))))","v":""},{"$f":"IF('Outil Recensement simplifié'!AO13=\"Individuelle\",\"Single\",IF('Outil Recensement simplifié'!AO13=\"Famille\",\"Family\",IF('Outil Recensement simplifié'!AO13=\"Individuel\",\"Single\",IF('Outil Recensement simplifié'!AO13=\"Familiale\",\"Family\",IF('Outil Recensement simplifié'!AO13=\"I\",\"Single\",IF('Outil Recensement simplifié'!AO13=\"F\",\"Family\",\"\"))))))","v":""},{"$f":"IF('Outil Recensement simplifié'!AP13=\"Individuelle\",\"Single\",IF('Outil Recensement simplifié'!AP13=\"Famille\",\"Family\",IF('Outil Recensement simplifié'!AP13=\"Individuel\",\"Single\",IF('Outil Recensement simplifié'!AP13=\"Familiale\",\"Family\",IF('Outil Recensement simplifié'!AP13=\"I\",\"Single\",IF('Outil Recensement simplifié'!AP13=\"F\",\"Family\",\"\"))))))","v":""},{"$f":"IF('Outil Recensement simplifié'!AQ13>0,'Outil Recensement simplifié'!AQ13,\"\")","v":""},{"$f":"IF('Outil Recensement simplifié'!AR13=\"Oui\",\"Yes\",IF('Outil Recensement simplifié'!AR13=\"Non\",\"No\",IF('Outil Recensement simplifié'!AR13=\"O\",\"Yes\",IF('Outil Recensement simplifié'!AR13=\"N\",\"No\",\"\"))))","v":""},{"$f":"IF('Outil Recensement simplifié'!AS13>0,'Outil Recensement simplifié'!AS13,\"\")","v":""},{"$f":"IF('Outil Recensement simplifié'!AT13>0,'Outil Recensement simplifié'!AT13,\"\")","v":""},{"$f":"IF('Outil Recensement simplifié'!AU13>0,'Outil Recensement simplifié'!AU13,\"\")","v":""},{"$f":"IF('Outil Recensement simplifié'!AV13=\"Homme\",\"Male\",IF('Outil Recensement simplifié'!AV13=\"Femme\",\"Female\",IF('Outil Recensement simplifié'!AV13=\"H\",\"Male\",IF('Outil Recensement simplifié'!AV13=\"F\",\"Female\",\"\"))))","v":""},{"$f":"IF('Outil Recensement simplifié'!AW13=\"Oui\",\"Yes\",IF('Outil Recensement simplifié'!AW13=\"Non\",\"No\",IF('Outil Recensement simplifié'!AW13=\"O\",\"Yes\",IF('Outil Recensement simplifié'!AW13=\"N\",\"No\",\"\"))))","v":""},{"$f":"IF('Outil Recensement simplifié'!AX13=\"Oui\",\"Yes\",IF('Outil Recensement simplifié'!AX13=\"Non\",\"No\",IF('Outil Recensement simplifié'!AX13=\"O\",\"Yes\",IF('Outil Recensement simplifié'!AX13=\"N\",\"No\",\"\"))))","v":""},{"$f":"IF('Outil Recensement simplifié'!AY13>0,'Outil Recensement simplifié'!AY13,\"\")","v":""},{"$f":"IF('Outil Recensement simplifié'!AZ13>0,'Outil Recensement simplifié'!AZ13,\"\")","v":""},{"$f":"IF('Outil Recensement simplifié'!BA13>0,'Outil Recensement simplifié'!BA13,\"\")","v":""},{"$f":"IF('Outil Recensement simplifié'!BB13=\"Homme\",\"Male\",IF('Outil Recensement simplifié'!BB13=\"Femme\",\"Female\",IF('Outil Recensement simplifié'!BB13=\"H\",\"Male\",IF('Outil Recensement simplifié'!BB13=\"F\",\"Female\",\"\"))))","v":""},{"$f":"IF('Outil Recensement simplifié'!BC13=\"Oui\",\"Yes\",IF('Outil Recensement simplifié'!BC13=\"Non\",\"No\",IF('Outil Recensement simplifié'!BC13=\"O\",\"Yes\",IF('Outil Recensement simplifié'!BC13=\"N\",\"No\",\"\"))))","v":""},{"$f":"IF('Outil Recensement simplifié'!BD13=\"Oui\",\"Yes\",IF('Outil Recensement simplifié'!BD13=\"Non\",\"No\",IF('Outil Recensement simplifié'!BD13=\"O\",\"Yes\",IF('Outil Recensement simplifié'!BD13=\"N\",\"No\",\"\"))))","v":""},{"$f":"IF('Outil Recensement simplifié'!BE13>0,'Outil Recensement simplifié'!BE13,\"\")","v":""},{"$f":"IF('Outil Recensement simplifié'!BF13>0,'Outil Recensement simplifié'!BF13,\"\")","v":""},{"$f":"IF('Outil Recensement simplifié'!BG13>0,'Outil Recensement simplifié'!BG13,\"\")","v":""},{"$f":"IF('Outil Recensement simplifié'!BH13=\"Homme\",\"Male\",IF('Outil Recensement simplifié'!BH13=\"Femme\",\"Female\",IF('Outil Recensement simplifié'!BH13=\"H\",\"Male\",IF('Outil Recensement simplifié'!BH13=\"F\",\"Female\",\"\"))))","v":""},{"$f":"IF('Outil Recensement simplifié'!BI13=\"Oui\",\"Yes\",IF('Outil Recensement simplifié'!BI13=\"Non\",\"No\",IF('Outil Recensement simplifié'!BI13=\"O\",\"Yes\",IF('Outil Recensement simplifié'!BI13=\"N\",\"No\",\"\"))))","v":""},{"$f":"IF('Outil Recensement simplifié'!BJ13=\"Oui\",\"Yes\",IF('Outil Recensement simplifié'!BJ13=\"Non\",\"No\",IF('Outil Recensement simplifié'!BJ13=\"O\",\"Yes\",IF('Outil Recensement simplifié'!BJ13=\"N\",\"No\",\"\"))))","v":""},{"$f":"IF('Outil Recensement simplifié'!BK13>0,'Outil Recensement simplifié'!BK13,\"\")","v":""},{"$f":"IF('Outil Recensement simplifié'!BL13>0,'Outil Recensement simplifié'!BL13,\"\")","v":""},{"$f":"IF('Outil Recensement simplifié'!BM13>0,'Outil Recensement simplifié'!BM13,\"\")","v":""},{"$f":"IF('Outil Recensement simplifié'!BN13=\"Homme\",\"Male\",IF('Outil Recensement simplifié'!BN13=\"Femme\",\"Female\",IF('Outil Recensement simplifié'!BN13=\"H\",\"Male\",IF('Outil Recensement simplifié'!BN13=\"F\",\"Female\",\"\"))))","v":""},{"$f":"IF('Outil Recensement simplifié'!BO13=\"Oui\",\"Yes\",IF('Outil Recensement simplifié'!BO13=\"Non\",\"No\",IF('Outil Recensement simplifié'!BO13=\"O\",\"Yes\",IF('Outil Recensement simplifié'!BO13=\"N\",\"No\",\"\"))))","v":""},{"$f":"IF('Outil Recensement simplifié'!BP13=\"Oui\",\"Yes\",IF('Outil Recensement simplifié'!BP13=\"Non\",\"No\",IF('Outil Recensement simplifié'!BP13=\"O\",\"Yes\",IF('Outil Recensement simplifié'!BP13=\"N\",\"No\",\"\"))))","v":""},{"$f":"IF('Outil Recensement simplifié'!BQ13>0,'Outil Recensement simplifié'!BQ13,\"\")","v":""},{"$f":"IF('Outil Recensement simplifié'!BR13>0,'Outil Recensement simplifié'!BR13,\"\")","v":""},{"$f":"IF('Outil Recensement simplifié'!BS13>0,'Outil Recensement simplifié'!BS13,\"\")","v":""},{"$f":"IF('Outil Recensement simplifié'!BT13=\"Homme\",\"Male\",IF('Outil Recensement simplifié'!BT13=\"Femme\",\"Female\",IF('Outil Recensement simplifié'!BT13=\"H\",\"Male\",IF('Outil Recensement simplifié'!BT13=\"F\",\"Female\",\"\"))))","v":""},{"$f":"IF('Outil Recensement simplifié'!BU13=\"Oui\",\"Yes\",IF('Outil Recensement simplifié'!BU13=\"Non\",\"No\",IF('Outil Recensement simplifié'!BU13=\"O\",\"Yes\",IF('Outil Recensement simplifié'!BU13=\"N\",\"No\",\"\"))))","v":""},{"$f":"IF('Outil Recensement simplifié'!BV13=\"Oui\",\"Yes\",IF('Outil Recensement simplifié'!BV13=\"Non\",\"No\",IF('Outil Recensement simplifié'!BV13=\"O\",\"Yes\",IF('Outil Recensement simplifié'!BV13=\"N\",\"No\",\"\"))))","v":""},{"$f":"IF('Outil Recensement simplifié'!BW13>0,'Outil Recensement simplifié'!BW13,\"\")","v":""},{"$f":"IF('Outil Recensement simplifié'!BX13>0,'Outil Recensement simplifié'!BX13,\"\")","v":""},{"$f":"IF('Outil Recensement simplifié'!BY13>0,'Outil Recensement simplifié'!BY13,\"\")","v":""},{"$f":"IF('Outil Recensement simplifié'!BZ13=\"Homme\",\"Male\",IF('Outil Recensement simplifié'!BZ13=\"Femme\",\"Female\",IF('Outil Recensement simplifié'!BZ13=\"H\",\"Male\",IF('Outil Recensement simplifié'!BZ13=\"F\",\"Female\",\"\"))))","v":""},{"$f":"IF('Outil Recensement simplifié'!CA13=\"Oui\",\"Yes\",IF('Outil Recensement simplifié'!CA13=\"Non\",\"No\",IF('Outil Recensement simplifié'!CA13=\"O\",\"Yes\",IF('Outil Recensement simplifié'!CA13=\"N\",\"No\",\"\"))))","v":""},{"$f":"IF('Outil Recensement simplifié'!CB13=\"Oui\",\"Yes\",IF('Outil Recensement simplifié'!CB13=\"Non\",\"No\",IF('Outil Recensement simplifié'!CB13=\"O\",\"Yes\",IF('Outil Recensement simplifié'!CB13=\"N\",\"No\",\"\"))))","v":""},{"$f":"IF('Outil Recensement simplifié'!CH13>0,'Outil Recensement simplifié'!CH13,\"\")","v":"    "}]
[{"$f":"IF('Outil Recensement simplifié'!A14>0,'Outil Recensement simplifié'!A14,\"\")","v":""},{"$f":"IF('Outil Recensement simplifié'!B14>0,'Outil Recensement simplifié'!B14,\"\")","v":""},{"$f":"IF('Outil Recensement simplifié'!C14>0,'Outil Recensement simplifié'!C14,\"\")","v":""},{"$f":"IF('Outil Recensement simplifié'!D14>0,'Outil Recensement simplifié'!D14,\"\")","v":""},{"$f":"IF('Outil Recensement simplifié'!E14>0,TEXT('Outil Recensement simplifié'!E14,\"000\"),\"\")","v":""},{"$f":"IF('Outil Recensement simplifié'!F14>0,'Outil Recensement simplifié'!F14,\"\")","v":""},{"$f":"IF('Outil Recensement simplifié'!G14>0,'Outil Recensement simplifié'!G14,\"\")","v":""},{"$f":"IF('Outil Recensement simplifié'!I14>0,'Outil Recensement simplifié'!I14,\"\")","v":""},{"$f":"IF('Outil Recensement simplifié'!J14>0,'Outil Recensement simplifié'!J14,\"\")","v":""},{"$f":"IF('Outil Recensement simplifié'!K14>0,'Outil Recensement simplifié'!K14,\"\")","v":""},{"$f":"IF('Outil Recensement simplifié'!L14>0,'Outil Recensement simplifié'!L14,\"\")","v":""},{"$f":"IF('Outil Recensement simplifié'!M14=\"Homme\",\"Male\",IF('Outil Recensement simplifié'!M14=\"Femme\",\"Female\",IF('Outil Recensement simplifié'!M14=\"H\",\"Male\",IF('Outil Recensement simplifié'!M14=\"F\",\"Female\",\"\"))))","v":""},{"$f":"IF('Outil Recensement simplifié'!N14=\"Oui\",\"Yes\",IF('Outil Recensement simplifié'!N14=\"Non\",\"No\",IF('Outil Recensement simplifié'!N14=\"O\",\"Yes\",IF('Outil Recensement simplifié'!N14=\"N\",\"No\",\"\"))))","v":""},{"$f":"IF('Outil Recensement simplifié'!O14=\"Non\",\"Single\",IF('Outil Recensement simplifié'!O14=\"Oui\",\"Family\",IF('Outil Recensement simplifié'!O14=\"N\",\"Single\",IF('Outil Recensement simplifié'!O14=\"O\",\"Family\",IF('Outil Recensement simplifié'!O14=\"En vigueur\",\"Family\",\"\")))))","v":""},{"$f":"IF('Outil Recensement simplifié'!P14=\"Anglais\",\"English\",IF('Outil Recensement simplifié'!P14=\"Français\",\"French\",IF('Outil Recensement simplifié'!P14=\"A\",\"English\",IF('Outil Recensement simplifié'!P14=\"F\",\"French\",\"\"))))","v":""},{"$f":"IF('Outil Recensement simplifié'!Q14=\"Oui\",\"Yes\",IF('Outil Recensement simplifié'!Q14=\"Non\",\"No\",IF('Outil Recensement simplifié'!Q14=\"O\",\"Yes\",IF('Outil Recensement simplifié'!Q14=\"N\",\"No\",\"\"))))","v":""},{"$f":"IF('Outil Recensement simplifié'!R14>0,'Outil Recensement simplifié'!R14,\"\")","v":""},{"$f":"IF('Outil Recensement simplifié'!S14=\"Annuelle\",\"Annually\",IF('Outil Recensement simplifié'!S14=\"Mensuelle\",\"Monthly\",IF('Outil Recensement simplifié'!S14=\"Aux deux semaines\",\"Biweekly\",IF('Outil Recensement simplifié'!S14=\"Bimensuelle\",\"Semi-Monthly\",IF('Outil Recensement simplifié'!S14=\"Hebdomadaire\",\"Weekly\",IF('Outil Recensement simplifié'!S14=\"Horaire\",\"Hourly\",\"\"))))))","v":""},{"$f":"IF('Outil Recensement simplifié'!T14>0,'Outil Recensement simplifié'!T14,\"\")","v":""},{"$f":"IF('Outil Recensement simplifié'!U14>0,'Outil Recensement simplifié'!U14,\"\")","v":""},{"$f":"IF('Outil Recensement simplifié'!V14=\"Exemptée\",\"Yes\",\"\")","v":""},{"$f":"IF('Outil Recensement simplifié'!W14=\"Exemptée\",\"Yes\",\"\")","v":""},{"$f":"IF('Outil Recensement simplifié'!X14>0,'Outil Recensement simplifié'!X14,\"\")","v":""},{"$f":"IF('Outil Recensement simplifié'!Y14>0,'Outil Recensement simplifié'!Y14,\"\")","v":""},{"$f":"IF('Outil Recensement simplifié'!Z14>0,'Outil Recensement simplifié'!Z14,\"\")","v":""},{"$f":"IF('Outil Recensement simplifié'!AA14>0,'Outil Recensement simplifié'!AA14,\"\")","v":""},{"$f":"IF('Outil Recensement simplifié'!AB14>0,'Outil Recensement simplifié'!AB14,\"\")","v":""},{"$f":"IF('Outil Recensement simplifié'!AC14>0,'Outil Recensement simplifié'!AC14,\"\")","v":" "},{"$f":"IF('Outil Recensement simplifié'!AE14>0,'Outil Recensement simplifié'!AE14&\" \",\"\")&IF('Outil Recensement simplifié'!AD14>0,'Outil Recensement simplifié'!AD14,\"\")","v":""},null,{"$f":"IF('Outil Recensement simplifié'!AF14>0,'Outil Recensement simplifié'!AF14,\"\")","v":""},{"$f":"IF('Outil Recensement simplifié'!AG14>0,'Outil Recensement simplifié'!AG14,\"\")","v":""},{"$f":"IF('Outil Recensement simplifié'!AH14>0,'Outil Recensement simplifié'!AH14,\"\")","v":""},{"$f":"IF('Outil Recensement simplifié'!AI14>0,'Outil Recensement simplifié'!AI14,\"\")","v":""},{"$f":"IF('Outil Recensement simplifié'!AJ14>0,'Outil Recensement simplifié'!AJ14,\"\")","v":""},{"$f":"IF('Outil Recensement simplifié'!AK14>0,'Outil Recensement simplifié'!AK14,\"\")","v":""},{"$f":"IF('Outil Recensement simplifié'!AL14>0,'Outil Recensement simplifié'!AL14,\"\")","v":""},{"$f":"IF('Outil Recensement simplifié'!AM14>0,'Outil Recensement simplifié'!AM14,\"\")","v":""},{"$f":"IF('Outil Recensement simplifié'!AN14=\"Homme\",\"Male\",IF('Outil Recensement simplifié'!AN14=\"Femme\",\"Female\",IF('Outil Recensement simplifié'!AN14=\"H\",\"Male\",IF('Outil Recensement simplifié'!AN14=\"F\",\"Female\",\"\"))))","v":""},{"$f":"IF('Outil Recensement simplifié'!AO14=\"Individuelle\",\"Single\",IF('Outil Recensement simplifié'!AO14=\"Famille\",\"Family\",IF('Outil Recensement simplifié'!AO14=\"Individuel\",\"Single\",IF('Outil Recensement simplifié'!AO14=\"Familiale\",\"Family\",IF('Outil Recensement simplifié'!AO14=\"I\",\"Single\",IF('Outil Recensement simplifié'!AO14=\"F\",\"Family\",\"\"))))))","v":""},{"$f":"IF('Outil Recensement simplifié'!AP14=\"Individuelle\",\"Single\",IF('Outil Recensement simplifié'!AP14=\"Famille\",\"Family\",IF('Outil Recensement simplifié'!AP14=\"Individuel\",\"Single\",IF('Outil Recensement simplifié'!AP14=\"Familiale\",\"Family\",IF('Outil Recensement simplifié'!AP14=\"I\",\"Single\",IF('Outil Recensement simplifié'!AP14=\"F\",\"Family\",\"\"))))))","v":""},{"$f":"IF('Outil Recensement simplifié'!AQ14>0,'Outil Recensement simplifié'!AQ14,\"\")","v":""},{"$f":"IF('Outil Recensement simplifié'!AR14=\"Oui\",\"Yes\",IF('Outil Recensement simplifié'!AR14=\"Non\",\"No\",IF('Outil Recensement simplifié'!AR14=\"O\",\"Yes\",IF('Outil Recensement simplifié'!AR14=\"N\",\"No\",\"\"))))","v":""},{"$f":"IF('Outil Recensement simplifié'!AS14>0,'Outil Recensement simplifié'!AS14,\"\")","v":""},{"$f":"IF('Outil Recensement simplifié'!AT14>0,'Outil Recensement simplifié'!AT14,\"\")","v":""},{"$f":"IF('Outil Recensement simplifié'!AU14>0,'Outil Recensement simplifié'!AU14,\"\")","v":""},{"$f":"IF('Outil Recensement simplifié'!AV14=\"Homme\",\"Male\",IF('Outil Recensement simplifié'!AV14=\"Femme\",\"Female\",IF('Outil Recensement simplifié'!AV14=\"H\",\"Male\",IF('Outil Recensement simplifié'!AV14=\"F\",\"Female\",\"\"))))","v":""},{"$f":"IF('Outil Recensement simplifié'!AW14=\"Oui\",\"Yes\",IF('Outil Recensement simplifié'!AW14=\"Non\",\"No\",IF('Outil Recensement simplifié'!AW14=\"O\",\"Yes\",IF('Outil Recensement simplifié'!AW14=\"N\",\"No\",\"\"))))","v":""},{"$f":"IF('Outil Recensement simplifié'!AX14=\"Oui\",\"Yes\",IF('Outil Recensement simplifié'!AX14=\"Non\",\"No\",IF('Outil Recensement simplifié'!AX14=\"O\",\"Yes\",IF('Outil Recensement simplifié'!AX14=\"N\",\"No\",\"\"))))","v":""},{"$f":"IF('Outil Recensement simplifié'!AY14>0,'Outil Recensement simplifié'!AY14,\"\")","v":""},{"$f":"IF('Outil Recensement simplifié'!AZ14>0,'Outil Recensement simplifié'!AZ14,\"\")","v":""},{"$f":"IF('Outil Recensement simplifié'!BA14>0,'Outil Recensement simplifié'!BA14,\"\")","v":""},{"$f":"IF('Outil Recensement simplifié'!BB14=\"Homme\",\"Male\",IF('Outil Recensement simplifié'!BB14=\"Femme\",\"Female\",IF('Outil Recensement simplifié'!BB14=\"H\",\"Male\",IF('Outil Recensement simplifié'!BB14=\"F\",\"Female\",\"\"))))","v":""},{"$f":"IF('Outil Recensement simplifié'!BC14=\"Oui\",\"Yes\",IF('Outil Recensement simplifié'!BC14=\"Non\",\"No\",IF('Outil Recensement simplifié'!BC14=\"O\",\"Yes\",IF('Outil Recensement simplifié'!BC14=\"N\",\"No\",\"\"))))","v":""},{"$f":"IF('Outil Recensement simplifié'!BD14=\"Oui\",\"Yes\",IF('Outil Recensement simplifié'!BD14=\"Non\",\"No\",IF('Outil Recensement simplifié'!BD14=\"O\",\"Yes\",IF('Outil Recensement simplifié'!BD14=\"N\",\"No\",\"\"))))","v":""},{"$f":"IF('Outil Recensement simplifié'!BE14>0,'Outil Recensement simplifié'!BE14,\"\")","v":""},{"$f":"IF('Outil Recensement simplifié'!BF14>0,'Outil Recensement simplifié'!BF14,\"\")","v":""},{"$f":"IF('Outil Recensement simplifié'!BG14>0,'Outil Recensement simplifié'!BG14,\"\")","v":""},{"$f":"IF('Outil Recensement simplifié'!BH14=\"Homme\",\"Male\",IF('Outil Recensement simplifié'!BH14=\"Femme\",\"Female\",IF('Outil Recensement simplifié'!BH14=\"H\",\"Male\",IF('Outil Recensement simplifié'!BH14=\"F\",\"Female\",\"\"))))","v":""},{"$f":"IF('Outil Recensement simplifié'!BI14=\"Oui\",\"Yes\",IF('Outil Recensement simplifié'!BI14=\"Non\",\"No\",IF('Outil Recensement simplifié'!BI14=\"O\",\"Yes\",IF('Outil Recensement simplifié'!BI14=\"N\",\"No\",\"\"))))","v":""},{"$f":"IF('Outil Recensement simplifié'!BJ14=\"Oui\",\"Yes\",IF('Outil Recensement simplifié'!BJ14=\"Non\",\"No\",IF('Outil Recensement simplifié'!BJ14=\"O\",\"Yes\",IF('Outil Recensement simplifié'!BJ14=\"N\",\"No\",\"\"))))","v":""},{"$f":"IF('Outil Recensement simplifié'!BK14>0,'Outil Recensement simplifié'!BK14,\"\")","v":""},{"$f":"IF('Outil Recensement simplifié'!BL14>0,'Outil Recensement simplifié'!BL14,\"\")","v":""},{"$f":"IF('Outil Recensement simplifié'!BM14>0,'Outil Recensement simplifié'!BM14,\"\")","v":""},{"$f":"IF('Outil Recensement simplifié'!BN14=\"Homme\",\"Male\",IF('Outil Recensement simplifié'!BN14=\"Femme\",\"Female\",IF('Outil Recensement simplifié'!BN14=\"H\",\"Male\",IF('Outil Recensement simplifié'!BN14=\"F\",\"Female\",\"\"))))","v":""},{"$f":"IF('Outil Recensement simplifié'!BO14=\"Oui\",\"Yes\",IF('Outil Recensement simplifié'!BO14=\"Non\",\"No\",IF('Outil Recensement simplifié'!BO14=\"O\",\"Yes\",IF('Outil Recensement simplifié'!BO14=\"N\",\"No\",\"\"))))","v":""},{"$f":"IF('Outil Recensement simplifié'!BP14=\"Oui\",\"Yes\",IF('Outil Recensement simplifié'!BP14=\"Non\",\"No\",IF('Outil Recensement simplifié'!BP14=\"O\",\"Yes\",IF('Outil Recensement simplifié'!BP14=\"N\",\"No\",\"\"))))","v":""},{"$f":"IF('Outil Recensement simplifié'!BQ14>0,'Outil Recensement simplifié'!BQ14,\"\")","v":""},{"$f":"IF('Outil Recensement simplifié'!BR14>0,'Outil Recensement simplifié'!BR14,\"\")","v":""},{"$f":"IF('Outil Recensement simplifié'!BS14>0,'Outil Recensement simplifié'!BS14,\"\")","v":""},{"$f":"IF('Outil Recensement simplifié'!BT14=\"Homme\",\"Male\",IF('Outil Recensement simplifié'!BT14=\"Femme\",\"Female\",IF('Outil Recensement simplifié'!BT14=\"H\",\"Male\",IF('Outil Recensement simplifié'!BT14=\"F\",\"Female\",\"\"))))","v":""},{"$f":"IF('Outil Recensement simplifié'!BU14=\"Oui\",\"Yes\",IF('Outil Recensement simplifié'!BU14=\"Non\",\"No\",IF('Outil Recensement simplifié'!BU14=\"O\",\"Yes\",IF('Outil Recensement simplifié'!BU14=\"N\",\"No\",\"\"))))","v":""},{"$f":"IF('Outil Recensement simplifié'!BV14=\"Oui\",\"Yes\",IF('Outil Recensement simplifié'!BV14=\"Non\",\"No\",IF('Outil Recensement simplifié'!BV14=\"O\",\"Yes\",IF('Outil Recensement simplifié'!BV14=\"N\",\"No\",\"\"))))","v":""},{"$f":"IF('Outil Recensement simplifié'!BW14>0,'Outil Recensement simplifié'!BW14,\"\")","v":""},{"$f":"IF('Outil Recensement simplifié'!BX14>0,'Outil Recensement simplifié'!BX14,\"\")","v":""},{"$f":"IF('Outil Recensement simplifié'!BY14>0,'Outil Recensement simplifié'!BY14,\"\")","v":""},{"$f":"IF('Outil Recensement simplifié'!BZ14=\"Homme\",\"Male\",IF('Outil Recensement simplifié'!BZ14=\"Femme\",\"Female\",IF('Outil Recensement simplifié'!BZ14=\"H\",\"Male\",IF('Outil Recensement simplifié'!BZ14=\"F\",\"Female\",\"\"))))","v":""},{"$f":"IF('Outil Recensement simplifié'!CA14=\"Oui\",\"Yes\",IF('Outil Recensement simplifié'!CA14=\"Non\",\"No\",IF('Outil Recensement simplifié'!CA14=\"O\",\"Yes\",IF('Outil Recensement simplifié'!CA14=\"N\",\"No\",\"\"))))","v":""},{"$f":"IF('Outil Recensement simplifié'!CB14=\"Oui\",\"Yes\",IF('Outil Recensement simplifié'!CB14=\"Non\",\"No\",IF('Outil Recensement simplifié'!CB14=\"O\",\"Yes\",IF('Outil Recensement simplifié'!CB14=\"N\",\"No\",\"\"))))","v":""},{"$f":"IF('Outil Recensement simplifié'!CH14>0,'Outil Recensement simplifié'!CH14,\"\")","v":"    "}]
[{"$f":"IF('Outil Recensement simplifié'!A15>0,'Outil Recensement simplifié'!A15,\"\")","v":""},{"$f":"IF('Outil Recensement simplifié'!B15>0,'Outil Recensement simplifié'!B15,\"\")","v":""},{"$f":"IF('Outil Recensement simplifié'!C15>0,'Outil Recensement simplifié'!C15,\"\")","v":""},{"$f":"IF('Outil Recensement simplifié'!D15>0,'Outil Recensement simplifié'!D15,\"\")","v":""},{"$f":"IF('Outil Recensement simplifié'!E15>0,TEXT('Outil Recensement simplifié'!E15,\"000\"),\"\")","v":""},{"$f":"IF('Outil Recensement simplifié'!F15>0,'Outil Recensement simplifié'!F15,\"\")","v":""},{"$f":"IF('Outil Recensement simplifié'!G15>0,'Outil Recensement simplifié'!G15,\"\")","v":""},{"$f":"IF('Outil Recensement simplifié'!I15>0,'Outil Recensement simplifié'!I15,\"\")","v":""},{"$f":"IF('Outil Recensement simplifié'!J15>0,'Outil Recensement simplifié'!J15,\"\")","v":""},{"$f":"IF('Outil Recensement simplifié'!K15>0,'Outil Recensement simplifié'!K15,\"\")","v":""},{"$f":"IF('Outil Recensement simplifié'!L15>0,'Outil Recensement simplifié'!L15,\"\")","v":""},{"$f":"IF('Outil Recensement simplifié'!M15=\"Homme\",\"Male\",IF('Outil Recensement simplifié'!M15=\"Femme\",\"Female\",IF('Outil Recensement simplifié'!M15=\"H\",\"Male\",IF('Outil Recensement simplifié'!M15=\"F\",\"Female\",\"\"))))","v":""},{"$f":"IF('Outil Recensement simplifié'!N15=\"Oui\",\"Yes\",IF('Outil Recensement simplifié'!N15=\"Non\",\"No\",IF('Outil Recensement simplifié'!N15=\"O\",\"Yes\",IF('Outil Recensement simplifié'!N15=\"N\",\"No\",\"\"))))","v":""},{"$f":"IF('Outil Recensement simplifié'!O15=\"Non\",\"Single\",IF('Outil Recensement simplifié'!O15=\"Oui\",\"Family\",IF('Outil Recensement simplifié'!O15=\"N\",\"Single\",IF('Outil Recensement simplifié'!O15=\"O\",\"Family\",IF('Outil Recensement simplifié'!O15=\"En vigueur\",\"Family\",\"\")))))","v":""},{"$f":"IF('Outil Recensement simplifié'!P15=\"Anglais\",\"English\",IF('Outil Recensement simplifié'!P15=\"Français\",\"French\",IF('Outil Recensement simplifié'!P15=\"A\",\"English\",IF('Outil Recensement simplifié'!P15=\"F\",\"French\",\"\"))))","v":""},{"$f":"IF('Outil Recensement simplifié'!Q15=\"Oui\",\"Yes\",IF('Outil Recensement simplifié'!Q15=\"Non\",\"No\",IF('Outil Recensement simplifié'!Q15=\"O\",\"Yes\",IF('Outil Recensement simplifié'!Q15=\"N\",\"No\",\"\"))))","v":""},{"$f":"IF('Outil Recensement simplifié'!R15>0,'Outil Recensement simplifié'!R15,\"\")","v":""},{"$f":"IF('Outil Recensement simplifié'!S15=\"Annuelle\",\"Annually\",IF('Outil Recensement simplifié'!S15=\"Mensuelle\",\"Monthly\",IF('Outil Recensement simplifié'!S15=\"Aux deux semaines\",\"Biweekly\",IF('Outil Recensement simplifié'!S15=\"Bimensuelle\",\"Semi-Monthly\",IF('Outil Recensement simplifié'!S15=\"Hebdomadaire\",\"Weekly\",IF('Outil Recensement simplifié'!S15=\"Horaire\",\"Hourly\",\"\"))))))","v":""},{"$f":"IF('Outil Recensement simplifié'!T15>0,'Outil Recensement simplifié'!T15,\"\")","v":""},{"$f":"IF('Outil Recensement simplifié'!U15>0,'Outil Recensement simplifié'!U15,\"\")","v":""},{"$f":"IF('Outil Recensement simplifié'!V15=\"Exemptée\",\"Yes\",\"\")","v":""},{"$f":"IF('Outil Recensement simplifié'!W15=\"Exemptée\",\"Yes\",\"\")","v":""},{"$f":"IF('Outil Recensement simplifié'!X15>0,'Outil Recensement simplifié'!X15,\"\")","v":""},{"$f":"IF('Outil Recensement simplifié'!Y15>0,'Outil Recensement simplifié'!Y15,\"\")","v":""},{"$f":"IF('Outil Recensement simplifié'!Z15>0,'Outil Recensement simplifié'!Z15,\"\")","v":""},{"$f":"IF('Outil Recensement simplifié'!AA15>0,'Outil Recensement simplifié'!AA15,\"\")","v":""},{"$f":"IF('Outil Recensement simplifié'!AB15>0,'Outil Recensement simplifié'!AB15,\"\")","v":""},{"$f":"IF('Outil Recensement simplifié'!AC15>0,'Outil Recensement simplifié'!AC15,\"\")","v":" "},{"$f":"IF('Outil Recensement simplifié'!AE15>0,'Outil Recensement simplifié'!AE15&\" \",\"\")&IF('Outil Recensement simplifié'!AD15>0,'Outil Recensement simplifié'!AD15,\"\")","v":""},null,{"$f":"IF('Outil Recensement simplifié'!AF15>0,'Outil Recensement simplifié'!AF15,\"\")","v":""},{"$f":"IF('Outil Recensement simplifié'!AG15>0,'Outil Recensement simplifié'!AG15,\"\")","v":""},{"$f":"IF('Outil Recensement simplifié'!AH15>0,'Outil Recensement simplifié'!AH15,\"\")","v":""},{"$f":"IF('Outil Recensement simplifié'!AI15>0,'Outil Recensement simplifié'!AI15,\"\")","v":""},{"$f":"IF('Outil Recensement simplifié'!AJ15>0,'Outil Recensement simplifié'!AJ15,\"\")","v":""},{"$f":"IF('Outil Recensement simplifié'!AK15>0,'Outil Recensement simplifié'!AK15,\"\")","v":""},{"$f":"IF('Outil Recensement simplifié'!AL15>0,'Outil Recensement simplifié'!AL15,\"\")","v":""},{"$f":"IF('Outil Recensement simplifié'!AM15>0,'Outil Recensement simplifié'!AM15,\"\")","v":""},{"$f":"IF('Outil Recensement simplifié'!AN15=\"Homme\",\"Male\",IF('Outil Recensement simplifié'!AN15=\"Femme\",\"Female\",IF('Outil Recensement simplifié'!AN15=\"H\",\"Male\",IF('Outil Recensement simplifié'!AN15=\"F\",\"Female\",\"\"))))","v":""},{"$f":"IF('Outil Recensement simplifié'!AO15=\"Individuelle\",\"Single\",IF('Outil Recensement simplifié'!AO15=\"Famille\",\"Family\",IF('Outil Recensement simplifié'!AO15=\"Individuel\",\"Single\",IF('Outil Recensement simplifié'!AO15=\"Familiale\",\"Family\",IF('Outil Recensement simplifié'!AO15=\"I\",\"Single\",IF('Outil Recensement simplifié'!AO15=\"F\",\"Family\",\"\"))))))","v":""},{"$f":"IF('Outil Recensement simplifié'!AP15=\"Individuelle\",\"Single\",IF('Outil Recensement simplifié'!AP15=\"Famille\",\"Family\",IF('Outil Recensement simplifié'!AP15=\"Individuel\",\"Single\",IF('Outil Recensement simplifié'!AP15=\"Familiale\",\"Family\",IF('Outil Recensement simplifié'!AP15=\"I\",\"Single\",IF('Outil Recensement simplifié'!AP15=\"F\",\"Family\",\"\"))))))","v":""},{"$f":"IF('Outil Recensement simplifié'!AQ15>0,'Outil Recensement simplifié'!AQ15,\"\")","v":""},{"$f":"IF('Outil Recensement simplifié'!AR15=\"Oui\",\"Yes\",IF('Outil Recensement simplifié'!AR15=\"Non\",\"No\",IF('Outil Recensement simplifié'!AR15=\"O\",\"Yes\",IF('Outil Recensement simplifié'!AR15=\"N\",\"No\",\"\"))))","v":""},{"$f":"IF('Outil Recensement simplifié'!AS15>0,'Outil Recensement simplifié'!AS15,\"\")","v":""},{"$f":"IF('Outil Recensement simplifié'!AT15>0,'Outil Recensement simplifié'!AT15,\"\")","v":""},{"$f":"IF('Outil Recensement simplifié'!AU15>0,'Outil Recensement simplifié'!AU15,\"\")","v":""},{"$f":"IF('Outil Recensement simplifié'!AV15=\"Homme\",\"Male\",IF('Outil Recensement simplifié'!AV15=\"Femme\",\"Female\",IF('Outil Recensement simplifié'!AV15=\"H\",\"Male\",IF('Outil Recensement simplifié'!AV15=\"F\",\"Female\",\"\"))))","v":""},{"$f":"IF('Outil Recensement simplifié'!AW15=\"Oui\",\"Yes\",IF('Outil Recensement simplifié'!AW15=\"Non\",\"No\",IF('Outil Recensement simplifié'!AW15=\"O\",\"Yes\",IF('Outil Recensement simplifié'!AW15=\"N\",\"No\",\"\"))))","v":""},{"$f":"IF('Outil Recensement simplifié'!AX15=\"Oui\",\"Yes\",IF('Outil Recensement simplifié'!AX15=\"Non\",\"No\",IF('Outil Recensement simplifié'!AX15=\"O\",\"Yes\",IF('Outil Recensement simplifié'!AX15=\"N\",\"No\",\"\"))))","v":""},{"$f":"IF('Outil Recensement simplifié'!AY15>0,'Outil Recensement simplifié'!AY15,\"\")","v":""},{"$f":"IF('Outil Recensement simplifié'!AZ15>0,'Outil Recensement simplifié'!AZ15,\"\")","v":""},{"$f":"IF('Outil Recensement simplifié'!BA15>0,'Outil Recensement simplifié'!BA15,\"\")","v":""},{"$f":"IF('Outil Recensement simplifié'!BB15=\"Homme\",\"Male\",IF('Outil Recensement simplifié'!BB15=\"Femme\",\"Female\",IF('Outil Recensement simplifié'!BB15=\"H\",\"Male\",IF('Outil Recensement simplifié'!BB15=\"F\",\"Female\",\"\"))))","v":""},{"$f":"IF('Outil Recensement simplifié'!BC15=\"Oui\",\"Yes\",IF('Outil Recensement simplifié'!BC15=\"Non\",\"No\",IF('Outil Recensement simplifié'!BC15=\"O\",\"Yes\",IF('Outil Recensement simplifié'!BC15=\"N\",\"No\",\"\"))))","v":""},{"$f":"IF('Outil Recensement simplifié'!BD15=\"Oui\",\"Yes\",IF('Outil Recensement simplifié'!BD15=\"Non\",\"No\",IF('Outil Recensement simplifié'!BD15=\"O\",\"Yes\",IF('Outil Recensement simplifié'!BD15=\"N\",\"No\",\"\"))))","v":""},{"$f":"IF('Outil Recensement simplifié'!BE15>0,'Outil Recensement simplifié'!BE15,\"\")","v":""},{"$f":"IF('Outil Recensement simplifié'!BF15>0,'Outil Recensement simplifié'!BF15,\"\")","v":""},{"$f":"IF('Outil Recensement simplifié'!BG15>0,'Outil Recensement simplifié'!BG15,\"\")","v":""},{"$f":"IF('Outil Recensement simplifié'!BH15=\"Homme\",\"Male\",IF('Outil Recensement simplifié'!BH15=\"Femme\",\"Female\",IF('Outil Recensement simplifié'!BH15=\"H\",\"Male\",IF('Outil Recensement simplifié'!BH15=\"F\",\"Female\",\"\"))))","v":""},{"$f":"IF('Outil Recensement simplifié'!BI15=\"Oui\",\"Yes\",IF('Outil Recensement simplifié'!BI15=\"Non\",\"No\",IF('Outil Recensement simplifié'!BI15=\"O\",\"Yes\",IF('Outil Recensement simplifié'!BI15=\"N\",\"No\",\"\"))))","v":""},{"$f":"IF('Outil Recensement simplifié'!BJ15=\"Oui\",\"Yes\",IF('Outil Recensement simplifié'!BJ15=\"Non\",\"No\",IF('Outil Recensement simplifié'!BJ15=\"O\",\"Yes\",IF('Outil Recensement simplifié'!BJ15=\"N\",\"No\",\"\"))))","v":""},{"$f":"IF('Outil Recensement simplifié'!BK15>0,'Outil Recensement simplifié'!BK15,\"\")","v":""},{"$f":"IF('Outil Recensement simplifié'!BL15>0,'Outil Recensement simplifié'!BL15,\"\")","v":""},{"$f":"IF('Outil Recensement simplifié'!BM15>0,'Outil Recensement simplifié'!BM15,\"\")","v":""},{"$f":"IF('Outil Recensement simplifié'!BN15=\"Homme\",\"Male\",IF('Outil Recensement simplifié'!BN15=\"Femme\",\"Female\",IF('Outil Recensement simplifié'!BN15=\"H\",\"Male\",IF('Outil Recensement simplifié'!BN15=\"F\",\"Female\",\"\"))))","v":""},{"$f":"IF('Outil Recensement simplifié'!BO15=\"Oui\",\"Yes\",IF('Outil Recensement simplifié'!BO15=\"Non\",\"No\",IF('Outil Recensement simplifié'!BO15=\"O\",\"Yes\",IF('Outil Recensement simplifié'!BO15=\"N\",\"No\",\"\"))))","v":""},{"$f":"IF('Outil Recensement simplifié'!BP15=\"Oui\",\"Yes\",IF('Outil Recensement simplifié'!BP15=\"Non\",\"No\",IF('Outil Recensement simplifié'!BP15=\"O\",\"Yes\",IF('Outil Recensement simplifié'!BP15=\"N\",\"No\",\"\"))))","v":""},{"$f":"IF('Outil Recensement simplifié'!BQ15>0,'Outil Recensement simplifié'!BQ15,\"\")","v":""},{"$f":"IF('Outil Recensement simplifié'!BR15>0,'Outil Recensement simplifié'!BR15,\"\")","v":""},{"$f":"IF('Outil Recensement simplifié'!BS15>0,'Outil Recensement simplifié'!BS15,\"\")","v":""},{"$f":"IF('Outil Recensement simplifié'!BT15=\"Homme\",\"Male\",IF('Outil Recensement simplifié'!BT15=\"Femme\",\"Female\",IF('Outil Recensement simplifié'!BT15=\"H\",\"Male\",IF('Outil Recensement simplifié'!BT15=\"F\",\"Female\",\"\"))))","v":""},{"$f":"IF('Outil Recensement simplifié'!BU15=\"Oui\",\"Yes\",IF('Outil Recensement simplifié'!BU15=\"Non\",\"No\",IF('Outil Recensement simplifié'!BU15=\"O\",\"Yes\",IF('Outil Recensement simplifié'!BU15=\"N\",\"No\",\"\"))))","v":""},{"$f":"IF('Outil Recensement simplifié'!BV15=\"Oui\",\"Yes\",IF('Outil Recensement simplifié'!BV15=\"Non\",\"No\",IF('Outil Recensement simplifié'!BV15=\"O\",\"Yes\",IF('Outil Recensement simplifié'!BV15=\"N\",\"No\",\"\"))))","v":""},{"$f":"IF('Outil Recensement simplifié'!BW15>0,'Outil Recensement simplifié'!BW15,\"\")","v":""},{"$f":"IF('Outil Recensement simplifié'!BX15>0,'Outil Recensement simplifié'!BX15,\"\")","v":""},{"$f":"IF('Outil Recensement simplifié'!BY15>0,'Outil Recensement simplifié'!BY15,\"\")","v":""},{"$f":"IF('Outil Recensement simplifié'!BZ15=\"Homme\",\"Male\",IF('Outil Recensement simplifié'!BZ15=\"Femme\",\"Female\",IF('Outil Recensement simplifié'!BZ15=\"H\",\"Male\",IF('Outil Recensement simplifié'!BZ15=\"F\",\"Female\",\"\"))))","v":""},{"$f":"IF('Outil Recensement simplifié'!CA15=\"Oui\",\"Yes\",IF('Outil Recensement simplifié'!CA15=\"Non\",\"No\",IF('Outil Recensement simplifié'!CA15=\"O\",\"Yes\",IF('Outil Recensement simplifié'!CA15=\"N\",\"No\",\"\"))))","v":""},{"$f":"IF('Outil Recensement simplifié'!CB15=\"Oui\",\"Yes\",IF('Outil Recensement simplifié'!CB15=\"Non\",\"No\",IF('Outil Recensement simplifié'!CB15=\"O\",\"Yes\",IF('Outil Recensement simplifié'!CB15=\"N\",\"No\",\"\"))))","v":""},{"$f":"IF('Outil Recensement simplifié'!CH15>0,'Outil Recensement simplifié'!CH15,\"\")","v":"    "}]
[{"$f":"IF('Outil Recensement simplifié'!A16>0,'Outil Recensement simplifié'!A16,\"\")","v":""},{"$f":"IF('Outil Recensement simplifié'!B16>0,'Outil Recensement simplifié'!B16,\"\")","v":""},{"$f":"IF('Outil Recensement simplifié'!C16>0,'Outil Recensement simplifié'!C16,\"\")","v":""},{"$f":"IF('Outil Recensement simplifié'!D16>0,'Outil Recensement simplifié'!D16,\"\")","v":""},{"$f":"IF('Outil Recensement simplifié'!E16>0,TEXT('Outil Recensement simplifié'!E16,\"000\"),\"\")","v":""},{"$f":"IF('Outil Recensement simplifié'!F16>0,'Outil Recensement simplifié'!F16,\"\")","v":""},{"$f":"IF('Outil Recensement simplifié'!G16>0,'Outil Recensement simplifié'!G16,\"\")","v":""},{"$f":"IF('Outil Recensement simplifié'!I16>0,'Outil Recensement simplifié'!I16,\"\")","v":""},{"$f":"IF('Outil Recensement simplifié'!J16>0,'Outil Recensement simplifié'!J16,\"\")","v":""},{"$f":"IF('Outil Recensement simplifié'!K16>0,'Outil Recensement simplifié'!K16,\"\")","v":""},{"$f":"IF('Outil Recensement simplifié'!L16>0,'Outil Recensement simplifié'!L16,\"\")","v":""},{"$f":"IF('Outil Recensement simplifié'!M16=\"Homme\",\"Male\",IF('Outil Recensement simplifié'!M16=\"Femme\",\"Female\",IF('Outil Recensement simplifié'!M16=\"H\",\"Male\",IF('Outil Recensement simplifié'!M16=\"F\",\"Female\",\"\"))))","v":""},{"$f":"IF('Outil Recensement simplifié'!N16=\"Oui\",\"Yes\",IF('Outil Recensement simplifié'!N16=\"Non\",\"No\",IF('Outil Recensement simplifié'!N16=\"O\",\"Yes\",IF('Outil Recensement simplifié'!N16=\"N\",\"No\",\"\"))))","v":""},{"$f":"IF('Outil Recensement simplifié'!O16=\"Non\",\"Single\",IF('Outil Recensement simplifié'!O16=\"Oui\",\"Family\",IF('Outil Recensement simplifié'!O16=\"N\",\"Single\",IF('Outil Recensement simplifié'!O16=\"O\",\"Family\",IF('Outil Recensement simplifié'!O16=\"En vigueur\",\"Family\",\"\")))))","v":""},{"$f":"IF('Outil Recensement simplifié'!P16=\"Anglais\",\"English\",IF('Outil Recensement simplifié'!P16=\"Français\",\"French\",IF('Outil Recensement simplifié'!P16=\"A\",\"English\",IF('Outil Recensement simplifié'!P16=\"F\",\"French\",\"\"))))","v":""},{"$f":"IF('Outil Recensement simplifié'!Q16=\"Oui\",\"Yes\",IF('Outil Recensement simplifié'!Q16=\"Non\",\"No\",IF('Outil Recensement simplifié'!Q16=\"O\",\"Yes\",IF('Outil Recensement simplifié'!Q16=\"N\",\"No\",\"\"))))","v":""},{"$f":"IF('Outil Recensement simplifié'!R16>0,'Outil Recensement simplifié'!R16,\"\")","v":""},{"$f":"IF('Outil Recensement simplifié'!S16=\"Annuelle\",\"Annually\",IF('Outil Recensement simplifié'!S16=\"Mensuelle\",\"Monthly\",IF('Outil Recensement simplifié'!S16=\"Aux deux semaines\",\"Biweekly\",IF('Outil Recensement simplifié'!S16=\"Bimensuelle\",\"Semi-Monthly\",IF('Outil Recensement simplifié'!S16=\"Hebdomadaire\",\"Weekly\",IF('Outil Recensement simplifié'!S16=\"Horaire\",\"Hourly\",\"\"))))))","v":""},{"$f":"IF('Outil Recensement simplifié'!T16>0,'Outil Recensement simplifié'!T16,\"\")","v":""},{"$f":"IF('Outil Recensement simplifié'!U16>0,'Outil Recensement simplifié'!U16,\"\")","v":""},{"$f":"IF('Outil Recensement simplifié'!V16=\"Exemptée\",\"Yes\",\"\")","v":""},{"$f":"IF('Outil Recensement simplifié'!W16=\"Exemptée\",\"Yes\",\"\")","v":""},{"$f":"IF('Outil Recensement simplifié'!X16>0,'Outil Recensement simplifié'!X16,\"\")","v":""},{"$f":"IF('Outil Recensement simplifié'!Y16>0,'Outil Recensement simplifié'!Y16,\"\")","v":""},{"$f":"IF('Outil Recensement simplifié'!Z16>0,'Outil Recensement simplifié'!Z16,\"\")","v":""},{"$f":"IF('Outil Recensement simplifié'!AA16>0,'Outil Recensement simplifié'!AA16,\"\")","v":""},{"$f":"IF('Outil Recensement simplifié'!AB16>0,'Outil Recensement simplifié'!AB16,\"\")","v":""},{"$f":"IF('Outil Recensement simplifié'!AC16>0,'Outil Recensement simplifié'!AC16,\"\")","v":" "},{"$f":"IF('Outil Recensement simplifié'!AE16>0,'Outil Recensement simplifié'!AE16&\" \",\"\")&IF('Outil Recensement simplifié'!AD16>0,'Outil Recensement simplifié'!AD16,\"\")","v":""},null,{"$f":"IF('Outil Recensement simplifié'!AF16>0,'Outil Recensement simplifié'!AF16,\"\")","v":""},{"$f":"IF('Outil Recensement simplifié'!AG16>0,'Outil Recensement simplifié'!AG16,\"\")","v":""},{"$f":"IF('Outil Recensement simplifié'!AH16>0,'Outil Recensement simplifié'!AH16,\"\")","v":""},{"$f":"IF('Outil Recensement simplifié'!AI16>0,'Outil Recensement simplifié'!AI16,\"\")","v":""},{"$f":"IF('Outil Recensement simplifié'!AJ16>0,'Outil Recensement simplifié'!AJ16,\"\")","v":""},{"$f":"IF('Outil Recensement simplifié'!AK16>0,'Outil Recensement simplifié'!AK16,\"\")","v":""},{"$f":"IF('Outil Recensement simplifié'!AL16>0,'Outil Recensement simplifié'!AL16,\"\")","v":""},{"$f":"IF('Outil Recensement simplifié'!AM16>0,'Outil Recensement simplifié'!AM16,\"\")","v":""},{"$f":"IF('Outil Recensement simplifié'!AN16=\"Homme\",\"Male\",IF('Outil Recensement simplifié'!AN16=\"Femme\",\"Female\",IF('Outil Recensement simplifié'!AN16=\"H\",\"Male\",IF('Outil Recensement simplifié'!AN16=\"F\",\"Female\",\"\"))))","v":""},{"$f":"IF('Outil Recensement simplifié'!AO16=\"Individuelle\",\"Single\",IF('Outil Recensement simplifié'!AO16=\"Famille\",\"Family\",IF('Outil Recensement simplifié'!AO16=\"Individuel\",\"Single\",IF('Outil Recensement simplifié'!AO16=\"Familiale\",\"Family\",IF('Outil Recensement simplifié'!AO16=\"I\",\"Single\",IF('Outil Recensement simplifié'!AO16=\"F\",\"Family\",\"\"))))))","v":""},{"$f":"IF('Outil Recensement simplifié'!AP16=\"Individuelle\",\"Single\",IF('Outil Recensement simplifié'!AP16=\"Famille\",\"Family\",IF('Outil Recensement simplifié'!AP16=\"Individuel\",\"Single\",IF('Outil Recensement simplifié'!AP16=\"Familiale\",\"Family\",IF('Outil Recensement simplifié'!AP16=\"I\",\"Single\",IF('Outil Recensement simplifié'!AP16=\"F\",\"Family\",\"\"))))))","v":""},{"$f":"IF('Outil Recensement simplifié'!AQ16>0,'Outil Recensement simplifié'!AQ16,\"\")","v":""},{"$f":"IF('Outil Recensement simplifié'!AR16=\"Oui\",\"Yes\",IF('Outil Recensement simplifié'!AR16=\"Non\",\"No\",IF('Outil Recensement simplifié'!AR16=\"O\",\"Yes\",IF('Outil Recensement simplifié'!AR16=\"N\",\"No\",\"\"))))","v":""},{"$f":"IF('Outil Recensement simplifié'!AS16>0,'Outil Recensement simplifié'!AS16,\"\")","v":""},{"$f":"IF('Outil Recensement simplifié'!AT16>0,'Outil Recensement simplifié'!AT16,\"\")","v":""},{"$f":"IF('Outil Recensement simplifié'!AU16>0,'Outil Recensement simplifié'!AU16,\"\")","v":""},{"$f":"IF('Outil Recensement simplifié'!AV16=\"Homme\",\"Male\",IF('Outil Recensement simplifié'!AV16=\"Femme\",\"Female\",IF('Outil Recensement simplifié'!AV16=\"H\",\"Male\",IF('Outil Recensement simplifié'!AV16=\"F\",\"Female\",\"\"))))","v":""},{"$f":"IF('Outil Recensement simplifié'!AW16=\"Oui\",\"Yes\",IF('Outil Recensement simplifié'!AW16=\"Non\",\"No\",IF('Outil Recensement simplifié'!AW16=\"O\",\"Yes\",IF('Outil Recensement simplifié'!AW16=\"N\",\"No\",\"\"))))","v":""},{"$f":"IF('Outil Recensement simplifié'!AX16=\"Oui\",\"Yes\",IF('Outil Recensement simplifié'!AX16=\"Non\",\"No\",IF('Outil Recensement simplifié'!AX16=\"O\",\"Yes\",IF('Outil Recensement simplifié'!AX16=\"N\",\"No\",\"\"))))","v":""},{"$f":"IF('Outil Recensement simplifié'!AY16>0,'Outil Recensement simplifié'!AY16,\"\")","v":""},{"$f":"IF('Outil Recensement simplifié'!AZ16>0,'Outil Recensement simplifié'!AZ16,\"\")","v":""},{"$f":"IF('Outil Recensement simplifié'!BA16>0,'Outil Recensement simplifié'!BA16,\"\")","v":""},{"$f":"IF('Outil Recensement simplifié'!BB16=\"Homme\",\"Male\",IF('Outil Recensement simplifié'!BB16=\"Femme\",\"Female\",IF('Outil Recensement simplifié'!BB16=\"H\",\"Male\",IF('Outil Recensement simplifié'!BB16=\"F\",\"Female\",\"\"))))","v":""},{"$f":"IF('Outil Recensement simplifié'!BC16=\"Oui\",\"Yes\",IF('Outil Recensement simplifié'!BC16=\"Non\",\"No\",IF('Outil Recensement simplifié'!BC16=\"O\",\"Yes\",IF('Outil Recensement simplifié'!BC16=\"N\",\"No\",\"\"))))","v":""},{"$f":"IF('Outil Recensement simplifié'!BD16=\"Oui\",\"Yes\",IF('Outil Recensement simplifié'!BD16=\"Non\",\"No\",IF('Outil Recensement simplifié'!BD16=\"O\",\"Yes\",IF('Outil Recensement simplifié'!BD16=\"N\",\"No\",\"\"))))","v":""},{"$f":"IF('Outil Recensement simplifié'!BE16>0,'Outil Recensement simplifié'!BE16,\"\")","v":""},{"$f":"IF('Outil Recensement simplifié'!BF16>0,'Outil Recensement simplifié'!BF16,\"\")","v":""},{"$f":"IF('Outil Recensement simplifié'!BG16>0,'Outil Recensement simplifié'!BG16,\"\")","v":""},{"$f":"IF('Outil Recensement simplifié'!BH16=\"Homme\",\"Male\",IF('Outil Recensement simplifié'!BH16=\"Femme\",\"Female\",IF('Outil Recensement simplifié'!BH16=\"H\",\"Male\",IF('Outil Recensement simplifié'!BH16=\"F\",\"Female\",\"\"))))","v":""},{"$f":"IF('Outil Recensement simplifié'!BI16=\"Oui\",\"Yes\",IF('Outil Recensement simplifié'!BI16=\"Non\",\"No\",IF('Outil Recensement simplifié'!BI16=\"O\",\"Yes\",IF('Outil Recensement simplifié'!BI16=\"N\",\"No\",\"\"))))","v":""},{"$f":"IF('Outil Recensement simplifié'!BJ16=\"Oui\",\"Yes\",IF('Outil Recensement simplifié'!BJ16=\"Non\",\"No\",IF('Outil Recensement simplifié'!BJ16=\"O\",\"Yes\",IF('Outil Recensement simplifié'!BJ16=\"N\",\"No\",\"\"))))","v":""},{"$f":"IF('Outil Recensement simplifié'!BK16>0,'Outil Recensement simplifié'!BK16,\"\")","v":""},{"$f":"IF('Outil Recensement simplifié'!BL16>0,'Outil Recensement simplifié'!BL16,\"\")","v":""},{"$f":"IF('Outil Recensement simplifié'!BM16>0,'Outil Recensement simplifié'!BM16,\"\")","v":""},{"$f":"IF('Outil Recensement simplifié'!BN16=\"Homme\",\"Male\",IF('Outil Recensement simplifié'!BN16=\"Femme\",\"Female\",IF('Outil Recensement simplifié'!BN16=\"H\",\"Male\",IF('Outil Recensement simplifié'!BN16=\"F\",\"Female\",\"\"))))","v":""},{"$f":"IF('Outil Recensement simplifié'!BO16=\"Oui\",\"Yes\",IF('Outil Recensement simplifié'!BO16=\"Non\",\"No\",IF('Outil Recensement simplifié'!BO16=\"O\",\"Yes\",IF('Outil Recensement simplifié'!BO16=\"N\",\"No\",\"\"))))","v":""},{"$f":"IF('Outil Recensement simplifié'!BP16=\"Oui\",\"Yes\",IF('Outil Recensement simplifié'!BP16=\"Non\",\"No\",IF('Outil Recensement simplifié'!BP16=\"O\",\"Yes\",IF('Outil Recensement simplifié'!BP16=\"N\",\"No\",\"\"))))","v":""},{"$f":"IF('Outil Recensement simplifié'!BQ16>0,'Outil Recensement simplifié'!BQ16,\"\")","v":""},{"$f":"IF('Outil Recensement simplifié'!BR16>0,'Outil Recensement simplifié'!BR16,\"\")","v":""},{"$f":"IF('Outil Recensement simplifié'!BS16>0,'Outil Recensement simplifié'!BS16,\"\")","v":""},{"$f":"IF('Outil Recensement simplifié'!BT16=\"Homme\",\"Male\",IF('Outil Recensement simplifié'!BT16=\"Femme\",\"Female\",IF('Outil Recensement simplifié'!BT16=\"H\",\"Male\",IF('Outil Recensement simplifié'!BT16=\"F\",\"Female\",\"\"))))","v":""},{"$f":"IF('Outil Recensement simplifié'!BU16=\"Oui\",\"Yes\",IF('Outil Recensement simplifié'!BU16=\"Non\",\"No\",IF('Outil Recensement simplifié'!BU16=\"O\",\"Yes\",IF('Outil Recensement simplifié'!BU16=\"N\",\"No\",\"\"))))","v":""},{"$f":"IF('Outil Recensement simplifié'!BV16=\"Oui\",\"Yes\",IF('Outil Recensement simplifié'!BV16=\"Non\",\"No\",IF('Outil Recensement simplifié'!BV16=\"O\",\"Yes\",IF('Outil Recensement simplifié'!BV16=\"N\",\"No\",\"\"))))","v":""},{"$f":"IF('Outil Recensement simplifié'!BW16>0,'Outil Recensement simplifié'!BW16,\"\")","v":""},{"$f":"IF('Outil Recensement simplifié'!BX16>0,'Outil Recensement simplifié'!BX16,\"\")","v":""},{"$f":"IF('Outil Recensement simplifié'!BY16>0,'Outil Recensement simplifié'!BY16,\"\")","v":""},{"$f":"IF('Outil Recensement simplifié'!BZ16=\"Homme\",\"Male\",IF('Outil Recensement simplifié'!BZ16=\"Femme\",\"Female\",IF('Outil Recensement simplifié'!BZ16=\"H\",\"Male\",IF('Outil Recensement simplifié'!BZ16=\"F\",\"Female\",\"\"))))","v":""},{"$f":"IF('Outil Recensement simplifié'!CA16=\"Oui\",\"Yes\",IF('Outil Recensement simplifié'!CA16=\"Non\",\"No\",IF('Outil Recensement simplifié'!CA16=\"O\",\"Yes\",IF('Outil Recensement simplifié'!CA16=\"N\",\"No\",\"\"))))","v":""},{"$f":"IF('Outil Recensement simplifié'!CB16=\"Oui\",\"Yes\",IF('Outil Recensement simplifié'!CB16=\"Non\",\"No\",IF('Outil Recensement simplifié'!CB16=\"O\",\"Yes\",IF('Outil Recensement simplifié'!CB16=\"N\",\"No\",\"\"))))","v":""},{"$f":"IF('Outil Recensement simplifié'!CH16>0,'Outil Recensement simplifié'!CH16,\"\")","v":"    "}]
[{"$f":"IF('Outil Recensement simplifié'!A17>0,'Outil Recensement simplifié'!A17,\"\")","v":""},{"$f":"IF('Outil Recensement simplifié'!B17>0,'Outil Recensement simplifié'!B17,\"\")","v":""},{"$f":"IF('Outil Recensement simplifié'!C17>0,'Outil Recensement simplifié'!C17,\"\")","v":""},{"$f":"IF('Outil Recensement simplifié'!D17>0,'Outil Recensement simplifié'!D17,\"\")","v":""},{"$f":"IF('Outil Recensement simplifié'!E17>0,TEXT('Outil Recensement simplifié'!E17,\"000\"),\"\")","v":""},{"$f":"IF('Outil Recensement simplifié'!F17>0,'Outil Recensement simplifié'!F17,\"\")","v":""},{"$f":"IF('Outil Recensement simplifié'!G17>0,'Outil Recensement simplifié'!G17,\"\")","v":""},{"$f":"IF('Outil Recensement simplifié'!I17>0,'Outil Recensement simplifié'!I17,\"\")","v":""},{"$f":"IF('Outil Recensement simplifié'!J17>0,'Outil Recensement simplifié'!J17,\"\")","v":""},{"$f":"IF('Outil Recensement simplifié'!K17>0,'Outil Recensement simplifié'!K17,\"\")","v":""},{"$f":"IF('Outil Recensement simplifié'!L17>0,'Outil Recensement simplifié'!L17,\"\")","v":""},{"$f":"IF('Outil Recensement simplifié'!M17=\"Homme\",\"Male\",IF('Outil Recensement simplifié'!M17=\"Femme\",\"Female\",IF('Outil Recensement simplifié'!M17=\"H\",\"Male\",IF('Outil Recensement simplifié'!M17=\"F\",\"Female\",\"\"))))","v":""},{"$f":"IF('Outil Recensement simplifié'!N17=\"Oui\",\"Yes\",IF('Outil Recensement simplifié'!N17=\"Non\",\"No\",IF('Outil Recensement simplifié'!N17=\"O\",\"Yes\",IF('Outil Recensement simplifié'!N17=\"N\",\"No\",\"\"))))","v":""},{"$f":"IF('Outil Recensement simplifié'!O17=\"Non\",\"Single\",IF('Outil Recensement simplifié'!O17=\"Oui\",\"Family\",IF('Outil Recensement simplifié'!O17=\"N\",\"Single\",IF('Outil Recensement simplifié'!O17=\"O\",\"Family\",IF('Outil Recensement simplifié'!O17=\"En vigueur\",\"Family\",\"\")))))","v":""},{"$f":"IF('Outil Recensement simplifié'!P17=\"Anglais\",\"English\",IF('Outil Recensement simplifié'!P17=\"Français\",\"French\",IF('Outil Recensement simplifié'!P17=\"A\",\"English\",IF('Outil Recensement simplifié'!P17=\"F\",\"French\",\"\"))))","v":""},{"$f":"IF('Outil Recensement simplifié'!Q17=\"Oui\",\"Yes\",IF('Outil Recensement simplifié'!Q17=\"Non\",\"No\",IF('Outil Recensement simplifié'!Q17=\"O\",\"Yes\",IF('Outil Recensement simplifié'!Q17=\"N\",\"No\",\"\"))))","v":""},{"$f":"IF('Outil Recensement simplifié'!R17>0,'Outil Recensement simplifié'!R17,\"\")","v":""},{"$f":"IF('Outil Recensement simplifié'!S17=\"Annuelle\",\"Annually\",IF('Outil Recensement simplifié'!S17=\"Mensuelle\",\"Monthly\",IF('Outil Recensement simplifié'!S17=\"Aux deux semaines\",\"Biweekly\",IF('Outil Recensement simplifié'!S17=\"Bimensuelle\",\"Semi-Monthly\",IF('Outil Recensement simplifié'!S17=\"Hebdomadaire\",\"Weekly\",IF('Outil Recensement simplifié'!S17=\"Horaire\",\"Hourly\",\"\"))))))","v":""},{"$f":"IF('Outil Recensement simplifié'!T17>0,'Outil Recensement simplifié'!T17,\"\")","v":""},{"$f":"IF('Outil Recensement simplifié'!U17>0,'Outil Recensement simplifié'!U17,\"\")","v":""},{"$f":"IF('Outil Recensement simplifié'!V17=\"Exemptée\",\"Yes\",\"\")","v":""},{"$f":"IF('Outil Recensement simplifié'!W17=\"Exemptée\",\"Yes\",\"\")","v":""},{"$f":"IF('Outil Recensement simplifié'!X17>0,'Outil Recensement simplifié'!X17,\"\")","v":""},{"$f":"IF('Outil Recensement simplifié'!Y17>0,'Outil Recensement simplifié'!Y17,\"\")","v":""},{"$f":"IF('Outil Recensement simplifié'!Z17>0,'Outil Recensement simplifié'!Z17,\"\")","v":""},{"$f":"IF('Outil Recensement simplifié'!AA17>0,'Outil Recensement simplifié'!AA17,\"\")","v":""},{"$f":"IF('Outil Recensement simplifié'!AB17>0,'Outil Recensement simplifié'!AB17,\"\")","v":""},{"$f":"IF('Outil Recensement simplifié'!AC17>0,'Outil Recensement simplifié'!AC17,\"\")","v":" "},{"$f":"IF('Outil Recensement simplifié'!AE17>0,'Outil Recensement simplifié'!AE17&\" \",\"\")&IF('Outil Recensement simplifié'!AD17>0,'Outil Recensement simplifié'!AD17,\"\")","v":""},null,{"$f":"IF('Outil Recensement simplifié'!AF17>0,'Outil Recensement simplifié'!AF17,\"\")","v":""},{"$f":"IF('Outil Recensement simplifié'!AG17>0,'Outil Recensement simplifié'!AG17,\"\")","v":""},{"$f":"IF('Outil Recensement simplifié'!AH17>0,'Outil Recensement simplifié'!AH17,\"\")","v":""},{"$f":"IF('Outil Recensement simplifié'!AI17>0,'Outil Recensement simplifié'!AI17,\"\")","v":""},{"$f":"IF('Outil Recensement simplifié'!AJ17>0,'Outil Recensement simplifié'!AJ17,\"\")","v":""},{"$f":"IF('Outil Recensement simplifié'!AK17>0,'Outil Recensement simplifié'!AK17,\"\")","v":""},{"$f":"IF('Outil Recensement simplifié'!AL17>0,'Outil Recensement simplifié'!AL17,\"\")","v":""},{"$f":"IF('Outil Recensement simplifié'!AM17>0,'Outil Recensement simplifié'!AM17,\"\")","v":""},{"$f":"IF('Outil Recensement simplifié'!AN17=\"Homme\",\"Male\",IF('Outil Recensement simplifié'!AN17=\"Femme\",\"Female\",IF('Outil Recensement simplifié'!AN17=\"H\",\"Male\",IF('Outil Recensement simplifié'!AN17=\"F\",\"Female\",\"\"))))","v":""},{"$f":"IF('Outil Recensement simplifié'!AO17=\"Individuelle\",\"Single\",IF('Outil Recensement simplifié'!AO17=\"Famille\",\"Family\",IF('Outil Recensement simplifié'!AO17=\"Individuel\",\"Single\",IF('Outil Recensement simplifié'!AO17=\"Familiale\",\"Family\",IF('Outil Recensement simplifié'!AO17=\"I\",\"Single\",IF('Outil Recensement simplifié'!AO17=\"F\",\"Family\",\"\"))))))","v":""},{"$f":"IF('Outil Recensement simplifié'!AP17=\"Individuelle\",\"Single\",IF('Outil Recensement simplifié'!AP17=\"Famille\",\"Family\",IF('Outil Recensement simplifié'!AP17=\"Individuel\",\"Single\",IF('Outil Recensement simplifié'!AP17=\"Familiale\",\"Family\",IF('Outil Recensement simplifié'!AP17=\"I\",\"Single\",IF('Outil Recensement simplifié'!AP17=\"F\",\"Family\",\"\"))))))","v":""},{"$f":"IF('Outil Recensement simplifié'!AQ17>0,'Outil Recensement simplifié'!AQ17,\"\")","v":""},{"$f":"IF('Outil Recensement simplifié'!AR17=\"Oui\",\"Yes\",IF('Outil Recensement simplifié'!AR17=\"Non\",\"No\",IF('Outil Recensement simplifié'!AR17=\"O\",\"Yes\",IF('Outil Recensement simplifié'!AR17=\"N\",\"No\",\"\"))))","v":""},{"$f":"IF('Outil Recensement simplifié'!AS17>0,'Outil Recensement simplifié'!AS17,\"\")","v":""},{"$f":"IF('Outil Recensement simplifié'!AT17>0,'Outil Recensement simplifié'!AT17,\"\")","v":""},{"$f":"IF('Outil Recensement simplifié'!AU17>0,'Outil Recensement simplifié'!AU17,\"\")","v":""},{"$f":"IF('Outil Recensement simplifié'!AV17=\"Homme\",\"Male\",IF('Outil Recensement simplifié'!AV17=\"Femme\",\"Female\",IF('Outil Recensement simplifié'!AV17=\"H\",\"Male\",IF('Outil Recensement simplifié'!AV17=\"F\",\"Female\",\"\"))))","v":""},{"$f":"IF('Outil Recensement simplifié'!AW17=\"Oui\",\"Yes\",IF('Outil Recensement simplifié'!AW17=\"Non\",\"No\",IF('Outil Recensement simplifié'!AW17=\"O\",\"Yes\",IF('Outil Recensement simplifié'!AW17=\"N\",\"No\",\"\"))))","v":""},{"$f":"IF('Outil Recensement simplifié'!AX17=\"Oui\",\"Yes\",IF('Outil Recensement simplifié'!AX17=\"Non\",\"No\",IF('Outil Recensement simplifié'!AX17=\"O\",\"Yes\",IF('Outil Recensement simplifié'!AX17=\"N\",\"No\",\"\"))))","v":""},{"$f":"IF('Outil Recensement simplifié'!AY17>0,'Outil Recensement simplifié'!AY17,\"\")","v":""},{"$f":"IF('Outil Recensement simplifié'!AZ17>0,'Outil Recensement simplifié'!AZ17,\"\")","v":""},{"$f":"IF('Outil Recensement simplifié'!BA17>0,'Outil Recensement simplifié'!BA17,\"\")","v":""},{"$f":"IF('Outil Recensement simplifié'!BB17=\"Homme\",\"Male\",IF('Outil Recensement simplifié'!BB17=\"Femme\",\"Female\",IF('Outil Recensement simplifié'!BB17=\"H\",\"Male\",IF('Outil Recensement simplifié'!BB17=\"F\",\"Female\",\"\"))))","v":""},{"$f":"IF('Outil Recensement simplifié'!BC17=\"Oui\",\"Yes\",IF('Outil Recensement simplifié'!BC17=\"Non\",\"No\",IF('Outil Recensement simplifié'!BC17=\"O\",\"Yes\",IF('Outil Recensement simplifié'!BC17=\"N\",\"No\",\"\"))))","v":""},{"$f":"IF('Outil Recensement simplifié'!BD17=\"Oui\",\"Yes\",IF('Outil Recensement simplifié'!BD17=\"Non\",\"No\",IF('Outil Recensement simplifié'!BD17=\"O\",\"Yes\",IF('Outil Recensement simplifié'!BD17=\"N\",\"No\",\"\"))))","v":""},{"$f":"IF('Outil Recensement simplifié'!BE17>0,'Outil Recensement simplifié'!BE17,\"\")","v":""},{"$f":"IF('Outil Recensement simplifié'!BF17>0,'Outil Recensement simplifié'!BF17,\"\")","v":""},{"$f":"IF('Outil Recensement simplifié'!BG17>0,'Outil Recensement simplifié'!BG17,\"\")","v":""},{"$f":"IF('Outil Recensement simplifié'!BH17=\"Homme\",\"Male\",IF('Outil Recensement simplifié'!BH17=\"Femme\",\"Female\",IF('Outil Recensement simplifié'!BH17=\"H\",\"Male\",IF('Outil Recensement simplifié'!BH17=\"F\",\"Female\",\"\"))))","v":""},{"$f":"IF('Outil Recensement simplifié'!BI17=\"Oui\",\"Yes\",IF('Outil Recensement simplifié'!BI17=\"Non\",\"No\",IF('Outil Recensement simplifié'!BI17=\"O\",\"Yes\",IF('Outil Recensement simplifié'!BI17=\"N\",\"No\",\"\"))))","v":""},{"$f":"IF('Outil Recensement simplifié'!BJ17=\"Oui\",\"Yes\",IF('Outil Recensement simplifié'!BJ17=\"Non\",\"No\",IF('Outil Recensement simplifié'!BJ17=\"O\",\"Yes\",IF('Outil Recensement simplifié'!BJ17=\"N\",\"No\",\"\"))))","v":""},{"$f":"IF('Outil Recensement simplifié'!BK17>0,'Outil Recensement simplifié'!BK17,\"\")","v":""},{"$f":"IF('Outil Recensement simplifié'!BL17>0,'Outil Recensement simplifié'!BL17,\"\")","v":""},{"$f":"IF('Outil Recensement simplifié'!BM17>0,'Outil Recensement simplifié'!BM17,\"\")","v":""},{"$f":"IF('Outil Recensement simplifié'!BN17=\"Homme\",\"Male\",IF('Outil Recensement simplifié'!BN17=\"Femme\",\"Female\",IF('Outil Recensement simplifié'!BN17=\"H\",\"Male\",IF('Outil Recensement simplifié'!BN17=\"F\",\"Female\",\"\"))))","v":""},{"$f":"IF('Outil Recensement simplifié'!BO17=\"Oui\",\"Yes\",IF('Outil Recensement simplifié'!BO17=\"Non\",\"No\",IF('Outil Recensement simplifié'!BO17=\"O\",\"Yes\",IF('Outil Recensement simplifié'!BO17=\"N\",\"No\",\"\"))))","v":""},{"$f":"IF('Outil Recensement simplifié'!BP17=\"Oui\",\"Yes\",IF('Outil Recensement simplifié'!BP17=\"Non\",\"No\",IF('Outil Recensement simplifié'!BP17=\"O\",\"Yes\",IF('Outil Recensement simplifié'!BP17=\"N\",\"No\",\"\"))))","v":""},{"$f":"IF('Outil Recensement simplifié'!BQ17>0,'Outil Recensement simplifié'!BQ17,\"\")","v":""},{"$f":"IF('Outil Recensement simplifié'!BR17>0,'Outil Recensement simplifié'!BR17,\"\")","v":""},{"$f":"IF('Outil Recensement simplifié'!BS17>0,'Outil Recensement simplifié'!BS17,\"\")","v":""},{"$f":"IF('Outil Recensement simplifié'!BT17=\"Homme\",\"Male\",IF('Outil Recensement simplifié'!BT17=\"Femme\",\"Female\",IF('Outil Recensement simplifié'!BT17=\"H\",\"Male\",IF('Outil Recensement simplifié'!BT17=\"F\",\"Female\",\"\"))))","v":""},{"$f":"IF('Outil Recensement simplifié'!BU17=\"Oui\",\"Yes\",IF('Outil Recensement simplifié'!BU17=\"Non\",\"No\",IF('Outil Recensement simplifié'!BU17=\"O\",\"Yes\",IF('Outil Recensement simplifié'!BU17=\"N\",\"No\",\"\"))))","v":""},{"$f":"IF('Outil Recensement simplifié'!BV17=\"Oui\",\"Yes\",IF('Outil Recensement simplifié'!BV17=\"Non\",\"No\",IF('Outil Recensement simplifié'!BV17=\"O\",\"Yes\",IF('Outil Recensement simplifié'!BV17=\"N\",\"No\",\"\"))))","v":""},{"$f":"IF('Outil Recensement simplifié'!BW17>0,'Outil Recensement simplifié'!BW17,\"\")","v":""},{"$f":"IF('Outil Recensement simplifié'!BX17>0,'Outil Recensement simplifié'!BX17,\"\")","v":""},{"$f":"IF('Outil Recensement simplifié'!BY17>0,'Outil Recensement simplifié'!BY17,\"\")","v":""},{"$f":"IF('Outil Recensement simplifié'!BZ17=\"Homme\",\"Male\",IF('Outil Recensement simplifié'!BZ17=\"Femme\",\"Female\",IF('Outil Recensement simplifié'!BZ17=\"H\",\"Male\",IF('Outil Recensement simplifié'!BZ17=\"F\",\"Female\",\"\"))))","v":""},{"$f":"IF('Outil Recensement simplifié'!CA17=\"Oui\",\"Yes\",IF('Outil Recensement simplifié'!CA17=\"Non\",\"No\",IF('Outil Recensement simplifié'!CA17=\"O\",\"Yes\",IF('Outil Recensement simplifié'!CA17=\"N\",\"No\",\"\"))))","v":""},{"$f":"IF('Outil Recensement simplifié'!CB17=\"Oui\",\"Yes\",IF('Outil Recensement simplifié'!CB17=\"Non\",\"No\",IF('Outil Recensement simplifié'!CB17=\"O\",\"Yes\",IF('Outil Recensement simplifié'!CB17=\"N\",\"No\",\"\"))))","v":""},{"$f":"IF('Outil Recensement simplifié'!CH17>0,'Outil Recensement simplifié'!CH17,\"\")","v":"    "}]
[{"$f":"IF('Outil Recensement simplifié'!A18>0,'Outil Recensement simplifié'!A18,\"\")","v":""},{"$f":"IF('Outil Recensement simplifié'!B18>0,'Outil Recensement simplifié'!B18,\"\")","v":""},{"$f":"IF('Outil Recensement simplifié'!C18>0,'Outil Recensement simplifié'!C18,\"\")","v":""},{"$f":"IF('Outil Recensement simplifié'!D18>0,'Outil Recensement simplifié'!D18,\"\")","v":""},{"$f":"IF('Outil Recensement simplifié'!E18>0,TEXT('Outil Recensement simplifié'!E18,\"000\"),\"\")","v":""},{"$f":"IF('Outil Recensement simplifié'!F18>0,'Outil Recensement simplifié'!F18,\"\")","v":""},{"$f":"IF('Outil Recensement simplifié'!G18>0,'Outil Recensement simplifié'!G18,\"\")","v":""},{"$f":"IF('Outil Recensement simplifié'!I18>0,'Outil Recensement simplifié'!I18,\"\")","v":""},{"$f":"IF('Outil Recensement simplifié'!J18>0,'Outil Recensement simplifié'!J18,\"\")","v":""},{"$f":"IF('Outil Recensement simplifié'!K18>0,'Outil Recensement simplifié'!K18,\"\")","v":""},{"$f":"IF('Outil Recensement simplifié'!L18>0,'Outil Recensement simplifié'!L18,\"\")","v":""},{"$f":"IF('Outil Recensement simplifié'!M18=\"Homme\",\"Male\",IF('Outil Recensement simplifié'!M18=\"Femme\",\"Female\",IF('Outil Recensement simplifié'!M18=\"H\",\"Male\",IF('Outil Recensement simplifié'!M18=\"F\",\"Female\",\"\"))))","v":""},{"$f":"IF('Outil Recensement simplifié'!N18=\"Oui\",\"Yes\",IF('Outil Recensement simplifié'!N18=\"Non\",\"No\",IF('Outil Recensement simplifié'!N18=\"O\",\"Yes\",IF('Outil Recensement simplifié'!N18=\"N\",\"No\",\"\"))))","v":""},{"$f":"IF('Outil Recensement simplifié'!O18=\"Non\",\"Single\",IF('Outil Recensement simplifié'!O18=\"Oui\",\"Family\",IF('Outil Recensement simplifié'!O18=\"N\",\"Single\",IF('Outil Recensement simplifié'!O18=\"O\",\"Family\",IF('Outil Recensement simplifié'!O18=\"En vigueur\",\"Family\",\"\")))))","v":""},{"$f":"IF('Outil Recensement simplifié'!P18=\"Anglais\",\"English\",IF('Outil Recensement simplifié'!P18=\"Français\",\"French\",IF('Outil Recensement simplifié'!P18=\"A\",\"English\",IF('Outil Recensement simplifié'!P18=\"F\",\"French\",\"\"))))","v":""},{"$f":"IF('Outil Recensement simplifié'!Q18=\"Oui\",\"Yes\",IF('Outil Recensement simplifié'!Q18=\"Non\",\"No\",IF('Outil Recensement simplifié'!Q18=\"O\",\"Yes\",IF('Outil Recensement simplifié'!Q18=\"N\",\"No\",\"\"))))","v":""},{"$f":"IF('Outil Recensement simplifié'!R18>0,'Outil Recensement simplifié'!R18,\"\")","v":""},{"$f":"IF('Outil Recensement simplifié'!S18=\"Annuelle\",\"Annually\",IF('Outil Recensement simplifié'!S18=\"Mensuelle\",\"Monthly\",IF('Outil Recensement simplifié'!S18=\"Aux deux semaines\",\"Biweekly\",IF('Outil Recensement simplifié'!S18=\"Bimensuelle\",\"Semi-Monthly\",IF('Outil Recensement simplifié'!S18=\"Hebdomadaire\",\"Weekly\",IF('Outil Recensement simplifié'!S18=\"Horaire\",\"Hourly\",\"\"))))))","v":""},{"$f":"IF('Outil Recensement simplifié'!T18>0,'Outil Recensement simplifié'!T18,\"\")","v":""},{"$f":"IF('Outil Recensement simplifié'!U18>0,'Outil Recensement simplifié'!U18,\"\")","v":""},{"$f":"IF('Outil Recensement simplifié'!V18=\"Exemptée\",\"Yes\",\"\")","v":""},{"$f":"IF('Outil Recensement simplifié'!W18=\"Exemptée\",\"Yes\",\"\")","v":""},{"$f":"IF('Outil Recensement simplifié'!X18>0,'Outil Recensement simplifié'!X18,\"\")","v":""},{"$f":"IF('Outil Recensement simplifié'!Y18>0,'Outil Recensement simplifié'!Y18,\"\")","v":""},{"$f":"IF('Outil Recensement simplifié'!Z18>0,'Outil Recensement simplifié'!Z18,\"\")","v":""},{"$f":"IF('Outil Recensement simplifié'!AA18>0,'Outil Recensement simplifié'!AA18,\"\")","v":""},{"$f":"IF('Outil Recensement simplifié'!AB18>0,'Outil Recensement simplifié'!AB18,\"\")","v":""},{"$f":"IF('Outil Recensement simplifié'!AC18>0,'Outil Recensement simplifié'!AC18,\"\")","v":" "},{"$f":"IF('Outil Recensement simplifié'!AE18>0,'Outil Recensement simplifié'!AE18&\" \",\"\")&IF('Outil Recensement simplifié'!AD18>0,'Outil Recensement simplifié'!AD18,\"\")","v":""},null,{"$f":"IF('Outil Recensement simplifié'!AF18>0,'Outil Recensement simplifié'!AF18,\"\")","v":""},{"$f":"IF('Outil Recensement simplifié'!AG18>0,'Outil Recensement simplifié'!AG18,\"\")","v":""},{"$f":"IF('Outil Recensement simplifié'!AH18>0,'Outil Recensement simplifié'!AH18,\"\")","v":""},{"$f":"IF('Outil Recensement simplifié'!AI18>0,'Outil Recensement simplifié'!AI18,\"\")","v":""},{"$f":"IF('Outil Recensement simplifié'!AJ18>0,'Outil Recensement simplifié'!AJ18,\"\")","v":""},{"$f":"IF('Outil Recensement simplifié'!AK18>0,'Outil Recensement simplifié'!AK18,\"\")","v":""},{"$f":"IF('Outil Recensement simplifié'!AL18>0,'Outil Recensement simplifié'!AL18,\"\")","v":""},{"$f":"IF('Outil Recensement simplifié'!AM18>0,'Outil Recensement simplifié'!AM18,\"\")","v":""},{"$f":"IF('Outil Recensement simplifié'!AN18=\"Homme\",\"Male\",IF('Outil Recensement simplifié'!AN18=\"Femme\",\"Female\",IF('Outil Recensement simplifié'!AN18=\"H\",\"Male\",IF('Outil Recensement simplifié'!AN18=\"F\",\"Female\",\"\"))))","v":""},{"$f":"IF('Outil Recensement simplifié'!AO18=\"Individuelle\",\"Single\",IF('Outil Recensement simplifié'!AO18=\"Famille\",\"Family\",IF('Outil Recensement simplifié'!AO18=\"Individuel\",\"Single\",IF('Outil Recensement simplifié'!AO18=\"Familiale\",\"Family\",IF('Outil Recensement simplifié'!AO18=\"I\",\"Single\",IF('Outil Recensement simplifié'!AO18=\"F\",\"Family\",\"\"))))))","v":""},{"$f":"IF('Outil Recensement simplifié'!AP18=\"Individuelle\",\"Single\",IF('Outil Recensement simplifié'!AP18=\"Famille\",\"Family\",IF('Outil Recensement simplifié'!AP18=\"Individuel\",\"Single\",IF('Outil Recensement simplifié'!AP18=\"Familiale\",\"Family\",IF('Outil Recensement simplifié'!AP18=\"I\",\"Single\",IF('Outil Recensement simplifié'!AP18=\"F\",\"Family\",\"\"))))))","v":""},{"$f":"IF('Outil Recensement simplifié'!AQ18>0,'Outil Recensement simplifié'!AQ18,\"\")","v":""},{"$f":"IF('Outil Recensement simplifié'!AR18=\"Oui\",\"Yes\",IF('Outil Recensement simplifié'!AR18=\"Non\",\"No\",IF('Outil Recensement simplifié'!AR18=\"O\",\"Yes\",IF('Outil Recensement simplifié'!AR18=\"N\",\"No\",\"\"))))","v":""},{"$f":"IF('Outil Recensement simplifié'!AS18>0,'Outil Recensement simplifié'!AS18,\"\")","v":""},{"$f":"IF('Outil Recensement simplifié'!AT18>0,'Outil Recensement simplifié'!AT18,\"\")","v":""},{"$f":"IF('Outil Recensement simplifié'!AU18>0,'Outil Recensement simplifié'!AU18,\"\")","v":""},{"$f":"IF('Outil Recensement simplifié'!AV18=\"Homme\",\"Male\",IF('Outil Recensement simplifié'!AV18=\"Femme\",\"Female\",IF('Outil Recensement simplifié'!AV18=\"H\",\"Male\",IF('Outil Recensement simplifié'!AV18=\"F\",\"Female\",\"\"))))","v":""},{"$f":"IF('Outil Recensement simplifié'!AW18=\"Oui\",\"Yes\",IF('Outil Recensement simplifié'!AW18=\"Non\",\"No\",IF('Outil Recensement simplifié'!AW18=\"O\",\"Yes\",IF('Outil Recensement simplifié'!AW18=\"N\",\"No\",\"\"))))","v":""},{"$f":"IF('Outil Recensement simplifié'!AX18=\"Oui\",\"Yes\",IF('Outil Recensement simplifié'!AX18=\"Non\",\"No\",IF('Outil Recensement simplifié'!AX18=\"O\",\"Yes\",IF('Outil Recensement simplifié'!AX18=\"N\",\"No\",\"\"))))","v":""},{"$f":"IF('Outil Recensement simplifié'!AY18>0,'Outil Recensement simplifié'!AY18,\"\")","v":""},{"$f":"IF('Outil Recensement simplifié'!AZ18>0,'Outil Recensement simplifié'!AZ18,\"\")","v":""},{"$f":"IF('Outil Recensement simplifié'!BA18>0,'Outil Recensement simplifié'!BA18,\"\")","v":""},{"$f":"IF('Outil Recensement simplifié'!BB18=\"Homme\",\"Male\",IF('Outil Recensement simplifié'!BB18=\"Femme\",\"Female\",IF('Outil Recensement simplifié'!BB18=\"H\",\"Male\",IF('Outil Recensement simplifié'!BB18=\"F\",\"Female\",\"\"))))","v":""},{"$f":"IF('Outil Recensement simplifié'!BC18=\"Oui\",\"Yes\",IF('Outil Recensement simplifié'!BC18=\"Non\",\"No\",IF('Outil Recensement simplifié'!BC18=\"O\",\"Yes\",IF('Outil Recensement simplifié'!BC18=\"N\",\"No\",\"\"))))","v":""},{"$f":"IF('Outil Recensement simplifié'!BD18=\"Oui\",\"Yes\",IF('Outil Recensement simplifié'!BD18=\"Non\",\"No\",IF('Outil Recensement simplifié'!BD18=\"O\",\"Yes\",IF('Outil Recensement simplifié'!BD18=\"N\",\"No\",\"\"))))","v":""},{"$f":"IF('Outil Recensement simplifié'!BE18>0,'Outil Recensement simplifié'!BE18,\"\")","v":""},{"$f":"IF('Outil Recensement simplifié'!BF18>0,'Outil Recensement simplifié'!BF18,\"\")","v":""},{"$f":"IF('Outil Recensement simplifié'!BG18>0,'Outil Recensement simplifié'!BG18,\"\")","v":""},{"$f":"IF('Outil Recensement simplifié'!BH18=\"Homme\",\"Male\",IF('Outil Recensement simplifié'!BH18=\"Femme\",\"Female\",IF('Outil Recensement simplifié'!BH18=\"H\",\"Male\",IF('Outil Recensement simplifié'!BH18=\"F\",\"Female\",\"\"))))","v":""},{"$f":"IF('Outil Recensement simplifié'!BI18=\"Oui\",\"Yes\",IF('Outil Recensement simplifié'!BI18=\"Non\",\"No\",IF('Outil Recensement simplifié'!BI18=\"O\",\"Yes\",IF('Outil Recensement simplifié'!BI18=\"N\",\"No\",\"\"))))","v":""},{"$f":"IF('Outil Recensement simplifié'!BJ18=\"Oui\",\"Yes\",IF('Outil Recensement simplifié'!BJ18=\"Non\",\"No\",IF('Outil Recensement simplifié'!BJ18=\"O\",\"Yes\",IF('Outil Recensement simplifié'!BJ18=\"N\",\"No\",\"\"))))","v":""},{"$f":"IF('Outil Recensement simplifié'!BK18>0,'Outil Recensement simplifié'!BK18,\"\")","v":""},{"$f":"IF('Outil Recensement simplifié'!BL18>0,'Outil Recensement simplifié'!BL18,\"\")","v":""},{"$f":"IF('Outil Recensement simplifié'!BM18>0,'Outil Recensement simplifié'!BM18,\"\")","v":""},{"$f":"IF('Outil Recensement simplifié'!BN18=\"Homme\",\"Male\",IF('Outil Recensement simplifié'!BN18=\"Femme\",\"Female\",IF('Outil Recensement simplifié'!BN18=\"H\",\"Male\",IF('Outil Recensement simplifié'!BN18=\"F\",\"Female\",\"\"))))","v":""},{"$f":"IF('Outil Recensement simplifié'!BO18=\"Oui\",\"Yes\",IF('Outil Recensement simplifié'!BO18=\"Non\",\"No\",IF('Outil Recensement simplifié'!BO18=\"O\",\"Yes\",IF('Outil Recensement simplifié'!BO18=\"N\",\"No\",\"\"))))","v":""},{"$f":"IF('Outil Recensement simplifié'!BP18=\"Oui\",\"Yes\",IF('Outil Recensement simplifié'!BP18=\"Non\",\"No\",IF('Outil Recensement simplifié'!BP18=\"O\",\"Yes\",IF('Outil Recensement simplifié'!BP18=\"N\",\"No\",\"\"))))","v":""},{"$f":"IF('Outil Recensement simplifié'!BQ18>0,'Outil Recensement simplifié'!BQ18,\"\")","v":""},{"$f":"IF('Outil Recensement simplifié'!BR18>0,'Outil Recensement simplifié'!BR18,\"\")","v":""},{"$f":"IF('Outil Recensement simplifié'!BS18>0,'Outil Recensement simplifié'!BS18,\"\")","v":""},{"$f":"IF('Outil Recensement simplifié'!BT18=\"Homme\",\"Male\",IF('Outil Recensement simplifié'!BT18=\"Femme\",\"Female\",IF('Outil Recensement simplifié'!BT18=\"H\",\"Male\",IF('Outil Recensement simplifié'!BT18=\"F\",\"Female\",\"\"))))","v":""},{"$f":"IF('Outil Recensement simplifié'!BU18=\"Oui\",\"Yes\",IF('Outil Recensement simplifié'!BU18=\"Non\",\"No\",IF('Outil Recensement simplifié'!BU18=\"O\",\"Yes\",IF('Outil Recensement simplifié'!BU18=\"N\",\"No\",\"\"))))","v":""},{"$f":"IF('Outil Recensement simplifié'!BV18=\"Oui\",\"Yes\",IF('Outil Recensement simplifié'!BV18=\"Non\",\"No\",IF('Outil Recensement simplifié'!BV18=\"O\",\"Yes\",IF('Outil Recensement simplifié'!BV18=\"N\",\"No\",\"\"))))","v":""},{"$f":"IF('Outil Recensement simplifié'!BW18>0,'Outil Recensement simplifié'!BW18,\"\")","v":""},{"$f":"IF('Outil Recensement simplifié'!BX18>0,'Outil Recensement simplifié'!BX18,\"\")","v":""},{"$f":"IF('Outil Recensement simplifié'!BY18>0,'Outil Recensement simplifié'!BY18,\"\")","v":""},{"$f":"IF('Outil Recensement simplifié'!BZ18=\"Homme\",\"Male\",IF('Outil Recensement simplifié'!BZ18=\"Femme\",\"Female\",IF('Outil Recensement simplifié'!BZ18=\"H\",\"Male\",IF('Outil Recensement simplifié'!BZ18=\"F\",\"Female\",\"\"))))","v":""},{"$f":"IF('Outil Recensement simplifié'!CA18=\"Oui\",\"Yes\",IF('Outil Recensement simplifié'!CA18=\"Non\",\"No\",IF('Outil Recensement simplifié'!CA18=\"O\",\"Yes\",IF('Outil Recensement simplifié'!CA18=\"N\",\"No\",\"\"))))","v":""},{"$f":"IF('Outil Recensement simplifié'!CB18=\"Oui\",\"Yes\",IF('Outil Recensement simplifié'!CB18=\"Non\",\"No\",IF('Outil Recensement simplifié'!CB18=\"O\",\"Yes\",IF('Outil Recensement simplifié'!CB18=\"N\",\"No\",\"\"))))","v":""},{"$f":"IF('Outil Recensement simplifié'!CH18>0,'Outil Recensement simplifié'!CH18,\"\")","v":"    "}]
[{"$f":"IF('Outil Recensement simplifié'!A19>0,'Outil Recensement simplifié'!A19,\"\")","v":""},{"$f":"IF('Outil Recensement simplifié'!B19>0,'Outil Recensement simplifié'!B19,\"\")","v":""},{"$f":"IF('Outil Recensement simplifié'!C19>0,'Outil Recensement simplifié'!C19,\"\")","v":""},{"$f":"IF('Outil Recensement simplifié'!D19>0,'Outil Recensement simplifié'!D19,\"\")","v":""},{"$f":"IF('Outil Recensement simplifié'!E19>0,TEXT('Outil Recensement simplifié'!E19,\"000\"),\"\")","v":""},{"$f":"IF('Outil Recensement simplifié'!F19>0,'Outil Recensement simplifié'!F19,\"\")","v":""},{"$f":"IF('Outil Recensement simplifié'!G19>0,'Outil Recensement simplifié'!G19,\"\")","v":""},{"$f":"IF('Outil Recensement simplifié'!I19>0,'Outil Recensement simplifié'!I19,\"\")","v":""},{"$f":"IF('Outil Recensement simplifié'!J19>0,'Outil Recensement simplifié'!J19,\"\")","v":""},{"$f":"IF('Outil Recensement simplifié'!K19>0,'Outil Recensement simplifié'!K19,\"\")","v":""},{"$f":"IF('Outil Recensement simplifié'!L19>0,'Outil Recensement simplifié'!L19,\"\")","v":""},{"$f":"IF('Outil Recensement simplifié'!M19=\"Homme\",\"Male\",IF('Outil Recensement simplifié'!M19=\"Femme\",\"Female\",IF('Outil Recensement simplifié'!M19=\"H\",\"Male\",IF('Outil Recensement simplifié'!M19=\"F\",\"Female\",\"\"))))","v":""},{"$f":"IF('Outil Recensement simplifié'!N19=\"Oui\",\"Yes\",IF('Outil Recensement simplifié'!N19=\"Non\",\"No\",IF('Outil Recensement simplifié'!N19=\"O\",\"Yes\",IF('Outil Recensement simplifié'!N19=\"N\",\"No\",\"\"))))","v":""},{"$f":"IF('Outil Recensement simplifié'!O19=\"Non\",\"Single\",IF('Outil Recensement simplifié'!O19=\"Oui\",\"Family\",IF('Outil Recensement simplifié'!O19=\"N\",\"Single\",IF('Outil Recensement simplifié'!O19=\"O\",\"Family\",IF('Outil Recensement simplifié'!O19=\"En vigueur\",\"Family\",\"\")))))","v":""},{"$f":"IF('Outil Recensement simplifié'!P19=\"Anglais\",\"English\",IF('Outil Recensement simplifié'!P19=\"Français\",\"French\",IF('Outil Recensement simplifié'!P19=\"A\",\"English\",IF('Outil Recensement simplifié'!P19=\"F\",\"French\",\"\"))))","v":""},{"$f":"IF('Outil Recensement simplifié'!Q19=\"Oui\",\"Yes\",IF('Outil Recensement simplifié'!Q19=\"Non\",\"No\",IF('Outil Recensement simplifié'!Q19=\"O\",\"Yes\",IF('Outil Recensement simplifié'!Q19=\"N\",\"No\",\"\"))))","v":""},{"$f":"IF('Outil Recensement simplifié'!R19>0,'Outil Recensement simplifié'!R19,\"\")","v":""},{"$f":"IF('Outil Recensement simplifié'!S19=\"Annuelle\",\"Annually\",IF('Outil Recensement simplifié'!S19=\"Mensuelle\",\"Monthly\",IF('Outil Recensement simplifié'!S19=\"Aux deux semaines\",\"Biweekly\",IF('Outil Recensement simplifié'!S19=\"Bimensuelle\",\"Semi-Monthly\",IF('Outil Recensement simplifié'!S19=\"Hebdomadaire\",\"Weekly\",IF('Outil Recensement simplifié'!S19=\"Horaire\",\"Hourly\",\"\"))))))","v":""},{"$f":"IF('Outil Recensement simplifié'!T19>0,'Outil Recensement simplifié'!T19,\"\")","v":""},{"$f":"IF('Outil Recensement simplifié'!U19>0,'Outil Recensement simplifié'!U19,\"\")","v":""},{"$f":"IF('Outil Recensement simplifié'!V19=\"Exemptée\",\"Yes\",\"\")","v":""},{"$f":"IF('Outil Recensement simplifié'!W19=\"Exemptée\",\"Yes\",\"\")","v":""},{"$f":"IF('Outil Recensement simplifié'!X19>0,'Outil Recensement simplifié'!X19,\"\")","v":""},{"$f":"IF('Outil Recensement simplifié'!Y19>0,'Outil Recensement simplifié'!Y19,\"\")","v":""},{"$f":"IF('Outil Recensement simplifié'!Z19>0,'Outil Recensement simplifié'!Z19,\"\")","v":""},{"$f":"IF('Outil Recensement simplifié'!AA19>0,'Outil Recensement simplifié'!AA19,\"\")","v":""},{"$f":"IF('Outil Recensement simplifié'!AB19>0,'Outil Recensement simplifié'!AB19,\"\")","v":""},{"$f":"IF('Outil Recensement simplifié'!AC19>0,'Outil Recensement simplifié'!AC19,\"\")","v":" "},{"$f":"IF('Outil Recensement simplifié'!AE19>0,'Outil Recensement simplifié'!AE19&\" \",\"\")&IF('Outil Recensement simplifié'!AD19>0,'Outil Recensement simplifié'!AD19,\"\")","v":""},null,{"$f":"IF('Outil Recensement simplifié'!AF19>0,'Outil Recensement simplifié'!AF19,\"\")","v":""},{"$f":"IF('Outil Recensement simplifié'!AG19>0,'Outil Recensement simplifié'!AG19,\"\")","v":""},{"$f":"IF('Outil Recensement simplifié'!AH19>0,'Outil Recensement simplifié'!AH19,\"\")","v":""},{"$f":"IF('Outil Recensement simplifié'!AI19>0,'Outil Recensement simplifié'!AI19,\"\")","v":""},{"$f":"IF('Outil Recensement simplifié'!AJ19>0,'Outil Recensement simplifié'!AJ19,\"\")","v":""},{"$f":"IF('Outil Recensement simplifié'!AK19>0,'Outil Recensement simplifié'!AK19,\"\")","v":""},{"$f":"IF('Outil Recensement simplifié'!AL19>0,'Outil Recensement simplifié'!AL19,\"\")","v":""},{"$f":"IF('Outil Recensement simplifié'!AM19>0,'Outil Recensement simplifié'!AM19,\"\")","v":""},{"$f":"IF('Outil Recensement simplifié'!AN19=\"Homme\",\"Male\",IF('Outil Recensement simplifié'!AN19=\"Femme\",\"Female\",IF('Outil Recensement simplifié'!AN19=\"H\",\"Male\",IF('Outil Recensement simplifié'!AN19=\"F\",\"Female\",\"\"))))","v":""},{"$f":"IF('Outil Recensement simplifié'!AO19=\"Individuelle\",\"Single\",IF('Outil Recensement simplifié'!AO19=\"Famille\",\"Family\",IF('Outil Recensement simplifié'!AO19=\"Individuel\",\"Single\",IF('Outil Recensement simplifié'!AO19=\"Familiale\",\"Family\",IF('Outil Recensement simplifié'!AO19=\"I\",\"Single\",IF('Outil Recensement simplifié'!AO19=\"F\",\"Family\",\"\"))))))","v":""},{"$f":"IF('Outil Recensement simplifié'!AP19=\"Individuelle\",\"Single\",IF('Outil Recensement simplifié'!AP19=\"Famille\",\"Family\",IF('Outil Recensement simplifié'!AP19=\"Individuel\",\"Single\",IF('Outil Recensement simplifié'!AP19=\"Familiale\",\"Family\",IF('Outil Recensement simplifié'!AP19=\"I\",\"Single\",IF('Outil Recensement simplifié'!AP19=\"F\",\"Family\",\"\"))))))","v":""},{"$f":"IF('Outil Recensement simplifié'!AQ19>0,'Outil Recensement simplifié'!AQ19,\"\")","v":""},{"$f":"IF('Outil Recensement simplifié'!AR19=\"Oui\",\"Yes\",IF('Outil Recensement simplifié'!AR19=\"Non\",\"No\",IF('Outil Recensement simplifié'!AR19=\"O\",\"Yes\",IF('Outil Recensement simplifié'!AR19=\"N\",\"No\",\"\"))))","v":""},{"$f":"IF('Outil Recensement simplifié'!AS19>0,'Outil Recensement simplifié'!AS19,\"\")","v":""},{"$f":"IF('Outil Recensement simplifié'!AT19>0,'Outil Recensement simplifié'!AT19,\"\")","v":""},{"$f":"IF('Outil Recensement simplifié'!AU19>0,'Outil Recensement simplifié'!AU19,\"\")","v":""},{"$f":"IF('Outil Recensement simplifié'!AV19=\"Homme\",\"Male\",IF('Outil Recensement simplifié'!AV19=\"Femme\",\"Female\",IF('Outil Recensement simplifié'!AV19=\"H\",\"Male\",IF('Outil Recensement simplifié'!AV19=\"F\",\"Female\",\"\"))))","v":""},{"$f":"IF('Outil Recensement simplifié'!AW19=\"Oui\",\"Yes\",IF('Outil Recensement simplifié'!AW19=\"Non\",\"No\",IF('Outil Recensement simplifié'!AW19=\"O\",\"Yes\",IF('Outil Recensement simplifié'!AW19=\"N\",\"No\",\"\"))))","v":""},{"$f":"IF('Outil Recensement simplifié'!AX19=\"Oui\",\"Yes\",IF('Outil Recensement simplifié'!AX19=\"Non\",\"No\",IF('Outil Recensement simplifié'!AX19=\"O\",\"Yes\",IF('Outil Recensement simplifié'!AX19=\"N\",\"No\",\"\"))))","v":""},{"$f":"IF('Outil Recensement simplifié'!AY19>0,'Outil Recensement simplifié'!AY19,\"\")","v":""},{"$f":"IF('Outil Recensement simplifié'!AZ19>0,'Outil Recensement simplifié'!AZ19,\"\")","v":""},{"$f":"IF('Outil Recensement simplifié'!BA19>0,'Outil Recensement simplifié'!BA19,\"\")","v":""},{"$f":"IF('Outil Recensement simplifié'!BB19=\"Homme\",\"Male\",IF('Outil Recensement simplifié'!BB19=\"Femme\",\"Female\",IF('Outil Recensement simplifié'!BB19=\"H\",\"Male\",IF('Outil Recensement simplifié'!BB19=\"F\",\"Female\",\"\"))))","v":""},{"$f":"IF('Outil Recensement simplifié'!BC19=\"Oui\",\"Yes\",IF('Outil Recensement simplifié'!BC19=\"Non\",\"No\",IF('Outil Recensement simplifié'!BC19=\"O\",\"Yes\",IF('Outil Recensement simplifié'!BC19=\"N\",\"No\",\"\"))))","v":""},{"$f":"IF('Outil Recensement simplifié'!BD19=\"Oui\",\"Yes\",IF('Outil Recensement simplifié'!BD19=\"Non\",\"No\",IF('Outil Recensement simplifié'!BD19=\"O\",\"Yes\",IF('Outil Recensement simplifié'!BD19=\"N\",\"No\",\"\"))))","v":""},{"$f":"IF('Outil Recensement simplifié'!BE19>0,'Outil Recensement simplifié'!BE19,\"\")","v":""},{"$f":"IF('Outil Recensement simplifié'!BF19>0,'Outil Recensement simplifié'!BF19,\"\")","v":""},{"$f":"IF('Outil Recensement simplifié'!BG19>0,'Outil Recensement simplifié'!BG19,\"\")","v":""},{"$f":"IF('Outil Recensement simplifié'!BH19=\"Homme\",\"Male\",IF('Outil Recensement simplifié'!BH19=\"Femme\",\"Female\",IF('Outil Recensement simplifié'!BH19=\"H\",\"Male\",IF('Outil Recensement simplifié'!BH19=\"F\",\"Female\",\"\"))))","v":""},{"$f":"IF('Outil Recensement simplifié'!BI19=\"Oui\",\"Yes\",IF('Outil Recensement simplifié'!BI19=\"Non\",\"No\",IF('Outil Recensement simplifié'!BI19=\"O\",\"Yes\",IF('Outil Recensement simplifié'!BI19=\"N\",\"No\",\"\"))))","v":""},{"$f":"IF('Outil Recensement simplifié'!BJ19=\"Oui\",\"Yes\",IF('Outil Recensement simplifié'!BJ19=\"Non\",\"No\",IF('Outil Recensement simplifié'!BJ19=\"O\",\"Yes\",IF('Outil Recensement simplifié'!BJ19=\"N\",\"No\",\"\"))))","v":""},{"$f":"IF('Outil Recensement simplifié'!BK19>0,'Outil Recensement simplifié'!BK19,\"\")","v":""},{"$f":"IF('Outil Recensement simplifié'!BL19>0,'Outil Recensement simplifié'!BL19,\"\")","v":""},{"$f":"IF('Outil Recensement simplifié'!BM19>0,'Outil Recensement simplifié'!BM19,\"\")","v":""},{"$f":"IF('Outil Recensement simplifié'!BN19=\"Homme\",\"Male\",IF('Outil Recensement simplifié'!BN19=\"Femme\",\"Female\",IF('Outil Recensement simplifié'!BN19=\"H\",\"Male\",IF('Outil Recensement simplifié'!BN19=\"F\",\"Female\",\"\"))))","v":""},{"$f":"IF('Outil Recensement simplifié'!BO19=\"Oui\",\"Yes\",IF('Outil Recensement simplifié'!BO19=\"Non\",\"No\",IF('Outil Recensement simplifié'!BO19=\"O\",\"Yes\",IF('Outil Recensement simplifié'!BO19=\"N\",\"No\",\"\"))))","v":""},{"$f":"IF('Outil Recensement simplifié'!BP19=\"Oui\",\"Yes\",IF('Outil Recensement simplifié'!BP19=\"Non\",\"No\",IF('Outil Recensement simplifié'!BP19=\"O\",\"Yes\",IF('Outil Recensement simplifié'!BP19=\"N\",\"No\",\"\"))))","v":""},{"$f":"IF('Outil Recensement simplifié'!BQ19>0,'Outil Recensement simplifié'!BQ19,\"\")","v":""},{"$f":"IF('Outil Recensement simplifié'!BR19>0,'Outil Recensement simplifié'!BR19,\"\")","v":""},{"$f":"IF('Outil Recensement simplifié'!BS19>0,'Outil Recensement simplifié'!BS19,\"\")","v":""},{"$f":"IF('Outil Recensement simplifié'!BT19=\"Homme\",\"Male\",IF('Outil Recensement simplifié'!BT19=\"Femme\",\"Female\",IF('Outil Recensement simplifié'!BT19=\"H\",\"Male\",IF('Outil Recensement simplifié'!BT19=\"F\",\"Female\",\"\"))))","v":""},{"$f":"IF('Outil Recensement simplifié'!BU19=\"Oui\",\"Yes\",IF('Outil Recensement simplifié'!BU19=\"Non\",\"No\",IF('Outil Recensement simplifié'!BU19=\"O\",\"Yes\",IF('Outil Recensement simplifié'!BU19=\"N\",\"No\",\"\"))))","v":""},{"$f":"IF('Outil Recensement simplifié'!BV19=\"Oui\",\"Yes\",IF('Outil Recensement simplifié'!BV19=\"Non\",\"No\",IF('Outil Recensement simplifié'!BV19=\"O\",\"Yes\",IF('Outil Recensement simplifié'!BV19=\"N\",\"No\",\"\"))))","v":""},{"$f":"IF('Outil Recensement simplifié'!BW19>0,'Outil Recensement simplifié'!BW19,\"\")","v":""},{"$f":"IF('Outil Recensement simplifié'!BX19>0,'Outil Recensement simplifié'!BX19,\"\")","v":""},{"$f":"IF('Outil Recensement simplifié'!BY19>0,'Outil Recensement simplifié'!BY19,\"\")","v":""},{"$f":"IF('Outil Recensement simplifié'!BZ19=\"Homme\",\"Male\",IF('Outil Recensement simplifié'!BZ19=\"Femme\",\"Female\",IF('Outil Recensement simplifié'!BZ19=\"H\",\"Male\",IF('Outil Recensement simplifié'!BZ19=\"F\",\"Female\",\"\"))))","v":""},{"$f":"IF('Outil Recensement simplifié'!CA19=\"Oui\",\"Yes\",IF('Outil Recensement simplifié'!CA19=\"Non\",\"No\",IF('Outil Recensement simplifié'!CA19=\"O\",\"Yes\",IF('Outil Recensement simplifié'!CA19=\"N\",\"No\",\"\"))))","v":""},{"$f":"IF('Outil Recensement simplifié'!CB19=\"Oui\",\"Yes\",IF('Outil Recensement simplifié'!CB19=\"Non\",\"No\",IF('Outil Recensement simplifié'!CB19=\"O\",\"Yes\",IF('Outil Recensement simplifié'!CB19=\"N\",\"No\",\"\"))))","v":""},{"$f":"IF('Outil Recensement simplifié'!CH19>0,'Outil Recensement simplifié'!CH19,\"\")","v":"    "}]
[{"$f":"IF('Outil Recensement simplifié'!A20>0,'Outil Recensement simplifié'!A20,\"\")","v":""},{"$f":"IF('Outil Recensement simplifié'!B20>0,'Outil Recensement simplifié'!B20,\"\")","v":""},{"$f":"IF('Outil Recensement simplifié'!C20>0,'Outil Recensement simplifié'!C20,\"\")","v":""},{"$f":"IF('Outil Recensement simplifié'!D20>0,'Outil Recensement simplifié'!D20,\"\")","v":""},{"$f":"IF('Outil Recensement simplifié'!E20>0,TEXT('Outil Recensement simplifié'!E20,\"000\"),\"\")","v":""},{"$f":"IF('Outil Recensement simplifié'!F20>0,'Outil Recensement simplifié'!F20,\"\")","v":""},{"$f":"IF('Outil Recensement simplifié'!G20>0,'Outil Recensement simplifié'!G20,\"\")","v":""},{"$f":"IF('Outil Recensement simplifié'!I20>0,'Outil Recensement simplifié'!I20,\"\")","v":""},{"$f":"IF('Outil Recensement simplifié'!J20>0,'Outil Recensement simplifié'!J20,\"\")","v":""},{"$f":"IF('Outil Recensement simplifié'!K20>0,'Outil Recensement simplifié'!K20,\"\")","v":""},{"$f":"IF('Outil Recensement simplifié'!L20>0,'Outil Recensement simplifié'!L20,\"\")","v":""},{"$f":"IF('Outil Recensement simplifié'!M20=\"Homme\",\"Male\",IF('Outil Recensement simplifié'!M20=\"Femme\",\"Female\",IF('Outil Recensement simplifié'!M20=\"H\",\"Male\",IF('Outil Recensement simplifié'!M20=\"F\",\"Female\",\"\"))))","v":""},{"$f":"IF('Outil Recensement simplifié'!N20=\"Oui\",\"Yes\",IF('Outil Recensement simplifié'!N20=\"Non\",\"No\",IF('Outil Recensement simplifié'!N20=\"O\",\"Yes\",IF('Outil Recensement simplifié'!N20=\"N\",\"No\",\"\"))))","v":""},{"$f":"IF('Outil Recensement simplifié'!O20=\"Non\",\"Single\",IF('Outil Recensement simplifié'!O20=\"Oui\",\"Family\",IF('Outil Recensement simplifié'!O20=\"N\",\"Single\",IF('Outil Recensement simplifié'!O20=\"O\",\"Family\",IF('Outil Recensement simplifié'!O20=\"En vigueur\",\"Family\",\"\")))))","v":""},{"$f":"IF('Outil Recensement simplifié'!P20=\"Anglais\",\"English\",IF('Outil Recensement simplifié'!P20=\"Français\",\"French\",IF('Outil Recensement simplifié'!P20=\"A\",\"English\",IF('Outil Recensement simplifié'!P20=\"F\",\"French\",\"\"))))","v":""},{"$f":"IF('Outil Recensement simplifié'!Q20=\"Oui\",\"Yes\",IF('Outil Recensement simplifié'!Q20=\"Non\",\"No\",IF('Outil Recensement simplifié'!Q20=\"O\",\"Yes\",IF('Outil Recensement simplifié'!Q20=\"N\",\"No\",\"\"))))","v":""},{"$f":"IF('Outil Recensement simplifié'!R20>0,'Outil Recensement simplifié'!R20,\"\")","v":""},{"$f":"IF('Outil Recensement simplifié'!S20=\"Annuelle\",\"Annually\",IF('Outil Recensement simplifié'!S20=\"Mensuelle\",\"Monthly\",IF('Outil Recensement simplifié'!S20=\"Aux deux semaines\",\"Biweekly\",IF('Outil Recensement simplifié'!S20=\"Bimensuelle\",\"Semi-Monthly\",IF('Outil Recensement simplifié'!S20=\"Hebdomadaire\",\"Weekly\",IF('Outil Recensement simplifié'!S20=\"Horaire\",\"Hourly\",\"\"))))))","v":""},{"$f":"IF('Outil Recensement simplifié'!T20>0,'Outil Recensement simplifié'!T20,\"\")","v":""},{"$f":"IF('Outil Recensement simplifié'!U20>0,'Outil Recensement simplifié'!U20,\"\")","v":""},{"$f":"IF('Outil Recensement simplifié'!V20=\"Exemptée\",\"Yes\",\"\")","v":""},{"$f":"IF('Outil Recensement simplifié'!W20=\"Exemptée\",\"Yes\",\"\")","v":""},{"$f":"IF('Outil Recensement simplifié'!X20>0,'Outil Recensement simplifié'!X20,\"\")","v":""},{"$f":"IF('Outil Recensement simplifié'!Y20>0,'Outil Recensement simplifié'!Y20,\"\")","v":""},{"$f":"IF('Outil Recensement simplifié'!Z20>0,'Outil Recensement simplifié'!Z20,\"\")","v":""},{"$f":"IF('Outil Recensement simplifié'!AA20>0,'Outil Recensement simplifié'!AA20,\"\")","v":""},{"$f":"IF('Outil Recensement simplifié'!AB20>0,'Outil Recensement simplifié'!AB20,\"\")","v":""},{"$f":"IF('Outil Recensement simplifié'!AC20>0,'Outil Recensement simplifié'!AC20,\"\")","v":" "},{"$f":"IF('Outil Recensement simplifié'!AE20>0,'Outil Recensement simplifié'!AE20&\" \",\"\")&IF('Outil Recensement simplifié'!AD20>0,'Outil Recensement simplifié'!AD20,\"\")","v":""},null,{"$f":"IF('Outil Recensement simplifié'!AF20>0,'Outil Recensement simplifié'!AF20,\"\")","v":""},{"$f":"IF('Outil Recensement simplifié'!AG20>0,'Outil Recensement simplifié'!AG20,\"\")","v":""},{"$f":"IF('Outil Recensement simplifié'!AH20>0,'Outil Recensement simplifié'!AH20,\"\")","v":""},{"$f":"IF('Outil Recensement simplifié'!AI20>0,'Outil Recensement simplifié'!AI20,\"\")","v":""},{"$f":"IF('Outil Recensement simplifié'!AJ20>0,'Outil Recensement simplifié'!AJ20,\"\")","v":""},{"$f":"IF('Outil Recensement simplifié'!AK20>0,'Outil Recensement simplifié'!AK20,\"\")","v":""},{"$f":"IF('Outil Recensement simplifié'!AL20>0,'Outil Recensement simplifié'!AL20,\"\")","v":""},{"$f":"IF('Outil Recensement simplifié'!AM20>0,'Outil Recensement simplifié'!AM20,\"\")","v":""},{"$f":"IF('Outil Recensement simplifié'!AN20=\"Homme\",\"Male\",IF('Outil Recensement simplifié'!AN20=\"Femme\",\"Female\",IF('Outil Recensement simplifié'!AN20=\"H\",\"Male\",IF('Outil Recensement simplifié'!AN20=\"F\",\"Female\",\"\"))))","v":""},{"$f":"IF('Outil Recensement simplifié'!AO20=\"Individuelle\",\"Single\",IF('Outil Recensement simplifié'!AO20=\"Famille\",\"Family\",IF('Outil Recensement simplifié'!AO20=\"Individuel\",\"Single\",IF('Outil Recensement simplifié'!AO20=\"Familiale\",\"Family\",IF('Outil Recensement simplifié'!AO20=\"I\",\"Single\",IF('Outil Recensement simplifié'!AO20=\"F\",\"Family\",\"\"))))))","v":""},{"$f":"IF('Outil Recensement simplifié'!AP20=\"Individuelle\",\"Single\",IF('Outil Recensement simplifié'!AP20=\"Famille\",\"Family\",IF('Outil Recensement simplifié'!AP20=\"Individuel\",\"Single\",IF('Outil Recensement simplifié'!AP20=\"Familiale\",\"Family\",IF('Outil Recensement simplifié'!AP20=\"I\",\"Single\",IF('Outil Recensement simplifié'!AP20=\"F\",\"Family\",\"\"))))))","v":""},{"$f":"IF('Outil Recensement simplifié'!AQ20>0,'Outil Recensement simplifié'!AQ20,\"\")","v":""},{"$f":"IF('Outil Recensement simplifié'!AR20=\"Oui\",\"Yes\",IF('Outil Recensement simplifié'!AR20=\"Non\",\"No\",IF('Outil Recensement simplifié'!AR20=\"O\",\"Yes\",IF('Outil Recensement simplifié'!AR20=\"N\",\"No\",\"\"))))","v":""},{"$f":"IF('Outil Recensement simplifié'!AS20>0,'Outil Recensement simplifié'!AS20,\"\")","v":""},{"$f":"IF('Outil Recensement simplifié'!AT20>0,'Outil Recensement simplifié'!AT20,\"\")","v":""},{"$f":"IF('Outil Recensement simplifié'!AU20>0,'Outil Recensement simplifié'!AU20,\"\")","v":""},{"$f":"IF('Outil Recensement simplifié'!AV20=\"Homme\",\"Male\",IF('Outil Recensement simplifié'!AV20=\"Femme\",\"Female\",IF('Outil Recensement simplifié'!AV20=\"H\",\"Male\",IF('Outil Recensement simplifié'!AV20=\"F\",\"Female\",\"\"))))","v":""},{"$f":"IF('Outil Recensement simplifié'!AW20=\"Oui\",\"Yes\",IF('Outil Recensement simplifié'!AW20=\"Non\",\"No\",IF('Outil Recensement simplifié'!AW20=\"O\",\"Yes\",IF('Outil Recensement simplifié'!AW20=\"N\",\"No\",\"\"))))","v":""},{"$f":"IF('Outil Recensement simplifié'!AX20=\"Oui\",\"Yes\",IF('Outil Recensement simplifié'!AX20=\"Non\",\"No\",IF('Outil Recensement simplifié'!AX20=\"O\",\"Yes\",IF('Outil Recensement simplifié'!AX20=\"N\",\"No\",\"\"))))","v":""},{"$f":"IF('Outil Recensement simplifié'!AY20>0,'Outil Recensement simplifié'!AY20,\"\")","v":""},{"$f":"IF('Outil Recensement simplifié'!AZ20>0,'Outil Recensement simplifié'!AZ20,\"\")","v":""},{"$f":"IF('Outil Recensement simplifié'!BA20>0,'Outil Recensement simplifié'!BA20,\"\")","v":""},{"$f":"IF('Outil Recensement simplifié'!BB20=\"Homme\",\"Male\",IF('Outil Recensement simplifié'!BB20=\"Femme\",\"Female\",IF('Outil Recensement simplifié'!BB20=\"H\",\"Male\",IF('Outil Recensement simplifié'!BB20=\"F\",\"Female\",\"\"))))","v":""},{"$f":"IF('Outil Recensement simplifié'!BC20=\"Oui\",\"Yes\",IF('Outil Recensement simplifié'!BC20=\"Non\",\"No\",IF('Outil Recensement simplifié'!BC20=\"O\",\"Yes\",IF('Outil Recensement simplifié'!BC20=\"N\",\"No\",\"\"))))","v":""},{"$f":"IF('Outil Recensement simplifié'!BD20=\"Oui\",\"Yes\",IF('Outil Recensement simplifié'!BD20=\"Non\",\"No\",IF('Outil Recensement simplifié'!BD20=\"O\",\"Yes\",IF('Outil Recensement simplifié'!BD20=\"N\",\"No\",\"\"))))","v":""},{"$f":"IF('Outil Recensement simplifié'!BE20>0,'Outil Recensement simplifié'!BE20,\"\")","v":""},{"$f":"IF('Outil Recensement simplifié'!BF20>0,'Outil Recensement simplifié'!BF20,\"\")","v":""},{"$f":"IF('Outil Recensement simplifié'!BG20>0,'Outil Recensement simplifié'!BG20,\"\")","v":""},{"$f":"IF('Outil Recensement simplifié'!BH20=\"Homme\",\"Male\",IF('Outil Recensement simplifié'!BH20=\"Femme\",\"Female\",IF('Outil Recensement simplifié'!BH20=\"H\",\"Male\",IF('Outil Recensement simplifié'!BH20=\"F\",\"Female\",\"\"))))","v":""},{"$f":"IF('Outil Recensement simplifié'!BI20=\"Oui\",\"Yes\",IF('Outil Recensement simplifié'!BI20=\"Non\",\"No\",IF('Outil Recensement simplifié'!BI20=\"O\",\"Yes\",IF('Outil Recensement simplifié'!BI20=\"N\",\"No\",\"\"))))","v":""},{"$f":"IF('Outil Recensement simplifié'!BJ20=\"Oui\",\"Yes\",IF('Outil Recensement simplifié'!BJ20=\"Non\",\"No\",IF('Outil Recensement simplifié'!BJ20=\"O\",\"Yes\",IF('Outil Recensement simplifié'!BJ20=\"N\",\"No\",\"\"))))","v":""},{"$f":"IF('Outil Recensement simplifié'!BK20>0,'Outil Recensement simplifié'!BK20,\"\")","v":""},{"$f":"IF('Outil Recensement simplifié'!BL20>0,'Outil Recensement simplifié'!BL20,\"\")","v":""},{"$f":"IF('Outil Recensement simplifié'!BM20>0,'Outil Recensement simplifié'!BM20,\"\")","v":""},{"$f":"IF('Outil Recensement simplifié'!BN20=\"Homme\",\"Male\",IF('Outil Recensement simplifié'!BN20=\"Femme\",\"Female\",IF('Outil Recensement simplifié'!BN20=\"H\",\"Male\",IF('Outil Recensement simplifié'!BN20=\"F\",\"Female\",\"\"))))","v":""},{"$f":"IF('Outil Recensement simplifié'!BO20=\"Oui\",\"Yes\",IF('Outil Recensement simplifié'!BO20=\"Non\",\"No\",IF('Outil Recensement simplifié'!BO20=\"O\",\"Yes\",IF('Outil Recensement simplifié'!BO20=\"N\",\"No\",\"\"))))","v":""},{"$f":"IF('Outil Recensement simplifié'!BP20=\"Oui\",\"Yes\",IF('Outil Recensement simplifié'!BP20=\"Non\",\"No\",IF('Outil Recensement simplifié'!BP20=\"O\",\"Yes\",IF('Outil Recensement simplifié'!BP20=\"N\",\"No\",\"\"))))","v":""},{"$f":"IF('Outil Recensement simplifié'!BQ20>0,'Outil Recensement simplifié'!BQ20,\"\")","v":""},{"$f":"IF('Outil Recensement simplifié'!BR20>0,'Outil Recensement simplifié'!BR20,\"\")","v":""},{"$f":"IF('Outil Recensement simplifié'!BS20>0,'Outil Recensement simplifié'!BS20,\"\")","v":""},{"$f":"IF('Outil Recensement simplifié'!BT20=\"Homme\",\"Male\",IF('Outil Recensement simplifié'!BT20=\"Femme\",\"Female\",IF('Outil Recensement simplifié'!BT20=\"H\",\"Male\",IF('Outil Recensement simplifié'!BT20=\"F\",\"Female\",\"\"))))","v":""},{"$f":"IF('Outil Recensement simplifié'!BU20=\"Oui\",\"Yes\",IF('Outil Recensement simplifié'!BU20=\"Non\",\"No\",IF('Outil Recensement simplifié'!BU20=\"O\",\"Yes\",IF('Outil Recensement simplifié'!BU20=\"N\",\"No\",\"\"))))","v":""},{"$f":"IF('Outil Recensement simplifié'!BV20=\"Oui\",\"Yes\",IF('Outil Recensement simplifié'!BV20=\"Non\",\"No\",IF('Outil Recensement simplifié'!BV20=\"O\",\"Yes\",IF('Outil Recensement simplifié'!BV20=\"N\",\"No\",\"\"))))","v":""},{"$f":"IF('Outil Recensement simplifié'!BW20>0,'Outil Recensement simplifié'!BW20,\"\")","v":""},{"$f":"IF('Outil Recensement simplifié'!BX20>0,'Outil Recensement simplifié'!BX20,\"\")","v":""},{"$f":"IF('Outil Recensement simplifié'!BY20>0,'Outil Recensement simplifié'!BY20,\"\")","v":""},{"$f":"IF('Outil Recensement simplifié'!BZ20=\"Homme\",\"Male\",IF('Outil Recensement simplifié'!BZ20=\"Femme\",\"Female\",IF('Outil Recensement simplifié'!BZ20=\"H\",\"Male\",IF('Outil Recensement simplifié'!BZ20=\"F\",\"Female\",\"\"))))","v":""},{"$f":"IF('Outil Recensement simplifié'!CA20=\"Oui\",\"Yes\",IF('Outil Recensement simplifié'!CA20=\"Non\",\"No\",IF('Outil Recensement simplifié'!CA20=\"O\",\"Yes\",IF('Outil Recensement simplifié'!CA20=\"N\",\"No\",\"\"))))","v":""},{"$f":"IF('Outil Recensement simplifié'!CB20=\"Oui\",\"Yes\",IF('Outil Recensement simplifié'!CB20=\"Non\",\"No\",IF('Outil Recensement simplifié'!CB20=\"O\",\"Yes\",IF('Outil Recensement simplifié'!CB20=\"N\",\"No\",\"\"))))","v":""},{"$f":"IF('Outil Recensement simplifié'!CH20>0,'Outil Recensement simplifié'!CH20,\"\")","v":"    "}]
[{"$f":"IF('Outil Recensement simplifié'!A21>0,'Outil Recensement simplifié'!A21,\"\")","v":""},{"$f":"IF('Outil Recensement simplifié'!B21>0,'Outil Recensement simplifié'!B21,\"\")","v":""},{"$f":"IF('Outil Recensement simplifié'!C21>0,'Outil Recensement simplifié'!C21,\"\")","v":""},{"$f":"IF('Outil Recensement simplifié'!D21>0,'Outil Recensement simplifié'!D21,\"\")","v":""},{"$f":"IF('Outil Recensement simplifié'!E21>0,TEXT('Outil Recensement simplifié'!E21,\"000\"),\"\")","v":""},{"$f":"IF('Outil Recensement simplifié'!F21>0,'Outil Recensement simplifié'!F21,\"\")","v":""},{"$f":"IF('Outil Recensement simplifié'!G21>0,'Outil Recensement simplifié'!G21,\"\")","v":""},{"$f":"IF('Outil Recensement simplifié'!I21>0,'Outil Recensement simplifié'!I21,\"\")","v":""},{"$f":"IF('Outil Recensement simplifié'!J21>0,'Outil Recensement simplifié'!J21,\"\")","v":""},{"$f":"IF('Outil Recensement simplifié'!K21>0,'Outil Recensement simplifié'!K21,\"\")","v":""},{"$f":"IF('Outil Recensement simplifié'!L21>0,'Outil Recensement simplifié'!L21,\"\")","v":""},{"$f":"IF('Outil Recensement simplifié'!M21=\"Homme\",\"Male\",IF('Outil Recensement simplifié'!M21=\"Femme\",\"Female\",IF('Outil Recensement simplifié'!M21=\"H\",\"Male\",IF('Outil Recensement simplifié'!M21=\"F\",\"Female\",\"\"))))","v":""},{"$f":"IF('Outil Recensement simplifié'!N21=\"Oui\",\"Yes\",IF('Outil Recensement simplifié'!N21=\"Non\",\"No\",IF('Outil Recensement simplifié'!N21=\"O\",\"Yes\",IF('Outil Recensement simplifié'!N21=\"N\",\"No\",\"\"))))","v":""},{"$f":"IF('Outil Recensement simplifié'!O21=\"Non\",\"Single\",IF('Outil Recensement simplifié'!O21=\"Oui\",\"Family\",IF('Outil Recensement simplifié'!O21=\"N\",\"Single\",IF('Outil Recensement simplifié'!O21=\"O\",\"Family\",IF('Outil Recensement simplifié'!O21=\"En vigueur\",\"Family\",\"\")))))","v":""},{"$f":"IF('Outil Recensement simplifié'!P21=\"Anglais\",\"English\",IF('Outil Recensement simplifié'!P21=\"Français\",\"French\",IF('Outil Recensement simplifié'!P21=\"A\",\"English\",IF('Outil Recensement simplifié'!P21=\"F\",\"French\",\"\"))))","v":""},{"$f":"IF('Outil Recensement simplifié'!Q21=\"Oui\",\"Yes\",IF('Outil Recensement simplifié'!Q21=\"Non\",\"No\",IF('Outil Recensement simplifié'!Q21=\"O\",\"Yes\",IF('Outil Recensement simplifié'!Q21=\"N\",\"No\",\"\"))))","v":""},{"$f":"IF('Outil Recensement simplifié'!R21>0,'Outil Recensement simplifié'!R21,\"\")","v":""},{"$f":"IF('Outil Recensement simplifié'!S21=\"Annuelle\",\"Annually\",IF('Outil Recensement simplifié'!S21=\"Mensuelle\",\"Monthly\",IF('Outil Recensement simplifié'!S21=\"Aux deux semaines\",\"Biweekly\",IF('Outil Recensement simplifié'!S21=\"Bimensuelle\",\"Semi-Monthly\",IF('Outil Recensement simplifié'!S21=\"Hebdomadaire\",\"Weekly\",IF('Outil Recensement simplifié'!S21=\"Horaire\",\"Hourly\",\"\"))))))","v":""},{"$f":"IF('Outil Recensement simplifié'!T21>0,'Outil Recensement simplifié'!T21,\"\")","v":""},{"$f":"IF('Outil Recensement simplifié'!U21>0,'Outil Recensement simplifié'!U21,\"\")","v":""},{"$f":"IF('Outil Recensement simplifié'!V21=\"Exemptée\",\"Yes\",\"\")","v":""},{"$f":"IF('Outil Recensement simplifié'!W21=\"Exemptée\",\"Yes\",\"\")","v":""},{"$f":"IF('Outil Recensement simplifié'!X21>0,'Outil Recensement simplifié'!X21,\"\")","v":""},{"$f":"IF('Outil Recensement simplifié'!Y21>0,'Outil Recensement simplifié'!Y21,\"\")","v":""},{"$f":"IF('Outil Recensement simplifié'!Z21>0,'Outil Recensement simplifié'!Z21,\"\")","v":""},{"$f":"IF('Outil Recensement simplifié'!AA21>0,'Outil Recensement simplifié'!AA21,\"\")","v":""},{"$f":"IF('Outil Recensement simplifié'!AB21>0,'Outil Recensement simplifié'!AB21,\"\")","v":""},{"$f":"IF('Outil Recensement simplifié'!AC21>0,'Outil Recensement simplifié'!AC21,\"\")","v":" "},{"$f":"IF('Outil Recensement simplifié'!AE21>0,'Outil Recensement simplifié'!AE21&\" \",\"\")&IF('Outil Recensement simplifié'!AD21>0,'Outil Recensement simplifié'!AD21,\"\")","v":""},null,{"$f":"IF('Outil Recensement simplifié'!AF21>0,'Outil Recensement simplifié'!AF21,\"\")","v":""},{"$f":"IF('Outil Recensement simplifié'!AG21>0,'Outil Recensement simplifié'!AG21,\"\")","v":""},{"$f":"IF('Outil Recensement simplifié'!AH21>0,'Outil Recensement simplifié'!AH21,\"\")","v":""},{"$f":"IF('Outil Recensement simplifié'!AI21>0,'Outil Recensement simplifié'!AI21,\"\")","v":""},{"$f":"IF('Outil Recensement simplifié'!AJ21>0,'Outil Recensement simplifié'!AJ21,\"\")","v":""},{"$f":"IF('Outil Recensement simplifié'!AK21>0,'Outil Recensement simplifié'!AK21,\"\")","v":""},{"$f":"IF('Outil Recensement simplifié'!AL21>0,'Outil Recensement simplifié'!AL21,\"\")","v":""},{"$f":"IF('Outil Recensement simplifié'!AM21>0,'Outil Recensement simplifié'!AM21,\"\")","v":""},{"$f":"IF('Outil Recensement simplifié'!AN21=\"Homme\",\"Male\",IF('Outil Recensement simplifié'!AN21=\"Femme\",\"Female\",IF('Outil Recensement simplifié'!AN21=\"H\",\"Male\",IF('Outil Recensement simplifié'!AN21=\"F\",\"Female\",\"\"))))","v":""},{"$f":"IF('Outil Recensement simplifié'!AO21=\"Individuelle\",\"Single\",IF('Outil Recensement simplifié'!AO21=\"Famille\",\"Family\",IF('Outil Recensement simplifié'!AO21=\"Individuel\",\"Single\",IF('Outil Recensement simplifié'!AO21=\"Familiale\",\"Family\",IF('Outil Recensement simplifié'!AO21=\"I\",\"Single\",IF('Outil Recensement simplifié'!AO21=\"F\",\"Family\",\"\"))))))","v":""},{"$f":"IF('Outil Recensement simplifié'!AP21=\"Individuelle\",\"Single\",IF('Outil Recensement simplifié'!AP21=\"Famille\",\"Family\",IF('Outil Recensement simplifié'!AP21=\"Individuel\",\"Single\",IF('Outil Recensement simplifié'!AP21=\"Familiale\",\"Family\",IF('Outil Recensement simplifié'!AP21=\"I\",\"Single\",IF('Outil Recensement simplifié'!AP21=\"F\",\"Family\",\"\"))))))","v":""},{"$f":"IF('Outil Recensement simplifié'!AQ21>0,'Outil Recensement simplifié'!AQ21,\"\")","v":""},{"$f":"IF('Outil Recensement simplifié'!AR21=\"Oui\",\"Yes\",IF('Outil Recensement simplifié'!AR21=\"Non\",\"No\",IF('Outil Recensement simplifié'!AR21=\"O\",\"Yes\",IF('Outil Recensement simplifié'!AR21=\"N\",\"No\",\"\"))))","v":""},{"$f":"IF('Outil Recensement simplifié'!AS21>0,'Outil Recensement simplifié'!AS21,\"\")","v":""},{"$f":"IF('Outil Recensement simplifié'!AT21>0,'Outil Recensement simplifié'!AT21,\"\")","v":""},{"$f":"IF('Outil Recensement simplifié'!AU21>0,'Outil Recensement simplifié'!AU21,\"\")","v":""},{"$f":"IF('Outil Recensement simplifié'!AV21=\"Homme\",\"Male\",IF('Outil Recensement simplifié'!AV21=\"Femme\",\"Female\",IF('Outil Recensement simplifié'!AV21=\"H\",\"Male\",IF('Outil Recensement simplifié'!AV21=\"F\",\"Female\",\"\"))))","v":""},{"$f":"IF('Outil Recensement simplifié'!AW21=\"Oui\",\"Yes\",IF('Outil Recensement simplifié'!AW21=\"Non\",\"No\",IF('Outil Recensement simplifié'!AW21=\"O\",\"Yes\",IF('Outil Recensement simplifié'!AW21=\"N\",\"No\",\"\"))))","v":""},{"$f":"IF('Outil Recensement simplifié'!AX21=\"Oui\",\"Yes\",IF('Outil Recensement simplifié'!AX21=\"Non\",\"No\",IF('Outil Recensement simplifié'!AX21=\"O\",\"Yes\",IF('Outil Recensement simplifié'!AX21=\"N\",\"No\",\"\"))))","v":""},{"$f":"IF('Outil Recensement simplifié'!AY21>0,'Outil Recensement simplifié'!AY21,\"\")","v":""},{"$f":"IF('Outil Recensement simplifié'!AZ21>0,'Outil Recensement simplifié'!AZ21,\"\")","v":""},{"$f":"IF('Outil Recensement simplifié'!BA21>0,'Outil Recensement simplifié'!BA21,\"\")","v":""},{"$f":"IF('Outil Recensement simplifié'!BB21=\"Homme\",\"Male\",IF('Outil Recensement simplifié'!BB21=\"Femme\",\"Female\",IF('Outil Recensement simplifié'!BB21=\"H\",\"Male\",IF('Outil Recensement simplifié'!BB21=\"F\",\"Female\",\"\"))))","v":""},{"$f":"IF('Outil Recensement simplifié'!BC21=\"Oui\",\"Yes\",IF('Outil Recensement simplifié'!BC21=\"Non\",\"No\",IF('Outil Recensement simplifié'!BC21=\"O\",\"Yes\",IF('Outil Recensement simplifié'!BC21=\"N\",\"No\",\"\"))))","v":""},{"$f":"IF('Outil Recensement simplifié'!BD21=\"Oui\",\"Yes\",IF('Outil Recensement simplifié'!BD21=\"Non\",\"No\",IF('Outil Recensement simplifié'!BD21=\"O\",\"Yes\",IF('Outil Recensement simplifié'!BD21=\"N\",\"No\",\"\"))))","v":""},{"$f":"IF('Outil Recensement simplifié'!BE21>0,'Outil Recensement simplifié'!BE21,\"\")","v":""},{"$f":"IF('Outil Recensement simplifié'!BF21>0,'Outil Recensement simplifié'!BF21,\"\")","v":""},{"$f":"IF('Outil Recensement simplifié'!BG21>0,'Outil Recensement simplifié'!BG21,\"\")","v":""},{"$f":"IF('Outil Recensement simplifié'!BH21=\"Homme\",\"Male\",IF('Outil Recensement simplifié'!BH21=\"Femme\",\"Female\",IF('Outil Recensement simplifié'!BH21=\"H\",\"Male\",IF('Outil Recensement simplifié'!BH21=\"F\",\"Female\",\"\"))))","v":""},{"$f":"IF('Outil Recensement simplifié'!BI21=\"Oui\",\"Yes\",IF('Outil Recensement simplifié'!BI21=\"Non\",\"No\",IF('Outil Recensement simplifié'!BI21=\"O\",\"Yes\",IF('Outil Recensement simplifié'!BI21=\"N\",\"No\",\"\"))))","v":""},{"$f":"IF('Outil Recensement simplifié'!BJ21=\"Oui\",\"Yes\",IF('Outil Recensement simplifié'!BJ21=\"Non\",\"No\",IF('Outil Recensement simplifié'!BJ21=\"O\",\"Yes\",IF('Outil Recensement simplifié'!BJ21=\"N\",\"No\",\"\"))))","v":""},{"$f":"IF('Outil Recensement simplifié'!BK21>0,'Outil Recensement simplifié'!BK21,\"\")","v":""},{"$f":"IF('Outil Recensement simplifié'!BL21>0,'Outil Recensement simplifié'!BL21,\"\")","v":""},{"$f":"IF('Outil Recensement simplifié'!BM21>0,'Outil Recensement simplifié'!BM21,\"\")","v":""},{"$f":"IF('Outil Recensement simplifié'!BN21=\"Homme\",\"Male\",IF('Outil Recensement simplifié'!BN21=\"Femme\",\"Female\",IF('Outil Recensement simplifié'!BN21=\"H\",\"Male\",IF('Outil Recensement simplifié'!BN21=\"F\",\"Female\",\"\"))))","v":""},{"$f":"IF('Outil Recensement simplifié'!BO21=\"Oui\",\"Yes\",IF('Outil Recensement simplifié'!BO21=\"Non\",\"No\",IF('Outil Recensement simplifié'!BO21=\"O\",\"Yes\",IF('Outil Recensement simplifié'!BO21=\"N\",\"No\",\"\"))))","v":""},{"$f":"IF('Outil Recensement simplifié'!BP21=\"Oui\",\"Yes\",IF('Outil Recensement simplifié'!BP21=\"Non\",\"No\",IF('Outil Recensement simplifié'!BP21=\"O\",\"Yes\",IF('Outil Recensement simplifié'!BP21=\"N\",\"No\",\"\"))))","v":""},{"$f":"IF('Outil Recensement simplifié'!BQ21>0,'Outil Recensement simplifié'!BQ21,\"\")","v":""},{"$f":"IF('Outil Recensement simplifié'!BR21>0,'Outil Recensement simplifié'!BR21,\"\")","v":""},{"$f":"IF('Outil Recensement simplifié'!BS21>0,'Outil Recensement simplifié'!BS21,\"\")","v":""},{"$f":"IF('Outil Recensement simplifié'!BT21=\"Homme\",\"Male\",IF('Outil Recensement simplifié'!BT21=\"Femme\",\"Female\",IF('Outil Recensement simplifié'!BT21=\"H\",\"Male\",IF('Outil Recensement simplifié'!BT21=\"F\",\"Female\",\"\"))))","v":""},{"$f":"IF('Outil Recensement simplifié'!BU21=\"Oui\",\"Yes\",IF('Outil Recensement simplifié'!BU21=\"Non\",\"No\",IF('Outil Recensement simplifié'!BU21=\"O\",\"Yes\",IF('Outil Recensement simplifié'!BU21=\"N\",\"No\",\"\"))))","v":""},{"$f":"IF('Outil Recensement simplifié'!BV21=\"Oui\",\"Yes\",IF('Outil Recensement simplifié'!BV21=\"Non\",\"No\",IF('Outil Recensement simplifié'!BV21=\"O\",\"Yes\",IF('Outil Recensement simplifié'!BV21=\"N\",\"No\",\"\"))))","v":""},{"$f":"IF('Outil Recensement simplifié'!BW21>0,'Outil Recensement simplifié'!BW21,\"\")","v":""},{"$f":"IF('Outil Recensement simplifié'!BX21>0,'Outil Recensement simplifié'!BX21,\"\")","v":""},{"$f":"IF('Outil Recensement simplifié'!BY21>0,'Outil Recensement simplifié'!BY21,\"\")","v":""},{"$f":"IF('Outil Recensement simplifié'!BZ21=\"Homme\",\"Male\",IF('Outil Recensement simplifié'!BZ21=\"Femme\",\"Female\",IF('Outil Recensement simplifié'!BZ21=\"H\",\"Male\",IF('Outil Recensement simplifié'!BZ21=\"F\",\"Female\",\"\"))))","v":""},{"$f":"IF('Outil Recensement simplifié'!CA21=\"Oui\",\"Yes\",IF('Outil Recensement simplifié'!CA21=\"Non\",\"No\",IF('Outil Recensement simplifié'!CA21=\"O\",\"Yes\",IF('Outil Recensement simplifié'!CA21=\"N\",\"No\",\"\"))))","v":""},{"$f":"IF('Outil Recensement simplifié'!CB21=\"Oui\",\"Yes\",IF('Outil Recensement simplifié'!CB21=\"Non\",\"No\",IF('Outil Recensement simplifié'!CB21=\"O\",\"Yes\",IF('Outil Recensement simplifié'!CB21=\"N\",\"No\",\"\"))))","v":""},{"$f":"IF('Outil Recensement simplifié'!CH21>0,'Outil Recensement simplifié'!CH21,\"\")","v":"    "}]
[{"$f":"IF('Outil Recensement simplifié'!A22>0,'Outil Recensement simplifié'!A22,\"\")","v":""},{"$f":"IF('Outil Recensement simplifié'!B22>0,'Outil Recensement simplifié'!B22,\"\")","v":""},{"$f":"IF('Outil Recensement simplifié'!C22>0,'Outil Recensement simplifié'!C22,\"\")","v":""},{"$f":"IF('Outil Recensement simplifié'!D22>0,'Outil Recensement simplifié'!D22,\"\")","v":""},{"$f":"IF('Outil Recensement simplifié'!E22>0,TEXT('Outil Recensement simplifié'!E22,\"000\"),\"\")","v":""},{"$f":"IF('Outil Recensement simplifié'!F22>0,'Outil Recensement simplifié'!F22,\"\")","v":""},{"$f":"IF('Outil Recensement simplifié'!G22>0,'Outil Recensement simplifié'!G22,\"\")","v":""},{"$f":"IF('Outil Recensement simplifié'!I22>0,'Outil Recensement simplifié'!I22,\"\")","v":""},{"$f":"IF('Outil Recensement simplifié'!J22>0,'Outil Recensement simplifié'!J22,\"\")","v":""},{"$f":"IF('Outil Recensement simplifié'!K22>0,'Outil Recensement simplifié'!K22,\"\")","v":""},{"$f":"IF('Outil Recensement simplifié'!L22>0,'Outil Recensement simplifié'!L22,\"\")","v":""},{"$f":"IF('Outil Recensement simplifié'!M22=\"Homme\",\"Male\",IF('Outil Recensement simplifié'!M22=\"Femme\",\"Female\",IF('Outil Recensement simplifié'!M22=\"H\",\"Male\",IF('Outil Recensement simplifié'!M22=\"F\",\"Female\",\"\"))))","v":""},{"$f":"IF('Outil Recensement simplifié'!N22=\"Oui\",\"Yes\",IF('Outil Recensement simplifié'!N22=\"Non\",\"No\",IF('Outil Recensement simplifié'!N22=\"O\",\"Yes\",IF('Outil Recensement simplifié'!N22=\"N\",\"No\",\"\"))))","v":""},{"$f":"IF('Outil Recensement simplifié'!O22=\"Non\",\"Single\",IF('Outil Recensement simplifié'!O22=\"Oui\",\"Family\",IF('Outil Recensement simplifié'!O22=\"N\",\"Single\",IF('Outil Recensement simplifié'!O22=\"O\",\"Family\",IF('Outil Recensement simplifié'!O22=\"En vigueur\",\"Family\",\"\")))))","v":""},{"$f":"IF('Outil Recensement simplifié'!P22=\"Anglais\",\"English\",IF('Outil Recensement simplifié'!P22=\"Français\",\"French\",IF('Outil Recensement simplifié'!P22=\"A\",\"English\",IF('Outil Recensement simplifié'!P22=\"F\",\"French\",\"\"))))","v":""},{"$f":"IF('Outil Recensement simplifié'!Q22=\"Oui\",\"Yes\",IF('Outil Recensement simplifié'!Q22=\"Non\",\"No\",IF('Outil Recensement simplifié'!Q22=\"O\",\"Yes\",IF('Outil Recensement simplifié'!Q22=\"N\",\"No\",\"\"))))","v":""},{"$f":"IF('Outil Recensement simplifié'!R22>0,'Outil Recensement simplifié'!R22,\"\")","v":""},{"$f":"IF('Outil Recensement simplifié'!S22=\"Annuelle\",\"Annually\",IF('Outil Recensement simplifié'!S22=\"Mensuelle\",\"Monthly\",IF('Outil Recensement simplifié'!S22=\"Aux deux semaines\",\"Biweekly\",IF('Outil Recensement simplifié'!S22=\"Bimensuelle\",\"Semi-Monthly\",IF('Outil Recensement simplifié'!S22=\"Hebdomadaire\",\"Weekly\",IF('Outil Recensement simplifié'!S22=\"Horaire\",\"Hourly\",\"\"))))))","v":""},{"$f":"IF('Outil Recensement simplifié'!T22>0,'Outil Recensement simplifié'!T22,\"\")","v":""},{"$f":"IF('Outil Recensement simplifié'!U22>0,'Outil Recensement simplifié'!U22,\"\")","v":""},{"$f":"IF('Outil Recensement simplifié'!V22=\"Exemptée\",\"Yes\",\"\")","v":""},{"$f":"IF('Outil Recensement simplifié'!W22=\"Exemptée\",\"Yes\",\"\")","v":""},{"$f":"IF('Outil Recensement simplifié'!X22>0,'Outil Recensement simplifié'!X22,\"\")","v":""},{"$f":"IF('Outil Recensement simplifié'!Y22>0,'Outil Recensement simplifié'!Y22,\"\")","v":""},{"$f":"IF('Outil Recensement simplifié'!Z22>0,'Outil Recensement simplifié'!Z22,\"\")","v":""},{"$f":"IF('Outil Recensement simplifié'!AA22>0,'Outil Recensement simplifié'!AA22,\"\")","v":""},{"$f":"IF('Outil Recensement simplifié'!AB22>0,'Outil Recensement simplifié'!AB22,\"\")","v":""},{"$f":"IF('Outil Recensement simplifié'!AC22>0,'Outil Recensement simplifié'!AC22,\"\")","v":" "},{"$f":"IF('Outil Recensement simplifié'!AE22>0,'Outil Recensement simplifié'!AE22&\" \",\"\")&IF('Outil Recensement simplifié'!AD22>0,'Outil Recensement simplifié'!AD22,\"\")","v":""},null,{"$f":"IF('Outil Recensement simplifié'!AF22>0,'Outil Recensement simplifié'!AF22,\"\")","v":""},{"$f":"IF('Outil Recensement simplifié'!AG22>0,'Outil Recensement simplifié'!AG22,\"\")","v":""},{"$f":"IF('Outil Recensement simplifié'!AH22>0,'Outil Recensement simplifié'!AH22,\"\")","v":""},{"$f":"IF('Outil Recensement simplifié'!AI22>0,'Outil Recensement simplifié'!AI22,\"\")","v":""},{"$f":"IF('Outil Recensement simplifié'!AJ22>0,'Outil Recensement simplifié'!AJ22,\"\")","v":""},{"$f":"IF('Outil Recensement simplifié'!AK22>0,'Outil Recensement simplifié'!AK22,\"\")","v":""},{"$f":"IF('Outil Recensement simplifié'!AL22>0,'Outil Recensement simplifié'!AL22,\"\")","v":""},{"$f":"IF('Outil Recensement simplifié'!AM22>0,'Outil Recensement simplifié'!AM22,\"\")","v":""},{"$f":"IF('Outil Recensement simplifié'!AN22=\"Homme\",\"Male\",IF('Outil Recensement simplifié'!AN22=\"Femme\",\"Female\",IF('Outil Recensement simplifié'!AN22=\"H\",\"Male\",IF('Outil Recensement simplifié'!AN22=\"F\",\"Female\",\"\"))))","v":""},{"$f":"IF('Outil Recensement simplifié'!AO22=\"Individuelle\",\"Single\",IF('Outil Recensement simplifié'!AO22=\"Famille\",\"Family\",IF('Outil Recensement simplifié'!AO22=\"Individuel\",\"Single\",IF('Outil Recensement simplifié'!AO22=\"Familiale\",\"Family\",IF('Outil Recensement simplifié'!AO22=\"I\",\"Single\",IF('Outil Recensement simplifié'!AO22=\"F\",\"Family\",\"\"))))))","v":""},{"$f":"IF('Outil Recensement simplifié'!AP22=\"Individuelle\",\"Single\",IF('Outil Recensement simplifié'!AP22=\"Famille\",\"Family\",IF('Outil Recensement simplifié'!AP22=\"Individuel\",\"Single\",IF('Outil Recensement simplifié'!AP22=\"Familiale\",\"Family\",IF('Outil Recensement simplifié'!AP22=\"I\",\"Single\",IF('Outil Recensement simplifié'!AP22=\"F\",\"Family\",\"\"))))))","v":""},{"$f":"IF('Outil Recensement simplifié'!AQ22>0,'Outil Recensement simplifié'!AQ22,\"\")","v":""},{"$f":"IF('Outil Recensement simplifié'!AR22=\"Oui\",\"Yes\",IF('Outil Recensement simplifié'!AR22=\"Non\",\"No\",IF('Outil Recensement simplifié'!AR22=\"O\",\"Yes\",IF('Outil Recensement simplifié'!AR22=\"N\",\"No\",\"\"))))","v":""},{"$f":"IF('Outil Recensement simplifié'!AS22>0,'Outil Recensement simplifié'!AS22,\"\")","v":""},{"$f":"IF('Outil Recensement simplifié'!AT22>0,'Outil Recensement simplifié'!AT22,\"\")","v":""},{"$f":"IF('Outil Recensement simplifié'!AU22>0,'Outil Recensement simplifié'!AU22,\"\")","v":""},{"$f":"IF('Outil Recensement simplifié'!AV22=\"Homme\",\"Male\",IF('Outil Recensement simplifié'!AV22=\"Femme\",\"Female\",IF('Outil Recensement simplifié'!AV22=\"H\",\"Male\",IF('Outil Recensement simplifié'!AV22=\"F\",\"Female\",\"\"))))","v":""},{"$f":"IF('Outil Recensement simplifié'!AW22=\"Oui\",\"Yes\",IF('Outil Recensement simplifié'!AW22=\"Non\",\"No\",IF('Outil Recensement simplifié'!AW22=\"O\",\"Yes\",IF('Outil Recensement simplifié'!AW22=\"N\",\"No\",\"\"))))","v":""},{"$f":"IF('Outil Recensement simplifié'!AX22=\"Oui\",\"Yes\",IF('Outil Recensement simplifié'!AX22=\"Non\",\"No\",IF('Outil Recensement simplifié'!AX22=\"O\",\"Yes\",IF('Outil Recensement simplifié'!AX22=\"N\",\"No\",\"\"))))","v":""},{"$f":"IF('Outil Recensement simplifié'!AY22>0,'Outil Recensement simplifié'!AY22,\"\")","v":""},{"$f":"IF('Outil Recensement simplifié'!AZ22>0,'Outil Recensement simplifié'!AZ22,\"\")","v":""},{"$f":"IF('Outil Recensement simplifié'!BA22>0,'Outil Recensement simplifié'!BA22,\"\")","v":""},{"$f":"IF('Outil Recensement simplifié'!BB22=\"Homme\",\"Male\",IF('Outil Recensement simplifié'!BB22=\"Femme\",\"Female\",IF('Outil Recensement simplifié'!BB22=\"H\",\"Male\",IF('Outil Recensement simplifié'!BB22=\"F\",\"Female\",\"\"))))","v":""},{"$f":"IF('Outil Recensement simplifié'!BC22=\"Oui\",\"Yes\",IF('Outil Recensement simplifié'!BC22=\"Non\",\"No\",IF('Outil Recensement simplifié'!BC22=\"O\",\"Yes\",IF('Outil Recensement simplifié'!BC22=\"N\",\"No\",\"\"))))","v":""},{"$f":"IF('Outil Recensement simplifié'!BD22=\"Oui\",\"Yes\",IF('Outil Recensement simplifié'!BD22=\"Non\",\"No\",IF('Outil Recensement simplifié'!BD22=\"O\",\"Yes\",IF('Outil Recensement simplifié'!BD22=\"N\",\"No\",\"\"))))","v":""},{"$f":"IF('Outil Recensement simplifié'!BE22>0,'Outil Recensement simplifié'!BE22,\"\")","v":""},{"$f":"IF('Outil Recensement simplifié'!BF22>0,'Outil Recensement simplifié'!BF22,\"\")","v":""},{"$f":"IF('Outil Recensement simplifié'!BG22>0,'Outil Recensement simplifié'!BG22,\"\")","v":""},{"$f":"IF('Outil Recensement simplifié'!BH22=\"Homme\",\"Male\",IF('Outil Recensement simplifié'!BH22=\"Femme\",\"Female\",IF('Outil Recensement simplifié'!BH22=\"H\",\"Male\",IF('Outil Recensement simplifié'!BH22=\"F\",\"Female\",\"\"))))","v":""},{"$f":"IF('Outil Recensement simplifié'!BI22=\"Oui\",\"Yes\",IF('Outil Recensement simplifié'!BI22=\"Non\",\"No\",IF('Outil Recensement simplifié'!BI22=\"O\",\"Yes\",IF('Outil Recensement simplifié'!BI22=\"N\",\"No\",\"\"))))","v":""},{"$f":"IF('Outil Recensement simplifié'!BJ22=\"Oui\",\"Yes\",IF('Outil Recensement simplifié'!BJ22=\"Non\",\"No\",IF('Outil Recensement simplifié'!BJ22=\"O\",\"Yes\",IF('Outil Recensement simplifié'!BJ22=\"N\",\"No\",\"\"))))","v":""},{"$f":"IF('Outil Recensement simplifié'!BK22>0,'Outil Recensement simplifié'!BK22,\"\")","v":""},{"$f":"IF('Outil Recensement simplifié'!BL22>0,'Outil Recensement simplifié'!BL22,\"\")","v":""},{"$f":"IF('Outil Recensement simplifié'!BM22>0,'Outil Recensement simplifié'!BM22,\"\")","v":""},{"$f":"IF('Outil Recensement simplifié'!BN22=\"Homme\",\"Male\",IF('Outil Recensement simplifié'!BN22=\"Femme\",\"Female\",IF('Outil Recensement simplifié'!BN22=\"H\",\"Male\",IF('Outil Recensement simplifié'!BN22=\"F\",\"Female\",\"\"))))","v":""},{"$f":"IF('Outil Recensement simplifié'!BO22=\"Oui\",\"Yes\",IF('Outil Recensement simplifié'!BO22=\"Non\",\"No\",IF('Outil Recensement simplifié'!BO22=\"O\",\"Yes\",IF('Outil Recensement simplifié'!BO22=\"N\",\"No\",\"\"))))","v":""},{"$f":"IF('Outil Recensement simplifié'!BP22=\"Oui\",\"Yes\",IF('Outil Recensement simplifié'!BP22=\"Non\",\"No\",IF('Outil Recensement simplifié'!BP22=\"O\",\"Yes\",IF('Outil Recensement simplifié'!BP22=\"N\",\"No\",\"\"))))","v":""},{"$f":"IF('Outil Recensement simplifié'!BQ22>0,'Outil Recensement simplifié'!BQ22,\"\")","v":""},{"$f":"IF('Outil Recensement simplifié'!BR22>0,'Outil Recensement simplifié'!BR22,\"\")","v":""},{"$f":"IF('Outil Recensement simplifié'!BS22>0,'Outil Recensement simplifié'!BS22,\"\")","v":""},{"$f":"IF('Outil Recensement simplifié'!BT22=\"Homme\",\"Male\",IF('Outil Recensement simplifié'!BT22=\"Femme\",\"Female\",IF('Outil Recensement simplifié'!BT22=\"H\",\"Male\",IF('Outil Recensement simplifié'!BT22=\"F\",\"Female\",\"\"))))","v":""},{"$f":"IF('Outil Recensement simplifié'!BU22=\"Oui\",\"Yes\",IF('Outil Recensement simplifié'!BU22=\"Non\",\"No\",IF('Outil Recensement simplifié'!BU22=\"O\",\"Yes\",IF('Outil Recensement simplifié'!BU22=\"N\",\"No\",\"\"))))","v":""},{"$f":"IF('Outil Recensement simplifié'!BV22=\"Oui\",\"Yes\",IF('Outil Recensement simplifié'!BV22=\"Non\",\"No\",IF('Outil Recensement simplifié'!BV22=\"O\",\"Yes\",IF('Outil Recensement simplifié'!BV22=\"N\",\"No\",\"\"))))","v":""},{"$f":"IF('Outil Recensement simplifié'!BW22>0,'Outil Recensement simplifié'!BW22,\"\")","v":""},{"$f":"IF('Outil Recensement simplifié'!BX22>0,'Outil Recensement simplifié'!BX22,\"\")","v":""},{"$f":"IF('Outil Recensement simplifié'!BY22>0,'Outil Recensement simplifié'!BY22,\"\")","v":""},{"$f":"IF('Outil Recensement simplifié'!BZ22=\"Homme\",\"Male\",IF('Outil Recensement simplifié'!BZ22=\"Femme\",\"Female\",IF('Outil Recensement simplifié'!BZ22=\"H\",\"Male\",IF('Outil Recensement simplifié'!BZ22=\"F\",\"Female\",\"\"))))","v":""},{"$f":"IF('Outil Recensement simplifié'!CA22=\"Oui\",\"Yes\",IF('Outil Recensement simplifié'!CA22=\"Non\",\"No\",IF('Outil Recensement simplifié'!CA22=\"O\",\"Yes\",IF('Outil Recensement simplifié'!CA22=\"N\",\"No\",\"\"))))","v":""},{"$f":"IF('Outil Recensement simplifié'!CB22=\"Oui\",\"Yes\",IF('Outil Recensement simplifié'!CB22=\"Non\",\"No\",IF('Outil Recensement simplifié'!CB22=\"O\",\"Yes\",IF('Outil Recensement simplifié'!CB22=\"N\",\"No\",\"\"))))","v":""},{"$f":"IF('Outil Recensement simplifié'!CH22>0,'Outil Recensement simplifié'!CH22,\"\")","v":"    "}]
[{"$f":"IF('Outil Recensement simplifié'!A23>0,'Outil Recensement simplifié'!A23,\"\")","v":""},{"$f":"IF('Outil Recensement simplifié'!B23>0,'Outil Recensement simplifié'!B23,\"\")","v":""},{"$f":"IF('Outil Recensement simplifié'!C23>0,'Outil Recensement simplifié'!C23,\"\")","v":""},{"$f":"IF('Outil Recensement simplifié'!D23>0,'Outil Recensement simplifié'!D23,\"\")","v":""},{"$f":"IF('Outil Recensement simplifié'!E23>0,TEXT('Outil Recensement simplifié'!E23,\"000\"),\"\")","v":""},{"$f":"IF('Outil Recensement simplifié'!F23>0,'Outil Recensement simplifié'!F23,\"\")","v":""},{"$f":"IF('Outil Recensement simplifié'!G23>0,'Outil Recensement simplifié'!G23,\"\")","v":""},{"$f":"IF('Outil Recensement simplifié'!I23>0,'Outil Recensement simplifié'!I23,\"\")","v":""},{"$f":"IF('Outil Recensement simplifié'!J23>0,'Outil Recensement simplifié'!J23,\"\")","v":""},{"$f":"IF('Outil Recensement simplifié'!K23>0,'Outil Recensement simplifié'!K23,\"\")","v":""},{"$f":"IF('Outil Recensement simplifié'!L23>0,'Outil Recensement simplifié'!L23,\"\")","v":""},{"$f":"IF('Outil Recensement simplifié'!M23=\"Homme\",\"Male\",IF('Outil Recensement simplifié'!M23=\"Femme\",\"Female\",IF('Outil Recensement simplifié'!M23=\"H\",\"Male\",IF('Outil Recensement simplifié'!M23=\"F\",\"Female\",\"\"))))","v":""},{"$f":"IF('Outil Recensement simplifié'!N23=\"Oui\",\"Yes\",IF('Outil Recensement simplifié'!N23=\"Non\",\"No\",IF('Outil Recensement simplifié'!N23=\"O\",\"Yes\",IF('Outil Recensement simplifié'!N23=\"N\",\"No\",\"\"))))","v":""},{"$f":"IF('Outil Recensement simplifié'!O23=\"Non\",\"Single\",IF('Outil Recensement simplifié'!O23=\"Oui\",\"Family\",IF('Outil Recensement simplifié'!O23=\"N\",\"Single\",IF('Outil Recensement simplifié'!O23=\"O\",\"Family\",IF('Outil Recensement simplifié'!O23=\"En vigueur\",\"Family\",\"\")))))","v":""},{"$f":"IF('Outil Recensement simplifié'!P23=\"Anglais\",\"English\",IF('Outil Recensement simplifié'!P23=\"Français\",\"French\",IF('Outil Recensement simplifié'!P23=\"A\",\"English\",IF('Outil Recensement simplifié'!P23=\"F\",\"French\",\"\"))))","v":""},{"$f":"IF('Outil Recensement simplifié'!Q23=\"Oui\",\"Yes\",IF('Outil Recensement simplifié'!Q23=\"Non\",\"No\",IF('Outil Recensement simplifié'!Q23=\"O\",\"Yes\",IF('Outil Recensement simplifié'!Q23=\"N\",\"No\",\"\"))))","v":""},{"$f":"IF('Outil Recensement simplifié'!R23>0,'Outil Recensement simplifié'!R23,\"\")","v":""},{"$f":"IF('Outil Recensement simplifié'!S23=\"Annuelle\",\"Annually\",IF('Outil Recensement simplifié'!S23=\"Mensuelle\",\"Monthly\",IF('Outil Recensement simplifié'!S23=\"Aux deux semaines\",\"Biweekly\",IF('Outil Recensement simplifié'!S23=\"Bimensuelle\",\"Semi-Monthly\",IF('Outil Recensement simplifié'!S23=\"Hebdomadaire\",\"Weekly\",IF('Outil Recensement simplifié'!S23=\"Horaire\",\"Hourly\",\"\"))))))","v":""},{"$f":"IF('Outil Recensement simplifié'!T23>0,'Outil Recensement simplifié'!T23,\"\")","v":""},{"$f":"IF('Outil Recensement simplifié'!U23>0,'Outil Recensement simplifié'!U23,\"\")","v":""},{"$f":"IF('Outil Recensement simplifié'!V23=\"Exemptée\",\"Yes\",\"\")","v":""},{"$f":"IF('Outil Recensement simplifié'!W23=\"Exemptée\",\"Yes\",\"\")","v":""},{"$f":"IF('Outil Recensement simplifié'!X23>0,'Outil Recensement simplifié'!X23,\"\")","v":""},{"$f":"IF('Outil Recensement simplifié'!Y23>0,'Outil Recensement simplifié'!Y23,\"\")","v":""},{"$f":"IF('Outil Recensement simplifié'!Z23>0,'Outil Recensement simplifié'!Z23,\"\")","v":""},{"$f":"IF('Outil Recensement simplifié'!AA23>0,'Outil Recensement simplifié'!AA23,\"\")","v":""},{"$f":"IF('Outil Recensement simplifié'!AB23>0,'Outil Recensement simplifié'!AB23,\"\")","v":""},{"$f":"IF('Outil Recensement simplifié'!AC23>0,'Outil Recensement simplifié'!AC23,\"\")","v":" "},{"$f":"IF('Outil Recensement simplifié'!AE23>0,'Outil Recensement simplifié'!AE23&\" \",\"\")&IF('Outil Recensement simplifié'!AD23>0,'Outil Recensement simplifié'!AD23,\"\")","v":""},null,{"$f":"IF('Outil Recensement simplifié'!AF23>0,'Outil Recensement simplifié'!AF23,\"\")","v":""},{"$f":"IF('Outil Recensement simplifié'!AG23>0,'Outil Recensement simplifié'!AG23,\"\")","v":""},{"$f":"IF('Outil Recensement simplifié'!AH23>0,'Outil Recensement simplifié'!AH23,\"\")","v":""},{"$f":"IF('Outil Recensement simplifié'!AI23>0,'Outil Recensement simplifié'!AI23,\"\")","v":""},{"$f":"IF('Outil Recensement simplifié'!AJ23>0,'Outil Recensement simplifié'!AJ23,\"\")","v":""},{"$f":"IF('Outil Recensement simplifié'!AK23>0,'Outil Recensement simplifié'!AK23,\"\")","v":""},{"$f":"IF('Outil Recensement simplifié'!AL23>0,'Outil Recensement simplifié'!AL23,\"\")","v":""},{"$f":"IF('Outil Recensement simplifié'!AM23>0,'Outil Recensement simplifié'!AM23,\"\")","v":""},{"$f":"IF('Outil Recensement simplifié'!AN23=\"Homme\",\"Male\",IF('Outil Recensement simplifié'!AN23=\"Femme\",\"Female\",IF('Outil Recensement simplifié'!AN23=\"H\",\"Male\",IF('Outil Recensement simplifié'!AN23=\"F\",\"Female\",\"\"))))","v":""},{"$f":"IF('Outil Recensement simplifié'!AO23=\"Individuelle\",\"Single\",IF('Outil Recensement simplifié'!AO23=\"Famille\",\"Family\",IF('Outil Recensement simplifié'!AO23=\"Individuel\",\"Single\",IF('Outil Recensement simplifié'!AO23=\"Familiale\",\"Family\",IF('Outil Recensement simplifié'!AO23=\"I\",\"Single\",IF('Outil Recensement simplifié'!AO23=\"F\",\"Family\",\"\"))))))","v":""},{"$f":"IF('Outil Recensement simplifié'!AP23=\"Individuelle\",\"Single\",IF('Outil Recensement simplifié'!AP23=\"Famille\",\"Family\",IF('Outil Recensement simplifié'!AP23=\"Individuel\",\"Single\",IF('Outil Recensement simplifié'!AP23=\"Familiale\",\"Family\",IF('Outil Recensement simplifié'!AP23=\"I\",\"Single\",IF('Outil Recensement simplifié'!AP23=\"F\",\"Family\",\"\"))))))","v":""},{"$f":"IF('Outil Recensement simplifié'!AQ23>0,'Outil Recensement simplifié'!AQ23,\"\")","v":""},{"$f":"IF('Outil Recensement simplifié'!AR23=\"Oui\",\"Yes\",IF('Outil Recensement simplifié'!AR23=\"Non\",\"No\",IF('Outil Recensement simplifié'!AR23=\"O\",\"Yes\",IF('Outil Recensement simplifié'!AR23=\"N\",\"No\",\"\"))))","v":""},{"$f":"IF('Outil Recensement simplifié'!AS23>0,'Outil Recensement simplifié'!AS23,\"\")","v":""},{"$f":"IF('Outil Recensement simplifié'!AT23>0,'Outil Recensement simplifié'!AT23,\"\")","v":""},{"$f":"IF('Outil Recensement simplifié'!AU23>0,'Outil Recensement simplifié'!AU23,\"\")","v":""},{"$f":"IF('Outil Recensement simplifié'!AV23=\"Homme\",\"Male\",IF('Outil Recensement simplifié'!AV23=\"Femme\",\"Female\",IF('Outil Recensement simplifié'!AV23=\"H\",\"Male\",IF('Outil Recensement simplifié'!AV23=\"F\",\"Female\",\"\"))))","v":""},{"$f":"IF('Outil Recensement simplifié'!AW23=\"Oui\",\"Yes\",IF('Outil Recensement simplifié'!AW23=\"Non\",\"No\",IF('Outil Recensement simplifié'!AW23=\"O\",\"Yes\",IF('Outil Recensement simplifié'!AW23=\"N\",\"No\",\"\"))))","v":""},{"$f":"IF('Outil Recensement simplifié'!AX23=\"Oui\",\"Yes\",IF('Outil Recensement simplifié'!AX23=\"Non\",\"No\",IF('Outil Recensement simplifié'!AX23=\"O\",\"Yes\",IF('Outil Recensement simplifié'!AX23=\"N\",\"No\",\"\"))))","v":""},{"$f":"IF('Outil Recensement simplifié'!AY23>0,'Outil Recensement simplifié'!AY23,\"\")","v":""},{"$f":"IF('Outil Recensement simplifié'!AZ23>0,'Outil Recensement simplifié'!AZ23,\"\")","v":""},{"$f":"IF('Outil Recensement simplifié'!BA23>0,'Outil Recensement simplifié'!BA23,\"\")","v":""},{"$f":"IF('Outil Recensement simplifié'!BB23=\"Homme\",\"Male\",IF('Outil Recensement simplifié'!BB23=\"Femme\",\"Female\",IF('Outil Recensement simplifié'!BB23=\"H\",\"Male\",IF('Outil Recensement simplifié'!BB23=\"F\",\"Female\",\"\"))))","v":""},{"$f":"IF('Outil Recensement simplifié'!BC23=\"Oui\",\"Yes\",IF('Outil Recensement simplifié'!BC23=\"Non\",\"No\",IF('Outil Recensement simplifié'!BC23=\"O\",\"Yes\",IF('Outil Recensement simplifié'!BC23=\"N\",\"No\",\"\"))))","v":""},{"$f":"IF('Outil Recensement simplifié'!BD23=\"Oui\",\"Yes\",IF('Outil Recensement simplifié'!BD23=\"Non\",\"No\",IF('Outil Recensement simplifié'!BD23=\"O\",\"Yes\",IF('Outil Recensement simplifié'!BD23=\"N\",\"No\",\"\"))))","v":""},{"$f":"IF('Outil Recensement simplifié'!BE23>0,'Outil Recensement simplifié'!BE23,\"\")","v":""},{"$f":"IF('Outil Recensement simplifié'!BF23>0,'Outil Recensement simplifié'!BF23,\"\")","v":""},{"$f":"IF('Outil Recensement simplifié'!BG23>0,'Outil Recensement simplifié'!BG23,\"\")","v":""},{"$f":"IF('Outil Recensement simplifié'!BH23=\"Homme\",\"Male\",IF('Outil Recensement simplifié'!BH23=\"Femme\",\"Female\",IF('Outil Recensement simplifié'!BH23=\"H\",\"Male\",IF('Outil Recensement simplifié'!BH23=\"F\",\"Female\",\"\"))))","v":""},{"$f":"IF('Outil Recensement simplifié'!BI23=\"Oui\",\"Yes\",IF('Outil Recensement simplifié'!BI23=\"Non\",\"No\",IF('Outil Recensement simplifié'!BI23=\"O\",\"Yes\",IF('Outil Recensement simplifié'!BI23=\"N\",\"No\",\"\"))))","v":""},{"$f":"IF('Outil Recensement simplifié'!BJ23=\"Oui\",\"Yes\",IF('Outil Recensement simplifié'!BJ23=\"Non\",\"No\",IF('Outil Recensement simplifié'!BJ23=\"O\",\"Yes\",IF('Outil Recensement simplifié'!BJ23=\"N\",\"No\",\"\"))))","v":""},{"$f":"IF('Outil Recensement simplifié'!BK23>0,'Outil Recensement simplifié'!BK23,\"\")","v":""},{"$f":"IF('Outil Recensement simplifié'!BL23>0,'Outil Recensement simplifié'!BL23,\"\")","v":""},{"$f":"IF('Outil Recensement simplifié'!BM23>0,'Outil Recensement simplifié'!BM23,\"\")","v":""},{"$f":"IF('Outil Recensement simplifié'!BN23=\"Homme\",\"Male\",IF('Outil Recensement simplifié'!BN23=\"Femme\",\"Female\",IF('Outil Recensement simplifié'!BN23=\"H\",\"Male\",IF('Outil Recensement simplifié'!BN23=\"F\",\"Female\",\"\"))))","v":""},{"$f":"IF('Outil Recensement simplifié'!BO23=\"Oui\",\"Yes\",IF('Outil Recensement simplifié'!BO23=\"Non\",\"No\",IF('Outil Recensement simplifié'!BO23=\"O\",\"Yes\",IF('Outil Recensement simplifié'!BO23=\"N\",\"No\",\"\"))))","v":""},{"$f":"IF('Outil Recensement simplifié'!BP23=\"Oui\",\"Yes\",IF('Outil Recensement simplifié'!BP23=\"Non\",\"No\",IF('Outil Recensement simplifié'!BP23=\"O\",\"Yes\",IF('Outil Recensement simplifié'!BP23=\"N\",\"No\",\"\"))))","v":""},{"$f":"IF('Outil Recensement simplifié'!BQ23>0,'Outil Recensement simplifié'!BQ23,\"\")","v":""},{"$f":"IF('Outil Recensement simplifié'!BR23>0,'Outil Recensement simplifié'!BR23,\"\")","v":""},{"$f":"IF('Outil Recensement simplifié'!BS23>0,'Outil Recensement simplifié'!BS23,\"\")","v":""},{"$f":"IF('Outil Recensement simplifié'!BT23=\"Homme\",\"Male\",IF('Outil Recensement simplifié'!BT23=\"Femme\",\"Female\",IF('Outil Recensement simplifié'!BT23=\"H\",\"Male\",IF('Outil Recensement simplifié'!BT23=\"F\",\"Female\",\"\"))))","v":""},{"$f":"IF('Outil Recensement simplifié'!BU23=\"Oui\",\"Yes\",IF('Outil Recensement simplifié'!BU23=\"Non\",\"No\",IF('Outil Recensement simplifié'!BU23=\"O\",\"Yes\",IF('Outil Recensement simplifié'!BU23=\"N\",\"No\",\"\"))))","v":""},{"$f":"IF('Outil Recensement simplifié'!BV23=\"Oui\",\"Yes\",IF('Outil Recensement simplifié'!BV23=\"Non\",\"No\",IF('Outil Recensement simplifié'!BV23=\"O\",\"Yes\",IF('Outil Recensement simplifié'!BV23=\"N\",\"No\",\"\"))))","v":""},{"$f":"IF('Outil Recensement simplifié'!BW23>0,'Outil Recensement simplifié'!BW23,\"\")","v":""},{"$f":"IF('Outil Recensement simplifié'!BX23>0,'Outil Recensement simplifié'!BX23,\"\")","v":""},{"$f":"IF('Outil Recensement simplifié'!BY23>0,'Outil Recensement simplifié'!BY23,\"\")","v":""},{"$f":"IF('Outil Recensement simplifié'!BZ23=\"Homme\",\"Male\",IF('Outil Recensement simplifié'!BZ23=\"Femme\",\"Female\",IF('Outil Recensement simplifié'!BZ23=\"H\",\"Male\",IF('Outil Recensement simplifié'!BZ23=\"F\",\"Female\",\"\"))))","v":""},{"$f":"IF('Outil Recensement simplifié'!CA23=\"Oui\",\"Yes\",IF('Outil Recensement simplifié'!CA23=\"Non\",\"No\",IF('Outil Recensement simplifié'!CA23=\"O\",\"Yes\",IF('Outil Recensement simplifié'!CA23=\"N\",\"No\",\"\"))))","v":""},{"$f":"IF('Outil Recensement simplifié'!CB23=\"Oui\",\"Yes\",IF('Outil Recensement simplifié'!CB23=\"Non\",\"No\",IF('Outil Recensement simplifié'!CB23=\"O\",\"Yes\",IF('Outil Recensement simplifié'!CB23=\"N\",\"No\",\"\"))))","v":""},{"$f":"IF('Outil Recensement simplifié'!CH23>0,'Outil Recensement simplifié'!CH23,\"\")","v":"    "}]
[{"$f":"IF('Outil Recensement simplifié'!A24>0,'Outil Recensement simplifié'!A24,\"\")","v":""},{"$f":"IF('Outil Recensement simplifié'!B24>0,'Outil Recensement simplifié'!B24,\"\")","v":""},{"$f":"IF('Outil Recensement simplifié'!C24>0,'Outil Recensement simplifié'!C24,\"\")","v":""},{"$f":"IF('Outil Recensement simplifié'!D24>0,'Outil Recensement simplifié'!D24,\"\")","v":""},{"$f":"IF('Outil Recensement simplifié'!E24>0,TEXT('Outil Recensement simplifié'!E24,\"000\"),\"\")","v":""},{"$f":"IF('Outil Recensement simplifié'!F24>0,'Outil Recensement simplifié'!F24,\"\")","v":""},{"$f":"IF('Outil Recensement simplifié'!G24>0,'Outil Recensement simplifié'!G24,\"\")","v":""},{"$f":"IF('Outil Recensement simplifié'!I24>0,'Outil Recensement simplifié'!I24,\"\")","v":""},{"$f":"IF('Outil Recensement simplifié'!J24>0,'Outil Recensement simplifié'!J24,\"\")","v":""},{"$f":"IF('Outil Recensement simplifié'!K24>0,'Outil Recensement simplifié'!K24,\"\")","v":""},{"$f":"IF('Outil Recensement simplifié'!L24>0,'Outil Recensement simplifié'!L24,\"\")","v":""},{"$f":"IF('Outil Recensement simplifié'!M24=\"Homme\",\"Male\",IF('Outil Recensement simplifié'!M24=\"Femme\",\"Female\",IF('Outil Recensement simplifié'!M24=\"H\",\"Male\",IF('Outil Recensement simplifié'!M24=\"F\",\"Female\",\"\"))))","v":""},{"$f":"IF('Outil Recensement simplifié'!N24=\"Oui\",\"Yes\",IF('Outil Recensement simplifié'!N24=\"Non\",\"No\",IF('Outil Recensement simplifié'!N24=\"O\",\"Yes\",IF('Outil Recensement simplifié'!N24=\"N\",\"No\",\"\"))))","v":""},{"$f":"IF('Outil Recensement simplifié'!O24=\"Non\",\"Single\",IF('Outil Recensement simplifié'!O24=\"Oui\",\"Family\",IF('Outil Recensement simplifié'!O24=\"N\",\"Single\",IF('Outil Recensement simplifié'!O24=\"O\",\"Family\",IF('Outil Recensement simplifié'!O24=\"En vigueur\",\"Family\",\"\")))))","v":""},{"$f":"IF('Outil Recensement simplifié'!P24=\"Anglais\",\"English\",IF('Outil Recensement simplifié'!P24=\"Français\",\"French\",IF('Outil Recensement simplifié'!P24=\"A\",\"English\",IF('Outil Recensement simplifié'!P24=\"F\",\"French\",\"\"))))","v":""},{"$f":"IF('Outil Recensement simplifié'!Q24=\"Oui\",\"Yes\",IF('Outil Recensement simplifié'!Q24=\"Non\",\"No\",IF('Outil Recensement simplifié'!Q24=\"O\",\"Yes\",IF('Outil Recensement simplifié'!Q24=\"N\",\"No\",\"\"))))","v":""},{"$f":"IF('Outil Recensement simplifié'!R24>0,'Outil Recensement simplifié'!R24,\"\")","v":""},{"$f":"IF('Outil Recensement simplifié'!S24=\"Annuelle\",\"Annually\",IF('Outil Recensement simplifié'!S24=\"Mensuelle\",\"Monthly\",IF('Outil Recensement simplifié'!S24=\"Aux deux semaines\",\"Biweekly\",IF('Outil Recensement simplifié'!S24=\"Bimensuelle\",\"Semi-Monthly\",IF('Outil Recensement simplifié'!S24=\"Hebdomadaire\",\"Weekly\",IF('Outil Recensement simplifié'!S24=\"Horaire\",\"Hourly\",\"\"))))))","v":""},{"$f":"IF('Outil Recensement simplifié'!T24>0,'Outil Recensement simplifié'!T24,\"\")","v":""},{"$f":"IF('Outil Recensement simplifié'!U24>0,'Outil Recensement simplifié'!U24,\"\")","v":""},{"$f":"IF('Outil Recensement simplifié'!V24=\"Exemptée\",\"Yes\",\"\")","v":""},{"$f":"IF('Outil Recensement simplifié'!W24=\"Exemptée\",\"Yes\",\"\")","v":""},{"$f":"IF('Outil Recensement simplifié'!X24>0,'Outil Recensement simplifié'!X24,\"\")","v":""},{"$f":"IF('Outil Recensement simplifié'!Y24>0,'Outil Recensement simplifié'!Y24,\"\")","v":""},{"$f":"IF('Outil Recensement simplifié'!Z24>0,'Outil Recensement simplifié'!Z24,\"\")","v":""},{"$f":"IF('Outil Recensement simplifié'!AA24>0,'Outil Recensement simplifié'!AA24,\"\")","v":""},{"$f":"IF('Outil Recensement simplifié'!AB24>0,'Outil Recensement simplifié'!AB24,\"\")","v":""},{"$f":"IF('Outil Recensement simplifié'!AC24>0,'Outil Recensement simplifié'!AC24,\"\")","v":" "},{"$f":"IF('Outil Recensement simplifié'!AE24>0,'Outil Recensement simplifié'!AE24&\" \",\"\")&IF('Outil Recensement simplifié'!AD24>0,'Outil Recensement simplifié'!AD24,\"\")","v":""},null,{"$f":"IF('Outil Recensement simplifié'!AF24>0,'Outil Recensement simplifié'!AF24,\"\")","v":""},{"$f":"IF('Outil Recensement simplifié'!AG24>0,'Outil Recensement simplifié'!AG24,\"\")","v":""},{"$f":"IF('Outil Recensement simplifié'!AH24>0,'Outil Recensement simplifié'!AH24,\"\")","v":""},{"$f":"IF('Outil Recensement simplifié'!AI24>0,'Outil Recensement simplifié'!AI24,\"\")","v":""},{"$f":"IF('Outil Recensement simplifié'!AJ24>0,'Outil Recensement simplifié'!AJ24,\"\")","v":""},{"$f":"IF('Outil Recensement simplifié'!AK24>0,'Outil Recensement simplifié'!AK24,\"\")","v":""},{"$f":"IF('Outil Recensement simplifié'!AL24>0,'Outil Recensement simplifié'!AL24,\"\")","v":""},{"$f":"IF('Outil Recensement simplifié'!AM24>0,'Outil Recensement simplifié'!AM24,\"\")","v":""},{"$f":"IF('Outil Recensement simplifié'!AN24=\"Homme\",\"Male\",IF('Outil Recensement simplifié'!AN24=\"Femme\",\"Female\",IF('Outil Recensement simplifié'!AN24=\"H\",\"Male\",IF('Outil Recensement simplifié'!AN24=\"F\",\"Female\",\"\"))))","v":""},{"$f":"IF('Outil Recensement simplifié'!AO24=\"Individuelle\",\"Single\",IF('Outil Recensement simplifié'!AO24=\"Famille\",\"Family\",IF('Outil Recensement simplifié'!AO24=\"Individuel\",\"Single\",IF('Outil Recensement simplifié'!AO24=\"Familiale\",\"Family\",IF('Outil Recensement simplifié'!AO24=\"I\",\"Single\",IF('Outil Recensement simplifié'!AO24=\"F\",\"Family\",\"\"))))))","v":""},{"$f":"IF('Outil Recensement simplifié'!AP24=\"Individuelle\",\"Single\",IF('Outil Recensement simplifié'!AP24=\"Famille\",\"Family\",IF('Outil Recensement simplifié'!AP24=\"Individuel\",\"Single\",IF('Outil Recensement simplifié'!AP24=\"Familiale\",\"Family\",IF('Outil Recensement simplifié'!AP24=\"I\",\"Single\",IF('Outil Recensement simplifié'!AP24=\"F\",\"Family\",\"\"))))))","v":""},{"$f":"IF('Outil Recensement simplifié'!AQ24>0,'Outil Recensement simplifié'!AQ24,\"\")","v":""},{"$f":"IF('Outil Recensement simplifié'!AR24=\"Oui\",\"Yes\",IF('Outil Recensement simplifié'!AR24=\"Non\",\"No\",IF('Outil Recensement simplifié'!AR24=\"O\",\"Yes\",IF('Outil Recensement simplifié'!AR24=\"N\",\"No\",\"\"))))","v":""},{"$f":"IF('Outil Recensement simplifié'!AS24>0,'Outil Recensement simplifié'!AS24,\"\")","v":""},{"$f":"IF('Outil Recensement simplifié'!AT24>0,'Outil Recensement simplifié'!AT24,\"\")","v":""},{"$f":"IF('Outil Recensement simplifié'!AU24>0,'Outil Recensement simplifié'!AU24,\"\")","v":""},{"$f":"IF('Outil Recensement simplifié'!AV24=\"Homme\",\"Male\",IF('Outil Recensement simplifié'!AV24=\"Femme\",\"Female\",IF('Outil Recensement simplifié'!AV24=\"H\",\"Male\",IF('Outil Recensement simplifié'!AV24=\"F\",\"Female\",\"\"))))","v":""},{"$f":"IF('Outil Recensement simplifié'!AW24=\"Oui\",\"Yes\",IF('Outil Recensement simplifié'!AW24=\"Non\",\"No\",IF('Outil Recensement simplifié'!AW24=\"O\",\"Yes\",IF('Outil Recensement simplifié'!AW24=\"N\",\"No\",\"\"))))","v":""},{"$f":"IF('Outil Recensement simplifié'!AX24=\"Oui\",\"Yes\",IF('Outil Recensement simplifié'!AX24=\"Non\",\"No\",IF('Outil Recensement simplifié'!AX24=\"O\",\"Yes\",IF('Outil Recensement simplifié'!AX24=\"N\",\"No\",\"\"))))","v":""},{"$f":"IF('Outil Recensement simplifié'!AY24>0,'Outil Recensement simplifié'!AY24,\"\")","v":""},{"$f":"IF('Outil Recensement simplifié'!AZ24>0,'Outil Recensement simplifié'!AZ24,\"\")","v":""},{"$f":"IF('Outil Recensement simplifié'!BA24>0,'Outil Recensement simplifié'!BA24,\"\")","v":""},{"$f":"IF('Outil Recensement simplifié'!BB24=\"Homme\",\"Male\",IF('Outil Recensement simplifié'!BB24=\"Femme\",\"Female\",IF('Outil Recensement simplifié'!BB24=\"H\",\"Male\",IF('Outil Recensement simplifié'!BB24=\"F\",\"Female\",\"\"))))","v":""},{"$f":"IF('Outil Recensement simplifié'!BC24=\"Oui\",\"Yes\",IF('Outil Recensement simplifié'!BC24=\"Non\",\"No\",IF('Outil Recensement simplifié'!BC24=\"O\",\"Yes\",IF('Outil Recensement simplifié'!BC24=\"N\",\"No\",\"\"))))","v":""},{"$f":"IF('Outil Recensement simplifié'!BD24=\"Oui\",\"Yes\",IF('Outil Recensement simplifié'!BD24=\"Non\",\"No\",IF('Outil Recensement simplifié'!BD24=\"O\",\"Yes\",IF('Outil Recensement simplifié'!BD24=\"N\",\"No\",\"\"))))","v":""},{"$f":"IF('Outil Recensement simplifié'!BE24>0,'Outil Recensement simplifié'!BE24,\"\")","v":""},{"$f":"IF('Outil Recensement simplifié'!BF24>0,'Outil Recensement simplifié'!BF24,\"\")","v":""},{"$f":"IF('Outil Recensement simplifié'!BG24>0,'Outil Recensement simplifié'!BG24,\"\")","v":""},{"$f":"IF('Outil Recensement simplifié'!BH24=\"Homme\",\"Male\",IF('Outil Recensement simplifié'!BH24=\"Femme\",\"Female\",IF('Outil Recensement simplifié'!BH24=\"H\",\"Male\",IF('Outil Recensement simplifié'!BH24=\"F\",\"Female\",\"\"))))","v":""},{"$f":"IF('Outil Recensement simplifié'!BI24=\"Oui\",\"Yes\",IF('Outil Recensement simplifié'!BI24=\"Non\",\"No\",IF('Outil Recensement simplifié'!BI24=\"O\",\"Yes\",IF('Outil Recensement simplifié'!BI24=\"N\",\"No\",\"\"))))","v":""},{"$f":"IF('Outil Recensement simplifié'!BJ24=\"Oui\",\"Yes\",IF('Outil Recensement simplifié'!BJ24=\"Non\",\"No\",IF('Outil Recensement simplifié'!BJ24=\"O\",\"Yes\",IF('Outil Recensement simplifié'!BJ24=\"N\",\"No\",\"\"))))","v":""},{"$f":"IF('Outil Recensement simplifié'!BK24>0,'Outil Recensement simplifié'!BK24,\"\")","v":""},{"$f":"IF('Outil Recensement simplifié'!BL24>0,'Outil Recensement simplifié'!BL24,\"\")","v":""},{"$f":"IF('Outil Recensement simplifié'!BM24>0,'Outil Recensement simplifié'!BM24,\"\")","v":""},{"$f":"IF('Outil Recensement simplifié'!BN24=\"Homme\",\"Male\",IF('Outil Recensement simplifié'!BN24=\"Femme\",\"Female\",IF('Outil Recensement simplifié'!BN24=\"H\",\"Male\",IF('Outil Recensement simplifié'!BN24=\"F\",\"Female\",\"\"))))","v":""},{"$f":"IF('Outil Recensement simplifié'!BO24=\"Oui\",\"Yes\",IF('Outil Recensement simplifié'!BO24=\"Non\",\"No\",IF('Outil Recensement simplifié'!BO24=\"O\",\"Yes\",IF('Outil Recensement simplifié'!BO24=\"N\",\"No\",\"\"))))","v":""},{"$f":"IF('Outil Recensement simplifié'!BP24=\"Oui\",\"Yes\",IF('Outil Recensement simplifié'!BP24=\"Non\",\"No\",IF('Outil Recensement simplifié'!BP24=\"O\",\"Yes\",IF('Outil Recensement simplifié'!BP24=\"N\",\"No\",\"\"))))","v":""},{"$f":"IF('Outil Recensement simplifié'!BQ24>0,'Outil Recensement simplifié'!BQ24,\"\")","v":""},{"$f":"IF('Outil Recensement simplifié'!BR24>0,'Outil Recensement simplifié'!BR24,\"\")","v":""},{"$f":"IF('Outil Recensement simplifié'!BS24>0,'Outil Recensement simplifié'!BS24,\"\")","v":""},{"$f":"IF('Outil Recensement simplifié'!BT24=\"Homme\",\"Male\",IF('Outil Recensement simplifié'!BT24=\"Femme\",\"Female\",IF('Outil Recensement simplifié'!BT24=\"H\",\"Male\",IF('Outil Recensement simplifié'!BT24=\"F\",\"Female\",\"\"))))","v":""},{"$f":"IF('Outil Recensement simplifié'!BU24=\"Oui\",\"Yes\",IF('Outil Recensement simplifié'!BU24=\"Non\",\"No\",IF('Outil Recensement simplifié'!BU24=\"O\",\"Yes\",IF('Outil Recensement simplifié'!BU24=\"N\",\"No\",\"\"))))","v":""},{"$f":"IF('Outil Recensement simplifié'!BV24=\"Oui\",\"Yes\",IF('Outil Recensement simplifié'!BV24=\"Non\",\"No\",IF('Outil Recensement simplifié'!BV24=\"O\",\"Yes\",IF('Outil Recensement simplifié'!BV24=\"N\",\"No\",\"\"))))","v":""},{"$f":"IF('Outil Recensement simplifié'!BW24>0,'Outil Recensement simplifié'!BW24,\"\")","v":""},{"$f":"IF('Outil Recensement simplifié'!BX24>0,'Outil Recensement simplifié'!BX24,\"\")","v":""},{"$f":"IF('Outil Recensement simplifié'!BY24>0,'Outil Recensement simplifié'!BY24,\"\")","v":""},{"$f":"IF('Outil Recensement simplifié'!BZ24=\"Homme\",\"Male\",IF('Outil Recensement simplifié'!BZ24=\"Femme\",\"Female\",IF('Outil Recensement simplifié'!BZ24=\"H\",\"Male\",IF('Outil Recensement simplifié'!BZ24=\"F\",\"Female\",\"\"))))","v":""},{"$f":"IF('Outil Recensement simplifié'!CA24=\"Oui\",\"Yes\",IF('Outil Recensement simplifié'!CA24=\"Non\",\"No\",IF('Outil Recensement simplifié'!CA24=\"O\",\"Yes\",IF('Outil Recensement simplifié'!CA24=\"N\",\"No\",\"\"))))","v":""},{"$f":"IF('Outil Recensement simplifié'!CB24=\"Oui\",\"Yes\",IF('Outil Recensement simplifié'!CB24=\"Non\",\"No\",IF('Outil Recensement simplifié'!CB24=\"O\",\"Yes\",IF('Outil Recensement simplifié'!CB24=\"N\",\"No\",\"\"))))","v":""},{"$f":"IF('Outil Recensement simplifié'!CH24>0,'Outil Recensement simplifié'!CH24,\"\")","v":"    "}]
[{"$f":"IF('Outil Recensement simplifié'!A25>0,'Outil Recensement simplifié'!A25,\"\")","v":""},{"$f":"IF('Outil Recensement simplifié'!B25>0,'Outil Recensement simplifié'!B25,\"\")","v":""},{"$f":"IF('Outil Recensement simplifié'!C25>0,'Outil Recensement simplifié'!C25,\"\")","v":""},{"$f":"IF('Outil Recensement simplifié'!D25>0,'Outil Recensement simplifié'!D25,\"\")","v":""},{"$f":"IF('Outil Recensement simplifié'!E25>0,TEXT('Outil Recensement simplifié'!E25,\"000\"),\"\")","v":""},{"$f":"IF('Outil Recensement simplifié'!F25>0,'Outil Recensement simplifié'!F25,\"\")","v":""},{"$f":"IF('Outil Recensement simplifié'!G25>0,'Outil Recensement simplifié'!G25,\"\")","v":""},{"$f":"IF('Outil Recensement simplifié'!I25>0,'Outil Recensement simplifié'!I25,\"\")","v":""},{"$f":"IF('Outil Recensement simplifié'!J25>0,'Outil Recensement simplifié'!J25,\"\")","v":""},{"$f":"IF('Outil Recensement simplifié'!K25>0,'Outil Recensement simplifié'!K25,\"\")","v":""},{"$f":"IF('Outil Recensement simplifié'!L25>0,'Outil Recensement simplifié'!L25,\"\")","v":""},{"$f":"IF('Outil Recensement simplifié'!M25=\"Homme\",\"Male\",IF('Outil Recensement simplifié'!M25=\"Femme\",\"Female\",IF('Outil Recensement simplifié'!M25=\"H\",\"Male\",IF('Outil Recensement simplifié'!M25=\"F\",\"Female\",\"\"))))","v":""},{"$f":"IF('Outil Recensement simplifié'!N25=\"Oui\",\"Yes\",IF('Outil Recensement simplifié'!N25=\"Non\",\"No\",IF('Outil Recensement simplifié'!N25=\"O\",\"Yes\",IF('Outil Recensement simplifié'!N25=\"N\",\"No\",\"\"))))","v":""},{"$f":"IF('Outil Recensement simplifié'!O25=\"Non\",\"Single\",IF('Outil Recensement simplifié'!O25=\"Oui\",\"Family\",IF('Outil Recensement simplifié'!O25=\"N\",\"Single\",IF('Outil Recensement simplifié'!O25=\"O\",\"Family\",IF('Outil Recensement simplifié'!O25=\"En vigueur\",\"Family\",\"\")))))","v":""},{"$f":"IF('Outil Recensement simplifié'!P25=\"Anglais\",\"English\",IF('Outil Recensement simplifié'!P25=\"Français\",\"French\",IF('Outil Recensement simplifié'!P25=\"A\",\"English\",IF('Outil Recensement simplifié'!P25=\"F\",\"French\",\"\"))))","v":""},{"$f":"IF('Outil Recensement simplifié'!Q25=\"Oui\",\"Yes\",IF('Outil Recensement simplifié'!Q25=\"Non\",\"No\",IF('Outil Recensement simplifié'!Q25=\"O\",\"Yes\",IF('Outil Recensement simplifié'!Q25=\"N\",\"No\",\"\"))))","v":""},{"$f":"IF('Outil Recensement simplifié'!R25>0,'Outil Recensement simplifié'!R25,\"\")","v":""},{"$f":"IF('Outil Recensement simplifié'!S25=\"Annuelle\",\"Annually\",IF('Outil Recensement simplifié'!S25=\"Mensuelle\",\"Monthly\",IF('Outil Recensement simplifié'!S25=\"Aux deux semaines\",\"Biweekly\",IF('Outil Recensement simplifié'!S25=\"Bimensuelle\",\"Semi-Monthly\",IF('Outil Recensement simplifié'!S25=\"Hebdomadaire\",\"Weekly\",IF('Outil Recensement simplifié'!S25=\"Horaire\",\"Hourly\",\"\"))))))","v":""},{"$f":"IF('Outil Recensement simplifié'!T25>0,'Outil Recensement simplifié'!T25,\"\")","v":""},{"$f":"IF('Outil Recensement simplifié'!U25>0,'Outil Recensement simplifié'!U25,\"\")","v":""},{"$f":"IF('Outil Recensement simplifié'!V25=\"Exemptée\",\"Yes\",\"\")","v":""},{"$f":"IF('Outil Recensement simplifié'!W25=\"Exemptée\",\"Yes\",\"\")","v":""},{"$f":"IF('Outil Recensement simplifié'!X25>0,'Outil Recensement simplifié'!X25,\"\")","v":""},{"$f":"IF('Outil Recensement simplifié'!Y25>0,'Outil Recensement simplifié'!Y25,\"\")","v":""},{"$f":"IF('Outil Recensement simplifié'!Z25>0,'Outil Recensement simplifié'!Z25,\"\")","v":""},{"$f":"IF('Outil Recensement simplifié'!AA25>0,'Outil Recensement simplifié'!AA25,\"\")","v":""},{"$f":"IF('Outil Recensement simplifié'!AB25>0,'Outil Recensement simplifié'!AB25,\"\")","v":""},{"$f":"IF('Outil Recensement simplifié'!AC25>0,'Outil Recensement simplifié'!AC25,\"\")","v":" "},{"$f":"IF('Outil Recensement simplifié'!AE25>0,'Outil Recensement simplifié'!AE25&\" \",\"\")&IF('Outil Recensement simplifié'!AD25>0,'Outil Recensement simplifié'!AD25,\"\")","v":""},null,{"$f":"IF('Outil Recensement simplifié'!AF25>0,'Outil Recensement simplifié'!AF25,\"\")","v":""},{"$f":"IF('Outil Recensement simplifié'!AG25>0,'Outil Recensement simplifié'!AG25,\"\")","v":""},{"$f":"IF('Outil Recensement simplifié'!AH25>0,'Outil Recensement simplifié'!AH25,\"\")","v":""},{"$f":"IF('Outil Recensement simplifié'!AI25>0,'Outil Recensement simplifié'!AI25,\"\")","v":""},{"$f":"IF('Outil Recensement simplifié'!AJ25>0,'Outil Recensement simplifié'!AJ25,\"\")","v":""},{"$f":"IF('Outil Recensement simplifié'!AK25>0,'Outil Recensement simplifié'!AK25,\"\")","v":""},{"$f":"IF('Outil Recensement simplifié'!AL25>0,'Outil Recensement simplifié'!AL25,\"\")","v":""},{"$f":"IF('Outil Recensement simplifié'!AM25>0,'Outil Recensement simplifié'!AM25,\"\")","v":""},{"$f":"IF('Outil Recensement simplifié'!AN25=\"Homme\",\"Male\",IF('Outil Recensement simplifié'!AN25=\"Femme\",\"Female\",IF('Outil Recensement simplifié'!AN25=\"H\",\"Male\",IF('Outil Recensement simplifié'!AN25=\"F\",\"Female\",\"\"))))","v":""},{"$f":"IF('Outil Recensement simplifié'!AO25=\"Individuelle\",\"Single\",IF('Outil Recensement simplifié'!AO25=\"Famille\",\"Family\",IF('Outil Recensement simplifié'!AO25=\"Individuel\",\"Single\",IF('Outil Recensement simplifié'!AO25=\"Familiale\",\"Family\",IF('Outil Recensement simplifié'!AO25=\"I\",\"Single\",IF('Outil Recensement simplifié'!AO25=\"F\",\"Family\",\"\"))))))","v":""},{"$f":"IF('Outil Recensement simplifié'!AP25=\"Individuelle\",\"Single\",IF('Outil Recensement simplifié'!AP25=\"Famille\",\"Family\",IF('Outil Recensement simplifié'!AP25=\"Individuel\",\"Single\",IF('Outil Recensement simplifié'!AP25=\"Familiale\",\"Family\",IF('Outil Recensement simplifié'!AP25=\"I\",\"Single\",IF('Outil Recensement simplifié'!AP25=\"F\",\"Family\",\"\"))))))","v":""},{"$f":"IF('Outil Recensement simplifié'!AQ25>0,'Outil Recensement simplifié'!AQ25,\"\")","v":""},{"$f":"IF('Outil Recensement simplifié'!AR25=\"Oui\",\"Yes\",IF('Outil Recensement simplifié'!AR25=\"Non\",\"No\",IF('Outil Recensement simplifié'!AR25=\"O\",\"Yes\",IF('Outil Recensement simplifié'!AR25=\"N\",\"No\",\"\"))))","v":""},{"$f":"IF('Outil Recensement simplifié'!AS25>0,'Outil Recensement simplifié'!AS25,\"\")","v":""},{"$f":"IF('Outil Recensement simplifié'!AT25>0,'Outil Recensement simplifié'!AT25,\"\")","v":""},{"$f":"IF('Outil Recensement simplifié'!AU25>0,'Outil Recensement simplifié'!AU25,\"\")","v":""},{"$f":"IF('Outil Recensement simplifié'!AV25=\"Homme\",\"Male\",IF('Outil Recensement simplifié'!AV25=\"Femme\",\"Female\",IF('Outil Recensement simplifié'!AV25=\"H\",\"Male\",IF('Outil Recensement simplifié'!AV25=\"F\",\"Female\",\"\"))))","v":""},{"$f":"IF('Outil Recensement simplifié'!AW25=\"Oui\",\"Yes\",IF('Outil Recensement simplifié'!AW25=\"Non\",\"No\",IF('Outil Recensement simplifié'!AW25=\"O\",\"Yes\",IF('Outil Recensement simplifié'!AW25=\"N\",\"No\",\"\"))))","v":""},{"$f":"IF('Outil Recensement simplifié'!AX25=\"Oui\",\"Yes\",IF('Outil Recensement simplifié'!AX25=\"Non\",\"No\",IF('Outil Recensement simplifié'!AX25=\"O\",\"Yes\",IF('Outil Recensement simplifié'!AX25=\"N\",\"No\",\"\"))))","v":""},{"$f":"IF('Outil Recensement simplifié'!AY25>0,'Outil Recensement simplifié'!AY25,\"\")","v":""},{"$f":"IF('Outil Recensement simplifié'!AZ25>0,'Outil Recensement simplifié'!AZ25,\"\")","v":""},{"$f":"IF('Outil Recensement simplifié'!BA25>0,'Outil Recensement simplifié'!BA25,\"\")","v":""},{"$f":"IF('Outil Recensement simplifié'!BB25=\"Homme\",\"Male\",IF('Outil Recensement simplifié'!BB25=\"Femme\",\"Female\",IF('Outil Recensement simplifié'!BB25=\"H\",\"Male\",IF('Outil Recensement simplifié'!BB25=\"F\",\"Female\",\"\"))))","v":""},{"$f":"IF('Outil Recensement simplifié'!BC25=\"Oui\",\"Yes\",IF('Outil Recensement simplifié'!BC25=\"Non\",\"No\",IF('Outil Recensement simplifié'!BC25=\"O\",\"Yes\",IF('Outil Recensement simplifié'!BC25=\"N\",\"No\",\"\"))))","v":""},{"$f":"IF('Outil Recensement simplifié'!BD25=\"Oui\",\"Yes\",IF('Outil Recensement simplifié'!BD25=\"Non\",\"No\",IF('Outil Recensement simplifié'!BD25=\"O\",\"Yes\",IF('Outil Recensement simplifié'!BD25=\"N\",\"No\",\"\"))))","v":""},{"$f":"IF('Outil Recensement simplifié'!BE25>0,'Outil Recensement simplifié'!BE25,\"\")","v":""},{"$f":"IF('Outil Recensement simplifié'!BF25>0,'Outil Recensement simplifié'!BF25,\"\")","v":""},{"$f":"IF('Outil Recensement simplifié'!BG25>0,'Outil Recensement simplifié'!BG25,\"\")","v":""},{"$f":"IF('Outil Recensement simplifié'!BH25=\"Homme\",\"Male\",IF('Outil Recensement simplifié'!BH25=\"Femme\",\"Female\",IF('Outil Recensement simplifié'!BH25=\"H\",\"Male\",IF('Outil Recensement simplifié'!BH25=\"F\",\"Female\",\"\"))))","v":""},{"$f":"IF('Outil Recensement simplifié'!BI25=\"Oui\",\"Yes\",IF('Outil Recensement simplifié'!BI25=\"Non\",\"No\",IF('Outil Recensement simplifié'!BI25=\"O\",\"Yes\",IF('Outil Recensement simplifié'!BI25=\"N\",\"No\",\"\"))))","v":""},{"$f":"IF('Outil Recensement simplifié'!BJ25=\"Oui\",\"Yes\",IF('Outil Recensement simplifié'!BJ25=\"Non\",\"No\",IF('Outil Recensement simplifié'!BJ25=\"O\",\"Yes\",IF('Outil Recensement simplifié'!BJ25=\"N\",\"No\",\"\"))))","v":""},{"$f":"IF('Outil Recensement simplifié'!BK25>0,'Outil Recensement simplifié'!BK25,\"\")","v":""},{"$f":"IF('Outil Recensement simplifié'!BL25>0,'Outil Recensement simplifié'!BL25,\"\")","v":""},{"$f":"IF('Outil Recensement simplifié'!BM25>0,'Outil Recensement simplifié'!BM25,\"\")","v":""},{"$f":"IF('Outil Recensement simplifié'!BN25=\"Homme\",\"Male\",IF('Outil Recensement simplifié'!BN25=\"Femme\",\"Female\",IF('Outil Recensement simplifié'!BN25=\"H\",\"Male\",IF('Outil Recensement simplifié'!BN25=\"F\",\"Female\",\"\"))))","v":""},{"$f":"IF('Outil Recensement simplifié'!BO25=\"Oui\",\"Yes\",IF('Outil Recensement simplifié'!BO25=\"Non\",\"No\",IF('Outil Recensement simplifié'!BO25=\"O\",\"Yes\",IF('Outil Recensement simplifié'!BO25=\"N\",\"No\",\"\"))))","v":""},{"$f":"IF('Outil Recensement simplifié'!BP25=\"Oui\",\"Yes\",IF('Outil Recensement simplifié'!BP25=\"Non\",\"No\",IF('Outil Recensement simplifié'!BP25=\"O\",\"Yes\",IF('Outil Recensement simplifié'!BP25=\"N\",\"No\",\"\"))))","v":""},{"$f":"IF('Outil Recensement simplifié'!BQ25>0,'Outil Recensement simplifié'!BQ25,\"\")","v":""},{"$f":"IF('Outil Recensement simplifié'!BR25>0,'Outil Recensement simplifié'!BR25,\"\")","v":""},{"$f":"IF('Outil Recensement simplifié'!BS25>0,'Outil Recensement simplifié'!BS25,\"\")","v":""},{"$f":"IF('Outil Recensement simplifié'!BT25=\"Homme\",\"Male\",IF('Outil Recensement simplifié'!BT25=\"Femme\",\"Female\",IF('Outil Recensement simplifié'!BT25=\"H\",\"Male\",IF('Outil Recensement simplifié'!BT25=\"F\",\"Female\",\"\"))))","v":""},{"$f":"IF('Outil Recensement simplifié'!BU25=\"Oui\",\"Yes\",IF('Outil Recensement simplifié'!BU25=\"Non\",\"No\",IF('Outil Recensement simplifié'!BU25=\"O\",\"Yes\",IF('Outil Recensement simplifié'!BU25=\"N\",\"No\",\"\"))))","v":""},{"$f":"IF('Outil Recensement simplifié'!BV25=\"Oui\",\"Yes\",IF('Outil Recensement simplifié'!BV25=\"Non\",\"No\",IF('Outil Recensement simplifié'!BV25=\"O\",\"Yes\",IF('Outil Recensement simplifié'!BV25=\"N\",\"No\",\"\"))))","v":""},{"$f":"IF('Outil Recensement simplifié'!BW25>0,'Outil Recensement simplifié'!BW25,\"\")","v":""},{"$f":"IF('Outil Recensement simplifié'!BX25>0,'Outil Recensement simplifié'!BX25,\"\")","v":""},{"$f":"IF('Outil Recensement simplifié'!BY25>0,'Outil Recensement simplifié'!BY25,\"\")","v":""},{"$f":"IF('Outil Recensement simplifié'!BZ25=\"Homme\",\"Male\",IF('Outil Recensement simplifié'!BZ25=\"Femme\",\"Female\",IF('Outil Recensement simplifié'!BZ25=\"H\",\"Male\",IF('Outil Recensement simplifié'!BZ25=\"F\",\"Female\",\"\"))))","v":""},{"$f":"IF('Outil Recensement simplifié'!CA25=\"Oui\",\"Yes\",IF('Outil Recensement simplifié'!CA25=\"Non\",\"No\",IF('Outil Recensement simplifié'!CA25=\"O\",\"Yes\",IF('Outil Recensement simplifié'!CA25=\"N\",\"No\",\"\"))))","v":""},{"$f":"IF('Outil Recensement simplifié'!CB25=\"Oui\",\"Yes\",IF('Outil Recensement simplifié'!CB25=\"Non\",\"No\",IF('Outil Recensement simplifié'!CB25=\"O\",\"Yes\",IF('Outil Recensement simplifié'!CB25=\"N\",\"No\",\"\"))))","v":""},{"$f":"IF('Outil Recensement simplifié'!CH25>0,'Outil Recensement simplifié'!CH25,\"\")","v":"    "}]
[{"$f":"IF('Outil Recensement simplifié'!A26>0,'Outil Recensement simplifié'!A26,\"\")","v":""},{"$f":"IF('Outil Recensement simplifié'!B26>0,'Outil Recensement simplifié'!B26,\"\")","v":""},{"$f":"IF('Outil Recensement simplifié'!C26>0,'Outil Recensement simplifié'!C26,\"\")","v":""},{"$f":"IF('Outil Recensement simplifié'!D26>0,'Outil Recensement simplifié'!D26,\"\")","v":""},{"$f":"IF('Outil Recensement simplifié'!E26>0,TEXT('Outil Recensement simplifié'!E26,\"000\"),\"\")","v":""},{"$f":"IF('Outil Recensement simplifié'!F26>0,'Outil Recensement simplifié'!F26,\"\")","v":""},{"$f":"IF('Outil Recensement simplifié'!G26>0,'Outil Recensement simplifié'!G26,\"\")","v":""},{"$f":"IF('Outil Recensement simplifié'!I26>0,'Outil Recensement simplifié'!I26,\"\")","v":""},{"$f":"IF('Outil Recensement simplifié'!J26>0,'Outil Recensement simplifié'!J26,\"\")","v":""},{"$f":"IF('Outil Recensement simplifié'!K26>0,'Outil Recensement simplifié'!K26,\"\")","v":""},{"$f":"IF('Outil Recensement simplifié'!L26>0,'Outil Recensement simplifié'!L26,\"\")","v":""},{"$f":"IF('Outil Recensement simplifié'!M26=\"Homme\",\"Male\",IF('Outil Recensement simplifié'!M26=\"Femme\",\"Female\",IF('Outil Recensement simplifié'!M26=\"H\",\"Male\",IF('Outil Recensement simplifié'!M26=\"F\",\"Female\",\"\"))))","v":""},{"$f":"IF('Outil Recensement simplifié'!N26=\"Oui\",\"Yes\",IF('Outil Recensement simplifié'!N26=\"Non\",\"No\",IF('Outil Recensement simplifié'!N26=\"O\",\"Yes\",IF('Outil Recensement simplifié'!N26=\"N\",\"No\",\"\"))))","v":""},{"$f":"IF('Outil Recensement simplifié'!O26=\"Non\",\"Single\",IF('Outil Recensement simplifié'!O26=\"Oui\",\"Family\",IF('Outil Recensement simplifié'!O26=\"N\",\"Single\",IF('Outil Recensement simplifié'!O26=\"O\",\"Family\",IF('Outil Recensement simplifié'!O26=\"En vigueur\",\"Family\",\"\")))))","v":""},{"$f":"IF('Outil Recensement simplifié'!P26=\"Anglais\",\"English\",IF('Outil Recensement simplifié'!P26=\"Français\",\"French\",IF('Outil Recensement simplifié'!P26=\"A\",\"English\",IF('Outil Recensement simplifié'!P26=\"F\",\"French\",\"\"))))","v":""},{"$f":"IF('Outil Recensement simplifié'!Q26=\"Oui\",\"Yes\",IF('Outil Recensement simplifié'!Q26=\"Non\",\"No\",IF('Outil Recensement simplifié'!Q26=\"O\",\"Yes\",IF('Outil Recensement simplifié'!Q26=\"N\",\"No\",\"\"))))","v":""},{"$f":"IF('Outil Recensement simplifié'!R26>0,'Outil Recensement simplifié'!R26,\"\")","v":""},{"$f":"IF('Outil Recensement simplifié'!S26=\"Annuelle\",\"Annually\",IF('Outil Recensement simplifié'!S26=\"Mensuelle\",\"Monthly\",IF('Outil Recensement simplifié'!S26=\"Aux deux semaines\",\"Biweekly\",IF('Outil Recensement simplifié'!S26=\"Bimensuelle\",\"Semi-Monthly\",IF('Outil Recensement simplifié'!S26=\"Hebdomadaire\",\"Weekly\",IF('Outil Recensement simplifié'!S26=\"Horaire\",\"Hourly\",\"\"))))))","v":""},{"$f":"IF('Outil Recensement simplifié'!T26>0,'Outil Recensement simplifié'!T26,\"\")","v":""},{"$f":"IF('Outil Recensement simplifié'!U26>0,'Outil Recensement simplifié'!U26,\"\")","v":""},{"$f":"IF('Outil Recensement simplifié'!V26=\"Exemptée\",\"Yes\",\"\")","v":""},{"$f":"IF('Outil Recensement simplifié'!W26=\"Exemptée\",\"Yes\",\"\")","v":""},{"$f":"IF('Outil Recensement simplifié'!X26>0,'Outil Recensement simplifié'!X26,\"\")","v":""},{"$f":"IF('Outil Recensement simplifié'!Y26>0,'Outil Recensement simplifié'!Y26,\"\")","v":""},{"$f":"IF('Outil Recensement simplifié'!Z26>0,'Outil Recensement simplifié'!Z26,\"\")","v":""},{"$f":"IF('Outil Recensement simplifié'!AA26>0,'Outil Recensement simplifié'!AA26,\"\")","v":""},{"$f":"IF('Outil Recensement simplifié'!AB26>0,'Outil Recensement simplifié'!AB26,\"\")","v":""},{"$f":"IF('Outil Recensement simplifié'!AC26>0,'Outil Recensement simplifié'!AC26,\"\")","v":" "},{"$f":"IF('Outil Recensement simplifié'!AE26>0,'Outil Recensement simplifié'!AE26&\" \",\"\")&IF('Outil Recensement simplifié'!AD26>0,'Outil Recensement simplifié'!AD26,\"\")","v":""},null,{"$f":"IF('Outil Recensement simplifié'!AF26>0,'Outil Recensement simplifié'!AF26,\"\")","v":""},{"$f":"IF('Outil Recensement simplifié'!AG26>0,'Outil Recensement simplifié'!AG26,\"\")","v":""},{"$f":"IF('Outil Recensement simplifié'!AH26>0,'Outil Recensement simplifié'!AH26,\"\")","v":""},{"$f":"IF('Outil Recensement simplifié'!AI26>0,'Outil Recensement simplifié'!AI26,\"\")","v":""},{"$f":"IF('Outil Recensement simplifié'!AJ26>0,'Outil Recensement simplifié'!AJ26,\"\")","v":""},{"$f":"IF('Outil Recensement simplifié'!AK26>0,'Outil Recensement simplifié'!AK26,\"\")","v":""},{"$f":"IF('Outil Recensement simplifié'!AL26>0,'Outil Recensement simplifié'!AL26,\"\")","v":""},{"$f":"IF('Outil Recensement simplifié'!AM26>0,'Outil Recensement simplifié'!AM26,\"\")","v":""},{"$f":"IF('Outil Recensement simplifié'!AN26=\"Homme\",\"Male\",IF('Outil Recensement simplifié'!AN26=\"Femme\",\"Female\",IF('Outil Recensement simplifié'!AN26=\"H\",\"Male\",IF('Outil Recensement simplifié'!AN26=\"F\",\"Female\",\"\"))))","v":""},{"$f":"IF('Outil Recensement simplifié'!AO26=\"Individuelle\",\"Single\",IF('Outil Recensement simplifié'!AO26=\"Famille\",\"Family\",IF('Outil Recensement simplifié'!AO26=\"Individuel\",\"Single\",IF('Outil Recensement simplifié'!AO26=\"Familiale\",\"Family\",IF('Outil Recensement simplifié'!AO26=\"I\",\"Single\",IF('Outil Recensement simplifié'!AO26=\"F\",\"Family\",\"\"))))))","v":""},{"$f":"IF('Outil Recensement simplifié'!AP26=\"Individuelle\",\"Single\",IF('Outil Recensement simplifié'!AP26=\"Famille\",\"Family\",IF('Outil Recensement simplifié'!AP26=\"Individuel\",\"Single\",IF('Outil Recensement simplifié'!AP26=\"Familiale\",\"Family\",IF('Outil Recensement simplifié'!AP26=\"I\",\"Single\",IF('Outil Recensement simplifié'!AP26=\"F\",\"Family\",\"\"))))))","v":""},{"$f":"IF('Outil Recensement simplifié'!AQ26>0,'Outil Recensement simplifié'!AQ26,\"\")","v":""},{"$f":"IF('Outil Recensement simplifié'!AR26=\"Oui\",\"Yes\",IF('Outil Recensement simplifié'!AR26=\"Non\",\"No\",IF('Outil Recensement simplifié'!AR26=\"O\",\"Yes\",IF('Outil Recensement simplifié'!AR26=\"N\",\"No\",\"\"))))","v":""},{"$f":"IF('Outil Recensement simplifié'!AS26>0,'Outil Recensement simplifié'!AS26,\"\")","v":""},{"$f":"IF('Outil Recensement simplifié'!AT26>0,'Outil Recensement simplifié'!AT26,\"\")","v":""},{"$f":"IF('Outil Recensement simplifié'!AU26>0,'Outil Recensement simplifié'!AU26,\"\")","v":""},{"$f":"IF('Outil Recensement simplifié'!AV26=\"Homme\",\"Male\",IF('Outil Recensement simplifié'!AV26=\"Femme\",\"Female\",IF('Outil Recensement simplifié'!AV26=\"H\",\"Male\",IF('Outil Recensement simplifié'!AV26=\"F\",\"Female\",\"\"))))","v":""},{"$f":"IF('Outil Recensement simplifié'!AW26=\"Oui\",\"Yes\",IF('Outil Recensement simplifié'!AW26=\"Non\",\"No\",IF('Outil Recensement simplifié'!AW26=\"O\",\"Yes\",IF('Outil Recensement simplifié'!AW26=\"N\",\"No\",\"\"))))","v":""},{"$f":"IF('Outil Recensement simplifié'!AX26=\"Oui\",\"Yes\",IF('Outil Recensement simplifié'!AX26=\"Non\",\"No\",IF('Outil Recensement simplifié'!AX26=\"O\",\"Yes\",IF('Outil Recensement simplifié'!AX26=\"N\",\"No\",\"\"))))","v":""},{"$f":"IF('Outil Recensement simplifié'!AY26>0,'Outil Recensement simplifié'!AY26,\"\")","v":""},{"$f":"IF('Outil Recensement simplifié'!AZ26>0,'Outil Recensement simplifié'!AZ26,\"\")","v":""},{"$f":"IF('Outil Recensement simplifié'!BA26>0,'Outil Recensement simplifié'!BA26,\"\")","v":""},{"$f":"IF('Outil Recensement simplifié'!BB26=\"Homme\",\"Male\",IF('Outil Recensement simplifié'!BB26=\"Femme\",\"Female\",IF('Outil Recensement simplifié'!BB26=\"H\",\"Male\",IF('Outil Recensement simplifié'!BB26=\"F\",\"Female\",\"\"))))","v":""},{"$f":"IF('Outil Recensement simplifié'!BC26=\"Oui\",\"Yes\",IF('Outil Recensement simplifié'!BC26=\"Non\",\"No\",IF('Outil Recensement simplifié'!BC26=\"O\",\"Yes\",IF('Outil Recensement simplifié'!BC26=\"N\",\"No\",\"\"))))","v":""},{"$f":"IF('Outil Recensement simplifié'!BD26=\"Oui\",\"Yes\",IF('Outil Recensement simplifié'!BD26=\"Non\",\"No\",IF('Outil Recensement simplifié'!BD26=\"O\",\"Yes\",IF('Outil Recensement simplifié'!BD26=\"N\",\"No\",\"\"))))","v":""},{"$f":"IF('Outil Recensement simplifié'!BE26>0,'Outil Recensement simplifié'!BE26,\"\")","v":""},{"$f":"IF('Outil Recensement simplifié'!BF26>0,'Outil Recensement simplifié'!BF26,\"\")","v":""},{"$f":"IF('Outil Recensement simplifié'!BG26>0,'Outil Recensement simplifié'!BG26,\"\")","v":""},{"$f":"IF('Outil Recensement simplifié'!BH26=\"Homme\",\"Male\",IF('Outil Recensement simplifié'!BH26=\"Femme\",\"Female\",IF('Outil Recensement simplifié'!BH26=\"H\",\"Male\",IF('Outil Recensement simplifié'!BH26=\"F\",\"Female\",\"\"))))","v":""},{"$f":"IF('Outil Recensement simplifié'!BI26=\"Oui\",\"Yes\",IF('Outil Recensement simplifié'!BI26=\"Non\",\"No\",IF('Outil Recensement simplifié'!BI26=\"O\",\"Yes\",IF('Outil Recensement simplifié'!BI26=\"N\",\"No\",\"\"))))","v":""},{"$f":"IF('Outil Recensement simplifié'!BJ26=\"Oui\",\"Yes\",IF('Outil Recensement simplifié'!BJ26=\"Non\",\"No\",IF('Outil Recensement simplifié'!BJ26=\"O\",\"Yes\",IF('Outil Recensement simplifié'!BJ26=\"N\",\"No\",\"\"))))","v":""},{"$f":"IF('Outil Recensement simplifié'!BK26>0,'Outil Recensement simplifié'!BK26,\"\")","v":""},{"$f":"IF('Outil Recensement simplifié'!BL26>0,'Outil Recensement simplifié'!BL26,\"\")","v":""},{"$f":"IF('Outil Recensement simplifié'!BM26>0,'Outil Recensement simplifié'!BM26,\"\")","v":""},{"$f":"IF('Outil Recensement simplifié'!BN26=\"Homme\",\"Male\",IF('Outil Recensement simplifié'!BN26=\"Femme\",\"Female\",IF('Outil Recensement simplifié'!BN26=\"H\",\"Male\",IF('Outil Recensement simplifié'!BN26=\"F\",\"Female\",\"\"))))","v":""},{"$f":"IF('Outil Recensement simplifié'!BO26=\"Oui\",\"Yes\",IF('Outil Recensement simplifié'!BO26=\"Non\",\"No\",IF('Outil Recensement simplifié'!BO26=\"O\",\"Yes\",IF('Outil Recensement simplifié'!BO26=\"N\",\"No\",\"\"))))","v":""},{"$f":"IF('Outil Recensement simplifié'!BP26=\"Oui\",\"Yes\",IF('Outil Recensement simplifié'!BP26=\"Non\",\"No\",IF('Outil Recensement simplifié'!BP26=\"O\",\"Yes\",IF('Outil Recensement simplifié'!BP26=\"N\",\"No\",\"\"))))","v":""},{"$f":"IF('Outil Recensement simplifié'!BQ26>0,'Outil Recensement simplifié'!BQ26,\"\")","v":""},{"$f":"IF('Outil Recensement simplifié'!BR26>0,'Outil Recensement simplifié'!BR26,\"\")","v":""},{"$f":"IF('Outil Recensement simplifié'!BS26>0,'Outil Recensement simplifié'!BS26,\"\")","v":""},{"$f":"IF('Outil Recensement simplifié'!BT26=\"Homme\",\"Male\",IF('Outil Recensement simplifié'!BT26=\"Femme\",\"Female\",IF('Outil Recensement simplifié'!BT26=\"H\",\"Male\",IF('Outil Recensement simplifié'!BT26=\"F\",\"Female\",\"\"))))","v":""},{"$f":"IF('Outil Recensement simplifié'!BU26=\"Oui\",\"Yes\",IF('Outil Recensement simplifié'!BU26=\"Non\",\"No\",IF('Outil Recensement simplifié'!BU26=\"O\",\"Yes\",IF('Outil Recensement simplifié'!BU26=\"N\",\"No\",\"\"))))","v":""},{"$f":"IF('Outil Recensement simplifié'!BV26=\"Oui\",\"Yes\",IF('Outil Recensement simplifié'!BV26=\"Non\",\"No\",IF('Outil Recensement simplifié'!BV26=\"O\",\"Yes\",IF('Outil Recensement simplifié'!BV26=\"N\",\"No\",\"\"))))","v":""},{"$f":"IF('Outil Recensement simplifié'!BW26>0,'Outil Recensement simplifié'!BW26,\"\")","v":""},{"$f":"IF('Outil Recensement simplifié'!BX26>0,'Outil Recensement simplifié'!BX26,\"\")","v":""},{"$f":"IF('Outil Recensement simplifié'!BY26>0,'Outil Recensement simplifié'!BY26,\"\")","v":""},{"$f":"IF('Outil Recensement simplifié'!BZ26=\"Homme\",\"Male\",IF('Outil Recensement simplifié'!BZ26=\"Femme\",\"Female\",IF('Outil Recensement simplifié'!BZ26=\"H\",\"Male\",IF('Outil Recensement simplifié'!BZ26=\"F\",\"Female\",\"\"))))","v":""},{"$f":"IF('Outil Recensement simplifié'!CA26=\"Oui\",\"Yes\",IF('Outil Recensement simplifié'!CA26=\"Non\",\"No\",IF('Outil Recensement simplifié'!CA26=\"O\",\"Yes\",IF('Outil Recensement simplifié'!CA26=\"N\",\"No\",\"\"))))","v":""},{"$f":"IF('Outil Recensement simplifié'!CB26=\"Oui\",\"Yes\",IF('Outil Recensement simplifié'!CB26=\"Non\",\"No\",IF('Outil Recensement simplifié'!CB26=\"O\",\"Yes\",IF('Outil Recensement simplifié'!CB26=\"N\",\"No\",\"\"))))","v":""},{"$f":"IF('Outil Recensement simplifié'!CH26>0,'Outil Recensement simplifié'!CH26,\"\")","v":"    "}]
[{"$f":"IF('Outil Recensement simplifié'!A27>0,'Outil Recensement simplifié'!A27,\"\")","v":""},{"$f":"IF('Outil Recensement simplifié'!B27>0,'Outil Recensement simplifié'!B27,\"\")","v":""},{"$f":"IF('Outil Recensement simplifié'!C27>0,'Outil Recensement simplifié'!C27,\"\")","v":""},{"$f":"IF('Outil Recensement simplifié'!D27>0,'Outil Recensement simplifié'!D27,\"\")","v":""},{"$f":"IF('Outil Recensement simplifié'!E27>0,TEXT('Outil Recensement simplifié'!E27,\"000\"),\"\")","v":""},{"$f":"IF('Outil Recensement simplifié'!F27>0,'Outil Recensement simplifié'!F27,\"\")","v":""},{"$f":"IF('Outil Recensement simplifié'!G27>0,'Outil Recensement simplifié'!G27,\"\")","v":""},{"$f":"IF('Outil Recensement simplifié'!I27>0,'Outil Recensement simplifié'!I27,\"\")","v":""},{"$f":"IF('Outil Recensement simplifié'!J27>0,'Outil Recensement simplifié'!J27,\"\")","v":""},{"$f":"IF('Outil Recensement simplifié'!K27>0,'Outil Recensement simplifié'!K27,\"\")","v":""},{"$f":"IF('Outil Recensement simplifié'!L27>0,'Outil Recensement simplifié'!L27,\"\")","v":""},{"$f":"IF('Outil Recensement simplifié'!M27=\"Homme\",\"Male\",IF('Outil Recensement simplifié'!M27=\"Femme\",\"Female\",IF('Outil Recensement simplifié'!M27=\"H\",\"Male\",IF('Outil Recensement simplifié'!M27=\"F\",\"Female\",\"\"))))","v":""},{"$f":"IF('Outil Recensement simplifié'!N27=\"Oui\",\"Yes\",IF('Outil Recensement simplifié'!N27=\"Non\",\"No\",IF('Outil Recensement simplifié'!N27=\"O\",\"Yes\",IF('Outil Recensement simplifié'!N27=\"N\",\"No\",\"\"))))","v":""},{"$f":"IF('Outil Recensement simplifié'!O27=\"Non\",\"Single\",IF('Outil Recensement simplifié'!O27=\"Oui\",\"Family\",IF('Outil Recensement simplifié'!O27=\"N\",\"Single\",IF('Outil Recensement simplifié'!O27=\"O\",\"Family\",IF('Outil Recensement simplifié'!O27=\"En vigueur\",\"Family\",\"\")))))","v":""},{"$f":"IF('Outil Recensement simplifié'!P27=\"Anglais\",\"English\",IF('Outil Recensement simplifié'!P27=\"Français\",\"French\",IF('Outil Recensement simplifié'!P27=\"A\",\"English\",IF('Outil Recensement simplifié'!P27=\"F\",\"French\",\"\"))))","v":""},{"$f":"IF('Outil Recensement simplifié'!Q27=\"Oui\",\"Yes\",IF('Outil Recensement simplifié'!Q27=\"Non\",\"No\",IF('Outil Recensement simplifié'!Q27=\"O\",\"Yes\",IF('Outil Recensement simplifié'!Q27=\"N\",\"No\",\"\"))))","v":""},{"$f":"IF('Outil Recensement simplifié'!R27>0,'Outil Recensement simplifié'!R27,\"\")","v":""},{"$f":"IF('Outil Recensement simplifié'!S27=\"Annuelle\",\"Annually\",IF('Outil Recensement simplifié'!S27=\"Mensuelle\",\"Monthly\",IF('Outil Recensement simplifié'!S27=\"Aux deux semaines\",\"Biweekly\",IF('Outil Recensement simplifié'!S27=\"Bimensuelle\",\"Semi-Monthly\",IF('Outil Recensement simplifié'!S27=\"Hebdomadaire\",\"Weekly\",IF('Outil Recensement simplifié'!S27=\"Horaire\",\"Hourly\",\"\"))))))","v":""},{"$f":"IF('Outil Recensement simplifié'!T27>0,'Outil Recensement simplifié'!T27,\"\")","v":""},{"$f":"IF('Outil Recensement simplifié'!U27>0,'Outil Recensement simplifié'!U27,\"\")","v":""},{"$f":"IF('Outil Recensement simplifié'!V27=\"Exemptée\",\"Yes\",\"\")","v":""},{"$f":"IF('Outil Recensement simplifié'!W27=\"Exemptée\",\"Yes\",\"\")","v":""},{"$f":"IF('Outil Recensement simplifié'!X27>0,'Outil Recensement simplifié'!X27,\"\")","v":""},{"$f":"IF('Outil Recensement simplifié'!Y27>0,'Outil Recensement simplifié'!Y27,\"\")","v":""},{"$f":"IF('Outil Recensement simplifié'!Z27>0,'Outil Recensement simplifié'!Z27,\"\")","v":""},{"$f":"IF('Outil Recensement simplifié'!AA27>0,'Outil Recensement simplifié'!AA27,\"\")","v":""},{"$f":"IF('Outil Recensement simplifié'!AB27>0,'Outil Recensement simplifié'!AB27,\"\")","v":""},{"$f":"IF('Outil Recensement simplifié'!AC27>0,'Outil Recensement simplifié'!AC27,\"\")","v":" "},{"$f":"IF('Outil Recensement simplifié'!AE27>0,'Outil Recensement simplifié'!AE27&\" \",\"\")&IF('Outil Recensement simplifié'!AD27>0,'Outil Recensement simplifié'!AD27,\"\")","v":""},null,{"$f":"IF('Outil Recensement simplifié'!AF27>0,'Outil Recensement simplifié'!AF27,\"\")","v":""},{"$f":"IF('Outil Recensement simplifié'!AG27>0,'Outil Recensement simplifié'!AG27,\"\")","v":""},{"$f":"IF('Outil Recensement simplifié'!AH27>0,'Outil Recensement simplifié'!AH27,\"\")","v":""},{"$f":"IF('Outil Recensement simplifié'!AI27>0,'Outil Recensement simplifié'!AI27,\"\")","v":""},{"$f":"IF('Outil Recensement simplifié'!AJ27>0,'Outil Recensement simplifié'!AJ27,\"\")","v":""},{"$f":"IF('Outil Recensement simplifié'!AK27>0,'Outil Recensement simplifié'!AK27,\"\")","v":""},{"$f":"IF('Outil Recensement simplifié'!AL27>0,'Outil Recensement simplifié'!AL27,\"\")","v":""},{"$f":"IF('Outil Recensement simplifié'!AM27>0,'Outil Recensement simplifié'!AM27,\"\")","v":""},{"$f":"IF('Outil Recensement simplifié'!AN27=\"Homme\",\"Male\",IF('Outil Recensement simplifié'!AN27=\"Femme\",\"Female\",IF('Outil Recensement simplifié'!AN27=\"H\",\"Male\",IF('Outil Recensement simplifié'!AN27=\"F\",\"Female\",\"\"))))","v":""},{"$f":"IF('Outil Recensement simplifié'!AO27=\"Individuelle\",\"Single\",IF('Outil Recensement simplifié'!AO27=\"Famille\",\"Family\",IF('Outil Recensement simplifié'!AO27=\"Individuel\",\"Single\",IF('Outil Recensement simplifié'!AO27=\"Familiale\",\"Family\",IF('Outil Recensement simplifié'!AO27=\"I\",\"Single\",IF('Outil Recensement simplifié'!AO27=\"F\",\"Family\",\"\"))))))","v":""},{"$f":"IF('Outil Recensement simplifié'!AP27=\"Individuelle\",\"Single\",IF('Outil Recensement simplifié'!AP27=\"Famille\",\"Family\",IF('Outil Recensement simplifié'!AP27=\"Individuel\",\"Single\",IF('Outil Recensement simplifié'!AP27=\"Familiale\",\"Family\",IF('Outil Recensement simplifié'!AP27=\"I\",\"Single\",IF('Outil Recensement simplifié'!AP27=\"F\",\"Family\",\"\"))))))","v":""},{"$f":"IF('Outil Recensement simplifié'!AQ27>0,'Outil Recensement simplifié'!AQ27,\"\")","v":""},{"$f":"IF('Outil Recensement simplifié'!AR27=\"Oui\",\"Yes\",IF('Outil Recensement simplifié'!AR27=\"Non\",\"No\",IF('Outil Recensement simplifié'!AR27=\"O\",\"Yes\",IF('Outil Recensement simplifié'!AR27=\"N\",\"No\",\"\"))))","v":""},{"$f":"IF('Outil Recensement simplifié'!AS27>0,'Outil Recensement simplifié'!AS27,\"\")","v":""},{"$f":"IF('Outil Recensement simplifié'!AT27>0,'Outil Recensement simplifié'!AT27,\"\")","v":""},{"$f":"IF('Outil Recensement simplifié'!AU27>0,'Outil Recensement simplifié'!AU27,\"\")","v":""},{"$f":"IF('Outil Recensement simplifié'!AV27=\"Homme\",\"Male\",IF('Outil Recensement simplifié'!AV27=\"Femme\",\"Female\",IF('Outil Recensement simplifié'!AV27=\"H\",\"Male\",IF('Outil Recensement simplifié'!AV27=\"F\",\"Female\",\"\"))))","v":""},{"$f":"IF('Outil Recensement simplifié'!AW27=\"Oui\",\"Yes\",IF('Outil Recensement simplifié'!AW27=\"Non\",\"No\",IF('Outil Recensement simplifié'!AW27=\"O\",\"Yes\",IF('Outil Recensement simplifié'!AW27=\"N\",\"No\",\"\"))))","v":""},{"$f":"IF('Outil Recensement simplifié'!AX27=\"Oui\",\"Yes\",IF('Outil Recensement simplifié'!AX27=\"Non\",\"No\",IF('Outil Recensement simplifié'!AX27=\"O\",\"Yes\",IF('Outil Recensement simplifié'!AX27=\"N\",\"No\",\"\"))))","v":""},{"$f":"IF('Outil Recensement simplifié'!AY27>0,'Outil Recensement simplifié'!AY27,\"\")","v":""},{"$f":"IF('Outil Recensement simplifié'!AZ27>0,'Outil Recensement simplifié'!AZ27,\"\")","v":""},{"$f":"IF('Outil Recensement simplifié'!BA27>0,'Outil Recensement simplifié'!BA27,\"\")","v":""},{"$f":"IF('Outil Recensement simplifié'!BB27=\"Homme\",\"Male\",IF('Outil Recensement simplifié'!BB27=\"Femme\",\"Female\",IF('Outil Recensement simplifié'!BB27=\"H\",\"Male\",IF('Outil Recensement simplifié'!BB27=\"F\",\"Female\",\"\"))))","v":""},{"$f":"IF('Outil Recensement simplifié'!BC27=\"Oui\",\"Yes\",IF('Outil Recensement simplifié'!BC27=\"Non\",\"No\",IF('Outil Recensement simplifié'!BC27=\"O\",\"Yes\",IF('Outil Recensement simplifié'!BC27=\"N\",\"No\",\"\"))))","v":""},{"$f":"IF('Outil Recensement simplifié'!BD27=\"Oui\",\"Yes\",IF('Outil Recensement simplifié'!BD27=\"Non\",\"No\",IF('Outil Recensement simplifié'!BD27=\"O\",\"Yes\",IF('Outil Recensement simplifié'!BD27=\"N\",\"No\",\"\"))))","v":""},{"$f":"IF('Outil Recensement simplifié'!BE27>0,'Outil Recensement simplifié'!BE27,\"\")","v":""},{"$f":"IF('Outil Recensement simplifié'!BF27>0,'Outil Recensement simplifié'!BF27,\"\")","v":""},{"$f":"IF('Outil Recensement simplifié'!BG27>0,'Outil Recensement simplifié'!BG27,\"\")","v":""},{"$f":"IF('Outil Recensement simplifié'!BH27=\"Homme\",\"Male\",IF('Outil Recensement simplifié'!BH27=\"Femme\",\"Female\",IF('Outil Recensement simplifié'!BH27=\"H\",\"Male\",IF('Outil Recensement simplifié'!BH27=\"F\",\"Female\",\"\"))))","v":""},{"$f":"IF('Outil Recensement simplifié'!BI27=\"Oui\",\"Yes\",IF('Outil Recensement simplifié'!BI27=\"Non\",\"No\",IF('Outil Recensement simplifié'!BI27=\"O\",\"Yes\",IF('Outil Recensement simplifié'!BI27=\"N\",\"No\",\"\"))))","v":""},{"$f":"IF('Outil Recensement simplifié'!BJ27=\"Oui\",\"Yes\",IF('Outil Recensement simplifié'!BJ27=\"Non\",\"No\",IF('Outil Recensement simplifié'!BJ27=\"O\",\"Yes\",IF('Outil Recensement simplifié'!BJ27=\"N\",\"No\",\"\"))))","v":""},{"$f":"IF('Outil Recensement simplifié'!BK27>0,'Outil Recensement simplifié'!BK27,\"\")","v":""},{"$f":"IF('Outil Recensement simplifié'!BL27>0,'Outil Recensement simplifié'!BL27,\"\")","v":""},{"$f":"IF('Outil Recensement simplifié'!BM27>0,'Outil Recensement simplifié'!BM27,\"\")","v":""},{"$f":"IF('Outil Recensement simplifié'!BN27=\"Homme\",\"Male\",IF('Outil Recensement simplifié'!BN27=\"Femme\",\"Female\",IF('Outil Recensement simplifié'!BN27=\"H\",\"Male\",IF('Outil Recensement simplifié'!BN27=\"F\",\"Female\",\"\"))))","v":""},{"$f":"IF('Outil Recensement simplifié'!BO27=\"Oui\",\"Yes\",IF('Outil Recensement simplifié'!BO27=\"Non\",\"No\",IF('Outil Recensement simplifié'!BO27=\"O\",\"Yes\",IF('Outil Recensement simplifié'!BO27=\"N\",\"No\",\"\"))))","v":""},{"$f":"IF('Outil Recensement simplifié'!BP27=\"Oui\",\"Yes\",IF('Outil Recensement simplifié'!BP27=\"Non\",\"No\",IF('Outil Recensement simplifié'!BP27=\"O\",\"Yes\",IF('Outil Recensement simplifié'!BP27=\"N\",\"No\",\"\"))))","v":""},{"$f":"IF('Outil Recensement simplifié'!BQ27>0,'Outil Recensement simplifié'!BQ27,\"\")","v":""},{"$f":"IF('Outil Recensement simplifié'!BR27>0,'Outil Recensement simplifié'!BR27,\"\")","v":""},{"$f":"IF('Outil Recensement simplifié'!BS27>0,'Outil Recensement simplifié'!BS27,\"\")","v":""},{"$f":"IF('Outil Recensement simplifié'!BT27=\"Homme\",\"Male\",IF('Outil Recensement simplifié'!BT27=\"Femme\",\"Female\",IF('Outil Recensement simplifié'!BT27=\"H\",\"Male\",IF('Outil Recensement simplifié'!BT27=\"F\",\"Female\",\"\"))))","v":""},{"$f":"IF('Outil Recensement simplifié'!BU27=\"Oui\",\"Yes\",IF('Outil Recensement simplifié'!BU27=\"Non\",\"No\",IF('Outil Recensement simplifié'!BU27=\"O\",\"Yes\",IF('Outil Recensement simplifié'!BU27=\"N\",\"No\",\"\"))))","v":""},{"$f":"IF('Outil Recensement simplifié'!BV27=\"Oui\",\"Yes\",IF('Outil Recensement simplifié'!BV27=\"Non\",\"No\",IF('Outil Recensement simplifié'!BV27=\"O\",\"Yes\",IF('Outil Recensement simplifié'!BV27=\"N\",\"No\",\"\"))))","v":""},{"$f":"IF('Outil Recensement simplifié'!BW27>0,'Outil Recensement simplifié'!BW27,\"\")","v":""},{"$f":"IF('Outil Recensement simplifié'!BX27>0,'Outil Recensement simplifié'!BX27,\"\")","v":""},{"$f":"IF('Outil Recensement simplifié'!BY27>0,'Outil Recensement simplifié'!BY27,\"\")","v":""},{"$f":"IF('Outil Recensement simplifié'!BZ27=\"Homme\",\"Male\",IF('Outil Recensement simplifié'!BZ27=\"Femme\",\"Female\",IF('Outil Recensement simplifié'!BZ27=\"H\",\"Male\",IF('Outil Recensement simplifié'!BZ27=\"F\",\"Female\",\"\"))))","v":""},{"$f":"IF('Outil Recensement simplifié'!CA27=\"Oui\",\"Yes\",IF('Outil Recensement simplifié'!CA27=\"Non\",\"No\",IF('Outil Recensement simplifié'!CA27=\"O\",\"Yes\",IF('Outil Recensement simplifié'!CA27=\"N\",\"No\",\"\"))))","v":""},{"$f":"IF('Outil Recensement simplifié'!CB27=\"Oui\",\"Yes\",IF('Outil Recensement simplifié'!CB27=\"Non\",\"No\",IF('Outil Recensement simplifié'!CB27=\"O\",\"Yes\",IF('Outil Recensement simplifié'!CB27=\"N\",\"No\",\"\"))))","v":""},{"$f":"IF('Outil Recensement simplifié'!CH27>0,'Outil Recensement simplifié'!CH27,\"\")","v":"    "}]
[{"$f":"IF('Outil Recensement simplifié'!A28>0,'Outil Recensement simplifié'!A28,\"\")","v":""},{"$f":"IF('Outil Recensement simplifié'!B28>0,'Outil Recensement simplifié'!B28,\"\")","v":""},{"$f":"IF('Outil Recensement simplifié'!C28>0,'Outil Recensement simplifié'!C28,\"\")","v":""},{"$f":"IF('Outil Recensement simplifié'!D28>0,'Outil Recensement simplifié'!D28,\"\")","v":""},{"$f":"IF('Outil Recensement simplifié'!E28>0,TEXT('Outil Recensement simplifié'!E28,\"000\"),\"\")","v":""},{"$f":"IF('Outil Recensement simplifié'!F28>0,'Outil Recensement simplifié'!F28,\"\")","v":""},{"$f":"IF('Outil Recensement simplifié'!G28>0,'Outil Recensement simplifié'!G28,\"\")","v":""},{"$f":"IF('Outil Recensement simplifié'!I28>0,'Outil Recensement simplifié'!I28,\"\")","v":""},{"$f":"IF('Outil Recensement simplifié'!J28>0,'Outil Recensement simplifié'!J28,\"\")","v":""},{"$f":"IF('Outil Recensement simplifié'!K28>0,'Outil Recensement simplifié'!K28,\"\")","v":""},{"$f":"IF('Outil Recensement simplifié'!L28>0,'Outil Recensement simplifié'!L28,\"\")","v":""},{"$f":"IF('Outil Recensement simplifié'!M28=\"Homme\",\"Male\",IF('Outil Recensement simplifié'!M28=\"Femme\",\"Female\",IF('Outil Recensement simplifié'!M28=\"H\",\"Male\",IF('Outil Recensement simplifié'!M28=\"F\",\"Female\",\"\"))))","v":""},{"$f":"IF('Outil Recensement simplifié'!N28=\"Oui\",\"Yes\",IF('Outil Recensement simplifié'!N28=\"Non\",\"No\",IF('Outil Recensement simplifié'!N28=\"O\",\"Yes\",IF('Outil Recensement simplifié'!N28=\"N\",\"No\",\"\"))))","v":""},{"$f":"IF('Outil Recensement simplifié'!O28=\"Non\",\"Single\",IF('Outil Recensement simplifié'!O28=\"Oui\",\"Family\",IF('Outil Recensement simplifié'!O28=\"N\",\"Single\",IF('Outil Recensement simplifié'!O28=\"O\",\"Family\",IF('Outil Recensement simplifié'!O28=\"En vigueur\",\"Family\",\"\")))))","v":""},{"$f":"IF('Outil Recensement simplifié'!P28=\"Anglais\",\"English\",IF('Outil Recensement simplifié'!P28=\"Français\",\"French\",IF('Outil Recensement simplifié'!P28=\"A\",\"English\",IF('Outil Recensement simplifié'!P28=\"F\",\"French\",\"\"))))","v":""},{"$f":"IF('Outil Recensement simplifié'!Q28=\"Oui\",\"Yes\",IF('Outil Recensement simplifié'!Q28=\"Non\",\"No\",IF('Outil Recensement simplifié'!Q28=\"O\",\"Yes\",IF('Outil Recensement simplifié'!Q28=\"N\",\"No\",\"\"))))","v":""},{"$f":"IF('Outil Recensement simplifié'!R28>0,'Outil Recensement simplifié'!R28,\"\")","v":""},{"$f":"IF('Outil Recensement simplifié'!S28=\"Annuelle\",\"Annually\",IF('Outil Recensement simplifié'!S28=\"Mensuelle\",\"Monthly\",IF('Outil Recensement simplifié'!S28=\"Aux deux semaines\",\"Biweekly\",IF('Outil Recensement simplifié'!S28=\"Bimensuelle\",\"Semi-Monthly\",IF('Outil Recensement simplifié'!S28=\"Hebdomadaire\",\"Weekly\",IF('Outil Recensement simplifié'!S28=\"Horaire\",\"Hourly\",\"\"))))))","v":""},{"$f":"IF('Outil Recensement simplifié'!T28>0,'Outil Recensement simplifié'!T28,\"\")","v":""},{"$f":"IF('Outil Recensement simplifié'!U28>0,'Outil Recensement simplifié'!U28,\"\")","v":""},{"$f":"IF('Outil Recensement simplifié'!V28=\"Exemptée\",\"Yes\",\"\")","v":""},{"$f":"IF('Outil Recensement simplifié'!W28=\"Exemptée\",\"Yes\",\"\")","v":""},{"$f":"IF('Outil Recensement simplifié'!X28>0,'Outil Recensement simplifié'!X28,\"\")","v":""},{"$f":"IF('Outil Recensement simplifié'!Y28>0,'Outil Recensement simplifié'!Y28,\"\")","v":""},{"$f":"IF('Outil Recensement simplifié'!Z28>0,'Outil Recensement simplifié'!Z28,\"\")","v":""},{"$f":"IF('Outil Recensement simplifié'!AA28>0,'Outil Recensement simplifié'!AA28,\"\")","v":""},{"$f":"IF('Outil Recensement simplifié'!AB28>0,'Outil Recensement simplifié'!AB28,\"\")","v":""},{"$f":"IF('Outil Recensement simplifié'!AC28>0,'Outil Recensement simplifié'!AC28,\"\")","v":" "},{"$f":"IF('Outil Recensement simplifié'!AE28>0,'Outil Recensement simplifié'!AE28&\" \",\"\")&IF('Outil Recensement simplifié'!AD28>0,'Outil Recensement simplifié'!AD28,\"\")","v":""},null,{"$f":"IF('Outil Recensement simplifié'!AF28>0,'Outil Recensement simplifié'!AF28,\"\")","v":""},{"$f":"IF('Outil Recensement simplifié'!AG28>0,'Outil Recensement simplifié'!AG28,\"\")","v":""},{"$f":"IF('Outil Recensement simplifié'!AH28>0,'Outil Recensement simplifié'!AH28,\"\")","v":""},{"$f":"IF('Outil Recensement simplifié'!AI28>0,'Outil Recensement simplifié'!AI28,\"\")","v":""},{"$f":"IF('Outil Recensement simplifié'!AJ28>0,'Outil Recensement simplifié'!AJ28,\"\")","v":""},{"$f":"IF('Outil Recensement simplifié'!AK28>0,'Outil Recensement simplifié'!AK28,\"\")","v":""},{"$f":"IF('Outil Recensement simplifié'!AL28>0,'Outil Recensement simplifié'!AL28,\"\")","v":""},{"$f":"IF('Outil Recensement simplifié'!AM28>0,'Outil Recensement simplifié'!AM28,\"\")","v":""},{"$f":"IF('Outil Recensement simplifié'!AN28=\"Homme\",\"Male\",IF('Outil Recensement simplifié'!AN28=\"Femme\",\"Female\",IF('Outil Recensement simplifié'!AN28=\"H\",\"Male\",IF('Outil Recensement simplifié'!AN28=\"F\",\"Female\",\"\"))))","v":""},{"$f":"IF('Outil Recensement simplifié'!AO28=\"Individuelle\",\"Single\",IF('Outil Recensement simplifié'!AO28=\"Famille\",\"Family\",IF('Outil Recensement simplifié'!AO28=\"Individuel\",\"Single\",IF('Outil Recensement simplifié'!AO28=\"Familiale\",\"Family\",IF('Outil Recensement simplifié'!AO28=\"I\",\"Single\",IF('Outil Recensement simplifié'!AO28=\"F\",\"Family\",\"\"))))))","v":""},{"$f":"IF('Outil Recensement simplifié'!AP28=\"Individuelle\",\"Single\",IF('Outil Recensement simplifié'!AP28=\"Famille\",\"Family\",IF('Outil Recensement simplifié'!AP28=\"Individuel\",\"Single\",IF('Outil Recensement simplifié'!AP28=\"Familiale\",\"Family\",IF('Outil Recensement simplifié'!AP28=\"I\",\"Single\",IF('Outil Recensement simplifié'!AP28=\"F\",\"Family\",\"\"))))))","v":""},{"$f":"IF('Outil Recensement simplifié'!AQ28>0,'Outil Recensement simplifié'!AQ28,\"\")","v":""},{"$f":"IF('Outil Recensement simplifié'!AR28=\"Oui\",\"Yes\",IF('Outil Recensement simplifié'!AR28=\"Non\",\"No\",IF('Outil Recensement simplifié'!AR28=\"O\",\"Yes\",IF('Outil Recensement simplifié'!AR28=\"N\",\"No\",\"\"))))","v":""},{"$f":"IF('Outil Recensement simplifié'!AS28>0,'Outil Recensement simplifié'!AS28,\"\")","v":""},{"$f":"IF('Outil Recensement simplifié'!AT28>0,'Outil Recensement simplifié'!AT28,\"\")","v":""},{"$f":"IF('Outil Recensement simplifié'!AU28>0,'Outil Recensement simplifié'!AU28,\"\")","v":""},{"$f":"IF('Outil Recensement simplifié'!AV28=\"Homme\",\"Male\",IF('Outil Recensement simplifié'!AV28=\"Femme\",\"Female\",IF('Outil Recensement simplifié'!AV28=\"H\",\"Male\",IF('Outil Recensement simplifié'!AV28=\"F\",\"Female\",\"\"))))","v":""},{"$f":"IF('Outil Recensement simplifié'!AW28=\"Oui\",\"Yes\",IF('Outil Recensement simplifié'!AW28=\"Non\",\"No\",IF('Outil Recensement simplifié'!AW28=\"O\",\"Yes\",IF('Outil Recensement simplifié'!AW28=\"N\",\"No\",\"\"))))","v":""},{"$f":"IF('Outil Recensement simplifié'!AX28=\"Oui\",\"Yes\",IF('Outil Recensement simplifié'!AX28=\"Non\",\"No\",IF('Outil Recensement simplifié'!AX28=\"O\",\"Yes\",IF('Outil Recensement simplifié'!AX28=\"N\",\"No\",\"\"))))","v":""},{"$f":"IF('Outil Recensement simplifié'!AY28>0,'Outil Recensement simplifié'!AY28,\"\")","v":""},{"$f":"IF('Outil Recensement simplifié'!AZ28>0,'Outil Recensement simplifié'!AZ28,\"\")","v":""},{"$f":"IF('Outil Recensement simplifié'!BA28>0,'Outil Recensement simplifié'!BA28,\"\")","v":""},{"$f":"IF('Outil Recensement simplifié'!BB28=\"Homme\",\"Male\",IF('Outil Recensement simplifié'!BB28=\"Femme\",\"Female\",IF('Outil Recensement simplifié'!BB28=\"H\",\"Male\",IF('Outil Recensement simplifié'!BB28=\"F\",\"Female\",\"\"))))","v":""},{"$f":"IF('Outil Recensement simplifié'!BC28=\"Oui\",\"Yes\",IF('Outil Recensement simplifié'!BC28=\"Non\",\"No\",IF('Outil Recensement simplifié'!BC28=\"O\",\"Yes\",IF('Outil Recensement simplifié'!BC28=\"N\",\"No\",\"\"))))","v":""},{"$f":"IF('Outil Recensement simplifié'!BD28=\"Oui\",\"Yes\",IF('Outil Recensement simplifié'!BD28=\"Non\",\"No\",IF('Outil Recensement simplifié'!BD28=\"O\",\"Yes\",IF('Outil Recensement simplifié'!BD28=\"N\",\"No\",\"\"))))","v":""},{"$f":"IF('Outil Recensement simplifié'!BE28>0,'Outil Recensement simplifié'!BE28,\"\")","v":""},{"$f":"IF('Outil Recensement simplifié'!BF28>0,'Outil Recensement simplifié'!BF28,\"\")","v":""},{"$f":"IF('Outil Recensement simplifié'!BG28>0,'Outil Recensement simplifié'!BG28,\"\")","v":""},{"$f":"IF('Outil Recensement simplifié'!BH28=\"Homme\",\"Male\",IF('Outil Recensement simplifié'!BH28=\"Femme\",\"Female\",IF('Outil Recensement simplifié'!BH28=\"H\",\"Male\",IF('Outil Recensement simplifié'!BH28=\"F\",\"Female\",\"\"))))","v":""},{"$f":"IF('Outil Recensement simplifié'!BI28=\"Oui\",\"Yes\",IF('Outil Recensement simplifié'!BI28=\"Non\",\"No\",IF('Outil Recensement simplifié'!BI28=\"O\",\"Yes\",IF('Outil Recensement simplifié'!BI28=\"N\",\"No\",\"\"))))","v":""},{"$f":"IF('Outil Recensement simplifié'!BJ28=\"Oui\",\"Yes\",IF('Outil Recensement simplifié'!BJ28=\"Non\",\"No\",IF('Outil Recensement simplifié'!BJ28=\"O\",\"Yes\",IF('Outil Recensement simplifié'!BJ28=\"N\",\"No\",\"\"))))","v":""},{"$f":"IF('Outil Recensement simplifié'!BK28>0,'Outil Recensement simplifié'!BK28,\"\")","v":""},{"$f":"IF('Outil Recensement simplifié'!BL28>0,'Outil Recensement simplifié'!BL28,\"\")","v":""},{"$f":"IF('Outil Recensement simplifié'!BM28>0,'Outil Recensement simplifié'!BM28,\"\")","v":""},{"$f":"IF('Outil Recensement simplifié'!BN28=\"Homme\",\"Male\",IF('Outil Recensement simplifié'!BN28=\"Femme\",\"Female\",IF('Outil Recensement simplifié'!BN28=\"H\",\"Male\",IF('Outil Recensement simplifié'!BN28=\"F\",\"Female\",\"\"))))","v":""},{"$f":"IF('Outil Recensement simplifié'!BO28=\"Oui\",\"Yes\",IF('Outil Recensement simplifié'!BO28=\"Non\",\"No\",IF('Outil Recensement simplifié'!BO28=\"O\",\"Yes\",IF('Outil Recensement simplifié'!BO28=\"N\",\"No\",\"\"))))","v":""},{"$f":"IF('Outil Recensement simplifié'!BP28=\"Oui\",\"Yes\",IF('Outil Recensement simplifié'!BP28=\"Non\",\"No\",IF('Outil Recensement simplifié'!BP28=\"O\",\"Yes\",IF('Outil Recensement simplifié'!BP28=\"N\",\"No\",\"\"))))","v":""},{"$f":"IF('Outil Recensement simplifié'!BQ28>0,'Outil Recensement simplifié'!BQ28,\"\")","v":""},{"$f":"IF('Outil Recensement simplifié'!BR28>0,'Outil Recensement simplifié'!BR28,\"\")","v":""},{"$f":"IF('Outil Recensement simplifié'!BS28>0,'Outil Recensement simplifié'!BS28,\"\")","v":""},{"$f":"IF('Outil Recensement simplifié'!BT28=\"Homme\",\"Male\",IF('Outil Recensement simplifié'!BT28=\"Femme\",\"Female\",IF('Outil Recensement simplifié'!BT28=\"H\",\"Male\",IF('Outil Recensement simplifié'!BT28=\"F\",\"Female\",\"\"))))","v":""},{"$f":"IF('Outil Recensement simplifié'!BU28=\"Oui\",\"Yes\",IF('Outil Recensement simplifié'!BU28=\"Non\",\"No\",IF('Outil Recensement simplifié'!BU28=\"O\",\"Yes\",IF('Outil Recensement simplifié'!BU28=\"N\",\"No\",\"\"))))","v":""},{"$f":"IF('Outil Recensement simplifié'!BV28=\"Oui\",\"Yes\",IF('Outil Recensement simplifié'!BV28=\"Non\",\"No\",IF('Outil Recensement simplifié'!BV28=\"O\",\"Yes\",IF('Outil Recensement simplifié'!BV28=\"N\",\"No\",\"\"))))","v":""},{"$f":"IF('Outil Recensement simplifié'!BW28>0,'Outil Recensement simplifié'!BW28,\"\")","v":""},{"$f":"IF('Outil Recensement simplifié'!BX28>0,'Outil Recensement simplifié'!BX28,\"\")","v":""},{"$f":"IF('Outil Recensement simplifié'!BY28>0,'Outil Recensement simplifié'!BY28,\"\")","v":""},{"$f":"IF('Outil Recensement simplifié'!BZ28=\"Homme\",\"Male\",IF('Outil Recensement simplifié'!BZ28=\"Femme\",\"Female\",IF('Outil Recensement simplifié'!BZ28=\"H\",\"Male\",IF('Outil Recensement simplifié'!BZ28=\"F\",\"Female\",\"\"))))","v":""},{"$f":"IF('Outil Recensement simplifié'!CA28=\"Oui\",\"Yes\",IF('Outil Recensement simplifié'!CA28=\"Non\",\"No\",IF('Outil Recensement simplifié'!CA28=\"O\",\"Yes\",IF('Outil Recensement simplifié'!CA28=\"N\",\"No\",\"\"))))","v":""},{"$f":"IF('Outil Recensement simplifié'!CB28=\"Oui\",\"Yes\",IF('Outil Recensement simplifié'!CB28=\"Non\",\"No\",IF('Outil Recensement simplifié'!CB28=\"O\",\"Yes\",IF('Outil Recensement simplifié'!CB28=\"N\",\"No\",\"\"))))","v":""},{"$f":"IF('Outil Recensement simplifié'!CH28>0,'Outil Recensement simplifié'!CH28,\"\")","v":"    "}]
[{"$f":"IF('Outil Recensement simplifié'!A29>0,'Outil Recensement simplifié'!A29,\"\")","v":""},{"$f":"IF('Outil Recensement simplifié'!B29>0,'Outil Recensement simplifié'!B29,\"\")","v":""},{"$f":"IF('Outil Recensement simplifié'!C29>0,'Outil Recensement simplifié'!C29,\"\")","v":""},{"$f":"IF('Outil Recensement simplifié'!D29>0,'Outil Recensement simplifié'!D29,\"\")","v":""},{"$f":"IF('Outil Recensement simplifié'!E29>0,TEXT('Outil Recensement simplifié'!E29,\"000\"),\"\")","v":""},{"$f":"IF('Outil Recensement simplifié'!F29>0,'Outil Recensement simplifié'!F29,\"\")","v":""},{"$f":"IF('Outil Recensement simplifié'!G29>0,'Outil Recensement simplifié'!G29,\"\")","v":""},{"$f":"IF('Outil Recensement simplifié'!I29>0,'Outil Recensement simplifié'!I29,\"\")","v":""},{"$f":"IF('Outil Recensement simplifié'!J29>0,'Outil Recensement simplifié'!J29,\"\")","v":""},{"$f":"IF('Outil Recensement simplifié'!K29>0,'Outil Recensement simplifié'!K29,\"\")","v":""},{"$f":"IF('Outil Recensement simplifié'!L29>0,'Outil Recensement simplifié'!L29,\"\")","v":""},{"$f":"IF('Outil Recensement simplifié'!M29=\"Homme\",\"Male\",IF('Outil Recensement simplifié'!M29=\"Femme\",\"Female\",IF('Outil Recensement simplifié'!M29=\"H\",\"Male\",IF('Outil Recensement simplifié'!M29=\"F\",\"Female\",\"\"))))","v":""},{"$f":"IF('Outil Recensement simplifié'!N29=\"Oui\",\"Yes\",IF('Outil Recensement simplifié'!N29=\"Non\",\"No\",IF('Outil Recensement simplifié'!N29=\"O\",\"Yes\",IF('Outil Recensement simplifié'!N29=\"N\",\"No\",\"\"))))","v":""},{"$f":"IF('Outil Recensement simplifié'!O29=\"Non\",\"Single\",IF('Outil Recensement simplifié'!O29=\"Oui\",\"Family\",IF('Outil Recensement simplifié'!O29=\"N\",\"Single\",IF('Outil Recensement simplifié'!O29=\"O\",\"Family\",IF('Outil Recensement simplifié'!O29=\"En vigueur\",\"Family\",\"\")))))","v":""},{"$f":"IF('Outil Recensement simplifié'!P29=\"Anglais\",\"English\",IF('Outil Recensement simplifié'!P29=\"Français\",\"French\",IF('Outil Recensement simplifié'!P29=\"A\",\"English\",IF('Outil Recensement simplifié'!P29=\"F\",\"French\",\"\"))))","v":""},{"$f":"IF('Outil Recensement simplifié'!Q29=\"Oui\",\"Yes\",IF('Outil Recensement simplifié'!Q29=\"Non\",\"No\",IF('Outil Recensement simplifié'!Q29=\"O\",\"Yes\",IF('Outil Recensement simplifié'!Q29=\"N\",\"No\",\"\"))))","v":""},{"$f":"IF('Outil Recensement simplifié'!R29>0,'Outil Recensement simplifié'!R29,\"\")","v":""},{"$f":"IF('Outil Recensement simplifié'!S29=\"Annuelle\",\"Annually\",IF('Outil Recensement simplifié'!S29=\"Mensuelle\",\"Monthly\",IF('Outil Recensement simplifié'!S29=\"Aux deux semaines\",\"Biweekly\",IF('Outil Recensement simplifié'!S29=\"Bimensuelle\",\"Semi-Monthly\",IF('Outil Recensement simplifié'!S29=\"Hebdomadaire\",\"Weekly\",IF('Outil Recensement simplifié'!S29=\"Horaire\",\"Hourly\",\"\"))))))","v":""},{"$f":"IF('Outil Recensement simplifié'!T29>0,'Outil Recensement simplifié'!T29,\"\")","v":""},{"$f":"IF('Outil Recensement simplifié'!U29>0,'Outil Recensement simplifié'!U29,\"\")","v":""},{"$f":"IF('Outil Recensement simplifié'!V29=\"Exemptée\",\"Yes\",\"\")","v":""},{"$f":"IF('Outil Recensement simplifié'!W29=\"Exemptée\",\"Yes\",\"\")","v":""},{"$f":"IF('Outil Recensement simplifié'!X29>0,'Outil Recensement simplifié'!X29,\"\")","v":""},{"$f":"IF('Outil Recensement simplifié'!Y29>0,'Outil Recensement simplifié'!Y29,\"\")","v":""},{"$f":"IF('Outil Recensement simplifié'!Z29>0,'Outil Recensement simplifié'!Z29,\"\")","v":""},{"$f":"IF('Outil Recensement simplifié'!AA29>0,'Outil Recensement simplifié'!AA29,\"\")","v":""},{"$f":"IF('Outil Recensement simplifié'!AB29>0,'Outil Recensement simplifié'!AB29,\"\")","v":""},{"$f":"IF('Outil Recensement simplifié'!AC29>0,'Outil Recensement simplifié'!AC29,\"\")","v":" "},{"$f":"IF('Outil Recensement simplifié'!AE29>0,'Outil Recensement simplifié'!AE29&\" \",\"\")&IF('Outil Recensement simplifié'!AD29>0,'Outil Recensement simplifié'!AD29,\"\")","v":""},null,{"$f":"IF('Outil Recensement simplifié'!AF29>0,'Outil Recensement simplifié'!AF29,\"\")","v":""},{"$f":"IF('Outil Recensement simplifié'!AG29>0,'Outil Recensement simplifié'!AG29,\"\")","v":""},{"$f":"IF('Outil Recensement simplifié'!AH29>0,'Outil Recensement simplifié'!AH29,\"\")","v":""},{"$f":"IF('Outil Recensement simplifié'!AI29>0,'Outil Recensement simplifié'!AI29,\"\")","v":""},{"$f":"IF('Outil Recensement simplifié'!AJ29>0,'Outil Recensement simplifié'!AJ29,\"\")","v":""},{"$f":"IF('Outil Recensement simplifié'!AK29>0,'Outil Recensement simplifié'!AK29,\"\")","v":""},{"$f":"IF('Outil Recensement simplifié'!AL29>0,'Outil Recensement simplifié'!AL29,\"\")","v":""},{"$f":"IF('Outil Recensement simplifié'!AM29>0,'Outil Recensement simplifié'!AM29,\"\")","v":""},{"$f":"IF('Outil Recensement simplifié'!AN29=\"Homme\",\"Male\",IF('Outil Recensement simplifié'!AN29=\"Femme\",\"Female\",IF('Outil Recensement simplifié'!AN29=\"H\",\"Male\",IF('Outil Recensement simplifié'!AN29=\"F\",\"Female\",\"\"))))","v":""},{"$f":"IF('Outil Recensement simplifié'!AO29=\"Individuelle\",\"Single\",IF('Outil Recensement simplifié'!AO29=\"Famille\",\"Family\",IF('Outil Recensement simplifié'!AO29=\"Individuel\",\"Single\",IF('Outil Recensement simplifié'!AO29=\"Familiale\",\"Family\",IF('Outil Recensement simplifié'!AO29=\"I\",\"Single\",IF('Outil Recensement simplifié'!AO29=\"F\",\"Family\",\"\"))))))","v":""},{"$f":"IF('Outil Recensement simplifié'!AP29=\"Individuelle\",\"Single\",IF('Outil Recensement simplifié'!AP29=\"Famille\",\"Family\",IF('Outil Recensement simplifié'!AP29=\"Individuel\",\"Single\",IF('Outil Recensement simplifié'!AP29=\"Familiale\",\"Family\",IF('Outil Recensement simplifié'!AP29=\"I\",\"Single\",IF('Outil Recensement simplifié'!AP29=\"F\",\"Family\",\"\"))))))","v":""},{"$f":"IF('Outil Recensement simplifié'!AQ29>0,'Outil Recensement simplifié'!AQ29,\"\")","v":""},{"$f":"IF('Outil Recensement simplifié'!AR29=\"Oui\",\"Yes\",IF('Outil Recensement simplifié'!AR29=\"Non\",\"No\",IF('Outil Recensement simplifié'!AR29=\"O\",\"Yes\",IF('Outil Recensement simplifié'!AR29=\"N\",\"No\",\"\"))))","v":""},{"$f":"IF('Outil Recensement simplifié'!AS29>0,'Outil Recensement simplifié'!AS29,\"\")","v":""},{"$f":"IF('Outil Recensement simplifié'!AT29>0,'Outil Recensement simplifié'!AT29,\"\")","v":""},{"$f":"IF('Outil Recensement simplifié'!AU29>0,'Outil Recensement simplifié'!AU29,\"\")","v":""},{"$f":"IF('Outil Recensement simplifié'!AV29=\"Homme\",\"Male\",IF('Outil Recensement simplifié'!AV29=\"Femme\",\"Female\",IF('Outil Recensement simplifié'!AV29=\"H\",\"Male\",IF('Outil Recensement simplifié'!AV29=\"F\",\"Female\",\"\"))))","v":""},{"$f":"IF('Outil Recensement simplifié'!AW29=\"Oui\",\"Yes\",IF('Outil Recensement simplifié'!AW29=\"Non\",\"No\",IF('Outil Recensement simplifié'!AW29=\"O\",\"Yes\",IF('Outil Recensement simplifié'!AW29=\"N\",\"No\",\"\"))))","v":""},{"$f":"IF('Outil Recensement simplifié'!AX29=\"Oui\",\"Yes\",IF('Outil Recensement simplifié'!AX29=\"Non\",\"No\",IF('Outil Recensement simplifié'!AX29=\"O\",\"Yes\",IF('Outil Recensement simplifié'!AX29=\"N\",\"No\",\"\"))))","v":""},{"$f":"IF('Outil Recensement simplifié'!AY29>0,'Outil Recensement simplifié'!AY29,\"\")","v":""},{"$f":"IF('Outil Recensement simplifié'!AZ29>0,'Outil Recensement simplifié'!AZ29,\"\")","v":""},{"$f":"IF('Outil Recensement simplifié'!BA29>0,'Outil Recensement simplifié'!BA29,\"\")","v":""},{"$f":"IF('Outil Recensement simplifié'!BB29=\"Homme\",\"Male\",IF('Outil Recensement simplifié'!BB29=\"Femme\",\"Female\",IF('Outil Recensement simplifié'!BB29=\"H\",\"Male\",IF('Outil Recensement simplifié'!BB29=\"F\",\"Female\",\"\"))))","v":""},{"$f":"IF('Outil Recensement simplifié'!BC29=\"Oui\",\"Yes\",IF('Outil Recensement simplifié'!BC29=\"Non\",\"No\",IF('Outil Recensement simplifié'!BC29=\"O\",\"Yes\",IF('Outil Recensement simplifié'!BC29=\"N\",\"No\",\"\"))))","v":""},{"$f":"IF('Outil Recensement simplifié'!BD29=\"Oui\",\"Yes\",IF('Outil Recensement simplifié'!BD29=\"Non\",\"No\",IF('Outil Recensement simplifié'!BD29=\"O\",\"Yes\",IF('Outil Recensement simplifié'!BD29=\"N\",\"No\",\"\"))))","v":""},{"$f":"IF('Outil Recensement simplifié'!BE29>0,'Outil Recensement simplifié'!BE29,\"\")","v":""},{"$f":"IF('Outil Recensement simplifié'!BF29>0,'Outil Recensement simplifié'!BF29,\"\")","v":""},{"$f":"IF('Outil Recensement simplifié'!BG29>0,'Outil Recensement simplifié'!BG29,\"\")","v":""},{"$f":"IF('Outil Recensement simplifié'!BH29=\"Homme\",\"Male\",IF('Outil Recensement simplifié'!BH29=\"Femme\",\"Female\",IF('Outil Recensement simplifié'!BH29=\"H\",\"Male\",IF('Outil Recensement simplifié'!BH29=\"F\",\"Female\",\"\"))))","v":""},{"$f":"IF('Outil Recensement simplifié'!BI29=\"Oui\",\"Yes\",IF('Outil Recensement simplifié'!BI29=\"Non\",\"No\",IF('Outil Recensement simplifié'!BI29=\"O\",\"Yes\",IF('Outil Recensement simplifié'!BI29=\"N\",\"No\",\"\"))))","v":""},{"$f":"IF('Outil Recensement simplifié'!BJ29=\"Oui\",\"Yes\",IF('Outil Recensement simplifié'!BJ29=\"Non\",\"No\",IF('Outil Recensement simplifié'!BJ29=\"O\",\"Yes\",IF('Outil Recensement simplifié'!BJ29=\"N\",\"No\",\"\"))))","v":""},{"$f":"IF('Outil Recensement simplifié'!BK29>0,'Outil Recensement simplifié'!BK29,\"\")","v":""},{"$f":"IF('Outil Recensement simplifié'!BL29>0,'Outil Recensement simplifié'!BL29,\"\")","v":""},{"$f":"IF('Outil Recensement simplifié'!BM29>0,'Outil Recensement simplifié'!BM29,\"\")","v":""},{"$f":"IF('Outil Recensement simplifié'!BN29=\"Homme\",\"Male\",IF('Outil Recensement simplifié'!BN29=\"Femme\",\"Female\",IF('Outil Recensement simplifié'!BN29=\"H\",\"Male\",IF('Outil Recensement simplifié'!BN29=\"F\",\"Female\",\"\"))))","v":""},{"$f":"IF('Outil Recensement simplifié'!BO29=\"Oui\",\"Yes\",IF('Outil Recensement simplifié'!BO29=\"Non\",\"No\",IF('Outil Recensement simplifié'!BO29=\"O\",\"Yes\",IF('Outil Recensement simplifié'!BO29=\"N\",\"No\",\"\"))))","v":""},{"$f":"IF('Outil Recensement simplifié'!BP29=\"Oui\",\"Yes\",IF('Outil Recensement simplifié'!BP29=\"Non\",\"No\",IF('Outil Recensement simplifié'!BP29=\"O\",\"Yes\",IF('Outil Recensement simplifié'!BP29=\"N\",\"No\",\"\"))))","v":""},{"$f":"IF('Outil Recensement simplifié'!BQ29>0,'Outil Recensement simplifié'!BQ29,\"\")","v":""},{"$f":"IF('Outil Recensement simplifié'!BR29>0,'Outil Recensement simplifié'!BR29,\"\")","v":""},{"$f":"IF('Outil Recensement simplifié'!BS29>0,'Outil Recensement simplifié'!BS29,\"\")","v":""},{"$f":"IF('Outil Recensement simplifié'!BT29=\"Homme\",\"Male\",IF('Outil Recensement simplifié'!BT29=\"Femme\",\"Female\",IF('Outil Recensement simplifié'!BT29=\"H\",\"Male\",IF('Outil Recensement simplifié'!BT29=\"F\",\"Female\",\"\"))))","v":""},{"$f":"IF('Outil Recensement simplifié'!BU29=\"Oui\",\"Yes\",IF('Outil Recensement simplifié'!BU29=\"Non\",\"No\",IF('Outil Recensement simplifié'!BU29=\"O\",\"Yes\",IF('Outil Recensement simplifié'!BU29=\"N\",\"No\",\"\"))))","v":""},{"$f":"IF('Outil Recensement simplifié'!BV29=\"Oui\",\"Yes\",IF('Outil Recensement simplifié'!BV29=\"Non\",\"No\",IF('Outil Recensement simplifié'!BV29=\"O\",\"Yes\",IF('Outil Recensement simplifié'!BV29=\"N\",\"No\",\"\"))))","v":""},{"$f":"IF('Outil Recensement simplifié'!BW29>0,'Outil Recensement simplifié'!BW29,\"\")","v":""},{"$f":"IF('Outil Recensement simplifié'!BX29>0,'Outil Recensement simplifié'!BX29,\"\")","v":""},{"$f":"IF('Outil Recensement simplifié'!BY29>0,'Outil Recensement simplifié'!BY29,\"\")","v":""},{"$f":"IF('Outil Recensement simplifié'!BZ29=\"Homme\",\"Male\",IF('Outil Recensement simplifié'!BZ29=\"Femme\",\"Female\",IF('Outil Recensement simplifié'!BZ29=\"H\",\"Male\",IF('Outil Recensement simplifié'!BZ29=\"F\",\"Female\",\"\"))))","v":""},{"$f":"IF('Outil Recensement simplifié'!CA29=\"Oui\",\"Yes\",IF('Outil Recensement simplifié'!CA29=\"Non\",\"No\",IF('Outil Recensement simplifié'!CA29=\"O\",\"Yes\",IF('Outil Recensement simplifié'!CA29=\"N\",\"No\",\"\"))))","v":""},{"$f":"IF('Outil Recensement simplifié'!CB29=\"Oui\",\"Yes\",IF('Outil Recensement simplifié'!CB29=\"Non\",\"No\",IF('Outil Recensement simplifié'!CB29=\"O\",\"Yes\",IF('Outil Recensement simplifié'!CB29=\"N\",\"No\",\"\"))))","v":""},{"$f":"IF('Outil Recensement simplifié'!CH29>0,'Outil Recensement simplifié'!CH29,\"\")","v":"    "}]
[{"$f":"IF('Outil Recensement simplifié'!A30>0,'Outil Recensement simplifié'!A30,\"\")","v":""},{"$f":"IF('Outil Recensement simplifié'!B30>0,'Outil Recensement simplifié'!B30,\"\")","v":""},{"$f":"IF('Outil Recensement simplifié'!C30>0,'Outil Recensement simplifié'!C30,\"\")","v":""},{"$f":"IF('Outil Recensement simplifié'!D30>0,'Outil Recensement simplifié'!D30,\"\")","v":""},{"$f":"IF('Outil Recensement simplifié'!E30>0,TEXT('Outil Recensement simplifié'!E30,\"000\"),\"\")","v":""},{"$f":"IF('Outil Recensement simplifié'!F30>0,'Outil Recensement simplifié'!F30,\"\")","v":""},{"$f":"IF('Outil Recensement simplifié'!G30>0,'Outil Recensement simplifié'!G30,\"\")","v":""},{"$f":"IF('Outil Recensement simplifié'!I30>0,'Outil Recensement simplifié'!I30,\"\")","v":""},{"$f":"IF('Outil Recensement simplifié'!J30>0,'Outil Recensement simplifié'!J30,\"\")","v":""},{"$f":"IF('Outil Recensement simplifié'!K30>0,'Outil Recensement simplifié'!K30,\"\")","v":""},{"$f":"IF('Outil Recensement simplifié'!L30>0,'Outil Recensement simplifié'!L30,\"\")","v":""},{"$f":"IF('Outil Recensement simplifié'!M30=\"Homme\",\"Male\",IF('Outil Recensement simplifié'!M30=\"Femme\",\"Female\",IF('Outil Recensement simplifié'!M30=\"H\",\"Male\",IF('Outil Recensement simplifié'!M30=\"F\",\"Female\",\"\"))))","v":""},{"$f":"IF('Outil Recensement simplifié'!N30=\"Oui\",\"Yes\",IF('Outil Recensement simplifié'!N30=\"Non\",\"No\",IF('Outil Recensement simplifié'!N30=\"O\",\"Yes\",IF('Outil Recensement simplifié'!N30=\"N\",\"No\",\"\"))))","v":""},{"$f":"IF('Outil Recensement simplifié'!O30=\"Non\",\"Single\",IF('Outil Recensement simplifié'!O30=\"Oui\",\"Family\",IF('Outil Recensement simplifié'!O30=\"N\",\"Single\",IF('Outil Recensement simplifié'!O30=\"O\",\"Family\",IF('Outil Recensement simplifié'!O30=\"En vigueur\",\"Family\",\"\")))))","v":""},{"$f":"IF('Outil Recensement simplifié'!P30=\"Anglais\",\"English\",IF('Outil Recensement simplifié'!P30=\"Français\",\"French\",IF('Outil Recensement simplifié'!P30=\"A\",\"English\",IF('Outil Recensement simplifié'!P30=\"F\",\"French\",\"\"))))","v":""},{"$f":"IF('Outil Recensement simplifié'!Q30=\"Oui\",\"Yes\",IF('Outil Recensement simplifié'!Q30=\"Non\",\"No\",IF('Outil Recensement simplifié'!Q30=\"O\",\"Yes\",IF('Outil Recensement simplifié'!Q30=\"N\",\"No\",\"\"))))","v":""},{"$f":"IF('Outil Recensement simplifié'!R30>0,'Outil Recensement simplifié'!R30,\"\")","v":""},{"$f":"IF('Outil Recensement simplifié'!S30=\"Annuelle\",\"Annually\",IF('Outil Recensement simplifié'!S30=\"Mensuelle\",\"Monthly\",IF('Outil Recensement simplifié'!S30=\"Aux deux semaines\",\"Biweekly\",IF('Outil Recensement simplifié'!S30=\"Bimensuelle\",\"Semi-Monthly\",IF('Outil Recensement simplifié'!S30=\"Hebdomadaire\",\"Weekly\",IF('Outil Recensement simplifié'!S30=\"Horaire\",\"Hourly\",\"\"))))))","v":""},{"$f":"IF('Outil Recensement simplifié'!T30>0,'Outil Recensement simplifié'!T30,\"\")","v":""},{"$f":"IF('Outil Recensement simplifié'!U30>0,'Outil Recensement simplifié'!U30,\"\")","v":""},{"$f":"IF('Outil Recensement simplifié'!V30=\"Exemptée\",\"Yes\",\"\")","v":""},{"$f":"IF('Outil Recensement simplifié'!W30=\"Exemptée\",\"Yes\",\"\")","v":""},{"$f":"IF('Outil Recensement simplifié'!X30>0,'Outil Recensement simplifié'!X30,\"\")","v":""},{"$f":"IF('Outil Recensement simplifié'!Y30>0,'Outil Recensement simplifié'!Y30,\"\")","v":""},{"$f":"IF('Outil Recensement simplifié'!Z30>0,'Outil Recensement simplifié'!Z30,\"\")","v":""},{"$f":"IF('Outil Recensement simplifié'!AA30>0,'Outil Recensement simplifié'!AA30,\"\")","v":""},{"$f":"IF('Outil Recensement simplifié'!AB30>0,'Outil Recensement simplifié'!AB30,\"\")","v":""},{"$f":"IF('Outil Recensement simplifié'!AC30>0,'Outil Recensement simplifié'!AC30,\"\")","v":" "},{"$f":"IF('Outil Recensement simplifié'!AE30>0,'Outil Recensement simplifié'!AE30&\" \",\"\")&IF('Outil Recensement simplifié'!AD30>0,'Outil Recensement simplifié'!AD30,\"\")","v":""},null,{"$f":"IF('Outil Recensement simplifié'!AF30>0,'Outil Recensement simplifié'!AF30,\"\")","v":""},{"$f":"IF('Outil Recensement simplifié'!AG30>0,'Outil Recensement simplifié'!AG30,\"\")","v":""},{"$f":"IF('Outil Recensement simplifié'!AH30>0,'Outil Recensement simplifié'!AH30,\"\")","v":""},{"$f":"IF('Outil Recensement simplifié'!AI30>0,'Outil Recensement simplifié'!AI30,\"\")","v":""},{"$f":"IF('Outil Recensement simplifié'!AJ30>0,'Outil Recensement simplifié'!AJ30,\"\")","v":""},{"$f":"IF('Outil Recensement simplifié'!AK30>0,'Outil Recensement simplifié'!AK30,\"\")","v":""},{"$f":"IF('Outil Recensement simplifié'!AL30>0,'Outil Recensement simplifié'!AL30,\"\")","v":""},{"$f":"IF('Outil Recensement simplifié'!AM30>0,'Outil Recensement simplifié'!AM30,\"\")","v":""},{"$f":"IF('Outil Recensement simplifié'!AN30=\"Homme\",\"Male\",IF('Outil Recensement simplifié'!AN30=\"Femme\",\"Female\",IF('Outil Recensement simplifié'!AN30=\"H\",\"Male\",IF('Outil Recensement simplifié'!AN30=\"F\",\"Female\",\"\"))))","v":""},{"$f":"IF('Outil Recensement simplifié'!AO30=\"Individuelle\",\"Single\",IF('Outil Recensement simplifié'!AO30=\"Famille\",\"Family\",IF('Outil Recensement simplifié'!AO30=\"Individuel\",\"Single\",IF('Outil Recensement simplifié'!AO30=\"Familiale\",\"Family\",IF('Outil Recensement simplifié'!AO30=\"I\",\"Single\",IF('Outil Recensement simplifié'!AO30=\"F\",\"Family\",\"\"))))))","v":""},{"$f":"IF('Outil Recensement simplifié'!AP30=\"Individuelle\",\"Single\",IF('Outil Recensement simplifié'!AP30=\"Famille\",\"Family\",IF('Outil Recensement simplifié'!AP30=\"Individuel\",\"Single\",IF('Outil Recensement simplifié'!AP30=\"Familiale\",\"Family\",IF('Outil Recensement simplifié'!AP30=\"I\",\"Single\",IF('Outil Recensement simplifié'!AP30=\"F\",\"Family\",\"\"))))))","v":""},{"$f":"IF('Outil Recensement simplifié'!AQ30>0,'Outil Recensement simplifié'!AQ30,\"\")","v":""},{"$f":"IF('Outil Recensement simplifié'!AR30=\"Oui\",\"Yes\",IF('Outil Recensement simplifié'!AR30=\"Non\",\"No\",IF('Outil Recensement simplifié'!AR30=\"O\",\"Yes\",IF('Outil Recensement simplifié'!AR30=\"N\",\"No\",\"\"))))","v":""},{"$f":"IF('Outil Recensement simplifié'!AS30>0,'Outil Recensement simplifié'!AS30,\"\")","v":""},{"$f":"IF('Outil Recensement simplifié'!AT30>0,'Outil Recensement simplifié'!AT30,\"\")","v":""},{"$f":"IF('Outil Recensement simplifié'!AU30>0,'Outil Recensement simplifié'!AU30,\"\")","v":""},{"$f":"IF('Outil Recensement simplifié'!AV30=\"Homme\",\"Male\",IF('Outil Recensement simplifié'!AV30=\"Femme\",\"Female\",IF('Outil Recensement simplifié'!AV30=\"H\",\"Male\",IF('Outil Recensement simplifié'!AV30=\"F\",\"Female\",\"\"))))","v":""},{"$f":"IF('Outil Recensement simplifié'!AW30=\"Oui\",\"Yes\",IF('Outil Recensement simplifié'!AW30=\"Non\",\"No\",IF('Outil Recensement simplifié'!AW30=\"O\",\"Yes\",IF('Outil Recensement simplifié'!AW30=\"N\",\"No\",\"\"))))","v":""},{"$f":"IF('Outil Recensement simplifié'!AX30=\"Oui\",\"Yes\",IF('Outil Recensement simplifié'!AX30=\"Non\",\"No\",IF('Outil Recensement simplifié'!AX30=\"O\",\"Yes\",IF('Outil Recensement simplifié'!AX30=\"N\",\"No\",\"\"))))","v":""},{"$f":"IF('Outil Recensement simplifié'!AY30>0,'Outil Recensement simplifié'!AY30,\"\")","v":""},{"$f":"IF('Outil Recensement simplifié'!AZ30>0,'Outil Recensement simplifié'!AZ30,\"\")","v":""},{"$f":"IF('Outil Recensement simplifié'!BA30>0,'Outil Recensement simplifié'!BA30,\"\")","v":""},{"$f":"IF('Outil Recensement simplifié'!BB30=\"Homme\",\"Male\",IF('Outil Recensement simplifié'!BB30=\"Femme\",\"Female\",IF('Outil Recensement simplifié'!BB30=\"H\",\"Male\",IF('Outil Recensement simplifié'!BB30=\"F\",\"Female\",\"\"))))","v":""},{"$f":"IF('Outil Recensement simplifié'!BC30=\"Oui\",\"Yes\",IF('Outil Recensement simplifié'!BC30=\"Non\",\"No\",IF('Outil Recensement simplifié'!BC30=\"O\",\"Yes\",IF('Outil Recensement simplifié'!BC30=\"N\",\"No\",\"\"))))","v":""},{"$f":"IF('Outil Recensement simplifié'!BD30=\"Oui\",\"Yes\",IF('Outil Recensement simplifié'!BD30=\"Non\",\"No\",IF('Outil Recensement simplifié'!BD30=\"O\",\"Yes\",IF('Outil Recensement simplifié'!BD30=\"N\",\"No\",\"\"))))","v":""},{"$f":"IF('Outil Recensement simplifié'!BE30>0,'Outil Recensement simplifié'!BE30,\"\")","v":""},{"$f":"IF('Outil Recensement simplifié'!BF30>0,'Outil Recensement simplifié'!BF30,\"\")","v":""},{"$f":"IF('Outil Recensement simplifié'!BG30>0,'Outil Recensement simplifié'!BG30,\"\")","v":""},{"$f":"IF('Outil Recensement simplifié'!BH30=\"Homme\",\"Male\",IF('Outil Recensement simplifié'!BH30=\"Femme\",\"Female\",IF('Outil Recensement simplifié'!BH30=\"H\",\"Male\",IF('Outil Recensement simplifié'!BH30=\"F\",\"Female\",\"\"))))","v":""},{"$f":"IF('Outil Recensement simplifié'!BI30=\"Oui\",\"Yes\",IF('Outil Recensement simplifié'!BI30=\"Non\",\"No\",IF('Outil Recensement simplifié'!BI30=\"O\",\"Yes\",IF('Outil Recensement simplifié'!BI30=\"N\",\"No\",\"\"))))","v":""},{"$f":"IF('Outil Recensement simplifié'!BJ30=\"Oui\",\"Yes\",IF('Outil Recensement simplifié'!BJ30=\"Non\",\"No\",IF('Outil Recensement simplifié'!BJ30=\"O\",\"Yes\",IF('Outil Recensement simplifié'!BJ30=\"N\",\"No\",\"\"))))","v":""},{"$f":"IF('Outil Recensement simplifié'!BK30>0,'Outil Recensement simplifié'!BK30,\"\")","v":""},{"$f":"IF('Outil Recensement simplifié'!BL30>0,'Outil Recensement simplifié'!BL30,\"\")","v":""},{"$f":"IF('Outil Recensement simplifié'!BM30>0,'Outil Recensement simplifié'!BM30,\"\")","v":""},{"$f":"IF('Outil Recensement simplifié'!BN30=\"Homme\",\"Male\",IF('Outil Recensement simplifié'!BN30=\"Femme\",\"Female\",IF('Outil Recensement simplifié'!BN30=\"H\",\"Male\",IF('Outil Recensement simplifié'!BN30=\"F\",\"Female\",\"\"))))","v":""},{"$f":"IF('Outil Recensement simplifié'!BO30=\"Oui\",\"Yes\",IF('Outil Recensement simplifié'!BO30=\"Non\",\"No\",IF('Outil Recensement simplifié'!BO30=\"O\",\"Yes\",IF('Outil Recensement simplifié'!BO30=\"N\",\"No\",\"\"))))","v":""},{"$f":"IF('Outil Recensement simplifié'!BP30=\"Oui\",\"Yes\",IF('Outil Recensement simplifié'!BP30=\"Non\",\"No\",IF('Outil Recensement simplifié'!BP30=\"O\",\"Yes\",IF('Outil Recensement simplifié'!BP30=\"N\",\"No\",\"\"))))","v":""},{"$f":"IF('Outil Recensement simplifié'!BQ30>0,'Outil Recensement simplifié'!BQ30,\"\")","v":""},{"$f":"IF('Outil Recensement simplifié'!BR30>0,'Outil Recensement simplifié'!BR30,\"\")","v":""},{"$f":"IF('Outil Recensement simplifié'!BS30>0,'Outil Recensement simplifié'!BS30,\"\")","v":""},{"$f":"IF('Outil Recensement simplifié'!BT30=\"Homme\",\"Male\",IF('Outil Recensement simplifié'!BT30=\"Femme\",\"Female\",IF('Outil Recensement simplifié'!BT30=\"H\",\"Male\",IF('Outil Recensement simplifié'!BT30=\"F\",\"Female\",\"\"))))","v":""},{"$f":"IF('Outil Recensement simplifié'!BU30=\"Oui\",\"Yes\",IF('Outil Recensement simplifié'!BU30=\"Non\",\"No\",IF('Outil Recensement simplifié'!BU30=\"O\",\"Yes\",IF('Outil Recensement simplifié'!BU30=\"N\",\"No\",\"\"))))","v":""},{"$f":"IF('Outil Recensement simplifié'!BV30=\"Oui\",\"Yes\",IF('Outil Recensement simplifié'!BV30=\"Non\",\"No\",IF('Outil Recensement simplifié'!BV30=\"O\",\"Yes\",IF('Outil Recensement simplifié'!BV30=\"N\",\"No\",\"\"))))","v":""},{"$f":"IF('Outil Recensement simplifié'!BW30>0,'Outil Recensement simplifié'!BW30,\"\")","v":""},{"$f":"IF('Outil Recensement simplifié'!BX30>0,'Outil Recensement simplifié'!BX30,\"\")","v":""},{"$f":"IF('Outil Recensement simplifié'!BY30>0,'Outil Recensement simplifié'!BY30,\"\")","v":""},{"$f":"IF('Outil Recensement simplifié'!BZ30=\"Homme\",\"Male\",IF('Outil Recensement simplifié'!BZ30=\"Femme\",\"Female\",IF('Outil Recensement simplifié'!BZ30=\"H\",\"Male\",IF('Outil Recensement simplifié'!BZ30=\"F\",\"Female\",\"\"))))","v":""},{"$f":"IF('Outil Recensement simplifié'!CA30=\"Oui\",\"Yes\",IF('Outil Recensement simplifié'!CA30=\"Non\",\"No\",IF('Outil Recensement simplifié'!CA30=\"O\",\"Yes\",IF('Outil Recensement simplifié'!CA30=\"N\",\"No\",\"\"))))","v":""},{"$f":"IF('Outil Recensement simplifié'!CB30=\"Oui\",\"Yes\",IF('Outil Recensement simplifié'!CB30=\"Non\",\"No\",IF('Outil Recensement simplifié'!CB30=\"O\",\"Yes\",IF('Outil Recensement simplifié'!CB30=\"N\",\"No\",\"\"))))","v":""},{"$f":"IF('Outil Recensement simplifié'!CH30>0,'Outil Recensement simplifié'!CH30,\"\")","v":"    "}]
[{"$f":"IF('Outil Recensement simplifié'!A31>0,'Outil Recensement simplifié'!A31,\"\")","v":""},{"$f":"IF('Outil Recensement simplifié'!B31>0,'Outil Recensement simplifié'!B31,\"\")","v":""},{"$f":"IF('Outil Recensement simplifié'!C31>0,'Outil Recensement simplifié'!C31,\"\")","v":""},{"$f":"IF('Outil Recensement simplifié'!D31>0,'Outil Recensement simplifié'!D31,\"\")","v":""},{"$f":"IF('Outil Recensement simplifié'!E31>0,TEXT('Outil Recensement simplifié'!E31,\"000\"),\"\")","v":""},{"$f":"IF('Outil Recensement simplifié'!F31>0,'Outil Recensement simplifié'!F31,\"\")","v":""},{"$f":"IF('Outil Recensement simplifié'!G31>0,'Outil Recensement simplifié'!G31,\"\")","v":""},{"$f":"IF('Outil Recensement simplifié'!I31>0,'Outil Recensement simplifié'!I31,\"\")","v":""},{"$f":"IF('Outil Recensement simplifié'!J31>0,'Outil Recensement simplifié'!J31,\"\")","v":""},{"$f":"IF('Outil Recensement simplifié'!K31>0,'Outil Recensement simplifié'!K31,\"\")","v":""},{"$f":"IF('Outil Recensement simplifié'!L31>0,'Outil Recensement simplifié'!L31,\"\")","v":""},{"$f":"IF('Outil Recensement simplifié'!M31=\"Homme\",\"Male\",IF('Outil Recensement simplifié'!M31=\"Femme\",\"Female\",IF('Outil Recensement simplifié'!M31=\"H\",\"Male\",IF('Outil Recensement simplifié'!M31=\"F\",\"Female\",\"\"))))","v":""},{"$f":"IF('Outil Recensement simplifié'!N31=\"Oui\",\"Yes\",IF('Outil Recensement simplifié'!N31=\"Non\",\"No\",IF('Outil Recensement simplifié'!N31=\"O\",\"Yes\",IF('Outil Recensement simplifié'!N31=\"N\",\"No\",\"\"))))","v":""},{"$f":"IF('Outil Recensement simplifié'!O31=\"Non\",\"Single\",IF('Outil Recensement simplifié'!O31=\"Oui\",\"Family\",IF('Outil Recensement simplifié'!O31=\"N\",\"Single\",IF('Outil Recensement simplifié'!O31=\"O\",\"Family\",IF('Outil Recensement simplifié'!O31=\"En vigueur\",\"Family\",\"\")))))","v":""},{"$f":"IF('Outil Recensement simplifié'!P31=\"Anglais\",\"English\",IF('Outil Recensement simplifié'!P31=\"Français\",\"French\",IF('Outil Recensement simplifié'!P31=\"A\",\"English\",IF('Outil Recensement simplifié'!P31=\"F\",\"French\",\"\"))))","v":""},{"$f":"IF('Outil Recensement simplifié'!Q31=\"Oui\",\"Yes\",IF('Outil Recensement simplifié'!Q31=\"Non\",\"No\",IF('Outil Recensement simplifié'!Q31=\"O\",\"Yes\",IF('Outil Recensement simplifié'!Q31=\"N\",\"No\",\"\"))))","v":""},{"$f":"IF('Outil Recensement simplifié'!R31>0,'Outil Recensement simplifié'!R31,\"\")","v":""},{"$f":"IF('Outil Recensement simplifié'!S31=\"Annuelle\",\"Annually\",IF('Outil Recensement simplifié'!S31=\"Mensuelle\",\"Monthly\",IF('Outil Recensement simplifié'!S31=\"Aux deux semaines\",\"Biweekly\",IF('Outil Recensement simplifié'!S31=\"Bimensuelle\",\"Semi-Monthly\",IF('Outil Recensement simplifié'!S31=\"Hebdomadaire\",\"Weekly\",IF('Outil Recensement simplifié'!S31=\"Horaire\",\"Hourly\",\"\"))))))","v":""},{"$f":"IF('Outil Recensement simplifié'!T31>0,'Outil Recensement simplifié'!T31,\"\")","v":""},{"$f":"IF('Outil Recensement simplifié'!U31>0,'Outil Recensement simplifié'!U31,\"\")","v":""},{"$f":"IF('Outil Recensement simplifié'!V31=\"Exemptée\",\"Yes\",\"\")","v":""},{"$f":"IF('Outil Recensement simplifié'!W31=\"Exemptée\",\"Yes\",\"\")","v":""},{"$f":"IF('Outil Recensement simplifié'!X31>0,'Outil Recensement simplifié'!X31,\"\")","v":""},{"$f":"IF('Outil Recensement simplifié'!Y31>0,'Outil Recensement simplifié'!Y31,\"\")","v":""},{"$f":"IF('Outil Recensement simplifié'!Z31>0,'Outil Recensement simplifié'!Z31,\"\")","v":""},{"$f":"IF('Outil Recensement simplifié'!AA31>0,'Outil Recensement simplifié'!AA31,\"\")","v":""},{"$f":"IF('Outil Recensement simplifié'!AB31>0,'Outil Recensement simplifié'!AB31,\"\")","v":""},{"$f":"IF('Outil Recensement simplifié'!AC31>0,'Outil Recensement simplifié'!AC31,\"\")","v":" "},{"$f":"IF('Outil Recensement simplifié'!AE31>0,'Outil Recensement simplifié'!AE31&\" \",\"\")&IF('Outil Recensement simplifié'!AD31>0,'Outil Recensement simplifié'!AD31,\"\")","v":""},null,{"$f":"IF('Outil Recensement simplifié'!AF31>0,'Outil Recensement simplifié'!AF31,\"\")","v":""},{"$f":"IF('Outil Recensement simplifié'!AG31>0,'Outil Recensement simplifié'!AG31,\"\")","v":""},{"$f":"IF('Outil Recensement simplifié'!AH31>0,'Outil Recensement simplifié'!AH31,\"\")","v":""},{"$f":"IF('Outil Recensement simplifié'!AI31>0,'Outil Recensement simplifié'!AI31,\"\")","v":""},{"$f":"IF('Outil Recensement simplifié'!AJ31>0,'Outil Recensement simplifié'!AJ31,\"\")","v":""},{"$f":"IF('Outil Recensement simplifié'!AK31>0,'Outil Recensement simplifié'!AK31,\"\")","v":""},{"$f":"IF('Outil Recensement simplifié'!AL31>0,'Outil Recensement simplifié'!AL31,\"\")","v":""},{"$f":"IF('Outil Recensement simplifié'!AM31>0,'Outil Recensement simplifié'!AM31,\"\")","v":""},{"$f":"IF('Outil Recensement simplifié'!AN31=\"Homme\",\"Male\",IF('Outil Recensement simplifié'!AN31=\"Femme\",\"Female\",IF('Outil Recensement simplifié'!AN31=\"H\",\"Male\",IF('Outil Recensement simplifié'!AN31=\"F\",\"Female\",\"\"))))","v":""},{"$f":"IF('Outil Recensement simplifié'!AO31=\"Individuelle\",\"Single\",IF('Outil Recensement simplifié'!AO31=\"Famille\",\"Family\",IF('Outil Recensement simplifié'!AO31=\"Individuel\",\"Single\",IF('Outil Recensement simplifié'!AO31=\"Familiale\",\"Family\",IF('Outil Recensement simplifié'!AO31=\"I\",\"Single\",IF('Outil Recensement simplifié'!AO31=\"F\",\"Family\",\"\"))))))","v":""},{"$f":"IF('Outil Recensement simplifié'!AP31=\"Individuelle\",\"Single\",IF('Outil Recensement simplifié'!AP31=\"Famille\",\"Family\",IF('Outil Recensement simplifié'!AP31=\"Individuel\",\"Single\",IF('Outil Recensement simplifié'!AP31=\"Familiale\",\"Family\",IF('Outil Recensement simplifié'!AP31=\"I\",\"Single\",IF('Outil Recensement simplifié'!AP31=\"F\",\"Family\",\"\"))))))","v":""},{"$f":"IF('Outil Recensement simplifié'!AQ31>0,'Outil Recensement simplifié'!AQ31,\"\")","v":""},{"$f":"IF('Outil Recensement simplifié'!AR31=\"Oui\",\"Yes\",IF('Outil Recensement simplifié'!AR31=\"Non\",\"No\",IF('Outil Recensement simplifié'!AR31=\"O\",\"Yes\",IF('Outil Recensement simplifié'!AR31=\"N\",\"No\",\"\"))))","v":""},{"$f":"IF('Outil Recensement simplifié'!AS31>0,'Outil Recensement simplifié'!AS31,\"\")","v":""},{"$f":"IF('Outil Recensement simplifié'!AT31>0,'Outil Recensement simplifié'!AT31,\"\")","v":""},{"$f":"IF('Outil Recensement simplifié'!AU31>0,'Outil Recensement simplifié'!AU31,\"\")","v":""},{"$f":"IF('Outil Recensement simplifié'!AV31=\"Homme\",\"Male\",IF('Outil Recensement simplifié'!AV31=\"Femme\",\"Female\",IF('Outil Recensement simplifié'!AV31=\"H\",\"Male\",IF('Outil Recensement simplifié'!AV31=\"F\",\"Female\",\"\"))))","v":""},{"$f":"IF('Outil Recensement simplifié'!AW31=\"Oui\",\"Yes\",IF('Outil Recensement simplifié'!AW31=\"Non\",\"No\",IF('Outil Recensement simplifié'!AW31=\"O\",\"Yes\",IF('Outil Recensement simplifié'!AW31=\"N\",\"No\",\"\"))))","v":""},{"$f":"IF('Outil Recensement simplifié'!AX31=\"Oui\",\"Yes\",IF('Outil Recensement simplifié'!AX31=\"Non\",\"No\",IF('Outil Recensement simplifié'!AX31=\"O\",\"Yes\",IF('Outil Recensement simplifié'!AX31=\"N\",\"No\",\"\"))))","v":""},{"$f":"IF('Outil Recensement simplifié'!AY31>0,'Outil Recensement simplifié'!AY31,\"\")","v":""},{"$f":"IF('Outil Recensement simplifié'!AZ31>0,'Outil Recensement simplifié'!AZ31,\"\")","v":""},{"$f":"IF('Outil Recensement simplifié'!BA31>0,'Outil Recensement simplifié'!BA31,\"\")","v":""},{"$f":"IF('Outil Recensement simplifié'!BB31=\"Homme\",\"Male\",IF('Outil Recensement simplifié'!BB31=\"Femme\",\"Female\",IF('Outil Recensement simplifié'!BB31=\"H\",\"Male\",IF('Outil Recensement simplifié'!BB31=\"F\",\"Female\",\"\"))))","v":""},{"$f":"IF('Outil Recensement simplifié'!BC31=\"Oui\",\"Yes\",IF('Outil Recensement simplifié'!BC31=\"Non\",\"No\",IF('Outil Recensement simplifié'!BC31=\"O\",\"Yes\",IF('Outil Recensement simplifié'!BC31=\"N\",\"No\",\"\"))))","v":""},{"$f":"IF('Outil Recensement simplifié'!BD31=\"Oui\",\"Yes\",IF('Outil Recensement simplifié'!BD31=\"Non\",\"No\",IF('Outil Recensement simplifié'!BD31=\"O\",\"Yes\",IF('Outil Recensement simplifié'!BD31=\"N\",\"No\",\"\"))))","v":""},{"$f":"IF('Outil Recensement simplifié'!BE31>0,'Outil Recensement simplifié'!BE31,\"\")","v":""},{"$f":"IF('Outil Recensement simplifié'!BF31>0,'Outil Recensement simplifié'!BF31,\"\")","v":""},{"$f":"IF('Outil Recensement simplifié'!BG31>0,'Outil Recensement simplifié'!BG31,\"\")","v":""},{"$f":"IF('Outil Recensement simplifié'!BH31=\"Homme\",\"Male\",IF('Outil Recensement simplifié'!BH31=\"Femme\",\"Female\",IF('Outil Recensement simplifié'!BH31=\"H\",\"Male\",IF('Outil Recensement simplifié'!BH31=\"F\",\"Female\",\"\"))))","v":""},{"$f":"IF('Outil Recensement simplifié'!BI31=\"Oui\",\"Yes\",IF('Outil Recensement simplifié'!BI31=\"Non\",\"No\",IF('Outil Recensement simplifié'!BI31=\"O\",\"Yes\",IF('Outil Recensement simplifié'!BI31=\"N\",\"No\",\"\"))))","v":""},{"$f":"IF('Outil Recensement simplifié'!BJ31=\"Oui\",\"Yes\",IF('Outil Recensement simplifié'!BJ31=\"Non\",\"No\",IF('Outil Recensement simplifié'!BJ31=\"O\",\"Yes\",IF('Outil Recensement simplifié'!BJ31=\"N\",\"No\",\"\"))))","v":""},{"$f":"IF('Outil Recensement simplifié'!BK31>0,'Outil Recensement simplifié'!BK31,\"\")","v":""},{"$f":"IF('Outil Recensement simplifié'!BL31>0,'Outil Recensement simplifié'!BL31,\"\")","v":""},{"$f":"IF('Outil Recensement simplifié'!BM31>0,'Outil Recensement simplifié'!BM31,\"\")","v":""},{"$f":"IF('Outil Recensement simplifié'!BN31=\"Homme\",\"Male\",IF('Outil Recensement simplifié'!BN31=\"Femme\",\"Female\",IF('Outil Recensement simplifié'!BN31=\"H\",\"Male\",IF('Outil Recensement simplifié'!BN31=\"F\",\"Female\",\"\"))))","v":""},{"$f":"IF('Outil Recensement simplifié'!BO31=\"Oui\",\"Yes\",IF('Outil Recensement simplifié'!BO31=\"Non\",\"No\",IF('Outil Recensement simplifié'!BO31=\"O\",\"Yes\",IF('Outil Recensement simplifié'!BO31=\"N\",\"No\",\"\"))))","v":""},{"$f":"IF('Outil Recensement simplifié'!BP31=\"Oui\",\"Yes\",IF('Outil Recensement simplifié'!BP31=\"Non\",\"No\",IF('Outil Recensement simplifié'!BP31=\"O\",\"Yes\",IF('Outil Recensement simplifié'!BP31=\"N\",\"No\",\"\"))))","v":""},{"$f":"IF('Outil Recensement simplifié'!BQ31>0,'Outil Recensement simplifié'!BQ31,\"\")","v":""},{"$f":"IF('Outil Recensement simplifié'!BR31>0,'Outil Recensement simplifié'!BR31,\"\")","v":""},{"$f":"IF('Outil Recensement simplifié'!BS31>0,'Outil Recensement simplifié'!BS31,\"\")","v":""},{"$f":"IF('Outil Recensement simplifié'!BT31=\"Homme\",\"Male\",IF('Outil Recensement simplifié'!BT31=\"Femme\",\"Female\",IF('Outil Recensement simplifié'!BT31=\"H\",\"Male\",IF('Outil Recensement simplifié'!BT31=\"F\",\"Female\",\"\"))))","v":""},{"$f":"IF('Outil Recensement simplifié'!BU31=\"Oui\",\"Yes\",IF('Outil Recensement simplifié'!BU31=\"Non\",\"No\",IF('Outil Recensement simplifié'!BU31=\"O\",\"Yes\",IF('Outil Recensement simplifié'!BU31=\"N\",\"No\",\"\"))))","v":""},{"$f":"IF('Outil Recensement simplifié'!BV31=\"Oui\",\"Yes\",IF('Outil Recensement simplifié'!BV31=\"Non\",\"No\",IF('Outil Recensement simplifié'!BV31=\"O\",\"Yes\",IF('Outil Recensement simplifié'!BV31=\"N\",\"No\",\"\"))))","v":""},{"$f":"IF('Outil Recensement simplifié'!BW31>0,'Outil Recensement simplifié'!BW31,\"\")","v":""},{"$f":"IF('Outil Recensement simplifié'!BX31>0,'Outil Recensement simplifié'!BX31,\"\")","v":""},{"$f":"IF('Outil Recensement simplifié'!BY31>0,'Outil Recensement simplifié'!BY31,\"\")","v":""},{"$f":"IF('Outil Recensement simplifié'!BZ31=\"Homme\",\"Male\",IF('Outil Recensement simplifié'!BZ31=\"Femme\",\"Female\",IF('Outil Recensement simplifié'!BZ31=\"H\",\"Male\",IF('Outil Recensement simplifié'!BZ31=\"F\",\"Female\",\"\"))))","v":""},{"$f":"IF('Outil Recensement simplifié'!CA31=\"Oui\",\"Yes\",IF('Outil Recensement simplifié'!CA31=\"Non\",\"No\",IF('Outil Recensement simplifié'!CA31=\"O\",\"Yes\",IF('Outil Recensement simplifié'!CA31=\"N\",\"No\",\"\"))))","v":""},{"$f":"IF('Outil Recensement simplifié'!CB31=\"Oui\",\"Yes\",IF('Outil Recensement simplifié'!CB31=\"Non\",\"No\",IF('Outil Recensement simplifié'!CB31=\"O\",\"Yes\",IF('Outil Recensement simplifié'!CB31=\"N\",\"No\",\"\"))))","v":""},{"$f":"IF('Outil Recensement simplifié'!CH31>0,'Outil Recensement simplifié'!CH31,\"\")","v":"    "}]
[{"$f":"IF('Outil Recensement simplifié'!A32>0,'Outil Recensement simplifié'!A32,\"\")","v":""},{"$f":"IF('Outil Recensement simplifié'!B32>0,'Outil Recensement simplifié'!B32,\"\")","v":""},{"$f":"IF('Outil Recensement simplifié'!C32>0,'Outil Recensement simplifié'!C32,\"\")","v":""},{"$f":"IF('Outil Recensement simplifié'!D32>0,'Outil Recensement simplifié'!D32,\"\")","v":""},{"$f":"IF('Outil Recensement simplifié'!E32>0,TEXT('Outil Recensement simplifié'!E32,\"000\"),\"\")","v":""},{"$f":"IF('Outil Recensement simplifié'!F32>0,'Outil Recensement simplifié'!F32,\"\")","v":""},{"$f":"IF('Outil Recensement simplifié'!G32>0,'Outil Recensement simplifié'!G32,\"\")","v":""},{"$f":"IF('Outil Recensement simplifié'!I32>0,'Outil Recensement simplifié'!I32,\"\")","v":""},{"$f":"IF('Outil Recensement simplifié'!J32>0,'Outil Recensement simplifié'!J32,\"\")","v":""},{"$f":"IF('Outil Recensement simplifié'!K32>0,'Outil Recensement simplifié'!K32,\"\")","v":""},{"$f":"IF('Outil Recensement simplifié'!L32>0,'Outil Recensement simplifié'!L32,\"\")","v":""},{"$f":"IF('Outil Recensement simplifié'!M32=\"Homme\",\"Male\",IF('Outil Recensement simplifié'!M32=\"Femme\",\"Female\",IF('Outil Recensement simplifié'!M32=\"H\",\"Male\",IF('Outil Recensement simplifié'!M32=\"F\",\"Female\",\"\"))))","v":""},{"$f":"IF('Outil Recensement simplifié'!N32=\"Oui\",\"Yes\",IF('Outil Recensement simplifié'!N32=\"Non\",\"No\",IF('Outil Recensement simplifié'!N32=\"O\",\"Yes\",IF('Outil Recensement simplifié'!N32=\"N\",\"No\",\"\"))))","v":""},{"$f":"IF('Outil Recensement simplifié'!O32=\"Non\",\"Single\",IF('Outil Recensement simplifié'!O32=\"Oui\",\"Family\",IF('Outil Recensement simplifié'!O32=\"N\",\"Single\",IF('Outil Recensement simplifié'!O32=\"O\",\"Family\",IF('Outil Recensement simplifié'!O32=\"En vigueur\",\"Family\",\"\")))))","v":""},{"$f":"IF('Outil Recensement simplifié'!P32=\"Anglais\",\"English\",IF('Outil Recensement simplifié'!P32=\"Français\",\"French\",IF('Outil Recensement simplifié'!P32=\"A\",\"English\",IF('Outil Recensement simplifié'!P32=\"F\",\"French\",\"\"))))","v":""},{"$f":"IF('Outil Recensement simplifié'!Q32=\"Oui\",\"Yes\",IF('Outil Recensement simplifié'!Q32=\"Non\",\"No\",IF('Outil Recensement simplifié'!Q32=\"O\",\"Yes\",IF('Outil Recensement simplifié'!Q32=\"N\",\"No\",\"\"))))","v":""},{"$f":"IF('Outil Recensement simplifié'!R32>0,'Outil Recensement simplifié'!R32,\"\")","v":""},{"$f":"IF('Outil Recensement simplifié'!S32=\"Annuelle\",\"Annually\",IF('Outil Recensement simplifié'!S32=\"Mensuelle\",\"Monthly\",IF('Outil Recensement simplifié'!S32=\"Aux deux semaines\",\"Biweekly\",IF('Outil Recensement simplifié'!S32=\"Bimensuelle\",\"Semi-Monthly\",IF('Outil Recensement simplifié'!S32=\"Hebdomadaire\",\"Weekly\",IF('Outil Recensement simplifié'!S32=\"Horaire\",\"Hourly\",\"\"))))))","v":""},{"$f":"IF('Outil Recensement simplifié'!T32>0,'Outil Recensement simplifié'!T32,\"\")","v":""},{"$f":"IF('Outil Recensement simplifié'!U32>0,'Outil Recensement simplifié'!U32,\"\")","v":""},{"$f":"IF('Outil Recensement simplifié'!V32=\"Exemptée\",\"Yes\",\"\")","v":""},{"$f":"IF('Outil Recensement simplifié'!W32=\"Exemptée\",\"Yes\",\"\")","v":""},{"$f":"IF('Outil Recensement simplifié'!X32>0,'Outil Recensement simplifié'!X32,\"\")","v":""},{"$f":"IF('Outil Recensement simplifié'!Y32>0,'Outil Recensement simplifié'!Y32,\"\")","v":""},{"$f":"IF('Outil Recensement simplifié'!Z32>0,'Outil Recensement simplifié'!Z32,\"\")","v":""},{"$f":"IF('Outil Recensement simplifié'!AA32>0,'Outil Recensement simplifié'!AA32,\"\")","v":""},{"$f":"IF('Outil Recensement simplifié'!AB32>0,'Outil Recensement simplifié'!AB32,\"\")","v":""},{"$f":"IF('Outil Recensement simplifié'!AC32>0,'Outil Recensement simplifié'!AC32,\"\")","v":" "},{"$f":"IF('Outil Recensement simplifié'!AE32>0,'Outil Recensement simplifié'!AE32&\" \",\"\")&IF('Outil Recensement simplifié'!AD32>0,'Outil Recensement simplifié'!AD32,\"\")","v":""},null,{"$f":"IF('Outil Recensement simplifié'!AF32>0,'Outil Recensement simplifié'!AF32,\"\")","v":""},{"$f":"IF('Outil Recensement simplifié'!AG32>0,'Outil Recensement simplifié'!AG32,\"\")","v":""},{"$f":"IF('Outil Recensement simplifié'!AH32>0,'Outil Recensement simplifié'!AH32,\"\")","v":""},{"$f":"IF('Outil Recensement simplifié'!AI32>0,'Outil Recensement simplifié'!AI32,\"\")","v":""},{"$f":"IF('Outil Recensement simplifié'!AJ32>0,'Outil Recensement simplifié'!AJ32,\"\")","v":""},{"$f":"IF('Outil Recensement simplifié'!AK32>0,'Outil Recensement simplifié'!AK32,\"\")","v":""},{"$f":"IF('Outil Recensement simplifié'!AL32>0,'Outil Recensement simplifié'!AL32,\"\")","v":""},{"$f":"IF('Outil Recensement simplifié'!AM32>0,'Outil Recensement simplifié'!AM32,\"\")","v":""},{"$f":"IF('Outil Recensement simplifié'!AN32=\"Homme\",\"Male\",IF('Outil Recensement simplifié'!AN32=\"Femme\",\"Female\",IF('Outil Recensement simplifié'!AN32=\"H\",\"Male\",IF('Outil Recensement simplifié'!AN32=\"F\",\"Female\",\"\"))))","v":""},{"$f":"IF('Outil Recensement simplifié'!AO32=\"Individuelle\",\"Single\",IF('Outil Recensement simplifié'!AO32=\"Famille\",\"Family\",IF('Outil Recensement simplifié'!AO32=\"Individuel\",\"Single\",IF('Outil Recensement simplifié'!AO32=\"Familiale\",\"Family\",IF('Outil Recensement simplifié'!AO32=\"I\",\"Single\",IF('Outil Recensement simplifié'!AO32=\"F\",\"Family\",\"\"))))))","v":""},{"$f":"IF('Outil Recensement simplifié'!AP32=\"Individuelle\",\"Single\",IF('Outil Recensement simplifié'!AP32=\"Famille\",\"Family\",IF('Outil Recensement simplifié'!AP32=\"Individuel\",\"Single\",IF('Outil Recensement simplifié'!AP32=\"Familiale\",\"Family\",IF('Outil Recensement simplifié'!AP32=\"I\",\"Single\",IF('Outil Recensement simplifié'!AP32=\"F\",\"Family\",\"\"))))))","v":""},{"$f":"IF('Outil Recensement simplifié'!AQ32>0,'Outil Recensement simplifié'!AQ32,\"\")","v":""},{"$f":"IF('Outil Recensement simplifié'!AR32=\"Oui\",\"Yes\",IF('Outil Recensement simplifié'!AR32=\"Non\",\"No\",IF('Outil Recensement simplifié'!AR32=\"O\",\"Yes\",IF('Outil Recensement simplifié'!AR32=\"N\",\"No\",\"\"))))","v":""},{"$f":"IF('Outil Recensement simplifié'!AS32>0,'Outil Recensement simplifié'!AS32,\"\")","v":""},{"$f":"IF('Outil Recensement simplifié'!AT32>0,'Outil Recensement simplifié'!AT32,\"\")","v":""},{"$f":"IF('Outil Recensement simplifié'!AU32>0,'Outil Recensement simplifié'!AU32,\"\")","v":""},{"$f":"IF('Outil Recensement simplifié'!AV32=\"Homme\",\"Male\",IF('Outil Recensement simplifié'!AV32=\"Femme\",\"Female\",IF('Outil Recensement simplifié'!AV32=\"H\",\"Male\",IF('Outil Recensement simplifié'!AV32=\"F\",\"Female\",\"\"))))","v":""},{"$f":"IF('Outil Recensement simplifié'!AW32=\"Oui\",\"Yes\",IF('Outil Recensement simplifié'!AW32=\"Non\",\"No\",IF('Outil Recensement simplifié'!AW32=\"O\",\"Yes\",IF('Outil Recensement simplifié'!AW32=\"N\",\"No\",\"\"))))","v":""},{"$f":"IF('Outil Recensement simplifié'!AX32=\"Oui\",\"Yes\",IF('Outil Recensement simplifié'!AX32=\"Non\",\"No\",IF('Outil Recensement simplifié'!AX32=\"O\",\"Yes\",IF('Outil Recensement simplifié'!AX32=\"N\",\"No\",\"\"))))","v":""},{"$f":"IF('Outil Recensement simplifié'!AY32>0,'Outil Recensement simplifié'!AY32,\"\")","v":""},{"$f":"IF('Outil Recensement simplifié'!AZ32>0,'Outil Recensement simplifié'!AZ32,\"\")","v":""},{"$f":"IF('Outil Recensement simplifié'!BA32>0,'Outil Recensement simplifié'!BA32,\"\")","v":""},{"$f":"IF('Outil Recensement simplifié'!BB32=\"Homme\",\"Male\",IF('Outil Recensement simplifié'!BB32=\"Femme\",\"Female\",IF('Outil Recensement simplifié'!BB32=\"H\",\"Male\",IF('Outil Recensement simplifié'!BB32=\"F\",\"Female\",\"\"))))","v":""},{"$f":"IF('Outil Recensement simplifié'!BC32=\"Oui\",\"Yes\",IF('Outil Recensement simplifié'!BC32=\"Non\",\"No\",IF('Outil Recensement simplifié'!BC32=\"O\",\"Yes\",IF('Outil Recensement simplifié'!BC32=\"N\",\"No\",\"\"))))","v":""},{"$f":"IF('Outil Recensement simplifié'!BD32=\"Oui\",\"Yes\",IF('Outil Recensement simplifié'!BD32=\"Non\",\"No\",IF('Outil Recensement simplifié'!BD32=\"O\",\"Yes\",IF('Outil Recensement simplifié'!BD32=\"N\",\"No\",\"\"))))","v":""},{"$f":"IF('Outil Recensement simplifié'!BE32>0,'Outil Recensement simplifié'!BE32,\"\")","v":""},{"$f":"IF('Outil Recensement simplifié'!BF32>0,'Outil Recensement simplifié'!BF32,\"\")","v":""},{"$f":"IF('Outil Recensement simplifié'!BG32>0,'Outil Recensement simplifié'!BG32,\"\")","v":""},{"$f":"IF('Outil Recensement simplifié'!BH32=\"Homme\",\"Male\",IF('Outil Recensement simplifié'!BH32=\"Femme\",\"Female\",IF('Outil Recensement simplifié'!BH32=\"H\",\"Male\",IF('Outil Recensement simplifié'!BH32=\"F\",\"Female\",\"\"))))","v":""},{"$f":"IF('Outil Recensement simplifié'!BI32=\"Oui\",\"Yes\",IF('Outil Recensement simplifié'!BI32=\"Non\",\"No\",IF('Outil Recensement simplifié'!BI32=\"O\",\"Yes\",IF('Outil Recensement simplifié'!BI32=\"N\",\"No\",\"\"))))","v":""},{"$f":"IF('Outil Recensement simplifié'!BJ32=\"Oui\",\"Yes\",IF('Outil Recensement simplifié'!BJ32=\"Non\",\"No\",IF('Outil Recensement simplifié'!BJ32=\"O\",\"Yes\",IF('Outil Recensement simplifié'!BJ32=\"N\",\"No\",\"\"))))","v":""},{"$f":"IF('Outil Recensement simplifié'!BK32>0,'Outil Recensement simplifié'!BK32,\"\")","v":""},{"$f":"IF('Outil Recensement simplifié'!BL32>0,'Outil Recensement simplifié'!BL32,\"\")","v":""},{"$f":"IF('Outil Recensement simplifié'!BM32>0,'Outil Recensement simplifié'!BM32,\"\")","v":""},{"$f":"IF('Outil Recensement simplifié'!BN32=\"Homme\",\"Male\",IF('Outil Recensement simplifié'!BN32=\"Femme\",\"Female\",IF('Outil Recensement simplifié'!BN32=\"H\",\"Male\",IF('Outil Recensement simplifié'!BN32=\"F\",\"Female\",\"\"))))","v":""},{"$f":"IF('Outil Recensement simplifié'!BO32=\"Oui\",\"Yes\",IF('Outil Recensement simplifié'!BO32=\"Non\",\"No\",IF('Outil Recensement simplifié'!BO32=\"O\",\"Yes\",IF('Outil Recensement simplifié'!BO32=\"N\",\"No\",\"\"))))","v":""},{"$f":"IF('Outil Recensement simplifié'!BP32=\"Oui\",\"Yes\",IF('Outil Recensement simplifié'!BP32=\"Non\",\"No\",IF('Outil Recensement simplifié'!BP32=\"O\",\"Yes\",IF('Outil Recensement simplifié'!BP32=\"N\",\"No\",\"\"))))","v":""},{"$f":"IF('Outil Recensement simplifié'!BQ32>0,'Outil Recensement simplifié'!BQ32,\"\")","v":""},{"$f":"IF('Outil Recensement simplifié'!BR32>0,'Outil Recensement simplifié'!BR32,\"\")","v":""},{"$f":"IF('Outil Recensement simplifié'!BS32>0,'Outil Recensement simplifié'!BS32,\"\")","v":""},{"$f":"IF('Outil Recensement simplifié'!BT32=\"Homme\",\"Male\",IF('Outil Recensement simplifié'!BT32=\"Femme\",\"Female\",IF('Outil Recensement simplifié'!BT32=\"H\",\"Male\",IF('Outil Recensement simplifié'!BT32=\"F\",\"Female\",\"\"))))","v":""},{"$f":"IF('Outil Recensement simplifié'!BU32=\"Oui\",\"Yes\",IF('Outil Recensement simplifié'!BU32=\"Non\",\"No\",IF('Outil Recensement simplifié'!BU32=\"O\",\"Yes\",IF('Outil Recensement simplifié'!BU32=\"N\",\"No\",\"\"))))","v":""},{"$f":"IF('Outil Recensement simplifié'!BV32=\"Oui\",\"Yes\",IF('Outil Recensement simplifié'!BV32=\"Non\",\"No\",IF('Outil Recensement simplifié'!BV32=\"O\",\"Yes\",IF('Outil Recensement simplifié'!BV32=\"N\",\"No\",\"\"))))","v":""},{"$f":"IF('Outil Recensement simplifié'!BW32>0,'Outil Recensement simplifié'!BW32,\"\")","v":""},{"$f":"IF('Outil Recensement simplifié'!BX32>0,'Outil Recensement simplifié'!BX32,\"\")","v":""},{"$f":"IF('Outil Recensement simplifié'!BY32>0,'Outil Recensement simplifié'!BY32,\"\")","v":""},{"$f":"IF('Outil Recensement simplifié'!BZ32=\"Homme\",\"Male\",IF('Outil Recensement simplifié'!BZ32=\"Femme\",\"Female\",IF('Outil Recensement simplifié'!BZ32=\"H\",\"Male\",IF('Outil Recensement simplifié'!BZ32=\"F\",\"Female\",\"\"))))","v":""},{"$f":"IF('Outil Recensement simplifié'!CA32=\"Oui\",\"Yes\",IF('Outil Recensement simplifié'!CA32=\"Non\",\"No\",IF('Outil Recensement simplifié'!CA32=\"O\",\"Yes\",IF('Outil Recensement simplifié'!CA32=\"N\",\"No\",\"\"))))","v":""},{"$f":"IF('Outil Recensement simplifié'!CB32=\"Oui\",\"Yes\",IF('Outil Recensement simplifié'!CB32=\"Non\",\"No\",IF('Outil Recensement simplifié'!CB32=\"O\",\"Yes\",IF('Outil Recensement simplifié'!CB32=\"N\",\"No\",\"\"))))","v":""},{"$f":"IF('Outil Recensement simplifié'!CH32>0,'Outil Recensement simplifié'!CH32,\"\")","v":"    "}]
[{"$f":"IF('Outil Recensement simplifié'!A33>0,'Outil Recensement simplifié'!A33,\"\")","v":""},{"$f":"IF('Outil Recensement simplifié'!B33>0,'Outil Recensement simplifié'!B33,\"\")","v":""},{"$f":"IF('Outil Recensement simplifié'!C33>0,'Outil Recensement simplifié'!C33,\"\")","v":""},{"$f":"IF('Outil Recensement simplifié'!D33>0,'Outil Recensement simplifié'!D33,\"\")","v":""},{"$f":"IF('Outil Recensement simplifié'!E33>0,TEXT('Outil Recensement simplifié'!E33,\"000\"),\"\")","v":""},{"$f":"IF('Outil Recensement simplifié'!F33>0,'Outil Recensement simplifié'!F33,\"\")","v":""},{"$f":"IF('Outil Recensement simplifié'!G33>0,'Outil Recensement simplifié'!G33,\"\")","v":""},{"$f":"IF('Outil Recensement simplifié'!I33>0,'Outil Recensement simplifié'!I33,\"\")","v":""},{"$f":"IF('Outil Recensement simplifié'!J33>0,'Outil Recensement simplifié'!J33,\"\")","v":""},{"$f":"IF('Outil Recensement simplifié'!K33>0,'Outil Recensement simplifié'!K33,\"\")","v":""},{"$f":"IF('Outil Recensement simplifié'!L33>0,'Outil Recensement simplifié'!L33,\"\")","v":""},{"$f":"IF('Outil Recensement simplifié'!M33=\"Homme\",\"Male\",IF('Outil Recensement simplifié'!M33=\"Femme\",\"Female\",IF('Outil Recensement simplifié'!M33=\"H\",\"Male\",IF('Outil Recensement simplifié'!M33=\"F\",\"Female\",\"\"))))","v":""},{"$f":"IF('Outil Recensement simplifié'!N33=\"Oui\",\"Yes\",IF('Outil Recensement simplifié'!N33=\"Non\",\"No\",IF('Outil Recensement simplifié'!N33=\"O\",\"Yes\",IF('Outil Recensement simplifié'!N33=\"N\",\"No\",\"\"))))","v":""},{"$f":"IF('Outil Recensement simplifié'!O33=\"Non\",\"Single\",IF('Outil Recensement simplifié'!O33=\"Oui\",\"Family\",IF('Outil Recensement simplifié'!O33=\"N\",\"Single\",IF('Outil Recensement simplifié'!O33=\"O\",\"Family\",IF('Outil Recensement simplifié'!O33=\"En vigueur\",\"Family\",\"\")))))","v":""},{"$f":"IF('Outil Recensement simplifié'!P33=\"Anglais\",\"English\",IF('Outil Recensement simplifié'!P33=\"Français\",\"French\",IF('Outil Recensement simplifié'!P33=\"A\",\"English\",IF('Outil Recensement simplifié'!P33=\"F\",\"French\",\"\"))))","v":""},{"$f":"IF('Outil Recensement simplifié'!Q33=\"Oui\",\"Yes\",IF('Outil Recensement simplifié'!Q33=\"Non\",\"No\",IF('Outil Recensement simplifié'!Q33=\"O\",\"Yes\",IF('Outil Recensement simplifié'!Q33=\"N\",\"No\",\"\"))))","v":""},{"$f":"IF('Outil Recensement simplifié'!R33>0,'Outil Recensement simplifié'!R33,\"\")","v":""},{"$f":"IF('Outil Recensement simplifié'!S33=\"Annuelle\",\"Annually\",IF('Outil Recensement simplifié'!S33=\"Mensuelle\",\"Monthly\",IF('Outil Recensement simplifié'!S33=\"Aux deux semaines\",\"Biweekly\",IF('Outil Recensement simplifié'!S33=\"Bimensuelle\",\"Semi-Monthly\",IF('Outil Recensement simplifié'!S33=\"Hebdomadaire\",\"Weekly\",IF('Outil Recensement simplifié'!S33=\"Horaire\",\"Hourly\",\"\"))))))","v":""},{"$f":"IF('Outil Recensement simplifié'!T33>0,'Outil Recensement simplifié'!T33,\"\")","v":""},{"$f":"IF('Outil Recensement simplifié'!U33>0,'Outil Recensement simplifié'!U33,\"\")","v":""},{"$f":"IF('Outil Recensement simplifié'!V33=\"Exemptée\",\"Yes\",\"\")","v":""},{"$f":"IF('Outil Recensement simplifié'!W33=\"Exemptée\",\"Yes\",\"\")","v":""},{"$f":"IF('Outil Recensement simplifié'!X33>0,'Outil Recensement simplifié'!X33,\"\")","v":""},{"$f":"IF('Outil Recensement simplifié'!Y33>0,'Outil Recensement simplifié'!Y33,\"\")","v":""},{"$f":"IF('Outil Recensement simplifié'!Z33>0,'Outil Recensement simplifié'!Z33,\"\")","v":""},{"$f":"IF('Outil Recensement simplifié'!AA33>0,'Outil Recensement simplifié'!AA33,\"\")","v":""},{"$f":"IF('Outil Recensement simplifié'!AB33>0,'Outil Recensement simplifié'!AB33,\"\")","v":""},{"$f":"IF('Outil Recensement simplifié'!AC33>0,'Outil Recensement simplifié'!AC33,\"\")","v":" "},{"$f":"IF('Outil Recensement simplifié'!AE33>0,'Outil Recensement simplifié'!AE33&\" \",\"\")&IF('Outil Recensement simplifié'!AD33>0,'Outil Recensement simplifié'!AD33,\"\")","v":""},null,{"$f":"IF('Outil Recensement simplifié'!AF33>0,'Outil Recensement simplifié'!AF33,\"\")","v":""},{"$f":"IF('Outil Recensement simplifié'!AG33>0,'Outil Recensement simplifié'!AG33,\"\")","v":""},{"$f":"IF('Outil Recensement simplifié'!AH33>0,'Outil Recensement simplifié'!AH33,\"\")","v":""},{"$f":"IF('Outil Recensement simplifié'!AI33>0,'Outil Recensement simplifié'!AI33,\"\")","v":""},{"$f":"IF('Outil Recensement simplifié'!AJ33>0,'Outil Recensement simplifié'!AJ33,\"\")","v":""},{"$f":"IF('Outil Recensement simplifié'!AK33>0,'Outil Recensement simplifié'!AK33,\"\")","v":""},{"$f":"IF('Outil Recensement simplifié'!AL33>0,'Outil Recensement simplifié'!AL33,\"\")","v":""},{"$f":"IF('Outil Recensement simplifié'!AM33>0,'Outil Recensement simplifié'!AM33,\"\")","v":""},{"$f":"IF('Outil Recensement simplifié'!AN33=\"Homme\",\"Male\",IF('Outil Recensement simplifié'!AN33=\"Femme\",\"Female\",IF('Outil Recensement simplifié'!AN33=\"H\",\"Male\",IF('Outil Recensement simplifié'!AN33=\"F\",\"Female\",\"\"))))","v":""},{"$f":"IF('Outil Recensement simplifié'!AO33=\"Individuelle\",\"Single\",IF('Outil Recensement simplifié'!AO33=\"Famille\",\"Family\",IF('Outil Recensement simplifié'!AO33=\"Individuel\",\"Single\",IF('Outil Recensement simplifié'!AO33=\"Familiale\",\"Family\",IF('Outil Recensement simplifié'!AO33=\"I\",\"Single\",IF('Outil Recensement simplifié'!AO33=\"F\",\"Family\",\"\"))))))","v":""},{"$f":"IF('Outil Recensement simplifié'!AP33=\"Individuelle\",\"Single\",IF('Outil Recensement simplifié'!AP33=\"Famille\",\"Family\",IF('Outil Recensement simplifié'!AP33=\"Individuel\",\"Single\",IF('Outil Recensement simplifié'!AP33=\"Familiale\",\"Family\",IF('Outil Recensement simplifié'!AP33=\"I\",\"Single\",IF('Outil Recensement simplifié'!AP33=\"F\",\"Family\",\"\"))))))","v":""},{"$f":"IF('Outil Recensement simplifié'!AQ33>0,'Outil Recensement simplifié'!AQ33,\"\")","v":""},{"$f":"IF('Outil Recensement simplifié'!AR33=\"Oui\",\"Yes\",IF('Outil Recensement simplifié'!AR33=\"Non\",\"No\",IF('Outil Recensement simplifié'!AR33=\"O\",\"Yes\",IF('Outil Recensement simplifié'!AR33=\"N\",\"No\",\"\"))))","v":""},{"$f":"IF('Outil Recensement simplifié'!AS33>0,'Outil Recensement simplifié'!AS33,\"\")","v":""},{"$f":"IF('Outil Recensement simplifié'!AT33>0,'Outil Recensement simplifié'!AT33,\"\")","v":""},{"$f":"IF('Outil Recensement simplifié'!AU33>0,'Outil Recensement simplifié'!AU33,\"\")","v":""},{"$f":"IF('Outil Recensement simplifié'!AV33=\"Homme\",\"Male\",IF('Outil Recensement simplifié'!AV33=\"Femme\",\"Female\",IF('Outil Recensement simplifié'!AV33=\"H\",\"Male\",IF('Outil Recensement simplifié'!AV33=\"F\",\"Female\",\"\"))))","v":""},{"$f":"IF('Outil Recensement simplifié'!AW33=\"Oui\",\"Yes\",IF('Outil Recensement simplifié'!AW33=\"Non\",\"No\",IF('Outil Recensement simplifié'!AW33=\"O\",\"Yes\",IF('Outil Recensement simplifié'!AW33=\"N\",\"No\",\"\"))))","v":""},{"$f":"IF('Outil Recensement simplifié'!AX33=\"Oui\",\"Yes\",IF('Outil Recensement simplifié'!AX33=\"Non\",\"No\",IF('Outil Recensement simplifié'!AX33=\"O\",\"Yes\",IF('Outil Recensement simplifié'!AX33=\"N\",\"No\",\"\"))))","v":""},{"$f":"IF('Outil Recensement simplifié'!AY33>0,'Outil Recensement simplifié'!AY33,\"\")","v":""},{"$f":"IF('Outil Recensement simplifié'!AZ33>0,'Outil Recensement simplifié'!AZ33,\"\")","v":""},{"$f":"IF('Outil Recensement simplifié'!BA33>0,'Outil Recensement simplifié'!BA33,\"\")","v":""},{"$f":"IF('Outil Recensement simplifié'!BB33=\"Homme\",\"Male\",IF('Outil Recensement simplifié'!BB33=\"Femme\",\"Female\",IF('Outil Recensement simplifié'!BB33=\"H\",\"Male\",IF('Outil Recensement simplifié'!BB33=\"F\",\"Female\",\"\"))))","v":""},{"$f":"IF('Outil Recensement simplifié'!BC33=\"Oui\",\"Yes\",IF('Outil Recensement simplifié'!BC33=\"Non\",\"No\",IF('Outil Recensement simplifié'!BC33=\"O\",\"Yes\",IF('Outil Recensement simplifié'!BC33=\"N\",\"No\",\"\"))))","v":""},{"$f":"IF('Outil Recensement simplifié'!BD33=\"Oui\",\"Yes\",IF('Outil Recensement simplifié'!BD33=\"Non\",\"No\",IF('Outil Recensement simplifié'!BD33=\"O\",\"Yes\",IF('Outil Recensement simplifié'!BD33=\"N\",\"No\",\"\"))))","v":""},{"$f":"IF('Outil Recensement simplifié'!BE33>0,'Outil Recensement simplifié'!BE33,\"\")","v":""},{"$f":"IF('Outil Recensement simplifié'!BF33>0,'Outil Recensement simplifié'!BF33,\"\")","v":""},{"$f":"IF('Outil Recensement simplifié'!BG33>0,'Outil Recensement simplifié'!BG33,\"\")","v":""},{"$f":"IF('Outil Recensement simplifié'!BH33=\"Homme\",\"Male\",IF('Outil Recensement simplifié'!BH33=\"Femme\",\"Female\",IF('Outil Recensement simplifié'!BH33=\"H\",\"Male\",IF('Outil Recensement simplifié'!BH33=\"F\",\"Female\",\"\"))))","v":""},{"$f":"IF('Outil Recensement simplifié'!BI33=\"Oui\",\"Yes\",IF('Outil Recensement simplifié'!BI33=\"Non\",\"No\",IF('Outil Recensement simplifié'!BI33=\"O\",\"Yes\",IF('Outil Recensement simplifié'!BI33=\"N\",\"No\",\"\"))))","v":""},{"$f":"IF('Outil Recensement simplifié'!BJ33=\"Oui\",\"Yes\",IF('Outil Recensement simplifié'!BJ33=\"Non\",\"No\",IF('Outil Recensement simplifié'!BJ33=\"O\",\"Yes\",IF('Outil Recensement simplifié'!BJ33=\"N\",\"No\",\"\"))))","v":""},{"$f":"IF('Outil Recensement simplifié'!BK33>0,'Outil Recensement simplifié'!BK33,\"\")","v":""},{"$f":"IF('Outil Recensement simplifié'!BL33>0,'Outil Recensement simplifié'!BL33,\"\")","v":""},{"$f":"IF('Outil Recensement simplifié'!BM33>0,'Outil Recensement simplifié'!BM33,\"\")","v":""},{"$f":"IF('Outil Recensement simplifié'!BN33=\"Homme\",\"Male\",IF('Outil Recensement simplifié'!BN33=\"Femme\",\"Female\",IF('Outil Recensement simplifié'!BN33=\"H\",\"Male\",IF('Outil Recensement simplifié'!BN33=\"F\",\"Female\",\"\"))))","v":""},{"$f":"IF('Outil Recensement simplifié'!BO33=\"Oui\",\"Yes\",IF('Outil Recensement simplifié'!BO33=\"Non\",\"No\",IF('Outil Recensement simplifié'!BO33=\"O\",\"Yes\",IF('Outil Recensement simplifié'!BO33=\"N\",\"No\",\"\"))))","v":""},{"$f":"IF('Outil Recensement simplifié'!BP33=\"Oui\",\"Yes\",IF('Outil Recensement simplifié'!BP33=\"Non\",\"No\",IF('Outil Recensement simplifié'!BP33=\"O\",\"Yes\",IF('Outil Recensement simplifié'!BP33=\"N\",\"No\",\"\"))))","v":""},{"$f":"IF('Outil Recensement simplifié'!BQ33>0,'Outil Recensement simplifié'!BQ33,\"\")","v":""},{"$f":"IF('Outil Recensement simplifié'!BR33>0,'Outil Recensement simplifié'!BR33,\"\")","v":""},{"$f":"IF('Outil Recensement simplifié'!BS33>0,'Outil Recensement simplifié'!BS33,\"\")","v":""},{"$f":"IF('Outil Recensement simplifié'!BT33=\"Homme\",\"Male\",IF('Outil Recensement simplifié'!BT33=\"Femme\",\"Female\",IF('Outil Recensement simplifié'!BT33=\"H\",\"Male\",IF('Outil Recensement simplifié'!BT33=\"F\",\"Female\",\"\"))))","v":""},{"$f":"IF('Outil Recensement simplifié'!BU33=\"Oui\",\"Yes\",IF('Outil Recensement simplifié'!BU33=\"Non\",\"No\",IF('Outil Recensement simplifié'!BU33=\"O\",\"Yes\",IF('Outil Recensement simplifié'!BU33=\"N\",\"No\",\"\"))))","v":""},{"$f":"IF('Outil Recensement simplifié'!BV33=\"Oui\",\"Yes\",IF('Outil Recensement simplifié'!BV33=\"Non\",\"No\",IF('Outil Recensement simplifié'!BV33=\"O\",\"Yes\",IF('Outil Recensement simplifié'!BV33=\"N\",\"No\",\"\"))))","v":""},{"$f":"IF('Outil Recensement simplifié'!BW33>0,'Outil Recensement simplifié'!BW33,\"\")","v":""},{"$f":"IF('Outil Recensement simplifié'!BX33>0,'Outil Recensement simplifié'!BX33,\"\")","v":""},{"$f":"IF('Outil Recensement simplifié'!BY33>0,'Outil Recensement simplifié'!BY33,\"\")","v":""},{"$f":"IF('Outil Recensement simplifié'!BZ33=\"Homme\",\"Male\",IF('Outil Recensement simplifié'!BZ33=\"Femme\",\"Female\",IF('Outil Recensement simplifié'!BZ33=\"H\",\"Male\",IF('Outil Recensement simplifié'!BZ33=\"F\",\"Female\",\"\"))))","v":""},{"$f":"IF('Outil Recensement simplifié'!CA33=\"Oui\",\"Yes\",IF('Outil Recensement simplifié'!CA33=\"Non\",\"No\",IF('Outil Recensement simplifié'!CA33=\"O\",\"Yes\",IF('Outil Recensement simplifié'!CA33=\"N\",\"No\",\"\"))))","v":""},{"$f":"IF('Outil Recensement simplifié'!CB33=\"Oui\",\"Yes\",IF('Outil Recensement simplifié'!CB33=\"Non\",\"No\",IF('Outil Recensement simplifié'!CB33=\"O\",\"Yes\",IF('Outil Recensement simplifié'!CB33=\"N\",\"No\",\"\"))))","v":""},{"$f":"IF('Outil Recensement simplifié'!CH33>0,'Outil Recensement simplifié'!CH33,\"\")","v":"    "}]
[{"$f":"IF('Outil Recensement simplifié'!A34>0,'Outil Recensement simplifié'!A34,\"\")","v":""},{"$f":"IF('Outil Recensement simplifié'!B34>0,'Outil Recensement simplifié'!B34,\"\")","v":""},{"$f":"IF('Outil Recensement simplifié'!C34>0,'Outil Recensement simplifié'!C34,\"\")","v":""},{"$f":"IF('Outil Recensement simplifié'!D34>0,'Outil Recensement simplifié'!D34,\"\")","v":""},{"$f":"IF('Outil Recensement simplifié'!E34>0,TEXT('Outil Recensement simplifié'!E34,\"000\"),\"\")","v":""},{"$f":"IF('Outil Recensement simplifié'!F34>0,'Outil Recensement simplifié'!F34,\"\")","v":""},{"$f":"IF('Outil Recensement simplifié'!G34>0,'Outil Recensement simplifié'!G34,\"\")","v":""},{"$f":"IF('Outil Recensement simplifié'!I34>0,'Outil Recensement simplifié'!I34,\"\")","v":""},{"$f":"IF('Outil Recensement simplifié'!J34>0,'Outil Recensement simplifié'!J34,\"\")","v":""},{"$f":"IF('Outil Recensement simplifié'!K34>0,'Outil Recensement simplifié'!K34,\"\")","v":""},{"$f":"IF('Outil Recensement simplifié'!L34>0,'Outil Recensement simplifié'!L34,\"\")","v":""},{"$f":"IF('Outil Recensement simplifié'!M34=\"Homme\",\"Male\",IF('Outil Recensement simplifié'!M34=\"Femme\",\"Female\",IF('Outil Recensement simplifié'!M34=\"H\",\"Male\",IF('Outil Recensement simplifié'!M34=\"F\",\"Female\",\"\"))))","v":""},{"$f":"IF('Outil Recensement simplifié'!N34=\"Oui\",\"Yes\",IF('Outil Recensement simplifié'!N34=\"Non\",\"No\",IF('Outil Recensement simplifié'!N34=\"O\",\"Yes\",IF('Outil Recensement simplifié'!N34=\"N\",\"No\",\"\"))))","v":""},{"$f":"IF('Outil Recensement simplifié'!O34=\"Non\",\"Single\",IF('Outil Recensement simplifié'!O34=\"Oui\",\"Family\",IF('Outil Recensement simplifié'!O34=\"N\",\"Single\",IF('Outil Recensement simplifié'!O34=\"O\",\"Family\",IF('Outil Recensement simplifié'!O34=\"En vigueur\",\"Family\",\"\")))))","v":""},{"$f":"IF('Outil Recensement simplifié'!P34=\"Anglais\",\"English\",IF('Outil Recensement simplifié'!P34=\"Français\",\"French\",IF('Outil Recensement simplifié'!P34=\"A\",\"English\",IF('Outil Recensement simplifié'!P34=\"F\",\"French\",\"\"))))","v":""},{"$f":"IF('Outil Recensement simplifié'!Q34=\"Oui\",\"Yes\",IF('Outil Recensement simplifié'!Q34=\"Non\",\"No\",IF('Outil Recensement simplifié'!Q34=\"O\",\"Yes\",IF('Outil Recensement simplifié'!Q34=\"N\",\"No\",\"\"))))","v":""},{"$f":"IF('Outil Recensement simplifié'!R34>0,'Outil Recensement simplifié'!R34,\"\")","v":""},{"$f":"IF('Outil Recensement simplifié'!S34=\"Annuelle\",\"Annually\",IF('Outil Recensement simplifié'!S34=\"Mensuelle\",\"Monthly\",IF('Outil Recensement simplifié'!S34=\"Aux deux semaines\",\"Biweekly\",IF('Outil Recensement simplifié'!S34=\"Bimensuelle\",\"Semi-Monthly\",IF('Outil Recensement simplifié'!S34=\"Hebdomadaire\",\"Weekly\",IF('Outil Recensement simplifié'!S34=\"Horaire\",\"Hourly\",\"\"))))))","v":""},{"$f":"IF('Outil Recensement simplifié'!T34>0,'Outil Recensement simplifié'!T34,\"\")","v":""},{"$f":"IF('Outil Recensement simplifié'!U34>0,'Outil Recensement simplifié'!U34,\"\")","v":""},{"$f":"IF('Outil Recensement simplifié'!V34=\"Exemptée\",\"Yes\",\"\")","v":""},{"$f":"IF('Outil Recensement simplifié'!W34=\"Exemptée\",\"Yes\",\"\")","v":""},{"$f":"IF('Outil Recensement simplifié'!X34>0,'Outil Recensement simplifié'!X34,\"\")","v":""},{"$f":"IF('Outil Recensement simplifié'!Y34>0,'Outil Recensement simplifié'!Y34,\"\")","v":""},{"$f":"IF('Outil Recensement simplifié'!Z34>0,'Outil Recensement simplifié'!Z34,\"\")","v":""},{"$f":"IF('Outil Recensement simplifié'!AA34>0,'Outil Recensement simplifié'!AA34,\"\")","v":""},{"$f":"IF('Outil Recensement simplifié'!AB34>0,'Outil Recensement simplifié'!AB34,\"\")","v":""},{"$f":"IF('Outil Recensement simplifié'!AC34>0,'Outil Recensement simplifié'!AC34,\"\")","v":" "},{"$f":"IF('Outil Recensement simplifié'!AE34>0,'Outil Recensement simplifié'!AE34&\" \",\"\")&IF('Outil Recensement simplifié'!AD34>0,'Outil Recensement simplifié'!AD34,\"\")","v":""},null,{"$f":"IF('Outil Recensement simplifié'!AF34>0,'Outil Recensement simplifié'!AF34,\"\")","v":""},{"$f":"IF('Outil Recensement simplifié'!AG34>0,'Outil Recensement simplifié'!AG34,\"\")","v":""},{"$f":"IF('Outil Recensement simplifié'!AH34>0,'Outil Recensement simplifié'!AH34,\"\")","v":""},{"$f":"IF('Outil Recensement simplifié'!AI34>0,'Outil Recensement simplifié'!AI34,\"\")","v":""},{"$f":"IF('Outil Recensement simplifié'!AJ34>0,'Outil Recensement simplifié'!AJ34,\"\")","v":""},{"$f":"IF('Outil Recensement simplifié'!AK34>0,'Outil Recensement simplifié'!AK34,\"\")","v":""},{"$f":"IF('Outil Recensement simplifié'!AL34>0,'Outil Recensement simplifié'!AL34,\"\")","v":""},{"$f":"IF('Outil Recensement simplifié'!AM34>0,'Outil Recensement simplifié'!AM34,\"\")","v":""},{"$f":"IF('Outil Recensement simplifié'!AN34=\"Homme\",\"Male\",IF('Outil Recensement simplifié'!AN34=\"Femme\",\"Female\",IF('Outil Recensement simplifié'!AN34=\"H\",\"Male\",IF('Outil Recensement simplifié'!AN34=\"F\",\"Female\",\"\"))))","v":""},{"$f":"IF('Outil Recensement simplifié'!AO34=\"Individuelle\",\"Single\",IF('Outil Recensement simplifié'!AO34=\"Famille\",\"Family\",IF('Outil Recensement simplifié'!AO34=\"Individuel\",\"Single\",IF('Outil Recensement simplifié'!AO34=\"Familiale\",\"Family\",IF('Outil Recensement simplifié'!AO34=\"I\",\"Single\",IF('Outil Recensement simplifié'!AO34=\"F\",\"Family\",\"\"))))))","v":""},{"$f":"IF('Outil Recensement simplifié'!AP34=\"Individuelle\",\"Single\",IF('Outil Recensement simplifié'!AP34=\"Famille\",\"Family\",IF('Outil Recensement simplifié'!AP34=\"Individuel\",\"Single\",IF('Outil Recensement simplifié'!AP34=\"Familiale\",\"Family\",IF('Outil Recensement simplifié'!AP34=\"I\",\"Single\",IF('Outil Recensement simplifié'!AP34=\"F\",\"Family\",\"\"))))))","v":""},{"$f":"IF('Outil Recensement simplifié'!AQ34>0,'Outil Recensement simplifié'!AQ34,\"\")","v":""},{"$f":"IF('Outil Recensement simplifié'!AR34=\"Oui\",\"Yes\",IF('Outil Recensement simplifié'!AR34=\"Non\",\"No\",IF('Outil Recensement simplifié'!AR34=\"O\",\"Yes\",IF('Outil Recensement simplifié'!AR34=\"N\",\"No\",\"\"))))","v":""},{"$f":"IF('Outil Recensement simplifié'!AS34>0,'Outil Recensement simplifié'!AS34,\"\")","v":""},{"$f":"IF('Outil Recensement simplifié'!AT34>0,'Outil Recensement simplifié'!AT34,\"\")","v":""},{"$f":"IF('Outil Recensement simplifié'!AU34>0,'Outil Recensement simplifié'!AU34,\"\")","v":""},{"$f":"IF('Outil Recensement simplifié'!AV34=\"Homme\",\"Male\",IF('Outil Recensement simplifié'!AV34=\"Femme\",\"Female\",IF('Outil Recensement simplifié'!AV34=\"H\",\"Male\",IF('Outil Recensement simplifié'!AV34=\"F\",\"Female\",\"\"))))","v":""},{"$f":"IF('Outil Recensement simplifié'!AW34=\"Oui\",\"Yes\",IF('Outil Recensement simplifié'!AW34=\"Non\",\"No\",IF('Outil Recensement simplifié'!AW34=\"O\",\"Yes\",IF('Outil Recensement simplifié'!AW34=\"N\",\"No\",\"\"))))","v":""},{"$f":"IF('Outil Recensement simplifié'!AX34=\"Oui\",\"Yes\",IF('Outil Recensement simplifié'!AX34=\"Non\",\"No\",IF('Outil Recensement simplifié'!AX34=\"O\",\"Yes\",IF('Outil Recensement simplifié'!AX34=\"N\",\"No\",\"\"))))","v":""},{"$f":"IF('Outil Recensement simplifié'!AY34>0,'Outil Recensement simplifié'!AY34,\"\")","v":""},{"$f":"IF('Outil Recensement simplifié'!AZ34>0,'Outil Recensement simplifié'!AZ34,\"\")","v":""},{"$f":"IF('Outil Recensement simplifié'!BA34>0,'Outil Recensement simplifié'!BA34,\"\")","v":""},{"$f":"IF('Outil Recensement simplifié'!BB34=\"Homme\",\"Male\",IF('Outil Recensement simplifié'!BB34=\"Femme\",\"Female\",IF('Outil Recensement simplifié'!BB34=\"H\",\"Male\",IF('Outil Recensement simplifié'!BB34=\"F\",\"Female\",\"\"))))","v":""},{"$f":"IF('Outil Recensement simplifié'!BC34=\"Oui\",\"Yes\",IF('Outil Recensement simplifié'!BC34=\"Non\",\"No\",IF('Outil Recensement simplifié'!BC34=\"O\",\"Yes\",IF('Outil Recensement simplifié'!BC34=\"N\",\"No\",\"\"))))","v":""},{"$f":"IF('Outil Recensement simplifié'!BD34=\"Oui\",\"Yes\",IF('Outil Recensement simplifié'!BD34=\"Non\",\"No\",IF('Outil Recensement simplifié'!BD34=\"O\",\"Yes\",IF('Outil Recensement simplifié'!BD34=\"N\",\"No\",\"\"))))","v":""},{"$f":"IF('Outil Recensement simplifié'!BE34>0,'Outil Recensement simplifié'!BE34,\"\")","v":""},{"$f":"IF('Outil Recensement simplifié'!BF34>0,'Outil Recensement simplifié'!BF34,\"\")","v":""},{"$f":"IF('Outil Recensement simplifié'!BG34>0,'Outil Recensement simplifié'!BG34,\"\")","v":""},{"$f":"IF('Outil Recensement simplifié'!BH34=\"Homme\",\"Male\",IF('Outil Recensement simplifié'!BH34=\"Femme\",\"Female\",IF('Outil Recensement simplifié'!BH34=\"H\",\"Male\",IF('Outil Recensement simplifié'!BH34=\"F\",\"Female\",\"\"))))","v":""},{"$f":"IF('Outil Recensement simplifié'!BI34=\"Oui\",\"Yes\",IF('Outil Recensement simplifié'!BI34=\"Non\",\"No\",IF('Outil Recensement simplifié'!BI34=\"O\",\"Yes\",IF('Outil Recensement simplifié'!BI34=\"N\",\"No\",\"\"))))","v":""},{"$f":"IF('Outil Recensement simplifié'!BJ34=\"Oui\",\"Yes\",IF('Outil Recensement simplifié'!BJ34=\"Non\",\"No\",IF('Outil Recensement simplifié'!BJ34=\"O\",\"Yes\",IF('Outil Recensement simplifié'!BJ34=\"N\",\"No\",\"\"))))","v":""},{"$f":"IF('Outil Recensement simplifié'!BK34>0,'Outil Recensement simplifié'!BK34,\"\")","v":""},{"$f":"IF('Outil Recensement simplifié'!BL34>0,'Outil Recensement simplifié'!BL34,\"\")","v":""},{"$f":"IF('Outil Recensement simplifié'!BM34>0,'Outil Recensement simplifié'!BM34,\"\")","v":""},{"$f":"IF('Outil Recensement simplifié'!BN34=\"Homme\",\"Male\",IF('Outil Recensement simplifié'!BN34=\"Femme\",\"Female\",IF('Outil Recensement simplifié'!BN34=\"H\",\"Male\",IF('Outil Recensement simplifié'!BN34=\"F\",\"Female\",\"\"))))","v":""},{"$f":"IF('Outil Recensement simplifié'!BO34=\"Oui\",\"Yes\",IF('Outil Recensement simplifié'!BO34=\"Non\",\"No\",IF('Outil Recensement simplifié'!BO34=\"O\",\"Yes\",IF('Outil Recensement simplifié'!BO34=\"N\",\"No\",\"\"))))","v":""},{"$f":"IF('Outil Recensement simplifié'!BP34=\"Oui\",\"Yes\",IF('Outil Recensement simplifié'!BP34=\"Non\",\"No\",IF('Outil Recensement simplifié'!BP34=\"O\",\"Yes\",IF('Outil Recensement simplifié'!BP34=\"N\",\"No\",\"\"))))","v":""},{"$f":"IF('Outil Recensement simplifié'!BQ34>0,'Outil Recensement simplifié'!BQ34,\"\")","v":""},{"$f":"IF('Outil Recensement simplifié'!BR34>0,'Outil Recensement simplifié'!BR34,\"\")","v":""},{"$f":"IF('Outil Recensement simplifié'!BS34>0,'Outil Recensement simplifié'!BS34,\"\")","v":""},{"$f":"IF('Outil Recensement simplifié'!BT34=\"Homme\",\"Male\",IF('Outil Recensement simplifié'!BT34=\"Femme\",\"Female\",IF('Outil Recensement simplifié'!BT34=\"H\",\"Male\",IF('Outil Recensement simplifié'!BT34=\"F\",\"Female\",\"\"))))","v":""},{"$f":"IF('Outil Recensement simplifié'!BU34=\"Oui\",\"Yes\",IF('Outil Recensement simplifié'!BU34=\"Non\",\"No\",IF('Outil Recensement simplifié'!BU34=\"O\",\"Yes\",IF('Outil Recensement simplifié'!BU34=\"N\",\"No\",\"\"))))","v":""},{"$f":"IF('Outil Recensement simplifié'!BV34=\"Oui\",\"Yes\",IF('Outil Recensement simplifié'!BV34=\"Non\",\"No\",IF('Outil Recensement simplifié'!BV34=\"O\",\"Yes\",IF('Outil Recensement simplifié'!BV34=\"N\",\"No\",\"\"))))","v":""},{"$f":"IF('Outil Recensement simplifié'!BW34>0,'Outil Recensement simplifié'!BW34,\"\")","v":""},{"$f":"IF('Outil Recensement simplifié'!BX34>0,'Outil Recensement simplifié'!BX34,\"\")","v":""},{"$f":"IF('Outil Recensement simplifié'!BY34>0,'Outil Recensement simplifié'!BY34,\"\")","v":""},{"$f":"IF('Outil Recensement simplifié'!BZ34=\"Homme\",\"Male\",IF('Outil Recensement simplifié'!BZ34=\"Femme\",\"Female\",IF('Outil Recensement simplifié'!BZ34=\"H\",\"Male\",IF('Outil Recensement simplifié'!BZ34=\"F\",\"Female\",\"\"))))","v":""},{"$f":"IF('Outil Recensement simplifié'!CA34=\"Oui\",\"Yes\",IF('Outil Recensement simplifié'!CA34=\"Non\",\"No\",IF('Outil Recensement simplifié'!CA34=\"O\",\"Yes\",IF('Outil Recensement simplifié'!CA34=\"N\",\"No\",\"\"))))","v":""},{"$f":"IF('Outil Recensement simplifié'!CB34=\"Oui\",\"Yes\",IF('Outil Recensement simplifié'!CB34=\"Non\",\"No\",IF('Outil Recensement simplifié'!CB34=\"O\",\"Yes\",IF('Outil Recensement simplifié'!CB34=\"N\",\"No\",\"\"))))","v":""},{"$f":"IF('Outil Recensement simplifié'!CH34>0,'Outil Recensement simplifié'!CH34,\"\")","v":"    "}]
[{"$f":"IF('Outil Recensement simplifié'!A35>0,'Outil Recensement simplifié'!A35,\"\")","v":""},{"$f":"IF('Outil Recensement simplifié'!B35>0,'Outil Recensement simplifié'!B35,\"\")","v":""},{"$f":"IF('Outil Recensement simplifié'!C35>0,'Outil Recensement simplifié'!C35,\"\")","v":""},{"$f":"IF('Outil Recensement simplifié'!D35>0,'Outil Recensement simplifié'!D35,\"\")","v":""},{"$f":"IF('Outil Recensement simplifié'!E35>0,TEXT('Outil Recensement simplifié'!E35,\"000\"),\"\")","v":""},{"$f":"IF('Outil Recensement simplifié'!F35>0,'Outil Recensement simplifié'!F35,\"\")","v":""},{"$f":"IF('Outil Recensement simplifié'!G35>0,'Outil Recensement simplifié'!G35,\"\")","v":""},{"$f":"IF('Outil Recensement simplifié'!I35>0,'Outil Recensement simplifié'!I35,\"\")","v":""},{"$f":"IF('Outil Recensement simplifié'!J35>0,'Outil Recensement simplifié'!J35,\"\")","v":""},{"$f":"IF('Outil Recensement simplifié'!K35>0,'Outil Recensement simplifié'!K35,\"\")","v":""},{"$f":"IF('Outil Recensement simplifié'!L35>0,'Outil Recensement simplifié'!L35,\"\")","v":""},{"$f":"IF('Outil Recensement simplifié'!M35=\"Homme\",\"Male\",IF('Outil Recensement simplifié'!M35=\"Femme\",\"Female\",IF('Outil Recensement simplifié'!M35=\"H\",\"Male\",IF('Outil Recensement simplifié'!M35=\"F\",\"Female\",\"\"))))","v":""},{"$f":"IF('Outil Recensement simplifié'!N35=\"Oui\",\"Yes\",IF('Outil Recensement simplifié'!N35=\"Non\",\"No\",IF('Outil Recensement simplifié'!N35=\"O\",\"Yes\",IF('Outil Recensement simplifié'!N35=\"N\",\"No\",\"\"))))","v":""},{"$f":"IF('Outil Recensement simplifié'!O35=\"Non\",\"Single\",IF('Outil Recensement simplifié'!O35=\"Oui\",\"Family\",IF('Outil Recensement simplifié'!O35=\"N\",\"Single\",IF('Outil Recensement simplifié'!O35=\"O\",\"Family\",IF('Outil Recensement simplifié'!O35=\"En vigueur\",\"Family\",\"\")))))","v":""},{"$f":"IF('Outil Recensement simplifié'!P35=\"Anglais\",\"English\",IF('Outil Recensement simplifié'!P35=\"Français\",\"French\",IF('Outil Recensement simplifié'!P35=\"A\",\"English\",IF('Outil Recensement simplifié'!P35=\"F\",\"French\",\"\"))))","v":""},{"$f":"IF('Outil Recensement simplifié'!Q35=\"Oui\",\"Yes\",IF('Outil Recensement simplifié'!Q35=\"Non\",\"No\",IF('Outil Recensement simplifié'!Q35=\"O\",\"Yes\",IF('Outil Recensement simplifié'!Q35=\"N\",\"No\",\"\"))))","v":""},{"$f":"IF('Outil Recensement simplifié'!R35>0,'Outil Recensement simplifié'!R35,\"\")","v":""},{"$f":"IF('Outil Recensement simplifié'!S35=\"Annuelle\",\"Annually\",IF('Outil Recensement simplifié'!S35=\"Mensuelle\",\"Monthly\",IF('Outil Recensement simplifié'!S35=\"Aux deux semaines\",\"Biweekly\",IF('Outil Recensement simplifié'!S35=\"Bimensuelle\",\"Semi-Monthly\",IF('Outil Recensement simplifié'!S35=\"Hebdomadaire\",\"Weekly\",IF('Outil Recensement simplifié'!S35=\"Horaire\",\"Hourly\",\"\"))))))","v":""},{"$f":"IF('Outil Recensement simplifié'!T35>0,'Outil Recensement simplifié'!T35,\"\")","v":""},{"$f":"IF('Outil Recensement simplifié'!U35>0,'Outil Recensement simplifié'!U35,\"\")","v":""},{"$f":"IF('Outil Recensement simplifié'!V35=\"Exemptée\",\"Yes\",\"\")","v":""},{"$f":"IF('Outil Recensement simplifié'!W35=\"Exemptée\",\"Yes\",\"\")","v":""},{"$f":"IF('Outil Recensement simplifié'!X35>0,'Outil Recensement simplifié'!X35,\"\")","v":""},{"$f":"IF('Outil Recensement simplifié'!Y35>0,'Outil Recensement simplifié'!Y35,\"\")","v":""},{"$f":"IF('Outil Recensement simplifié'!Z35>0,'Outil Recensement simplifié'!Z35,\"\")","v":""},{"$f":"IF('Outil Recensement simplifié'!AA35>0,'Outil Recensement simplifié'!AA35,\"\")","v":""},{"$f":"IF('Outil Recensement simplifié'!AB35>0,'Outil Recensement simplifié'!AB35,\"\")","v":""},{"$f":"IF('Outil Recensement simplifié'!AC35>0,'Outil Recensement simplifié'!AC35,\"\")","v":" "},{"$f":"IF('Outil Recensement simplifié'!AE35>0,'Outil Recensement simplifié'!AE35&\" \",\"\")&IF('Outil Recensement simplifié'!AD35>0,'Outil Recensement simplifié'!AD35,\"\")","v":""},null,{"$f":"IF('Outil Recensement simplifié'!AF35>0,'Outil Recensement simplifié'!AF35,\"\")","v":""},{"$f":"IF('Outil Recensement simplifié'!AG35>0,'Outil Recensement simplifié'!AG35,\"\")","v":""},{"$f":"IF('Outil Recensement simplifié'!AH35>0,'Outil Recensement simplifié'!AH35,\"\")","v":""},{"$f":"IF('Outil Recensement simplifié'!AI35>0,'Outil Recensement simplifié'!AI35,\"\")","v":""},{"$f":"IF('Outil Recensement simplifié'!AJ35>0,'Outil Recensement simplifié'!AJ35,\"\")","v":""},{"$f":"IF('Outil Recensement simplifié'!AK35>0,'Outil Recensement simplifié'!AK35,\"\")","v":""},{"$f":"IF('Outil Recensement simplifié'!AL35>0,'Outil Recensement simplifié'!AL35,\"\")","v":""},{"$f":"IF('Outil Recensement simplifié'!AM35>0,'Outil Recensement simplifié'!AM35,\"\")","v":""},{"$f":"IF('Outil Recensement simplifié'!AN35=\"Homme\",\"Male\",IF('Outil Recensement simplifié'!AN35=\"Femme\",\"Female\",IF('Outil Recensement simplifié'!AN35=\"H\",\"Male\",IF('Outil Recensement simplifié'!AN35=\"F\",\"Female\",\"\"))))","v":""},{"$f":"IF('Outil Recensement simplifié'!AO35=\"Individuelle\",\"Single\",IF('Outil Recensement simplifié'!AO35=\"Famille\",\"Family\",IF('Outil Recensement simplifié'!AO35=\"Individuel\",\"Single\",IF('Outil Recensement simplifié'!AO35=\"Familiale\",\"Family\",IF('Outil Recensement simplifié'!AO35=\"I\",\"Single\",IF('Outil Recensement simplifié'!AO35=\"F\",\"Family\",\"\"))))))","v":""},{"$f":"IF('Outil Recensement simplifié'!AP35=\"Individuelle\",\"Single\",IF('Outil Recensement simplifié'!AP35=\"Famille\",\"Family\",IF('Outil Recensement simplifié'!AP35=\"Individuel\",\"Single\",IF('Outil Recensement simplifié'!AP35=\"Familiale\",\"Family\",IF('Outil Recensement simplifié'!AP35=\"I\",\"Single\",IF('Outil Recensement simplifié'!AP35=\"F\",\"Family\",\"\"))))))","v":""},{"$f":"IF('Outil Recensement simplifié'!AQ35>0,'Outil Recensement simplifié'!AQ35,\"\")","v":""},{"$f":"IF('Outil Recensement simplifié'!AR35=\"Oui\",\"Yes\",IF('Outil Recensement simplifié'!AR35=\"Non\",\"No\",IF('Outil Recensement simplifié'!AR35=\"O\",\"Yes\",IF('Outil Recensement simplifié'!AR35=\"N\",\"No\",\"\"))))","v":""},{"$f":"IF('Outil Recensement simplifié'!AS35>0,'Outil Recensement simplifié'!AS35,\"\")","v":""},{"$f":"IF('Outil Recensement simplifié'!AT35>0,'Outil Recensement simplifié'!AT35,\"\")","v":""},{"$f":"IF('Outil Recensement simplifié'!AU35>0,'Outil Recensement simplifié'!AU35,\"\")","v":""},{"$f":"IF('Outil Recensement simplifié'!AV35=\"Homme\",\"Male\",IF('Outil Recensement simplifié'!AV35=\"Femme\",\"Female\",IF('Outil Recensement simplifié'!AV35=\"H\",\"Male\",IF('Outil Recensement simplifié'!AV35=\"F\",\"Female\",\"\"))))","v":""},{"$f":"IF('Outil Recensement simplifié'!AW35=\"Oui\",\"Yes\",IF('Outil Recensement simplifié'!AW35=\"Non\",\"No\",IF('Outil Recensement simplifié'!AW35=\"O\",\"Yes\",IF('Outil Recensement simplifié'!AW35=\"N\",\"No\",\"\"))))","v":""},{"$f":"IF('Outil Recensement simplifié'!AX35=\"Oui\",\"Yes\",IF('Outil Recensement simplifié'!AX35=\"Non\",\"No\",IF('Outil Recensement simplifié'!AX35=\"O\",\"Yes\",IF('Outil Recensement simplifié'!AX35=\"N\",\"No\",\"\"))))","v":""},{"$f":"IF('Outil Recensement simplifié'!AY35>0,'Outil Recensement simplifié'!AY35,\"\")","v":""},{"$f":"IF('Outil Recensement simplifié'!AZ35>0,'Outil Recensement simplifié'!AZ35,\"\")","v":""},{"$f":"IF('Outil Recensement simplifié'!BA35>0,'Outil Recensement simplifié'!BA35,\"\")","v":""},{"$f":"IF('Outil Recensement simplifié'!BB35=\"Homme\",\"Male\",IF('Outil Recensement simplifié'!BB35=\"Femme\",\"Female\",IF('Outil Recensement simplifié'!BB35=\"H\",\"Male\",IF('Outil Recensement simplifié'!BB35=\"F\",\"Female\",\"\"))))","v":""},{"$f":"IF('Outil Recensement simplifié'!BC35=\"Oui\",\"Yes\",IF('Outil Recensement simplifié'!BC35=\"Non\",\"No\",IF('Outil Recensement simplifié'!BC35=\"O\",\"Yes\",IF('Outil Recensement simplifié'!BC35=\"N\",\"No\",\"\"))))","v":""},{"$f":"IF('Outil Recensement simplifié'!BD35=\"Oui\",\"Yes\",IF('Outil Recensement simplifié'!BD35=\"Non\",\"No\",IF('Outil Recensement simplifié'!BD35=\"O\",\"Yes\",IF('Outil Recensement simplifié'!BD35=\"N\",\"No\",\"\"))))","v":""},{"$f":"IF('Outil Recensement simplifié'!BE35>0,'Outil Recensement simplifié'!BE35,\"\")","v":""},{"$f":"IF('Outil Recensement simplifié'!BF35>0,'Outil Recensement simplifié'!BF35,\"\")","v":""},{"$f":"IF('Outil Recensement simplifié'!BG35>0,'Outil Recensement simplifié'!BG35,\"\")","v":""},{"$f":"IF('Outil Recensement simplifié'!BH35=\"Homme\",\"Male\",IF('Outil Recensement simplifié'!BH35=\"Femme\",\"Female\",IF('Outil Recensement simplifié'!BH35=\"H\",\"Male\",IF('Outil Recensement simplifié'!BH35=\"F\",\"Female\",\"\"))))","v":""},{"$f":"IF('Outil Recensement simplifié'!BI35=\"Oui\",\"Yes\",IF('Outil Recensement simplifié'!BI35=\"Non\",\"No\",IF('Outil Recensement simplifié'!BI35=\"O\",\"Yes\",IF('Outil Recensement simplifié'!BI35=\"N\",\"No\",\"\"))))","v":""},{"$f":"IF('Outil Recensement simplifié'!BJ35=\"Oui\",\"Yes\",IF('Outil Recensement simplifié'!BJ35=\"Non\",\"No\",IF('Outil Recensement simplifié'!BJ35=\"O\",\"Yes\",IF('Outil Recensement simplifié'!BJ35=\"N\",\"No\",\"\"))))","v":""},{"$f":"IF('Outil Recensement simplifié'!BK35>0,'Outil Recensement simplifié'!BK35,\"\")","v":""},{"$f":"IF('Outil Recensement simplifié'!BL35>0,'Outil Recensement simplifié'!BL35,\"\")","v":""},{"$f":"IF('Outil Recensement simplifié'!BM35>0,'Outil Recensement simplifié'!BM35,\"\")","v":""},{"$f":"IF('Outil Recensement simplifié'!BN35=\"Homme\",\"Male\",IF('Outil Recensement simplifié'!BN35=\"Femme\",\"Female\",IF('Outil Recensement simplifié'!BN35=\"H\",\"Male\",IF('Outil Recensement simplifié'!BN35=\"F\",\"Female\",\"\"))))","v":""},{"$f":"IF('Outil Recensement simplifié'!BO35=\"Oui\",\"Yes\",IF('Outil Recensement simplifié'!BO35=\"Non\",\"No\",IF('Outil Recensement simplifié'!BO35=\"O\",\"Yes\",IF('Outil Recensement simplifié'!BO35=\"N\",\"No\",\"\"))))","v":""},{"$f":"IF('Outil Recensement simplifié'!BP35=\"Oui\",\"Yes\",IF('Outil Recensement simplifié'!BP35=\"Non\",\"No\",IF('Outil Recensement simplifié'!BP35=\"O\",\"Yes\",IF('Outil Recensement simplifié'!BP35=\"N\",\"No\",\"\"))))","v":""},{"$f":"IF('Outil Recensement simplifié'!BQ35>0,'Outil Recensement simplifié'!BQ35,\"\")","v":""},{"$f":"IF('Outil Recensement simplifié'!BR35>0,'Outil Recensement simplifié'!BR35,\"\")","v":""},{"$f":"IF('Outil Recensement simplifié'!BS35>0,'Outil Recensement simplifié'!BS35,\"\")","v":""},{"$f":"IF('Outil Recensement simplifié'!BT35=\"Homme\",\"Male\",IF('Outil Recensement simplifié'!BT35=\"Femme\",\"Female\",IF('Outil Recensement simplifié'!BT35=\"H\",\"Male\",IF('Outil Recensement simplifié'!BT35=\"F\",\"Female\",\"\"))))","v":""},{"$f":"IF('Outil Recensement simplifié'!BU35=\"Oui\",\"Yes\",IF('Outil Recensement simplifié'!BU35=\"Non\",\"No\",IF('Outil Recensement simplifié'!BU35=\"O\",\"Yes\",IF('Outil Recensement simplifié'!BU35=\"N\",\"No\",\"\"))))","v":""},{"$f":"IF('Outil Recensement simplifié'!BV35=\"Oui\",\"Yes\",IF('Outil Recensement simplifié'!BV35=\"Non\",\"No\",IF('Outil Recensement simplifié'!BV35=\"O\",\"Yes\",IF('Outil Recensement simplifié'!BV35=\"N\",\"No\",\"\"))))","v":""},{"$f":"IF('Outil Recensement simplifié'!BW35>0,'Outil Recensement simplifié'!BW35,\"\")","v":""},{"$f":"IF('Outil Recensement simplifié'!BX35>0,'Outil Recensement simplifié'!BX35,\"\")","v":""},{"$f":"IF('Outil Recensement simplifié'!BY35>0,'Outil Recensement simplifié'!BY35,\"\")","v":""},{"$f":"IF('Outil Recensement simplifié'!BZ35=\"Homme\",\"Male\",IF('Outil Recensement simplifié'!BZ35=\"Femme\",\"Female\",IF('Outil Recensement simplifié'!BZ35=\"H\",\"Male\",IF('Outil Recensement simplifié'!BZ35=\"F\",\"Female\",\"\"))))","v":""},{"$f":"IF('Outil Recensement simplifié'!CA35=\"Oui\",\"Yes\",IF('Outil Recensement simplifié'!CA35=\"Non\",\"No\",IF('Outil Recensement simplifié'!CA35=\"O\",\"Yes\",IF('Outil Recensement simplifié'!CA35=\"N\",\"No\",\"\"))))","v":""},{"$f":"IF('Outil Recensement simplifié'!CB35=\"Oui\",\"Yes\",IF('Outil Recensement simplifié'!CB35=\"Non\",\"No\",IF('Outil Recensement simplifié'!CB35=\"O\",\"Yes\",IF('Outil Recensement simplifié'!CB35=\"N\",\"No\",\"\"))))","v":""},{"$f":"IF('Outil Recensement simplifié'!CH35>0,'Outil Recensement simplifié'!CH35,\"\")","v":"    "}]
[{"$f":"IF('Outil Recensement simplifié'!A36>0,'Outil Recensement simplifié'!A36,\"\")","v":""},{"$f":"IF('Outil Recensement simplifié'!B36>0,'Outil Recensement simplifié'!B36,\"\")","v":""},{"$f":"IF('Outil Recensement simplifié'!C36>0,'Outil Recensement simplifié'!C36,\"\")","v":""},{"$f":"IF('Outil Recensement simplifié'!D36>0,'Outil Recensement simplifié'!D36,\"\")","v":""},{"$f":"IF('Outil Recensement simplifié'!E36>0,TEXT('Outil Recensement simplifié'!E36,\"000\"),\"\")","v":""},{"$f":"IF('Outil Recensement simplifié'!F36>0,'Outil Recensement simplifié'!F36,\"\")","v":""},{"$f":"IF('Outil Recensement simplifié'!G36>0,'Outil Recensement simplifié'!G36,\"\")","v":""},{"$f":"IF('Outil Recensement simplifié'!I36>0,'Outil Recensement simplifié'!I36,\"\")","v":""},{"$f":"IF('Outil Recensement simplifié'!J36>0,'Outil Recensement simplifié'!J36,\"\")","v":""},{"$f":"IF('Outil Recensement simplifié'!K36>0,'Outil Recensement simplifié'!K36,\"\")","v":""},{"$f":"IF('Outil Recensement simplifié'!L36>0,'Outil Recensement simplifié'!L36,\"\")","v":""},{"$f":"IF('Outil Recensement simplifié'!M36=\"Homme\",\"Male\",IF('Outil Recensement simplifié'!M36=\"Femme\",\"Female\",IF('Outil Recensement simplifié'!M36=\"H\",\"Male\",IF('Outil Recensement simplifié'!M36=\"F\",\"Female\",\"\"))))","v":""},{"$f":"IF('Outil Recensement simplifié'!N36=\"Oui\",\"Yes\",IF('Outil Recensement simplifié'!N36=\"Non\",\"No\",IF('Outil Recensement simplifié'!N36=\"O\",\"Yes\",IF('Outil Recensement simplifié'!N36=\"N\",\"No\",\"\"))))","v":""},{"$f":"IF('Outil Recensement simplifié'!O36=\"Non\",\"Single\",IF('Outil Recensement simplifié'!O36=\"Oui\",\"Family\",IF('Outil Recensement simplifié'!O36=\"N\",\"Single\",IF('Outil Recensement simplifié'!O36=\"O\",\"Family\",IF('Outil Recensement simplifié'!O36=\"En vigueur\",\"Family\",\"\")))))","v":""},{"$f":"IF('Outil Recensement simplifié'!P36=\"Anglais\",\"English\",IF('Outil Recensement simplifié'!P36=\"Français\",\"French\",IF('Outil Recensement simplifié'!P36=\"A\",\"English\",IF('Outil Recensement simplifié'!P36=\"F\",\"French\",\"\"))))","v":""},{"$f":"IF('Outil Recensement simplifié'!Q36=\"Oui\",\"Yes\",IF('Outil Recensement simplifié'!Q36=\"Non\",\"No\",IF('Outil Recensement simplifié'!Q36=\"O\",\"Yes\",IF('Outil Recensement simplifié'!Q36=\"N\",\"No\",\"\"))))","v":""},{"$f":"IF('Outil Recensement simplifié'!R36>0,'Outil Recensement simplifié'!R36,\"\")","v":""},{"$f":"IF('Outil Recensement simplifié'!S36=\"Annuelle\",\"Annually\",IF('Outil Recensement simplifié'!S36=\"Mensuelle\",\"Monthly\",IF('Outil Recensement simplifié'!S36=\"Aux deux semaines\",\"Biweekly\",IF('Outil Recensement simplifié'!S36=\"Bimensuelle\",\"Semi-Monthly\",IF('Outil Recensement simplifié'!S36=\"Hebdomadaire\",\"Weekly\",IF('Outil Recensement simplifié'!S36=\"Horaire\",\"Hourly\",\"\"))))))","v":""},{"$f":"IF('Outil Recensement simplifié'!T36>0,'Outil Recensement simplifié'!T36,\"\")","v":""},{"$f":"IF('Outil Recensement simplifié'!U36>0,'Outil Recensement simplifié'!U36,\"\")","v":""},{"$f":"IF('Outil Recensement simplifié'!V36=\"Exemptée\",\"Yes\",\"\")","v":""},{"$f":"IF('Outil Recensement simplifié'!W36=\"Exemptée\",\"Yes\",\"\")","v":""},{"$f":"IF('Outil Recensement simplifié'!X36>0,'Outil Recensement simplifié'!X36,\"\")","v":""},{"$f":"IF('Outil Recensement simplifié'!Y36>0,'Outil Recensement simplifié'!Y36,\"\")","v":""},{"$f":"IF('Outil Recensement simplifié'!Z36>0,'Outil Recensement simplifié'!Z36,\"\")","v":""},{"$f":"IF('Outil Recensement simplifié'!AA36>0,'Outil Recensement simplifié'!AA36,\"\")","v":""},{"$f":"IF('Outil Recensement simplifié'!AB36>0,'Outil Recensement simplifié'!AB36,\"\")","v":""},{"$f":"IF('Outil Recensement simplifié'!AC36>0,'Outil Recensement simplifié'!AC36,\"\")","v":" "},{"$f":"IF('Outil Recensement simplifié'!AE36>0,'Outil Recensement simplifié'!AE36&\" \",\"\")&IF('Outil Recensement simplifié'!AD36>0,'Outil Recensement simplifié'!AD36,\"\")","v":""},null,{"$f":"IF('Outil Recensement simplifié'!AF36>0,'Outil Recensement simplifié'!AF36,\"\")","v":""},{"$f":"IF('Outil Recensement simplifié'!AG36>0,'Outil Recensement simplifié'!AG36,\"\")","v":""},{"$f":"IF('Outil Recensement simplifié'!AH36>0,'Outil Recensement simplifié'!AH36,\"\")","v":""},{"$f":"IF('Outil Recensement simplifié'!AI36>0,'Outil Recensement simplifié'!AI36,\"\")","v":""},{"$f":"IF('Outil Recensement simplifié'!AJ36>0,'Outil Recensement simplifié'!AJ36,\"\")","v":""},{"$f":"IF('Outil Recensement simplifié'!AK36>0,'Outil Recensement simplifié'!AK36,\"\")","v":""},{"$f":"IF('Outil Recensement simplifié'!AL36>0,'Outil Recensement simplifié'!AL36,\"\")","v":""},{"$f":"IF('Outil Recensement simplifié'!AM36>0,'Outil Recensement simplifié'!AM36,\"\")","v":""},{"$f":"IF('Outil Recensement simplifié'!AN36=\"Homme\",\"Male\",IF('Outil Recensement simplifié'!AN36=\"Femme\",\"Female\",IF('Outil Recensement simplifié'!AN36=\"H\",\"Male\",IF('Outil Recensement simplifié'!AN36=\"F\",\"Female\",\"\"))))","v":""},{"$f":"IF('Outil Recensement simplifié'!AO36=\"Individuelle\",\"Single\",IF('Outil Recensement simplifié'!AO36=\"Famille\",\"Family\",IF('Outil Recensement simplifié'!AO36=\"Individuel\",\"Single\",IF('Outil Recensement simplifié'!AO36=\"Familiale\",\"Family\",IF('Outil Recensement simplifié'!AO36=\"I\",\"Single\",IF('Outil Recensement simplifié'!AO36=\"F\",\"Family\",\"\"))))))","v":""},{"$f":"IF('Outil Recensement simplifié'!AP36=\"Individuelle\",\"Single\",IF('Outil Recensement simplifié'!AP36=\"Famille\",\"Family\",IF('Outil Recensement simplifié'!AP36=\"Individuel\",\"Single\",IF('Outil Recensement simplifié'!AP36=\"Familiale\",\"Family\",IF('Outil Recensement simplifié'!AP36=\"I\",\"Single\",IF('Outil Recensement simplifié'!AP36=\"F\",\"Family\",\"\"))))))","v":""},{"$f":"IF('Outil Recensement simplifié'!AQ36>0,'Outil Recensement simplifié'!AQ36,\"\")","v":""},{"$f":"IF('Outil Recensement simplifié'!AR36=\"Oui\",\"Yes\",IF('Outil Recensement simplifié'!AR36=\"Non\",\"No\",IF('Outil Recensement simplifié'!AR36=\"O\",\"Yes\",IF('Outil Recensement simplifié'!AR36=\"N\",\"No\",\"\"))))","v":""},{"$f":"IF('Outil Recensement simplifié'!AS36>0,'Outil Recensement simplifié'!AS36,\"\")","v":""},{"$f":"IF('Outil Recensement simplifié'!AT36>0,'Outil Recensement simplifié'!AT36,\"\")","v":""},{"$f":"IF('Outil Recensement simplifié'!AU36>0,'Outil Recensement simplifié'!AU36,\"\")","v":""},{"$f":"IF('Outil Recensement simplifié'!AV36=\"Homme\",\"Male\",IF('Outil Recensement simplifié'!AV36=\"Femme\",\"Female\",IF('Outil Recensement simplifié'!AV36=\"H\",\"Male\",IF('Outil Recensement simplifié'!AV36=\"F\",\"Female\",\"\"))))","v":""},{"$f":"IF('Outil Recensement simplifié'!AW36=\"Oui\",\"Yes\",IF('Outil Recensement simplifié'!AW36=\"Non\",\"No\",IF('Outil Recensement simplifié'!AW36=\"O\",\"Yes\",IF('Outil Recensement simplifié'!AW36=\"N\",\"No\",\"\"))))","v":""},{"$f":"IF('Outil Recensement simplifié'!AX36=\"Oui\",\"Yes\",IF('Outil Recensement simplifié'!AX36=\"Non\",\"No\",IF('Outil Recensement simplifié'!AX36=\"O\",\"Yes\",IF('Outil Recensement simplifié'!AX36=\"N\",\"No\",\"\"))))","v":""},{"$f":"IF('Outil Recensement simplifié'!AY36>0,'Outil Recensement simplifié'!AY36,\"\")","v":""},{"$f":"IF('Outil Recensement simplifié'!AZ36>0,'Outil Recensement simplifié'!AZ36,\"\")","v":""},{"$f":"IF('Outil Recensement simplifié'!BA36>0,'Outil Recensement simplifié'!BA36,\"\")","v":""},{"$f":"IF('Outil Recensement simplifié'!BB36=\"Homme\",\"Male\",IF('Outil Recensement simplifié'!BB36=\"Femme\",\"Female\",IF('Outil Recensement simplifié'!BB36=\"H\",\"Male\",IF('Outil Recensement simplifié'!BB36=\"F\",\"Female\",\"\"))))","v":""},{"$f":"IF('Outil Recensement simplifié'!BC36=\"Oui\",\"Yes\",IF('Outil Recensement simplifié'!BC36=\"Non\",\"No\",IF('Outil Recensement simplifié'!BC36=\"O\",\"Yes\",IF('Outil Recensement simplifié'!BC36=\"N\",\"No\",\"\"))))","v":""},{"$f":"IF('Outil Recensement simplifié'!BD36=\"Oui\",\"Yes\",IF('Outil Recensement simplifié'!BD36=\"Non\",\"No\",IF('Outil Recensement simplifié'!BD36=\"O\",\"Yes\",IF('Outil Recensement simplifié'!BD36=\"N\",\"No\",\"\"))))","v":""},{"$f":"IF('Outil Recensement simplifié'!BE36>0,'Outil Recensement simplifié'!BE36,\"\")","v":""},{"$f":"IF('Outil Recensement simplifié'!BF36>0,'Outil Recensement simplifié'!BF36,\"\")","v":""},{"$f":"IF('Outil Recensement simplifié'!BG36>0,'Outil Recensement simplifié'!BG36,\"\")","v":""},{"$f":"IF('Outil Recensement simplifié'!BH36=\"Homme\",\"Male\",IF('Outil Recensement simplifié'!BH36=\"Femme\",\"Female\",IF('Outil Recensement simplifié'!BH36=\"H\",\"Male\",IF('Outil Recensement simplifié'!BH36=\"F\",\"Female\",\"\"))))","v":""},{"$f":"IF('Outil Recensement simplifié'!BI36=\"Oui\",\"Yes\",IF('Outil Recensement simplifié'!BI36=\"Non\",\"No\",IF('Outil Recensement simplifié'!BI36=\"O\",\"Yes\",IF('Outil Recensement simplifié'!BI36=\"N\",\"No\",\"\"))))","v":""},{"$f":"IF('Outil Recensement simplifié'!BJ36=\"Oui\",\"Yes\",IF('Outil Recensement simplifié'!BJ36=\"Non\",\"No\",IF('Outil Recensement simplifié'!BJ36=\"O\",\"Yes\",IF('Outil Recensement simplifié'!BJ36=\"N\",\"No\",\"\"))))","v":""},{"$f":"IF('Outil Recensement simplifié'!BK36>0,'Outil Recensement simplifié'!BK36,\"\")","v":""},{"$f":"IF('Outil Recensement simplifié'!BL36>0,'Outil Recensement simplifié'!BL36,\"\")","v":""},{"$f":"IF('Outil Recensement simplifié'!BM36>0,'Outil Recensement simplifié'!BM36,\"\")","v":""},{"$f":"IF('Outil Recensement simplifié'!BN36=\"Homme\",\"Male\",IF('Outil Recensement simplifié'!BN36=\"Femme\",\"Female\",IF('Outil Recensement simplifié'!BN36=\"H\",\"Male\",IF('Outil Recensement simplifié'!BN36=\"F\",\"Female\",\"\"))))","v":""},{"$f":"IF('Outil Recensement simplifié'!BO36=\"Oui\",\"Yes\",IF('Outil Recensement simplifié'!BO36=\"Non\",\"No\",IF('Outil Recensement simplifié'!BO36=\"O\",\"Yes\",IF('Outil Recensement simplifié'!BO36=\"N\",\"No\",\"\"))))","v":""},{"$f":"IF('Outil Recensement simplifié'!BP36=\"Oui\",\"Yes\",IF('Outil Recensement simplifié'!BP36=\"Non\",\"No\",IF('Outil Recensement simplifié'!BP36=\"O\",\"Yes\",IF('Outil Recensement simplifié'!BP36=\"N\",\"No\",\"\"))))","v":""},{"$f":"IF('Outil Recensement simplifié'!BQ36>0,'Outil Recensement simplifié'!BQ36,\"\")","v":""},{"$f":"IF('Outil Recensement simplifié'!BR36>0,'Outil Recensement simplifié'!BR36,\"\")","v":""},{"$f":"IF('Outil Recensement simplifié'!BS36>0,'Outil Recensement simplifié'!BS36,\"\")","v":""},{"$f":"IF('Outil Recensement simplifié'!BT36=\"Homme\",\"Male\",IF('Outil Recensement simplifié'!BT36=\"Femme\",\"Female\",IF('Outil Recensement simplifié'!BT36=\"H\",\"Male\",IF('Outil Recensement simplifié'!BT36=\"F\",\"Female\",\"\"))))","v":""},{"$f":"IF('Outil Recensement simplifié'!BU36=\"Oui\",\"Yes\",IF('Outil Recensement simplifié'!BU36=\"Non\",\"No\",IF('Outil Recensement simplifié'!BU36=\"O\",\"Yes\",IF('Outil Recensement simplifié'!BU36=\"N\",\"No\",\"\"))))","v":""},{"$f":"IF('Outil Recensement simplifié'!BV36=\"Oui\",\"Yes\",IF('Outil Recensement simplifié'!BV36=\"Non\",\"No\",IF('Outil Recensement simplifié'!BV36=\"O\",\"Yes\",IF('Outil Recensement simplifié'!BV36=\"N\",\"No\",\"\"))))","v":""},{"$f":"IF('Outil Recensement simplifié'!BW36>0,'Outil Recensement simplifié'!BW36,\"\")","v":""},{"$f":"IF('Outil Recensement simplifié'!BX36>0,'Outil Recensement simplifié'!BX36,\"\")","v":""},{"$f":"IF('Outil Recensement simplifié'!BY36>0,'Outil Recensement simplifié'!BY36,\"\")","v":""},{"$f":"IF('Outil Recensement simplifié'!BZ36=\"Homme\",\"Male\",IF('Outil Recensement simplifié'!BZ36=\"Femme\",\"Female\",IF('Outil Recensement simplifié'!BZ36=\"H\",\"Male\",IF('Outil Recensement simplifié'!BZ36=\"F\",\"Female\",\"\"))))","v":""},{"$f":"IF('Outil Recensement simplifié'!CA36=\"Oui\",\"Yes\",IF('Outil Recensement simplifié'!CA36=\"Non\",\"No\",IF('Outil Recensement simplifié'!CA36=\"O\",\"Yes\",IF('Outil Recensement simplifié'!CA36=\"N\",\"No\",\"\"))))","v":""},{"$f":"IF('Outil Recensement simplifié'!CB36=\"Oui\",\"Yes\",IF('Outil Recensement simplifié'!CB36=\"Non\",\"No\",IF('Outil Recensement simplifié'!CB36=\"O\",\"Yes\",IF('Outil Recensement simplifié'!CB36=\"N\",\"No\",\"\"))))","v":""},{"$f":"IF('Outil Recensement simplifié'!CH36>0,'Outil Recensement simplifié'!CH36,\"\")","v":"    "}]
[{"$f":"IF('Outil Recensement simplifié'!A37>0,'Outil Recensement simplifié'!A37,\"\")","v":""},{"$f":"IF('Outil Recensement simplifié'!B37>0,'Outil Recensement simplifié'!B37,\"\")","v":""},{"$f":"IF('Outil Recensement simplifié'!C37>0,'Outil Recensement simplifié'!C37,\"\")","v":""},{"$f":"IF('Outil Recensement simplifié'!D37>0,'Outil Recensement simplifié'!D37,\"\")","v":""},{"$f":"IF('Outil Recensement simplifié'!E37>0,TEXT('Outil Recensement simplifié'!E37,\"000\"),\"\")","v":""},{"$f":"IF('Outil Recensement simplifié'!F37>0,'Outil Recensement simplifié'!F37,\"\")","v":""},{"$f":"IF('Outil Recensement simplifié'!G37>0,'Outil Recensement simplifié'!G37,\"\")","v":""},{"$f":"IF('Outil Recensement simplifié'!I37>0,'Outil Recensement simplifié'!I37,\"\")","v":""},{"$f":"IF('Outil Recensement simplifié'!J37>0,'Outil Recensement simplifié'!J37,\"\")","v":""},{"$f":"IF('Outil Recensement simplifié'!K37>0,'Outil Recensement simplifié'!K37,\"\")","v":""},{"$f":"IF('Outil Recensement simplifié'!L37>0,'Outil Recensement simplifié'!L37,\"\")","v":""},{"$f":"IF('Outil Recensement simplifié'!M37=\"Homme\",\"Male\",IF('Outil Recensement simplifié'!M37=\"Femme\",\"Female\",IF('Outil Recensement simplifié'!M37=\"H\",\"Male\",IF('Outil Recensement simplifié'!M37=\"F\",\"Female\",\"\"))))","v":""},{"$f":"IF('Outil Recensement simplifié'!N37=\"Oui\",\"Yes\",IF('Outil Recensement simplifié'!N37=\"Non\",\"No\",IF('Outil Recensement simplifié'!N37=\"O\",\"Yes\",IF('Outil Recensement simplifié'!N37=\"N\",\"No\",\"\"))))","v":""},{"$f":"IF('Outil Recensement simplifié'!O37=\"Non\",\"Single\",IF('Outil Recensement simplifié'!O37=\"Oui\",\"Family\",IF('Outil Recensement simplifié'!O37=\"N\",\"Single\",IF('Outil Recensement simplifié'!O37=\"O\",\"Family\",IF('Outil Recensement simplifié'!O37=\"En vigueur\",\"Family\",\"\")))))","v":""},{"$f":"IF('Outil Recensement simplifié'!P37=\"Anglais\",\"English\",IF('Outil Recensement simplifié'!P37=\"Français\",\"French\",IF('Outil Recensement simplifié'!P37=\"A\",\"English\",IF('Outil Recensement simplifié'!P37=\"F\",\"French\",\"\"))))","v":""},{"$f":"IF('Outil Recensement simplifié'!Q37=\"Oui\",\"Yes\",IF('Outil Recensement simplifié'!Q37=\"Non\",\"No\",IF('Outil Recensement simplifié'!Q37=\"O\",\"Yes\",IF('Outil Recensement simplifié'!Q37=\"N\",\"No\",\"\"))))","v":""},{"$f":"IF('Outil Recensement simplifié'!R37>0,'Outil Recensement simplifié'!R37,\"\")","v":""},{"$f":"IF('Outil Recensement simplifié'!S37=\"Annuelle\",\"Annually\",IF('Outil Recensement simplifié'!S37=\"Mensuelle\",\"Monthly\",IF('Outil Recensement simplifié'!S37=\"Aux deux semaines\",\"Biweekly\",IF('Outil Recensement simplifié'!S37=\"Bimensuelle\",\"Semi-Monthly\",IF('Outil Recensement simplifié'!S37=\"Hebdomadaire\",\"Weekly\",IF('Outil Recensement simplifié'!S37=\"Horaire\",\"Hourly\",\"\"))))))","v":""},{"$f":"IF('Outil Recensement simplifié'!T37>0,'Outil Recensement simplifié'!T37,\"\")","v":""},{"$f":"IF('Outil Recensement simplifié'!U37>0,'Outil Recensement simplifié'!U37,\"\")","v":""},{"$f":"IF('Outil Recensement simplifié'!V37=\"Exemptée\",\"Yes\",\"\")","v":""},{"$f":"IF('Outil Recensement simplifié'!W37=\"Exemptée\",\"Yes\",\"\")","v":""},{"$f":"IF('Outil Recensement simplifié'!X37>0,'Outil Recensement simplifié'!X37,\"\")","v":""},{"$f":"IF('Outil Recensement simplifié'!Y37>0,'Outil Recensement simplifié'!Y37,\"\")","v":""},{"$f":"IF('Outil Recensement simplifié'!Z37>0,'Outil Recensement simplifié'!Z37,\"\")","v":""},{"$f":"IF('Outil Recensement simplifié'!AA37>0,'Outil Recensement simplifié'!AA37,\"\")","v":""},{"$f":"IF('Outil Recensement simplifié'!AB37>0,'Outil Recensement simplifié'!AB37,\"\")","v":""},{"$f":"IF('Outil Recensement simplifié'!AC37>0,'Outil Recensement simplifié'!AC37,\"\")","v":" "},{"$f":"IF('Outil Recensement simplifié'!AE37>0,'Outil Recensement simplifié'!AE37&\" \",\"\")&IF('Outil Recensement simplifié'!AD37>0,'Outil Recensement simplifié'!AD37,\"\")","v":""},null,{"$f":"IF('Outil Recensement simplifié'!AF37>0,'Outil Recensement simplifié'!AF37,\"\")","v":""},{"$f":"IF('Outil Recensement simplifié'!AG37>0,'Outil Recensement simplifié'!AG37,\"\")","v":""},{"$f":"IF('Outil Recensement simplifié'!AH37>0,'Outil Recensement simplifié'!AH37,\"\")","v":""},{"$f":"IF('Outil Recensement simplifié'!AI37>0,'Outil Recensement simplifié'!AI37,\"\")","v":""},{"$f":"IF('Outil Recensement simplifié'!AJ37>0,'Outil Recensement simplifié'!AJ37,\"\")","v":""},{"$f":"IF('Outil Recensement simplifié'!AK37>0,'Outil Recensement simplifié'!AK37,\"\")","v":""},{"$f":"IF('Outil Recensement simplifié'!AL37>0,'Outil Recensement simplifié'!AL37,\"\")","v":""},{"$f":"IF('Outil Recensement simplifié'!AM37>0,'Outil Recensement simplifié'!AM37,\"\")","v":""},{"$f":"IF('Outil Recensement simplifié'!AN37=\"Homme\",\"Male\",IF('Outil Recensement simplifié'!AN37=\"Femme\",\"Female\",IF('Outil Recensement simplifié'!AN37=\"H\",\"Male\",IF('Outil Recensement simplifié'!AN37=\"F\",\"Female\",\"\"))))","v":""},{"$f":"IF('Outil Recensement simplifié'!AO37=\"Individuelle\",\"Single\",IF('Outil Recensement simplifié'!AO37=\"Famille\",\"Family\",IF('Outil Recensement simplifié'!AO37=\"Individuel\",\"Single\",IF('Outil Recensement simplifié'!AO37=\"Familiale\",\"Family\",IF('Outil Recensement simplifié'!AO37=\"I\",\"Single\",IF('Outil Recensement simplifié'!AO37=\"F\",\"Family\",\"\"))))))","v":""},{"$f":"IF('Outil Recensement simplifié'!AP37=\"Individuelle\",\"Single\",IF('Outil Recensement simplifié'!AP37=\"Famille\",\"Family\",IF('Outil Recensement simplifié'!AP37=\"Individuel\",\"Single\",IF('Outil Recensement simplifié'!AP37=\"Familiale\",\"Family\",IF('Outil Recensement simplifié'!AP37=\"I\",\"Single\",IF('Outil Recensement simplifié'!AP37=\"F\",\"Family\",\"\"))))))","v":""},{"$f":"IF('Outil Recensement simplifié'!AQ37>0,'Outil Recensement simplifié'!AQ37,\"\")","v":""},{"$f":"IF('Outil Recensement simplifié'!AR37=\"Oui\",\"Yes\",IF('Outil Recensement simplifié'!AR37=\"Non\",\"No\",IF('Outil Recensement simplifié'!AR37=\"O\",\"Yes\",IF('Outil Recensement simplifié'!AR37=\"N\",\"No\",\"\"))))","v":""},{"$f":"IF('Outil Recensement simplifié'!AS37>0,'Outil Recensement simplifié'!AS37,\"\")","v":""},{"$f":"IF('Outil Recensement simplifié'!AT37>0,'Outil Recensement simplifié'!AT37,\"\")","v":""},{"$f":"IF('Outil Recensement simplifié'!AU37>0,'Outil Recensement simplifié'!AU37,\"\")","v":""},{"$f":"IF('Outil Recensement simplifié'!AV37=\"Homme\",\"Male\",IF('Outil Recensement simplifié'!AV37=\"Femme\",\"Female\",IF('Outil Recensement simplifié'!AV37=\"H\",\"Male\",IF('Outil Recensement simplifié'!AV37=\"F\",\"Female\",\"\"))))","v":""},{"$f":"IF('Outil Recensement simplifié'!AW37=\"Oui\",\"Yes\",IF('Outil Recensement simplifié'!AW37=\"Non\",\"No\",IF('Outil Recensement simplifié'!AW37=\"O\",\"Yes\",IF('Outil Recensement simplifié'!AW37=\"N\",\"No\",\"\"))))","v":""},{"$f":"IF('Outil Recensement simplifié'!AX37=\"Oui\",\"Yes\",IF('Outil Recensement simplifié'!AX37=\"Non\",\"No\",IF('Outil Recensement simplifié'!AX37=\"O\",\"Yes\",IF('Outil Recensement simplifié'!AX37=\"N\",\"No\",\"\"))))","v":""},{"$f":"IF('Outil Recensement simplifié'!AY37>0,'Outil Recensement simplifié'!AY37,\"\")","v":""},{"$f":"IF('Outil Recensement simplifié'!AZ37>0,'Outil Recensement simplifié'!AZ37,\"\")","v":""},{"$f":"IF('Outil Recensement simplifié'!BA37>0,'Outil Recensement simplifié'!BA37,\"\")","v":""},{"$f":"IF('Outil Recensement simplifié'!BB37=\"Homme\",\"Male\",IF('Outil Recensement simplifié'!BB37=\"Femme\",\"Female\",IF('Outil Recensement simplifié'!BB37=\"H\",\"Male\",IF('Outil Recensement simplifié'!BB37=\"F\",\"Female\",\"\"))))","v":""},{"$f":"IF('Outil Recensement simplifié'!BC37=\"Oui\",\"Yes\",IF('Outil Recensement simplifié'!BC37=\"Non\",\"No\",IF('Outil Recensement simplifié'!BC37=\"O\",\"Yes\",IF('Outil Recensement simplifié'!BC37=\"N\",\"No\",\"\"))))","v":""},{"$f":"IF('Outil Recensement simplifié'!BD37=\"Oui\",\"Yes\",IF('Outil Recensement simplifié'!BD37=\"Non\",\"No\",IF('Outil Recensement simplifié'!BD37=\"O\",\"Yes\",IF('Outil Recensement simplifié'!BD37=\"N\",\"No\",\"\"))))","v":""},{"$f":"IF('Outil Recensement simplifié'!BE37>0,'Outil Recensement simplifié'!BE37,\"\")","v":""},{"$f":"IF('Outil Recensement simplifié'!BF37>0,'Outil Recensement simplifié'!BF37,\"\")","v":""},{"$f":"IF('Outil Recensement simplifié'!BG37>0,'Outil Recensement simplifié'!BG37,\"\")","v":""},{"$f":"IF('Outil Recensement simplifié'!BH37=\"Homme\",\"Male\",IF('Outil Recensement simplifié'!BH37=\"Femme\",\"Female\",IF('Outil Recensement simplifié'!BH37=\"H\",\"Male\",IF('Outil Recensement simplifié'!BH37=\"F\",\"Female\",\"\"))))","v":""},{"$f":"IF('Outil Recensement simplifié'!BI37=\"Oui\",\"Yes\",IF('Outil Recensement simplifié'!BI37=\"Non\",\"No\",IF('Outil Recensement simplifié'!BI37=\"O\",\"Yes\",IF('Outil Recensement simplifié'!BI37=\"N\",\"No\",\"\"))))","v":""},{"$f":"IF('Outil Recensement simplifié'!BJ37=\"Oui\",\"Yes\",IF('Outil Recensement simplifié'!BJ37=\"Non\",\"No\",IF('Outil Recensement simplifié'!BJ37=\"O\",\"Yes\",IF('Outil Recensement simplifié'!BJ37=\"N\",\"No\",\"\"))))","v":""},{"$f":"IF('Outil Recensement simplifié'!BK37>0,'Outil Recensement simplifié'!BK37,\"\")","v":""},{"$f":"IF('Outil Recensement simplifié'!BL37>0,'Outil Recensement simplifié'!BL37,\"\")","v":""},{"$f":"IF('Outil Recensement simplifié'!BM37>0,'Outil Recensement simplifié'!BM37,\"\")","v":""},{"$f":"IF('Outil Recensement simplifié'!BN37=\"Homme\",\"Male\",IF('Outil Recensement simplifié'!BN37=\"Femme\",\"Female\",IF('Outil Recensement simplifié'!BN37=\"H\",\"Male\",IF('Outil Recensement simplifié'!BN37=\"F\",\"Female\",\"\"))))","v":""},{"$f":"IF('Outil Recensement simplifié'!BO37=\"Oui\",\"Yes\",IF('Outil Recensement simplifié'!BO37=\"Non\",\"No\",IF('Outil Recensement simplifié'!BO37=\"O\",\"Yes\",IF('Outil Recensement simplifié'!BO37=\"N\",\"No\",\"\"))))","v":""},{"$f":"IF('Outil Recensement simplifié'!BP37=\"Oui\",\"Yes\",IF('Outil Recensement simplifié'!BP37=\"Non\",\"No\",IF('Outil Recensement simplifié'!BP37=\"O\",\"Yes\",IF('Outil Recensement simplifié'!BP37=\"N\",\"No\",\"\"))))","v":""},{"$f":"IF('Outil Recensement simplifié'!BQ37>0,'Outil Recensement simplifié'!BQ37,\"\")","v":""},{"$f":"IF('Outil Recensement simplifié'!BR37>0,'Outil Recensement simplifié'!BR37,\"\")","v":""},{"$f":"IF('Outil Recensement simplifié'!BS37>0,'Outil Recensement simplifié'!BS37,\"\")","v":""},{"$f":"IF('Outil Recensement simplifié'!BT37=\"Homme\",\"Male\",IF('Outil Recensement simplifié'!BT37=\"Femme\",\"Female\",IF('Outil Recensement simplifié'!BT37=\"H\",\"Male\",IF('Outil Recensement simplifié'!BT37=\"F\",\"Female\",\"\"))))","v":""},{"$f":"IF('Outil Recensement simplifié'!BU37=\"Oui\",\"Yes\",IF('Outil Recensement simplifié'!BU37=\"Non\",\"No\",IF('Outil Recensement simplifié'!BU37=\"O\",\"Yes\",IF('Outil Recensement simplifié'!BU37=\"N\",\"No\",\"\"))))","v":""},{"$f":"IF('Outil Recensement simplifié'!BV37=\"Oui\",\"Yes\",IF('Outil Recensement simplifié'!BV37=\"Non\",\"No\",IF('Outil Recensement simplifié'!BV37=\"O\",\"Yes\",IF('Outil Recensement simplifié'!BV37=\"N\",\"No\",\"\"))))","v":""},{"$f":"IF('Outil Recensement simplifié'!BW37>0,'Outil Recensement simplifié'!BW37,\"\")","v":""},{"$f":"IF('Outil Recensement simplifié'!BX37>0,'Outil Recensement simplifié'!BX37,\"\")","v":""},{"$f":"IF('Outil Recensement simplifié'!BY37>0,'Outil Recensement simplifié'!BY37,\"\")","v":""},{"$f":"IF('Outil Recensement simplifié'!BZ37=\"Homme\",\"Male\",IF('Outil Recensement simplifié'!BZ37=\"Femme\",\"Female\",IF('Outil Recensement simplifié'!BZ37=\"H\",\"Male\",IF('Outil Recensement simplifié'!BZ37=\"F\",\"Female\",\"\"))))","v":""},{"$f":"IF('Outil Recensement simplifié'!CA37=\"Oui\",\"Yes\",IF('Outil Recensement simplifié'!CA37=\"Non\",\"No\",IF('Outil Recensement simplifié'!CA37=\"O\",\"Yes\",IF('Outil Recensement simplifié'!CA37=\"N\",\"No\",\"\"))))","v":""},{"$f":"IF('Outil Recensement simplifié'!CB37=\"Oui\",\"Yes\",IF('Outil Recensement simplifié'!CB37=\"Non\",\"No\",IF('Outil Recensement simplifié'!CB37=\"O\",\"Yes\",IF('Outil Recensement simplifié'!CB37=\"N\",\"No\",\"\"))))","v":""},{"$f":"IF('Outil Recensement simplifié'!CH37>0,'Outil Recensement simplifié'!CH37,\"\")","v":"    "}]
[{"$f":"IF('Outil Recensement simplifié'!A38>0,'Outil Recensement simplifié'!A38,\"\")","v":""},{"$f":"IF('Outil Recensement simplifié'!B38>0,'Outil Recensement simplifié'!B38,\"\")","v":""},{"$f":"IF('Outil Recensement simplifié'!C38>0,'Outil Recensement simplifié'!C38,\"\")","v":""},{"$f":"IF('Outil Recensement simplifié'!D38>0,'Outil Recensement simplifié'!D38,\"\")","v":""},{"$f":"IF('Outil Recensement simplifié'!E38>0,TEXT('Outil Recensement simplifié'!E38,\"000\"),\"\")","v":""},{"$f":"IF('Outil Recensement simplifié'!F38>0,'Outil Recensement simplifié'!F38,\"\")","v":""},{"$f":"IF('Outil Recensement simplifié'!G38>0,'Outil Recensement simplifié'!G38,\"\")","v":""},{"$f":"IF('Outil Recensement simplifié'!I38>0,'Outil Recensement simplifié'!I38,\"\")","v":""},{"$f":"IF('Outil Recensement simplifié'!J38>0,'Outil Recensement simplifié'!J38,\"\")","v":""},{"$f":"IF('Outil Recensement simplifié'!K38>0,'Outil Recensement simplifié'!K38,\"\")","v":""},{"$f":"IF('Outil Recensement simplifié'!L38>0,'Outil Recensement simplifié'!L38,\"\")","v":""},{"$f":"IF('Outil Recensement simplifié'!M38=\"Homme\",\"Male\",IF('Outil Recensement simplifié'!M38=\"Femme\",\"Female\",IF('Outil Recensement simplifié'!M38=\"H\",\"Male\",IF('Outil Recensement simplifié'!M38=\"F\",\"Female\",\"\"))))","v":""},{"$f":"IF('Outil Recensement simplifié'!N38=\"Oui\",\"Yes\",IF('Outil Recensement simplifié'!N38=\"Non\",\"No\",IF('Outil Recensement simplifié'!N38=\"O\",\"Yes\",IF('Outil Recensement simplifié'!N38=\"N\",\"No\",\"\"))))","v":""},{"$f":"IF('Outil Recensement simplifié'!O38=\"Non\",\"Single\",IF('Outil Recensement simplifié'!O38=\"Oui\",\"Family\",IF('Outil Recensement simplifié'!O38=\"N\",\"Single\",IF('Outil Recensement simplifié'!O38=\"O\",\"Family\",IF('Outil Recensement simplifié'!O38=\"En vigueur\",\"Family\",\"\")))))","v":""},{"$f":"IF('Outil Recensement simplifié'!P38=\"Anglais\",\"English\",IF('Outil Recensement simplifié'!P38=\"Français\",\"French\",IF('Outil Recensement simplifié'!P38=\"A\",\"English\",IF('Outil Recensement simplifié'!P38=\"F\",\"French\",\"\"))))","v":""},{"$f":"IF('Outil Recensement simplifié'!Q38=\"Oui\",\"Yes\",IF('Outil Recensement simplifié'!Q38=\"Non\",\"No\",IF('Outil Recensement simplifié'!Q38=\"O\",\"Yes\",IF('Outil Recensement simplifié'!Q38=\"N\",\"No\",\"\"))))","v":""},{"$f":"IF('Outil Recensement simplifié'!R38>0,'Outil Recensement simplifié'!R38,\"\")","v":""},{"$f":"IF('Outil Recensement simplifié'!S38=\"Annuelle\",\"Annually\",IF('Outil Recensement simplifié'!S38=\"Mensuelle\",\"Monthly\",IF('Outil Recensement simplifié'!S38=\"Aux deux semaines\",\"Biweekly\",IF('Outil Recensement simplifié'!S38=\"Bimensuelle\",\"Semi-Monthly\",IF('Outil Recensement simplifié'!S38=\"Hebdomadaire\",\"Weekly\",IF('Outil Recensement simplifié'!S38=\"Horaire\",\"Hourly\",\"\"))))))","v":""},{"$f":"IF('Outil Recensement simplifié'!T38>0,'Outil Recensement simplifié'!T38,\"\")","v":""},{"$f":"IF('Outil Recensement simplifié'!U38>0,'Outil Recensement simplifié'!U38,\"\")","v":""},{"$f":"IF('Outil Recensement simplifié'!V38=\"Exemptée\",\"Yes\",\"\")","v":""},{"$f":"IF('Outil Recensement simplifié'!W38=\"Exemptée\",\"Yes\",\"\")","v":""},{"$f":"IF('Outil Recensement simplifié'!X38>0,'Outil Recensement simplifié'!X38,\"\")","v":""},{"$f":"IF('Outil Recensement simplifié'!Y38>0,'Outil Recensement simplifié'!Y38,\"\")","v":""},{"$f":"IF('Outil Recensement simplifié'!Z38>0,'Outil Recensement simplifié'!Z38,\"\")","v":""},{"$f":"IF('Outil Recensement simplifié'!AA38>0,'Outil Recensement simplifié'!AA38,\"\")","v":""},{"$f":"IF('Outil Recensement simplifié'!AB38>0,'Outil Recensement simplifié'!AB38,\"\")","v":""},{"$f":"IF('Outil Recensement simplifié'!AC38>0,'Outil Recensement simplifié'!AC38,\"\")","v":" "},{"$f":"IF('Outil Recensement simplifié'!AE38>0,'Outil Recensement simplifié'!AE38&\" \",\"\")&IF('Outil Recensement simplifié'!AD38>0,'Outil Recensement simplifié'!AD38,\"\")","v":""},null,{"$f":"IF('Outil Recensement simplifié'!AF38>0,'Outil Recensement simplifié'!AF38,\"\")","v":""},{"$f":"IF('Outil Recensement simplifié'!AG38>0,'Outil Recensement simplifié'!AG38,\"\")","v":""},{"$f":"IF('Outil Recensement simplifié'!AH38>0,'Outil Recensement simplifié'!AH38,\"\")","v":""},{"$f":"IF('Outil Recensement simplifié'!AI38>0,'Outil Recensement simplifié'!AI38,\"\")","v":""},{"$f":"IF('Outil Recensement simplifié'!AJ38>0,'Outil Recensement simplifié'!AJ38,\"\")","v":""},{"$f":"IF('Outil Recensement simplifié'!AK38>0,'Outil Recensement simplifié'!AK38,\"\")","v":""},{"$f":"IF('Outil Recensement simplifié'!AL38>0,'Outil Recensement simplifié'!AL38,\"\")","v":""},{"$f":"IF('Outil Recensement simplifié'!AM38>0,'Outil Recensement simplifié'!AM38,\"\")","v":""},{"$f":"IF('Outil Recensement simplifié'!AN38=\"Homme\",\"Male\",IF('Outil Recensement simplifié'!AN38=\"Femme\",\"Female\",IF('Outil Recensement simplifié'!AN38=\"H\",\"Male\",IF('Outil Recensement simplifié'!AN38=\"F\",\"Female\",\"\"))))","v":""},{"$f":"IF('Outil Recensement simplifié'!AO38=\"Individuelle\",\"Single\",IF('Outil Recensement simplifié'!AO38=\"Famille\",\"Family\",IF('Outil Recensement simplifié'!AO38=\"Individuel\",\"Single\",IF('Outil Recensement simplifié'!AO38=\"Familiale\",\"Family\",IF('Outil Recensement simplifié'!AO38=\"I\",\"Single\",IF('Outil Recensement simplifié'!AO38=\"F\",\"Family\",\"\"))))))","v":""},{"$f":"IF('Outil Recensement simplifié'!AP38=\"Individuelle\",\"Single\",IF('Outil Recensement simplifié'!AP38=\"Famille\",\"Family\",IF('Outil Recensement simplifié'!AP38=\"Individuel\",\"Single\",IF('Outil Recensement simplifié'!AP38=\"Familiale\",\"Family\",IF('Outil Recensement simplifié'!AP38=\"I\",\"Single\",IF('Outil Recensement simplifié'!AP38=\"F\",\"Family\",\"\"))))))","v":""},{"$f":"IF('Outil Recensement simplifié'!AQ38>0,'Outil Recensement simplifié'!AQ38,\"\")","v":""},{"$f":"IF('Outil Recensement simplifié'!AR38=\"Oui\",\"Yes\",IF('Outil Recensement simplifié'!AR38=\"Non\",\"No\",IF('Outil Recensement simplifié'!AR38=\"O\",\"Yes\",IF('Outil Recensement simplifié'!AR38=\"N\",\"No\",\"\"))))","v":""},{"$f":"IF('Outil Recensement simplifié'!AS38>0,'Outil Recensement simplifié'!AS38,\"\")","v":""},{"$f":"IF('Outil Recensement simplifié'!AT38>0,'Outil Recensement simplifié'!AT38,\"\")","v":""},{"$f":"IF('Outil Recensement simplifié'!AU38>0,'Outil Recensement simplifié'!AU38,\"\")","v":""},{"$f":"IF('Outil Recensement simplifié'!AV38=\"Homme\",\"Male\",IF('Outil Recensement simplifié'!AV38=\"Femme\",\"Female\",IF('Outil Recensement simplifié'!AV38=\"H\",\"Male\",IF('Outil Recensement simplifié'!AV38=\"F\",\"Female\",\"\"))))","v":""},{"$f":"IF('Outil Recensement simplifié'!AW38=\"Oui\",\"Yes\",IF('Outil Recensement simplifié'!AW38=\"Non\",\"No\",IF('Outil Recensement simplifié'!AW38=\"O\",\"Yes\",IF('Outil Recensement simplifié'!AW38=\"N\",\"No\",\"\"))))","v":""},{"$f":"IF('Outil Recensement simplifié'!AX38=\"Oui\",\"Yes\",IF('Outil Recensement simplifié'!AX38=\"Non\",\"No\",IF('Outil Recensement simplifié'!AX38=\"O\",\"Yes\",IF('Outil Recensement simplifié'!AX38=\"N\",\"No\",\"\"))))","v":""},{"$f":"IF('Outil Recensement simplifié'!AY38>0,'Outil Recensement simplifié'!AY38,\"\")","v":""},{"$f":"IF('Outil Recensement simplifié'!AZ38>0,'Outil Recensement simplifié'!AZ38,\"\")","v":""},{"$f":"IF('Outil Recensement simplifié'!BA38>0,'Outil Recensement simplifié'!BA38,\"\")","v":""},{"$f":"IF('Outil Recensement simplifié'!BB38=\"Homme\",\"Male\",IF('Outil Recensement simplifié'!BB38=\"Femme\",\"Female\",IF('Outil Recensement simplifié'!BB38=\"H\",\"Male\",IF('Outil Recensement simplifié'!BB38=\"F\",\"Female\",\"\"))))","v":""},{"$f":"IF('Outil Recensement simplifié'!BC38=\"Oui\",\"Yes\",IF('Outil Recensement simplifié'!BC38=\"Non\",\"No\",IF('Outil Recensement simplifié'!BC38=\"O\",\"Yes\",IF('Outil Recensement simplifié'!BC38=\"N\",\"No\",\"\"))))","v":""},{"$f":"IF('Outil Recensement simplifié'!BD38=\"Oui\",\"Yes\",IF('Outil Recensement simplifié'!BD38=\"Non\",\"No\",IF('Outil Recensement simplifié'!BD38=\"O\",\"Yes\",IF('Outil Recensement simplifié'!BD38=\"N\",\"No\",\"\"))))","v":""},{"$f":"IF('Outil Recensement simplifié'!BE38>0,'Outil Recensement simplifié'!BE38,\"\")","v":""},{"$f":"IF('Outil Recensement simplifié'!BF38>0,'Outil Recensement simplifié'!BF38,\"\")","v":""},{"$f":"IF('Outil Recensement simplifié'!BG38>0,'Outil Recensement simplifié'!BG38,\"\")","v":""},{"$f":"IF('Outil Recensement simplifié'!BH38=\"Homme\",\"Male\",IF('Outil Recensement simplifié'!BH38=\"Femme\",\"Female\",IF('Outil Recensement simplifié'!BH38=\"H\",\"Male\",IF('Outil Recensement simplifié'!BH38=\"F\",\"Female\",\"\"))))","v":""},{"$f":"IF('Outil Recensement simplifié'!BI38=\"Oui\",\"Yes\",IF('Outil Recensement simplifié'!BI38=\"Non\",\"No\",IF('Outil Recensement simplifié'!BI38=\"O\",\"Yes\",IF('Outil Recensement simplifié'!BI38=\"N\",\"No\",\"\"))))","v":""},{"$f":"IF('Outil Recensement simplifié'!BJ38=\"Oui\",\"Yes\",IF('Outil Recensement simplifié'!BJ38=\"Non\",\"No\",IF('Outil Recensement simplifié'!BJ38=\"O\",\"Yes\",IF('Outil Recensement simplifié'!BJ38=\"N\",\"No\",\"\"))))","v":""},{"$f":"IF('Outil Recensement simplifié'!BK38>0,'Outil Recensement simplifié'!BK38,\"\")","v":""},{"$f":"IF('Outil Recensement simplifié'!BL38>0,'Outil Recensement simplifié'!BL38,\"\")","v":""},{"$f":"IF('Outil Recensement simplifié'!BM38>0,'Outil Recensement simplifié'!BM38,\"\")","v":""},{"$f":"IF('Outil Recensement simplifié'!BN38=\"Homme\",\"Male\",IF('Outil Recensement simplifié'!BN38=\"Femme\",\"Female\",IF('Outil Recensement simplifié'!BN38=\"H\",\"Male\",IF('Outil Recensement simplifié'!BN38=\"F\",\"Female\",\"\"))))","v":""},{"$f":"IF('Outil Recensement simplifié'!BO38=\"Oui\",\"Yes\",IF('Outil Recensement simplifié'!BO38=\"Non\",\"No\",IF('Outil Recensement simplifié'!BO38=\"O\",\"Yes\",IF('Outil Recensement simplifié'!BO38=\"N\",\"No\",\"\"))))","v":""},{"$f":"IF('Outil Recensement simplifié'!BP38=\"Oui\",\"Yes\",IF('Outil Recensement simplifié'!BP38=\"Non\",\"No\",IF('Outil Recensement simplifié'!BP38=\"O\",\"Yes\",IF('Outil Recensement simplifié'!BP38=\"N\",\"No\",\"\"))))","v":""},{"$f":"IF('Outil Recensement simplifié'!BQ38>0,'Outil Recensement simplifié'!BQ38,\"\")","v":""},{"$f":"IF('Outil Recensement simplifié'!BR38>0,'Outil Recensement simplifié'!BR38,\"\")","v":""},{"$f":"IF('Outil Recensement simplifié'!BS38>0,'Outil Recensement simplifié'!BS38,\"\")","v":""},{"$f":"IF('Outil Recensement simplifié'!BT38=\"Homme\",\"Male\",IF('Outil Recensement simplifié'!BT38=\"Femme\",\"Female\",IF('Outil Recensement simplifié'!BT38=\"H\",\"Male\",IF('Outil Recensement simplifié'!BT38=\"F\",\"Female\",\"\"))))","v":""},{"$f":"IF('Outil Recensement simplifié'!BU38=\"Oui\",\"Yes\",IF('Outil Recensement simplifié'!BU38=\"Non\",\"No\",IF('Outil Recensement simplifié'!BU38=\"O\",\"Yes\",IF('Outil Recensement simplifié'!BU38=\"N\",\"No\",\"\"))))","v":""},{"$f":"IF('Outil Recensement simplifié'!BV38=\"Oui\",\"Yes\",IF('Outil Recensement simplifié'!BV38=\"Non\",\"No\",IF('Outil Recensement simplifié'!BV38=\"O\",\"Yes\",IF('Outil Recensement simplifié'!BV38=\"N\",\"No\",\"\"))))","v":""},{"$f":"IF('Outil Recensement simplifié'!BW38>0,'Outil Recensement simplifié'!BW38,\"\")","v":""},{"$f":"IF('Outil Recensement simplifié'!BX38>0,'Outil Recensement simplifié'!BX38,\"\")","v":""},{"$f":"IF('Outil Recensement simplifié'!BY38>0,'Outil Recensement simplifié'!BY38,\"\")","v":""},{"$f":"IF('Outil Recensement simplifié'!BZ38=\"Homme\",\"Male\",IF('Outil Recensement simplifié'!BZ38=\"Femme\",\"Female\",IF('Outil Recensement simplifié'!BZ38=\"H\",\"Male\",IF('Outil Recensement simplifié'!BZ38=\"F\",\"Female\",\"\"))))","v":""},{"$f":"IF('Outil Recensement simplifié'!CA38=\"Oui\",\"Yes\",IF('Outil Recensement simplifié'!CA38=\"Non\",\"No\",IF('Outil Recensement simplifié'!CA38=\"O\",\"Yes\",IF('Outil Recensement simplifié'!CA38=\"N\",\"No\",\"\"))))","v":""},{"$f":"IF('Outil Recensement simplifié'!CB38=\"Oui\",\"Yes\",IF('Outil Recensement simplifié'!CB38=\"Non\",\"No\",IF('Outil Recensement simplifié'!CB38=\"O\",\"Yes\",IF('Outil Recensement simplifié'!CB38=\"N\",\"No\",\"\"))))","v":""},{"$f":"IF('Outil Recensement simplifié'!CH38>0,'Outil Recensement simplifié'!CH38,\"\")","v":"    "}]
[{"$f":"IF('Outil Recensement simplifié'!A39>0,'Outil Recensement simplifié'!A39,\"\")","v":""},{"$f":"IF('Outil Recensement simplifié'!B39>0,'Outil Recensement simplifié'!B39,\"\")","v":""},{"$f":"IF('Outil Recensement simplifié'!C39>0,'Outil Recensement simplifié'!C39,\"\")","v":""},{"$f":"IF('Outil Recensement simplifié'!D39>0,'Outil Recensement simplifié'!D39,\"\")","v":""},{"$f":"IF('Outil Recensement simplifié'!E39>0,TEXT('Outil Recensement simplifié'!E39,\"000\"),\"\")","v":""},{"$f":"IF('Outil Recensement simplifié'!F39>0,'Outil Recensement simplifié'!F39,\"\")","v":""},{"$f":"IF('Outil Recensement simplifié'!G39>0,'Outil Recensement simplifié'!G39,\"\")","v":""},{"$f":"IF('Outil Recensement simplifié'!I39>0,'Outil Recensement simplifié'!I39,\"\")","v":""},{"$f":"IF('Outil Recensement simplifié'!J39>0,'Outil Recensement simplifié'!J39,\"\")","v":""},{"$f":"IF('Outil Recensement simplifié'!K39>0,'Outil Recensement simplifié'!K39,\"\")","v":""},{"$f":"IF('Outil Recensement simplifié'!L39>0,'Outil Recensement simplifié'!L39,\"\")","v":""},{"$f":"IF('Outil Recensement simplifié'!M39=\"Homme\",\"Male\",IF('Outil Recensement simplifié'!M39=\"Femme\",\"Female\",IF('Outil Recensement simplifié'!M39=\"H\",\"Male\",IF('Outil Recensement simplifié'!M39=\"F\",\"Female\",\"\"))))","v":""},{"$f":"IF('Outil Recensement simplifié'!N39=\"Oui\",\"Yes\",IF('Outil Recensement simplifié'!N39=\"Non\",\"No\",IF('Outil Recensement simplifié'!N39=\"O\",\"Yes\",IF('Outil Recensement simplifié'!N39=\"N\",\"No\",\"\"))))","v":""},{"$f":"IF('Outil Recensement simplifié'!O39=\"Non\",\"Single\",IF('Outil Recensement simplifié'!O39=\"Oui\",\"Family\",IF('Outil Recensement simplifié'!O39=\"N\",\"Single\",IF('Outil Recensement simplifié'!O39=\"O\",\"Family\",IF('Outil Recensement simplifié'!O39=\"En vigueur\",\"Family\",\"\")))))","v":""},{"$f":"IF('Outil Recensement simplifié'!P39=\"Anglais\",\"English\",IF('Outil Recensement simplifié'!P39=\"Français\",\"French\",IF('Outil Recensement simplifié'!P39=\"A\",\"English\",IF('Outil Recensement simplifié'!P39=\"F\",\"French\",\"\"))))","v":""},{"$f":"IF('Outil Recensement simplifié'!Q39=\"Oui\",\"Yes\",IF('Outil Recensement simplifié'!Q39=\"Non\",\"No\",IF('Outil Recensement simplifié'!Q39=\"O\",\"Yes\",IF('Outil Recensement simplifié'!Q39=\"N\",\"No\",\"\"))))","v":""},{"$f":"IF('Outil Recensement simplifié'!R39>0,'Outil Recensement simplifié'!R39,\"\")","v":""},{"$f":"IF('Outil Recensement simplifié'!S39=\"Annuelle\",\"Annually\",IF('Outil Recensement simplifié'!S39=\"Mensuelle\",\"Monthly\",IF('Outil Recensement simplifié'!S39=\"Aux deux semaines\",\"Biweekly\",IF('Outil Recensement simplifié'!S39=\"Bimensuelle\",\"Semi-Monthly\",IF('Outil Recensement simplifié'!S39=\"Hebdomadaire\",\"Weekly\",IF('Outil Recensement simplifié'!S39=\"Horaire\",\"Hourly\",\"\"))))))","v":""},{"$f":"IF('Outil Recensement simplifié'!T39>0,'Outil Recensement simplifié'!T39,\"\")","v":""},{"$f":"IF('Outil Recensement simplifié'!U39>0,'Outil Recensement simplifié'!U39,\"\")","v":""},{"$f":"IF('Outil Recensement simplifié'!V39=\"Exemptée\",\"Yes\",\"\")","v":""},{"$f":"IF('Outil Recensement simplifié'!W39=\"Exemptée\",\"Yes\",\"\")","v":""},{"$f":"IF('Outil Recensement simplifié'!X39>0,'Outil Recensement simplifié'!X39,\"\")","v":""},{"$f":"IF('Outil Recensement simplifié'!Y39>0,'Outil Recensement simplifié'!Y39,\"\")","v":""},{"$f":"IF('Outil Recensement simplifié'!Z39>0,'Outil Recensement simplifié'!Z39,\"\")","v":""},{"$f":"IF('Outil Recensement simplifié'!AA39>0,'Outil Recensement simplifié'!AA39,\"\")","v":""},{"$f":"IF('Outil Recensement simplifié'!AB39>0,'Outil Recensement simplifié'!AB39,\"\")","v":""},{"$f":"IF('Outil Recensement simplifié'!AC39>0,'Outil Recensement simplifié'!AC39,\"\")","v":" "},{"$f":"IF('Outil Recensement simplifié'!AE39>0,'Outil Recensement simplifié'!AE39&\" \",\"\")&IF('Outil Recensement simplifié'!AD39>0,'Outil Recensement simplifié'!AD39,\"\")","v":""},null,{"$f":"IF('Outil Recensement simplifié'!AF39>0,'Outil Recensement simplifié'!AF39,\"\")","v":""},{"$f":"IF('Outil Recensement simplifié'!AG39>0,'Outil Recensement simplifié'!AG39,\"\")","v":""},{"$f":"IF('Outil Recensement simplifié'!AH39>0,'Outil Recensement simplifié'!AH39,\"\")","v":""},{"$f":"IF('Outil Recensement simplifié'!AI39>0,'Outil Recensement simplifié'!AI39,\"\")","v":""},{"$f":"IF('Outil Recensement simplifié'!AJ39>0,'Outil Recensement simplifié'!AJ39,\"\")","v":""},{"$f":"IF('Outil Recensement simplifié'!AK39>0,'Outil Recensement simplifié'!AK39,\"\")","v":""},{"$f":"IF('Outil Recensement simplifié'!AL39>0,'Outil Recensement simplifié'!AL39,\"\")","v":""},{"$f":"IF('Outil Recensement simplifié'!AM39>0,'Outil Recensement simplifié'!AM39,\"\")","v":""},{"$f":"IF('Outil Recensement simplifié'!AN39=\"Homme\",\"Male\",IF('Outil Recensement simplifié'!AN39=\"Femme\",\"Female\",IF('Outil Recensement simplifié'!AN39=\"H\",\"Male\",IF('Outil Recensement simplifié'!AN39=\"F\",\"Female\",\"\"))))","v":""},{"$f":"IF('Outil Recensement simplifié'!AO39=\"Individuelle\",\"Single\",IF('Outil Recensement simplifié'!AO39=\"Famille\",\"Family\",IF('Outil Recensement simplifié'!AO39=\"Individuel\",\"Single\",IF('Outil Recensement simplifié'!AO39=\"Familiale\",\"Family\",IF('Outil Recensement simplifié'!AO39=\"I\",\"Single\",IF('Outil Recensement simplifié'!AO39=\"F\",\"Family\",\"\"))))))","v":""},{"$f":"IF('Outil Recensement simplifié'!AP39=\"Individuelle\",\"Single\",IF('Outil Recensement simplifié'!AP39=\"Famille\",\"Family\",IF('Outil Recensement simplifié'!AP39=\"Individuel\",\"Single\",IF('Outil Recensement simplifié'!AP39=\"Familiale\",\"Family\",IF('Outil Recensement simplifié'!AP39=\"I\",\"Single\",IF('Outil Recensement simplifié'!AP39=\"F\",\"Family\",\"\"))))))","v":""},{"$f":"IF('Outil Recensement simplifié'!AQ39>0,'Outil Recensement simplifié'!AQ39,\"\")","v":""},{"$f":"IF('Outil Recensement simplifié'!AR39=\"Oui\",\"Yes\",IF('Outil Recensement simplifié'!AR39=\"Non\",\"No\",IF('Outil Recensement simplifié'!AR39=\"O\",\"Yes\",IF('Outil Recensement simplifié'!AR39=\"N\",\"No\",\"\"))))","v":""},{"$f":"IF('Outil Recensement simplifié'!AS39>0,'Outil Recensement simplifié'!AS39,\"\")","v":""},{"$f":"IF('Outil Recensement simplifié'!AT39>0,'Outil Recensement simplifié'!AT39,\"\")","v":""},{"$f":"IF('Outil Recensement simplifié'!AU39>0,'Outil Recensement simplifié'!AU39,\"\")","v":""},{"$f":"IF('Outil Recensement simplifié'!AV39=\"Homme\",\"Male\",IF('Outil Recensement simplifié'!AV39=\"Femme\",\"Female\",IF('Outil Recensement simplifié'!AV39=\"H\",\"Male\",IF('Outil Recensement simplifié'!AV39=\"F\",\"Female\",\"\"))))","v":""},{"$f":"IF('Outil Recensement simplifié'!AW39=\"Oui\",\"Yes\",IF('Outil Recensement simplifié'!AW39=\"Non\",\"No\",IF('Outil Recensement simplifié'!AW39=\"O\",\"Yes\",IF('Outil Recensement simplifié'!AW39=\"N\",\"No\",\"\"))))","v":""},{"$f":"IF('Outil Recensement simplifié'!AX39=\"Oui\",\"Yes\",IF('Outil Recensement simplifié'!AX39=\"Non\",\"No\",IF('Outil Recensement simplifié'!AX39=\"O\",\"Yes\",IF('Outil Recensement simplifié'!AX39=\"N\",\"No\",\"\"))))","v":""},{"$f":"IF('Outil Recensement simplifié'!AY39>0,'Outil Recensement simplifié'!AY39,\"\")","v":""},{"$f":"IF('Outil Recensement simplifié'!AZ39>0,'Outil Recensement simplifié'!AZ39,\"\")","v":""},{"$f":"IF('Outil Recensement simplifié'!BA39>0,'Outil Recensement simplifié'!BA39,\"\")","v":""},{"$f":"IF('Outil Recensement simplifié'!BB39=\"Homme\",\"Male\",IF('Outil Recensement simplifié'!BB39=\"Femme\",\"Female\",IF('Outil Recensement simplifié'!BB39=\"H\",\"Male\",IF('Outil Recensement simplifié'!BB39=\"F\",\"Female\",\"\"))))","v":""},{"$f":"IF('Outil Recensement simplifié'!BC39=\"Oui\",\"Yes\",IF('Outil Recensement simplifié'!BC39=\"Non\",\"No\",IF('Outil Recensement simplifié'!BC39=\"O\",\"Yes\",IF('Outil Recensement simplifié'!BC39=\"N\",\"No\",\"\"))))","v":""},{"$f":"IF('Outil Recensement simplifié'!BD39=\"Oui\",\"Yes\",IF('Outil Recensement simplifié'!BD39=\"Non\",\"No\",IF('Outil Recensement simplifié'!BD39=\"O\",\"Yes\",IF('Outil Recensement simplifié'!BD39=\"N\",\"No\",\"\"))))","v":""},{"$f":"IF('Outil Recensement simplifié'!BE39>0,'Outil Recensement simplifié'!BE39,\"\")","v":""},{"$f":"IF('Outil Recensement simplifié'!BF39>0,'Outil Recensement simplifié'!BF39,\"\")","v":""},{"$f":"IF('Outil Recensement simplifié'!BG39>0,'Outil Recensement simplifié'!BG39,\"\")","v":""},{"$f":"IF('Outil Recensement simplifié'!BH39=\"Homme\",\"Male\",IF('Outil Recensement simplifié'!BH39=\"Femme\",\"Female\",IF('Outil Recensement simplifié'!BH39=\"H\",\"Male\",IF('Outil Recensement simplifié'!BH39=\"F\",\"Female\",\"\"))))","v":""},{"$f":"IF('Outil Recensement simplifié'!BI39=\"Oui\",\"Yes\",IF('Outil Recensement simplifié'!BI39=\"Non\",\"No\",IF('Outil Recensement simplifié'!BI39=\"O\",\"Yes\",IF('Outil Recensement simplifié'!BI39=\"N\",\"No\",\"\"))))","v":""},{"$f":"IF('Outil Recensement simplifié'!BJ39=\"Oui\",\"Yes\",IF('Outil Recensement simplifié'!BJ39=\"Non\",\"No\",IF('Outil Recensement simplifié'!BJ39=\"O\",\"Yes\",IF('Outil Recensement simplifié'!BJ39=\"N\",\"No\",\"\"))))","v":""},{"$f":"IF('Outil Recensement simplifié'!BK39>0,'Outil Recensement simplifié'!BK39,\"\")","v":""},{"$f":"IF('Outil Recensement simplifié'!BL39>0,'Outil Recensement simplifié'!BL39,\"\")","v":""},{"$f":"IF('Outil Recensement simplifié'!BM39>0,'Outil Recensement simplifié'!BM39,\"\")","v":""},{"$f":"IF('Outil Recensement simplifié'!BN39=\"Homme\",\"Male\",IF('Outil Recensement simplifié'!BN39=\"Femme\",\"Female\",IF('Outil Recensement simplifié'!BN39=\"H\",\"Male\",IF('Outil Recensement simplifié'!BN39=\"F\",\"Female\",\"\"))))","v":""},{"$f":"IF('Outil Recensement simplifié'!BO39=\"Oui\",\"Yes\",IF('Outil Recensement simplifié'!BO39=\"Non\",\"No\",IF('Outil Recensement simplifié'!BO39=\"O\",\"Yes\",IF('Outil Recensement simplifié'!BO39=\"N\",\"No\",\"\"))))","v":""},{"$f":"IF('Outil Recensement simplifié'!BP39=\"Oui\",\"Yes\",IF('Outil Recensement simplifié'!BP39=\"Non\",\"No\",IF('Outil Recensement simplifié'!BP39=\"O\",\"Yes\",IF('Outil Recensement simplifié'!BP39=\"N\",\"No\",\"\"))))","v":""},{"$f":"IF('Outil Recensement simplifié'!BQ39>0,'Outil Recensement simplifié'!BQ39,\"\")","v":""},{"$f":"IF('Outil Recensement simplifié'!BR39>0,'Outil Recensement simplifié'!BR39,\"\")","v":""},{"$f":"IF('Outil Recensement simplifié'!BS39>0,'Outil Recensement simplifié'!BS39,\"\")","v":""},{"$f":"IF('Outil Recensement simplifié'!BT39=\"Homme\",\"Male\",IF('Outil Recensement simplifié'!BT39=\"Femme\",\"Female\",IF('Outil Recensement simplifié'!BT39=\"H\",\"Male\",IF('Outil Recensement simplifié'!BT39=\"F\",\"Female\",\"\"))))","v":""},{"$f":"IF('Outil Recensement simplifié'!BU39=\"Oui\",\"Yes\",IF('Outil Recensement simplifié'!BU39=\"Non\",\"No\",IF('Outil Recensement simplifié'!BU39=\"O\",\"Yes\",IF('Outil Recensement simplifié'!BU39=\"N\",\"No\",\"\"))))","v":""},{"$f":"IF('Outil Recensement simplifié'!BV39=\"Oui\",\"Yes\",IF('Outil Recensement simplifié'!BV39=\"Non\",\"No\",IF('Outil Recensement simplifié'!BV39=\"O\",\"Yes\",IF('Outil Recensement simplifié'!BV39=\"N\",\"No\",\"\"))))","v":""},{"$f":"IF('Outil Recensement simplifié'!BW39>0,'Outil Recensement simplifié'!BW39,\"\")","v":""},{"$f":"IF('Outil Recensement simplifié'!BX39>0,'Outil Recensement simplifié'!BX39,\"\")","v":""},{"$f":"IF('Outil Recensement simplifié'!BY39>0,'Outil Recensement simplifié'!BY39,\"\")","v":""},{"$f":"IF('Outil Recensement simplifié'!BZ39=\"Homme\",\"Male\",IF('Outil Recensement simplifié'!BZ39=\"Femme\",\"Female\",IF('Outil Recensement simplifié'!BZ39=\"H\",\"Male\",IF('Outil Recensement simplifié'!BZ39=\"F\",\"Female\",\"\"))))","v":""},{"$f":"IF('Outil Recensement simplifié'!CA39=\"Oui\",\"Yes\",IF('Outil Recensement simplifié'!CA39=\"Non\",\"No\",IF('Outil Recensement simplifié'!CA39=\"O\",\"Yes\",IF('Outil Recensement simplifié'!CA39=\"N\",\"No\",\"\"))))","v":""},{"$f":"IF('Outil Recensement simplifié'!CB39=\"Oui\",\"Yes\",IF('Outil Recensement simplifié'!CB39=\"Non\",\"No\",IF('Outil Recensement simplifié'!CB39=\"O\",\"Yes\",IF('Outil Recensement simplifié'!CB39=\"N\",\"No\",\"\"))))","v":""},{"$f":"IF('Outil Recensement simplifié'!CH39>0,'Outil Recensement simplifié'!CH39,\"\")","v":"    "}]
[{"$f":"IF('Outil Recensement simplifié'!A40>0,'Outil Recensement simplifié'!A40,\"\")","v":""},{"$f":"IF('Outil Recensement simplifié'!B40>0,'Outil Recensement simplifié'!B40,\"\")","v":""},{"$f":"IF('Outil Recensement simplifié'!C40>0,'Outil Recensement simplifié'!C40,\"\")","v":""},{"$f":"IF('Outil Recensement simplifié'!D40>0,'Outil Recensement simplifié'!D40,\"\")","v":""},{"$f":"IF('Outil Recensement simplifié'!E40>0,TEXT('Outil Recensement simplifié'!E40,\"000\"),\"\")","v":""},{"$f":"IF('Outil Recensement simplifié'!F40>0,'Outil Recensement simplifié'!F40,\"\")","v":""},{"$f":"IF('Outil Recensement simplifié'!G40>0,'Outil Recensement simplifié'!G40,\"\")","v":""},{"$f":"IF('Outil Recensement simplifié'!I40>0,'Outil Recensement simplifié'!I40,\"\")","v":""},{"$f":"IF('Outil Recensement simplifié'!J40>0,'Outil Recensement simplifié'!J40,\"\")","v":""},{"$f":"IF('Outil Recensement simplifié'!K40>0,'Outil Recensement simplifié'!K40,\"\")","v":""},{"$f":"IF('Outil Recensement simplifié'!L40>0,'Outil Recensement simplifié'!L40,\"\")","v":""},{"$f":"IF('Outil Recensement simplifié'!M40=\"Homme\",\"Male\",IF('Outil Recensement simplifié'!M40=\"Femme\",\"Female\",IF('Outil Recensement simplifié'!M40=\"H\",\"Male\",IF('Outil Recensement simplifié'!M40=\"F\",\"Female\",\"\"))))","v":""},{"$f":"IF('Outil Recensement simplifié'!N40=\"Oui\",\"Yes\",IF('Outil Recensement simplifié'!N40=\"Non\",\"No\",IF('Outil Recensement simplifié'!N40=\"O\",\"Yes\",IF('Outil Recensement simplifié'!N40=\"N\",\"No\",\"\"))))","v":""},{"$f":"IF('Outil Recensement simplifié'!O40=\"Non\",\"Single\",IF('Outil Recensement simplifié'!O40=\"Oui\",\"Family\",IF('Outil Recensement simplifié'!O40=\"N\",\"Single\",IF('Outil Recensement simplifié'!O40=\"O\",\"Family\",IF('Outil Recensement simplifié'!O40=\"En vigueur\",\"Family\",\"\")))))","v":""},{"$f":"IF('Outil Recensement simplifié'!P40=\"Anglais\",\"English\",IF('Outil Recensement simplifié'!P40=\"Français\",\"French\",IF('Outil Recensement simplifié'!P40=\"A\",\"English\",IF('Outil Recensement simplifié'!P40=\"F\",\"French\",\"\"))))","v":""},{"$f":"IF('Outil Recensement simplifié'!Q40=\"Oui\",\"Yes\",IF('Outil Recensement simplifié'!Q40=\"Non\",\"No\",IF('Outil Recensement simplifié'!Q40=\"O\",\"Yes\",IF('Outil Recensement simplifié'!Q40=\"N\",\"No\",\"\"))))","v":""},{"$f":"IF('Outil Recensement simplifié'!R40>0,'Outil Recensement simplifié'!R40,\"\")","v":""},{"$f":"IF('Outil Recensement simplifié'!S40=\"Annuelle\",\"Annually\",IF('Outil Recensement simplifié'!S40=\"Mensuelle\",\"Monthly\",IF('Outil Recensement simplifié'!S40=\"Aux deux semaines\",\"Biweekly\",IF('Outil Recensement simplifié'!S40=\"Bimensuelle\",\"Semi-Monthly\",IF('Outil Recensement simplifié'!S40=\"Hebdomadaire\",\"Weekly\",IF('Outil Recensement simplifié'!S40=\"Horaire\",\"Hourly\",\"\"))))))","v":""},{"$f":"IF('Outil Recensement simplifié'!T40>0,'Outil Recensement simplifié'!T40,\"\")","v":""},{"$f":"IF('Outil Recensement simplifié'!U40>0,'Outil Recensement simplifié'!U40,\"\")","v":""},{"$f":"IF('Outil Recensement simplifié'!V40=\"Exemptée\",\"Yes\",\"\")","v":""},{"$f":"IF('Outil Recensement simplifié'!W40=\"Exemptée\",\"Yes\",\"\")","v":""},{"$f":"IF('Outil Recensement simplifié'!X40>0,'Outil Recensement simplifié'!X40,\"\")","v":""},{"$f":"IF('Outil Recensement simplifié'!Y40>0,'Outil Recensement simplifié'!Y40,\"\")","v":""},{"$f":"IF('Outil Recensement simplifié'!Z40>0,'Outil Recensement simplifié'!Z40,\"\")","v":""},{"$f":"IF('Outil Recensement simplifié'!AA40>0,'Outil Recensement simplifié'!AA40,\"\")","v":""},{"$f":"IF('Outil Recensement simplifié'!AB40>0,'Outil Recensement simplifié'!AB40,\"\")","v":""},{"$f":"IF('Outil Recensement simplifié'!AC40>0,'Outil Recensement simplifié'!AC40,\"\")","v":" "},{"$f":"IF('Outil Recensement simplifié'!AE40>0,'Outil Recensement simplifié'!AE40&\" \",\"\")&IF('Outil Recensement simplifié'!AD40>0,'Outil Recensement simplifié'!AD40,\"\")","v":""},null,{"$f":"IF('Outil Recensement simplifié'!AF40>0,'Outil Recensement simplifié'!AF40,\"\")","v":""},{"$f":"IF('Outil Recensement simplifié'!AG40>0,'Outil Recensement simplifié'!AG40,\"\")","v":""},{"$f":"IF('Outil Recensement simplifié'!AH40>0,'Outil Recensement simplifié'!AH40,\"\")","v":""},{"$f":"IF('Outil Recensement simplifié'!AI40>0,'Outil Recensement simplifié'!AI40,\"\")","v":""},{"$f":"IF('Outil Recensement simplifié'!AJ40>0,'Outil Recensement simplifié'!AJ40,\"\")","v":""},{"$f":"IF('Outil Recensement simplifié'!AK40>0,'Outil Recensement simplifié'!AK40,\"\")","v":""},{"$f":"IF('Outil Recensement simplifié'!AL40>0,'Outil Recensement simplifié'!AL40,\"\")","v":""},{"$f":"IF('Outil Recensement simplifié'!AM40>0,'Outil Recensement simplifié'!AM40,\"\")","v":""},{"$f":"IF('Outil Recensement simplifié'!AN40=\"Homme\",\"Male\",IF('Outil Recensement simplifié'!AN40=\"Femme\",\"Female\",IF('Outil Recensement simplifié'!AN40=\"H\",\"Male\",IF('Outil Recensement simplifié'!AN40=\"F\",\"Female\",\"\"))))","v":""},{"$f":"IF('Outil Recensement simplifié'!AO40=\"Individuelle\",\"Single\",IF('Outil Recensement simplifié'!AO40=\"Famille\",\"Family\",IF('Outil Recensement simplifié'!AO40=\"Individuel\",\"Single\",IF('Outil Recensement simplifié'!AO40=\"Familiale\",\"Family\",IF('Outil Recensement simplifié'!AO40=\"I\",\"Single\",IF('Outil Recensement simplifié'!AO40=\"F\",\"Family\",\"\"))))))","v":""},{"$f":"IF('Outil Recensement simplifié'!AP40=\"Individuelle\",\"Single\",IF('Outil Recensement simplifié'!AP40=\"Famille\",\"Family\",IF('Outil Recensement simplifié'!AP40=\"Individuel\",\"Single\",IF('Outil Recensement simplifié'!AP40=\"Familiale\",\"Family\",IF('Outil Recensement simplifié'!AP40=\"I\",\"Single\",IF('Outil Recensement simplifié'!AP40=\"F\",\"Family\",\"\"))))))","v":""},{"$f":"IF('Outil Recensement simplifié'!AQ40>0,'Outil Recensement simplifié'!AQ40,\"\")","v":""},{"$f":"IF('Outil Recensement simplifié'!AR40=\"Oui\",\"Yes\",IF('Outil Recensement simplifié'!AR40=\"Non\",\"No\",IF('Outil Recensement simplifié'!AR40=\"O\",\"Yes\",IF('Outil Recensement simplifié'!AR40=\"N\",\"No\",\"\"))))","v":""},{"$f":"IF('Outil Recensement simplifié'!AS40>0,'Outil Recensement simplifié'!AS40,\"\")","v":""},{"$f":"IF('Outil Recensement simplifié'!AT40>0,'Outil Recensement simplifié'!AT40,\"\")","v":""},{"$f":"IF('Outil Recensement simplifié'!AU40>0,'Outil Recensement simplifié'!AU40,\"\")","v":""},{"$f":"IF('Outil Recensement simplifié'!AV40=\"Homme\",\"Male\",IF('Outil Recensement simplifié'!AV40=\"Femme\",\"Female\",IF('Outil Recensement simplifié'!AV40=\"H\",\"Male\",IF('Outil Recensement simplifié'!AV40=\"F\",\"Female\",\"\"))))","v":""},{"$f":"IF('Outil Recensement simplifié'!AW40=\"Oui\",\"Yes\",IF('Outil Recensement simplifié'!AW40=\"Non\",\"No\",IF('Outil Recensement simplifié'!AW40=\"O\",\"Yes\",IF('Outil Recensement simplifié'!AW40=\"N\",\"No\",\"\"))))","v":""},{"$f":"IF('Outil Recensement simplifié'!AX40=\"Oui\",\"Yes\",IF('Outil Recensement simplifié'!AX40=\"Non\",\"No\",IF('Outil Recensement simplifié'!AX40=\"O\",\"Yes\",IF('Outil Recensement simplifié'!AX40=\"N\",\"No\",\"\"))))","v":""},{"$f":"IF('Outil Recensement simplifié'!AY40>0,'Outil Recensement simplifié'!AY40,\"\")","v":""},{"$f":"IF('Outil Recensement simplifié'!AZ40>0,'Outil Recensement simplifié'!AZ40,\"\")","v":""},{"$f":"IF('Outil Recensement simplifié'!BA40>0,'Outil Recensement simplifié'!BA40,\"\")","v":""},{"$f":"IF('Outil Recensement simplifié'!BB40=\"Homme\",\"Male\",IF('Outil Recensement simplifié'!BB40=\"Femme\",\"Female\",IF('Outil Recensement simplifié'!BB40=\"H\",\"Male\",IF('Outil Recensement simplifié'!BB40=\"F\",\"Female\",\"\"))))","v":""},{"$f":"IF('Outil Recensement simplifié'!BC40=\"Oui\",\"Yes\",IF('Outil Recensement simplifié'!BC40=\"Non\",\"No\",IF('Outil Recensement simplifié'!BC40=\"O\",\"Yes\",IF('Outil Recensement simplifié'!BC40=\"N\",\"No\",\"\"))))","v":""},{"$f":"IF('Outil Recensement simplifié'!BD40=\"Oui\",\"Yes\",IF('Outil Recensement simplifié'!BD40=\"Non\",\"No\",IF('Outil Recensement simplifié'!BD40=\"O\",\"Yes\",IF('Outil Recensement simplifié'!BD40=\"N\",\"No\",\"\"))))","v":""},{"$f":"IF('Outil Recensement simplifié'!BE40>0,'Outil Recensement simplifié'!BE40,\"\")","v":""},{"$f":"IF('Outil Recensement simplifié'!BF40>0,'Outil Recensement simplifié'!BF40,\"\")","v":""},{"$f":"IF('Outil Recensement simplifié'!BG40>0,'Outil Recensement simplifié'!BG40,\"\")","v":""},{"$f":"IF('Outil Recensement simplifié'!BH40=\"Homme\",\"Male\",IF('Outil Recensement simplifié'!BH40=\"Femme\",\"Female\",IF('Outil Recensement simplifié'!BH40=\"H\",\"Male\",IF('Outil Recensement simplifié'!BH40=\"F\",\"Female\",\"\"))))","v":""},{"$f":"IF('Outil Recensement simplifié'!BI40=\"Oui\",\"Yes\",IF('Outil Recensement simplifié'!BI40=\"Non\",\"No\",IF('Outil Recensement simplifié'!BI40=\"O\",\"Yes\",IF('Outil Recensement simplifié'!BI40=\"N\",\"No\",\"\"))))","v":""},{"$f":"IF('Outil Recensement simplifié'!BJ40=\"Oui\",\"Yes\",IF('Outil Recensement simplifié'!BJ40=\"Non\",\"No\",IF('Outil Recensement simplifié'!BJ40=\"O\",\"Yes\",IF('Outil Recensement simplifié'!BJ40=\"N\",\"No\",\"\"))))","v":""},{"$f":"IF('Outil Recensement simplifié'!BK40>0,'Outil Recensement simplifié'!BK40,\"\")","v":""},{"$f":"IF('Outil Recensement simplifié'!BL40>0,'Outil Recensement simplifié'!BL40,\"\")","v":""},{"$f":"IF('Outil Recensement simplifié'!BM40>0,'Outil Recensement simplifié'!BM40,\"\")","v":""},{"$f":"IF('Outil Recensement simplifié'!BN40=\"Homme\",\"Male\",IF('Outil Recensement simplifié'!BN40=\"Femme\",\"Female\",IF('Outil Recensement simplifié'!BN40=\"H\",\"Male\",IF('Outil Recensement simplifié'!BN40=\"F\",\"Female\",\"\"))))","v":""},{"$f":"IF('Outil Recensement simplifié'!BO40=\"Oui\",\"Yes\",IF('Outil Recensement simplifié'!BO40=\"Non\",\"No\",IF('Outil Recensement simplifié'!BO40=\"O\",\"Yes\",IF('Outil Recensement simplifié'!BO40=\"N\",\"No\",\"\"))))","v":""},{"$f":"IF('Outil Recensement simplifié'!BP40=\"Oui\",\"Yes\",IF('Outil Recensement simplifié'!BP40=\"Non\",\"No\",IF('Outil Recensement simplifié'!BP40=\"O\",\"Yes\",IF('Outil Recensement simplifié'!BP40=\"N\",\"No\",\"\"))))","v":""},{"$f":"IF('Outil Recensement simplifié'!BQ40>0,'Outil Recensement simplifié'!BQ40,\"\")","v":""},{"$f":"IF('Outil Recensement simplifié'!BR40>0,'Outil Recensement simplifié'!BR40,\"\")","v":""},{"$f":"IF('Outil Recensement simplifié'!BS40>0,'Outil Recensement simplifié'!BS40,\"\")","v":""},{"$f":"IF('Outil Recensement simplifié'!BT40=\"Homme\",\"Male\",IF('Outil Recensement simplifié'!BT40=\"Femme\",\"Female\",IF('Outil Recensement simplifié'!BT40=\"H\",\"Male\",IF('Outil Recensement simplifié'!BT40=\"F\",\"Female\",\"\"))))","v":""},{"$f":"IF('Outil Recensement simplifié'!BU40=\"Oui\",\"Yes\",IF('Outil Recensement simplifié'!BU40=\"Non\",\"No\",IF('Outil Recensement simplifié'!BU40=\"O\",\"Yes\",IF('Outil Recensement simplifié'!BU40=\"N\",\"No\",\"\"))))","v":""},{"$f":"IF('Outil Recensement simplifié'!BV40=\"Oui\",\"Yes\",IF('Outil Recensement simplifié'!BV40=\"Non\",\"No\",IF('Outil Recensement simplifié'!BV40=\"O\",\"Yes\",IF('Outil Recensement simplifié'!BV40=\"N\",\"No\",\"\"))))","v":""},{"$f":"IF('Outil Recensement simplifié'!BW40>0,'Outil Recensement simplifié'!BW40,\"\")","v":""},{"$f":"IF('Outil Recensement simplifié'!BX40>0,'Outil Recensement simplifié'!BX40,\"\")","v":""},{"$f":"IF('Outil Recensement simplifié'!BY40>0,'Outil Recensement simplifié'!BY40,\"\")","v":""},{"$f":"IF('Outil Recensement simplifié'!BZ40=\"Homme\",\"Male\",IF('Outil Recensement simplifié'!BZ40=\"Femme\",\"Female\",IF('Outil Recensement simplifié'!BZ40=\"H\",\"Male\",IF('Outil Recensement simplifié'!BZ40=\"F\",\"Female\",\"\"))))","v":""},{"$f":"IF('Outil Recensement simplifié'!CA40=\"Oui\",\"Yes\",IF('Outil Recensement simplifié'!CA40=\"Non\",\"No\",IF('Outil Recensement simplifié'!CA40=\"O\",\"Yes\",IF('Outil Recensement simplifié'!CA40=\"N\",\"No\",\"\"))))","v":""},{"$f":"IF('Outil Recensement simplifié'!CB40=\"Oui\",\"Yes\",IF('Outil Recensement simplifié'!CB40=\"Non\",\"No\",IF('Outil Recensement simplifié'!CB40=\"O\",\"Yes\",IF('Outil Recensement simplifié'!CB40=\"N\",\"No\",\"\"))))","v":""},{"$f":"IF('Outil Recensement simplifié'!CH40>0,'Outil Recensement simplifié'!CH40,\"\")","v":"    "}]
[{"$f":"IF('Outil Recensement simplifié'!A41>0,'Outil Recensement simplifié'!A41,\"\")","v":""},{"$f":"IF('Outil Recensement simplifié'!B41>0,'Outil Recensement simplifié'!B41,\"\")","v":""},{"$f":"IF('Outil Recensement simplifié'!C41>0,'Outil Recensement simplifié'!C41,\"\")","v":""},{"$f":"IF('Outil Recensement simplifié'!D41>0,'Outil Recensement simplifié'!D41,\"\")","v":""},{"$f":"IF('Outil Recensement simplifié'!E41>0,TEXT('Outil Recensement simplifié'!E41,\"000\"),\"\")","v":""},{"$f":"IF('Outil Recensement simplifié'!F41>0,'Outil Recensement simplifié'!F41,\"\")","v":""},{"$f":"IF('Outil Recensement simplifié'!G41>0,'Outil Recensement simplifié'!G41,\"\")","v":""},{"$f":"IF('Outil Recensement simplifié'!I41>0,'Outil Recensement simplifié'!I41,\"\")","v":""},{"$f":"IF('Outil Recensement simplifié'!J41>0,'Outil Recensement simplifié'!J41,\"\")","v":""},{"$f":"IF('Outil Recensement simplifié'!K41>0,'Outil Recensement simplifié'!K41,\"\")","v":""},{"$f":"IF('Outil Recensement simplifié'!L41>0,'Outil Recensement simplifié'!L41,\"\")","v":""},{"$f":"IF('Outil Recensement simplifié'!M41=\"Homme\",\"Male\",IF('Outil Recensement simplifié'!M41=\"Femme\",\"Female\",IF('Outil Recensement simplifié'!M41=\"H\",\"Male\",IF('Outil Recensement simplifié'!M41=\"F\",\"Female\",\"\"))))","v":""},{"$f":"IF('Outil Recensement simplifié'!N41=\"Oui\",\"Yes\",IF('Outil Recensement simplifié'!N41=\"Non\",\"No\",IF('Outil Recensement simplifié'!N41=\"O\",\"Yes\",IF('Outil Recensement simplifié'!N41=\"N\",\"No\",\"\"))))","v":""},{"$f":"IF('Outil Recensement simplifié'!O41=\"Non\",\"Single\",IF('Outil Recensement simplifié'!O41=\"Oui\",\"Family\",IF('Outil Recensement simplifié'!O41=\"N\",\"Single\",IF('Outil Recensement simplifié'!O41=\"O\",\"Family\",IF('Outil Recensement simplifié'!O41=\"En vigueur\",\"Family\",\"\")))))","v":""},{"$f":"IF('Outil Recensement simplifié'!P41=\"Anglais\",\"English\",IF('Outil Recensement simplifié'!P41=\"Français\",\"French\",IF('Outil Recensement simplifié'!P41=\"A\",\"English\",IF('Outil Recensement simplifié'!P41=\"F\",\"French\",\"\"))))","v":""},{"$f":"IF('Outil Recensement simplifié'!Q41=\"Oui\",\"Yes\",IF('Outil Recensement simplifié'!Q41=\"Non\",\"No\",IF('Outil Recensement simplifié'!Q41=\"O\",\"Yes\",IF('Outil Recensement simplifié'!Q41=\"N\",\"No\",\"\"))))","v":""},{"$f":"IF('Outil Recensement simplifié'!R41>0,'Outil Recensement simplifié'!R41,\"\")","v":""},{"$f":"IF('Outil Recensement simplifié'!S41=\"Annuelle\",\"Annually\",IF('Outil Recensement simplifié'!S41=\"Mensuelle\",\"Monthly\",IF('Outil Recensement simplifié'!S41=\"Aux deux semaines\",\"Biweekly\",IF('Outil Recensement simplifié'!S41=\"Bimensuelle\",\"Semi-Monthly\",IF('Outil Recensement simplifié'!S41=\"Hebdomadaire\",\"Weekly\",IF('Outil Recensement simplifié'!S41=\"Horaire\",\"Hourly\",\"\"))))))","v":""},{"$f":"IF('Outil Recensement simplifié'!T41>0,'Outil Recensement simplifié'!T41,\"\")","v":""},{"$f":"IF('Outil Recensement simplifié'!U41>0,'Outil Recensement simplifié'!U41,\"\")","v":""},{"$f":"IF('Outil Recensement simplifié'!V41=\"Exemptée\",\"Yes\",\"\")","v":""},{"$f":"IF('Outil Recensement simplifié'!W41=\"Exemptée\",\"Yes\",\"\")","v":""},{"$f":"IF('Outil Recensement simplifié'!X41>0,'Outil Recensement simplifié'!X41,\"\")","v":""},{"$f":"IF('Outil Recensement simplifié'!Y41>0,'Outil Recensement simplifié'!Y41,\"\")","v":""},{"$f":"IF('Outil Recensement simplifié'!Z41>0,'Outil Recensement simplifié'!Z41,\"\")","v":""},{"$f":"IF('Outil Recensement simplifié'!AA41>0,'Outil Recensement simplifié'!AA41,\"\")","v":""},{"$f":"IF('Outil Recensement simplifié'!AB41>0,'Outil Recensement simplifié'!AB41,\"\")","v":""},{"$f":"IF('Outil Recensement simplifié'!AC41>0,'Outil Recensement simplifié'!AC41,\"\")","v":" "},{"$f":"IF('Outil Recensement simplifié'!AE41>0,'Outil Recensement simplifié'!AE41&\" \",\"\")&IF('Outil Recensement simplifié'!AD41>0,'Outil Recensement simplifié'!AD41,\"\")","v":""},null,{"$f":"IF('Outil Recensement simplifié'!AF41>0,'Outil Recensement simplifié'!AF41,\"\")","v":""},{"$f":"IF('Outil Recensement simplifié'!AG41>0,'Outil Recensement simplifié'!AG41,\"\")","v":""},{"$f":"IF('Outil Recensement simplifié'!AH41>0,'Outil Recensement simplifié'!AH41,\"\")","v":""},{"$f":"IF('Outil Recensement simplifié'!AI41>0,'Outil Recensement simplifié'!AI41,\"\")","v":""},{"$f":"IF('Outil Recensement simplifié'!AJ41>0,'Outil Recensement simplifié'!AJ41,\"\")","v":""},{"$f":"IF('Outil Recensement simplifié'!AK41>0,'Outil Recensement simplifié'!AK41,\"\")","v":""},{"$f":"IF('Outil Recensement simplifié'!AL41>0,'Outil Recensement simplifié'!AL41,\"\")","v":""},{"$f":"IF('Outil Recensement simplifié'!AM41>0,'Outil Recensement simplifié'!AM41,\"\")","v":""},{"$f":"IF('Outil Recensement simplifié'!AN41=\"Homme\",\"Male\",IF('Outil Recensement simplifié'!AN41=\"Femme\",\"Female\",IF('Outil Recensement simplifié'!AN41=\"H\",\"Male\",IF('Outil Recensement simplifié'!AN41=\"F\",\"Female\",\"\"))))","v":""},{"$f":"IF('Outil Recensement simplifié'!AO41=\"Individuelle\",\"Single\",IF('Outil Recensement simplifié'!AO41=\"Famille\",\"Family\",IF('Outil Recensement simplifié'!AO41=\"Individuel\",\"Single\",IF('Outil Recensement simplifié'!AO41=\"Familiale\",\"Family\",IF('Outil Recensement simplifié'!AO41=\"I\",\"Single\",IF('Outil Recensement simplifié'!AO41=\"F\",\"Family\",\"\"))))))","v":""},{"$f":"IF('Outil Recensement simplifié'!AP41=\"Individuelle\",\"Single\",IF('Outil Recensement simplifié'!AP41=\"Famille\",\"Family\",IF('Outil Recensement simplifié'!AP41=\"Individuel\",\"Single\",IF('Outil Recensement simplifié'!AP41=\"Familiale\",\"Family\",IF('Outil Recensement simplifié'!AP41=\"I\",\"Single\",IF('Outil Recensement simplifié'!AP41=\"F\",\"Family\",\"\"))))))","v":""},{"$f":"IF('Outil Recensement simplifié'!AQ41>0,'Outil Recensement simplifié'!AQ41,\"\")","v":""},{"$f":"IF('Outil Recensement simplifié'!AR41=\"Oui\",\"Yes\",IF('Outil Recensement simplifié'!AR41=\"Non\",\"No\",IF('Outil Recensement simplifié'!AR41=\"O\",\"Yes\",IF('Outil Recensement simplifié'!AR41=\"N\",\"No\",\"\"))))","v":""},{"$f":"IF('Outil Recensement simplifié'!AS41>0,'Outil Recensement simplifié'!AS41,\"\")","v":""},{"$f":"IF('Outil Recensement simplifié'!AT41>0,'Outil Recensement simplifié'!AT41,\"\")","v":""},{"$f":"IF('Outil Recensement simplifié'!AU41>0,'Outil Recensement simplifié'!AU41,\"\")","v":""},{"$f":"IF('Outil Recensement simplifié'!AV41=\"Homme\",\"Male\",IF('Outil Recensement simplifié'!AV41=\"Femme\",\"Female\",IF('Outil Recensement simplifié'!AV41=\"H\",\"Male\",IF('Outil Recensement simplifié'!AV41=\"F\",\"Female\",\"\"))))","v":""},{"$f":"IF('Outil Recensement simplifié'!AW41=\"Oui\",\"Yes\",IF('Outil Recensement simplifié'!AW41=\"Non\",\"No\",IF('Outil Recensement simplifié'!AW41=\"O\",\"Yes\",IF('Outil Recensement simplifié'!AW41=\"N\",\"No\",\"\"))))","v":""},{"$f":"IF('Outil Recensement simplifié'!AX41=\"Oui\",\"Yes\",IF('Outil Recensement simplifié'!AX41=\"Non\",\"No\",IF('Outil Recensement simplifié'!AX41=\"O\",\"Yes\",IF('Outil Recensement simplifié'!AX41=\"N\",\"No\",\"\"))))","v":""},{"$f":"IF('Outil Recensement simplifié'!AY41>0,'Outil Recensement simplifié'!AY41,\"\")","v":""},{"$f":"IF('Outil Recensement simplifié'!AZ41>0,'Outil Recensement simplifié'!AZ41,\"\")","v":""},{"$f":"IF('Outil Recensement simplifié'!BA41>0,'Outil Recensement simplifié'!BA41,\"\")","v":""},{"$f":"IF('Outil Recensement simplifié'!BB41=\"Homme\",\"Male\",IF('Outil Recensement simplifié'!BB41=\"Femme\",\"Female\",IF('Outil Recensement simplifié'!BB41=\"H\",\"Male\",IF('Outil Recensement simplifié'!BB41=\"F\",\"Female\",\"\"))))","v":""},{"$f":"IF('Outil Recensement simplifié'!BC41=\"Oui\",\"Yes\",IF('Outil Recensement simplifié'!BC41=\"Non\",\"No\",IF('Outil Recensement simplifié'!BC41=\"O\",\"Yes\",IF('Outil Recensement simplifié'!BC41=\"N\",\"No\",\"\"))))","v":""},{"$f":"IF('Outil Recensement simplifié'!BD41=\"Oui\",\"Yes\",IF('Outil Recensement simplifié'!BD41=\"Non\",\"No\",IF('Outil Recensement simplifié'!BD41=\"O\",\"Yes\",IF('Outil Recensement simplifié'!BD41=\"N\",\"No\",\"\"))))","v":""},{"$f":"IF('Outil Recensement simplifié'!BE41>0,'Outil Recensement simplifié'!BE41,\"\")","v":""},{"$f":"IF('Outil Recensement simplifié'!BF41>0,'Outil Recensement simplifié'!BF41,\"\")","v":""},{"$f":"IF('Outil Recensement simplifié'!BG41>0,'Outil Recensement simplifié'!BG41,\"\")","v":""},{"$f":"IF('Outil Recensement simplifié'!BH41=\"Homme\",\"Male\",IF('Outil Recensement simplifié'!BH41=\"Femme\",\"Female\",IF('Outil Recensement simplifié'!BH41=\"H\",\"Male\",IF('Outil Recensement simplifié'!BH41=\"F\",\"Female\",\"\"))))","v":""},{"$f":"IF('Outil Recensement simplifié'!BI41=\"Oui\",\"Yes\",IF('Outil Recensement simplifié'!BI41=\"Non\",\"No\",IF('Outil Recensement simplifié'!BI41=\"O\",\"Yes\",IF('Outil Recensement simplifié'!BI41=\"N\",\"No\",\"\"))))","v":""},{"$f":"IF('Outil Recensement simplifié'!BJ41=\"Oui\",\"Yes\",IF('Outil Recensement simplifié'!BJ41=\"Non\",\"No\",IF('Outil Recensement simplifié'!BJ41=\"O\",\"Yes\",IF('Outil Recensement simplifié'!BJ41=\"N\",\"No\",\"\"))))","v":""},{"$f":"IF('Outil Recensement simplifié'!BK41>0,'Outil Recensement simplifié'!BK41,\"\")","v":""},{"$f":"IF('Outil Recensement simplifié'!BL41>0,'Outil Recensement simplifié'!BL41,\"\")","v":""},{"$f":"IF('Outil Recensement simplifié'!BM41>0,'Outil Recensement simplifié'!BM41,\"\")","v":""},{"$f":"IF('Outil Recensement simplifié'!BN41=\"Homme\",\"Male\",IF('Outil Recensement simplifié'!BN41=\"Femme\",\"Female\",IF('Outil Recensement simplifié'!BN41=\"H\",\"Male\",IF('Outil Recensement simplifié'!BN41=\"F\",\"Female\",\"\"))))","v":""},{"$f":"IF('Outil Recensement simplifié'!BO41=\"Oui\",\"Yes\",IF('Outil Recensement simplifié'!BO41=\"Non\",\"No\",IF('Outil Recensement simplifié'!BO41=\"O\",\"Yes\",IF('Outil Recensement simplifié'!BO41=\"N\",\"No\",\"\"))))","v":""},{"$f":"IF('Outil Recensement simplifié'!BP41=\"Oui\",\"Yes\",IF('Outil Recensement simplifié'!BP41=\"Non\",\"No\",IF('Outil Recensement simplifié'!BP41=\"O\",\"Yes\",IF('Outil Recensement simplifié'!BP41=\"N\",\"No\",\"\"))))","v":""},{"$f":"IF('Outil Recensement simplifié'!BQ41>0,'Outil Recensement simplifié'!BQ41,\"\")","v":""},{"$f":"IF('Outil Recensement simplifié'!BR41>0,'Outil Recensement simplifié'!BR41,\"\")","v":""},{"$f":"IF('Outil Recensement simplifié'!BS41>0,'Outil Recensement simplifié'!BS41,\"\")","v":""},{"$f":"IF('Outil Recensement simplifié'!BT41=\"Homme\",\"Male\",IF('Outil Recensement simplifié'!BT41=\"Femme\",\"Female\",IF('Outil Recensement simplifié'!BT41=\"H\",\"Male\",IF('Outil Recensement simplifié'!BT41=\"F\",\"Female\",\"\"))))","v":""},{"$f":"IF('Outil Recensement simplifié'!BU41=\"Oui\",\"Yes\",IF('Outil Recensement simplifié'!BU41=\"Non\",\"No\",IF('Outil Recensement simplifié'!BU41=\"O\",\"Yes\",IF('Outil Recensement simplifié'!BU41=\"N\",\"No\",\"\"))))","v":""},{"$f":"IF('Outil Recensement simplifié'!BV41=\"Oui\",\"Yes\",IF('Outil Recensement simplifié'!BV41=\"Non\",\"No\",IF('Outil Recensement simplifié'!BV41=\"O\",\"Yes\",IF('Outil Recensement simplifié'!BV41=\"N\",\"No\",\"\"))))","v":""},{"$f":"IF('Outil Recensement simplifié'!BW41>0,'Outil Recensement simplifié'!BW41,\"\")","v":""},{"$f":"IF('Outil Recensement simplifié'!BX41>0,'Outil Recensement simplifié'!BX41,\"\")","v":""},{"$f":"IF('Outil Recensement simplifié'!BY41>0,'Outil Recensement simplifié'!BY41,\"\")","v":""},{"$f":"IF('Outil Recensement simplifié'!BZ41=\"Homme\",\"Male\",IF('Outil Recensement simplifié'!BZ41=\"Femme\",\"Female\",IF('Outil Recensement simplifié'!BZ41=\"H\",\"Male\",IF('Outil Recensement simplifié'!BZ41=\"F\",\"Female\",\"\"))))","v":""},{"$f":"IF('Outil Recensement simplifié'!CA41=\"Oui\",\"Yes\",IF('Outil Recensement simplifié'!CA41=\"Non\",\"No\",IF('Outil Recensement simplifié'!CA41=\"O\",\"Yes\",IF('Outil Recensement simplifié'!CA41=\"N\",\"No\",\"\"))))","v":""},{"$f":"IF('Outil Recensement simplifié'!CB41=\"Oui\",\"Yes\",IF('Outil Recensement simplifié'!CB41=\"Non\",\"No\",IF('Outil Recensement simplifié'!CB41=\"O\",\"Yes\",IF('Outil Recensement simplifié'!CB41=\"N\",\"No\",\"\"))))","v":""},{"$f":"IF('Outil Recensement simplifié'!CH41>0,'Outil Recensement simplifié'!CH41,\"\")","v":"    "}]
[{"$f":"IF('Outil Recensement simplifié'!A42>0,'Outil Recensement simplifié'!A42,\"\")","v":""},{"$f":"IF('Outil Recensement simplifié'!B42>0,'Outil Recensement simplifié'!B42,\"\")","v":""},{"$f":"IF('Outil Recensement simplifié'!C42>0,'Outil Recensement simplifié'!C42,\"\")","v":""},{"$f":"IF('Outil Recensement simplifié'!D42>0,'Outil Recensement simplifié'!D42,\"\")","v":""},{"$f":"IF('Outil Recensement simplifié'!E42>0,TEXT('Outil Recensement simplifié'!E42,\"000\"),\"\")","v":""},{"$f":"IF('Outil Recensement simplifié'!F42>0,'Outil Recensement simplifié'!F42,\"\")","v":""},{"$f":"IF('Outil Recensement simplifié'!G42>0,'Outil Recensement simplifié'!G42,\"\")","v":""},{"$f":"IF('Outil Recensement simplifié'!I42>0,'Outil Recensement simplifié'!I42,\"\")","v":""},{"$f":"IF('Outil Recensement simplifié'!J42>0,'Outil Recensement simplifié'!J42,\"\")","v":""},{"$f":"IF('Outil Recensement simplifié'!K42>0,'Outil Recensement simplifié'!K42,\"\")","v":""},{"$f":"IF('Outil Recensement simplifié'!L42>0,'Outil Recensement simplifié'!L42,\"\")","v":""},{"$f":"IF('Outil Recensement simplifié'!M42=\"Homme\",\"Male\",IF('Outil Recensement simplifié'!M42=\"Femme\",\"Female\",IF('Outil Recensement simplifié'!M42=\"H\",\"Male\",IF('Outil Recensement simplifié'!M42=\"F\",\"Female\",\"\"))))","v":""},{"$f":"IF('Outil Recensement simplifié'!N42=\"Oui\",\"Yes\",IF('Outil Recensement simplifié'!N42=\"Non\",\"No\",IF('Outil Recensement simplifié'!N42=\"O\",\"Yes\",IF('Outil Recensement simplifié'!N42=\"N\",\"No\",\"\"))))","v":""},{"$f":"IF('Outil Recensement simplifié'!O42=\"Non\",\"Single\",IF('Outil Recensement simplifié'!O42=\"Oui\",\"Family\",IF('Outil Recensement simplifié'!O42=\"N\",\"Single\",IF('Outil Recensement simplifié'!O42=\"O\",\"Family\",IF('Outil Recensement simplifié'!O42=\"En vigueur\",\"Family\",\"\")))))","v":""},{"$f":"IF('Outil Recensement simplifié'!P42=\"Anglais\",\"English\",IF('Outil Recensement simplifié'!P42=\"Français\",\"French\",IF('Outil Recensement simplifié'!P42=\"A\",\"English\",IF('Outil Recensement simplifié'!P42=\"F\",\"French\",\"\"))))","v":""},{"$f":"IF('Outil Recensement simplifié'!Q42=\"Oui\",\"Yes\",IF('Outil Recensement simplifié'!Q42=\"Non\",\"No\",IF('Outil Recensement simplifié'!Q42=\"O\",\"Yes\",IF('Outil Recensement simplifié'!Q42=\"N\",\"No\",\"\"))))","v":""},{"$f":"IF('Outil Recensement simplifié'!R42>0,'Outil Recensement simplifié'!R42,\"\")","v":""},{"$f":"IF('Outil Recensement simplifié'!S42=\"Annuelle\",\"Annually\",IF('Outil Recensement simplifié'!S42=\"Mensuelle\",\"Monthly\",IF('Outil Recensement simplifié'!S42=\"Aux deux semaines\",\"Biweekly\",IF('Outil Recensement simplifié'!S42=\"Bimensuelle\",\"Semi-Monthly\",IF('Outil Recensement simplifié'!S42=\"Hebdomadaire\",\"Weekly\",IF('Outil Recensement simplifié'!S42=\"Horaire\",\"Hourly\",\"\"))))))","v":""},{"$f":"IF('Outil Recensement simplifié'!T42>0,'Outil Recensement simplifié'!T42,\"\")","v":""},{"$f":"IF('Outil Recensement simplifié'!U42>0,'Outil Recensement simplifié'!U42,\"\")","v":""},{"$f":"IF('Outil Recensement simplifié'!V42=\"Exemptée\",\"Yes\",\"\")","v":""},{"$f":"IF('Outil Recensement simplifié'!W42=\"Exemptée\",\"Yes\",\"\")","v":""},{"$f":"IF('Outil Recensement simplifié'!X42>0,'Outil Recensement simplifié'!X42,\"\")","v":""},{"$f":"IF('Outil Recensement simplifié'!Y42>0,'Outil Recensement simplifié'!Y42,\"\")","v":""},{"$f":"IF('Outil Recensement simplifié'!Z42>0,'Outil Recensement simplifié'!Z42,\"\")","v":""},{"$f":"IF('Outil Recensement simplifié'!AA42>0,'Outil Recensement simplifié'!AA42,\"\")","v":""},{"$f":"IF('Outil Recensement simplifié'!AB42>0,'Outil Recensement simplifié'!AB42,\"\")","v":""},{"$f":"IF('Outil Recensement simplifié'!AC42>0,'Outil Recensement simplifié'!AC42,\"\")","v":" "},{"$f":"IF('Outil Recensement simplifié'!AE42>0,'Outil Recensement simplifié'!AE42&\" \",\"\")&IF('Outil Recensement simplifié'!AD42>0,'Outil Recensement simplifié'!AD42,\"\")","v":""},null,{"$f":"IF('Outil Recensement simplifié'!AF42>0,'Outil Recensement simplifié'!AF42,\"\")","v":""},{"$f":"IF('Outil Recensement simplifié'!AG42>0,'Outil Recensement simplifié'!AG42,\"\")","v":""},{"$f":"IF('Outil Recensement simplifié'!AH42>0,'Outil Recensement simplifié'!AH42,\"\")","v":""},{"$f":"IF('Outil Recensement simplifié'!AI42>0,'Outil Recensement simplifié'!AI42,\"\")","v":""},{"$f":"IF('Outil Recensement simplifié'!AJ42>0,'Outil Recensement simplifié'!AJ42,\"\")","v":""},{"$f":"IF('Outil Recensement simplifié'!AK42>0,'Outil Recensement simplifié'!AK42,\"\")","v":""},{"$f":"IF('Outil Recensement simplifié'!AL42>0,'Outil Recensement simplifié'!AL42,\"\")","v":""},{"$f":"IF('Outil Recensement simplifié'!AM42>0,'Outil Recensement simplifié'!AM42,\"\")","v":""},{"$f":"IF('Outil Recensement simplifié'!AN42=\"Homme\",\"Male\",IF('Outil Recensement simplifié'!AN42=\"Femme\",\"Female\",IF('Outil Recensement simplifié'!AN42=\"H\",\"Male\",IF('Outil Recensement simplifié'!AN42=\"F\",\"Female\",\"\"))))","v":""},{"$f":"IF('Outil Recensement simplifié'!AO42=\"Individuelle\",\"Single\",IF('Outil Recensement simplifié'!AO42=\"Famille\",\"Family\",IF('Outil Recensement simplifié'!AO42=\"Individuel\",\"Single\",IF('Outil Recensement simplifié'!AO42=\"Familiale\",\"Family\",IF('Outil Recensement simplifié'!AO42=\"I\",\"Single\",IF('Outil Recensement simplifié'!AO42=\"F\",\"Family\",\"\"))))))","v":""},{"$f":"IF('Outil Recensement simplifié'!AP42=\"Individuelle\",\"Single\",IF('Outil Recensement simplifié'!AP42=\"Famille\",\"Family\",IF('Outil Recensement simplifié'!AP42=\"Individuel\",\"Single\",IF('Outil Recensement simplifié'!AP42=\"Familiale\",\"Family\",IF('Outil Recensement simplifié'!AP42=\"I\",\"Single\",IF('Outil Recensement simplifié'!AP42=\"F\",\"Family\",\"\"))))))","v":""},{"$f":"IF('Outil Recensement simplifié'!AQ42>0,'Outil Recensement simplifié'!AQ42,\"\")","v":""},{"$f":"IF('Outil Recensement simplifié'!AR42=\"Oui\",\"Yes\",IF('Outil Recensement simplifié'!AR42=\"Non\",\"No\",IF('Outil Recensement simplifié'!AR42=\"O\",\"Yes\",IF('Outil Recensement simplifié'!AR42=\"N\",\"No\",\"\"))))","v":""},{"$f":"IF('Outil Recensement simplifié'!AS42>0,'Outil Recensement simplifié'!AS42,\"\")","v":""},{"$f":"IF('Outil Recensement simplifié'!AT42>0,'Outil Recensement simplifié'!AT42,\"\")","v":""},{"$f":"IF('Outil Recensement simplifié'!AU42>0,'Outil Recensement simplifié'!AU42,\"\")","v":""},{"$f":"IF('Outil Recensement simplifié'!AV42=\"Homme\",\"Male\",IF('Outil Recensement simplifié'!AV42=\"Femme\",\"Female\",IF('Outil Recensement simplifié'!AV42=\"H\",\"Male\",IF('Outil Recensement simplifié'!AV42=\"F\",\"Female\",\"\"))))","v":""},{"$f":"IF('Outil Recensement simplifié'!AW42=\"Oui\",\"Yes\",IF('Outil Recensement simplifié'!AW42=\"Non\",\"No\",IF('Outil Recensement simplifié'!AW42=\"O\",\"Yes\",IF('Outil Recensement simplifié'!AW42=\"N\",\"No\",\"\"))))","v":""},{"$f":"IF('Outil Recensement simplifié'!AX42=\"Oui\",\"Yes\",IF('Outil Recensement simplifié'!AX42=\"Non\",\"No\",IF('Outil Recensement simplifié'!AX42=\"O\",\"Yes\",IF('Outil Recensement simplifié'!AX42=\"N\",\"No\",\"\"))))","v":""},{"$f":"IF('Outil Recensement simplifié'!AY42>0,'Outil Recensement simplifié'!AY42,\"\")","v":""},{"$f":"IF('Outil Recensement simplifié'!AZ42>0,'Outil Recensement simplifié'!AZ42,\"\")","v":""},{"$f":"IF('Outil Recensement simplifié'!BA42>0,'Outil Recensement simplifié'!BA42,\"\")","v":""},{"$f":"IF('Outil Recensement simplifié'!BB42=\"Homme\",\"Male\",IF('Outil Recensement simplifié'!BB42=\"Femme\",\"Female\",IF('Outil Recensement simplifié'!BB42=\"H\",\"Male\",IF('Outil Recensement simplifié'!BB42=\"F\",\"Female\",\"\"))))","v":""},{"$f":"IF('Outil Recensement simplifié'!BC42=\"Oui\",\"Yes\",IF('Outil Recensement simplifié'!BC42=\"Non\",\"No\",IF('Outil Recensement simplifié'!BC42=\"O\",\"Yes\",IF('Outil Recensement simplifié'!BC42=\"N\",\"No\",\"\"))))","v":""},{"$f":"IF('Outil Recensement simplifié'!BD42=\"Oui\",\"Yes\",IF('Outil Recensement simplifié'!BD42=\"Non\",\"No\",IF('Outil Recensement simplifié'!BD42=\"O\",\"Yes\",IF('Outil Recensement simplifié'!BD42=\"N\",\"No\",\"\"))))","v":""},{"$f":"IF('Outil Recensement simplifié'!BE42>0,'Outil Recensement simplifié'!BE42,\"\")","v":""},{"$f":"IF('Outil Recensement simplifié'!BF42>0,'Outil Recensement simplifié'!BF42,\"\")","v":""},{"$f":"IF('Outil Recensement simplifié'!BG42>0,'Outil Recensement simplifié'!BG42,\"\")","v":""},{"$f":"IF('Outil Recensement simplifié'!BH42=\"Homme\",\"Male\",IF('Outil Recensement simplifié'!BH42=\"Femme\",\"Female\",IF('Outil Recensement simplifié'!BH42=\"H\",\"Male\",IF('Outil Recensement simplifié'!BH42=\"F\",\"Female\",\"\"))))","v":""},{"$f":"IF('Outil Recensement simplifié'!BI42=\"Oui\",\"Yes\",IF('Outil Recensement simplifié'!BI42=\"Non\",\"No\",IF('Outil Recensement simplifié'!BI42=\"O\",\"Yes\",IF('Outil Recensement simplifié'!BI42=\"N\",\"No\",\"\"))))","v":""},{"$f":"IF('Outil Recensement simplifié'!BJ42=\"Oui\",\"Yes\",IF('Outil Recensement simplifié'!BJ42=\"Non\",\"No\",IF('Outil Recensement simplifié'!BJ42=\"O\",\"Yes\",IF('Outil Recensement simplifié'!BJ42=\"N\",\"No\",\"\"))))","v":""},{"$f":"IF('Outil Recensement simplifié'!BK42>0,'Outil Recensement simplifié'!BK42,\"\")","v":""},{"$f":"IF('Outil Recensement simplifié'!BL42>0,'Outil Recensement simplifié'!BL42,\"\")","v":""},{"$f":"IF('Outil Recensement simplifié'!BM42>0,'Outil Recensement simplifié'!BM42,\"\")","v":""},{"$f":"IF('Outil Recensement simplifié'!BN42=\"Homme\",\"Male\",IF('Outil Recensement simplifié'!BN42=\"Femme\",\"Female\",IF('Outil Recensement simplifié'!BN42=\"H\",\"Male\",IF('Outil Recensement simplifié'!BN42=\"F\",\"Female\",\"\"))))","v":""},{"$f":"IF('Outil Recensement simplifié'!BO42=\"Oui\",\"Yes\",IF('Outil Recensement simplifié'!BO42=\"Non\",\"No\",IF('Outil Recensement simplifié'!BO42=\"O\",\"Yes\",IF('Outil Recensement simplifié'!BO42=\"N\",\"No\",\"\"))))","v":""},{"$f":"IF('Outil Recensement simplifié'!BP42=\"Oui\",\"Yes\",IF('Outil Recensement simplifié'!BP42=\"Non\",\"No\",IF('Outil Recensement simplifié'!BP42=\"O\",\"Yes\",IF('Outil Recensement simplifié'!BP42=\"N\",\"No\",\"\"))))","v":""},{"$f":"IF('Outil Recensement simplifié'!BQ42>0,'Outil Recensement simplifié'!BQ42,\"\")","v":""},{"$f":"IF('Outil Recensement simplifié'!BR42>0,'Outil Recensement simplifié'!BR42,\"\")","v":""},{"$f":"IF('Outil Recensement simplifié'!BS42>0,'Outil Recensement simplifié'!BS42,\"\")","v":""},{"$f":"IF('Outil Recensement simplifié'!BT42=\"Homme\",\"Male\",IF('Outil Recensement simplifié'!BT42=\"Femme\",\"Female\",IF('Outil Recensement simplifié'!BT42=\"H\",\"Male\",IF('Outil Recensement simplifié'!BT42=\"F\",\"Female\",\"\"))))","v":""},{"$f":"IF('Outil Recensement simplifié'!BU42=\"Oui\",\"Yes\",IF('Outil Recensement simplifié'!BU42=\"Non\",\"No\",IF('Outil Recensement simplifié'!BU42=\"O\",\"Yes\",IF('Outil Recensement simplifié'!BU42=\"N\",\"No\",\"\"))))","v":""},{"$f":"IF('Outil Recensement simplifié'!BV42=\"Oui\",\"Yes\",IF('Outil Recensement simplifié'!BV42=\"Non\",\"No\",IF('Outil Recensement simplifié'!BV42=\"O\",\"Yes\",IF('Outil Recensement simplifié'!BV42=\"N\",\"No\",\"\"))))","v":""},{"$f":"IF('Outil Recensement simplifié'!BW42>0,'Outil Recensement simplifié'!BW42,\"\")","v":""},{"$f":"IF('Outil Recensement simplifié'!BX42>0,'Outil Recensement simplifié'!BX42,\"\")","v":""},{"$f":"IF('Outil Recensement simplifié'!BY42>0,'Outil Recensement simplifié'!BY42,\"\")","v":""},{"$f":"IF('Outil Recensement simplifié'!BZ42=\"Homme\",\"Male\",IF('Outil Recensement simplifié'!BZ42=\"Femme\",\"Female\",IF('Outil Recensement simplifié'!BZ42=\"H\",\"Male\",IF('Outil Recensement simplifié'!BZ42=\"F\",\"Female\",\"\"))))","v":""},{"$f":"IF('Outil Recensement simplifié'!CA42=\"Oui\",\"Yes\",IF('Outil Recensement simplifié'!CA42=\"Non\",\"No\",IF('Outil Recensement simplifié'!CA42=\"O\",\"Yes\",IF('Outil Recensement simplifié'!CA42=\"N\",\"No\",\"\"))))","v":""},{"$f":"IF('Outil Recensement simplifié'!CB42=\"Oui\",\"Yes\",IF('Outil Recensement simplifié'!CB42=\"Non\",\"No\",IF('Outil Recensement simplifié'!CB42=\"O\",\"Yes\",IF('Outil Recensement simplifié'!CB42=\"N\",\"No\",\"\"))))","v":""},{"$f":"IF('Outil Recensement simplifié'!CH42>0,'Outil Recensement simplifié'!CH42,\"\")","v":"    "}]
[{"$f":"IF('Outil Recensement simplifié'!A43>0,'Outil Recensement simplifié'!A43,\"\")","v":""},{"$f":"IF('Outil Recensement simplifié'!B43>0,'Outil Recensement simplifié'!B43,\"\")","v":""},{"$f":"IF('Outil Recensement simplifié'!C43>0,'Outil Recensement simplifié'!C43,\"\")","v":""},{"$f":"IF('Outil Recensement simplifié'!D43>0,'Outil Recensement simplifié'!D43,\"\")","v":""},{"$f":"IF('Outil Recensement simplifié'!E43>0,TEXT('Outil Recensement simplifié'!E43,\"000\"),\"\")","v":""},{"$f":"IF('Outil Recensement simplifié'!F43>0,'Outil Recensement simplifié'!F43,\"\")","v":""},{"$f":"IF('Outil Recensement simplifié'!G43>0,'Outil Recensement simplifié'!G43,\"\")","v":""},{"$f":"IF('Outil Recensement simplifié'!I43>0,'Outil Recensement simplifié'!I43,\"\")","v":""},{"$f":"IF('Outil Recensement simplifié'!J43>0,'Outil Recensement simplifié'!J43,\"\")","v":""},{"$f":"IF('Outil Recensement simplifié'!K43>0,'Outil Recensement simplifié'!K43,\"\")","v":""},{"$f":"IF('Outil Recensement simplifié'!L43>0,'Outil Recensement simplifié'!L43,\"\")","v":""},{"$f":"IF('Outil Recensement simplifié'!M43=\"Homme\",\"Male\",IF('Outil Recensement simplifié'!M43=\"Femme\",\"Female\",IF('Outil Recensement simplifié'!M43=\"H\",\"Male\",IF('Outil Recensement simplifié'!M43=\"F\",\"Female\",\"\"))))","v":""},{"$f":"IF('Outil Recensement simplifié'!N43=\"Oui\",\"Yes\",IF('Outil Recensement simplifié'!N43=\"Non\",\"No\",IF('Outil Recensement simplifié'!N43=\"O\",\"Yes\",IF('Outil Recensement simplifié'!N43=\"N\",\"No\",\"\"))))","v":""},{"$f":"IF('Outil Recensement simplifié'!O43=\"Non\",\"Single\",IF('Outil Recensement simplifié'!O43=\"Oui\",\"Family\",IF('Outil Recensement simplifié'!O43=\"N\",\"Single\",IF('Outil Recensement simplifié'!O43=\"O\",\"Family\",IF('Outil Recensement simplifié'!O43=\"En vigueur\",\"Family\",\"\")))))","v":""},{"$f":"IF('Outil Recensement simplifié'!P43=\"Anglais\",\"English\",IF('Outil Recensement simplifié'!P43=\"Français\",\"French\",IF('Outil Recensement simplifié'!P43=\"A\",\"English\",IF('Outil Recensement simplifié'!P43=\"F\",\"French\",\"\"))))","v":""},{"$f":"IF('Outil Recensement simplifié'!Q43=\"Oui\",\"Yes\",IF('Outil Recensement simplifié'!Q43=\"Non\",\"No\",IF('Outil Recensement simplifié'!Q43=\"O\",\"Yes\",IF('Outil Recensement simplifié'!Q43=\"N\",\"No\",\"\"))))","v":""},{"$f":"IF('Outil Recensement simplifié'!R43>0,'Outil Recensement simplifié'!R43,\"\")","v":""},{"$f":"IF('Outil Recensement simplifié'!S43=\"Annuelle\",\"Annually\",IF('Outil Recensement simplifié'!S43=\"Mensuelle\",\"Monthly\",IF('Outil Recensement simplifié'!S43=\"Aux deux semaines\",\"Biweekly\",IF('Outil Recensement simplifié'!S43=\"Bimensuelle\",\"Semi-Monthly\",IF('Outil Recensement simplifié'!S43=\"Hebdomadaire\",\"Weekly\",IF('Outil Recensement simplifié'!S43=\"Horaire\",\"Hourly\",\"\"))))))","v":""},{"$f":"IF('Outil Recensement simplifié'!T43>0,'Outil Recensement simplifié'!T43,\"\")","v":""},{"$f":"IF('Outil Recensement simplifié'!U43>0,'Outil Recensement simplifié'!U43,\"\")","v":""},{"$f":"IF('Outil Recensement simplifié'!V43=\"Exemptée\",\"Yes\",\"\")","v":""},{"$f":"IF('Outil Recensement simplifié'!W43=\"Exemptée\",\"Yes\",\"\")","v":""},{"$f":"IF('Outil Recensement simplifié'!X43>0,'Outil Recensement simplifié'!X43,\"\")","v":""},{"$f":"IF('Outil Recensement simplifié'!Y43>0,'Outil Recensement simplifié'!Y43,\"\")","v":""},{"$f":"IF('Outil Recensement simplifié'!Z43>0,'Outil Recensement simplifié'!Z43,\"\")","v":""},{"$f":"IF('Outil Recensement simplifié'!AA43>0,'Outil Recensement simplifié'!AA43,\"\")","v":""},{"$f":"IF('Outil Recensement simplifié'!AB43>0,'Outil Recensement simplifié'!AB43,\"\")","v":""},{"$f":"IF('Outil Recensement simplifié'!AC43>0,'Outil Recensement simplifié'!AC43,\"\")","v":" "},{"$f":"IF('Outil Recensement simplifié'!AE43>0,'Outil Recensement simplifié'!AE43&\" \",\"\")&IF('Outil Recensement simplifié'!AD43>0,'Outil Recensement simplifié'!AD43,\"\")","v":""},null,{"$f":"IF('Outil Recensement simplifié'!AF43>0,'Outil Recensement simplifié'!AF43,\"\")","v":""},{"$f":"IF('Outil Recensement simplifié'!AG43>0,'Outil Recensement simplifié'!AG43,\"\")","v":""},{"$f":"IF('Outil Recensement simplifié'!AH43>0,'Outil Recensement simplifié'!AH43,\"\")","v":""},{"$f":"IF('Outil Recensement simplifié'!AI43>0,'Outil Recensement simplifié'!AI43,\"\")","v":""},{"$f":"IF('Outil Recensement simplifié'!AJ43>0,'Outil Recensement simplifié'!AJ43,\"\")","v":""},{"$f":"IF('Outil Recensement simplifié'!AK43>0,'Outil Recensement simplifié'!AK43,\"\")","v":""},{"$f":"IF('Outil Recensement simplifié'!AL43>0,'Outil Recensement simplifié'!AL43,\"\")","v":""},{"$f":"IF('Outil Recensement simplifié'!AM43>0,'Outil Recensement simplifié'!AM43,\"\")","v":""},{"$f":"IF('Outil Recensement simplifié'!AN43=\"Homme\",\"Male\",IF('Outil Recensement simplifié'!AN43=\"Femme\",\"Female\",IF('Outil Recensement simplifié'!AN43=\"H\",\"Male\",IF('Outil Recensement simplifié'!AN43=\"F\",\"Female\",\"\"))))","v":""},{"$f":"IF('Outil Recensement simplifié'!AO43=\"Individuelle\",\"Single\",IF('Outil Recensement simplifié'!AO43=\"Famille\",\"Family\",IF('Outil Recensement simplifié'!AO43=\"Individuel\",\"Single\",IF('Outil Recensement simplifié'!AO43=\"Familiale\",\"Family\",IF('Outil Recensement simplifié'!AO43=\"I\",\"Single\",IF('Outil Recensement simplifié'!AO43=\"F\",\"Family\",\"\"))))))","v":""},{"$f":"IF('Outil Recensement simplifié'!AP43=\"Individuelle\",\"Single\",IF('Outil Recensement simplifié'!AP43=\"Famille\",\"Family\",IF('Outil Recensement simplifié'!AP43=\"Individuel\",\"Single\",IF('Outil Recensement simplifié'!AP43=\"Familiale\",\"Family\",IF('Outil Recensement simplifié'!AP43=\"I\",\"Single\",IF('Outil Recensement simplifié'!AP43=\"F\",\"Family\",\"\"))))))","v":""},{"$f":"IF('Outil Recensement simplifié'!AQ43>0,'Outil Recensement simplifié'!AQ43,\"\")","v":""},{"$f":"IF('Outil Recensement simplifié'!AR43=\"Oui\",\"Yes\",IF('Outil Recensement simplifié'!AR43=\"Non\",\"No\",IF('Outil Recensement simplifié'!AR43=\"O\",\"Yes\",IF('Outil Recensement simplifié'!AR43=\"N\",\"No\",\"\"))))","v":""},{"$f":"IF('Outil Recensement simplifié'!AS43>0,'Outil Recensement simplifié'!AS43,\"\")","v":""},{"$f":"IF('Outil Recensement simplifié'!AT43>0,'Outil Recensement simplifié'!AT43,\"\")","v":""},{"$f":"IF('Outil Recensement simplifié'!AU43>0,'Outil Recensement simplifié'!AU43,\"\")","v":""},{"$f":"IF('Outil Recensement simplifié'!AV43=\"Homme\",\"Male\",IF('Outil Recensement simplifié'!AV43=\"Femme\",\"Female\",IF('Outil Recensement simplifié'!AV43=\"H\",\"Male\",IF('Outil Recensement simplifié'!AV43=\"F\",\"Female\",\"\"))))","v":""},{"$f":"IF('Outil Recensement simplifié'!AW43=\"Oui\",\"Yes\",IF('Outil Recensement simplifié'!AW43=\"Non\",\"No\",IF('Outil Recensement simplifié'!AW43=\"O\",\"Yes\",IF('Outil Recensement simplifié'!AW43=\"N\",\"No\",\"\"))))","v":""},{"$f":"IF('Outil Recensement simplifié'!AX43=\"Oui\",\"Yes\",IF('Outil Recensement simplifié'!AX43=\"Non\",\"No\",IF('Outil Recensement simplifié'!AX43=\"O\",\"Yes\",IF('Outil Recensement simplifié'!AX43=\"N\",\"No\",\"\"))))","v":""},{"$f":"IF('Outil Recensement simplifié'!AY43>0,'Outil Recensement simplifié'!AY43,\"\")","v":""},{"$f":"IF('Outil Recensement simplifié'!AZ43>0,'Outil Recensement simplifié'!AZ43,\"\")","v":""},{"$f":"IF('Outil Recensement simplifié'!BA43>0,'Outil Recensement simplifié'!BA43,\"\")","v":""},{"$f":"IF('Outil Recensement simplifié'!BB43=\"Homme\",\"Male\",IF('Outil Recensement simplifié'!BB43=\"Femme\",\"Female\",IF('Outil Recensement simplifié'!BB43=\"H\",\"Male\",IF('Outil Recensement simplifié'!BB43=\"F\",\"Female\",\"\"))))","v":""},{"$f":"IF('Outil Recensement simplifié'!BC43=\"Oui\",\"Yes\",IF('Outil Recensement simplifié'!BC43=\"Non\",\"No\",IF('Outil Recensement simplifié'!BC43=\"O\",\"Yes\",IF('Outil Recensement simplifié'!BC43=\"N\",\"No\",\"\"))))","v":""},{"$f":"IF('Outil Recensement simplifié'!BD43=\"Oui\",\"Yes\",IF('Outil Recensement simplifié'!BD43=\"Non\",\"No\",IF('Outil Recensement simplifié'!BD43=\"O\",\"Yes\",IF('Outil Recensement simplifié'!BD43=\"N\",\"No\",\"\"))))","v":""},{"$f":"IF('Outil Recensement simplifié'!BE43>0,'Outil Recensement simplifié'!BE43,\"\")","v":""},{"$f":"IF('Outil Recensement simplifié'!BF43>0,'Outil Recensement simplifié'!BF43,\"\")","v":""},{"$f":"IF('Outil Recensement simplifié'!BG43>0,'Outil Recensement simplifié'!BG43,\"\")","v":""},{"$f":"IF('Outil Recensement simplifié'!BH43=\"Homme\",\"Male\",IF('Outil Recensement simplifié'!BH43=\"Femme\",\"Female\",IF('Outil Recensement simplifié'!BH43=\"H\",\"Male\",IF('Outil Recensement simplifié'!BH43=\"F\",\"Female\",\"\"))))","v":""},{"$f":"IF('Outil Recensement simplifié'!BI43=\"Oui\",\"Yes\",IF('Outil Recensement simplifié'!BI43=\"Non\",\"No\",IF('Outil Recensement simplifié'!BI43=\"O\",\"Yes\",IF('Outil Recensement simplifié'!BI43=\"N\",\"No\",\"\"))))","v":""},{"$f":"IF('Outil Recensement simplifié'!BJ43=\"Oui\",\"Yes\",IF('Outil Recensement simplifié'!BJ43=\"Non\",\"No\",IF('Outil Recensement simplifié'!BJ43=\"O\",\"Yes\",IF('Outil Recensement simplifié'!BJ43=\"N\",\"No\",\"\"))))","v":""},{"$f":"IF('Outil Recensement simplifié'!BK43>0,'Outil Recensement simplifié'!BK43,\"\")","v":""},{"$f":"IF('Outil Recensement simplifié'!BL43>0,'Outil Recensement simplifié'!BL43,\"\")","v":""},{"$f":"IF('Outil Recensement simplifié'!BM43>0,'Outil Recensement simplifié'!BM43,\"\")","v":""},{"$f":"IF('Outil Recensement simplifié'!BN43=\"Homme\",\"Male\",IF('Outil Recensement simplifié'!BN43=\"Femme\",\"Female\",IF('Outil Recensement simplifié'!BN43=\"H\",\"Male\",IF('Outil Recensement simplifié'!BN43=\"F\",\"Female\",\"\"))))","v":""},{"$f":"IF('Outil Recensement simplifié'!BO43=\"Oui\",\"Yes\",IF('Outil Recensement simplifié'!BO43=\"Non\",\"No\",IF('Outil Recensement simplifié'!BO43=\"O\",\"Yes\",IF('Outil Recensement simplifié'!BO43=\"N\",\"No\",\"\"))))","v":""},{"$f":"IF('Outil Recensement simplifié'!BP43=\"Oui\",\"Yes\",IF('Outil Recensement simplifié'!BP43=\"Non\",\"No\",IF('Outil Recensement simplifié'!BP43=\"O\",\"Yes\",IF('Outil Recensement simplifié'!BP43=\"N\",\"No\",\"\"))))","v":""},{"$f":"IF('Outil Recensement simplifié'!BQ43>0,'Outil Recensement simplifié'!BQ43,\"\")","v":""},{"$f":"IF('Outil Recensement simplifié'!BR43>0,'Outil Recensement simplifié'!BR43,\"\")","v":""},{"$f":"IF('Outil Recensement simplifié'!BS43>0,'Outil Recensement simplifié'!BS43,\"\")","v":""},{"$f":"IF('Outil Recensement simplifié'!BT43=\"Homme\",\"Male\",IF('Outil Recensement simplifié'!BT43=\"Femme\",\"Female\",IF('Outil Recensement simplifié'!BT43=\"H\",\"Male\",IF('Outil Recensement simplifié'!BT43=\"F\",\"Female\",\"\"))))","v":""},{"$f":"IF('Outil Recensement simplifié'!BU43=\"Oui\",\"Yes\",IF('Outil Recensement simplifié'!BU43=\"Non\",\"No\",IF('Outil Recensement simplifié'!BU43=\"O\",\"Yes\",IF('Outil Recensement simplifié'!BU43=\"N\",\"No\",\"\"))))","v":""},{"$f":"IF('Outil Recensement simplifié'!BV43=\"Oui\",\"Yes\",IF('Outil Recensement simplifié'!BV43=\"Non\",\"No\",IF('Outil Recensement simplifié'!BV43=\"O\",\"Yes\",IF('Outil Recensement simplifié'!BV43=\"N\",\"No\",\"\"))))","v":""},{"$f":"IF('Outil Recensement simplifié'!BW43>0,'Outil Recensement simplifié'!BW43,\"\")","v":""},{"$f":"IF('Outil Recensement simplifié'!BX43>0,'Outil Recensement simplifié'!BX43,\"\")","v":""},{"$f":"IF('Outil Recensement simplifié'!BY43>0,'Outil Recensement simplifié'!BY43,\"\")","v":""},{"$f":"IF('Outil Recensement simplifié'!BZ43=\"Homme\",\"Male\",IF('Outil Recensement simplifié'!BZ43=\"Femme\",\"Female\",IF('Outil Recensement simplifié'!BZ43=\"H\",\"Male\",IF('Outil Recensement simplifié'!BZ43=\"F\",\"Female\",\"\"))))","v":""},{"$f":"IF('Outil Recensement simplifié'!CA43=\"Oui\",\"Yes\",IF('Outil Recensement simplifié'!CA43=\"Non\",\"No\",IF('Outil Recensement simplifié'!CA43=\"O\",\"Yes\",IF('Outil Recensement simplifié'!CA43=\"N\",\"No\",\"\"))))","v":""},{"$f":"IF('Outil Recensement simplifié'!CB43=\"Oui\",\"Yes\",IF('Outil Recensement simplifié'!CB43=\"Non\",\"No\",IF('Outil Recensement simplifié'!CB43=\"O\",\"Yes\",IF('Outil Recensement simplifié'!CB43=\"N\",\"No\",\"\"))))","v":""},{"$f":"IF('Outil Recensement simplifié'!CH43>0,'Outil Recensement simplifié'!CH43,\"\")","v":"    "}]
[{"$f":"IF('Outil Recensement simplifié'!A44>0,'Outil Recensement simplifié'!A44,\"\")","v":""},{"$f":"IF('Outil Recensement simplifié'!B44>0,'Outil Recensement simplifié'!B44,\"\")","v":""},{"$f":"IF('Outil Recensement simplifié'!C44>0,'Outil Recensement simplifié'!C44,\"\")","v":""},{"$f":"IF('Outil Recensement simplifié'!D44>0,'Outil Recensement simplifié'!D44,\"\")","v":""},{"$f":"IF('Outil Recensement simplifié'!E44>0,TEXT('Outil Recensement simplifié'!E44,\"000\"),\"\")","v":""},{"$f":"IF('Outil Recensement simplifié'!F44>0,'Outil Recensement simplifié'!F44,\"\")","v":""},{"$f":"IF('Outil Recensement simplifié'!G44>0,'Outil Recensement simplifié'!G44,\"\")","v":""},{"$f":"IF('Outil Recensement simplifié'!I44>0,'Outil Recensement simplifié'!I44,\"\")","v":""},{"$f":"IF('Outil Recensement simplifié'!J44>0,'Outil Recensement simplifié'!J44,\"\")","v":""},{"$f":"IF('Outil Recensement simplifié'!K44>0,'Outil Recensement simplifié'!K44,\"\")","v":""},{"$f":"IF('Outil Recensement simplifié'!L44>0,'Outil Recensement simplifié'!L44,\"\")","v":""},{"$f":"IF('Outil Recensement simplifié'!M44=\"Homme\",\"Male\",IF('Outil Recensement simplifié'!M44=\"Femme\",\"Female\",IF('Outil Recensement simplifié'!M44=\"H\",\"Male\",IF('Outil Recensement simplifié'!M44=\"F\",\"Female\",\"\"))))","v":""},{"$f":"IF('Outil Recensement simplifié'!N44=\"Oui\",\"Yes\",IF('Outil Recensement simplifié'!N44=\"Non\",\"No\",IF('Outil Recensement simplifié'!N44=\"O\",\"Yes\",IF('Outil Recensement simplifié'!N44=\"N\",\"No\",\"\"))))","v":""},{"$f":"IF('Outil Recensement simplifié'!O44=\"Non\",\"Single\",IF('Outil Recensement simplifié'!O44=\"Oui\",\"Family\",IF('Outil Recensement simplifié'!O44=\"N\",\"Single\",IF('Outil Recensement simplifié'!O44=\"O\",\"Family\",IF('Outil Recensement simplifié'!O44=\"En vigueur\",\"Family\",\"\")))))","v":""},{"$f":"IF('Outil Recensement simplifié'!P44=\"Anglais\",\"English\",IF('Outil Recensement simplifié'!P44=\"Français\",\"French\",IF('Outil Recensement simplifié'!P44=\"A\",\"English\",IF('Outil Recensement simplifié'!P44=\"F\",\"French\",\"\"))))","v":""},{"$f":"IF('Outil Recensement simplifié'!Q44=\"Oui\",\"Yes\",IF('Outil Recensement simplifié'!Q44=\"Non\",\"No\",IF('Outil Recensement simplifié'!Q44=\"O\",\"Yes\",IF('Outil Recensement simplifié'!Q44=\"N\",\"No\",\"\"))))","v":""},{"$f":"IF('Outil Recensement simplifié'!R44>0,'Outil Recensement simplifié'!R44,\"\")","v":""},{"$f":"IF('Outil Recensement simplifié'!S44=\"Annuelle\",\"Annually\",IF('Outil Recensement simplifié'!S44=\"Mensuelle\",\"Monthly\",IF('Outil Recensement simplifié'!S44=\"Aux deux semaines\",\"Biweekly\",IF('Outil Recensement simplifié'!S44=\"Bimensuelle\",\"Semi-Monthly\",IF('Outil Recensement simplifié'!S44=\"Hebdomadaire\",\"Weekly\",IF('Outil Recensement simplifié'!S44=\"Horaire\",\"Hourly\",\"\"))))))","v":""},{"$f":"IF('Outil Recensement simplifié'!T44>0,'Outil Recensement simplifié'!T44,\"\")","v":""},{"$f":"IF('Outil Recensement simplifié'!U44>0,'Outil Recensement simplifié'!U44,\"\")","v":""},{"$f":"IF('Outil Recensement simplifié'!V44=\"Exemptée\",\"Yes\",\"\")","v":""},{"$f":"IF('Outil Recensement simplifié'!W44=\"Exemptée\",\"Yes\",\"\")","v":""},{"$f":"IF('Outil Recensement simplifié'!X44>0,'Outil Recensement simplifié'!X44,\"\")","v":""},{"$f":"IF('Outil Recensement simplifié'!Y44>0,'Outil Recensement simplifié'!Y44,\"\")","v":""},{"$f":"IF('Outil Recensement simplifié'!Z44>0,'Outil Recensement simplifié'!Z44,\"\")","v":""},{"$f":"IF('Outil Recensement simplifié'!AA44>0,'Outil Recensement simplifié'!AA44,\"\")","v":""},{"$f":"IF('Outil Recensement simplifié'!AB44>0,'Outil Recensement simplifié'!AB44,\"\")","v":""},{"$f":"IF('Outil Recensement simplifié'!AC44>0,'Outil Recensement simplifié'!AC44,\"\")","v":" "},{"$f":"IF('Outil Recensement simplifié'!AE44>0,'Outil Recensement simplifié'!AE44&\" \",\"\")&IF('Outil Recensement simplifié'!AD44>0,'Outil Recensement simplifié'!AD44,\"\")","v":""},null,{"$f":"IF('Outil Recensement simplifié'!AF44>0,'Outil Recensement simplifié'!AF44,\"\")","v":""},{"$f":"IF('Outil Recensement simplifié'!AG44>0,'Outil Recensement simplifié'!AG44,\"\")","v":""},{"$f":"IF('Outil Recensement simplifié'!AH44>0,'Outil Recensement simplifié'!AH44,\"\")","v":""},{"$f":"IF('Outil Recensement simplifié'!AI44>0,'Outil Recensement simplifié'!AI44,\"\")","v":""},{"$f":"IF('Outil Recensement simplifié'!AJ44>0,'Outil Recensement simplifié'!AJ44,\"\")","v":""},{"$f":"IF('Outil Recensement simplifié'!AK44>0,'Outil Recensement simplifié'!AK44,\"\")","v":""},{"$f":"IF('Outil Recensement simplifié'!AL44>0,'Outil Recensement simplifié'!AL44,\"\")","v":""},{"$f":"IF('Outil Recensement simplifié'!AM44>0,'Outil Recensement simplifié'!AM44,\"\")","v":""},{"$f":"IF('Outil Recensement simplifié'!AN44=\"Homme\",\"Male\",IF('Outil Recensement simplifié'!AN44=\"Femme\",\"Female\",IF('Outil Recensement simplifié'!AN44=\"H\",\"Male\",IF('Outil Recensement simplifié'!AN44=\"F\",\"Female\",\"\"))))","v":""},{"$f":"IF('Outil Recensement simplifié'!AO44=\"Individuelle\",\"Single\",IF('Outil Recensement simplifié'!AO44=\"Famille\",\"Family\",IF('Outil Recensement simplifié'!AO44=\"Individuel\",\"Single\",IF('Outil Recensement simplifié'!AO44=\"Familiale\",\"Family\",IF('Outil Recensement simplifié'!AO44=\"I\",\"Single\",IF('Outil Recensement simplifié'!AO44=\"F\",\"Family\",\"\"))))))","v":""},{"$f":"IF('Outil Recensement simplifié'!AP44=\"Individuelle\",\"Single\",IF('Outil Recensement simplifié'!AP44=\"Famille\",\"Family\",IF('Outil Recensement simplifié'!AP44=\"Individuel\",\"Single\",IF('Outil Recensement simplifié'!AP44=\"Familiale\",\"Family\",IF('Outil Recensement simplifié'!AP44=\"I\",\"Single\",IF('Outil Recensement simplifié'!AP44=\"F\",\"Family\",\"\"))))))","v":""},{"$f":"IF('Outil Recensement simplifié'!AQ44>0,'Outil Recensement simplifié'!AQ44,\"\")","v":""},{"$f":"IF('Outil Recensement simplifié'!AR44=\"Oui\",\"Yes\",IF('Outil Recensement simplifié'!AR44=\"Non\",\"No\",IF('Outil Recensement simplifié'!AR44=\"O\",\"Yes\",IF('Outil Recensement simplifié'!AR44=\"N\",\"No\",\"\"))))","v":""},{"$f":"IF('Outil Recensement simplifié'!AS44>0,'Outil Recensement simplifié'!AS44,\"\")","v":""},{"$f":"IF('Outil Recensement simplifié'!AT44>0,'Outil Recensement simplifié'!AT44,\"\")","v":""},{"$f":"IF('Outil Recensement simplifié'!AU44>0,'Outil Recensement simplifié'!AU44,\"\")","v":""},{"$f":"IF('Outil Recensement simplifié'!AV44=\"Homme\",\"Male\",IF('Outil Recensement simplifié'!AV44=\"Femme\",\"Female\",IF('Outil Recensement simplifié'!AV44=\"H\",\"Male\",IF('Outil Recensement simplifié'!AV44=\"F\",\"Female\",\"\"))))","v":""},{"$f":"IF('Outil Recensement simplifié'!AW44=\"Oui\",\"Yes\",IF('Outil Recensement simplifié'!AW44=\"Non\",\"No\",IF('Outil Recensement simplifié'!AW44=\"O\",\"Yes\",IF('Outil Recensement simplifié'!AW44=\"N\",\"No\",\"\"))))","v":""},{"$f":"IF('Outil Recensement simplifié'!AX44=\"Oui\",\"Yes\",IF('Outil Recensement simplifié'!AX44=\"Non\",\"No\",IF('Outil Recensement simplifié'!AX44=\"O\",\"Yes\",IF('Outil Recensement simplifié'!AX44=\"N\",\"No\",\"\"))))","v":""},{"$f":"IF('Outil Recensement simplifié'!AY44>0,'Outil Recensement simplifié'!AY44,\"\")","v":""},{"$f":"IF('Outil Recensement simplifié'!AZ44>0,'Outil Recensement simplifié'!AZ44,\"\")","v":""},{"$f":"IF('Outil Recensement simplifié'!BA44>0,'Outil Recensement simplifié'!BA44,\"\")","v":""},{"$f":"IF('Outil Recensement simplifié'!BB44=\"Homme\",\"Male\",IF('Outil Recensement simplifié'!BB44=\"Femme\",\"Female\",IF('Outil Recensement simplifié'!BB44=\"H\",\"Male\",IF('Outil Recensement simplifié'!BB44=\"F\",\"Female\",\"\"))))","v":""},{"$f":"IF('Outil Recensement simplifié'!BC44=\"Oui\",\"Yes\",IF('Outil Recensement simplifié'!BC44=\"Non\",\"No\",IF('Outil Recensement simplifié'!BC44=\"O\",\"Yes\",IF('Outil Recensement simplifié'!BC44=\"N\",\"No\",\"\"))))","v":""},{"$f":"IF('Outil Recensement simplifié'!BD44=\"Oui\",\"Yes\",IF('Outil Recensement simplifié'!BD44=\"Non\",\"No\",IF('Outil Recensement simplifié'!BD44=\"O\",\"Yes\",IF('Outil Recensement simplifié'!BD44=\"N\",\"No\",\"\"))))","v":""},{"$f":"IF('Outil Recensement simplifié'!BE44>0,'Outil Recensement simplifié'!BE44,\"\")","v":""},{"$f":"IF('Outil Recensement simplifié'!BF44>0,'Outil Recensement simplifié'!BF44,\"\")","v":""},{"$f":"IF('Outil Recensement simplifié'!BG44>0,'Outil Recensement simplifié'!BG44,\"\")","v":""},{"$f":"IF('Outil Recensement simplifié'!BH44=\"Homme\",\"Male\",IF('Outil Recensement simplifié'!BH44=\"Femme\",\"Female\",IF('Outil Recensement simplifié'!BH44=\"H\",\"Male\",IF('Outil Recensement simplifié'!BH44=\"F\",\"Female\",\"\"))))","v":""},{"$f":"IF('Outil Recensement simplifié'!BI44=\"Oui\",\"Yes\",IF('Outil Recensement simplifié'!BI44=\"Non\",\"No\",IF('Outil Recensement simplifié'!BI44=\"O\",\"Yes\",IF('Outil Recensement simplifié'!BI44=\"N\",\"No\",\"\"))))","v":""},{"$f":"IF('Outil Recensement simplifié'!BJ44=\"Oui\",\"Yes\",IF('Outil Recensement simplifié'!BJ44=\"Non\",\"No\",IF('Outil Recensement simplifié'!BJ44=\"O\",\"Yes\",IF('Outil Recensement simplifié'!BJ44=\"N\",\"No\",\"\"))))","v":""},{"$f":"IF('Outil Recensement simplifié'!BK44>0,'Outil Recensement simplifié'!BK44,\"\")","v":""},{"$f":"IF('Outil Recensement simplifié'!BL44>0,'Outil Recensement simplifié'!BL44,\"\")","v":""},{"$f":"IF('Outil Recensement simplifié'!BM44>0,'Outil Recensement simplifié'!BM44,\"\")","v":""},{"$f":"IF('Outil Recensement simplifié'!BN44=\"Homme\",\"Male\",IF('Outil Recensement simplifié'!BN44=\"Femme\",\"Female\",IF('Outil Recensement simplifié'!BN44=\"H\",\"Male\",IF('Outil Recensement simplifié'!BN44=\"F\",\"Female\",\"\"))))","v":""},{"$f":"IF('Outil Recensement simplifié'!BO44=\"Oui\",\"Yes\",IF('Outil Recensement simplifié'!BO44=\"Non\",\"No\",IF('Outil Recensement simplifié'!BO44=\"O\",\"Yes\",IF('Outil Recensement simplifié'!BO44=\"N\",\"No\",\"\"))))","v":""},{"$f":"IF('Outil Recensement simplifié'!BP44=\"Oui\",\"Yes\",IF('Outil Recensement simplifié'!BP44=\"Non\",\"No\",IF('Outil Recensement simplifié'!BP44=\"O\",\"Yes\",IF('Outil Recensement simplifié'!BP44=\"N\",\"No\",\"\"))))","v":""},{"$f":"IF('Outil Recensement simplifié'!BQ44>0,'Outil Recensement simplifié'!BQ44,\"\")","v":""},{"$f":"IF('Outil Recensement simplifié'!BR44>0,'Outil Recensement simplifié'!BR44,\"\")","v":""},{"$f":"IF('Outil Recensement simplifié'!BS44>0,'Outil Recensement simplifié'!BS44,\"\")","v":""},{"$f":"IF('Outil Recensement simplifié'!BT44=\"Homme\",\"Male\",IF('Outil Recensement simplifié'!BT44=\"Femme\",\"Female\",IF('Outil Recensement simplifié'!BT44=\"H\",\"Male\",IF('Outil Recensement simplifié'!BT44=\"F\",\"Female\",\"\"))))","v":""},{"$f":"IF('Outil Recensement simplifié'!BU44=\"Oui\",\"Yes\",IF('Outil Recensement simplifié'!BU44=\"Non\",\"No\",IF('Outil Recensement simplifié'!BU44=\"O\",\"Yes\",IF('Outil Recensement simplifié'!BU44=\"N\",\"No\",\"\"))))","v":""},{"$f":"IF('Outil Recensement simplifié'!BV44=\"Oui\",\"Yes\",IF('Outil Recensement simplifié'!BV44=\"Non\",\"No\",IF('Outil Recensement simplifié'!BV44=\"O\",\"Yes\",IF('Outil Recensement simplifié'!BV44=\"N\",\"No\",\"\"))))","v":""},{"$f":"IF('Outil Recensement simplifié'!BW44>0,'Outil Recensement simplifié'!BW44,\"\")","v":""},{"$f":"IF('Outil Recensement simplifié'!BX44>0,'Outil Recensement simplifié'!BX44,\"\")","v":""},{"$f":"IF('Outil Recensement simplifié'!BY44>0,'Outil Recensement simplifié'!BY44,\"\")","v":""},{"$f":"IF('Outil Recensement simplifié'!BZ44=\"Homme\",\"Male\",IF('Outil Recensement simplifié'!BZ44=\"Femme\",\"Female\",IF('Outil Recensement simplifié'!BZ44=\"H\",\"Male\",IF('Outil Recensement simplifié'!BZ44=\"F\",\"Female\",\"\"))))","v":""},{"$f":"IF('Outil Recensement simplifié'!CA44=\"Oui\",\"Yes\",IF('Outil Recensement simplifié'!CA44=\"Non\",\"No\",IF('Outil Recensement simplifié'!CA44=\"O\",\"Yes\",IF('Outil Recensement simplifié'!CA44=\"N\",\"No\",\"\"))))","v":""},{"$f":"IF('Outil Recensement simplifié'!CB44=\"Oui\",\"Yes\",IF('Outil Recensement simplifié'!CB44=\"Non\",\"No\",IF('Outil Recensement simplifié'!CB44=\"O\",\"Yes\",IF('Outil Recensement simplifié'!CB44=\"N\",\"No\",\"\"))))","v":""},{"$f":"IF('Outil Recensement simplifié'!CH44>0,'Outil Recensement simplifié'!CH44,\"\")","v":"    "}]
[{"$f":"IF('Outil Recensement simplifié'!A45>0,'Outil Recensement simplifié'!A45,\"\")","v":""},{"$f":"IF('Outil Recensement simplifié'!B45>0,'Outil Recensement simplifié'!B45,\"\")","v":""},{"$f":"IF('Outil Recensement simplifié'!C45>0,'Outil Recensement simplifié'!C45,\"\")","v":""},{"$f":"IF('Outil Recensement simplifié'!D45>0,'Outil Recensement simplifié'!D45,\"\")","v":""},{"$f":"IF('Outil Recensement simplifié'!E45>0,TEXT('Outil Recensement simplifié'!E45,\"000\"),\"\")","v":""},{"$f":"IF('Outil Recensement simplifié'!F45>0,'Outil Recensement simplifié'!F45,\"\")","v":""},{"$f":"IF('Outil Recensement simplifié'!G45>0,'Outil Recensement simplifié'!G45,\"\")","v":""},{"$f":"IF('Outil Recensement simplifié'!I45>0,'Outil Recensement simplifié'!I45,\"\")","v":""},{"$f":"IF('Outil Recensement simplifié'!J45>0,'Outil Recensement simplifié'!J45,\"\")","v":""},{"$f":"IF('Outil Recensement simplifié'!K45>0,'Outil Recensement simplifié'!K45,\"\")","v":""},{"$f":"IF('Outil Recensement simplifié'!L45>0,'Outil Recensement simplifié'!L45,\"\")","v":""},{"$f":"IF('Outil Recensement simplifié'!M45=\"Homme\",\"Male\",IF('Outil Recensement simplifié'!M45=\"Femme\",\"Female\",IF('Outil Recensement simplifié'!M45=\"H\",\"Male\",IF('Outil Recensement simplifié'!M45=\"F\",\"Female\",\"\"))))","v":""},{"$f":"IF('Outil Recensement simplifié'!N45=\"Oui\",\"Yes\",IF('Outil Recensement simplifié'!N45=\"Non\",\"No\",IF('Outil Recensement simplifié'!N45=\"O\",\"Yes\",IF('Outil Recensement simplifié'!N45=\"N\",\"No\",\"\"))))","v":""},{"$f":"IF('Outil Recensement simplifié'!O45=\"Non\",\"Single\",IF('Outil Recensement simplifié'!O45=\"Oui\",\"Family\",IF('Outil Recensement simplifié'!O45=\"N\",\"Single\",IF('Outil Recensement simplifié'!O45=\"O\",\"Family\",IF('Outil Recensement simplifié'!O45=\"En vigueur\",\"Family\",\"\")))))","v":""},{"$f":"IF('Outil Recensement simplifié'!P45=\"Anglais\",\"English\",IF('Outil Recensement simplifié'!P45=\"Français\",\"French\",IF('Outil Recensement simplifié'!P45=\"A\",\"English\",IF('Outil Recensement simplifié'!P45=\"F\",\"French\",\"\"))))","v":""},{"$f":"IF('Outil Recensement simplifié'!Q45=\"Oui\",\"Yes\",IF('Outil Recensement simplifié'!Q45=\"Non\",\"No\",IF('Outil Recensement simplifié'!Q45=\"O\",\"Yes\",IF('Outil Recensement simplifié'!Q45=\"N\",\"No\",\"\"))))","v":""},{"$f":"IF('Outil Recensement simplifié'!R45>0,'Outil Recensement simplifié'!R45,\"\")","v":""},{"$f":"IF('Outil Recensement simplifié'!S45=\"Annuelle\",\"Annually\",IF('Outil Recensement simplifié'!S45=\"Mensuelle\",\"Monthly\",IF('Outil Recensement simplifié'!S45=\"Aux deux semaines\",\"Biweekly\",IF('Outil Recensement simplifié'!S45=\"Bimensuelle\",\"Semi-Monthly\",IF('Outil Recensement simplifié'!S45=\"Hebdomadaire\",\"Weekly\",IF('Outil Recensement simplifié'!S45=\"Horaire\",\"Hourly\",\"\"))))))","v":""},{"$f":"IF('Outil Recensement simplifié'!T45>0,'Outil Recensement simplifié'!T45,\"\")","v":""},{"$f":"IF('Outil Recensement simplifié'!U45>0,'Outil Recensement simplifié'!U45,\"\")","v":""},{"$f":"IF('Outil Recensement simplifié'!V45=\"Exemptée\",\"Yes\",\"\")","v":""},{"$f":"IF('Outil Recensement simplifié'!W45=\"Exemptée\",\"Yes\",\"\")","v":""},{"$f":"IF('Outil Recensement simplifié'!X45>0,'Outil Recensement simplifié'!X45,\"\")","v":""},{"$f":"IF('Outil Recensement simplifié'!Y45>0,'Outil Recensement simplifié'!Y45,\"\")","v":""},{"$f":"IF('Outil Recensement simplifié'!Z45>0,'Outil Recensement simplifié'!Z45,\"\")","v":""},{"$f":"IF('Outil Recensement simplifié'!AA45>0,'Outil Recensement simplifié'!AA45,\"\")","v":""},{"$f":"IF('Outil Recensement simplifié'!AB45>0,'Outil Recensement simplifié'!AB45,\"\")","v":""},{"$f":"IF('Outil Recensement simplifié'!AC45>0,'Outil Recensement simplifié'!AC45,\"\")","v":" "},{"$f":"IF('Outil Recensement simplifié'!AE45>0,'Outil Recensement simplifié'!AE45&\" \",\"\")&IF('Outil Recensement simplifié'!AD45>0,'Outil Recensement simplifié'!AD45,\"\")","v":""},null,{"$f":"IF('Outil Recensement simplifié'!AF45>0,'Outil Recensement simplifié'!AF45,\"\")","v":""},{"$f":"IF('Outil Recensement simplifié'!AG45>0,'Outil Recensement simplifié'!AG45,\"\")","v":""},{"$f":"IF('Outil Recensement simplifié'!AH45>0,'Outil Recensement simplifié'!AH45,\"\")","v":""},{"$f":"IF('Outil Recensement simplifié'!AI45>0,'Outil Recensement simplifié'!AI45,\"\")","v":""},{"$f":"IF('Outil Recensement simplifié'!AJ45>0,'Outil Recensement simplifié'!AJ45,\"\")","v":""},{"$f":"IF('Outil Recensement simplifié'!AK45>0,'Outil Recensement simplifié'!AK45,\"\")","v":""},{"$f":"IF('Outil Recensement simplifié'!AL45>0,'Outil Recensement simplifié'!AL45,\"\")","v":""},{"$f":"IF('Outil Recensement simplifié'!AM45>0,'Outil Recensement simplifié'!AM45,\"\")","v":""},{"$f":"IF('Outil Recensement simplifié'!AN45=\"Homme\",\"Male\",IF('Outil Recensement simplifié'!AN45=\"Femme\",\"Female\",IF('Outil Recensement simplifié'!AN45=\"H\",\"Male\",IF('Outil Recensement simplifié'!AN45=\"F\",\"Female\",\"\"))))","v":""},{"$f":"IF('Outil Recensement simplifié'!AO45=\"Individuelle\",\"Single\",IF('Outil Recensement simplifié'!AO45=\"Famille\",\"Family\",IF('Outil Recensement simplifié'!AO45=\"Individuel\",\"Single\",IF('Outil Recensement simplifié'!AO45=\"Familiale\",\"Family\",IF('Outil Recensement simplifié'!AO45=\"I\",\"Single\",IF('Outil Recensement simplifié'!AO45=\"F\",\"Family\",\"\"))))))","v":""},{"$f":"IF('Outil Recensement simplifié'!AP45=\"Individuelle\",\"Single\",IF('Outil Recensement simplifié'!AP45=\"Famille\",\"Family\",IF('Outil Recensement simplifié'!AP45=\"Individuel\",\"Single\",IF('Outil Recensement simplifié'!AP45=\"Familiale\",\"Family\",IF('Outil Recensement simplifié'!AP45=\"I\",\"Single\",IF('Outil Recensement simplifié'!AP45=\"F\",\"Family\",\"\"))))))","v":""},{"$f":"IF('Outil Recensement simplifié'!AQ45>0,'Outil Recensement simplifié'!AQ45,\"\")","v":""},{"$f":"IF('Outil Recensement simplifié'!AR45=\"Oui\",\"Yes\",IF('Outil Recensement simplifié'!AR45=\"Non\",\"No\",IF('Outil Recensement simplifié'!AR45=\"O\",\"Yes\",IF('Outil Recensement simplifié'!AR45=\"N\",\"No\",\"\"))))","v":""},{"$f":"IF('Outil Recensement simplifié'!AS45>0,'Outil Recensement simplifié'!AS45,\"\")","v":""},{"$f":"IF('Outil Recensement simplifié'!AT45>0,'Outil Recensement simplifié'!AT45,\"\")","v":""},{"$f":"IF('Outil Recensement simplifié'!AU45>0,'Outil Recensement simplifié'!AU45,\"\")","v":""},{"$f":"IF('Outil Recensement simplifié'!AV45=\"Homme\",\"Male\",IF('Outil Recensement simplifié'!AV45=\"Femme\",\"Female\",IF('Outil Recensement simplifié'!AV45=\"H\",\"Male\",IF('Outil Recensement simplifié'!AV45=\"F\",\"Female\",\"\"))))","v":""},{"$f":"IF('Outil Recensement simplifié'!AW45=\"Oui\",\"Yes\",IF('Outil Recensement simplifié'!AW45=\"Non\",\"No\",IF('Outil Recensement simplifié'!AW45=\"O\",\"Yes\",IF('Outil Recensement simplifié'!AW45=\"N\",\"No\",\"\"))))","v":""},{"$f":"IF('Outil Recensement simplifié'!AX45=\"Oui\",\"Yes\",IF('Outil Recensement simplifié'!AX45=\"Non\",\"No\",IF('Outil Recensement simplifié'!AX45=\"O\",\"Yes\",IF('Outil Recensement simplifié'!AX45=\"N\",\"No\",\"\"))))","v":""},{"$f":"IF('Outil Recensement simplifié'!AY45>0,'Outil Recensement simplifié'!AY45,\"\")","v":""},{"$f":"IF('Outil Recensement simplifié'!AZ45>0,'Outil Recensement simplifié'!AZ45,\"\")","v":""},{"$f":"IF('Outil Recensement simplifié'!BA45>0,'Outil Recensement simplifié'!BA45,\"\")","v":""},{"$f":"IF('Outil Recensement simplifié'!BB45=\"Homme\",\"Male\",IF('Outil Recensement simplifié'!BB45=\"Femme\",\"Female\",IF('Outil Recensement simplifié'!BB45=\"H\",\"Male\",IF('Outil Recensement simplifié'!BB45=\"F\",\"Female\",\"\"))))","v":""},{"$f":"IF('Outil Recensement simplifié'!BC45=\"Oui\",\"Yes\",IF('Outil Recensement simplifié'!BC45=\"Non\",\"No\",IF('Outil Recensement simplifié'!BC45=\"O\",\"Yes\",IF('Outil Recensement simplifié'!BC45=\"N\",\"No\",\"\"))))","v":""},{"$f":"IF('Outil Recensement simplifié'!BD45=\"Oui\",\"Yes\",IF('Outil Recensement simplifié'!BD45=\"Non\",\"No\",IF('Outil Recensement simplifié'!BD45=\"O\",\"Yes\",IF('Outil Recensement simplifié'!BD45=\"N\",\"No\",\"\"))))","v":""},{"$f":"IF('Outil Recensement simplifié'!BE45>0,'Outil Recensement simplifié'!BE45,\"\")","v":""},{"$f":"IF('Outil Recensement simplifié'!BF45>0,'Outil Recensement simplifié'!BF45,\"\")","v":""},{"$f":"IF('Outil Recensement simplifié'!BG45>0,'Outil Recensement simplifié'!BG45,\"\")","v":""},{"$f":"IF('Outil Recensement simplifié'!BH45=\"Homme\",\"Male\",IF('Outil Recensement simplifié'!BH45=\"Femme\",\"Female\",IF('Outil Recensement simplifié'!BH45=\"H\",\"Male\",IF('Outil Recensement simplifié'!BH45=\"F\",\"Female\",\"\"))))","v":""},{"$f":"IF('Outil Recensement simplifié'!BI45=\"Oui\",\"Yes\",IF('Outil Recensement simplifié'!BI45=\"Non\",\"No\",IF('Outil Recensement simplifié'!BI45=\"O\",\"Yes\",IF('Outil Recensement simplifié'!BI45=\"N\",\"No\",\"\"))))","v":""},{"$f":"IF('Outil Recensement simplifié'!BJ45=\"Oui\",\"Yes\",IF('Outil Recensement simplifié'!BJ45=\"Non\",\"No\",IF('Outil Recensement simplifié'!BJ45=\"O\",\"Yes\",IF('Outil Recensement simplifié'!BJ45=\"N\",\"No\",\"\"))))","v":""},{"$f":"IF('Outil Recensement simplifié'!BK45>0,'Outil Recensement simplifié'!BK45,\"\")","v":""},{"$f":"IF('Outil Recensement simplifié'!BL45>0,'Outil Recensement simplifié'!BL45,\"\")","v":""},{"$f":"IF('Outil Recensement simplifié'!BM45>0,'Outil Recensement simplifié'!BM45,\"\")","v":""},{"$f":"IF('Outil Recensement simplifié'!BN45=\"Homme\",\"Male\",IF('Outil Recensement simplifié'!BN45=\"Femme\",\"Female\",IF('Outil Recensement simplifié'!BN45=\"H\",\"Male\",IF('Outil Recensement simplifié'!BN45=\"F\",\"Female\",\"\"))))","v":""},{"$f":"IF('Outil Recensement simplifié'!BO45=\"Oui\",\"Yes\",IF('Outil Recensement simplifié'!BO45=\"Non\",\"No\",IF('Outil Recensement simplifié'!BO45=\"O\",\"Yes\",IF('Outil Recensement simplifié'!BO45=\"N\",\"No\",\"\"))))","v":""},{"$f":"IF('Outil Recensement simplifié'!BP45=\"Oui\",\"Yes\",IF('Outil Recensement simplifié'!BP45=\"Non\",\"No\",IF('Outil Recensement simplifié'!BP45=\"O\",\"Yes\",IF('Outil Recensement simplifié'!BP45=\"N\",\"No\",\"\"))))","v":""},{"$f":"IF('Outil Recensement simplifié'!BQ45>0,'Outil Recensement simplifié'!BQ45,\"\")","v":""},{"$f":"IF('Outil Recensement simplifié'!BR45>0,'Outil Recensement simplifié'!BR45,\"\")","v":""},{"$f":"IF('Outil Recensement simplifié'!BS45>0,'Outil Recensement simplifié'!BS45,\"\")","v":""},{"$f":"IF('Outil Recensement simplifié'!BT45=\"Homme\",\"Male\",IF('Outil Recensement simplifié'!BT45=\"Femme\",\"Female\",IF('Outil Recensement simplifié'!BT45=\"H\",\"Male\",IF('Outil Recensement simplifié'!BT45=\"F\",\"Female\",\"\"))))","v":""},{"$f":"IF('Outil Recensement simplifié'!BU45=\"Oui\",\"Yes\",IF('Outil Recensement simplifié'!BU45=\"Non\",\"No\",IF('Outil Recensement simplifié'!BU45=\"O\",\"Yes\",IF('Outil Recensement simplifié'!BU45=\"N\",\"No\",\"\"))))","v":""},{"$f":"IF('Outil Recensement simplifié'!BV45=\"Oui\",\"Yes\",IF('Outil Recensement simplifié'!BV45=\"Non\",\"No\",IF('Outil Recensement simplifié'!BV45=\"O\",\"Yes\",IF('Outil Recensement simplifié'!BV45=\"N\",\"No\",\"\"))))","v":""},{"$f":"IF('Outil Recensement simplifié'!BW45>0,'Outil Recensement simplifié'!BW45,\"\")","v":""},{"$f":"IF('Outil Recensement simplifié'!BX45>0,'Outil Recensement simplifié'!BX45,\"\")","v":""},{"$f":"IF('Outil Recensement simplifié'!BY45>0,'Outil Recensement simplifié'!BY45,\"\")","v":""},{"$f":"IF('Outil Recensement simplifié'!BZ45=\"Homme\",\"Male\",IF('Outil Recensement simplifié'!BZ45=\"Femme\",\"Female\",IF('Outil Recensement simplifié'!BZ45=\"H\",\"Male\",IF('Outil Recensement simplifié'!BZ45=\"F\",\"Female\",\"\"))))","v":""},{"$f":"IF('Outil Recensement simplifié'!CA45=\"Oui\",\"Yes\",IF('Outil Recensement simplifié'!CA45=\"Non\",\"No\",IF('Outil Recensement simplifié'!CA45=\"O\",\"Yes\",IF('Outil Recensement simplifié'!CA45=\"N\",\"No\",\"\"))))","v":""},{"$f":"IF('Outil Recensement simplifié'!CB45=\"Oui\",\"Yes\",IF('Outil Recensement simplifié'!CB45=\"Non\",\"No\",IF('Outil Recensement simplifié'!CB45=\"O\",\"Yes\",IF('Outil Recensement simplifié'!CB45=\"N\",\"No\",\"\"))))","v":""},{"$f":"IF('Outil Recensement simplifié'!CH45>0,'Outil Recensement simplifié'!CH45,\"\")","v":"    "}]
[{"$f":"IF('Outil Recensement simplifié'!A46>0,'Outil Recensement simplifié'!A46,\"\")","v":""},{"$f":"IF('Outil Recensement simplifié'!B46>0,'Outil Recensement simplifié'!B46,\"\")","v":""},{"$f":"IF('Outil Recensement simplifié'!C46>0,'Outil Recensement simplifié'!C46,\"\")","v":""},{"$f":"IF('Outil Recensement simplifié'!D46>0,'Outil Recensement simplifié'!D46,\"\")","v":""},{"$f":"IF('Outil Recensement simplifié'!E46>0,TEXT('Outil Recensement simplifié'!E46,\"000\"),\"\")","v":""},{"$f":"IF('Outil Recensement simplifié'!F46>0,'Outil Recensement simplifié'!F46,\"\")","v":""},{"$f":"IF('Outil Recensement simplifié'!G46>0,'Outil Recensement simplifié'!G46,\"\")","v":""},{"$f":"IF('Outil Recensement simplifié'!I46>0,'Outil Recensement simplifié'!I46,\"\")","v":""},{"$f":"IF('Outil Recensement simplifié'!J46>0,'Outil Recensement simplifié'!J46,\"\")","v":""},{"$f":"IF('Outil Recensement simplifié'!K46>0,'Outil Recensement simplifié'!K46,\"\")","v":""},{"$f":"IF('Outil Recensement simplifié'!L46>0,'Outil Recensement simplifié'!L46,\"\")","v":""},{"$f":"IF('Outil Recensement simplifié'!M46=\"Homme\",\"Male\",IF('Outil Recensement simplifié'!M46=\"Femme\",\"Female\",IF('Outil Recensement simplifié'!M46=\"H\",\"Male\",IF('Outil Recensement simplifié'!M46=\"F\",\"Female\",\"\"))))","v":""},{"$f":"IF('Outil Recensement simplifié'!N46=\"Oui\",\"Yes\",IF('Outil Recensement simplifié'!N46=\"Non\",\"No\",IF('Outil Recensement simplifié'!N46=\"O\",\"Yes\",IF('Outil Recensement simplifié'!N46=\"N\",\"No\",\"\"))))","v":""},{"$f":"IF('Outil Recensement simplifié'!O46=\"Non\",\"Single\",IF('Outil Recensement simplifié'!O46=\"Oui\",\"Family\",IF('Outil Recensement simplifié'!O46=\"N\",\"Single\",IF('Outil Recensement simplifié'!O46=\"O\",\"Family\",IF('Outil Recensement simplifié'!O46=\"En vigueur\",\"Family\",\"\")))))","v":""},{"$f":"IF('Outil Recensement simplifié'!P46=\"Anglais\",\"English\",IF('Outil Recensement simplifié'!P46=\"Français\",\"French\",IF('Outil Recensement simplifié'!P46=\"A\",\"English\",IF('Outil Recensement simplifié'!P46=\"F\",\"French\",\"\"))))","v":""},{"$f":"IF('Outil Recensement simplifié'!Q46=\"Oui\",\"Yes\",IF('Outil Recensement simplifié'!Q46=\"Non\",\"No\",IF('Outil Recensement simplifié'!Q46=\"O\",\"Yes\",IF('Outil Recensement simplifié'!Q46=\"N\",\"No\",\"\"))))","v":""},{"$f":"IF('Outil Recensement simplifié'!R46>0,'Outil Recensement simplifié'!R46,\"\")","v":""},{"$f":"IF('Outil Recensement simplifié'!S46=\"Annuelle\",\"Annually\",IF('Outil Recensement simplifié'!S46=\"Mensuelle\",\"Monthly\",IF('Outil Recensement simplifié'!S46=\"Aux deux semaines\",\"Biweekly\",IF('Outil Recensement simplifié'!S46=\"Bimensuelle\",\"Semi-Monthly\",IF('Outil Recensement simplifié'!S46=\"Hebdomadaire\",\"Weekly\",IF('Outil Recensement simplifié'!S46=\"Horaire\",\"Hourly\",\"\"))))))","v":""},{"$f":"IF('Outil Recensement simplifié'!T46>0,'Outil Recensement simplifié'!T46,\"\")","v":""},{"$f":"IF('Outil Recensement simplifié'!U46>0,'Outil Recensement simplifié'!U46,\"\")","v":""},{"$f":"IF('Outil Recensement simplifié'!V46=\"Exemptée\",\"Yes\",\"\")","v":""},{"$f":"IF('Outil Recensement simplifié'!W46=\"Exemptée\",\"Yes\",\"\")","v":""},{"$f":"IF('Outil Recensement simplifié'!X46>0,'Outil Recensement simplifié'!X46,\"\")","v":""},{"$f":"IF('Outil Recensement simplifié'!Y46>0,'Outil Recensement simplifié'!Y46,\"\")","v":""},{"$f":"IF('Outil Recensement simplifié'!Z46>0,'Outil Recensement simplifié'!Z46,\"\")","v":""},{"$f":"IF('Outil Recensement simplifié'!AA46>0,'Outil Recensement simplifié'!AA46,\"\")","v":""},{"$f":"IF('Outil Recensement simplifié'!AB46>0,'Outil Recensement simplifié'!AB46,\"\")","v":""},{"$f":"IF('Outil Recensement simplifié'!AC46>0,'Outil Recensement simplifié'!AC46,\"\")","v":" "},{"$f":"IF('Outil Recensement simplifié'!AE46>0,'Outil Recensement simplifié'!AE46&\" \",\"\")&IF('Outil Recensement simplifié'!AD46>0,'Outil Recensement simplifié'!AD46,\"\")","v":""},null,{"$f":"IF('Outil Recensement simplifié'!AF46>0,'Outil Recensement simplifié'!AF46,\"\")","v":""},{"$f":"IF('Outil Recensement simplifié'!AG46>0,'Outil Recensement simplifié'!AG46,\"\")","v":""},{"$f":"IF('Outil Recensement simplifié'!AH46>0,'Outil Recensement simplifié'!AH46,\"\")","v":""},{"$f":"IF('Outil Recensement simplifié'!AI46>0,'Outil Recensement simplifié'!AI46,\"\")","v":""},{"$f":"IF('Outil Recensement simplifié'!AJ46>0,'Outil Recensement simplifié'!AJ46,\"\")","v":""},{"$f":"IF('Outil Recensement simplifié'!AK46>0,'Outil Recensement simplifié'!AK46,\"\")","v":""},{"$f":"IF('Outil Recensement simplifié'!AL46>0,'Outil Recensement simplifié'!AL46,\"\")","v":""},{"$f":"IF('Outil Recensement simplifié'!AM46>0,'Outil Recensement simplifié'!AM46,\"\")","v":""},{"$f":"IF('Outil Recensement simplifié'!AN46=\"Homme\",\"Male\",IF('Outil Recensement simplifié'!AN46=\"Femme\",\"Female\",IF('Outil Recensement simplifié'!AN46=\"H\",\"Male\",IF('Outil Recensement simplifié'!AN46=\"F\",\"Female\",\"\"))))","v":""},{"$f":"IF('Outil Recensement simplifié'!AO46=\"Individuelle\",\"Single\",IF('Outil Recensement simplifié'!AO46=\"Famille\",\"Family\",IF('Outil Recensement simplifié'!AO46=\"Individuel\",\"Single\",IF('Outil Recensement simplifié'!AO46=\"Familiale\",\"Family\",IF('Outil Recensement simplifié'!AO46=\"I\",\"Single\",IF('Outil Recensement simplifié'!AO46=\"F\",\"Family\",\"\"))))))","v":""},{"$f":"IF('Outil Recensement simplifié'!AP46=\"Individuelle\",\"Single\",IF('Outil Recensement simplifié'!AP46=\"Famille\",\"Family\",IF('Outil Recensement simplifié'!AP46=\"Individuel\",\"Single\",IF('Outil Recensement simplifié'!AP46=\"Familiale\",\"Family\",IF('Outil Recensement simplifié'!AP46=\"I\",\"Single\",IF('Outil Recensement simplifié'!AP46=\"F\",\"Family\",\"\"))))))","v":""},{"$f":"IF('Outil Recensement simplifié'!AQ46>0,'Outil Recensement simplifié'!AQ46,\"\")","v":""},{"$f":"IF('Outil Recensement simplifié'!AR46=\"Oui\",\"Yes\",IF('Outil Recensement simplifié'!AR46=\"Non\",\"No\",IF('Outil Recensement simplifié'!AR46=\"O\",\"Yes\",IF('Outil Recensement simplifié'!AR46=\"N\",\"No\",\"\"))))","v":""},{"$f":"IF('Outil Recensement simplifié'!AS46>0,'Outil Recensement simplifié'!AS46,\"\")","v":""},{"$f":"IF('Outil Recensement simplifié'!AT46>0,'Outil Recensement simplifié'!AT46,\"\")","v":""},{"$f":"IF('Outil Recensement simplifié'!AU46>0,'Outil Recensement simplifié'!AU46,\"\")","v":""},{"$f":"IF('Outil Recensement simplifié'!AV46=\"Homme\",\"Male\",IF('Outil Recensement simplifié'!AV46=\"Femme\",\"Female\",IF('Outil Recensement simplifié'!AV46=\"H\",\"Male\",IF('Outil Recensement simplifié'!AV46=\"F\",\"Female\",\"\"))))","v":""},{"$f":"IF('Outil Recensement simplifié'!AW46=\"Oui\",\"Yes\",IF('Outil Recensement simplifié'!AW46=\"Non\",\"No\",IF('Outil Recensement simplifié'!AW46=\"O\",\"Yes\",IF('Outil Recensement simplifié'!AW46=\"N\",\"No\",\"\"))))","v":""},{"$f":"IF('Outil Recensement simplifié'!AX46=\"Oui\",\"Yes\",IF('Outil Recensement simplifié'!AX46=\"Non\",\"No\",IF('Outil Recensement simplifié'!AX46=\"O\",\"Yes\",IF('Outil Recensement simplifié'!AX46=\"N\",\"No\",\"\"))))","v":""},{"$f":"IF('Outil Recensement simplifié'!AY46>0,'Outil Recensement simplifié'!AY46,\"\")","v":""},{"$f":"IF('Outil Recensement simplifié'!AZ46>0,'Outil Recensement simplifié'!AZ46,\"\")","v":""},{"$f":"IF('Outil Recensement simplifié'!BA46>0,'Outil Recensement simplifié'!BA46,\"\")","v":""},{"$f":"IF('Outil Recensement simplifié'!BB46=\"Homme\",\"Male\",IF('Outil Recensement simplifié'!BB46=\"Femme\",\"Female\",IF('Outil Recensement simplifié'!BB46=\"H\",\"Male\",IF('Outil Recensement simplifié'!BB46=\"F\",\"Female\",\"\"))))","v":""},{"$f":"IF('Outil Recensement simplifié'!BC46=\"Oui\",\"Yes\",IF('Outil Recensement simplifié'!BC46=\"Non\",\"No\",IF('Outil Recensement simplifié'!BC46=\"O\",\"Yes\",IF('Outil Recensement simplifié'!BC46=\"N\",\"No\",\"\"))))","v":""},{"$f":"IF('Outil Recensement simplifié'!BD46=\"Oui\",\"Yes\",IF('Outil Recensement simplifié'!BD46=\"Non\",\"No\",IF('Outil Recensement simplifié'!BD46=\"O\",\"Yes\",IF('Outil Recensement simplifié'!BD46=\"N\",\"No\",\"\"))))","v":""},{"$f":"IF('Outil Recensement simplifié'!BE46>0,'Outil Recensement simplifié'!BE46,\"\")","v":""},{"$f":"IF('Outil Recensement simplifié'!BF46>0,'Outil Recensement simplifié'!BF46,\"\")","v":""},{"$f":"IF('Outil Recensement simplifié'!BG46>0,'Outil Recensement simplifié'!BG46,\"\")","v":""},{"$f":"IF('Outil Recensement simplifié'!BH46=\"Homme\",\"Male\",IF('Outil Recensement simplifié'!BH46=\"Femme\",\"Female\",IF('Outil Recensement simplifié'!BH46=\"H\",\"Male\",IF('Outil Recensement simplifié'!BH46=\"F\",\"Female\",\"\"))))","v":""},{"$f":"IF('Outil Recensement simplifié'!BI46=\"Oui\",\"Yes\",IF('Outil Recensement simplifié'!BI46=\"Non\",\"No\",IF('Outil Recensement simplifié'!BI46=\"O\",\"Yes\",IF('Outil Recensement simplifié'!BI46=\"N\",\"No\",\"\"))))","v":""},{"$f":"IF('Outil Recensement simplifié'!BJ46=\"Oui\",\"Yes\",IF('Outil Recensement simplifié'!BJ46=\"Non\",\"No\",IF('Outil Recensement simplifié'!BJ46=\"O\",\"Yes\",IF('Outil Recensement simplifié'!BJ46=\"N\",\"No\",\"\"))))","v":""},{"$f":"IF('Outil Recensement simplifié'!BK46>0,'Outil Recensement simplifié'!BK46,\"\")","v":""},{"$f":"IF('Outil Recensement simplifié'!BL46>0,'Outil Recensement simplifié'!BL46,\"\")","v":""},{"$f":"IF('Outil Recensement simplifié'!BM46>0,'Outil Recensement simplifié'!BM46,\"\")","v":""},{"$f":"IF('Outil Recensement simplifié'!BN46=\"Homme\",\"Male\",IF('Outil Recensement simplifié'!BN46=\"Femme\",\"Female\",IF('Outil Recensement simplifié'!BN46=\"H\",\"Male\",IF('Outil Recensement simplifié'!BN46=\"F\",\"Female\",\"\"))))","v":""},{"$f":"IF('Outil Recensement simplifié'!BO46=\"Oui\",\"Yes\",IF('Outil Recensement simplifié'!BO46=\"Non\",\"No\",IF('Outil Recensement simplifié'!BO46=\"O\",\"Yes\",IF('Outil Recensement simplifié'!BO46=\"N\",\"No\",\"\"))))","v":""},{"$f":"IF('Outil Recensement simplifié'!BP46=\"Oui\",\"Yes\",IF('Outil Recensement simplifié'!BP46=\"Non\",\"No\",IF('Outil Recensement simplifié'!BP46=\"O\",\"Yes\",IF('Outil Recensement simplifié'!BP46=\"N\",\"No\",\"\"))))","v":""},{"$f":"IF('Outil Recensement simplifié'!BQ46>0,'Outil Recensement simplifié'!BQ46,\"\")","v":""},{"$f":"IF('Outil Recensement simplifié'!BR46>0,'Outil Recensement simplifié'!BR46,\"\")","v":""},{"$f":"IF('Outil Recensement simplifié'!BS46>0,'Outil Recensement simplifié'!BS46,\"\")","v":""},{"$f":"IF('Outil Recensement simplifié'!BT46=\"Homme\",\"Male\",IF('Outil Recensement simplifié'!BT46=\"Femme\",\"Female\",IF('Outil Recensement simplifié'!BT46=\"H\",\"Male\",IF('Outil Recensement simplifié'!BT46=\"F\",\"Female\",\"\"))))","v":""},{"$f":"IF('Outil Recensement simplifié'!BU46=\"Oui\",\"Yes\",IF('Outil Recensement simplifié'!BU46=\"Non\",\"No\",IF('Outil Recensement simplifié'!BU46=\"O\",\"Yes\",IF('Outil Recensement simplifié'!BU46=\"N\",\"No\",\"\"))))","v":""},{"$f":"IF('Outil Recensement simplifié'!BV46=\"Oui\",\"Yes\",IF('Outil Recensement simplifié'!BV46=\"Non\",\"No\",IF('Outil Recensement simplifié'!BV46=\"O\",\"Yes\",IF('Outil Recensement simplifié'!BV46=\"N\",\"No\",\"\"))))","v":""},{"$f":"IF('Outil Recensement simplifié'!BW46>0,'Outil Recensement simplifié'!BW46,\"\")","v":""},{"$f":"IF('Outil Recensement simplifié'!BX46>0,'Outil Recensement simplifié'!BX46,\"\")","v":""},{"$f":"IF('Outil Recensement simplifié'!BY46>0,'Outil Recensement simplifié'!BY46,\"\")","v":""},{"$f":"IF('Outil Recensement simplifié'!BZ46=\"Homme\",\"Male\",IF('Outil Recensement simplifié'!BZ46=\"Femme\",\"Female\",IF('Outil Recensement simplifié'!BZ46=\"H\",\"Male\",IF('Outil Recensement simplifié'!BZ46=\"F\",\"Female\",\"\"))))","v":""},{"$f":"IF('Outil Recensement simplifié'!CA46=\"Oui\",\"Yes\",IF('Outil Recensement simplifié'!CA46=\"Non\",\"No\",IF('Outil Recensement simplifié'!CA46=\"O\",\"Yes\",IF('Outil Recensement simplifié'!CA46=\"N\",\"No\",\"\"))))","v":""},{"$f":"IF('Outil Recensement simplifié'!CB46=\"Oui\",\"Yes\",IF('Outil Recensement simplifié'!CB46=\"Non\",\"No\",IF('Outil Recensement simplifié'!CB46=\"O\",\"Yes\",IF('Outil Recensement simplifié'!CB46=\"N\",\"No\",\"\"))))","v":""},{"$f":"IF('Outil Recensement simplifié'!CH46>0,'Outil Recensement simplifié'!CH46,\"\")","v":"    "}]
[{"$f":"IF('Outil Recensement simplifié'!A47>0,'Outil Recensement simplifié'!A47,\"\")","v":""},{"$f":"IF('Outil Recensement simplifié'!B47>0,'Outil Recensement simplifié'!B47,\"\")","v":""},{"$f":"IF('Outil Recensement simplifié'!C47>0,'Outil Recensement simplifié'!C47,\"\")","v":""},{"$f":"IF('Outil Recensement simplifié'!D47>0,'Outil Recensement simplifié'!D47,\"\")","v":""},{"$f":"IF('Outil Recensement simplifié'!E47>0,TEXT('Outil Recensement simplifié'!E47,\"000\"),\"\")","v":""},{"$f":"IF('Outil Recensement simplifié'!F47>0,'Outil Recensement simplifié'!F47,\"\")","v":""},{"$f":"IF('Outil Recensement simplifié'!G47>0,'Outil Recensement simplifié'!G47,\"\")","v":""},{"$f":"IF('Outil Recensement simplifié'!I47>0,'Outil Recensement simplifié'!I47,\"\")","v":""},{"$f":"IF('Outil Recensement simplifié'!J47>0,'Outil Recensement simplifié'!J47,\"\")","v":""},{"$f":"IF('Outil Recensement simplifié'!K47>0,'Outil Recensement simplifié'!K47,\"\")","v":""},{"$f":"IF('Outil Recensement simplifié'!L47>0,'Outil Recensement simplifié'!L47,\"\")","v":""},{"$f":"IF('Outil Recensement simplifié'!M47=\"Homme\",\"Male\",IF('Outil Recensement simplifié'!M47=\"Femme\",\"Female\",IF('Outil Recensement simplifié'!M47=\"H\",\"Male\",IF('Outil Recensement simplifié'!M47=\"F\",\"Female\",\"\"))))","v":""},{"$f":"IF('Outil Recensement simplifié'!N47=\"Oui\",\"Yes\",IF('Outil Recensement simplifié'!N47=\"Non\",\"No\",IF('Outil Recensement simplifié'!N47=\"O\",\"Yes\",IF('Outil Recensement simplifié'!N47=\"N\",\"No\",\"\"))))","v":""},{"$f":"IF('Outil Recensement simplifié'!O47=\"Non\",\"Single\",IF('Outil Recensement simplifié'!O47=\"Oui\",\"Family\",IF('Outil Recensement simplifié'!O47=\"N\",\"Single\",IF('Outil Recensement simplifié'!O47=\"O\",\"Family\",IF('Outil Recensement simplifié'!O47=\"En vigueur\",\"Family\",\"\")))))","v":""},{"$f":"IF('Outil Recensement simplifié'!P47=\"Anglais\",\"English\",IF('Outil Recensement simplifié'!P47=\"Français\",\"French\",IF('Outil Recensement simplifié'!P47=\"A\",\"English\",IF('Outil Recensement simplifié'!P47=\"F\",\"French\",\"\"))))","v":""},{"$f":"IF('Outil Recensement simplifié'!Q47=\"Oui\",\"Yes\",IF('Outil Recensement simplifié'!Q47=\"Non\",\"No\",IF('Outil Recensement simplifié'!Q47=\"O\",\"Yes\",IF('Outil Recensement simplifié'!Q47=\"N\",\"No\",\"\"))))","v":""},{"$f":"IF('Outil Recensement simplifié'!R47>0,'Outil Recensement simplifié'!R47,\"\")","v":""},{"$f":"IF('Outil Recensement simplifié'!S47=\"Annuelle\",\"Annually\",IF('Outil Recensement simplifié'!S47=\"Mensuelle\",\"Monthly\",IF('Outil Recensement simplifié'!S47=\"Aux deux semaines\",\"Biweekly\",IF('Outil Recensement simplifié'!S47=\"Bimensuelle\",\"Semi-Monthly\",IF('Outil Recensement simplifié'!S47=\"Hebdomadaire\",\"Weekly\",IF('Outil Recensement simplifié'!S47=\"Horaire\",\"Hourly\",\"\"))))))","v":""},{"$f":"IF('Outil Recensement simplifié'!T47>0,'Outil Recensement simplifié'!T47,\"\")","v":""},{"$f":"IF('Outil Recensement simplifié'!U47>0,'Outil Recensement simplifié'!U47,\"\")","v":""},{"$f":"IF('Outil Recensement simplifié'!V47=\"Exemptée\",\"Yes\",\"\")","v":""},{"$f":"IF('Outil Recensement simplifié'!W47=\"Exemptée\",\"Yes\",\"\")","v":""},{"$f":"IF('Outil Recensement simplifié'!X47>0,'Outil Recensement simplifié'!X47,\"\")","v":""},{"$f":"IF('Outil Recensement simplifié'!Y47>0,'Outil Recensement simplifié'!Y47,\"\")","v":""},{"$f":"IF('Outil Recensement simplifié'!Z47>0,'Outil Recensement simplifié'!Z47,\"\")","v":""},{"$f":"IF('Outil Recensement simplifié'!AA47>0,'Outil Recensement simplifié'!AA47,\"\")","v":""},{"$f":"IF('Outil Recensement simplifié'!AB47>0,'Outil Recensement simplifié'!AB47,\"\")","v":""},{"$f":"IF('Outil Recensement simplifié'!AC47>0,'Outil Recensement simplifié'!AC47,\"\")","v":" "},{"$f":"IF('Outil Recensement simplifié'!AE47>0,'Outil Recensement simplifié'!AE47&\" \",\"\")&IF('Outil Recensement simplifié'!AD47>0,'Outil Recensement simplifié'!AD47,\"\")","v":""},null,{"$f":"IF('Outil Recensement simplifié'!AF47>0,'Outil Recensement simplifié'!AF47,\"\")","v":""},{"$f":"IF('Outil Recensement simplifié'!AG47>0,'Outil Recensement simplifié'!AG47,\"\")","v":""},{"$f":"IF('Outil Recensement simplifié'!AH47>0,'Outil Recensement simplifié'!AH47,\"\")","v":""},{"$f":"IF('Outil Recensement simplifié'!AI47>0,'Outil Recensement simplifié'!AI47,\"\")","v":""},{"$f":"IF('Outil Recensement simplifié'!AJ47>0,'Outil Recensement simplifié'!AJ47,\"\")","v":""},{"$f":"IF('Outil Recensement simplifié'!AK47>0,'Outil Recensement simplifié'!AK47,\"\")","v":""},{"$f":"IF('Outil Recensement simplifié'!AL47>0,'Outil Recensement simplifié'!AL47,\"\")","v":""},{"$f":"IF('Outil Recensement simplifié'!AM47>0,'Outil Recensement simplifié'!AM47,\"\")","v":""},{"$f":"IF('Outil Recensement simplifié'!AN47=\"Homme\",\"Male\",IF('Outil Recensement simplifié'!AN47=\"Femme\",\"Female\",IF('Outil Recensement simplifié'!AN47=\"H\",\"Male\",IF('Outil Recensement simplifié'!AN47=\"F\",\"Female\",\"\"))))","v":""},{"$f":"IF('Outil Recensement simplifié'!AO47=\"Individuelle\",\"Single\",IF('Outil Recensement simplifié'!AO47=\"Famille\",\"Family\",IF('Outil Recensement simplifié'!AO47=\"Individuel\",\"Single\",IF('Outil Recensement simplifié'!AO47=\"Familiale\",\"Family\",IF('Outil Recensement simplifié'!AO47=\"I\",\"Single\",IF('Outil Recensement simplifié'!AO47=\"F\",\"Family\",\"\"))))))","v":""},{"$f":"IF('Outil Recensement simplifié'!AP47=\"Individuelle\",\"Single\",IF('Outil Recensement simplifié'!AP47=\"Famille\",\"Family\",IF('Outil Recensement simplifié'!AP47=\"Individuel\",\"Single\",IF('Outil Recensement simplifié'!AP47=\"Familiale\",\"Family\",IF('Outil Recensement simplifié'!AP47=\"I\",\"Single\",IF('Outil Recensement simplifié'!AP47=\"F\",\"Family\",\"\"))))))","v":""},{"$f":"IF('Outil Recensement simplifié'!AQ47>0,'Outil Recensement simplifié'!AQ47,\"\")","v":""},{"$f":"IF('Outil Recensement simplifié'!AR47=\"Oui\",\"Yes\",IF('Outil Recensement simplifié'!AR47=\"Non\",\"No\",IF('Outil Recensement simplifié'!AR47=\"O\",\"Yes\",IF('Outil Recensement simplifié'!AR47=\"N\",\"No\",\"\"))))","v":""},{"$f":"IF('Outil Recensement simplifié'!AS47>0,'Outil Recensement simplifié'!AS47,\"\")","v":""},{"$f":"IF('Outil Recensement simplifié'!AT47>0,'Outil Recensement simplifié'!AT47,\"\")","v":""},{"$f":"IF('Outil Recensement simplifié'!AU47>0,'Outil Recensement simplifié'!AU47,\"\")","v":""},{"$f":"IF('Outil Recensement simplifié'!AV47=\"Homme\",\"Male\",IF('Outil Recensement simplifié'!AV47=\"Femme\",\"Female\",IF('Outil Recensement simplifié'!AV47=\"H\",\"Male\",IF('Outil Recensement simplifié'!AV47=\"F\",\"Female\",\"\"))))","v":""},{"$f":"IF('Outil Recensement simplifié'!AW47=\"Oui\",\"Yes\",IF('Outil Recensement simplifié'!AW47=\"Non\",\"No\",IF('Outil Recensement simplifié'!AW47=\"O\",\"Yes\",IF('Outil Recensement simplifié'!AW47=\"N\",\"No\",\"\"))))","v":""},{"$f":"IF('Outil Recensement simplifié'!AX47=\"Oui\",\"Yes\",IF('Outil Recensement simplifié'!AX47=\"Non\",\"No\",IF('Outil Recensement simplifié'!AX47=\"O\",\"Yes\",IF('Outil Recensement simplifié'!AX47=\"N\",\"No\",\"\"))))","v":""},{"$f":"IF('Outil Recensement simplifié'!AY47>0,'Outil Recensement simplifié'!AY47,\"\")","v":""},{"$f":"IF('Outil Recensement simplifié'!AZ47>0,'Outil Recensement simplifié'!AZ47,\"\")","v":""},{"$f":"IF('Outil Recensement simplifié'!BA47>0,'Outil Recensement simplifié'!BA47,\"\")","v":""},{"$f":"IF('Outil Recensement simplifié'!BB47=\"Homme\",\"Male\",IF('Outil Recensement simplifié'!BB47=\"Femme\",\"Female\",IF('Outil Recensement simplifié'!BB47=\"H\",\"Male\",IF('Outil Recensement simplifié'!BB47=\"F\",\"Female\",\"\"))))","v":""},{"$f":"IF('Outil Recensement simplifié'!BC47=\"Oui\",\"Yes\",IF('Outil Recensement simplifié'!BC47=\"Non\",\"No\",IF('Outil Recensement simplifié'!BC47=\"O\",\"Yes\",IF('Outil Recensement simplifié'!BC47=\"N\",\"No\",\"\"))))","v":""},{"$f":"IF('Outil Recensement simplifié'!BD47=\"Oui\",\"Yes\",IF('Outil Recensement simplifié'!BD47=\"Non\",\"No\",IF('Outil Recensement simplifié'!BD47=\"O\",\"Yes\",IF('Outil Recensement simplifié'!BD47=\"N\",\"No\",\"\"))))","v":""},{"$f":"IF('Outil Recensement simplifié'!BE47>0,'Outil Recensement simplifié'!BE47,\"\")","v":""},{"$f":"IF('Outil Recensement simplifié'!BF47>0,'Outil Recensement simplifié'!BF47,\"\")","v":""},{"$f":"IF('Outil Recensement simplifié'!BG47>0,'Outil Recensement simplifié'!BG47,\"\")","v":""},{"$f":"IF('Outil Recensement simplifié'!BH47=\"Homme\",\"Male\",IF('Outil Recensement simplifié'!BH47=\"Femme\",\"Female\",IF('Outil Recensement simplifié'!BH47=\"H\",\"Male\",IF('Outil Recensement simplifié'!BH47=\"F\",\"Female\",\"\"))))","v":""},{"$f":"IF('Outil Recensement simplifié'!BI47=\"Oui\",\"Yes\",IF('Outil Recensement simplifié'!BI47=\"Non\",\"No\",IF('Outil Recensement simplifié'!BI47=\"O\",\"Yes\",IF('Outil Recensement simplifié'!BI47=\"N\",\"No\",\"\"))))","v":""},{"$f":"IF('Outil Recensement simplifié'!BJ47=\"Oui\",\"Yes\",IF('Outil Recensement simplifié'!BJ47=\"Non\",\"No\",IF('Outil Recensement simplifié'!BJ47=\"O\",\"Yes\",IF('Outil Recensement simplifié'!BJ47=\"N\",\"No\",\"\"))))","v":""},{"$f":"IF('Outil Recensement simplifié'!BK47>0,'Outil Recensement simplifié'!BK47,\"\")","v":""},{"$f":"IF('Outil Recensement simplifié'!BL47>0,'Outil Recensement simplifié'!BL47,\"\")","v":""},{"$f":"IF('Outil Recensement simplifié'!BM47>0,'Outil Recensement simplifié'!BM47,\"\")","v":""},{"$f":"IF('Outil Recensement simplifié'!BN47=\"Homme\",\"Male\",IF('Outil Recensement simplifié'!BN47=\"Femme\",\"Female\",IF('Outil Recensement simplifié'!BN47=\"H\",\"Male\",IF('Outil Recensement simplifié'!BN47=\"F\",\"Female\",\"\"))))","v":""},{"$f":"IF('Outil Recensement simplifié'!BO47=\"Oui\",\"Yes\",IF('Outil Recensement simplifié'!BO47=\"Non\",\"No\",IF('Outil Recensement simplifié'!BO47=\"O\",\"Yes\",IF('Outil Recensement simplifié'!BO47=\"N\",\"No\",\"\"))))","v":""},{"$f":"IF('Outil Recensement simplifié'!BP47=\"Oui\",\"Yes\",IF('Outil Recensement simplifié'!BP47=\"Non\",\"No\",IF('Outil Recensement simplifié'!BP47=\"O\",\"Yes\",IF('Outil Recensement simplifié'!BP47=\"N\",\"No\",\"\"))))","v":""},{"$f":"IF('Outil Recensement simplifié'!BQ47>0,'Outil Recensement simplifié'!BQ47,\"\")","v":""},{"$f":"IF('Outil Recensement simplifié'!BR47>0,'Outil Recensement simplifié'!BR47,\"\")","v":""},{"$f":"IF('Outil Recensement simplifié'!BS47>0,'Outil Recensement simplifié'!BS47,\"\")","v":""},{"$f":"IF('Outil Recensement simplifié'!BT47=\"Homme\",\"Male\",IF('Outil Recensement simplifié'!BT47=\"Femme\",\"Female\",IF('Outil Recensement simplifié'!BT47=\"H\",\"Male\",IF('Outil Recensement simplifié'!BT47=\"F\",\"Female\",\"\"))))","v":""},{"$f":"IF('Outil Recensement simplifié'!BU47=\"Oui\",\"Yes\",IF('Outil Recensement simplifié'!BU47=\"Non\",\"No\",IF('Outil Recensement simplifié'!BU47=\"O\",\"Yes\",IF('Outil Recensement simplifié'!BU47=\"N\",\"No\",\"\"))))","v":""},{"$f":"IF('Outil Recensement simplifié'!BV47=\"Oui\",\"Yes\",IF('Outil Recensement simplifié'!BV47=\"Non\",\"No\",IF('Outil Recensement simplifié'!BV47=\"O\",\"Yes\",IF('Outil Recensement simplifié'!BV47=\"N\",\"No\",\"\"))))","v":""},{"$f":"IF('Outil Recensement simplifié'!BW47>0,'Outil Recensement simplifié'!BW47,\"\")","v":""},{"$f":"IF('Outil Recensement simplifié'!BX47>0,'Outil Recensement simplifié'!BX47,\"\")","v":""},{"$f":"IF('Outil Recensement simplifié'!BY47>0,'Outil Recensement simplifié'!BY47,\"\")","v":""},{"$f":"IF('Outil Recensement simplifié'!BZ47=\"Homme\",\"Male\",IF('Outil Recensement simplifié'!BZ47=\"Femme\",\"Female\",IF('Outil Recensement simplifié'!BZ47=\"H\",\"Male\",IF('Outil Recensement simplifié'!BZ47=\"F\",\"Female\",\"\"))))","v":""},{"$f":"IF('Outil Recensement simplifié'!CA47=\"Oui\",\"Yes\",IF('Outil Recensement simplifié'!CA47=\"Non\",\"No\",IF('Outil Recensement simplifié'!CA47=\"O\",\"Yes\",IF('Outil Recensement simplifié'!CA47=\"N\",\"No\",\"\"))))","v":""},{"$f":"IF('Outil Recensement simplifié'!CB47=\"Oui\",\"Yes\",IF('Outil Recensement simplifié'!CB47=\"Non\",\"No\",IF('Outil Recensement simplifié'!CB47=\"O\",\"Yes\",IF('Outil Recensement simplifié'!CB47=\"N\",\"No\",\"\"))))","v":""},{"$f":"IF('Outil Recensement simplifié'!CH47>0,'Outil Recensement simplifié'!CH47,\"\")","v":"    "}]
[{"$f":"IF('Outil Recensement simplifié'!A48>0,'Outil Recensement simplifié'!A48,\"\")","v":""},{"$f":"IF('Outil Recensement simplifié'!B48>0,'Outil Recensement simplifié'!B48,\"\")","v":""},{"$f":"IF('Outil Recensement simplifié'!C48>0,'Outil Recensement simplifié'!C48,\"\")","v":""},{"$f":"IF('Outil Recensement simplifié'!D48>0,'Outil Recensement simplifié'!D48,\"\")","v":""},{"$f":"IF('Outil Recensement simplifié'!E48>0,TEXT('Outil Recensement simplifié'!E48,\"000\"),\"\")","v":""},{"$f":"IF('Outil Recensement simplifié'!F48>0,'Outil Recensement simplifié'!F48,\"\")","v":""},{"$f":"IF('Outil Recensement simplifié'!G48>0,'Outil Recensement simplifié'!G48,\"\")","v":""},{"$f":"IF('Outil Recensement simplifié'!I48>0,'Outil Recensement simplifié'!I48,\"\")","v":""},{"$f":"IF('Outil Recensement simplifié'!J48>0,'Outil Recensement simplifié'!J48,\"\")","v":""},{"$f":"IF('Outil Recensement simplifié'!K48>0,'Outil Recensement simplifié'!K48,\"\")","v":""},{"$f":"IF('Outil Recensement simplifié'!L48>0,'Outil Recensement simplifié'!L48,\"\")","v":""},{"$f":"IF('Outil Recensement simplifié'!M48=\"Homme\",\"Male\",IF('Outil Recensement simplifié'!M48=\"Femme\",\"Female\",IF('Outil Recensement simplifié'!M48=\"H\",\"Male\",IF('Outil Recensement simplifié'!M48=\"F\",\"Female\",\"\"))))","v":""},{"$f":"IF('Outil Recensement simplifié'!N48=\"Oui\",\"Yes\",IF('Outil Recensement simplifié'!N48=\"Non\",\"No\",IF('Outil Recensement simplifié'!N48=\"O\",\"Yes\",IF('Outil Recensement simplifié'!N48=\"N\",\"No\",\"\"))))","v":""},{"$f":"IF('Outil Recensement simplifié'!O48=\"Non\",\"Single\",IF('Outil Recensement simplifié'!O48=\"Oui\",\"Family\",IF('Outil Recensement simplifié'!O48=\"N\",\"Single\",IF('Outil Recensement simplifié'!O48=\"O\",\"Family\",IF('Outil Recensement simplifié'!O48=\"En vigueur\",\"Family\",\"\")))))","v":""},{"$f":"IF('Outil Recensement simplifié'!P48=\"Anglais\",\"English\",IF('Outil Recensement simplifié'!P48=\"Français\",\"French\",IF('Outil Recensement simplifié'!P48=\"A\",\"English\",IF('Outil Recensement simplifié'!P48=\"F\",\"French\",\"\"))))","v":""},{"$f":"IF('Outil Recensement simplifié'!Q48=\"Oui\",\"Yes\",IF('Outil Recensement simplifié'!Q48=\"Non\",\"No\",IF('Outil Recensement simplifié'!Q48=\"O\",\"Yes\",IF('Outil Recensement simplifié'!Q48=\"N\",\"No\",\"\"))))","v":""},{"$f":"IF('Outil Recensement simplifié'!R48>0,'Outil Recensement simplifié'!R48,\"\")","v":""},{"$f":"IF('Outil Recensement simplifié'!S48=\"Annuelle\",\"Annually\",IF('Outil Recensement simplifié'!S48=\"Mensuelle\",\"Monthly\",IF('Outil Recensement simplifié'!S48=\"Aux deux semaines\",\"Biweekly\",IF('Outil Recensement simplifié'!S48=\"Bimensuelle\",\"Semi-Monthly\",IF('Outil Recensement simplifié'!S48=\"Hebdomadaire\",\"Weekly\",IF('Outil Recensement simplifié'!S48=\"Horaire\",\"Hourly\",\"\"))))))","v":""},{"$f":"IF('Outil Recensement simplifié'!T48>0,'Outil Recensement simplifié'!T48,\"\")","v":""},{"$f":"IF('Outil Recensement simplifié'!U48>0,'Outil Recensement simplifié'!U48,\"\")","v":""},{"$f":"IF('Outil Recensement simplifié'!V48=\"Exemptée\",\"Yes\",\"\")","v":""},{"$f":"IF('Outil Recensement simplifié'!W48=\"Exemptée\",\"Yes\",\"\")","v":""},{"$f":"IF('Outil Recensement simplifié'!X48>0,'Outil Recensement simplifié'!X48,\"\")","v":""},{"$f":"IF('Outil Recensement simplifié'!Y48>0,'Outil Recensement simplifié'!Y48,\"\")","v":""},{"$f":"IF('Outil Recensement simplifié'!Z48>0,'Outil Recensement simplifié'!Z48,\"\")","v":""},{"$f":"IF('Outil Recensement simplifié'!AA48>0,'Outil Recensement simplifié'!AA48,\"\")","v":""},{"$f":"IF('Outil Recensement simplifié'!AB48>0,'Outil Recensement simplifié'!AB48,\"\")","v":""},{"$f":"IF('Outil Recensement simplifié'!AC48>0,'Outil Recensement simplifié'!AC48,\"\")","v":" "},{"$f":"IF('Outil Recensement simplifié'!AE48>0,'Outil Recensement simplifié'!AE48&\" \",\"\")&IF('Outil Recensement simplifié'!AD48>0,'Outil Recensement simplifié'!AD48,\"\")","v":""},null,{"$f":"IF('Outil Recensement simplifié'!AF48>0,'Outil Recensement simplifié'!AF48,\"\")","v":""},{"$f":"IF('Outil Recensement simplifié'!AG48>0,'Outil Recensement simplifié'!AG48,\"\")","v":""},{"$f":"IF('Outil Recensement simplifié'!AH48>0,'Outil Recensement simplifié'!AH48,\"\")","v":""},{"$f":"IF('Outil Recensement simplifié'!AI48>0,'Outil Recensement simplifié'!AI48,\"\")","v":""},{"$f":"IF('Outil Recensement simplifié'!AJ48>0,'Outil Recensement simplifié'!AJ48,\"\")","v":""},{"$f":"IF('Outil Recensement simplifié'!AK48>0,'Outil Recensement simplifié'!AK48,\"\")","v":""},{"$f":"IF('Outil Recensement simplifié'!AL48>0,'Outil Recensement simplifié'!AL48,\"\")","v":""},{"$f":"IF('Outil Recensement simplifié'!AM48>0,'Outil Recensement simplifié'!AM48,\"\")","v":""},{"$f":"IF('Outil Recensement simplifié'!AN48=\"Homme\",\"Male\",IF('Outil Recensement simplifié'!AN48=\"Femme\",\"Female\",IF('Outil Recensement simplifié'!AN48=\"H\",\"Male\",IF('Outil Recensement simplifié'!AN48=\"F\",\"Female\",\"\"))))","v":""},{"$f":"IF('Outil Recensement simplifié'!AO48=\"Individuelle\",\"Single\",IF('Outil Recensement simplifié'!AO48=\"Famille\",\"Family\",IF('Outil Recensement simplifié'!AO48=\"Individuel\",\"Single\",IF('Outil Recensement simplifié'!AO48=\"Familiale\",\"Family\",IF('Outil Recensement simplifié'!AO48=\"I\",\"Single\",IF('Outil Recensement simplifié'!AO48=\"F\",\"Family\",\"\"))))))","v":""},{"$f":"IF('Outil Recensement simplifié'!AP48=\"Individuelle\",\"Single\",IF('Outil Recensement simplifié'!AP48=\"Famille\",\"Family\",IF('Outil Recensement simplifié'!AP48=\"Individuel\",\"Single\",IF('Outil Recensement simplifié'!AP48=\"Familiale\",\"Family\",IF('Outil Recensement simplifié'!AP48=\"I\",\"Single\",IF('Outil Recensement simplifié'!AP48=\"F\",\"Family\",\"\"))))))","v":""},{"$f":"IF('Outil Recensement simplifié'!AQ48>0,'Outil Recensement simplifié'!AQ48,\"\")","v":""},{"$f":"IF('Outil Recensement simplifié'!AR48=\"Oui\",\"Yes\",IF('Outil Recensement simplifié'!AR48=\"Non\",\"No\",IF('Outil Recensement simplifié'!AR48=\"O\",\"Yes\",IF('Outil Recensement simplifié'!AR48=\"N\",\"No\",\"\"))))","v":""},{"$f":"IF('Outil Recensement simplifié'!AS48>0,'Outil Recensement simplifié'!AS48,\"\")","v":""},{"$f":"IF('Outil Recensement simplifié'!AT48>0,'Outil Recensement simplifié'!AT48,\"\")","v":""},{"$f":"IF('Outil Recensement simplifié'!AU48>0,'Outil Recensement simplifié'!AU48,\"\")","v":""},{"$f":"IF('Outil Recensement simplifié'!AV48=\"Homme\",\"Male\",IF('Outil Recensement simplifié'!AV48=\"Femme\",\"Female\",IF('Outil Recensement simplifié'!AV48=\"H\",\"Male\",IF('Outil Recensement simplifié'!AV48=\"F\",\"Female\",\"\"))))","v":""},{"$f":"IF('Outil Recensement simplifié'!AW48=\"Oui\",\"Yes\",IF('Outil Recensement simplifié'!AW48=\"Non\",\"No\",IF('Outil Recensement simplifié'!AW48=\"O\",\"Yes\",IF('Outil Recensement simplifié'!AW48=\"N\",\"No\",\"\"))))","v":""},{"$f":"IF('Outil Recensement simplifié'!AX48=\"Oui\",\"Yes\",IF('Outil Recensement simplifié'!AX48=\"Non\",\"No\",IF('Outil Recensement simplifié'!AX48=\"O\",\"Yes\",IF('Outil Recensement simplifié'!AX48=\"N\",\"No\",\"\"))))","v":""},{"$f":"IF('Outil Recensement simplifié'!AY48>0,'Outil Recensement simplifié'!AY48,\"\")","v":""},{"$f":"IF('Outil Recensement simplifié'!AZ48>0,'Outil Recensement simplifié'!AZ48,\"\")","v":""},{"$f":"IF('Outil Recensement simplifié'!BA48>0,'Outil Recensement simplifié'!BA48,\"\")","v":""},{"$f":"IF('Outil Recensement simplifié'!BB48=\"Homme\",\"Male\",IF('Outil Recensement simplifié'!BB48=\"Femme\",\"Female\",IF('Outil Recensement simplifié'!BB48=\"H\",\"Male\",IF('Outil Recensement simplifié'!BB48=\"F\",\"Female\",\"\"))))","v":""},{"$f":"IF('Outil Recensement simplifié'!BC48=\"Oui\",\"Yes\",IF('Outil Recensement simplifié'!BC48=\"Non\",\"No\",IF('Outil Recensement simplifié'!BC48=\"O\",\"Yes\",IF('Outil Recensement simplifié'!BC48=\"N\",\"No\",\"\"))))","v":""},{"$f":"IF('Outil Recensement simplifié'!BD48=\"Oui\",\"Yes\",IF('Outil Recensement simplifié'!BD48=\"Non\",\"No\",IF('Outil Recensement simplifié'!BD48=\"O\",\"Yes\",IF('Outil Recensement simplifié'!BD48=\"N\",\"No\",\"\"))))","v":""},{"$f":"IF('Outil Recensement simplifié'!BE48>0,'Outil Recensement simplifié'!BE48,\"\")","v":""},{"$f":"IF('Outil Recensement simplifié'!BF48>0,'Outil Recensement simplifié'!BF48,\"\")","v":""},{"$f":"IF('Outil Recensement simplifié'!BG48>0,'Outil Recensement simplifié'!BG48,\"\")","v":""},{"$f":"IF('Outil Recensement simplifié'!BH48=\"Homme\",\"Male\",IF('Outil Recensement simplifié'!BH48=\"Femme\",\"Female\",IF('Outil Recensement simplifié'!BH48=\"H\",\"Male\",IF('Outil Recensement simplifié'!BH48=\"F\",\"Female\",\"\"))))","v":""},{"$f":"IF('Outil Recensement simplifié'!BI48=\"Oui\",\"Yes\",IF('Outil Recensement simplifié'!BI48=\"Non\",\"No\",IF('Outil Recensement simplifié'!BI48=\"O\",\"Yes\",IF('Outil Recensement simplifié'!BI48=\"N\",\"No\",\"\"))))","v":""},{"$f":"IF('Outil Recensement simplifié'!BJ48=\"Oui\",\"Yes\",IF('Outil Recensement simplifié'!BJ48=\"Non\",\"No\",IF('Outil Recensement simplifié'!BJ48=\"O\",\"Yes\",IF('Outil Recensement simplifié'!BJ48=\"N\",\"No\",\"\"))))","v":""},{"$f":"IF('Outil Recensement simplifié'!BK48>0,'Outil Recensement simplifié'!BK48,\"\")","v":""},{"$f":"IF('Outil Recensement simplifié'!BL48>0,'Outil Recensement simplifié'!BL48,\"\")","v":""},{"$f":"IF('Outil Recensement simplifié'!BM48>0,'Outil Recensement simplifié'!BM48,\"\")","v":""},{"$f":"IF('Outil Recensement simplifié'!BN48=\"Homme\",\"Male\",IF('Outil Recensement simplifié'!BN48=\"Femme\",\"Female\",IF('Outil Recensement simplifié'!BN48=\"H\",\"Male\",IF('Outil Recensement simplifié'!BN48=\"F\",\"Female\",\"\"))))","v":""},{"$f":"IF('Outil Recensement simplifié'!BO48=\"Oui\",\"Yes\",IF('Outil Recensement simplifié'!BO48=\"Non\",\"No\",IF('Outil Recensement simplifié'!BO48=\"O\",\"Yes\",IF('Outil Recensement simplifié'!BO48=\"N\",\"No\",\"\"))))","v":""},{"$f":"IF('Outil Recensement simplifié'!BP48=\"Oui\",\"Yes\",IF('Outil Recensement simplifié'!BP48=\"Non\",\"No\",IF('Outil Recensement simplifié'!BP48=\"O\",\"Yes\",IF('Outil Recensement simplifié'!BP48=\"N\",\"No\",\"\"))))","v":""},{"$f":"IF('Outil Recensement simplifié'!BQ48>0,'Outil Recensement simplifié'!BQ48,\"\")","v":""},{"$f":"IF('Outil Recensement simplifié'!BR48>0,'Outil Recensement simplifié'!BR48,\"\")","v":""},{"$f":"IF('Outil Recensement simplifié'!BS48>0,'Outil Recensement simplifié'!BS48,\"\")","v":""},{"$f":"IF('Outil Recensement simplifié'!BT48=\"Homme\",\"Male\",IF('Outil Recensement simplifié'!BT48=\"Femme\",\"Female\",IF('Outil Recensement simplifié'!BT48=\"H\",\"Male\",IF('Outil Recensement simplifié'!BT48=\"F\",\"Female\",\"\"))))","v":""},{"$f":"IF('Outil Recensement simplifié'!BU48=\"Oui\",\"Yes\",IF('Outil Recensement simplifié'!BU48=\"Non\",\"No\",IF('Outil Recensement simplifié'!BU48=\"O\",\"Yes\",IF('Outil Recensement simplifié'!BU48=\"N\",\"No\",\"\"))))","v":""},{"$f":"IF('Outil Recensement simplifié'!BV48=\"Oui\",\"Yes\",IF('Outil Recensement simplifié'!BV48=\"Non\",\"No\",IF('Outil Recensement simplifié'!BV48=\"O\",\"Yes\",IF('Outil Recensement simplifié'!BV48=\"N\",\"No\",\"\"))))","v":""},{"$f":"IF('Outil Recensement simplifié'!BW48>0,'Outil Recensement simplifié'!BW48,\"\")","v":""},{"$f":"IF('Outil Recensement simplifié'!BX48>0,'Outil Recensement simplifié'!BX48,\"\")","v":""},{"$f":"IF('Outil Recensement simplifié'!BY48>0,'Outil Recensement simplifié'!BY48,\"\")","v":""},{"$f":"IF('Outil Recensement simplifié'!BZ48=\"Homme\",\"Male\",IF('Outil Recensement simplifié'!BZ48=\"Femme\",\"Female\",IF('Outil Recensement simplifié'!BZ48=\"H\",\"Male\",IF('Outil Recensement simplifié'!BZ48=\"F\",\"Female\",\"\"))))","v":""},{"$f":"IF('Outil Recensement simplifié'!CA48=\"Oui\",\"Yes\",IF('Outil Recensement simplifié'!CA48=\"Non\",\"No\",IF('Outil Recensement simplifié'!CA48=\"O\",\"Yes\",IF('Outil Recensement simplifié'!CA48=\"N\",\"No\",\"\"))))","v":""},{"$f":"IF('Outil Recensement simplifié'!CB48=\"Oui\",\"Yes\",IF('Outil Recensement simplifié'!CB48=\"Non\",\"No\",IF('Outil Recensement simplifié'!CB48=\"O\",\"Yes\",IF('Outil Recensement simplifié'!CB48=\"N\",\"No\",\"\"))))","v":""},{"$f":"IF('Outil Recensement simplifié'!CH48>0,'Outil Recensement simplifié'!CH48,\"\")","v":"    "}]
[{"$f":"IF('Outil Recensement simplifié'!A49>0,'Outil Recensement simplifié'!A49,\"\")","v":""},{"$f":"IF('Outil Recensement simplifié'!B49>0,'Outil Recensement simplifié'!B49,\"\")","v":""},{"$f":"IF('Outil Recensement simplifié'!C49>0,'Outil Recensement simplifié'!C49,\"\")","v":""},{"$f":"IF('Outil Recensement simplifié'!D49>0,'Outil Recensement simplifié'!D49,\"\")","v":""},{"$f":"IF('Outil Recensement simplifié'!E49>0,TEXT('Outil Recensement simplifié'!E49,\"000\"),\"\")","v":""},{"$f":"IF('Outil Recensement simplifié'!F49>0,'Outil Recensement simplifié'!F49,\"\")","v":""},{"$f":"IF('Outil Recensement simplifié'!G49>0,'Outil Recensement simplifié'!G49,\"\")","v":""},{"$f":"IF('Outil Recensement simplifié'!I49>0,'Outil Recensement simplifié'!I49,\"\")","v":""},{"$f":"IF('Outil Recensement simplifié'!J49>0,'Outil Recensement simplifié'!J49,\"\")","v":""},{"$f":"IF('Outil Recensement simplifié'!K49>0,'Outil Recensement simplifié'!K49,\"\")","v":""},{"$f":"IF('Outil Recensement simplifié'!L49>0,'Outil Recensement simplifié'!L49,\"\")","v":""},{"$f":"IF('Outil Recensement simplifié'!M49=\"Homme\",\"Male\",IF('Outil Recensement simplifié'!M49=\"Femme\",\"Female\",IF('Outil Recensement simplifié'!M49=\"H\",\"Male\",IF('Outil Recensement simplifié'!M49=\"F\",\"Female\",\"\"))))","v":""},{"$f":"IF('Outil Recensement simplifié'!N49=\"Oui\",\"Yes\",IF('Outil Recensement simplifié'!N49=\"Non\",\"No\",IF('Outil Recensement simplifié'!N49=\"O\",\"Yes\",IF('Outil Recensement simplifié'!N49=\"N\",\"No\",\"\"))))","v":""},{"$f":"IF('Outil Recensement simplifié'!O49=\"Non\",\"Single\",IF('Outil Recensement simplifié'!O49=\"Oui\",\"Family\",IF('Outil Recensement simplifié'!O49=\"N\",\"Single\",IF('Outil Recensement simplifié'!O49=\"O\",\"Family\",IF('Outil Recensement simplifié'!O49=\"En vigueur\",\"Family\",\"\")))))","v":""},{"$f":"IF('Outil Recensement simplifié'!P49=\"Anglais\",\"English\",IF('Outil Recensement simplifié'!P49=\"Français\",\"French\",IF('Outil Recensement simplifié'!P49=\"A\",\"English\",IF('Outil Recensement simplifié'!P49=\"F\",\"French\",\"\"))))","v":""},{"$f":"IF('Outil Recensement simplifié'!Q49=\"Oui\",\"Yes\",IF('Outil Recensement simplifié'!Q49=\"Non\",\"No\",IF('Outil Recensement simplifié'!Q49=\"O\",\"Yes\",IF('Outil Recensement simplifié'!Q49=\"N\",\"No\",\"\"))))","v":""},{"$f":"IF('Outil Recensement simplifié'!R49>0,'Outil Recensement simplifié'!R49,\"\")","v":""},{"$f":"IF('Outil Recensement simplifié'!S49=\"Annuelle\",\"Annually\",IF('Outil Recensement simplifié'!S49=\"Mensuelle\",\"Monthly\",IF('Outil Recensement simplifié'!S49=\"Aux deux semaines\",\"Biweekly\",IF('Outil Recensement simplifié'!S49=\"Bimensuelle\",\"Semi-Monthly\",IF('Outil Recensement simplifié'!S49=\"Hebdomadaire\",\"Weekly\",IF('Outil Recensement simplifié'!S49=\"Horaire\",\"Hourly\",\"\"))))))","v":""},{"$f":"IF('Outil Recensement simplifié'!T49>0,'Outil Recensement simplifié'!T49,\"\")","v":""},{"$f":"IF('Outil Recensement simplifié'!U49>0,'Outil Recensement simplifié'!U49,\"\")","v":""},{"$f":"IF('Outil Recensement simplifié'!V49=\"Exemptée\",\"Yes\",\"\")","v":""},{"$f":"IF('Outil Recensement simplifié'!W49=\"Exemptée\",\"Yes\",\"\")","v":""},{"$f":"IF('Outil Recensement simplifié'!X49>0,'Outil Recensement simplifié'!X49,\"\")","v":""},{"$f":"IF('Outil Recensement simplifié'!Y49>0,'Outil Recensement simplifié'!Y49,\"\")","v":""},{"$f":"IF('Outil Recensement simplifié'!Z49>0,'Outil Recensement simplifié'!Z49,\"\")","v":""},{"$f":"IF('Outil Recensement simplifié'!AA49>0,'Outil Recensement simplifié'!AA49,\"\")","v":""},{"$f":"IF('Outil Recensement simplifié'!AB49>0,'Outil Recensement simplifié'!AB49,\"\")","v":""},{"$f":"IF('Outil Recensement simplifié'!AC49>0,'Outil Recensement simplifié'!AC49,\"\")","v":" "},{"$f":"IF('Outil Recensement simplifié'!AE49>0,'Outil Recensement simplifié'!AE49&\" \",\"\")&IF('Outil Recensement simplifié'!AD49>0,'Outil Recensement simplifié'!AD49,\"\")","v":""},null,{"$f":"IF('Outil Recensement simplifié'!AF49>0,'Outil Recensement simplifié'!AF49,\"\")","v":""},{"$f":"IF('Outil Recensement simplifié'!AG49>0,'Outil Recensement simplifié'!AG49,\"\")","v":""},{"$f":"IF('Outil Recensement simplifié'!AH49>0,'Outil Recensement simplifié'!AH49,\"\")","v":""},{"$f":"IF('Outil Recensement simplifié'!AI49>0,'Outil Recensement simplifié'!AI49,\"\")","v":""},{"$f":"IF('Outil Recensement simplifié'!AJ49>0,'Outil Recensement simplifié'!AJ49,\"\")","v":""},{"$f":"IF('Outil Recensement simplifié'!AK49>0,'Outil Recensement simplifié'!AK49,\"\")","v":""},{"$f":"IF('Outil Recensement simplifié'!AL49>0,'Outil Recensement simplifié'!AL49,\"\")","v":""},{"$f":"IF('Outil Recensement simplifié'!AM49>0,'Outil Recensement simplifié'!AM49,\"\")","v":""},{"$f":"IF('Outil Recensement simplifié'!AN49=\"Homme\",\"Male\",IF('Outil Recensement simplifié'!AN49=\"Femme\",\"Female\",IF('Outil Recensement simplifié'!AN49=\"H\",\"Male\",IF('Outil Recensement simplifié'!AN49=\"F\",\"Female\",\"\"))))","v":""},{"$f":"IF('Outil Recensement simplifié'!AO49=\"Individuelle\",\"Single\",IF('Outil Recensement simplifié'!AO49=\"Famille\",\"Family\",IF('Outil Recensement simplifié'!AO49=\"Individuel\",\"Single\",IF('Outil Recensement simplifié'!AO49=\"Familiale\",\"Family\",IF('Outil Recensement simplifié'!AO49=\"I\",\"Single\",IF('Outil Recensement simplifié'!AO49=\"F\",\"Family\",\"\"))))))","v":""},{"$f":"IF('Outil Recensement simplifié'!AP49=\"Individuelle\",\"Single\",IF('Outil Recensement simplifié'!AP49=\"Famille\",\"Family\",IF('Outil Recensement simplifié'!AP49=\"Individuel\",\"Single\",IF('Outil Recensement simplifié'!AP49=\"Familiale\",\"Family\",IF('Outil Recensement simplifié'!AP49=\"I\",\"Single\",IF('Outil Recensement simplifié'!AP49=\"F\",\"Family\",\"\"))))))","v":""},{"$f":"IF('Outil Recensement simplifié'!AQ49>0,'Outil Recensement simplifié'!AQ49,\"\")","v":""},{"$f":"IF('Outil Recensement simplifié'!AR49=\"Oui\",\"Yes\",IF('Outil Recensement simplifié'!AR49=\"Non\",\"No\",IF('Outil Recensement simplifié'!AR49=\"O\",\"Yes\",IF('Outil Recensement simplifié'!AR49=\"N\",\"No\",\"\"))))","v":""},{"$f":"IF('Outil Recensement simplifié'!AS49>0,'Outil Recensement simplifié'!AS49,\"\")","v":""},{"$f":"IF('Outil Recensement simplifié'!AT49>0,'Outil Recensement simplifié'!AT49,\"\")","v":""},{"$f":"IF('Outil Recensement simplifié'!AU49>0,'Outil Recensement simplifié'!AU49,\"\")","v":""},{"$f":"IF('Outil Recensement simplifié'!AV49=\"Homme\",\"Male\",IF('Outil Recensement simplifié'!AV49=\"Femme\",\"Female\",IF('Outil Recensement simplifié'!AV49=\"H\",\"Male\",IF('Outil Recensement simplifié'!AV49=\"F\",\"Female\",\"\"))))","v":""},{"$f":"IF('Outil Recensement simplifié'!AW49=\"Oui\",\"Yes\",IF('Outil Recensement simplifié'!AW49=\"Non\",\"No\",IF('Outil Recensement simplifié'!AW49=\"O\",\"Yes\",IF('Outil Recensement simplifié'!AW49=\"N\",\"No\",\"\"))))","v":""},{"$f":"IF('Outil Recensement simplifié'!AX49=\"Oui\",\"Yes\",IF('Outil Recensement simplifié'!AX49=\"Non\",\"No\",IF('Outil Recensement simplifié'!AX49=\"O\",\"Yes\",IF('Outil Recensement simplifié'!AX49=\"N\",\"No\",\"\"))))","v":""},{"$f":"IF('Outil Recensement simplifié'!AY49>0,'Outil Recensement simplifié'!AY49,\"\")","v":""},{"$f":"IF('Outil Recensement simplifié'!AZ49>0,'Outil Recensement simplifié'!AZ49,\"\")","v":""},{"$f":"IF('Outil Recensement simplifié'!BA49>0,'Outil Recensement simplifié'!BA49,\"\")","v":""},{"$f":"IF('Outil Recensement simplifié'!BB49=\"Homme\",\"Male\",IF('Outil Recensement simplifié'!BB49=\"Femme\",\"Female\",IF('Outil Recensement simplifié'!BB49=\"H\",\"Male\",IF('Outil Recensement simplifié'!BB49=\"F\",\"Female\",\"\"))))","v":""},{"$f":"IF('Outil Recensement simplifié'!BC49=\"Oui\",\"Yes\",IF('Outil Recensement simplifié'!BC49=\"Non\",\"No\",IF('Outil Recensement simplifié'!BC49=\"O\",\"Yes\",IF('Outil Recensement simplifié'!BC49=\"N\",\"No\",\"\"))))","v":""},{"$f":"IF('Outil Recensement simplifié'!BD49=\"Oui\",\"Yes\",IF('Outil Recensement simplifié'!BD49=\"Non\",\"No\",IF('Outil Recensement simplifié'!BD49=\"O\",\"Yes\",IF('Outil Recensement simplifié'!BD49=\"N\",\"No\",\"\"))))","v":""},{"$f":"IF('Outil Recensement simplifié'!BE49>0,'Outil Recensement simplifié'!BE49,\"\")","v":""},{"$f":"IF('Outil Recensement simplifié'!BF49>0,'Outil Recensement simplifié'!BF49,\"\")","v":""},{"$f":"IF('Outil Recensement simplifié'!BG49>0,'Outil Recensement simplifié'!BG49,\"\")","v":""},{"$f":"IF('Outil Recensement simplifié'!BH49=\"Homme\",\"Male\",IF('Outil Recensement simplifié'!BH49=\"Femme\",\"Female\",IF('Outil Recensement simplifié'!BH49=\"H\",\"Male\",IF('Outil Recensement simplifié'!BH49=\"F\",\"Female\",\"\"))))","v":""},{"$f":"IF('Outil Recensement simplifié'!BI49=\"Oui\",\"Yes\",IF('Outil Recensement simplifié'!BI49=\"Non\",\"No\",IF('Outil Recensement simplifié'!BI49=\"O\",\"Yes\",IF('Outil Recensement simplifié'!BI49=\"N\",\"No\",\"\"))))","v":""},{"$f":"IF('Outil Recensement simplifié'!BJ49=\"Oui\",\"Yes\",IF('Outil Recensement simplifié'!BJ49=\"Non\",\"No\",IF('Outil Recensement simplifié'!BJ49=\"O\",\"Yes\",IF('Outil Recensement simplifié'!BJ49=\"N\",\"No\",\"\"))))","v":""},{"$f":"IF('Outil Recensement simplifié'!BK49>0,'Outil Recensement simplifié'!BK49,\"\")","v":""},{"$f":"IF('Outil Recensement simplifié'!BL49>0,'Outil Recensement simplifié'!BL49,\"\")","v":""},{"$f":"IF('Outil Recensement simplifié'!BM49>0,'Outil Recensement simplifié'!BM49,\"\")","v":""},{"$f":"IF('Outil Recensement simplifié'!BN49=\"Homme\",\"Male\",IF('Outil Recensement simplifié'!BN49=\"Femme\",\"Female\",IF('Outil Recensement simplifié'!BN49=\"H\",\"Male\",IF('Outil Recensement simplifié'!BN49=\"F\",\"Female\",\"\"))))","v":""},{"$f":"IF('Outil Recensement simplifié'!BO49=\"Oui\",\"Yes\",IF('Outil Recensement simplifié'!BO49=\"Non\",\"No\",IF('Outil Recensement simplifié'!BO49=\"O\",\"Yes\",IF('Outil Recensement simplifié'!BO49=\"N\",\"No\",\"\"))))","v":""},{"$f":"IF('Outil Recensement simplifié'!BP49=\"Oui\",\"Yes\",IF('Outil Recensement simplifié'!BP49=\"Non\",\"No\",IF('Outil Recensement simplifié'!BP49=\"O\",\"Yes\",IF('Outil Recensement simplifié'!BP49=\"N\",\"No\",\"\"))))","v":""},{"$f":"IF('Outil Recensement simplifié'!BQ49>0,'Outil Recensement simplifié'!BQ49,\"\")","v":""},{"$f":"IF('Outil Recensement simplifié'!BR49>0,'Outil Recensement simplifié'!BR49,\"\")","v":""},{"$f":"IF('Outil Recensement simplifié'!BS49>0,'Outil Recensement simplifié'!BS49,\"\")","v":""},{"$f":"IF('Outil Recensement simplifié'!BT49=\"Homme\",\"Male\",IF('Outil Recensement simplifié'!BT49=\"Femme\",\"Female\",IF('Outil Recensement simplifié'!BT49=\"H\",\"Male\",IF('Outil Recensement simplifié'!BT49=\"F\",\"Female\",\"\"))))","v":""},{"$f":"IF('Outil Recensement simplifié'!BU49=\"Oui\",\"Yes\",IF('Outil Recensement simplifié'!BU49=\"Non\",\"No\",IF('Outil Recensement simplifié'!BU49=\"O\",\"Yes\",IF('Outil Recensement simplifié'!BU49=\"N\",\"No\",\"\"))))","v":""},{"$f":"IF('Outil Recensement simplifié'!BV49=\"Oui\",\"Yes\",IF('Outil Recensement simplifié'!BV49=\"Non\",\"No\",IF('Outil Recensement simplifié'!BV49=\"O\",\"Yes\",IF('Outil Recensement simplifié'!BV49=\"N\",\"No\",\"\"))))","v":""},{"$f":"IF('Outil Recensement simplifié'!BW49>0,'Outil Recensement simplifié'!BW49,\"\")","v":""},{"$f":"IF('Outil Recensement simplifié'!BX49>0,'Outil Recensement simplifié'!BX49,\"\")","v":""},{"$f":"IF('Outil Recensement simplifié'!BY49>0,'Outil Recensement simplifié'!BY49,\"\")","v":""},{"$f":"IF('Outil Recensement simplifié'!BZ49=\"Homme\",\"Male\",IF('Outil Recensement simplifié'!BZ49=\"Femme\",\"Female\",IF('Outil Recensement simplifié'!BZ49=\"H\",\"Male\",IF('Outil Recensement simplifié'!BZ49=\"F\",\"Female\",\"\"))))","v":""},{"$f":"IF('Outil Recensement simplifié'!CA49=\"Oui\",\"Yes\",IF('Outil Recensement simplifié'!CA49=\"Non\",\"No\",IF('Outil Recensement simplifié'!CA49=\"O\",\"Yes\",IF('Outil Recensement simplifié'!CA49=\"N\",\"No\",\"\"))))","v":""},{"$f":"IF('Outil Recensement simplifié'!CB49=\"Oui\",\"Yes\",IF('Outil Recensement simplifié'!CB49=\"Non\",\"No\",IF('Outil Recensement simplifié'!CB49=\"O\",\"Yes\",IF('Outil Recensement simplifié'!CB49=\"N\",\"No\",\"\"))))","v":""},{"$f":"IF('Outil Recensement simplifié'!CH49>0,'Outil Recensement simplifié'!CH49,\"\")","v":"    "}]
[{"$f":"IF('Outil Recensement simplifié'!A50>0,'Outil Recensement simplifié'!A50,\"\")","v":""},{"$f":"IF('Outil Recensement simplifié'!B50>0,'Outil Recensement simplifié'!B50,\"\")","v":""},{"$f":"IF('Outil Recensement simplifié'!C50>0,'Outil Recensement simplifié'!C50,\"\")","v":""},{"$f":"IF('Outil Recensement simplifié'!D50>0,'Outil Recensement simplifié'!D50,\"\")","v":""},{"$f":"IF('Outil Recensement simplifié'!E50>0,TEXT('Outil Recensement simplifié'!E50,\"000\"),\"\")","v":""},{"$f":"IF('Outil Recensement simplifié'!F50>0,'Outil Recensement simplifié'!F50,\"\")","v":""},{"$f":"IF('Outil Recensement simplifié'!G50>0,'Outil Recensement simplifié'!G50,\"\")","v":""},{"$f":"IF('Outil Recensement simplifié'!I50>0,'Outil Recensement simplifié'!I50,\"\")","v":""},{"$f":"IF('Outil Recensement simplifié'!J50>0,'Outil Recensement simplifié'!J50,\"\")","v":""},{"$f":"IF('Outil Recensement simplifié'!K50>0,'Outil Recensement simplifié'!K50,\"\")","v":""},{"$f":"IF('Outil Recensement simplifié'!L50>0,'Outil Recensement simplifié'!L50,\"\")","v":""},{"$f":"IF('Outil Recensement simplifié'!M50=\"Homme\",\"Male\",IF('Outil Recensement simplifié'!M50=\"Femme\",\"Female\",IF('Outil Recensement simplifié'!M50=\"H\",\"Male\",IF('Outil Recensement simplifié'!M50=\"F\",\"Female\",\"\"))))","v":""},{"$f":"IF('Outil Recensement simplifié'!N50=\"Oui\",\"Yes\",IF('Outil Recensement simplifié'!N50=\"Non\",\"No\",IF('Outil Recensement simplifié'!N50=\"O\",\"Yes\",IF('Outil Recensement simplifié'!N50=\"N\",\"No\",\"\"))))","v":""},{"$f":"IF('Outil Recensement simplifié'!O50=\"Non\",\"Single\",IF('Outil Recensement simplifié'!O50=\"Oui\",\"Family\",IF('Outil Recensement simplifié'!O50=\"N\",\"Single\",IF('Outil Recensement simplifié'!O50=\"O\",\"Family\",IF('Outil Recensement simplifié'!O50=\"En vigueur\",\"Family\",\"\")))))","v":""},{"$f":"IF('Outil Recensement simplifié'!P50=\"Anglais\",\"English\",IF('Outil Recensement simplifié'!P50=\"Français\",\"French\",IF('Outil Recensement simplifié'!P50=\"A\",\"English\",IF('Outil Recensement simplifié'!P50=\"F\",\"French\",\"\"))))","v":""},{"$f":"IF('Outil Recensement simplifié'!Q50=\"Oui\",\"Yes\",IF('Outil Recensement simplifié'!Q50=\"Non\",\"No\",IF('Outil Recensement simplifié'!Q50=\"O\",\"Yes\",IF('Outil Recensement simplifié'!Q50=\"N\",\"No\",\"\"))))","v":""},{"$f":"IF('Outil Recensement simplifié'!R50>0,'Outil Recensement simplifié'!R50,\"\")","v":""},{"$f":"IF('Outil Recensement simplifié'!S50=\"Annuelle\",\"Annually\",IF('Outil Recensement simplifié'!S50=\"Mensuelle\",\"Monthly\",IF('Outil Recensement simplifié'!S50=\"Aux deux semaines\",\"Biweekly\",IF('Outil Recensement simplifié'!S50=\"Bimensuelle\",\"Semi-Monthly\",IF('Outil Recensement simplifié'!S50=\"Hebdomadaire\",\"Weekly\",IF('Outil Recensement simplifié'!S50=\"Horaire\",\"Hourly\",\"\"))))))","v":""},{"$f":"IF('Outil Recensement simplifié'!T50>0,'Outil Recensement simplifié'!T50,\"\")","v":""},{"$f":"IF('Outil Recensement simplifié'!U50>0,'Outil Recensement simplifié'!U50,\"\")","v":""},{"$f":"IF('Outil Recensement simplifié'!V50=\"Exemptée\",\"Yes\",\"\")","v":""},{"$f":"IF('Outil Recensement simplifié'!W50=\"Exemptée\",\"Yes\",\"\")","v":""},{"$f":"IF('Outil Recensement simplifié'!X50>0,'Outil Recensement simplifié'!X50,\"\")","v":""},{"$f":"IF('Outil Recensement simplifié'!Y50>0,'Outil Recensement simplifié'!Y50,\"\")","v":""},{"$f":"IF('Outil Recensement simplifié'!Z50>0,'Outil Recensement simplifié'!Z50,\"\")","v":""},{"$f":"IF('Outil Recensement simplifié'!AA50>0,'Outil Recensement simplifié'!AA50,\"\")","v":""},{"$f":"IF('Outil Recensement simplifié'!AB50>0,'Outil Recensement simplifié'!AB50,\"\")","v":""},{"$f":"IF('Outil Recensement simplifié'!AC50>0,'Outil Recensement simplifié'!AC50,\"\")","v":" "},{"$f":"IF('Outil Recensement simplifié'!AE50>0,'Outil Recensement simplifié'!AE50&\" \",\"\")&IF('Outil Recensement simplifié'!AD50>0,'Outil Recensement simplifié'!AD50,\"\")","v":""},null,{"$f":"IF('Outil Recensement simplifié'!AF50>0,'Outil Recensement simplifié'!AF50,\"\")","v":""},{"$f":"IF('Outil Recensement simplifié'!AG50>0,'Outil Recensement simplifié'!AG50,\"\")","v":""},{"$f":"IF('Outil Recensement simplifié'!AH50>0,'Outil Recensement simplifié'!AH50,\"\")","v":""},{"$f":"IF('Outil Recensement simplifié'!AI50>0,'Outil Recensement simplifié'!AI50,\"\")","v":""},{"$f":"IF('Outil Recensement simplifié'!AJ50>0,'Outil Recensement simplifié'!AJ50,\"\")","v":""},{"$f":"IF('Outil Recensement simplifié'!AK50>0,'Outil Recensement simplifié'!AK50,\"\")","v":""},{"$f":"IF('Outil Recensement simplifié'!AL50>0,'Outil Recensement simplifié'!AL50,\"\")","v":""},{"$f":"IF('Outil Recensement simplifié'!AM50>0,'Outil Recensement simplifié'!AM50,\"\")","v":""},{"$f":"IF('Outil Recensement simplifié'!AN50=\"Homme\",\"Male\",IF('Outil Recensement simplifié'!AN50=\"Femme\",\"Female\",IF('Outil Recensement simplifié'!AN50=\"H\",\"Male\",IF('Outil Recensement simplifié'!AN50=\"F\",\"Female\",\"\"))))","v":""},{"$f":"IF('Outil Recensement simplifié'!AO50=\"Individuelle\",\"Single\",IF('Outil Recensement simplifié'!AO50=\"Famille\",\"Family\",IF('Outil Recensement simplifié'!AO50=\"Individuel\",\"Single\",IF('Outil Recensement simplifié'!AO50=\"Familiale\",\"Family\",IF('Outil Recensement simplifié'!AO50=\"I\",\"Single\",IF('Outil Recensement simplifié'!AO50=\"F\",\"Family\",\"\"))))))","v":""},{"$f":"IF('Outil Recensement simplifié'!AP50=\"Individuelle\",\"Single\",IF('Outil Recensement simplifié'!AP50=\"Famille\",\"Family\",IF('Outil Recensement simplifié'!AP50=\"Individuel\",\"Single\",IF('Outil Recensement simplifié'!AP50=\"Familiale\",\"Family\",IF('Outil Recensement simplifié'!AP50=\"I\",\"Single\",IF('Outil Recensement simplifié'!AP50=\"F\",\"Family\",\"\"))))))","v":""},{"$f":"IF('Outil Recensement simplifié'!AQ50>0,'Outil Recensement simplifié'!AQ50,\"\")","v":""},{"$f":"IF('Outil Recensement simplifié'!AR50=\"Oui\",\"Yes\",IF('Outil Recensement simplifié'!AR50=\"Non\",\"No\",IF('Outil Recensement simplifié'!AR50=\"O\",\"Yes\",IF('Outil Recensement simplifié'!AR50=\"N\",\"No\",\"\"))))","v":""},{"$f":"IF('Outil Recensement simplifié'!AS50>0,'Outil Recensement simplifié'!AS50,\"\")","v":""},{"$f":"IF('Outil Recensement simplifié'!AT50>0,'Outil Recensement simplifié'!AT50,\"\")","v":""},{"$f":"IF('Outil Recensement simplifié'!AU50>0,'Outil Recensement simplifié'!AU50,\"\")","v":""},{"$f":"IF('Outil Recensement simplifié'!AV50=\"Homme\",\"Male\",IF('Outil Recensement simplifié'!AV50=\"Femme\",\"Female\",IF('Outil Recensement simplifié'!AV50=\"H\",\"Male\",IF('Outil Recensement simplifié'!AV50=\"F\",\"Female\",\"\"))))","v":""},{"$f":"IF('Outil Recensement simplifié'!AW50=\"Oui\",\"Yes\",IF('Outil Recensement simplifié'!AW50=\"Non\",\"No\",IF('Outil Recensement simplifié'!AW50=\"O\",\"Yes\",IF('Outil Recensement simplifié'!AW50=\"N\",\"No\",\"\"))))","v":""},{"$f":"IF('Outil Recensement simplifié'!AX50=\"Oui\",\"Yes\",IF('Outil Recensement simplifié'!AX50=\"Non\",\"No\",IF('Outil Recensement simplifié'!AX50=\"O\",\"Yes\",IF('Outil Recensement simplifié'!AX50=\"N\",\"No\",\"\"))))","v":""},{"$f":"IF('Outil Recensement simplifié'!AY50>0,'Outil Recensement simplifié'!AY50,\"\")","v":""},{"$f":"IF('Outil Recensement simplifié'!AZ50>0,'Outil Recensement simplifié'!AZ50,\"\")","v":""},{"$f":"IF('Outil Recensement simplifié'!BA50>0,'Outil Recensement simplifié'!BA50,\"\")","v":""},{"$f":"IF('Outil Recensement simplifié'!BB50=\"Homme\",\"Male\",IF('Outil Recensement simplifié'!BB50=\"Femme\",\"Female\",IF('Outil Recensement simplifié'!BB50=\"H\",\"Male\",IF('Outil Recensement simplifié'!BB50=\"F\",\"Female\",\"\"))))","v":""},{"$f":"IF('Outil Recensement simplifié'!BC50=\"Oui\",\"Yes\",IF('Outil Recensement simplifié'!BC50=\"Non\",\"No\",IF('Outil Recensement simplifié'!BC50=\"O\",\"Yes\",IF('Outil Recensement simplifié'!BC50=\"N\",\"No\",\"\"))))","v":""},{"$f":"IF('Outil Recensement simplifié'!BD50=\"Oui\",\"Yes\",IF('Outil Recensement simplifié'!BD50=\"Non\",\"No\",IF('Outil Recensement simplifié'!BD50=\"O\",\"Yes\",IF('Outil Recensement simplifié'!BD50=\"N\",\"No\",\"\"))))","v":""},{"$f":"IF('Outil Recensement simplifié'!BE50>0,'Outil Recensement simplifié'!BE50,\"\")","v":""},{"$f":"IF('Outil Recensement simplifié'!BF50>0,'Outil Recensement simplifié'!BF50,\"\")","v":""},{"$f":"IF('Outil Recensement simplifié'!BG50>0,'Outil Recensement simplifié'!BG50,\"\")","v":""},{"$f":"IF('Outil Recensement simplifié'!BH50=\"Homme\",\"Male\",IF('Outil Recensement simplifié'!BH50=\"Femme\",\"Female\",IF('Outil Recensement simplifié'!BH50=\"H\",\"Male\",IF('Outil Recensement simplifié'!BH50=\"F\",\"Female\",\"\"))))","v":""},{"$f":"IF('Outil Recensement simplifié'!BI50=\"Oui\",\"Yes\",IF('Outil Recensement simplifié'!BI50=\"Non\",\"No\",IF('Outil Recensement simplifié'!BI50=\"O\",\"Yes\",IF('Outil Recensement simplifié'!BI50=\"N\",\"No\",\"\"))))","v":""},{"$f":"IF('Outil Recensement simplifié'!BJ50=\"Oui\",\"Yes\",IF('Outil Recensement simplifié'!BJ50=\"Non\",\"No\",IF('Outil Recensement simplifié'!BJ50=\"O\",\"Yes\",IF('Outil Recensement simplifié'!BJ50=\"N\",\"No\",\"\"))))","v":""},{"$f":"IF('Outil Recensement simplifié'!BK50>0,'Outil Recensement simplifié'!BK50,\"\")","v":""},{"$f":"IF('Outil Recensement simplifié'!BL50>0,'Outil Recensement simplifié'!BL50,\"\")","v":""},{"$f":"IF('Outil Recensement simplifié'!BM50>0,'Outil Recensement simplifié'!BM50,\"\")","v":""},{"$f":"IF('Outil Recensement simplifié'!BN50=\"Homme\",\"Male\",IF('Outil Recensement simplifié'!BN50=\"Femme\",\"Female\",IF('Outil Recensement simplifié'!BN50=\"H\",\"Male\",IF('Outil Recensement simplifié'!BN50=\"F\",\"Female\",\"\"))))","v":""},{"$f":"IF('Outil Recensement simplifié'!BO50=\"Oui\",\"Yes\",IF('Outil Recensement simplifié'!BO50=\"Non\",\"No\",IF('Outil Recensement simplifié'!BO50=\"O\",\"Yes\",IF('Outil Recensement simplifié'!BO50=\"N\",\"No\",\"\"))))","v":""},{"$f":"IF('Outil Recensement simplifié'!BP50=\"Oui\",\"Yes\",IF('Outil Recensement simplifié'!BP50=\"Non\",\"No\",IF('Outil Recensement simplifié'!BP50=\"O\",\"Yes\",IF('Outil Recensement simplifié'!BP50=\"N\",\"No\",\"\"))))","v":""},{"$f":"IF('Outil Recensement simplifié'!BQ50>0,'Outil Recensement simplifié'!BQ50,\"\")","v":""},{"$f":"IF('Outil Recensement simplifié'!BR50>0,'Outil Recensement simplifié'!BR50,\"\")","v":""},{"$f":"IF('Outil Recensement simplifié'!BS50>0,'Outil Recensement simplifié'!BS50,\"\")","v":""},{"$f":"IF('Outil Recensement simplifié'!BT50=\"Homme\",\"Male\",IF('Outil Recensement simplifié'!BT50=\"Femme\",\"Female\",IF('Outil Recensement simplifié'!BT50=\"H\",\"Male\",IF('Outil Recensement simplifié'!BT50=\"F\",\"Female\",\"\"))))","v":""},{"$f":"IF('Outil Recensement simplifié'!BU50=\"Oui\",\"Yes\",IF('Outil Recensement simplifié'!BU50=\"Non\",\"No\",IF('Outil Recensement simplifié'!BU50=\"O\",\"Yes\",IF('Outil Recensement simplifié'!BU50=\"N\",\"No\",\"\"))))","v":""},{"$f":"IF('Outil Recensement simplifié'!BV50=\"Oui\",\"Yes\",IF('Outil Recensement simplifié'!BV50=\"Non\",\"No\",IF('Outil Recensement simplifié'!BV50=\"O\",\"Yes\",IF('Outil Recensement simplifié'!BV50=\"N\",\"No\",\"\"))))","v":""},{"$f":"IF('Outil Recensement simplifié'!BW50>0,'Outil Recensement simplifié'!BW50,\"\")","v":""},{"$f":"IF('Outil Recensement simplifié'!BX50>0,'Outil Recensement simplifié'!BX50,\"\")","v":""},{"$f":"IF('Outil Recensement simplifié'!BY50>0,'Outil Recensement simplifié'!BY50,\"\")","v":""},{"$f":"IF('Outil Recensement simplifié'!BZ50=\"Homme\",\"Male\",IF('Outil Recensement simplifié'!BZ50=\"Femme\",\"Female\",IF('Outil Recensement simplifié'!BZ50=\"H\",\"Male\",IF('Outil Recensement simplifié'!BZ50=\"F\",\"Female\",\"\"))))","v":""},{"$f":"IF('Outil Recensement simplifié'!CA50=\"Oui\",\"Yes\",IF('Outil Recensement simplifié'!CA50=\"Non\",\"No\",IF('Outil Recensement simplifié'!CA50=\"O\",\"Yes\",IF('Outil Recensement simplifié'!CA50=\"N\",\"No\",\"\"))))","v":""},{"$f":"IF('Outil Recensement simplifié'!CB50=\"Oui\",\"Yes\",IF('Outil Recensement simplifié'!CB50=\"Non\",\"No\",IF('Outil Recensement simplifié'!CB50=\"O\",\"Yes\",IF('Outil Recensement simplifié'!CB50=\"N\",\"No\",\"\"))))","v":""},{"$f":"IF('Outil Recensement simplifié'!CH50>0,'Outil Recensement simplifié'!CH50,\"\")","v":"    "}]
[{"$f":"IF('Outil Recensement simplifié'!A51>0,'Outil Recensement simplifié'!A51,\"\")","v":""},{"$f":"IF('Outil Recensement simplifié'!B51>0,'Outil Recensement simplifié'!B51,\"\")","v":""},{"$f":"IF('Outil Recensement simplifié'!C51>0,'Outil Recensement simplifié'!C51,\"\")","v":""},{"$f":"IF('Outil Recensement simplifié'!D51>0,'Outil Recensement simplifié'!D51,\"\")","v":""},{"$f":"IF('Outil Recensement simplifié'!E51>0,TEXT('Outil Recensement simplifié'!E51,\"000\"),\"\")","v":""},{"$f":"IF('Outil Recensement simplifié'!F51>0,'Outil Recensement simplifié'!F51,\"\")","v":""},{"$f":"IF('Outil Recensement simplifié'!G51>0,'Outil Recensement simplifié'!G51,\"\")","v":""},{"$f":"IF('Outil Recensement simplifié'!I51>0,'Outil Recensement simplifié'!I51,\"\")","v":""},{"$f":"IF('Outil Recensement simplifié'!J51>0,'Outil Recensement simplifié'!J51,\"\")","v":""},{"$f":"IF('Outil Recensement simplifié'!K51>0,'Outil Recensement simplifié'!K51,\"\")","v":""},{"$f":"IF('Outil Recensement simplifié'!L51>0,'Outil Recensement simplifié'!L51,\"\")","v":""},{"$f":"IF('Outil Recensement simplifié'!M51=\"Homme\",\"Male\",IF('Outil Recensement simplifié'!M51=\"Femme\",\"Female\",IF('Outil Recensement simplifié'!M51=\"H\",\"Male\",IF('Outil Recensement simplifié'!M51=\"F\",\"Female\",\"\"))))","v":""},{"$f":"IF('Outil Recensement simplifié'!N51=\"Oui\",\"Yes\",IF('Outil Recensement simplifié'!N51=\"Non\",\"No\",IF('Outil Recensement simplifié'!N51=\"O\",\"Yes\",IF('Outil Recensement simplifié'!N51=\"N\",\"No\",\"\"))))","v":""},{"$f":"IF('Outil Recensement simplifié'!O51=\"Non\",\"Single\",IF('Outil Recensement simplifié'!O51=\"Oui\",\"Family\",IF('Outil Recensement simplifié'!O51=\"N\",\"Single\",IF('Outil Recensement simplifié'!O51=\"O\",\"Family\",IF('Outil Recensement simplifié'!O51=\"En vigueur\",\"Family\",\"\")))))","v":""},{"$f":"IF('Outil Recensement simplifié'!P51=\"Anglais\",\"English\",IF('Outil Recensement simplifié'!P51=\"Français\",\"French\",IF('Outil Recensement simplifié'!P51=\"A\",\"English\",IF('Outil Recensement simplifié'!P51=\"F\",\"French\",\"\"))))","v":""},{"$f":"IF('Outil Recensement simplifié'!Q51=\"Oui\",\"Yes\",IF('Outil Recensement simplifié'!Q51=\"Non\",\"No\",IF('Outil Recensement simplifié'!Q51=\"O\",\"Yes\",IF('Outil Recensement simplifié'!Q51=\"N\",\"No\",\"\"))))","v":""},{"$f":"IF('Outil Recensement simplifié'!R51>0,'Outil Recensement simplifié'!R51,\"\")","v":""},{"$f":"IF('Outil Recensement simplifié'!S51=\"Annuelle\",\"Annually\",IF('Outil Recensement simplifié'!S51=\"Mensuelle\",\"Monthly\",IF('Outil Recensement simplifié'!S51=\"Aux deux semaines\",\"Biweekly\",IF('Outil Recensement simplifié'!S51=\"Bimensuelle\",\"Semi-Monthly\",IF('Outil Recensement simplifié'!S51=\"Hebdomadaire\",\"Weekly\",IF('Outil Recensement simplifié'!S51=\"Horaire\",\"Hourly\",\"\"))))))","v":""},{"$f":"IF('Outil Recensement simplifié'!T51>0,'Outil Recensement simplifié'!T51,\"\")","v":""},{"$f":"IF('Outil Recensement simplifié'!U51>0,'Outil Recensement simplifié'!U51,\"\")","v":""},{"$f":"IF('Outil Recensement simplifié'!V51=\"Exemptée\",\"Yes\",\"\")","v":""},{"$f":"IF('Outil Recensement simplifié'!W51=\"Exemptée\",\"Yes\",\"\")","v":""},{"$f":"IF('Outil Recensement simplifié'!X51>0,'Outil Recensement simplifié'!X51,\"\")","v":""},{"$f":"IF('Outil Recensement simplifié'!Y51>0,'Outil Recensement simplifié'!Y51,\"\")","v":""},{"$f":"IF('Outil Recensement simplifié'!Z51>0,'Outil Recensement simplifié'!Z51,\"\")","v":""},{"$f":"IF('Outil Recensement simplifié'!AA51>0,'Outil Recensement simplifié'!AA51,\"\")","v":""},{"$f":"IF('Outil Recensement simplifié'!AB51>0,'Outil Recensement simplifié'!AB51,\"\")","v":""},{"$f":"IF('Outil Recensement simplifié'!AC51>0,'Outil Recensement simplifié'!AC51,\"\")","v":" "},{"$f":"IF('Outil Recensement simplifié'!AE51>0,'Outil Recensement simplifié'!AE51&\" \",\"\")&IF('Outil Recensement simplifié'!AD51>0,'Outil Recensement simplifié'!AD51,\"\")","v":""},null,{"$f":"IF('Outil Recensement simplifié'!AF51>0,'Outil Recensement simplifié'!AF51,\"\")","v":""},{"$f":"IF('Outil Recensement simplifié'!AG51>0,'Outil Recensement simplifié'!AG51,\"\")","v":""},{"$f":"IF('Outil Recensement simplifié'!AH51>0,'Outil Recensement simplifié'!AH51,\"\")","v":""},{"$f":"IF('Outil Recensement simplifié'!AI51>0,'Outil Recensement simplifié'!AI51,\"\")","v":""},{"$f":"IF('Outil Recensement simplifié'!AJ51>0,'Outil Recensement simplifié'!AJ51,\"\")","v":""},{"$f":"IF('Outil Recensement simplifié'!AK51>0,'Outil Recensement simplifié'!AK51,\"\")","v":""},{"$f":"IF('Outil Recensement simplifié'!AL51>0,'Outil Recensement simplifié'!AL51,\"\")","v":""},{"$f":"IF('Outil Recensement simplifié'!AM51>0,'Outil Recensement simplifié'!AM51,\"\")","v":""},{"$f":"IF('Outil Recensement simplifié'!AN51=\"Homme\",\"Male\",IF('Outil Recensement simplifié'!AN51=\"Femme\",\"Female\",IF('Outil Recensement simplifié'!AN51=\"H\",\"Male\",IF('Outil Recensement simplifié'!AN51=\"F\",\"Female\",\"\"))))","v":""},{"$f":"IF('Outil Recensement simplifié'!AO51=\"Individuelle\",\"Single\",IF('Outil Recensement simplifié'!AO51=\"Famille\",\"Family\",IF('Outil Recensement simplifié'!AO51=\"Individuel\",\"Single\",IF('Outil Recensement simplifié'!AO51=\"Familiale\",\"Family\",IF('Outil Recensement simplifié'!AO51=\"I\",\"Single\",IF('Outil Recensement simplifié'!AO51=\"F\",\"Family\",\"\"))))))","v":""},{"$f":"IF('Outil Recensement simplifié'!AP51=\"Individuelle\",\"Single\",IF('Outil Recensement simplifié'!AP51=\"Famille\",\"Family\",IF('Outil Recensement simplifié'!AP51=\"Individuel\",\"Single\",IF('Outil Recensement simplifié'!AP51=\"Familiale\",\"Family\",IF('Outil Recensement simplifié'!AP51=\"I\",\"Single\",IF('Outil Recensement simplifié'!AP51=\"F\",\"Family\",\"\"))))))","v":""},{"$f":"IF('Outil Recensement simplifié'!AQ51>0,'Outil Recensement simplifié'!AQ51,\"\")","v":""},{"$f":"IF('Outil Recensement simplifié'!AR51=\"Oui\",\"Yes\",IF('Outil Recensement simplifié'!AR51=\"Non\",\"No\",IF('Outil Recensement simplifié'!AR51=\"O\",\"Yes\",IF('Outil Recensement simplifié'!AR51=\"N\",\"No\",\"\"))))","v":""},{"$f":"IF('Outil Recensement simplifié'!AS51>0,'Outil Recensement simplifié'!AS51,\"\")","v":""},{"$f":"IF('Outil Recensement simplifié'!AT51>0,'Outil Recensement simplifié'!AT51,\"\")","v":""},{"$f":"IF('Outil Recensement simplifié'!AU51>0,'Outil Recensement simplifié'!AU51,\"\")","v":""},{"$f":"IF('Outil Recensement simplifié'!AV51=\"Homme\",\"Male\",IF('Outil Recensement simplifié'!AV51=\"Femme\",\"Female\",IF('Outil Recensement simplifié'!AV51=\"H\",\"Male\",IF('Outil Recensement simplifié'!AV51=\"F\",\"Female\",\"\"))))","v":""},{"$f":"IF('Outil Recensement simplifié'!AW51=\"Oui\",\"Yes\",IF('Outil Recensement simplifié'!AW51=\"Non\",\"No\",IF('Outil Recensement simplifié'!AW51=\"O\",\"Yes\",IF('Outil Recensement simplifié'!AW51=\"N\",\"No\",\"\"))))","v":""},{"$f":"IF('Outil Recensement simplifié'!AX51=\"Oui\",\"Yes\",IF('Outil Recensement simplifié'!AX51=\"Non\",\"No\",IF('Outil Recensement simplifié'!AX51=\"O\",\"Yes\",IF('Outil Recensement simplifié'!AX51=\"N\",\"No\",\"\"))))","v":""},{"$f":"IF('Outil Recensement simplifié'!AY51>0,'Outil Recensement simplifié'!AY51,\"\")","v":""},{"$f":"IF('Outil Recensement simplifié'!AZ51>0,'Outil Recensement simplifié'!AZ51,\"\")","v":""},{"$f":"IF('Outil Recensement simplifié'!BA51>0,'Outil Recensement simplifié'!BA51,\"\")","v":""},{"$f":"IF('Outil Recensement simplifié'!BB51=\"Homme\",\"Male\",IF('Outil Recensement simplifié'!BB51=\"Femme\",\"Female\",IF('Outil Recensement simplifié'!BB51=\"H\",\"Male\",IF('Outil Recensement simplifié'!BB51=\"F\",\"Female\",\"\"))))","v":""},{"$f":"IF('Outil Recensement simplifié'!BC51=\"Oui\",\"Yes\",IF('Outil Recensement simplifié'!BC51=\"Non\",\"No\",IF('Outil Recensement simplifié'!BC51=\"O\",\"Yes\",IF('Outil Recensement simplifié'!BC51=\"N\",\"No\",\"\"))))","v":""},{"$f":"IF('Outil Recensement simplifié'!BD51=\"Oui\",\"Yes\",IF('Outil Recensement simplifié'!BD51=\"Non\",\"No\",IF('Outil Recensement simplifié'!BD51=\"O\",\"Yes\",IF('Outil Recensement simplifié'!BD51=\"N\",\"No\",\"\"))))","v":""},{"$f":"IF('Outil Recensement simplifié'!BE51>0,'Outil Recensement simplifié'!BE51,\"\")","v":""},{"$f":"IF('Outil Recensement simplifié'!BF51>0,'Outil Recensement simplifié'!BF51,\"\")","v":""},{"$f":"IF('Outil Recensement simplifié'!BG51>0,'Outil Recensement simplifié'!BG51,\"\")","v":""},{"$f":"IF('Outil Recensement simplifié'!BH51=\"Homme\",\"Male\",IF('Outil Recensement simplifié'!BH51=\"Femme\",\"Female\",IF('Outil Recensement simplifié'!BH51=\"H\",\"Male\",IF('Outil Recensement simplifié'!BH51=\"F\",\"Female\",\"\"))))","v":""},{"$f":"IF('Outil Recensement simplifié'!BI51=\"Oui\",\"Yes\",IF('Outil Recensement simplifié'!BI51=\"Non\",\"No\",IF('Outil Recensement simplifié'!BI51=\"O\",\"Yes\",IF('Outil Recensement simplifié'!BI51=\"N\",\"No\",\"\"))))","v":""},{"$f":"IF('Outil Recensement simplifié'!BJ51=\"Oui\",\"Yes\",IF('Outil Recensement simplifié'!BJ51=\"Non\",\"No\",IF('Outil Recensement simplifié'!BJ51=\"O\",\"Yes\",IF('Outil Recensement simplifié'!BJ51=\"N\",\"No\",\"\"))))","v":""},{"$f":"IF('Outil Recensement simplifié'!BK51>0,'Outil Recensement simplifié'!BK51,\"\")","v":""},{"$f":"IF('Outil Recensement simplifié'!BL51>0,'Outil Recensement simplifié'!BL51,\"\")","v":""},{"$f":"IF('Outil Recensement simplifié'!BM51>0,'Outil Recensement simplifié'!BM51,\"\")","v":""},{"$f":"IF('Outil Recensement simplifié'!BN51=\"Homme\",\"Male\",IF('Outil Recensement simplifié'!BN51=\"Femme\",\"Female\",IF('Outil Recensement simplifié'!BN51=\"H\",\"Male\",IF('Outil Recensement simplifié'!BN51=\"F\",\"Female\",\"\"))))","v":""},{"$f":"IF('Outil Recensement simplifié'!BO51=\"Oui\",\"Yes\",IF('Outil Recensement simplifié'!BO51=\"Non\",\"No\",IF('Outil Recensement simplifié'!BO51=\"O\",\"Yes\",IF('Outil Recensement simplifié'!BO51=\"N\",\"No\",\"\"))))","v":""},{"$f":"IF('Outil Recensement simplifié'!BP51=\"Oui\",\"Yes\",IF('Outil Recensement simplifié'!BP51=\"Non\",\"No\",IF('Outil Recensement simplifié'!BP51=\"O\",\"Yes\",IF('Outil Recensement simplifié'!BP51=\"N\",\"No\",\"\"))))","v":""},{"$f":"IF('Outil Recensement simplifié'!BQ51>0,'Outil Recensement simplifié'!BQ51,\"\")","v":""},{"$f":"IF('Outil Recensement simplifié'!BR51>0,'Outil Recensement simplifié'!BR51,\"\")","v":""},{"$f":"IF('Outil Recensement simplifié'!BS51>0,'Outil Recensement simplifié'!BS51,\"\")","v":""},{"$f":"IF('Outil Recensement simplifié'!BT51=\"Homme\",\"Male\",IF('Outil Recensement simplifié'!BT51=\"Femme\",\"Female\",IF('Outil Recensement simplifié'!BT51=\"H\",\"Male\",IF('Outil Recensement simplifié'!BT51=\"F\",\"Female\",\"\"))))","v":""},{"$f":"IF('Outil Recensement simplifié'!BU51=\"Oui\",\"Yes\",IF('Outil Recensement simplifié'!BU51=\"Non\",\"No\",IF('Outil Recensement simplifié'!BU51=\"O\",\"Yes\",IF('Outil Recensement simplifié'!BU51=\"N\",\"No\",\"\"))))","v":""},{"$f":"IF('Outil Recensement simplifié'!BV51=\"Oui\",\"Yes\",IF('Outil Recensement simplifié'!BV51=\"Non\",\"No\",IF('Outil Recensement simplifié'!BV51=\"O\",\"Yes\",IF('Outil Recensement simplifié'!BV51=\"N\",\"No\",\"\"))))","v":""},{"$f":"IF('Outil Recensement simplifié'!BW51>0,'Outil Recensement simplifié'!BW51,\"\")","v":""},{"$f":"IF('Outil Recensement simplifié'!BX51>0,'Outil Recensement simplifié'!BX51,\"\")","v":""},{"$f":"IF('Outil Recensement simplifié'!BY51>0,'Outil Recensement simplifié'!BY51,\"\")","v":""},{"$f":"IF('Outil Recensement simplifié'!BZ51=\"Homme\",\"Male\",IF('Outil Recensement simplifié'!BZ51=\"Femme\",\"Female\",IF('Outil Recensement simplifié'!BZ51=\"H\",\"Male\",IF('Outil Recensement simplifié'!BZ51=\"F\",\"Female\",\"\"))))","v":""},{"$f":"IF('Outil Recensement simplifié'!CA51=\"Oui\",\"Yes\",IF('Outil Recensement simplifié'!CA51=\"Non\",\"No\",IF('Outil Recensement simplifié'!CA51=\"O\",\"Yes\",IF('Outil Recensement simplifié'!CA51=\"N\",\"No\",\"\"))))","v":""},{"$f":"IF('Outil Recensement simplifié'!CB51=\"Oui\",\"Yes\",IF('Outil Recensement simplifié'!CB51=\"Non\",\"No\",IF('Outil Recensement simplifié'!CB51=\"O\",\"Yes\",IF('Outil Recensement simplifié'!CB51=\"N\",\"No\",\"\"))))","v":""},{"$f":"IF('Outil Recensement simplifié'!CH51>0,'Outil Recensement simplifié'!CH51,\"\")","v":"    "}]
[{"$f":"IF('Outil Recensement simplifié'!A52>0,'Outil Recensement simplifié'!A52,\"\")","v":""},{"$f":"IF('Outil Recensement simplifié'!B52>0,'Outil Recensement simplifié'!B52,\"\")","v":""},{"$f":"IF('Outil Recensement simplifié'!C52>0,'Outil Recensement simplifié'!C52,\"\")","v":""},{"$f":"IF('Outil Recensement simplifié'!D52>0,'Outil Recensement simplifié'!D52,\"\")","v":""},{"$f":"IF('Outil Recensement simplifié'!E52>0,TEXT('Outil Recensement simplifié'!E52,\"000\"),\"\")","v":""},{"$f":"IF('Outil Recensement simplifié'!F52>0,'Outil Recensement simplifié'!F52,\"\")","v":""},{"$f":"IF('Outil Recensement simplifié'!G52>0,'Outil Recensement simplifié'!G52,\"\")","v":""},{"$f":"IF('Outil Recensement simplifié'!I52>0,'Outil Recensement simplifié'!I52,\"\")","v":""},{"$f":"IF('Outil Recensement simplifié'!J52>0,'Outil Recensement simplifié'!J52,\"\")","v":""},{"$f":"IF('Outil Recensement simplifié'!K52>0,'Outil Recensement simplifié'!K52,\"\")","v":""},{"$f":"IF('Outil Recensement simplifié'!L52>0,'Outil Recensement simplifié'!L52,\"\")","v":""},{"$f":"IF('Outil Recensement simplifié'!M52=\"Homme\",\"Male\",IF('Outil Recensement simplifié'!M52=\"Femme\",\"Female\",IF('Outil Recensement simplifié'!M52=\"H\",\"Male\",IF('Outil Recensement simplifié'!M52=\"F\",\"Female\",\"\"))))","v":""},{"$f":"IF('Outil Recensement simplifié'!N52=\"Oui\",\"Yes\",IF('Outil Recensement simplifié'!N52=\"Non\",\"No\",IF('Outil Recensement simplifié'!N52=\"O\",\"Yes\",IF('Outil Recensement simplifié'!N52=\"N\",\"No\",\"\"))))","v":""},{"$f":"IF('Outil Recensement simplifié'!O52=\"Non\",\"Single\",IF('Outil Recensement simplifié'!O52=\"Oui\",\"Family\",IF('Outil Recensement simplifié'!O52=\"N\",\"Single\",IF('Outil Recensement simplifié'!O52=\"O\",\"Family\",IF('Outil Recensement simplifié'!O52=\"En vigueur\",\"Family\",\"\")))))","v":""},{"$f":"IF('Outil Recensement simplifié'!P52=\"Anglais\",\"English\",IF('Outil Recensement simplifié'!P52=\"Français\",\"French\",IF('Outil Recensement simplifié'!P52=\"A\",\"English\",IF('Outil Recensement simplifié'!P52=\"F\",\"French\",\"\"))))","v":""},{"$f":"IF('Outil Recensement simplifié'!Q52=\"Oui\",\"Yes\",IF('Outil Recensement simplifié'!Q52=\"Non\",\"No\",IF('Outil Recensement simplifié'!Q52=\"O\",\"Yes\",IF('Outil Recensement simplifié'!Q52=\"N\",\"No\",\"\"))))","v":""},{"$f":"IF('Outil Recensement simplifié'!R52>0,'Outil Recensement simplifié'!R52,\"\")","v":""},{"$f":"IF('Outil Recensement simplifié'!S52=\"Annuelle\",\"Annually\",IF('Outil Recensement simplifié'!S52=\"Mensuelle\",\"Monthly\",IF('Outil Recensement simplifié'!S52=\"Aux deux semaines\",\"Biweekly\",IF('Outil Recensement simplifié'!S52=\"Bimensuelle\",\"Semi-Monthly\",IF('Outil Recensement simplifié'!S52=\"Hebdomadaire\",\"Weekly\",IF('Outil Recensement simplifié'!S52=\"Horaire\",\"Hourly\",\"\"))))))","v":""},{"$f":"IF('Outil Recensement simplifié'!T52>0,'Outil Recensement simplifié'!T52,\"\")","v":""},{"$f":"IF('Outil Recensement simplifié'!U52>0,'Outil Recensement simplifié'!U52,\"\")","v":""},{"$f":"IF('Outil Recensement simplifié'!V52=\"Exemptée\",\"Yes\",\"\")","v":""},{"$f":"IF('Outil Recensement simplifié'!W52=\"Exemptée\",\"Yes\",\"\")","v":""},{"$f":"IF('Outil Recensement simplifié'!X52>0,'Outil Recensement simplifié'!X52,\"\")","v":""},{"$f":"IF('Outil Recensement simplifié'!Y52>0,'Outil Recensement simplifié'!Y52,\"\")","v":""},{"$f":"IF('Outil Recensement simplifié'!Z52>0,'Outil Recensement simplifié'!Z52,\"\")","v":""},{"$f":"IF('Outil Recensement simplifié'!AA52>0,'Outil Recensement simplifié'!AA52,\"\")","v":""},{"$f":"IF('Outil Recensement simplifié'!AB52>0,'Outil Recensement simplifié'!AB52,\"\")","v":""},{"$f":"IF('Outil Recensement simplifié'!AC52>0,'Outil Recensement simplifié'!AC52,\"\")","v":" "},{"$f":"IF('Outil Recensement simplifié'!AE52>0,'Outil Recensement simplifié'!AE52&\" \",\"\")&IF('Outil Recensement simplifié'!AD52>0,'Outil Recensement simplifié'!AD52,\"\")","v":""},null,{"$f":"IF('Outil Recensement simplifié'!AF52>0,'Outil Recensement simplifié'!AF52,\"\")","v":""},{"$f":"IF('Outil Recensement simplifié'!AG52>0,'Outil Recensement simplifié'!AG52,\"\")","v":""},{"$f":"IF('Outil Recensement simplifié'!AH52>0,'Outil Recensement simplifié'!AH52,\"\")","v":""},{"$f":"IF('Outil Recensement simplifié'!AI52>0,'Outil Recensement simplifié'!AI52,\"\")","v":""},{"$f":"IF('Outil Recensement simplifié'!AJ52>0,'Outil Recensement simplifié'!AJ52,\"\")","v":""},{"$f":"IF('Outil Recensement simplifié'!AK52>0,'Outil Recensement simplifié'!AK52,\"\")","v":""},{"$f":"IF('Outil Recensement simplifié'!AL52>0,'Outil Recensement simplifié'!AL52,\"\")","v":""},{"$f":"IF('Outil Recensement simplifié'!AM52>0,'Outil Recensement simplifié'!AM52,\"\")","v":""},{"$f":"IF('Outil Recensement simplifié'!AN52=\"Homme\",\"Male\",IF('Outil Recensement simplifié'!AN52=\"Femme\",\"Female\",IF('Outil Recensement simplifié'!AN52=\"H\",\"Male\",IF('Outil Recensement simplifié'!AN52=\"F\",\"Female\",\"\"))))","v":""},{"$f":"IF('Outil Recensement simplifié'!AO52=\"Individuelle\",\"Single\",IF('Outil Recensement simplifié'!AO52=\"Famille\",\"Family\",IF('Outil Recensement simplifié'!AO52=\"Individuel\",\"Single\",IF('Outil Recensement simplifié'!AO52=\"Familiale\",\"Family\",IF('Outil Recensement simplifié'!AO52=\"I\",\"Single\",IF('Outil Recensement simplifié'!AO52=\"F\",\"Family\",\"\"))))))","v":""},{"$f":"IF('Outil Recensement simplifié'!AP52=\"Individuelle\",\"Single\",IF('Outil Recensement simplifié'!AP52=\"Famille\",\"Family\",IF('Outil Recensement simplifié'!AP52=\"Individuel\",\"Single\",IF('Outil Recensement simplifié'!AP52=\"Familiale\",\"Family\",IF('Outil Recensement simplifié'!AP52=\"I\",\"Single\",IF('Outil Recensement simplifié'!AP52=\"F\",\"Family\",\"\"))))))","v":""},{"$f":"IF('Outil Recensement simplifié'!AQ52>0,'Outil Recensement simplifié'!AQ52,\"\")","v":""},{"$f":"IF('Outil Recensement simplifié'!AR52=\"Oui\",\"Yes\",IF('Outil Recensement simplifié'!AR52=\"Non\",\"No\",IF('Outil Recensement simplifié'!AR52=\"O\",\"Yes\",IF('Outil Recensement simplifié'!AR52=\"N\",\"No\",\"\"))))","v":""},{"$f":"IF('Outil Recensement simplifié'!AS52>0,'Outil Recensement simplifié'!AS52,\"\")","v":""},{"$f":"IF('Outil Recensement simplifié'!AT52>0,'Outil Recensement simplifié'!AT52,\"\")","v":""},{"$f":"IF('Outil Recensement simplifié'!AU52>0,'Outil Recensement simplifié'!AU52,\"\")","v":""},{"$f":"IF('Outil Recensement simplifié'!AV52=\"Homme\",\"Male\",IF('Outil Recensement simplifié'!AV52=\"Femme\",\"Female\",IF('Outil Recensement simplifié'!AV52=\"H\",\"Male\",IF('Outil Recensement simplifié'!AV52=\"F\",\"Female\",\"\"))))","v":""},{"$f":"IF('Outil Recensement simplifié'!AW52=\"Oui\",\"Yes\",IF('Outil Recensement simplifié'!AW52=\"Non\",\"No\",IF('Outil Recensement simplifié'!AW52=\"O\",\"Yes\",IF('Outil Recensement simplifié'!AW52=\"N\",\"No\",\"\"))))","v":""},{"$f":"IF('Outil Recensement simplifié'!AX52=\"Oui\",\"Yes\",IF('Outil Recensement simplifié'!AX52=\"Non\",\"No\",IF('Outil Recensement simplifié'!AX52=\"O\",\"Yes\",IF('Outil Recensement simplifié'!AX52=\"N\",\"No\",\"\"))))","v":""},{"$f":"IF('Outil Recensement simplifié'!AY52>0,'Outil Recensement simplifié'!AY52,\"\")","v":""},{"$f":"IF('Outil Recensement simplifié'!AZ52>0,'Outil Recensement simplifié'!AZ52,\"\")","v":""},{"$f":"IF('Outil Recensement simplifié'!BA52>0,'Outil Recensement simplifié'!BA52,\"\")","v":""},{"$f":"IF('Outil Recensement simplifié'!BB52=\"Homme\",\"Male\",IF('Outil Recensement simplifié'!BB52=\"Femme\",\"Female\",IF('Outil Recensement simplifié'!BB52=\"H\",\"Male\",IF('Outil Recensement simplifié'!BB52=\"F\",\"Female\",\"\"))))","v":""},{"$f":"IF('Outil Recensement simplifié'!BC52=\"Oui\",\"Yes\",IF('Outil Recensement simplifié'!BC52=\"Non\",\"No\",IF('Outil Recensement simplifié'!BC52=\"O\",\"Yes\",IF('Outil Recensement simplifié'!BC52=\"N\",\"No\",\"\"))))","v":""},{"$f":"IF('Outil Recensement simplifié'!BD52=\"Oui\",\"Yes\",IF('Outil Recensement simplifié'!BD52=\"Non\",\"No\",IF('Outil Recensement simplifié'!BD52=\"O\",\"Yes\",IF('Outil Recensement simplifié'!BD52=\"N\",\"No\",\"\"))))","v":""},{"$f":"IF('Outil Recensement simplifié'!BE52>0,'Outil Recensement simplifié'!BE52,\"\")","v":""},{"$f":"IF('Outil Recensement simplifié'!BF52>0,'Outil Recensement simplifié'!BF52,\"\")","v":""},{"$f":"IF('Outil Recensement simplifié'!BG52>0,'Outil Recensement simplifié'!BG52,\"\")","v":""},{"$f":"IF('Outil Recensement simplifié'!BH52=\"Homme\",\"Male\",IF('Outil Recensement simplifié'!BH52=\"Femme\",\"Female\",IF('Outil Recensement simplifié'!BH52=\"H\",\"Male\",IF('Outil Recensement simplifié'!BH52=\"F\",\"Female\",\"\"))))","v":""},{"$f":"IF('Outil Recensement simplifié'!BI52=\"Oui\",\"Yes\",IF('Outil Recensement simplifié'!BI52=\"Non\",\"No\",IF('Outil Recensement simplifié'!BI52=\"O\",\"Yes\",IF('Outil Recensement simplifié'!BI52=\"N\",\"No\",\"\"))))","v":""},{"$f":"IF('Outil Recensement simplifié'!BJ52=\"Oui\",\"Yes\",IF('Outil Recensement simplifié'!BJ52=\"Non\",\"No\",IF('Outil Recensement simplifié'!BJ52=\"O\",\"Yes\",IF('Outil Recensement simplifié'!BJ52=\"N\",\"No\",\"\"))))","v":""},{"$f":"IF('Outil Recensement simplifié'!BK52>0,'Outil Recensement simplifié'!BK52,\"\")","v":""},{"$f":"IF('Outil Recensement simplifié'!BL52>0,'Outil Recensement simplifié'!BL52,\"\")","v":""},{"$f":"IF('Outil Recensement simplifié'!BM52>0,'Outil Recensement simplifié'!BM52,\"\")","v":""},{"$f":"IF('Outil Recensement simplifié'!BN52=\"Homme\",\"Male\",IF('Outil Recensement simplifié'!BN52=\"Femme\",\"Female\",IF('Outil Recensement simplifié'!BN52=\"H\",\"Male\",IF('Outil Recensement simplifié'!BN52=\"F\",\"Female\",\"\"))))","v":""},{"$f":"IF('Outil Recensement simplifié'!BO52=\"Oui\",\"Yes\",IF('Outil Recensement simplifié'!BO52=\"Non\",\"No\",IF('Outil Recensement simplifié'!BO52=\"O\",\"Yes\",IF('Outil Recensement simplifié'!BO52=\"N\",\"No\",\"\"))))","v":""},{"$f":"IF('Outil Recensement simplifié'!BP52=\"Oui\",\"Yes\",IF('Outil Recensement simplifié'!BP52=\"Non\",\"No\",IF('Outil Recensement simplifié'!BP52=\"O\",\"Yes\",IF('Outil Recensement simplifié'!BP52=\"N\",\"No\",\"\"))))","v":""},{"$f":"IF('Outil Recensement simplifié'!BQ52>0,'Outil Recensement simplifié'!BQ52,\"\")","v":""},{"$f":"IF('Outil Recensement simplifié'!BR52>0,'Outil Recensement simplifié'!BR52,\"\")","v":""},{"$f":"IF('Outil Recensement simplifié'!BS52>0,'Outil Recensement simplifié'!BS52,\"\")","v":""},{"$f":"IF('Outil Recensement simplifié'!BT52=\"Homme\",\"Male\",IF('Outil Recensement simplifié'!BT52=\"Femme\",\"Female\",IF('Outil Recensement simplifié'!BT52=\"H\",\"Male\",IF('Outil Recensement simplifié'!BT52=\"F\",\"Female\",\"\"))))","v":""},{"$f":"IF('Outil Recensement simplifié'!BU52=\"Oui\",\"Yes\",IF('Outil Recensement simplifié'!BU52=\"Non\",\"No\",IF('Outil Recensement simplifié'!BU52=\"O\",\"Yes\",IF('Outil Recensement simplifié'!BU52=\"N\",\"No\",\"\"))))","v":""},{"$f":"IF('Outil Recensement simplifié'!BV52=\"Oui\",\"Yes\",IF('Outil Recensement simplifié'!BV52=\"Non\",\"No\",IF('Outil Recensement simplifié'!BV52=\"O\",\"Yes\",IF('Outil Recensement simplifié'!BV52=\"N\",\"No\",\"\"))))","v":""},{"$f":"IF('Outil Recensement simplifié'!BW52>0,'Outil Recensement simplifié'!BW52,\"\")","v":""},{"$f":"IF('Outil Recensement simplifié'!BX52>0,'Outil Recensement simplifié'!BX52,\"\")","v":""},{"$f":"IF('Outil Recensement simplifié'!BY52>0,'Outil Recensement simplifié'!BY52,\"\")","v":""},{"$f":"IF('Outil Recensement simplifié'!BZ52=\"Homme\",\"Male\",IF('Outil Recensement simplifié'!BZ52=\"Femme\",\"Female\",IF('Outil Recensement simplifié'!BZ52=\"H\",\"Male\",IF('Outil Recensement simplifié'!BZ52=\"F\",\"Female\",\"\"))))","v":""},{"$f":"IF('Outil Recensement simplifié'!CA52=\"Oui\",\"Yes\",IF('Outil Recensement simplifié'!CA52=\"Non\",\"No\",IF('Outil Recensement simplifié'!CA52=\"O\",\"Yes\",IF('Outil Recensement simplifié'!CA52=\"N\",\"No\",\"\"))))","v":""},{"$f":"IF('Outil Recensement simplifié'!CB52=\"Oui\",\"Yes\",IF('Outil Recensement simplifié'!CB52=\"Non\",\"No\",IF('Outil Recensement simplifié'!CB52=\"O\",\"Yes\",IF('Outil Recensement simplifié'!CB52=\"N\",\"No\",\"\"))))","v":""},{"$f":"IF('Outil Recensement simplifié'!CH52>0,'Outil Recensement simplifié'!CH52,\"\")","v":"    "}]
[{"$f":"IF('Outil Recensement simplifié'!A53>0,'Outil Recensement simplifié'!A53,\"\")","v":""},{"$f":"IF('Outil Recensement simplifié'!B53>0,'Outil Recensement simplifié'!B53,\"\")","v":""},{"$f":"IF('Outil Recensement simplifié'!C53>0,'Outil Recensement simplifié'!C53,\"\")","v":""},{"$f":"IF('Outil Recensement simplifié'!D53>0,'Outil Recensement simplifié'!D53,\"\")","v":""},{"$f":"IF('Outil Recensement simplifié'!E53>0,TEXT('Outil Recensement simplifié'!E53,\"000\"),\"\")","v":""},{"$f":"IF('Outil Recensement simplifié'!F53>0,'Outil Recensement simplifié'!F53,\"\")","v":""},{"$f":"IF('Outil Recensement simplifié'!G53>0,'Outil Recensement simplifié'!G53,\"\")","v":""},{"$f":"IF('Outil Recensement simplifié'!I53>0,'Outil Recensement simplifié'!I53,\"\")","v":""},{"$f":"IF('Outil Recensement simplifié'!J53>0,'Outil Recensement simplifié'!J53,\"\")","v":""},{"$f":"IF('Outil Recensement simplifié'!K53>0,'Outil Recensement simplifié'!K53,\"\")","v":""},{"$f":"IF('Outil Recensement simplifié'!L53>0,'Outil Recensement simplifié'!L53,\"\")","v":""},{"$f":"IF('Outil Recensement simplifié'!M53=\"Homme\",\"Male\",IF('Outil Recensement simplifié'!M53=\"Femme\",\"Female\",IF('Outil Recensement simplifié'!M53=\"H\",\"Male\",IF('Outil Recensement simplifié'!M53=\"F\",\"Female\",\"\"))))","v":""},{"$f":"IF('Outil Recensement simplifié'!N53=\"Oui\",\"Yes\",IF('Outil Recensement simplifié'!N53=\"Non\",\"No\",IF('Outil Recensement simplifié'!N53=\"O\",\"Yes\",IF('Outil Recensement simplifié'!N53=\"N\",\"No\",\"\"))))","v":""},{"$f":"IF('Outil Recensement simplifié'!O53=\"Non\",\"Single\",IF('Outil Recensement simplifié'!O53=\"Oui\",\"Family\",IF('Outil Recensement simplifié'!O53=\"N\",\"Single\",IF('Outil Recensement simplifié'!O53=\"O\",\"Family\",IF('Outil Recensement simplifié'!O53=\"En vigueur\",\"Family\",\"\")))))","v":""},{"$f":"IF('Outil Recensement simplifié'!P53=\"Anglais\",\"English\",IF('Outil Recensement simplifié'!P53=\"Français\",\"French\",IF('Outil Recensement simplifié'!P53=\"A\",\"English\",IF('Outil Recensement simplifié'!P53=\"F\",\"French\",\"\"))))","v":""},{"$f":"IF('Outil Recensement simplifié'!Q53=\"Oui\",\"Yes\",IF('Outil Recensement simplifié'!Q53=\"Non\",\"No\",IF('Outil Recensement simplifié'!Q53=\"O\",\"Yes\",IF('Outil Recensement simplifié'!Q53=\"N\",\"No\",\"\"))))","v":""},{"$f":"IF('Outil Recensement simplifié'!R53>0,'Outil Recensement simplifié'!R53,\"\")","v":""},{"$f":"IF('Outil Recensement simplifié'!S53=\"Annuelle\",\"Annually\",IF('Outil Recensement simplifié'!S53=\"Mensuelle\",\"Monthly\",IF('Outil Recensement simplifié'!S53=\"Aux deux semaines\",\"Biweekly\",IF('Outil Recensement simplifié'!S53=\"Bimensuelle\",\"Semi-Monthly\",IF('Outil Recensement simplifié'!S53=\"Hebdomadaire\",\"Weekly\",IF('Outil Recensement simplifié'!S53=\"Horaire\",\"Hourly\",\"\"))))))","v":""},{"$f":"IF('Outil Recensement simplifié'!T53>0,'Outil Recensement simplifié'!T53,\"\")","v":""},{"$f":"IF('Outil Recensement simplifié'!U53>0,'Outil Recensement simplifié'!U53,\"\")","v":""},{"$f":"IF('Outil Recensement simplifié'!V53=\"Exemptée\",\"Yes\",\"\")","v":""},{"$f":"IF('Outil Recensement simplifié'!W53=\"Exemptée\",\"Yes\",\"\")","v":""},{"$f":"IF('Outil Recensement simplifié'!X53>0,'Outil Recensement simplifié'!X53,\"\")","v":""},{"$f":"IF('Outil Recensement simplifié'!Y53>0,'Outil Recensement simplifié'!Y53,\"\")","v":""},{"$f":"IF('Outil Recensement simplifié'!Z53>0,'Outil Recensement simplifié'!Z53,\"\")","v":""},{"$f":"IF('Outil Recensement simplifié'!AA53>0,'Outil Recensement simplifié'!AA53,\"\")","v":""},{"$f":"IF('Outil Recensement simplifié'!AB53>0,'Outil Recensement simplifié'!AB53,\"\")","v":""},{"$f":"IF('Outil Recensement simplifié'!AC53>0,'Outil Recensement simplifié'!AC53,\"\")","v":" "},{"$f":"IF('Outil Recensement simplifié'!AE53>0,'Outil Recensement simplifié'!AE53&\" \",\"\")&IF('Outil Recensement simplifié'!AD53>0,'Outil Recensement simplifié'!AD53,\"\")","v":""},null,{"$f":"IF('Outil Recensement simplifié'!AF53>0,'Outil Recensement simplifié'!AF53,\"\")","v":""},{"$f":"IF('Outil Recensement simplifié'!AG53>0,'Outil Recensement simplifié'!AG53,\"\")","v":""},{"$f":"IF('Outil Recensement simplifié'!AH53>0,'Outil Recensement simplifié'!AH53,\"\")","v":""},{"$f":"IF('Outil Recensement simplifié'!AI53>0,'Outil Recensement simplifié'!AI53,\"\")","v":""},{"$f":"IF('Outil Recensement simplifié'!AJ53>0,'Outil Recensement simplifié'!AJ53,\"\")","v":""},{"$f":"IF('Outil Recensement simplifié'!AK53>0,'Outil Recensement simplifié'!AK53,\"\")","v":""},{"$f":"IF('Outil Recensement simplifié'!AL53>0,'Outil Recensement simplifié'!AL53,\"\")","v":""},{"$f":"IF('Outil Recensement simplifié'!AM53>0,'Outil Recensement simplifié'!AM53,\"\")","v":""},{"$f":"IF('Outil Recensement simplifié'!AN53=\"Homme\",\"Male\",IF('Outil Recensement simplifié'!AN53=\"Femme\",\"Female\",IF('Outil Recensement simplifié'!AN53=\"H\",\"Male\",IF('Outil Recensement simplifié'!AN53=\"F\",\"Female\",\"\"))))","v":""},{"$f":"IF('Outil Recensement simplifié'!AO53=\"Individuelle\",\"Single\",IF('Outil Recensement simplifié'!AO53=\"Famille\",\"Family\",IF('Outil Recensement simplifié'!AO53=\"Individuel\",\"Single\",IF('Outil Recensement simplifié'!AO53=\"Familiale\",\"Family\",IF('Outil Recensement simplifié'!AO53=\"I\",\"Single\",IF('Outil Recensement simplifié'!AO53=\"F\",\"Family\",\"\"))))))","v":""},{"$f":"IF('Outil Recensement simplifié'!AP53=\"Individuelle\",\"Single\",IF('Outil Recensement simplifié'!AP53=\"Famille\",\"Family\",IF('Outil Recensement simplifié'!AP53=\"Individuel\",\"Single\",IF('Outil Recensement simplifié'!AP53=\"Familiale\",\"Family\",IF('Outil Recensement simplifié'!AP53=\"I\",\"Single\",IF('Outil Recensement simplifié'!AP53=\"F\",\"Family\",\"\"))))))","v":""},{"$f":"IF('Outil Recensement simplifié'!AQ53>0,'Outil Recensement simplifié'!AQ53,\"\")","v":""},{"$f":"IF('Outil Recensement simplifié'!AR53=\"Oui\",\"Yes\",IF('Outil Recensement simplifié'!AR53=\"Non\",\"No\",IF('Outil Recensement simplifié'!AR53=\"O\",\"Yes\",IF('Outil Recensement simplifié'!AR53=\"N\",\"No\",\"\"))))","v":""},{"$f":"IF('Outil Recensement simplifié'!AS53>0,'Outil Recensement simplifié'!AS53,\"\")","v":""},{"$f":"IF('Outil Recensement simplifié'!AT53>0,'Outil Recensement simplifié'!AT53,\"\")","v":""},{"$f":"IF('Outil Recensement simplifié'!AU53>0,'Outil Recensement simplifié'!AU53,\"\")","v":""},{"$f":"IF('Outil Recensement simplifié'!AV53=\"Homme\",\"Male\",IF('Outil Recensement simplifié'!AV53=\"Femme\",\"Female\",IF('Outil Recensement simplifié'!AV53=\"H\",\"Male\",IF('Outil Recensement simplifié'!AV53=\"F\",\"Female\",\"\"))))","v":""},{"$f":"IF('Outil Recensement simplifié'!AW53=\"Oui\",\"Yes\",IF('Outil Recensement simplifié'!AW53=\"Non\",\"No\",IF('Outil Recensement simplifié'!AW53=\"O\",\"Yes\",IF('Outil Recensement simplifié'!AW53=\"N\",\"No\",\"\"))))","v":""},{"$f":"IF('Outil Recensement simplifié'!AX53=\"Oui\",\"Yes\",IF('Outil Recensement simplifié'!AX53=\"Non\",\"No\",IF('Outil Recensement simplifié'!AX53=\"O\",\"Yes\",IF('Outil Recensement simplifié'!AX53=\"N\",\"No\",\"\"))))","v":""},{"$f":"IF('Outil Recensement simplifié'!AY53>0,'Outil Recensement simplifié'!AY53,\"\")","v":""},{"$f":"IF('Outil Recensement simplifié'!AZ53>0,'Outil Recensement simplifié'!AZ53,\"\")","v":""},{"$f":"IF('Outil Recensement simplifié'!BA53>0,'Outil Recensement simplifié'!BA53,\"\")","v":""},{"$f":"IF('Outil Recensement simplifié'!BB53=\"Homme\",\"Male\",IF('Outil Recensement simplifié'!BB53=\"Femme\",\"Female\",IF('Outil Recensement simplifié'!BB53=\"H\",\"Male\",IF('Outil Recensement simplifié'!BB53=\"F\",\"Female\",\"\"))))","v":""},{"$f":"IF('Outil Recensement simplifié'!BC53=\"Oui\",\"Yes\",IF('Outil Recensement simplifié'!BC53=\"Non\",\"No\",IF('Outil Recensement simplifié'!BC53=\"O\",\"Yes\",IF('Outil Recensement simplifié'!BC53=\"N\",\"No\",\"\"))))","v":""},{"$f":"IF('Outil Recensement simplifié'!BD53=\"Oui\",\"Yes\",IF('Outil Recensement simplifié'!BD53=\"Non\",\"No\",IF('Outil Recensement simplifié'!BD53=\"O\",\"Yes\",IF('Outil Recensement simplifié'!BD53=\"N\",\"No\",\"\"))))","v":""},{"$f":"IF('Outil Recensement simplifié'!BE53>0,'Outil Recensement simplifié'!BE53,\"\")","v":""},{"$f":"IF('Outil Recensement simplifié'!BF53>0,'Outil Recensement simplifié'!BF53,\"\")","v":""},{"$f":"IF('Outil Recensement simplifié'!BG53>0,'Outil Recensement simplifié'!BG53,\"\")","v":""},{"$f":"IF('Outil Recensement simplifié'!BH53=\"Homme\",\"Male\",IF('Outil Recensement simplifié'!BH53=\"Femme\",\"Female\",IF('Outil Recensement simplifié'!BH53=\"H\",\"Male\",IF('Outil Recensement simplifié'!BH53=\"F\",\"Female\",\"\"))))","v":""},{"$f":"IF('Outil Recensement simplifié'!BI53=\"Oui\",\"Yes\",IF('Outil Recensement simplifié'!BI53=\"Non\",\"No\",IF('Outil Recensement simplifié'!BI53=\"O\",\"Yes\",IF('Outil Recensement simplifié'!BI53=\"N\",\"No\",\"\"))))","v":""},{"$f":"IF('Outil Recensement simplifié'!BJ53=\"Oui\",\"Yes\",IF('Outil Recensement simplifié'!BJ53=\"Non\",\"No\",IF('Outil Recensement simplifié'!BJ53=\"O\",\"Yes\",IF('Outil Recensement simplifié'!BJ53=\"N\",\"No\",\"\"))))","v":""},{"$f":"IF('Outil Recensement simplifié'!BK53>0,'Outil Recensement simplifié'!BK53,\"\")","v":""},{"$f":"IF('Outil Recensement simplifié'!BL53>0,'Outil Recensement simplifié'!BL53,\"\")","v":""},{"$f":"IF('Outil Recensement simplifié'!BM53>0,'Outil Recensement simplifié'!BM53,\"\")","v":""},{"$f":"IF('Outil Recensement simplifié'!BN53=\"Homme\",\"Male\",IF('Outil Recensement simplifié'!BN53=\"Femme\",\"Female\",IF('Outil Recensement simplifié'!BN53=\"H\",\"Male\",IF('Outil Recensement simplifié'!BN53=\"F\",\"Female\",\"\"))))","v":""},{"$f":"IF('Outil Recensement simplifié'!BO53=\"Oui\",\"Yes\",IF('Outil Recensement simplifié'!BO53=\"Non\",\"No\",IF('Outil Recensement simplifié'!BO53=\"O\",\"Yes\",IF('Outil Recensement simplifié'!BO53=\"N\",\"No\",\"\"))))","v":""},{"$f":"IF('Outil Recensement simplifié'!BP53=\"Oui\",\"Yes\",IF('Outil Recensement simplifié'!BP53=\"Non\",\"No\",IF('Outil Recensement simplifié'!BP53=\"O\",\"Yes\",IF('Outil Recensement simplifié'!BP53=\"N\",\"No\",\"\"))))","v":""},{"$f":"IF('Outil Recensement simplifié'!BQ53>0,'Outil Recensement simplifié'!BQ53,\"\")","v":""},{"$f":"IF('Outil Recensement simplifié'!BR53>0,'Outil Recensement simplifié'!BR53,\"\")","v":""},{"$f":"IF('Outil Recensement simplifié'!BS53>0,'Outil Recensement simplifié'!BS53,\"\")","v":""},{"$f":"IF('Outil Recensement simplifié'!BT53=\"Homme\",\"Male\",IF('Outil Recensement simplifié'!BT53=\"Femme\",\"Female\",IF('Outil Recensement simplifié'!BT53=\"H\",\"Male\",IF('Outil Recensement simplifié'!BT53=\"F\",\"Female\",\"\"))))","v":""},{"$f":"IF('Outil Recensement simplifié'!BU53=\"Oui\",\"Yes\",IF('Outil Recensement simplifié'!BU53=\"Non\",\"No\",IF('Outil Recensement simplifié'!BU53=\"O\",\"Yes\",IF('Outil Recensement simplifié'!BU53=\"N\",\"No\",\"\"))))","v":""},{"$f":"IF('Outil Recensement simplifié'!BV53=\"Oui\",\"Yes\",IF('Outil Recensement simplifié'!BV53=\"Non\",\"No\",IF('Outil Recensement simplifié'!BV53=\"O\",\"Yes\",IF('Outil Recensement simplifié'!BV53=\"N\",\"No\",\"\"))))","v":""},{"$f":"IF('Outil Recensement simplifié'!BW53>0,'Outil Recensement simplifié'!BW53,\"\")","v":""},{"$f":"IF('Outil Recensement simplifié'!BX53>0,'Outil Recensement simplifié'!BX53,\"\")","v":""},{"$f":"IF('Outil Recensement simplifié'!BY53>0,'Outil Recensement simplifié'!BY53,\"\")","v":""},{"$f":"IF('Outil Recensement simplifié'!BZ53=\"Homme\",\"Male\",IF('Outil Recensement simplifié'!BZ53=\"Femme\",\"Female\",IF('Outil Recensement simplifié'!BZ53=\"H\",\"Male\",IF('Outil Recensement simplifié'!BZ53=\"F\",\"Female\",\"\"))))","v":""},{"$f":"IF('Outil Recensement simplifié'!CA53=\"Oui\",\"Yes\",IF('Outil Recensement simplifié'!CA53=\"Non\",\"No\",IF('Outil Recensement simplifié'!CA53=\"O\",\"Yes\",IF('Outil Recensement simplifié'!CA53=\"N\",\"No\",\"\"))))","v":""},{"$f":"IF('Outil Recensement simplifié'!CB53=\"Oui\",\"Yes\",IF('Outil Recensement simplifié'!CB53=\"Non\",\"No\",IF('Outil Recensement simplifié'!CB53=\"O\",\"Yes\",IF('Outil Recensement simplifié'!CB53=\"N\",\"No\",\"\"))))","v":""},{"$f":"IF('Outil Recensement simplifié'!CH53>0,'Outil Recensement simplifié'!CH53,\"\")","v":"    "}]
[{"$f":"IF('Outil Recensement simplifié'!A54>0,'Outil Recensement simplifié'!A54,\"\")","v":""},{"$f":"IF('Outil Recensement simplifié'!B54>0,'Outil Recensement simplifié'!B54,\"\")","v":""},{"$f":"IF('Outil Recensement simplifié'!C54>0,'Outil Recensement simplifié'!C54,\"\")","v":""},{"$f":"IF('Outil Recensement simplifié'!D54>0,'Outil Recensement simplifié'!D54,\"\")","v":""},{"$f":"IF('Outil Recensement simplifié'!E54>0,TEXT('Outil Recensement simplifié'!E54,\"000\"),\"\")","v":""},{"$f":"IF('Outil Recensement simplifié'!F54>0,'Outil Recensement simplifié'!F54,\"\")","v":""},{"$f":"IF('Outil Recensement simplifié'!G54>0,'Outil Recensement simplifié'!G54,\"\")","v":""},{"$f":"IF('Outil Recensement simplifié'!I54>0,'Outil Recensement simplifié'!I54,\"\")","v":""},{"$f":"IF('Outil Recensement simplifié'!J54>0,'Outil Recensement simplifié'!J54,\"\")","v":""},{"$f":"IF('Outil Recensement simplifié'!K54>0,'Outil Recensement simplifié'!K54,\"\")","v":""},{"$f":"IF('Outil Recensement simplifié'!L54>0,'Outil Recensement simplifié'!L54,\"\")","v":""},{"$f":"IF('Outil Recensement simplifié'!M54=\"Homme\",\"Male\",IF('Outil Recensement simplifié'!M54=\"Femme\",\"Female\",IF('Outil Recensement simplifié'!M54=\"H\",\"Male\",IF('Outil Recensement simplifié'!M54=\"F\",\"Female\",\"\"))))","v":""},{"$f":"IF('Outil Recensement simplifié'!N54=\"Oui\",\"Yes\",IF('Outil Recensement simplifié'!N54=\"Non\",\"No\",IF('Outil Recensement simplifié'!N54=\"O\",\"Yes\",IF('Outil Recensement simplifié'!N54=\"N\",\"No\",\"\"))))","v":""},{"$f":"IF('Outil Recensement simplifié'!O54=\"Non\",\"Single\",IF('Outil Recensement simplifié'!O54=\"Oui\",\"Family\",IF('Outil Recensement simplifié'!O54=\"N\",\"Single\",IF('Outil Recensement simplifié'!O54=\"O\",\"Family\",IF('Outil Recensement simplifié'!O54=\"En vigueur\",\"Family\",\"\")))))","v":""},{"$f":"IF('Outil Recensement simplifié'!P54=\"Anglais\",\"English\",IF('Outil Recensement simplifié'!P54=\"Français\",\"French\",IF('Outil Recensement simplifié'!P54=\"A\",\"English\",IF('Outil Recensement simplifié'!P54=\"F\",\"French\",\"\"))))","v":""},{"$f":"IF('Outil Recensement simplifié'!Q54=\"Oui\",\"Yes\",IF('Outil Recensement simplifié'!Q54=\"Non\",\"No\",IF('Outil Recensement simplifié'!Q54=\"O\",\"Yes\",IF('Outil Recensement simplifié'!Q54=\"N\",\"No\",\"\"))))","v":""},{"$f":"IF('Outil Recensement simplifié'!R54>0,'Outil Recensement simplifié'!R54,\"\")","v":""},{"$f":"IF('Outil Recensement simplifié'!S54=\"Annuelle\",\"Annually\",IF('Outil Recensement simplifié'!S54=\"Mensuelle\",\"Monthly\",IF('Outil Recensement simplifié'!S54=\"Aux deux semaines\",\"Biweekly\",IF('Outil Recensement simplifié'!S54=\"Bimensuelle\",\"Semi-Monthly\",IF('Outil Recensement simplifié'!S54=\"Hebdomadaire\",\"Weekly\",IF('Outil Recensement simplifié'!S54=\"Horaire\",\"Hourly\",\"\"))))))","v":""},{"$f":"IF('Outil Recensement simplifié'!T54>0,'Outil Recensement simplifié'!T54,\"\")","v":""},{"$f":"IF('Outil Recensement simplifié'!U54>0,'Outil Recensement simplifié'!U54,\"\")","v":""},{"$f":"IF('Outil Recensement simplifié'!V54=\"Exemptée\",\"Yes\",\"\")","v":""},{"$f":"IF('Outil Recensement simplifié'!W54=\"Exemptée\",\"Yes\",\"\")","v":""},{"$f":"IF('Outil Recensement simplifié'!X54>0,'Outil Recensement simplifié'!X54,\"\")","v":""},{"$f":"IF('Outil Recensement simplifié'!Y54>0,'Outil Recensement simplifié'!Y54,\"\")","v":""},{"$f":"IF('Outil Recensement simplifié'!Z54>0,'Outil Recensement simplifié'!Z54,\"\")","v":""},{"$f":"IF('Outil Recensement simplifié'!AA54>0,'Outil Recensement simplifié'!AA54,\"\")","v":""},{"$f":"IF('Outil Recensement simplifié'!AB54>0,'Outil Recensement simplifié'!AB54,\"\")","v":""},{"$f":"IF('Outil Recensement simplifié'!AC54>0,'Outil Recensement simplifié'!AC54,\"\")","v":" "},{"$f":"IF('Outil Recensement simplifié'!AE54>0,'Outil Recensement simplifié'!AE54&\" \",\"\")&IF('Outil Recensement simplifié'!AD54>0,'Outil Recensement simplifié'!AD54,\"\")","v":""},null,{"$f":"IF('Outil Recensement simplifié'!AF54>0,'Outil Recensement simplifié'!AF54,\"\")","v":""},{"$f":"IF('Outil Recensement simplifié'!AG54>0,'Outil Recensement simplifié'!AG54,\"\")","v":""},{"$f":"IF('Outil Recensement simplifié'!AH54>0,'Outil Recensement simplifié'!AH54,\"\")","v":""},{"$f":"IF('Outil Recensement simplifié'!AI54>0,'Outil Recensement simplifié'!AI54,\"\")","v":""},{"$f":"IF('Outil Recensement simplifié'!AJ54>0,'Outil Recensement simplifié'!AJ54,\"\")","v":""},{"$f":"IF('Outil Recensement simplifié'!AK54>0,'Outil Recensement simplifié'!AK54,\"\")","v":""},{"$f":"IF('Outil Recensement simplifié'!AL54>0,'Outil Recensement simplifié'!AL54,\"\")","v":""},{"$f":"IF('Outil Recensement simplifié'!AM54>0,'Outil Recensement simplifié'!AM54,\"\")","v":""},{"$f":"IF('Outil Recensement simplifié'!AN54=\"Homme\",\"Male\",IF('Outil Recensement simplifié'!AN54=\"Femme\",\"Female\",IF('Outil Recensement simplifié'!AN54=\"H\",\"Male\",IF('Outil Recensement simplifié'!AN54=\"F\",\"Female\",\"\"))))","v":""},{"$f":"IF('Outil Recensement simplifié'!AO54=\"Individuelle\",\"Single\",IF('Outil Recensement simplifié'!AO54=\"Famille\",\"Family\",IF('Outil Recensement simplifié'!AO54=\"Individuel\",\"Single\",IF('Outil Recensement simplifié'!AO54=\"Familiale\",\"Family\",IF('Outil Recensement simplifié'!AO54=\"I\",\"Single\",IF('Outil Recensement simplifié'!AO54=\"F\",\"Family\",\"\"))))))","v":""},{"$f":"IF('Outil Recensement simplifié'!AP54=\"Individuelle\",\"Single\",IF('Outil Recensement simplifié'!AP54=\"Famille\",\"Family\",IF('Outil Recensement simplifié'!AP54=\"Individuel\",\"Single\",IF('Outil Recensement simplifié'!AP54=\"Familiale\",\"Family\",IF('Outil Recensement simplifié'!AP54=\"I\",\"Single\",IF('Outil Recensement simplifié'!AP54=\"F\",\"Family\",\"\"))))))","v":""},{"$f":"IF('Outil Recensement simplifié'!AQ54>0,'Outil Recensement simplifié'!AQ54,\"\")","v":""},{"$f":"IF('Outil Recensement simplifié'!AR54=\"Oui\",\"Yes\",IF('Outil Recensement simplifié'!AR54=\"Non\",\"No\",IF('Outil Recensement simplifié'!AR54=\"O\",\"Yes\",IF('Outil Recensement simplifié'!AR54=\"N\",\"No\",\"\"))))","v":""},{"$f":"IF('Outil Recensement simplifié'!AS54>0,'Outil Recensement simplifié'!AS54,\"\")","v":""},{"$f":"IF('Outil Recensement simplifié'!AT54>0,'Outil Recensement simplifié'!AT54,\"\")","v":""},{"$f":"IF('Outil Recensement simplifié'!AU54>0,'Outil Recensement simplifié'!AU54,\"\")","v":""},{"$f":"IF('Outil Recensement simplifié'!AV54=\"Homme\",\"Male\",IF('Outil Recensement simplifié'!AV54=\"Femme\",\"Female\",IF('Outil Recensement simplifié'!AV54=\"H\",\"Male\",IF('Outil Recensement simplifié'!AV54=\"F\",\"Female\",\"\"))))","v":""},{"$f":"IF('Outil Recensement simplifié'!AW54=\"Oui\",\"Yes\",IF('Outil Recensement simplifié'!AW54=\"Non\",\"No\",IF('Outil Recensement simplifié'!AW54=\"O\",\"Yes\",IF('Outil Recensement simplifié'!AW54=\"N\",\"No\",\"\"))))","v":""},{"$f":"IF('Outil Recensement simplifié'!AX54=\"Oui\",\"Yes\",IF('Outil Recensement simplifié'!AX54=\"Non\",\"No\",IF('Outil Recensement simplifié'!AX54=\"O\",\"Yes\",IF('Outil Recensement simplifié'!AX54=\"N\",\"No\",\"\"))))","v":""},{"$f":"IF('Outil Recensement simplifié'!AY54>0,'Outil Recensement simplifié'!AY54,\"\")","v":""},{"$f":"IF('Outil Recensement simplifié'!AZ54>0,'Outil Recensement simplifié'!AZ54,\"\")","v":""},{"$f":"IF('Outil Recensement simplifié'!BA54>0,'Outil Recensement simplifié'!BA54,\"\")","v":""},{"$f":"IF('Outil Recensement simplifié'!BB54=\"Homme\",\"Male\",IF('Outil Recensement simplifié'!BB54=\"Femme\",\"Female\",IF('Outil Recensement simplifié'!BB54=\"H\",\"Male\",IF('Outil Recensement simplifié'!BB54=\"F\",\"Female\",\"\"))))","v":""},{"$f":"IF('Outil Recensement simplifié'!BC54=\"Oui\",\"Yes\",IF('Outil Recensement simplifié'!BC54=\"Non\",\"No\",IF('Outil Recensement simplifié'!BC54=\"O\",\"Yes\",IF('Outil Recensement simplifié'!BC54=\"N\",\"No\",\"\"))))","v":""},{"$f":"IF('Outil Recensement simplifié'!BD54=\"Oui\",\"Yes\",IF('Outil Recensement simplifié'!BD54=\"Non\",\"No\",IF('Outil Recensement simplifié'!BD54=\"O\",\"Yes\",IF('Outil Recensement simplifié'!BD54=\"N\",\"No\",\"\"))))","v":""},{"$f":"IF('Outil Recensement simplifié'!BE54>0,'Outil Recensement simplifié'!BE54,\"\")","v":""},{"$f":"IF('Outil Recensement simplifié'!BF54>0,'Outil Recensement simplifié'!BF54,\"\")","v":""},{"$f":"IF('Outil Recensement simplifié'!BG54>0,'Outil Recensement simplifié'!BG54,\"\")","v":""},{"$f":"IF('Outil Recensement simplifié'!BH54=\"Homme\",\"Male\",IF('Outil Recensement simplifié'!BH54=\"Femme\",\"Female\",IF('Outil Recensement simplifié'!BH54=\"H\",\"Male\",IF('Outil Recensement simplifié'!BH54=\"F\",\"Female\",\"\"))))","v":""},{"$f":"IF('Outil Recensement simplifié'!BI54=\"Oui\",\"Yes\",IF('Outil Recensement simplifié'!BI54=\"Non\",\"No\",IF('Outil Recensement simplifié'!BI54=\"O\",\"Yes\",IF('Outil Recensement simplifié'!BI54=\"N\",\"No\",\"\"))))","v":""},{"$f":"IF('Outil Recensement simplifié'!BJ54=\"Oui\",\"Yes\",IF('Outil Recensement simplifié'!BJ54=\"Non\",\"No\",IF('Outil Recensement simplifié'!BJ54=\"O\",\"Yes\",IF('Outil Recensement simplifié'!BJ54=\"N\",\"No\",\"\"))))","v":""},{"$f":"IF('Outil Recensement simplifié'!BK54>0,'Outil Recensement simplifié'!BK54,\"\")","v":""},{"$f":"IF('Outil Recensement simplifié'!BL54>0,'Outil Recensement simplifié'!BL54,\"\")","v":""},{"$f":"IF('Outil Recensement simplifié'!BM54>0,'Outil Recensement simplifié'!BM54,\"\")","v":""},{"$f":"IF('Outil Recensement simplifié'!BN54=\"Homme\",\"Male\",IF('Outil Recensement simplifié'!BN54=\"Femme\",\"Female\",IF('Outil Recensement simplifié'!BN54=\"H\",\"Male\",IF('Outil Recensement simplifié'!BN54=\"F\",\"Female\",\"\"))))","v":""},{"$f":"IF('Outil Recensement simplifié'!BO54=\"Oui\",\"Yes\",IF('Outil Recensement simplifié'!BO54=\"Non\",\"No\",IF('Outil Recensement simplifié'!BO54=\"O\",\"Yes\",IF('Outil Recensement simplifié'!BO54=\"N\",\"No\",\"\"))))","v":""},{"$f":"IF('Outil Recensement simplifié'!BP54=\"Oui\",\"Yes\",IF('Outil Recensement simplifié'!BP54=\"Non\",\"No\",IF('Outil Recensement simplifié'!BP54=\"O\",\"Yes\",IF('Outil Recensement simplifié'!BP54=\"N\",\"No\",\"\"))))","v":""},{"$f":"IF('Outil Recensement simplifié'!BQ54>0,'Outil Recensement simplifié'!BQ54,\"\")","v":""},{"$f":"IF('Outil Recensement simplifié'!BR54>0,'Outil Recensement simplifié'!BR54,\"\")","v":""},{"$f":"IF('Outil Recensement simplifié'!BS54>0,'Outil Recensement simplifié'!BS54,\"\")","v":""},{"$f":"IF('Outil Recensement simplifié'!BT54=\"Homme\",\"Male\",IF('Outil Recensement simplifié'!BT54=\"Femme\",\"Female\",IF('Outil Recensement simplifié'!BT54=\"H\",\"Male\",IF('Outil Recensement simplifié'!BT54=\"F\",\"Female\",\"\"))))","v":""},{"$f":"IF('Outil Recensement simplifié'!BU54=\"Oui\",\"Yes\",IF('Outil Recensement simplifié'!BU54=\"Non\",\"No\",IF('Outil Recensement simplifié'!BU54=\"O\",\"Yes\",IF('Outil Recensement simplifié'!BU54=\"N\",\"No\",\"\"))))","v":""},{"$f":"IF('Outil Recensement simplifié'!BV54=\"Oui\",\"Yes\",IF('Outil Recensement simplifié'!BV54=\"Non\",\"No\",IF('Outil Recensement simplifié'!BV54=\"O\",\"Yes\",IF('Outil Recensement simplifié'!BV54=\"N\",\"No\",\"\"))))","v":""},{"$f":"IF('Outil Recensement simplifié'!BW54>0,'Outil Recensement simplifié'!BW54,\"\")","v":""},{"$f":"IF('Outil Recensement simplifié'!BX54>0,'Outil Recensement simplifié'!BX54,\"\")","v":""},{"$f":"IF('Outil Recensement simplifié'!BY54>0,'Outil Recensement simplifié'!BY54,\"\")","v":""},{"$f":"IF('Outil Recensement simplifié'!BZ54=\"Homme\",\"Male\",IF('Outil Recensement simplifié'!BZ54=\"Femme\",\"Female\",IF('Outil Recensement simplifié'!BZ54=\"H\",\"Male\",IF('Outil Recensement simplifié'!BZ54=\"F\",\"Female\",\"\"))))","v":""},{"$f":"IF('Outil Recensement simplifié'!CA54=\"Oui\",\"Yes\",IF('Outil Recensement simplifié'!CA54=\"Non\",\"No\",IF('Outil Recensement simplifié'!CA54=\"O\",\"Yes\",IF('Outil Recensement simplifié'!CA54=\"N\",\"No\",\"\"))))","v":""},{"$f":"IF('Outil Recensement simplifié'!CB54=\"Oui\",\"Yes\",IF('Outil Recensement simplifié'!CB54=\"Non\",\"No\",IF('Outil Recensement simplifié'!CB54=\"O\",\"Yes\",IF('Outil Recensement simplifié'!CB54=\"N\",\"No\",\"\"))))","v":""},{"$f":"IF('Outil Recensement simplifié'!CH54>0,'Outil Recensement simplifié'!CH54,\"\")","v":"    "}]
[{"$f":"IF('Outil Recensement simplifié'!A55>0,'Outil Recensement simplifié'!A55,\"\")","v":""},{"$f":"IF('Outil Recensement simplifié'!B55>0,'Outil Recensement simplifié'!B55,\"\")","v":""},{"$f":"IF('Outil Recensement simplifié'!C55>0,'Outil Recensement simplifié'!C55,\"\")","v":""},{"$f":"IF('Outil Recensement simplifié'!D55>0,'Outil Recensement simplifié'!D55,\"\")","v":""},{"$f":"IF('Outil Recensement simplifié'!E55>0,TEXT('Outil Recensement simplifié'!E55,\"000\"),\"\")","v":""},{"$f":"IF('Outil Recensement simplifié'!F55>0,'Outil Recensement simplifié'!F55,\"\")","v":""},{"$f":"IF('Outil Recensement simplifié'!G55>0,'Outil Recensement simplifié'!G55,\"\")","v":""},{"$f":"IF('Outil Recensement simplifié'!I55>0,'Outil Recensement simplifié'!I55,\"\")","v":""},{"$f":"IF('Outil Recensement simplifié'!J55>0,'Outil Recensement simplifié'!J55,\"\")","v":""},{"$f":"IF('Outil Recensement simplifié'!K55>0,'Outil Recensement simplifié'!K55,\"\")","v":""},{"$f":"IF('Outil Recensement simplifié'!L55>0,'Outil Recensement simplifié'!L55,\"\")","v":""},{"$f":"IF('Outil Recensement simplifié'!M55=\"Homme\",\"Male\",IF('Outil Recensement simplifié'!M55=\"Femme\",\"Female\",IF('Outil Recensement simplifié'!M55=\"H\",\"Male\",IF('Outil Recensement simplifié'!M55=\"F\",\"Female\",\"\"))))","v":""},{"$f":"IF('Outil Recensement simplifié'!N55=\"Oui\",\"Yes\",IF('Outil Recensement simplifié'!N55=\"Non\",\"No\",IF('Outil Recensement simplifié'!N55=\"O\",\"Yes\",IF('Outil Recensement simplifié'!N55=\"N\",\"No\",\"\"))))","v":""},{"$f":"IF('Outil Recensement simplifié'!O55=\"Non\",\"Single\",IF('Outil Recensement simplifié'!O55=\"Oui\",\"Family\",IF('Outil Recensement simplifié'!O55=\"N\",\"Single\",IF('Outil Recensement simplifié'!O55=\"O\",\"Family\",IF('Outil Recensement simplifié'!O55=\"En vigueur\",\"Family\",\"\")))))","v":""},{"$f":"IF('Outil Recensement simplifié'!P55=\"Anglais\",\"English\",IF('Outil Recensement simplifié'!P55=\"Français\",\"French\",IF('Outil Recensement simplifié'!P55=\"A\",\"English\",IF('Outil Recensement simplifié'!P55=\"F\",\"French\",\"\"))))","v":""},{"$f":"IF('Outil Recensement simplifié'!Q55=\"Oui\",\"Yes\",IF('Outil Recensement simplifié'!Q55=\"Non\",\"No\",IF('Outil Recensement simplifié'!Q55=\"O\",\"Yes\",IF('Outil Recensement simplifié'!Q55=\"N\",\"No\",\"\"))))","v":""},{"$f":"IF('Outil Recensement simplifié'!R55>0,'Outil Recensement simplifié'!R55,\"\")","v":""},{"$f":"IF('Outil Recensement simplifié'!S55=\"Annuelle\",\"Annually\",IF('Outil Recensement simplifié'!S55=\"Mensuelle\",\"Monthly\",IF('Outil Recensement simplifié'!S55=\"Aux deux semaines\",\"Biweekly\",IF('Outil Recensement simplifié'!S55=\"Bimensuelle\",\"Semi-Monthly\",IF('Outil Recensement simplifié'!S55=\"Hebdomadaire\",\"Weekly\",IF('Outil Recensement simplifié'!S55=\"Horaire\",\"Hourly\",\"\"))))))","v":""},{"$f":"IF('Outil Recensement simplifié'!T55>0,'Outil Recensement simplifié'!T55,\"\")","v":""},{"$f":"IF('Outil Recensement simplifié'!U55>0,'Outil Recensement simplifié'!U55,\"\")","v":""},{"$f":"IF('Outil Recensement simplifié'!V55=\"Exemptée\",\"Yes\",\"\")","v":""},{"$f":"IF('Outil Recensement simplifié'!W55=\"Exemptée\",\"Yes\",\"\")","v":""},{"$f":"IF('Outil Recensement simplifié'!X55>0,'Outil Recensement simplifié'!X55,\"\")","v":""},{"$f":"IF('Outil Recensement simplifié'!Y55>0,'Outil Recensement simplifié'!Y55,\"\")","v":""},{"$f":"IF('Outil Recensement simplifié'!Z55>0,'Outil Recensement simplifié'!Z55,\"\")","v":""},{"$f":"IF('Outil Recensement simplifié'!AA55>0,'Outil Recensement simplifié'!AA55,\"\")","v":""},{"$f":"IF('Outil Recensement simplifié'!AB55>0,'Outil Recensement simplifié'!AB55,\"\")","v":""},{"$f":"IF('Outil Recensement simplifié'!AC55>0,'Outil Recensement simplifié'!AC55,\"\")","v":" "},{"$f":"IF('Outil Recensement simplifié'!AE55>0,'Outil Recensement simplifié'!AE55&\" \",\"\")&IF('Outil Recensement simplifié'!AD55>0,'Outil Recensement simplifié'!AD55,\"\")","v":""},null,{"$f":"IF('Outil Recensement simplifié'!AF55>0,'Outil Recensement simplifié'!AF55,\"\")","v":""},{"$f":"IF('Outil Recensement simplifié'!AG55>0,'Outil Recensement simplifié'!AG55,\"\")","v":""},{"$f":"IF('Outil Recensement simplifié'!AH55>0,'Outil Recensement simplifié'!AH55,\"\")","v":""},{"$f":"IF('Outil Recensement simplifié'!AI55>0,'Outil Recensement simplifié'!AI55,\"\")","v":""},{"$f":"IF('Outil Recensement simplifié'!AJ55>0,'Outil Recensement simplifié'!AJ55,\"\")","v":""},{"$f":"IF('Outil Recensement simplifié'!AK55>0,'Outil Recensement simplifié'!AK55,\"\")","v":""},{"$f":"IF('Outil Recensement simplifié'!AL55>0,'Outil Recensement simplifié'!AL55,\"\")","v":""},{"$f":"IF('Outil Recensement simplifié'!AM55>0,'Outil Recensement simplifié'!AM55,\"\")","v":""},{"$f":"IF('Outil Recensement simplifié'!AN55=\"Homme\",\"Male\",IF('Outil Recensement simplifié'!AN55=\"Femme\",\"Female\",IF('Outil Recensement simplifié'!AN55=\"H\",\"Male\",IF('Outil Recensement simplifié'!AN55=\"F\",\"Female\",\"\"))))","v":""},{"$f":"IF('Outil Recensement simplifié'!AO55=\"Individuelle\",\"Single\",IF('Outil Recensement simplifié'!AO55=\"Famille\",\"Family\",IF('Outil Recensement simplifié'!AO55=\"Individuel\",\"Single\",IF('Outil Recensement simplifié'!AO55=\"Familiale\",\"Family\",IF('Outil Recensement simplifié'!AO55=\"I\",\"Single\",IF('Outil Recensement simplifié'!AO55=\"F\",\"Family\",\"\"))))))","v":""},{"$f":"IF('Outil Recensement simplifié'!AP55=\"Individuelle\",\"Single\",IF('Outil Recensement simplifié'!AP55=\"Famille\",\"Family\",IF('Outil Recensement simplifié'!AP55=\"Individuel\",\"Single\",IF('Outil Recensement simplifié'!AP55=\"Familiale\",\"Family\",IF('Outil Recensement simplifié'!AP55=\"I\",\"Single\",IF('Outil Recensement simplifié'!AP55=\"F\",\"Family\",\"\"))))))","v":""},{"$f":"IF('Outil Recensement simplifié'!AQ55>0,'Outil Recensement simplifié'!AQ55,\"\")","v":""},{"$f":"IF('Outil Recensement simplifié'!AR55=\"Oui\",\"Yes\",IF('Outil Recensement simplifié'!AR55=\"Non\",\"No\",IF('Outil Recensement simplifié'!AR55=\"O\",\"Yes\",IF('Outil Recensement simplifié'!AR55=\"N\",\"No\",\"\"))))","v":""},{"$f":"IF('Outil Recensement simplifié'!AS55>0,'Outil Recensement simplifié'!AS55,\"\")","v":""},{"$f":"IF('Outil Recensement simplifié'!AT55>0,'Outil Recensement simplifié'!AT55,\"\")","v":""},{"$f":"IF('Outil Recensement simplifié'!AU55>0,'Outil Recensement simplifié'!AU55,\"\")","v":""},{"$f":"IF('Outil Recensement simplifié'!AV55=\"Homme\",\"Male\",IF('Outil Recensement simplifié'!AV55=\"Femme\",\"Female\",IF('Outil Recensement simplifié'!AV55=\"H\",\"Male\",IF('Outil Recensement simplifié'!AV55=\"F\",\"Female\",\"\"))))","v":""},{"$f":"IF('Outil Recensement simplifié'!AW55=\"Oui\",\"Yes\",IF('Outil Recensement simplifié'!AW55=\"Non\",\"No\",IF('Outil Recensement simplifié'!AW55=\"O\",\"Yes\",IF('Outil Recensement simplifié'!AW55=\"N\",\"No\",\"\"))))","v":""},{"$f":"IF('Outil Recensement simplifié'!AX55=\"Oui\",\"Yes\",IF('Outil Recensement simplifié'!AX55=\"Non\",\"No\",IF('Outil Recensement simplifié'!AX55=\"O\",\"Yes\",IF('Outil Recensement simplifié'!AX55=\"N\",\"No\",\"\"))))","v":""},{"$f":"IF('Outil Recensement simplifié'!AY55>0,'Outil Recensement simplifié'!AY55,\"\")","v":""},{"$f":"IF('Outil Recensement simplifié'!AZ55>0,'Outil Recensement simplifié'!AZ55,\"\")","v":""},{"$f":"IF('Outil Recensement simplifié'!BA55>0,'Outil Recensement simplifié'!BA55,\"\")","v":""},{"$f":"IF('Outil Recensement simplifié'!BB55=\"Homme\",\"Male\",IF('Outil Recensement simplifié'!BB55=\"Femme\",\"Female\",IF('Outil Recensement simplifié'!BB55=\"H\",\"Male\",IF('Outil Recensement simplifié'!BB55=\"F\",\"Female\",\"\"))))","v":""},{"$f":"IF('Outil Recensement simplifié'!BC55=\"Oui\",\"Yes\",IF('Outil Recensement simplifié'!BC55=\"Non\",\"No\",IF('Outil Recensement simplifié'!BC55=\"O\",\"Yes\",IF('Outil Recensement simplifié'!BC55=\"N\",\"No\",\"\"))))","v":""},{"$f":"IF('Outil Recensement simplifié'!BD55=\"Oui\",\"Yes\",IF('Outil Recensement simplifié'!BD55=\"Non\",\"No\",IF('Outil Recensement simplifié'!BD55=\"O\",\"Yes\",IF('Outil Recensement simplifié'!BD55=\"N\",\"No\",\"\"))))","v":""},{"$f":"IF('Outil Recensement simplifié'!BE55>0,'Outil Recensement simplifié'!BE55,\"\")","v":""},{"$f":"IF('Outil Recensement simplifié'!BF55>0,'Outil Recensement simplifié'!BF55,\"\")","v":""},{"$f":"IF('Outil Recensement simplifié'!BG55>0,'Outil Recensement simplifié'!BG55,\"\")","v":""},{"$f":"IF('Outil Recensement simplifié'!BH55=\"Homme\",\"Male\",IF('Outil Recensement simplifié'!BH55=\"Femme\",\"Female\",IF('Outil Recensement simplifié'!BH55=\"H\",\"Male\",IF('Outil Recensement simplifié'!BH55=\"F\",\"Female\",\"\"))))","v":""},{"$f":"IF('Outil Recensement simplifié'!BI55=\"Oui\",\"Yes\",IF('Outil Recensement simplifié'!BI55=\"Non\",\"No\",IF('Outil Recensement simplifié'!BI55=\"O\",\"Yes\",IF('Outil Recensement simplifié'!BI55=\"N\",\"No\",\"\"))))","v":""},{"$f":"IF('Outil Recensement simplifié'!BJ55=\"Oui\",\"Yes\",IF('Outil Recensement simplifié'!BJ55=\"Non\",\"No\",IF('Outil Recensement simplifié'!BJ55=\"O\",\"Yes\",IF('Outil Recensement simplifié'!BJ55=\"N\",\"No\",\"\"))))","v":""},{"$f":"IF('Outil Recensement simplifié'!BK55>0,'Outil Recensement simplifié'!BK55,\"\")","v":""},{"$f":"IF('Outil Recensement simplifié'!BL55>0,'Outil Recensement simplifié'!BL55,\"\")","v":""},{"$f":"IF('Outil Recensement simplifié'!BM55>0,'Outil Recensement simplifié'!BM55,\"\")","v":""},{"$f":"IF('Outil Recensement simplifié'!BN55=\"Homme\",\"Male\",IF('Outil Recensement simplifié'!BN55=\"Femme\",\"Female\",IF('Outil Recensement simplifié'!BN55=\"H\",\"Male\",IF('Outil Recensement simplifié'!BN55=\"F\",\"Female\",\"\"))))","v":""},{"$f":"IF('Outil Recensement simplifié'!BO55=\"Oui\",\"Yes\",IF('Outil Recensement simplifié'!BO55=\"Non\",\"No\",IF('Outil Recensement simplifié'!BO55=\"O\",\"Yes\",IF('Outil Recensement simplifié'!BO55=\"N\",\"No\",\"\"))))","v":""},{"$f":"IF('Outil Recensement simplifié'!BP55=\"Oui\",\"Yes\",IF('Outil Recensement simplifié'!BP55=\"Non\",\"No\",IF('Outil Recensement simplifié'!BP55=\"O\",\"Yes\",IF('Outil Recensement simplifié'!BP55=\"N\",\"No\",\"\"))))","v":""},{"$f":"IF('Outil Recensement simplifié'!BQ55>0,'Outil Recensement simplifié'!BQ55,\"\")","v":""},{"$f":"IF('Outil Recensement simplifié'!BR55>0,'Outil Recensement simplifié'!BR55,\"\")","v":""},{"$f":"IF('Outil Recensement simplifié'!BS55>0,'Outil Recensement simplifié'!BS55,\"\")","v":""},{"$f":"IF('Outil Recensement simplifié'!BT55=\"Homme\",\"Male\",IF('Outil Recensement simplifié'!BT55=\"Femme\",\"Female\",IF('Outil Recensement simplifié'!BT55=\"H\",\"Male\",IF('Outil Recensement simplifié'!BT55=\"F\",\"Female\",\"\"))))","v":""},{"$f":"IF('Outil Recensement simplifié'!BU55=\"Oui\",\"Yes\",IF('Outil Recensement simplifié'!BU55=\"Non\",\"No\",IF('Outil Recensement simplifié'!BU55=\"O\",\"Yes\",IF('Outil Recensement simplifié'!BU55=\"N\",\"No\",\"\"))))","v":""},{"$f":"IF('Outil Recensement simplifié'!BV55=\"Oui\",\"Yes\",IF('Outil Recensement simplifié'!BV55=\"Non\",\"No\",IF('Outil Recensement simplifié'!BV55=\"O\",\"Yes\",IF('Outil Recensement simplifié'!BV55=\"N\",\"No\",\"\"))))","v":""},{"$f":"IF('Outil Recensement simplifié'!BW55>0,'Outil Recensement simplifié'!BW55,\"\")","v":""},{"$f":"IF('Outil Recensement simplifié'!BX55>0,'Outil Recensement simplifié'!BX55,\"\")","v":""},{"$f":"IF('Outil Recensement simplifié'!BY55>0,'Outil Recensement simplifié'!BY55,\"\")","v":""},{"$f":"IF('Outil Recensement simplifié'!BZ55=\"Homme\",\"Male\",IF('Outil Recensement simplifié'!BZ55=\"Femme\",\"Female\",IF('Outil Recensement simplifié'!BZ55=\"H\",\"Male\",IF('Outil Recensement simplifié'!BZ55=\"F\",\"Female\",\"\"))))","v":""},{"$f":"IF('Outil Recensement simplifié'!CA55=\"Oui\",\"Yes\",IF('Outil Recensement simplifié'!CA55=\"Non\",\"No\",IF('Outil Recensement simplifié'!CA55=\"O\",\"Yes\",IF('Outil Recensement simplifié'!CA55=\"N\",\"No\",\"\"))))","v":""},{"$f":"IF('Outil Recensement simplifié'!CB55=\"Oui\",\"Yes\",IF('Outil Recensement simplifié'!CB55=\"Non\",\"No\",IF('Outil Recensement simplifié'!CB55=\"O\",\"Yes\",IF('Outil Recensement simplifié'!CB55=\"N\",\"No\",\"\"))))","v":""},{"$f":"IF('Outil Recensement simplifié'!CH55>0,'Outil Recensement simplifié'!CH55,\"\")","v":"    "}]
[{"$f":"IF('Outil Recensement simplifié'!A56>0,'Outil Recensement simplifié'!A56,\"\")","v":""},{"$f":"IF('Outil Recensement simplifié'!B56>0,'Outil Recensement simplifié'!B56,\"\")","v":""},{"$f":"IF('Outil Recensement simplifié'!C56>0,'Outil Recensement simplifié'!C56,\"\")","v":""},{"$f":"IF('Outil Recensement simplifié'!D56>0,'Outil Recensement simplifié'!D56,\"\")","v":""},{"$f":"IF('Outil Recensement simplifié'!E56>0,TEXT('Outil Recensement simplifié'!E56,\"000\"),\"\")","v":""},{"$f":"IF('Outil Recensement simplifié'!F56>0,'Outil Recensement simplifié'!F56,\"\")","v":""},{"$f":"IF('Outil Recensement simplifié'!G56>0,'Outil Recensement simplifié'!G56,\"\")","v":""},{"$f":"IF('Outil Recensement simplifié'!I56>0,'Outil Recensement simplifié'!I56,\"\")","v":""},{"$f":"IF('Outil Recensement simplifié'!J56>0,'Outil Recensement simplifié'!J56,\"\")","v":""},{"$f":"IF('Outil Recensement simplifié'!K56>0,'Outil Recensement simplifié'!K56,\"\")","v":""},{"$f":"IF('Outil Recensement simplifié'!L56>0,'Outil Recensement simplifié'!L56,\"\")","v":""},{"$f":"IF('Outil Recensement simplifié'!M56=\"Homme\",\"Male\",IF('Outil Recensement simplifié'!M56=\"Femme\",\"Female\",IF('Outil Recensement simplifié'!M56=\"H\",\"Male\",IF('Outil Recensement simplifié'!M56=\"F\",\"Female\",\"\"))))","v":""},{"$f":"IF('Outil Recensement simplifié'!N56=\"Oui\",\"Yes\",IF('Outil Recensement simplifié'!N56=\"Non\",\"No\",IF('Outil Recensement simplifié'!N56=\"O\",\"Yes\",IF('Outil Recensement simplifié'!N56=\"N\",\"No\",\"\"))))","v":""},{"$f":"IF('Outil Recensement simplifié'!O56=\"Non\",\"Single\",IF('Outil Recensement simplifié'!O56=\"Oui\",\"Family\",IF('Outil Recensement simplifié'!O56=\"N\",\"Single\",IF('Outil Recensement simplifié'!O56=\"O\",\"Family\",IF('Outil Recensement simplifié'!O56=\"En vigueur\",\"Family\",\"\")))))","v":""},{"$f":"IF('Outil Recensement simplifié'!P56=\"Anglais\",\"English\",IF('Outil Recensement simplifié'!P56=\"Français\",\"French\",IF('Outil Recensement simplifié'!P56=\"A\",\"English\",IF('Outil Recensement simplifié'!P56=\"F\",\"French\",\"\"))))","v":""},{"$f":"IF('Outil Recensement simplifié'!Q56=\"Oui\",\"Yes\",IF('Outil Recensement simplifié'!Q56=\"Non\",\"No\",IF('Outil Recensement simplifié'!Q56=\"O\",\"Yes\",IF('Outil Recensement simplifié'!Q56=\"N\",\"No\",\"\"))))","v":""},{"$f":"IF('Outil Recensement simplifié'!R56>0,'Outil Recensement simplifié'!R56,\"\")","v":""},{"$f":"IF('Outil Recensement simplifié'!S56=\"Annuelle\",\"Annually\",IF('Outil Recensement simplifié'!S56=\"Mensuelle\",\"Monthly\",IF('Outil Recensement simplifié'!S56=\"Aux deux semaines\",\"Biweekly\",IF('Outil Recensement simplifié'!S56=\"Bimensuelle\",\"Semi-Monthly\",IF('Outil Recensement simplifié'!S56=\"Hebdomadaire\",\"Weekly\",IF('Outil Recensement simplifié'!S56=\"Horaire\",\"Hourly\",\"\"))))))","v":""},{"$f":"IF('Outil Recensement simplifié'!T56>0,'Outil Recensement simplifié'!T56,\"\")","v":""},{"$f":"IF('Outil Recensement simplifié'!U56>0,'Outil Recensement simplifié'!U56,\"\")","v":""},{"$f":"IF('Outil Recensement simplifié'!V56=\"Exemptée\",\"Yes\",\"\")","v":""},{"$f":"IF('Outil Recensement simplifié'!W56=\"Exemptée\",\"Yes\",\"\")","v":""},{"$f":"IF('Outil Recensement simplifié'!X56>0,'Outil Recensement simplifié'!X56,\"\")","v":""},{"$f":"IF('Outil Recensement simplifié'!Y56>0,'Outil Recensement simplifié'!Y56,\"\")","v":""},{"$f":"IF('Outil Recensement simplifié'!Z56>0,'Outil Recensement simplifié'!Z56,\"\")","v":""},{"$f":"IF('Outil Recensement simplifié'!AA56>0,'Outil Recensement simplifié'!AA56,\"\")","v":""},{"$f":"IF('Outil Recensement simplifié'!AB56>0,'Outil Recensement simplifié'!AB56,\"\")","v":""},{"$f":"IF('Outil Recensement simplifié'!AC56>0,'Outil Recensement simplifié'!AC56,\"\")","v":" "},{"$f":"IF('Outil Recensement simplifié'!AE56>0,'Outil Recensement simplifié'!AE56&\" \",\"\")&IF('Outil Recensement simplifié'!AD56>0,'Outil Recensement simplifié'!AD56,\"\")","v":""},null,{"$f":"IF('Outil Recensement simplifié'!AF56>0,'Outil Recensement simplifié'!AF56,\"\")","v":""},{"$f":"IF('Outil Recensement simplifié'!AG56>0,'Outil Recensement simplifié'!AG56,\"\")","v":""},{"$f":"IF('Outil Recensement simplifié'!AH56>0,'Outil Recensement simplifié'!AH56,\"\")","v":""},{"$f":"IF('Outil Recensement simplifié'!AI56>0,'Outil Recensement simplifié'!AI56,\"\")","v":""},{"$f":"IF('Outil Recensement simplifié'!AJ56>0,'Outil Recensement simplifié'!AJ56,\"\")","v":""},{"$f":"IF('Outil Recensement simplifié'!AK56>0,'Outil Recensement simplifié'!AK56,\"\")","v":""},{"$f":"IF('Outil Recensement simplifié'!AL56>0,'Outil Recensement simplifié'!AL56,\"\")","v":""},{"$f":"IF('Outil Recensement simplifié'!AM56>0,'Outil Recensement simplifié'!AM56,\"\")","v":""},{"$f":"IF('Outil Recensement simplifié'!AN56=\"Homme\",\"Male\",IF('Outil Recensement simplifié'!AN56=\"Femme\",\"Female\",IF('Outil Recensement simplifié'!AN56=\"H\",\"Male\",IF('Outil Recensement simplifié'!AN56=\"F\",\"Female\",\"\"))))","v":""},{"$f":"IF('Outil Recensement simplifié'!AO56=\"Individuelle\",\"Single\",IF('Outil Recensement simplifié'!AO56=\"Famille\",\"Family\",IF('Outil Recensement simplifié'!AO56=\"Individuel\",\"Single\",IF('Outil Recensement simplifié'!AO56=\"Familiale\",\"Family\",IF('Outil Recensement simplifié'!AO56=\"I\",\"Single\",IF('Outil Recensement simplifié'!AO56=\"F\",\"Family\",\"\"))))))","v":""},{"$f":"IF('Outil Recensement simplifié'!AP56=\"Individuelle\",\"Single\",IF('Outil Recensement simplifié'!AP56=\"Famille\",\"Family\",IF('Outil Recensement simplifié'!AP56=\"Individuel\",\"Single\",IF('Outil Recensement simplifié'!AP56=\"Familiale\",\"Family\",IF('Outil Recensement simplifié'!AP56=\"I\",\"Single\",IF('Outil Recensement simplifié'!AP56=\"F\",\"Family\",\"\"))))))","v":""},{"$f":"IF('Outil Recensement simplifié'!AQ56>0,'Outil Recensement simplifié'!AQ56,\"\")","v":""},{"$f":"IF('Outil Recensement simplifié'!AR56=\"Oui\",\"Yes\",IF('Outil Recensement simplifié'!AR56=\"Non\",\"No\",IF('Outil Recensement simplifié'!AR56=\"O\",\"Yes\",IF('Outil Recensement simplifié'!AR56=\"N\",\"No\",\"\"))))","v":""},{"$f":"IF('Outil Recensement simplifié'!AS56>0,'Outil Recensement simplifié'!AS56,\"\")","v":""},{"$f":"IF('Outil Recensement simplifié'!AT56>0,'Outil Recensement simplifié'!AT56,\"\")","v":""},{"$f":"IF('Outil Recensement simplifié'!AU56>0,'Outil Recensement simplifié'!AU56,\"\")","v":""},{"$f":"IF('Outil Recensement simplifié'!AV56=\"Homme\",\"Male\",IF('Outil Recensement simplifié'!AV56=\"Femme\",\"Female\",IF('Outil Recensement simplifié'!AV56=\"H\",\"Male\",IF('Outil Recensement simplifié'!AV56=\"F\",\"Female\",\"\"))))","v":""},{"$f":"IF('Outil Recensement simplifié'!AW56=\"Oui\",\"Yes\",IF('Outil Recensement simplifié'!AW56=\"Non\",\"No\",IF('Outil Recensement simplifié'!AW56=\"O\",\"Yes\",IF('Outil Recensement simplifié'!AW56=\"N\",\"No\",\"\"))))","v":""},{"$f":"IF('Outil Recensement simplifié'!AX56=\"Oui\",\"Yes\",IF('Outil Recensement simplifié'!AX56=\"Non\",\"No\",IF('Outil Recensement simplifié'!AX56=\"O\",\"Yes\",IF('Outil Recensement simplifié'!AX56=\"N\",\"No\",\"\"))))","v":""},{"$f":"IF('Outil Recensement simplifié'!AY56>0,'Outil Recensement simplifié'!AY56,\"\")","v":""},{"$f":"IF('Outil Recensement simplifié'!AZ56>0,'Outil Recensement simplifié'!AZ56,\"\")","v":""},{"$f":"IF('Outil Recensement simplifié'!BA56>0,'Outil Recensement simplifié'!BA56,\"\")","v":""},{"$f":"IF('Outil Recensement simplifié'!BB56=\"Homme\",\"Male\",IF('Outil Recensement simplifié'!BB56=\"Femme\",\"Female\",IF('Outil Recensement simplifié'!BB56=\"H\",\"Male\",IF('Outil Recensement simplifié'!BB56=\"F\",\"Female\",\"\"))))","v":""},{"$f":"IF('Outil Recensement simplifié'!BC56=\"Oui\",\"Yes\",IF('Outil Recensement simplifié'!BC56=\"Non\",\"No\",IF('Outil Recensement simplifié'!BC56=\"O\",\"Yes\",IF('Outil Recensement simplifié'!BC56=\"N\",\"No\",\"\"))))","v":""},{"$f":"IF('Outil Recensement simplifié'!BD56=\"Oui\",\"Yes\",IF('Outil Recensement simplifié'!BD56=\"Non\",\"No\",IF('Outil Recensement simplifié'!BD56=\"O\",\"Yes\",IF('Outil Recensement simplifié'!BD56=\"N\",\"No\",\"\"))))","v":""},{"$f":"IF('Outil Recensement simplifié'!BE56>0,'Outil Recensement simplifié'!BE56,\"\")","v":""},{"$f":"IF('Outil Recensement simplifié'!BF56>0,'Outil Recensement simplifié'!BF56,\"\")","v":""},{"$f":"IF('Outil Recensement simplifié'!BG56>0,'Outil Recensement simplifié'!BG56,\"\")","v":""},{"$f":"IF('Outil Recensement simplifié'!BH56=\"Homme\",\"Male\",IF('Outil Recensement simplifié'!BH56=\"Femme\",\"Female\",IF('Outil Recensement simplifié'!BH56=\"H\",\"Male\",IF('Outil Recensement simplifié'!BH56=\"F\",\"Female\",\"\"))))","v":""},{"$f":"IF('Outil Recensement simplifié'!BI56=\"Oui\",\"Yes\",IF('Outil Recensement simplifié'!BI56=\"Non\",\"No\",IF('Outil Recensement simplifié'!BI56=\"O\",\"Yes\",IF('Outil Recensement simplifié'!BI56=\"N\",\"No\",\"\"))))","v":""},{"$f":"IF('Outil Recensement simplifié'!BJ56=\"Oui\",\"Yes\",IF('Outil Recensement simplifié'!BJ56=\"Non\",\"No\",IF('Outil Recensement simplifié'!BJ56=\"O\",\"Yes\",IF('Outil Recensement simplifié'!BJ56=\"N\",\"No\",\"\"))))","v":""},{"$f":"IF('Outil Recensement simplifié'!BK56>0,'Outil Recensement simplifié'!BK56,\"\")","v":""},{"$f":"IF('Outil Recensement simplifié'!BL56>0,'Outil Recensement simplifié'!BL56,\"\")","v":""},{"$f":"IF('Outil Recensement simplifié'!BM56>0,'Outil Recensement simplifié'!BM56,\"\")","v":""},{"$f":"IF('Outil Recensement simplifié'!BN56=\"Homme\",\"Male\",IF('Outil Recensement simplifié'!BN56=\"Femme\",\"Female\",IF('Outil Recensement simplifié'!BN56=\"H\",\"Male\",IF('Outil Recensement simplifié'!BN56=\"F\",\"Female\",\"\"))))","v":""},{"$f":"IF('Outil Recensement simplifié'!BO56=\"Oui\",\"Yes\",IF('Outil Recensement simplifié'!BO56=\"Non\",\"No\",IF('Outil Recensement simplifié'!BO56=\"O\",\"Yes\",IF('Outil Recensement simplifié'!BO56=\"N\",\"No\",\"\"))))","v":""},{"$f":"IF('Outil Recensement simplifié'!BP56=\"Oui\",\"Yes\",IF('Outil Recensement simplifié'!BP56=\"Non\",\"No\",IF('Outil Recensement simplifié'!BP56=\"O\",\"Yes\",IF('Outil Recensement simplifié'!BP56=\"N\",\"No\",\"\"))))","v":""},{"$f":"IF('Outil Recensement simplifié'!BQ56>0,'Outil Recensement simplifié'!BQ56,\"\")","v":""},{"$f":"IF('Outil Recensement simplifié'!BR56>0,'Outil Recensement simplifié'!BR56,\"\")","v":""},{"$f":"IF('Outil Recensement simplifié'!BS56>0,'Outil Recensement simplifié'!BS56,\"\")","v":""},{"$f":"IF('Outil Recensement simplifié'!BT56=\"Homme\",\"Male\",IF('Outil Recensement simplifié'!BT56=\"Femme\",\"Female\",IF('Outil Recensement simplifié'!BT56=\"H\",\"Male\",IF('Outil Recensement simplifié'!BT56=\"F\",\"Female\",\"\"))))","v":""},{"$f":"IF('Outil Recensement simplifié'!BU56=\"Oui\",\"Yes\",IF('Outil Recensement simplifié'!BU56=\"Non\",\"No\",IF('Outil Recensement simplifié'!BU56=\"O\",\"Yes\",IF('Outil Recensement simplifié'!BU56=\"N\",\"No\",\"\"))))","v":""},{"$f":"IF('Outil Recensement simplifié'!BV56=\"Oui\",\"Yes\",IF('Outil Recensement simplifié'!BV56=\"Non\",\"No\",IF('Outil Recensement simplifié'!BV56=\"O\",\"Yes\",IF('Outil Recensement simplifié'!BV56=\"N\",\"No\",\"\"))))","v":""},{"$f":"IF('Outil Recensement simplifié'!BW56>0,'Outil Recensement simplifié'!BW56,\"\")","v":""},{"$f":"IF('Outil Recensement simplifié'!BX56>0,'Outil Recensement simplifié'!BX56,\"\")","v":""},{"$f":"IF('Outil Recensement simplifié'!BY56>0,'Outil Recensement simplifié'!BY56,\"\")","v":""},{"$f":"IF('Outil Recensement simplifié'!BZ56=\"Homme\",\"Male\",IF('Outil Recensement simplifié'!BZ56=\"Femme\",\"Female\",IF('Outil Recensement simplifié'!BZ56=\"H\",\"Male\",IF('Outil Recensement simplifié'!BZ56=\"F\",\"Female\",\"\"))))","v":""},{"$f":"IF('Outil Recensement simplifié'!CA56=\"Oui\",\"Yes\",IF('Outil Recensement simplifié'!CA56=\"Non\",\"No\",IF('Outil Recensement simplifié'!CA56=\"O\",\"Yes\",IF('Outil Recensement simplifié'!CA56=\"N\",\"No\",\"\"))))","v":""},{"$f":"IF('Outil Recensement simplifié'!CB56=\"Oui\",\"Yes\",IF('Outil Recensement simplifié'!CB56=\"Non\",\"No\",IF('Outil Recensement simplifié'!CB56=\"O\",\"Yes\",IF('Outil Recensement simplifié'!CB56=\"N\",\"No\",\"\"))))","v":""},{"$f":"IF('Outil Recensement simplifié'!CH56>0,'Outil Recensement simplifié'!CH56,\"\")","v":"    "}]
[{"$f":"IF('Outil Recensement simplifié'!A57>0,'Outil Recensement simplifié'!A57,\"\")","v":""},{"$f":"IF('Outil Recensement simplifié'!B57>0,'Outil Recensement simplifié'!B57,\"\")","v":""},{"$f":"IF('Outil Recensement simplifié'!C57>0,'Outil Recensement simplifié'!C57,\"\")","v":""},{"$f":"IF('Outil Recensement simplifié'!D57>0,'Outil Recensement simplifié'!D57,\"\")","v":""},{"$f":"IF('Outil Recensement simplifié'!E57>0,TEXT('Outil Recensement simplifié'!E57,\"000\"),\"\")","v":""},{"$f":"IF('Outil Recensement simplifié'!F57>0,'Outil Recensement simplifié'!F57,\"\")","v":""},{"$f":"IF('Outil Recensement simplifié'!G57>0,'Outil Recensement simplifié'!G57,\"\")","v":""},{"$f":"IF('Outil Recensement simplifié'!I57>0,'Outil Recensement simplifié'!I57,\"\")","v":""},{"$f":"IF('Outil Recensement simplifié'!J57>0,'Outil Recensement simplifié'!J57,\"\")","v":""},{"$f":"IF('Outil Recensement simplifié'!K57>0,'Outil Recensement simplifié'!K57,\"\")","v":""},{"$f":"IF('Outil Recensement simplifié'!L57>0,'Outil Recensement simplifié'!L57,\"\")","v":""},{"$f":"IF('Outil Recensement simplifié'!M57=\"Homme\",\"Male\",IF('Outil Recensement simplifié'!M57=\"Femme\",\"Female\",IF('Outil Recensement simplifié'!M57=\"H\",\"Male\",IF('Outil Recensement simplifié'!M57=\"F\",\"Female\",\"\"))))","v":""},{"$f":"IF('Outil Recensement simplifié'!N57=\"Oui\",\"Yes\",IF('Outil Recensement simplifié'!N57=\"Non\",\"No\",IF('Outil Recensement simplifié'!N57=\"O\",\"Yes\",IF('Outil Recensement simplifié'!N57=\"N\",\"No\",\"\"))))","v":""},{"$f":"IF('Outil Recensement simplifié'!O57=\"Non\",\"Single\",IF('Outil Recensement simplifié'!O57=\"Oui\",\"Family\",IF('Outil Recensement simplifié'!O57=\"N\",\"Single\",IF('Outil Recensement simplifié'!O57=\"O\",\"Family\",IF('Outil Recensement simplifié'!O57=\"En vigueur\",\"Family\",\"\")))))","v":""},{"$f":"IF('Outil Recensement simplifié'!P57=\"Anglais\",\"English\",IF('Outil Recensement simplifié'!P57=\"Français\",\"French\",IF('Outil Recensement simplifié'!P57=\"A\",\"English\",IF('Outil Recensement simplifié'!P57=\"F\",\"French\",\"\"))))","v":""},{"$f":"IF('Outil Recensement simplifié'!Q57=\"Oui\",\"Yes\",IF('Outil Recensement simplifié'!Q57=\"Non\",\"No\",IF('Outil Recensement simplifié'!Q57=\"O\",\"Yes\",IF('Outil Recensement simplifié'!Q57=\"N\",\"No\",\"\"))))","v":""},{"$f":"IF('Outil Recensement simplifié'!R57>0,'Outil Recensement simplifié'!R57,\"\")","v":""},{"$f":"IF('Outil Recensement simplifié'!S57=\"Annuelle\",\"Annually\",IF('Outil Recensement simplifié'!S57=\"Mensuelle\",\"Monthly\",IF('Outil Recensement simplifié'!S57=\"Aux deux semaines\",\"Biweekly\",IF('Outil Recensement simplifié'!S57=\"Bimensuelle\",\"Semi-Monthly\",IF('Outil Recensement simplifié'!S57=\"Hebdomadaire\",\"Weekly\",IF('Outil Recensement simplifié'!S57=\"Horaire\",\"Hourly\",\"\"))))))","v":""},{"$f":"IF('Outil Recensement simplifié'!T57>0,'Outil Recensement simplifié'!T57,\"\")","v":""},{"$f":"IF('Outil Recensement simplifié'!U57>0,'Outil Recensement simplifié'!U57,\"\")","v":""},{"$f":"IF('Outil Recensement simplifié'!V57=\"Exemptée\",\"Yes\",\"\")","v":""},{"$f":"IF('Outil Recensement simplifié'!W57=\"Exemptée\",\"Yes\",\"\")","v":""},{"$f":"IF('Outil Recensement simplifié'!X57>0,'Outil Recensement simplifié'!X57,\"\")","v":""},{"$f":"IF('Outil Recensement simplifié'!Y57>0,'Outil Recensement simplifié'!Y57,\"\")","v":""},{"$f":"IF('Outil Recensement simplifié'!Z57>0,'Outil Recensement simplifié'!Z57,\"\")","v":""},{"$f":"IF('Outil Recensement simplifié'!AA57>0,'Outil Recensement simplifié'!AA57,\"\")","v":""},{"$f":"IF('Outil Recensement simplifié'!AB57>0,'Outil Recensement simplifié'!AB57,\"\")","v":""},{"$f":"IF('Outil Recensement simplifié'!AC57>0,'Outil Recensement simplifié'!AC57,\"\")","v":" "},{"$f":"IF('Outil Recensement simplifié'!AE57>0,'Outil Recensement simplifié'!AE57&\" \",\"\")&IF('Outil Recensement simplifié'!AD57>0,'Outil Recensement simplifié'!AD57,\"\")","v":""},null,{"$f":"IF('Outil Recensement simplifié'!AF57>0,'Outil Recensement simplifié'!AF57,\"\")","v":""},{"$f":"IF('Outil Recensement simplifié'!AG57>0,'Outil Recensement simplifié'!AG57,\"\")","v":""},{"$f":"IF('Outil Recensement simplifié'!AH57>0,'Outil Recensement simplifié'!AH57,\"\")","v":""},{"$f":"IF('Outil Recensement simplifié'!AI57>0,'Outil Recensement simplifié'!AI57,\"\")","v":""},{"$f":"IF('Outil Recensement simplifié'!AJ57>0,'Outil Recensement simplifié'!AJ57,\"\")","v":""},{"$f":"IF('Outil Recensement simplifié'!AK57>0,'Outil Recensement simplifié'!AK57,\"\")","v":""},{"$f":"IF('Outil Recensement simplifié'!AL57>0,'Outil Recensement simplifié'!AL57,\"\")","v":""},{"$f":"IF('Outil Recensement simplifié'!AM57>0,'Outil Recensement simplifié'!AM57,\"\")","v":""},{"$f":"IF('Outil Recensement simplifié'!AN57=\"Homme\",\"Male\",IF('Outil Recensement simplifié'!AN57=\"Femme\",\"Female\",IF('Outil Recensement simplifié'!AN57=\"H\",\"Male\",IF('Outil Recensement simplifié'!AN57=\"F\",\"Female\",\"\"))))","v":""},{"$f":"IF('Outil Recensement simplifié'!AO57=\"Individuelle\",\"Single\",IF('Outil Recensement simplifié'!AO57=\"Famille\",\"Family\",IF('Outil Recensement simplifié'!AO57=\"Individuel\",\"Single\",IF('Outil Recensement simplifié'!AO57=\"Familiale\",\"Family\",IF('Outil Recensement simplifié'!AO57=\"I\",\"Single\",IF('Outil Recensement simplifié'!AO57=\"F\",\"Family\",\"\"))))))","v":""},{"$f":"IF('Outil Recensement simplifié'!AP57=\"Individuelle\",\"Single\",IF('Outil Recensement simplifié'!AP57=\"Famille\",\"Family\",IF('Outil Recensement simplifié'!AP57=\"Individuel\",\"Single\",IF('Outil Recensement simplifié'!AP57=\"Familiale\",\"Family\",IF('Outil Recensement simplifié'!AP57=\"I\",\"Single\",IF('Outil Recensement simplifié'!AP57=\"F\",\"Family\",\"\"))))))","v":""},{"$f":"IF('Outil Recensement simplifié'!AQ57>0,'Outil Recensement simplifié'!AQ57,\"\")","v":""},{"$f":"IF('Outil Recensement simplifié'!AR57=\"Oui\",\"Yes\",IF('Outil Recensement simplifié'!AR57=\"Non\",\"No\",IF('Outil Recensement simplifié'!AR57=\"O\",\"Yes\",IF('Outil Recensement simplifié'!AR57=\"N\",\"No\",\"\"))))","v":""},{"$f":"IF('Outil Recensement simplifié'!AS57>0,'Outil Recensement simplifié'!AS57,\"\")","v":""},{"$f":"IF('Outil Recensement simplifié'!AT57>0,'Outil Recensement simplifié'!AT57,\"\")","v":""},{"$f":"IF('Outil Recensement simplifié'!AU57>0,'Outil Recensement simplifié'!AU57,\"\")","v":""},{"$f":"IF('Outil Recensement simplifié'!AV57=\"Homme\",\"Male\",IF('Outil Recensement simplifié'!AV57=\"Femme\",\"Female\",IF('Outil Recensement simplifié'!AV57=\"H\",\"Male\",IF('Outil Recensement simplifié'!AV57=\"F\",\"Female\",\"\"))))","v":""},{"$f":"IF('Outil Recensement simplifié'!AW57=\"Oui\",\"Yes\",IF('Outil Recensement simplifié'!AW57=\"Non\",\"No\",IF('Outil Recensement simplifié'!AW57=\"O\",\"Yes\",IF('Outil Recensement simplifié'!AW57=\"N\",\"No\",\"\"))))","v":""},{"$f":"IF('Outil Recensement simplifié'!AX57=\"Oui\",\"Yes\",IF('Outil Recensement simplifié'!AX57=\"Non\",\"No\",IF('Outil Recensement simplifié'!AX57=\"O\",\"Yes\",IF('Outil Recensement simplifié'!AX57=\"N\",\"No\",\"\"))))","v":""},{"$f":"IF('Outil Recensement simplifié'!AY57>0,'Outil Recensement simplifié'!AY57,\"\")","v":""},{"$f":"IF('Outil Recensement simplifié'!AZ57>0,'Outil Recensement simplifié'!AZ57,\"\")","v":""},{"$f":"IF('Outil Recensement simplifié'!BA57>0,'Outil Recensement simplifié'!BA57,\"\")","v":""},{"$f":"IF('Outil Recensement simplifié'!BB57=\"Homme\",\"Male\",IF('Outil Recensement simplifié'!BB57=\"Femme\",\"Female\",IF('Outil Recensement simplifié'!BB57=\"H\",\"Male\",IF('Outil Recensement simplifié'!BB57=\"F\",\"Female\",\"\"))))","v":""},{"$f":"IF('Outil Recensement simplifié'!BC57=\"Oui\",\"Yes\",IF('Outil Recensement simplifié'!BC57=\"Non\",\"No\",IF('Outil Recensement simplifié'!BC57=\"O\",\"Yes\",IF('Outil Recensement simplifié'!BC57=\"N\",\"No\",\"\"))))","v":""},{"$f":"IF('Outil Recensement simplifié'!BD57=\"Oui\",\"Yes\",IF('Outil Recensement simplifié'!BD57=\"Non\",\"No\",IF('Outil Recensement simplifié'!BD57=\"O\",\"Yes\",IF('Outil Recensement simplifié'!BD57=\"N\",\"No\",\"\"))))","v":""},{"$f":"IF('Outil Recensement simplifié'!BE57>0,'Outil Recensement simplifié'!BE57,\"\")","v":""},{"$f":"IF('Outil Recensement simplifié'!BF57>0,'Outil Recensement simplifié'!BF57,\"\")","v":""},{"$f":"IF('Outil Recensement simplifié'!BG57>0,'Outil Recensement simplifié'!BG57,\"\")","v":""},{"$f":"IF('Outil Recensement simplifié'!BH57=\"Homme\",\"Male\",IF('Outil Recensement simplifié'!BH57=\"Femme\",\"Female\",IF('Outil Recensement simplifié'!BH57=\"H\",\"Male\",IF('Outil Recensement simplifié'!BH57=\"F\",\"Female\",\"\"))))","v":""},{"$f":"IF('Outil Recensement simplifié'!BI57=\"Oui\",\"Yes\",IF('Outil Recensement simplifié'!BI57=\"Non\",\"No\",IF('Outil Recensement simplifié'!BI57=\"O\",\"Yes\",IF('Outil Recensement simplifié'!BI57=\"N\",\"No\",\"\"))))","v":""},{"$f":"IF('Outil Recensement simplifié'!BJ57=\"Oui\",\"Yes\",IF('Outil Recensement simplifié'!BJ57=\"Non\",\"No\",IF('Outil Recensement simplifié'!BJ57=\"O\",\"Yes\",IF('Outil Recensement simplifié'!BJ57=\"N\",\"No\",\"\"))))","v":""},{"$f":"IF('Outil Recensement simplifié'!BK57>0,'Outil Recensement simplifié'!BK57,\"\")","v":""},{"$f":"IF('Outil Recensement simplifié'!BL57>0,'Outil Recensement simplifié'!BL57,\"\")","v":""},{"$f":"IF('Outil Recensement simplifié'!BM57>0,'Outil Recensement simplifié'!BM57,\"\")","v":""},{"$f":"IF('Outil Recensement simplifié'!BN57=\"Homme\",\"Male\",IF('Outil Recensement simplifié'!BN57=\"Femme\",\"Female\",IF('Outil Recensement simplifié'!BN57=\"H\",\"Male\",IF('Outil Recensement simplifié'!BN57=\"F\",\"Female\",\"\"))))","v":""},{"$f":"IF('Outil Recensement simplifié'!BO57=\"Oui\",\"Yes\",IF('Outil Recensement simplifié'!BO57=\"Non\",\"No\",IF('Outil Recensement simplifié'!BO57=\"O\",\"Yes\",IF('Outil Recensement simplifié'!BO57=\"N\",\"No\",\"\"))))","v":""},{"$f":"IF('Outil Recensement simplifié'!BP57=\"Oui\",\"Yes\",IF('Outil Recensement simplifié'!BP57=\"Non\",\"No\",IF('Outil Recensement simplifié'!BP57=\"O\",\"Yes\",IF('Outil Recensement simplifié'!BP57=\"N\",\"No\",\"\"))))","v":""},{"$f":"IF('Outil Recensement simplifié'!BQ57>0,'Outil Recensement simplifié'!BQ57,\"\")","v":""},{"$f":"IF('Outil Recensement simplifié'!BR57>0,'Outil Recensement simplifié'!BR57,\"\")","v":""},{"$f":"IF('Outil Recensement simplifié'!BS57>0,'Outil Recensement simplifié'!BS57,\"\")","v":""},{"$f":"IF('Outil Recensement simplifié'!BT57=\"Homme\",\"Male\",IF('Outil Recensement simplifié'!BT57=\"Femme\",\"Female\",IF('Outil Recensement simplifié'!BT57=\"H\",\"Male\",IF('Outil Recensement simplifié'!BT57=\"F\",\"Female\",\"\"))))","v":""},{"$f":"IF('Outil Recensement simplifié'!BU57=\"Oui\",\"Yes\",IF('Outil Recensement simplifié'!BU57=\"Non\",\"No\",IF('Outil Recensement simplifié'!BU57=\"O\",\"Yes\",IF('Outil Recensement simplifié'!BU57=\"N\",\"No\",\"\"))))","v":""},{"$f":"IF('Outil Recensement simplifié'!BV57=\"Oui\",\"Yes\",IF('Outil Recensement simplifié'!BV57=\"Non\",\"No\",IF('Outil Recensement simplifié'!BV57=\"O\",\"Yes\",IF('Outil Recensement simplifié'!BV57=\"N\",\"No\",\"\"))))","v":""},{"$f":"IF('Outil Recensement simplifié'!BW57>0,'Outil Recensement simplifié'!BW57,\"\")","v":""},{"$f":"IF('Outil Recensement simplifié'!BX57>0,'Outil Recensement simplifié'!BX57,\"\")","v":""},{"$f":"IF('Outil Recensement simplifié'!BY57>0,'Outil Recensement simplifié'!BY57,\"\")","v":""},{"$f":"IF('Outil Recensement simplifié'!BZ57=\"Homme\",\"Male\",IF('Outil Recensement simplifié'!BZ57=\"Femme\",\"Female\",IF('Outil Recensement simplifié'!BZ57=\"H\",\"Male\",IF('Outil Recensement simplifié'!BZ57=\"F\",\"Female\",\"\"))))","v":""},{"$f":"IF('Outil Recensement simplifié'!CA57=\"Oui\",\"Yes\",IF('Outil Recensement simplifié'!CA57=\"Non\",\"No\",IF('Outil Recensement simplifié'!CA57=\"O\",\"Yes\",IF('Outil Recensement simplifié'!CA57=\"N\",\"No\",\"\"))))","v":""},{"$f":"IF('Outil Recensement simplifié'!CB57=\"Oui\",\"Yes\",IF('Outil Recensement simplifié'!CB57=\"Non\",\"No\",IF('Outil Recensement simplifié'!CB57=\"O\",\"Yes\",IF('Outil Recensement simplifié'!CB57=\"N\",\"No\",\"\"))))","v":""},{"$f":"IF('Outil Recensement simplifié'!CH57>0,'Outil Recensement simplifié'!CH57,\"\")","v":"    "}]
[{"$f":"IF('Outil Recensement simplifié'!A58>0,'Outil Recensement simplifié'!A58,\"\")","v":""},{"$f":"IF('Outil Recensement simplifié'!B58>0,'Outil Recensement simplifié'!B58,\"\")","v":""},{"$f":"IF('Outil Recensement simplifié'!C58>0,'Outil Recensement simplifié'!C58,\"\")","v":""},{"$f":"IF('Outil Recensement simplifié'!D58>0,'Outil Recensement simplifié'!D58,\"\")","v":""},{"$f":"IF('Outil Recensement simplifié'!E58>0,TEXT('Outil Recensement simplifié'!E58,\"000\"),\"\")","v":""},{"$f":"IF('Outil Recensement simplifié'!F58>0,'Outil Recensement simplifié'!F58,\"\")","v":""},{"$f":"IF('Outil Recensement simplifié'!G58>0,'Outil Recensement simplifié'!G58,\"\")","v":""},{"$f":"IF('Outil Recensement simplifié'!I58>0,'Outil Recensement simplifié'!I58,\"\")","v":""},{"$f":"IF('Outil Recensement simplifié'!J58>0,'Outil Recensement simplifié'!J58,\"\")","v":""},{"$f":"IF('Outil Recensement simplifié'!K58>0,'Outil Recensement simplifié'!K58,\"\")","v":""},{"$f":"IF('Outil Recensement simplifié'!L58>0,'Outil Recensement simplifié'!L58,\"\")","v":""},{"$f":"IF('Outil Recensement simplifié'!M58=\"Homme\",\"Male\",IF('Outil Recensement simplifié'!M58=\"Femme\",\"Female\",IF('Outil Recensement simplifié'!M58=\"H\",\"Male\",IF('Outil Recensement simplifié'!M58=\"F\",\"Female\",\"\"))))","v":""},{"$f":"IF('Outil Recensement simplifié'!N58=\"Oui\",\"Yes\",IF('Outil Recensement simplifié'!N58=\"Non\",\"No\",IF('Outil Recensement simplifié'!N58=\"O\",\"Yes\",IF('Outil Recensement simplifié'!N58=\"N\",\"No\",\"\"))))","v":""},{"$f":"IF('Outil Recensement simplifié'!O58=\"Non\",\"Single\",IF('Outil Recensement simplifié'!O58=\"Oui\",\"Family\",IF('Outil Recensement simplifié'!O58=\"N\",\"Single\",IF('Outil Recensement simplifié'!O58=\"O\",\"Family\",IF('Outil Recensement simplifié'!O58=\"En vigueur\",\"Family\",\"\")))))","v":""},{"$f":"IF('Outil Recensement simplifié'!P58=\"Anglais\",\"English\",IF('Outil Recensement simplifié'!P58=\"Français\",\"French\",IF('Outil Recensement simplifié'!P58=\"A\",\"English\",IF('Outil Recensement simplifié'!P58=\"F\",\"French\",\"\"))))","v":""},{"$f":"IF('Outil Recensement simplifié'!Q58=\"Oui\",\"Yes\",IF('Outil Recensement simplifié'!Q58=\"Non\",\"No\",IF('Outil Recensement simplifié'!Q58=\"O\",\"Yes\",IF('Outil Recensement simplifié'!Q58=\"N\",\"No\",\"\"))))","v":""},{"$f":"IF('Outil Recensement simplifié'!R58>0,'Outil Recensement simplifié'!R58,\"\")","v":""},{"$f":"IF('Outil Recensement simplifié'!S58=\"Annuelle\",\"Annually\",IF('Outil Recensement simplifié'!S58=\"Mensuelle\",\"Monthly\",IF('Outil Recensement simplifié'!S58=\"Aux deux semaines\",\"Biweekly\",IF('Outil Recensement simplifié'!S58=\"Bimensuelle\",\"Semi-Monthly\",IF('Outil Recensement simplifié'!S58=\"Hebdomadaire\",\"Weekly\",IF('Outil Recensement simplifié'!S58=\"Horaire\",\"Hourly\",\"\"))))))","v":""},{"$f":"IF('Outil Recensement simplifié'!T58>0,'Outil Recensement simplifié'!T58,\"\")","v":""},{"$f":"IF('Outil Recensement simplifié'!U58>0,'Outil Recensement simplifié'!U58,\"\")","v":""},{"$f":"IF('Outil Recensement simplifié'!V58=\"Exemptée\",\"Yes\",\"\")","v":""},{"$f":"IF('Outil Recensement simplifié'!W58=\"Exemptée\",\"Yes\",\"\")","v":""},{"$f":"IF('Outil Recensement simplifié'!X58>0,'Outil Recensement simplifié'!X58,\"\")","v":""},{"$f":"IF('Outil Recensement simplifié'!Y58>0,'Outil Recensement simplifié'!Y58,\"\")","v":""},{"$f":"IF('Outil Recensement simplifié'!Z58>0,'Outil Recensement simplifié'!Z58,\"\")","v":""},{"$f":"IF('Outil Recensement simplifié'!AA58>0,'Outil Recensement simplifié'!AA58,\"\")","v":""},{"$f":"IF('Outil Recensement simplifié'!AB58>0,'Outil Recensement simplifié'!AB58,\"\")","v":""},{"$f":"IF('Outil Recensement simplifié'!AC58>0,'Outil Recensement simplifié'!AC58,\"\")","v":" "},{"$f":"IF('Outil Recensement simplifié'!AE58>0,'Outil Recensement simplifié'!AE58&\" \",\"\")&IF('Outil Recensement simplifié'!AD58>0,'Outil Recensement simplifié'!AD58,\"\")","v":""},null,{"$f":"IF('Outil Recensement simplifié'!AF58>0,'Outil Recensement simplifié'!AF58,\"\")","v":""},{"$f":"IF('Outil Recensement simplifié'!AG58>0,'Outil Recensement simplifié'!AG58,\"\")","v":""},{"$f":"IF('Outil Recensement simplifié'!AH58>0,'Outil Recensement simplifié'!AH58,\"\")","v":""},{"$f":"IF('Outil Recensement simplifié'!AI58>0,'Outil Recensement simplifié'!AI58,\"\")","v":""},{"$f":"IF('Outil Recensement simplifié'!AJ58>0,'Outil Recensement simplifié'!AJ58,\"\")","v":""},{"$f":"IF('Outil Recensement simplifié'!AK58>0,'Outil Recensement simplifié'!AK58,\"\")","v":""},{"$f":"IF('Outil Recensement simplifié'!AL58>0,'Outil Recensement simplifié'!AL58,\"\")","v":""},{"$f":"IF('Outil Recensement simplifié'!AM58>0,'Outil Recensement simplifié'!AM58,\"\")","v":""},{"$f":"IF('Outil Recensement simplifié'!AN58=\"Homme\",\"Male\",IF('Outil Recensement simplifié'!AN58=\"Femme\",\"Female\",IF('Outil Recensement simplifié'!AN58=\"H\",\"Male\",IF('Outil Recensement simplifié'!AN58=\"F\",\"Female\",\"\"))))","v":""},{"$f":"IF('Outil Recensement simplifié'!AO58=\"Individuelle\",\"Single\",IF('Outil Recensement simplifié'!AO58=\"Famille\",\"Family\",IF('Outil Recensement simplifié'!AO58=\"Individuel\",\"Single\",IF('Outil Recensement simplifié'!AO58=\"Familiale\",\"Family\",IF('Outil Recensement simplifié'!AO58=\"I\",\"Single\",IF('Outil Recensement simplifié'!AO58=\"F\",\"Family\",\"\"))))))","v":""},{"$f":"IF('Outil Recensement simplifié'!AP58=\"Individuelle\",\"Single\",IF('Outil Recensement simplifié'!AP58=\"Famille\",\"Family\",IF('Outil Recensement simplifié'!AP58=\"Individuel\",\"Single\",IF('Outil Recensement simplifié'!AP58=\"Familiale\",\"Family\",IF('Outil Recensement simplifié'!AP58=\"I\",\"Single\",IF('Outil Recensement simplifié'!AP58=\"F\",\"Family\",\"\"))))))","v":""},{"$f":"IF('Outil Recensement simplifié'!AQ58>0,'Outil Recensement simplifié'!AQ58,\"\")","v":""},{"$f":"IF('Outil Recensement simplifié'!AR58=\"Oui\",\"Yes\",IF('Outil Recensement simplifié'!AR58=\"Non\",\"No\",IF('Outil Recensement simplifié'!AR58=\"O\",\"Yes\",IF('Outil Recensement simplifié'!AR58=\"N\",\"No\",\"\"))))","v":""},{"$f":"IF('Outil Recensement simplifié'!AS58>0,'Outil Recensement simplifié'!AS58,\"\")","v":""},{"$f":"IF('Outil Recensement simplifié'!AT58>0,'Outil Recensement simplifié'!AT58,\"\")","v":""},{"$f":"IF('Outil Recensement simplifié'!AU58>0,'Outil Recensement simplifié'!AU58,\"\")","v":""},{"$f":"IF('Outil Recensement simplifié'!AV58=\"Homme\",\"Male\",IF('Outil Recensement simplifié'!AV58=\"Femme\",\"Female\",IF('Outil Recensement simplifié'!AV58=\"H\",\"Male\",IF('Outil Recensement simplifié'!AV58=\"F\",\"Female\",\"\"))))","v":""},{"$f":"IF('Outil Recensement simplifié'!AW58=\"Oui\",\"Yes\",IF('Outil Recensement simplifié'!AW58=\"Non\",\"No\",IF('Outil Recensement simplifié'!AW58=\"O\",\"Yes\",IF('Outil Recensement simplifié'!AW58=\"N\",\"No\",\"\"))))","v":""},{"$f":"IF('Outil Recensement simplifié'!AX58=\"Oui\",\"Yes\",IF('Outil Recensement simplifié'!AX58=\"Non\",\"No\",IF('Outil Recensement simplifié'!AX58=\"O\",\"Yes\",IF('Outil Recensement simplifié'!AX58=\"N\",\"No\",\"\"))))","v":""},{"$f":"IF('Outil Recensement simplifié'!AY58>0,'Outil Recensement simplifié'!AY58,\"\")","v":""},{"$f":"IF('Outil Recensement simplifié'!AZ58>0,'Outil Recensement simplifié'!AZ58,\"\")","v":""},{"$f":"IF('Outil Recensement simplifié'!BA58>0,'Outil Recensement simplifié'!BA58,\"\")","v":""},{"$f":"IF('Outil Recensement simplifié'!BB58=\"Homme\",\"Male\",IF('Outil Recensement simplifié'!BB58=\"Femme\",\"Female\",IF('Outil Recensement simplifié'!BB58=\"H\",\"Male\",IF('Outil Recensement simplifié'!BB58=\"F\",\"Female\",\"\"))))","v":""},{"$f":"IF('Outil Recensement simplifié'!BC58=\"Oui\",\"Yes\",IF('Outil Recensement simplifié'!BC58=\"Non\",\"No\",IF('Outil Recensement simplifié'!BC58=\"O\",\"Yes\",IF('Outil Recensement simplifié'!BC58=\"N\",\"No\",\"\"))))","v":""},{"$f":"IF('Outil Recensement simplifié'!BD58=\"Oui\",\"Yes\",IF('Outil Recensement simplifié'!BD58=\"Non\",\"No\",IF('Outil Recensement simplifié'!BD58=\"O\",\"Yes\",IF('Outil Recensement simplifié'!BD58=\"N\",\"No\",\"\"))))","v":""},{"$f":"IF('Outil Recensement simplifié'!BE58>0,'Outil Recensement simplifié'!BE58,\"\")","v":""},{"$f":"IF('Outil Recensement simplifié'!BF58>0,'Outil Recensement simplifié'!BF58,\"\")","v":""},{"$f":"IF('Outil Recensement simplifié'!BG58>0,'Outil Recensement simplifié'!BG58,\"\")","v":""},{"$f":"IF('Outil Recensement simplifié'!BH58=\"Homme\",\"Male\",IF('Outil Recensement simplifié'!BH58=\"Femme\",\"Female\",IF('Outil Recensement simplifié'!BH58=\"H\",\"Male\",IF('Outil Recensement simplifié'!BH58=\"F\",\"Female\",\"\"))))","v":""},{"$f":"IF('Outil Recensement simplifié'!BI58=\"Oui\",\"Yes\",IF('Outil Recensement simplifié'!BI58=\"Non\",\"No\",IF('Outil Recensement simplifié'!BI58=\"O\",\"Yes\",IF('Outil Recensement simplifié'!BI58=\"N\",\"No\",\"\"))))","v":""},{"$f":"IF('Outil Recensement simplifié'!BJ58=\"Oui\",\"Yes\",IF('Outil Recensement simplifié'!BJ58=\"Non\",\"No\",IF('Outil Recensement simplifié'!BJ58=\"O\",\"Yes\",IF('Outil Recensement simplifié'!BJ58=\"N\",\"No\",\"\"))))","v":""},{"$f":"IF('Outil Recensement simplifié'!BK58>0,'Outil Recensement simplifié'!BK58,\"\")","v":""},{"$f":"IF('Outil Recensement simplifié'!BL58>0,'Outil Recensement simplifié'!BL58,\"\")","v":""},{"$f":"IF('Outil Recensement simplifié'!BM58>0,'Outil Recensement simplifié'!BM58,\"\")","v":""},{"$f":"IF('Outil Recensement simplifié'!BN58=\"Homme\",\"Male\",IF('Outil Recensement simplifié'!BN58=\"Femme\",\"Female\",IF('Outil Recensement simplifié'!BN58=\"H\",\"Male\",IF('Outil Recensement simplifié'!BN58=\"F\",\"Female\",\"\"))))","v":""},{"$f":"IF('Outil Recensement simplifié'!BO58=\"Oui\",\"Yes\",IF('Outil Recensement simplifié'!BO58=\"Non\",\"No\",IF('Outil Recensement simplifié'!BO58=\"O\",\"Yes\",IF('Outil Recensement simplifié'!BO58=\"N\",\"No\",\"\"))))","v":""},{"$f":"IF('Outil Recensement simplifié'!BP58=\"Oui\",\"Yes\",IF('Outil Recensement simplifié'!BP58=\"Non\",\"No\",IF('Outil Recensement simplifié'!BP58=\"O\",\"Yes\",IF('Outil Recensement simplifié'!BP58=\"N\",\"No\",\"\"))))","v":""},{"$f":"IF('Outil Recensement simplifié'!BQ58>0,'Outil Recensement simplifié'!BQ58,\"\")","v":""},{"$f":"IF('Outil Recensement simplifié'!BR58>0,'Outil Recensement simplifié'!BR58,\"\")","v":""},{"$f":"IF('Outil Recensement simplifié'!BS58>0,'Outil Recensement simplifié'!BS58,\"\")","v":""},{"$f":"IF('Outil Recensement simplifié'!BT58=\"Homme\",\"Male\",IF('Outil Recensement simplifié'!BT58=\"Femme\",\"Female\",IF('Outil Recensement simplifié'!BT58=\"H\",\"Male\",IF('Outil Recensement simplifié'!BT58=\"F\",\"Female\",\"\"))))","v":""},{"$f":"IF('Outil Recensement simplifié'!BU58=\"Oui\",\"Yes\",IF('Outil Recensement simplifié'!BU58=\"Non\",\"No\",IF('Outil Recensement simplifié'!BU58=\"O\",\"Yes\",IF('Outil Recensement simplifié'!BU58=\"N\",\"No\",\"\"))))","v":""},{"$f":"IF('Outil Recensement simplifié'!BV58=\"Oui\",\"Yes\",IF('Outil Recensement simplifié'!BV58=\"Non\",\"No\",IF('Outil Recensement simplifié'!BV58=\"O\",\"Yes\",IF('Outil Recensement simplifié'!BV58=\"N\",\"No\",\"\"))))","v":""},{"$f":"IF('Outil Recensement simplifié'!BW58>0,'Outil Recensement simplifié'!BW58,\"\")","v":""},{"$f":"IF('Outil Recensement simplifié'!BX58>0,'Outil Recensement simplifié'!BX58,\"\")","v":""},{"$f":"IF('Outil Recensement simplifié'!BY58>0,'Outil Recensement simplifié'!BY58,\"\")","v":""},{"$f":"IF('Outil Recensement simplifié'!BZ58=\"Homme\",\"Male\",IF('Outil Recensement simplifié'!BZ58=\"Femme\",\"Female\",IF('Outil Recensement simplifié'!BZ58=\"H\",\"Male\",IF('Outil Recensement simplifié'!BZ58=\"F\",\"Female\",\"\"))))","v":""},{"$f":"IF('Outil Recensement simplifié'!CA58=\"Oui\",\"Yes\",IF('Outil Recensement simplifié'!CA58=\"Non\",\"No\",IF('Outil Recensement simplifié'!CA58=\"O\",\"Yes\",IF('Outil Recensement simplifié'!CA58=\"N\",\"No\",\"\"))))","v":""},{"$f":"IF('Outil Recensement simplifié'!CB58=\"Oui\",\"Yes\",IF('Outil Recensement simplifié'!CB58=\"Non\",\"No\",IF('Outil Recensement simplifié'!CB58=\"O\",\"Yes\",IF('Outil Recensement simplifié'!CB58=\"N\",\"No\",\"\"))))","v":""},{"$f":"IF('Outil Recensement simplifié'!CH58>0,'Outil Recensement simplifié'!CH58,\"\")","v":"    "}]
[{"$f":"IF('Outil Recensement simplifié'!A59>0,'Outil Recensement simplifié'!A59,\"\")","v":""},{"$f":"IF('Outil Recensement simplifié'!B59>0,'Outil Recensement simplifié'!B59,\"\")","v":""},{"$f":"IF('Outil Recensement simplifié'!C59>0,'Outil Recensement simplifié'!C59,\"\")","v":""},{"$f":"IF('Outil Recensement simplifié'!D59>0,'Outil Recensement simplifié'!D59,\"\")","v":""},{"$f":"IF('Outil Recensement simplifié'!E59>0,TEXT('Outil Recensement simplifié'!E59,\"000\"),\"\")","v":""},{"$f":"IF('Outil Recensement simplifié'!F59>0,'Outil Recensement simplifié'!F59,\"\")","v":""},{"$f":"IF('Outil Recensement simplifié'!G59>0,'Outil Recensement simplifié'!G59,\"\")","v":""},{"$f":"IF('Outil Recensement simplifié'!I59>0,'Outil Recensement simplifié'!I59,\"\")","v":""},{"$f":"IF('Outil Recensement simplifié'!J59>0,'Outil Recensement simplifié'!J59,\"\")","v":""},{"$f":"IF('Outil Recensement simplifié'!K59>0,'Outil Recensement simplifié'!K59,\"\")","v":""},{"$f":"IF('Outil Recensement simplifié'!L59>0,'Outil Recensement simplifié'!L59,\"\")","v":""},{"$f":"IF('Outil Recensement simplifié'!M59=\"Homme\",\"Male\",IF('Outil Recensement simplifié'!M59=\"Femme\",\"Female\",IF('Outil Recensement simplifié'!M59=\"H\",\"Male\",IF('Outil Recensement simplifié'!M59=\"F\",\"Female\",\"\"))))","v":""},{"$f":"IF('Outil Recensement simplifié'!N59=\"Oui\",\"Yes\",IF('Outil Recensement simplifié'!N59=\"Non\",\"No\",IF('Outil Recensement simplifié'!N59=\"O\",\"Yes\",IF('Outil Recensement simplifié'!N59=\"N\",\"No\",\"\"))))","v":""},{"$f":"IF('Outil Recensement simplifié'!O59=\"Non\",\"Single\",IF('Outil Recensement simplifié'!O59=\"Oui\",\"Family\",IF('Outil Recensement simplifié'!O59=\"N\",\"Single\",IF('Outil Recensement simplifié'!O59=\"O\",\"Family\",IF('Outil Recensement simplifié'!O59=\"En vigueur\",\"Family\",\"\")))))","v":""},{"$f":"IF('Outil Recensement simplifié'!P59=\"Anglais\",\"English\",IF('Outil Recensement simplifié'!P59=\"Français\",\"French\",IF('Outil Recensement simplifié'!P59=\"A\",\"English\",IF('Outil Recensement simplifié'!P59=\"F\",\"French\",\"\"))))","v":""},{"$f":"IF('Outil Recensement simplifié'!Q59=\"Oui\",\"Yes\",IF('Outil Recensement simplifié'!Q59=\"Non\",\"No\",IF('Outil Recensement simplifié'!Q59=\"O\",\"Yes\",IF('Outil Recensement simplifié'!Q59=\"N\",\"No\",\"\"))))","v":""},{"$f":"IF('Outil Recensement simplifié'!R59>0,'Outil Recensement simplifié'!R59,\"\")","v":""},{"$f":"IF('Outil Recensement simplifié'!S59=\"Annuelle\",\"Annually\",IF('Outil Recensement simplifié'!S59=\"Mensuelle\",\"Monthly\",IF('Outil Recensement simplifié'!S59=\"Aux deux semaines\",\"Biweekly\",IF('Outil Recensement simplifié'!S59=\"Bimensuelle\",\"Semi-Monthly\",IF('Outil Recensement simplifié'!S59=\"Hebdomadaire\",\"Weekly\",IF('Outil Recensement simplifié'!S59=\"Horaire\",\"Hourly\",\"\"))))))","v":""},{"$f":"IF('Outil Recensement simplifié'!T59>0,'Outil Recensement simplifié'!T59,\"\")","v":""},{"$f":"IF('Outil Recensement simplifié'!U59>0,'Outil Recensement simplifié'!U59,\"\")","v":""},{"$f":"IF('Outil Recensement simplifié'!V59=\"Exemptée\",\"Yes\",\"\")","v":""},{"$f":"IF('Outil Recensement simplifié'!W59=\"Exemptée\",\"Yes\",\"\")","v":""},{"$f":"IF('Outil Recensement simplifié'!X59>0,'Outil Recensement simplifié'!X59,\"\")","v":""},{"$f":"IF('Outil Recensement simplifié'!Y59>0,'Outil Recensement simplifié'!Y59,\"\")","v":""},{"$f":"IF('Outil Recensement simplifié'!Z59>0,'Outil Recensement simplifié'!Z59,\"\")","v":""},{"$f":"IF('Outil Recensement simplifié'!AA59>0,'Outil Recensement simplifié'!AA59,\"\")","v":""},{"$f":"IF('Outil Recensement simplifié'!AB59>0,'Outil Recensement simplifié'!AB59,\"\")","v":""},{"$f":"IF('Outil Recensement simplifié'!AC59>0,'Outil Recensement simplifié'!AC59,\"\")","v":" "},{"$f":"IF('Outil Recensement simplifié'!AE59>0,'Outil Recensement simplifié'!AE59&\" \",\"\")&IF('Outil Recensement simplifié'!AD59>0,'Outil Recensement simplifié'!AD59,\"\")","v":""},null,{"$f":"IF('Outil Recensement simplifié'!AF59>0,'Outil Recensement simplifié'!AF59,\"\")","v":""},{"$f":"IF('Outil Recensement simplifié'!AG59>0,'Outil Recensement simplifié'!AG59,\"\")","v":""},{"$f":"IF('Outil Recensement simplifié'!AH59>0,'Outil Recensement simplifié'!AH59,\"\")","v":""},{"$f":"IF('Outil Recensement simplifié'!AI59>0,'Outil Recensement simplifié'!AI59,\"\")","v":""},{"$f":"IF('Outil Recensement simplifié'!AJ59>0,'Outil Recensement simplifié'!AJ59,\"\")","v":""},{"$f":"IF('Outil Recensement simplifié'!AK59>0,'Outil Recensement simplifié'!AK59,\"\")","v":""},{"$f":"IF('Outil Recensement simplifié'!AL59>0,'Outil Recensement simplifié'!AL59,\"\")","v":""},{"$f":"IF('Outil Recensement simplifié'!AM59>0,'Outil Recensement simplifié'!AM59,\"\")","v":""},{"$f":"IF('Outil Recensement simplifié'!AN59=\"Homme\",\"Male\",IF('Outil Recensement simplifié'!AN59=\"Femme\",\"Female\",IF('Outil Recensement simplifié'!AN59=\"H\",\"Male\",IF('Outil Recensement simplifié'!AN59=\"F\",\"Female\",\"\"))))","v":""},{"$f":"IF('Outil Recensement simplifié'!AO59=\"Individuelle\",\"Single\",IF('Outil Recensement simplifié'!AO59=\"Famille\",\"Family\",IF('Outil Recensement simplifié'!AO59=\"Individuel\",\"Single\",IF('Outil Recensement simplifié'!AO59=\"Familiale\",\"Family\",IF('Outil Recensement simplifié'!AO59=\"I\",\"Single\",IF('Outil Recensement simplifié'!AO59=\"F\",\"Family\",\"\"))))))","v":""},{"$f":"IF('Outil Recensement simplifié'!AP59=\"Individuelle\",\"Single\",IF('Outil Recensement simplifié'!AP59=\"Famille\",\"Family\",IF('Outil Recensement simplifié'!AP59=\"Individuel\",\"Single\",IF('Outil Recensement simplifié'!AP59=\"Familiale\",\"Family\",IF('Outil Recensement simplifié'!AP59=\"I\",\"Single\",IF('Outil Recensement simplifié'!AP59=\"F\",\"Family\",\"\"))))))","v":""},{"$f":"IF('Outil Recensement simplifié'!AQ59>0,'Outil Recensement simplifié'!AQ59,\"\")","v":""},{"$f":"IF('Outil Recensement simplifié'!AR59=\"Oui\",\"Yes\",IF('Outil Recensement simplifié'!AR59=\"Non\",\"No\",IF('Outil Recensement simplifié'!AR59=\"O\",\"Yes\",IF('Outil Recensement simplifié'!AR59=\"N\",\"No\",\"\"))))","v":""},{"$f":"IF('Outil Recensement simplifié'!AS59>0,'Outil Recensement simplifié'!AS59,\"\")","v":""},{"$f":"IF('Outil Recensement simplifié'!AT59>0,'Outil Recensement simplifié'!AT59,\"\")","v":""},{"$f":"IF('Outil Recensement simplifié'!AU59>0,'Outil Recensement simplifié'!AU59,\"\")","v":""},{"$f":"IF('Outil Recensement simplifié'!AV59=\"Homme\",\"Male\",IF('Outil Recensement simplifié'!AV59=\"Femme\",\"Female\",IF('Outil Recensement simplifié'!AV59=\"H\",\"Male\",IF('Outil Recensement simplifié'!AV59=\"F\",\"Female\",\"\"))))","v":""},{"$f":"IF('Outil Recensement simplifié'!AW59=\"Oui\",\"Yes\",IF('Outil Recensement simplifié'!AW59=\"Non\",\"No\",IF('Outil Recensement simplifié'!AW59=\"O\",\"Yes\",IF('Outil Recensement simplifié'!AW59=\"N\",\"No\",\"\"))))","v":""},{"$f":"IF('Outil Recensement simplifié'!AX59=\"Oui\",\"Yes\",IF('Outil Recensement simplifié'!AX59=\"Non\",\"No\",IF('Outil Recensement simplifié'!AX59=\"O\",\"Yes\",IF('Outil Recensement simplifié'!AX59=\"N\",\"No\",\"\"))))","v":""},{"$f":"IF('Outil Recensement simplifié'!AY59>0,'Outil Recensement simplifié'!AY59,\"\")","v":""},{"$f":"IF('Outil Recensement simplifié'!AZ59>0,'Outil Recensement simplifié'!AZ59,\"\")","v":""},{"$f":"IF('Outil Recensement simplifié'!BA59>0,'Outil Recensement simplifié'!BA59,\"\")","v":""},{"$f":"IF('Outil Recensement simplifié'!BB59=\"Homme\",\"Male\",IF('Outil Recensement simplifié'!BB59=\"Femme\",\"Female\",IF('Outil Recensement simplifié'!BB59=\"H\",\"Male\",IF('Outil Recensement simplifié'!BB59=\"F\",\"Female\",\"\"))))","v":""},{"$f":"IF('Outil Recensement simplifié'!BC59=\"Oui\",\"Yes\",IF('Outil Recensement simplifié'!BC59=\"Non\",\"No\",IF('Outil Recensement simplifié'!BC59=\"O\",\"Yes\",IF('Outil Recensement simplifié'!BC59=\"N\",\"No\",\"\"))))","v":""},{"$f":"IF('Outil Recensement simplifié'!BD59=\"Oui\",\"Yes\",IF('Outil Recensement simplifié'!BD59=\"Non\",\"No\",IF('Outil Recensement simplifié'!BD59=\"O\",\"Yes\",IF('Outil Recensement simplifié'!BD59=\"N\",\"No\",\"\"))))","v":""},{"$f":"IF('Outil Recensement simplifié'!BE59>0,'Outil Recensement simplifié'!BE59,\"\")","v":""},{"$f":"IF('Outil Recensement simplifié'!BF59>0,'Outil Recensement simplifié'!BF59,\"\")","v":""},{"$f":"IF('Outil Recensement simplifié'!BG59>0,'Outil Recensement simplifié'!BG59,\"\")","v":""},{"$f":"IF('Outil Recensement simplifié'!BH59=\"Homme\",\"Male\",IF('Outil Recensement simplifié'!BH59=\"Femme\",\"Female\",IF('Outil Recensement simplifié'!BH59=\"H\",\"Male\",IF('Outil Recensement simplifié'!BH59=\"F\",\"Female\",\"\"))))","v":""},{"$f":"IF('Outil Recensement simplifié'!BI59=\"Oui\",\"Yes\",IF('Outil Recensement simplifié'!BI59=\"Non\",\"No\",IF('Outil Recensement simplifié'!BI59=\"O\",\"Yes\",IF('Outil Recensement simplifié'!BI59=\"N\",\"No\",\"\"))))","v":""},{"$f":"IF('Outil Recensement simplifié'!BJ59=\"Oui\",\"Yes\",IF('Outil Recensement simplifié'!BJ59=\"Non\",\"No\",IF('Outil Recensement simplifié'!BJ59=\"O\",\"Yes\",IF('Outil Recensement simplifié'!BJ59=\"N\",\"No\",\"\"))))","v":""},{"$f":"IF('Outil Recensement simplifié'!BK59>0,'Outil Recensement simplifié'!BK59,\"\")","v":""},{"$f":"IF('Outil Recensement simplifié'!BL59>0,'Outil Recensement simplifié'!BL59,\"\")","v":""},{"$f":"IF('Outil Recensement simplifié'!BM59>0,'Outil Recensement simplifié'!BM59,\"\")","v":""},{"$f":"IF('Outil Recensement simplifié'!BN59=\"Homme\",\"Male\",IF('Outil Recensement simplifié'!BN59=\"Femme\",\"Female\",IF('Outil Recensement simplifié'!BN59=\"H\",\"Male\",IF('Outil Recensement simplifié'!BN59=\"F\",\"Female\",\"\"))))","v":""},{"$f":"IF('Outil Recensement simplifié'!BO59=\"Oui\",\"Yes\",IF('Outil Recensement simplifié'!BO59=\"Non\",\"No\",IF('Outil Recensement simplifié'!BO59=\"O\",\"Yes\",IF('Outil Recensement simplifié'!BO59=\"N\",\"No\",\"\"))))","v":""},{"$f":"IF('Outil Recensement simplifié'!BP59=\"Oui\",\"Yes\",IF('Outil Recensement simplifié'!BP59=\"Non\",\"No\",IF('Outil Recensement simplifié'!BP59=\"O\",\"Yes\",IF('Outil Recensement simplifié'!BP59=\"N\",\"No\",\"\"))))","v":""},{"$f":"IF('Outil Recensement simplifié'!BQ59>0,'Outil Recensement simplifié'!BQ59,\"\")","v":""},{"$f":"IF('Outil Recensement simplifié'!BR59>0,'Outil Recensement simplifié'!BR59,\"\")","v":""},{"$f":"IF('Outil Recensement simplifié'!BS59>0,'Outil Recensement simplifié'!BS59,\"\")","v":""},{"$f":"IF('Outil Recensement simplifié'!BT59=\"Homme\",\"Male\",IF('Outil Recensement simplifié'!BT59=\"Femme\",\"Female\",IF('Outil Recensement simplifié'!BT59=\"H\",\"Male\",IF('Outil Recensement simplifié'!BT59=\"F\",\"Female\",\"\"))))","v":""},{"$f":"IF('Outil Recensement simplifié'!BU59=\"Oui\",\"Yes\",IF('Outil Recensement simplifié'!BU59=\"Non\",\"No\",IF('Outil Recensement simplifié'!BU59=\"O\",\"Yes\",IF('Outil Recensement simplifié'!BU59=\"N\",\"No\",\"\"))))","v":""},{"$f":"IF('Outil Recensement simplifié'!BV59=\"Oui\",\"Yes\",IF('Outil Recensement simplifié'!BV59=\"Non\",\"No\",IF('Outil Recensement simplifié'!BV59=\"O\",\"Yes\",IF('Outil Recensement simplifié'!BV59=\"N\",\"No\",\"\"))))","v":""},{"$f":"IF('Outil Recensement simplifié'!BW59>0,'Outil Recensement simplifié'!BW59,\"\")","v":""},{"$f":"IF('Outil Recensement simplifié'!BX59>0,'Outil Recensement simplifié'!BX59,\"\")","v":""},{"$f":"IF('Outil Recensement simplifié'!BY59>0,'Outil Recensement simplifié'!BY59,\"\")","v":""},{"$f":"IF('Outil Recensement simplifié'!BZ59=\"Homme\",\"Male\",IF('Outil Recensement simplifié'!BZ59=\"Femme\",\"Female\",IF('Outil Recensement simplifié'!BZ59=\"H\",\"Male\",IF('Outil Recensement simplifié'!BZ59=\"F\",\"Female\",\"\"))))","v":""},{"$f":"IF('Outil Recensement simplifié'!CA59=\"Oui\",\"Yes\",IF('Outil Recensement simplifié'!CA59=\"Non\",\"No\",IF('Outil Recensement simplifié'!CA59=\"O\",\"Yes\",IF('Outil Recensement simplifié'!CA59=\"N\",\"No\",\"\"))))","v":""},{"$f":"IF('Outil Recensement simplifié'!CB59=\"Oui\",\"Yes\",IF('Outil Recensement simplifié'!CB59=\"Non\",\"No\",IF('Outil Recensement simplifié'!CB59=\"O\",\"Yes\",IF('Outil Recensement simplifié'!CB59=\"N\",\"No\",\"\"))))","v":""},{"$f":"IF('Outil Recensement simplifié'!CH59>0,'Outil Recensement simplifié'!CH59,\"\")","v":"    "}]
[{"$f":"IF('Outil Recensement simplifié'!A60>0,'Outil Recensement simplifié'!A60,\"\")","v":""},{"$f":"IF('Outil Recensement simplifié'!B60>0,'Outil Recensement simplifié'!B60,\"\")","v":""},{"$f":"IF('Outil Recensement simplifié'!C60>0,'Outil Recensement simplifié'!C60,\"\")","v":""},{"$f":"IF('Outil Recensement simplifié'!D60>0,'Outil Recensement simplifié'!D60,\"\")","v":""},{"$f":"IF('Outil Recensement simplifié'!E60>0,TEXT('Outil Recensement simplifié'!E60,\"000\"),\"\")","v":""},{"$f":"IF('Outil Recensement simplifié'!F60>0,'Outil Recensement simplifié'!F60,\"\")","v":""},{"$f":"IF('Outil Recensement simplifié'!G60>0,'Outil Recensement simplifié'!G60,\"\")","v":""},{"$f":"IF('Outil Recensement simplifié'!I60>0,'Outil Recensement simplifié'!I60,\"\")","v":""},{"$f":"IF('Outil Recensement simplifié'!J60>0,'Outil Recensement simplifié'!J60,\"\")","v":""},{"$f":"IF('Outil Recensement simplifié'!K60>0,'Outil Recensement simplifié'!K60,\"\")","v":""},{"$f":"IF('Outil Recensement simplifié'!L60>0,'Outil Recensement simplifié'!L60,\"\")","v":""},{"$f":"IF('Outil Recensement simplifié'!M60=\"Homme\",\"Male\",IF('Outil Recensement simplifié'!M60=\"Femme\",\"Female\",IF('Outil Recensement simplifié'!M60=\"H\",\"Male\",IF('Outil Recensement simplifié'!M60=\"F\",\"Female\",\"\"))))","v":""},{"$f":"IF('Outil Recensement simplifié'!N60=\"Oui\",\"Yes\",IF('Outil Recensement simplifié'!N60=\"Non\",\"No\",IF('Outil Recensement simplifié'!N60=\"O\",\"Yes\",IF('Outil Recensement simplifié'!N60=\"N\",\"No\",\"\"))))","v":""},{"$f":"IF('Outil Recensement simplifié'!O60=\"Non\",\"Single\",IF('Outil Recensement simplifié'!O60=\"Oui\",\"Family\",IF('Outil Recensement simplifié'!O60=\"N\",\"Single\",IF('Outil Recensement simplifié'!O60=\"O\",\"Family\",IF('Outil Recensement simplifié'!O60=\"En vigueur\",\"Family\",\"\")))))","v":""},{"$f":"IF('Outil Recensement simplifié'!P60=\"Anglais\",\"English\",IF('Outil Recensement simplifié'!P60=\"Français\",\"French\",IF('Outil Recensement simplifié'!P60=\"A\",\"English\",IF('Outil Recensement simplifié'!P60=\"F\",\"French\",\"\"))))","v":""},{"$f":"IF('Outil Recensement simplifié'!Q60=\"Oui\",\"Yes\",IF('Outil Recensement simplifié'!Q60=\"Non\",\"No\",IF('Outil Recensement simplifié'!Q60=\"O\",\"Yes\",IF('Outil Recensement simplifié'!Q60=\"N\",\"No\",\"\"))))","v":""},{"$f":"IF('Outil Recensement simplifié'!R60>0,'Outil Recensement simplifié'!R60,\"\")","v":""},{"$f":"IF('Outil Recensement simplifié'!S60=\"Annuelle\",\"Annually\",IF('Outil Recensement simplifié'!S60=\"Mensuelle\",\"Monthly\",IF('Outil Recensement simplifié'!S60=\"Aux deux semaines\",\"Biweekly\",IF('Outil Recensement simplifié'!S60=\"Bimensuelle\",\"Semi-Monthly\",IF('Outil Recensement simplifié'!S60=\"Hebdomadaire\",\"Weekly\",IF('Outil Recensement simplifié'!S60=\"Horaire\",\"Hourly\",\"\"))))))","v":""},{"$f":"IF('Outil Recensement simplifié'!T60>0,'Outil Recensement simplifié'!T60,\"\")","v":""},{"$f":"IF('Outil Recensement simplifié'!U60>0,'Outil Recensement simplifié'!U60,\"\")","v":""},{"$f":"IF('Outil Recensement simplifié'!V60=\"Exemptée\",\"Yes\",\"\")","v":""},{"$f":"IF('Outil Recensement simplifié'!W60=\"Exemptée\",\"Yes\",\"\")","v":""},{"$f":"IF('Outil Recensement simplifié'!X60>0,'Outil Recensement simplifié'!X60,\"\")","v":""},{"$f":"IF('Outil Recensement simplifié'!Y60>0,'Outil Recensement simplifié'!Y60,\"\")","v":""},{"$f":"IF('Outil Recensement simplifié'!Z60>0,'Outil Recensement simplifié'!Z60,\"\")","v":""},{"$f":"IF('Outil Recensement simplifié'!AA60>0,'Outil Recensement simplifié'!AA60,\"\")","v":""},{"$f":"IF('Outil Recensement simplifié'!AB60>0,'Outil Recensement simplifié'!AB60,\"\")","v":""},{"$f":"IF('Outil Recensement simplifié'!AC60>0,'Outil Recensement simplifié'!AC60,\"\")","v":" "},{"$f":"IF('Outil Recensement simplifié'!AE60>0,'Outil Recensement simplifié'!AE60&\" \",\"\")&IF('Outil Recensement simplifié'!AD60>0,'Outil Recensement simplifié'!AD60,\"\")","v":""},null,{"$f":"IF('Outil Recensement simplifié'!AF60>0,'Outil Recensement simplifié'!AF60,\"\")","v":""},{"$f":"IF('Outil Recensement simplifié'!AG60>0,'Outil Recensement simplifié'!AG60,\"\")","v":""},{"$f":"IF('Outil Recensement simplifié'!AH60>0,'Outil Recensement simplifié'!AH60,\"\")","v":""},{"$f":"IF('Outil Recensement simplifié'!AI60>0,'Outil Recensement simplifié'!AI60,\"\")","v":""},{"$f":"IF('Outil Recensement simplifié'!AJ60>0,'Outil Recensement simplifié'!AJ60,\"\")","v":""},{"$f":"IF('Outil Recensement simplifié'!AK60>0,'Outil Recensement simplifié'!AK60,\"\")","v":""},{"$f":"IF('Outil Recensement simplifié'!AL60>0,'Outil Recensement simplifié'!AL60,\"\")","v":""},{"$f":"IF('Outil Recensement simplifié'!AM60>0,'Outil Recensement simplifié'!AM60,\"\")","v":""},{"$f":"IF('Outil Recensement simplifié'!AN60=\"Homme\",\"Male\",IF('Outil Recensement simplifié'!AN60=\"Femme\",\"Female\",IF('Outil Recensement simplifié'!AN60=\"H\",\"Male\",IF('Outil Recensement simplifié'!AN60=\"F\",\"Female\",\"\"))))","v":""},{"$f":"IF('Outil Recensement simplifié'!AO60=\"Individuelle\",\"Single\",IF('Outil Recensement simplifié'!AO60=\"Famille\",\"Family\",IF('Outil Recensement simplifié'!AO60=\"Individuel\",\"Single\",IF('Outil Recensement simplifié'!AO60=\"Familiale\",\"Family\",IF('Outil Recensement simplifié'!AO60=\"I\",\"Single\",IF('Outil Recensement simplifié'!AO60=\"F\",\"Family\",\"\"))))))","v":""},{"$f":"IF('Outil Recensement simplifié'!AP60=\"Individuelle\",\"Single\",IF('Outil Recensement simplifié'!AP60=\"Famille\",\"Family\",IF('Outil Recensement simplifié'!AP60=\"Individuel\",\"Single\",IF('Outil Recensement simplifié'!AP60=\"Familiale\",\"Family\",IF('Outil Recensement simplifié'!AP60=\"I\",\"Single\",IF('Outil Recensement simplifié'!AP60=\"F\",\"Family\",\"\"))))))","v":""},{"$f":"IF('Outil Recensement simplifié'!AQ60>0,'Outil Recensement simplifié'!AQ60,\"\")","v":""},{"$f":"IF('Outil Recensement simplifié'!AR60=\"Oui\",\"Yes\",IF('Outil Recensement simplifié'!AR60=\"Non\",\"No\",IF('Outil Recensement simplifié'!AR60=\"O\",\"Yes\",IF('Outil Recensement simplifié'!AR60=\"N\",\"No\",\"\"))))","v":""},{"$f":"IF('Outil Recensement simplifié'!AS60>0,'Outil Recensement simplifié'!AS60,\"\")","v":""},{"$f":"IF('Outil Recensement simplifié'!AT60>0,'Outil Recensement simplifié'!AT60,\"\")","v":""},{"$f":"IF('Outil Recensement simplifié'!AU60>0,'Outil Recensement simplifié'!AU60,\"\")","v":""},{"$f":"IF('Outil Recensement simplifié'!AV60=\"Homme\",\"Male\",IF('Outil Recensement simplifié'!AV60=\"Femme\",\"Female\",IF('Outil Recensement simplifié'!AV60=\"H\",\"Male\",IF('Outil Recensement simplifié'!AV60=\"F\",\"Female\",\"\"))))","v":""},{"$f":"IF('Outil Recensement simplifié'!AW60=\"Oui\",\"Yes\",IF('Outil Recensement simplifié'!AW60=\"Non\",\"No\",IF('Outil Recensement simplifié'!AW60=\"O\",\"Yes\",IF('Outil Recensement simplifié'!AW60=\"N\",\"No\",\"\"))))","v":""},{"$f":"IF('Outil Recensement simplifié'!AX60=\"Oui\",\"Yes\",IF('Outil Recensement simplifié'!AX60=\"Non\",\"No\",IF('Outil Recensement simplifié'!AX60=\"O\",\"Yes\",IF('Outil Recensement simplifié'!AX60=\"N\",\"No\",\"\"))))","v":""},{"$f":"IF('Outil Recensement simplifié'!AY60>0,'Outil Recensement simplifié'!AY60,\"\")","v":""},{"$f":"IF('Outil Recensement simplifié'!AZ60>0,'Outil Recensement simplifié'!AZ60,\"\")","v":""},{"$f":"IF('Outil Recensement simplifié'!BA60>0,'Outil Recensement simplifié'!BA60,\"\")","v":""},{"$f":"IF('Outil Recensement simplifié'!BB60=\"Homme\",\"Male\",IF('Outil Recensement simplifié'!BB60=\"Femme\",\"Female\",IF('Outil Recensement simplifié'!BB60=\"H\",\"Male\",IF('Outil Recensement simplifié'!BB60=\"F\",\"Female\",\"\"))))","v":""},{"$f":"IF('Outil Recensement simplifié'!BC60=\"Oui\",\"Yes\",IF('Outil Recensement simplifié'!BC60=\"Non\",\"No\",IF('Outil Recensement simplifié'!BC60=\"O\",\"Yes\",IF('Outil Recensement simplifié'!BC60=\"N\",\"No\",\"\"))))","v":""},{"$f":"IF('Outil Recensement simplifié'!BD60=\"Oui\",\"Yes\",IF('Outil Recensement simplifié'!BD60=\"Non\",\"No\",IF('Outil Recensement simplifié'!BD60=\"O\",\"Yes\",IF('Outil Recensement simplifié'!BD60=\"N\",\"No\",\"\"))))","v":""},{"$f":"IF('Outil Recensement simplifié'!BE60>0,'Outil Recensement simplifié'!BE60,\"\")","v":""},{"$f":"IF('Outil Recensement simplifié'!BF60>0,'Outil Recensement simplifié'!BF60,\"\")","v":""},{"$f":"IF('Outil Recensement simplifié'!BG60>0,'Outil Recensement simplifié'!BG60,\"\")","v":""},{"$f":"IF('Outil Recensement simplifié'!BH60=\"Homme\",\"Male\",IF('Outil Recensement simplifié'!BH60=\"Femme\",\"Female\",IF('Outil Recensement simplifié'!BH60=\"H\",\"Male\",IF('Outil Recensement simplifié'!BH60=\"F\",\"Female\",\"\"))))","v":""},{"$f":"IF('Outil Recensement simplifié'!BI60=\"Oui\",\"Yes\",IF('Outil Recensement simplifié'!BI60=\"Non\",\"No\",IF('Outil Recensement simplifié'!BI60=\"O\",\"Yes\",IF('Outil Recensement simplifié'!BI60=\"N\",\"No\",\"\"))))","v":""},{"$f":"IF('Outil Recensement simplifié'!BJ60=\"Oui\",\"Yes\",IF('Outil Recensement simplifié'!BJ60=\"Non\",\"No\",IF('Outil Recensement simplifié'!BJ60=\"O\",\"Yes\",IF('Outil Recensement simplifié'!BJ60=\"N\",\"No\",\"\"))))","v":""},{"$f":"IF('Outil Recensement simplifié'!BK60>0,'Outil Recensement simplifié'!BK60,\"\")","v":""},{"$f":"IF('Outil Recensement simplifié'!BL60>0,'Outil Recensement simplifié'!BL60,\"\")","v":""},{"$f":"IF('Outil Recensement simplifié'!BM60>0,'Outil Recensement simplifié'!BM60,\"\")","v":""},{"$f":"IF('Outil Recensement simplifié'!BN60=\"Homme\",\"Male\",IF('Outil Recensement simplifié'!BN60=\"Femme\",\"Female\",IF('Outil Recensement simplifié'!BN60=\"H\",\"Male\",IF('Outil Recensement simplifié'!BN60=\"F\",\"Female\",\"\"))))","v":""},{"$f":"IF('Outil Recensement simplifié'!BO60=\"Oui\",\"Yes\",IF('Outil Recensement simplifié'!BO60=\"Non\",\"No\",IF('Outil Recensement simplifié'!BO60=\"O\",\"Yes\",IF('Outil Recensement simplifié'!BO60=\"N\",\"No\",\"\"))))","v":""},{"$f":"IF('Outil Recensement simplifié'!BP60=\"Oui\",\"Yes\",IF('Outil Recensement simplifié'!BP60=\"Non\",\"No\",IF('Outil Recensement simplifié'!BP60=\"O\",\"Yes\",IF('Outil Recensement simplifié'!BP60=\"N\",\"No\",\"\"))))","v":""},{"$f":"IF('Outil Recensement simplifié'!BQ60>0,'Outil Recensement simplifié'!BQ60,\"\")","v":""},{"$f":"IF('Outil Recensement simplifié'!BR60>0,'Outil Recensement simplifié'!BR60,\"\")","v":""},{"$f":"IF('Outil Recensement simplifié'!BS60>0,'Outil Recensement simplifié'!BS60,\"\")","v":""},{"$f":"IF('Outil Recensement simplifié'!BT60=\"Homme\",\"Male\",IF('Outil Recensement simplifié'!BT60=\"Femme\",\"Female\",IF('Outil Recensement simplifié'!BT60=\"H\",\"Male\",IF('Outil Recensement simplifié'!BT60=\"F\",\"Female\",\"\"))))","v":""},{"$f":"IF('Outil Recensement simplifié'!BU60=\"Oui\",\"Yes\",IF('Outil Recensement simplifié'!BU60=\"Non\",\"No\",IF('Outil Recensement simplifié'!BU60=\"O\",\"Yes\",IF('Outil Recensement simplifié'!BU60=\"N\",\"No\",\"\"))))","v":""},{"$f":"IF('Outil Recensement simplifié'!BV60=\"Oui\",\"Yes\",IF('Outil Recensement simplifié'!BV60=\"Non\",\"No\",IF('Outil Recensement simplifié'!BV60=\"O\",\"Yes\",IF('Outil Recensement simplifié'!BV60=\"N\",\"No\",\"\"))))","v":""},{"$f":"IF('Outil Recensement simplifié'!BW60>0,'Outil Recensement simplifié'!BW60,\"\")","v":""},{"$f":"IF('Outil Recensement simplifié'!BX60>0,'Outil Recensement simplifié'!BX60,\"\")","v":""},{"$f":"IF('Outil Recensement simplifié'!BY60>0,'Outil Recensement simplifié'!BY60,\"\")","v":""},{"$f":"IF('Outil Recensement simplifié'!BZ60=\"Homme\",\"Male\",IF('Outil Recensement simplifié'!BZ60=\"Femme\",\"Female\",IF('Outil Recensement simplifié'!BZ60=\"H\",\"Male\",IF('Outil Recensement simplifié'!BZ60=\"F\",\"Female\",\"\"))))","v":""},{"$f":"IF('Outil Recensement simplifié'!CA60=\"Oui\",\"Yes\",IF('Outil Recensement simplifié'!CA60=\"Non\",\"No\",IF('Outil Recensement simplifié'!CA60=\"O\",\"Yes\",IF('Outil Recensement simplifié'!CA60=\"N\",\"No\",\"\"))))","v":""},{"$f":"IF('Outil Recensement simplifié'!CB60=\"Oui\",\"Yes\",IF('Outil Recensement simplifié'!CB60=\"Non\",\"No\",IF('Outil Recensement simplifié'!CB60=\"O\",\"Yes\",IF('Outil Recensement simplifié'!CB60=\"N\",\"No\",\"\"))))","v":""},{"$f":"IF('Outil Recensement simplifié'!CH60>0,'Outil Recensement simplifié'!CH60,\"\")","v":"    "}]
[{"$f":"IF('Outil Recensement simplifié'!A61>0,'Outil Recensement simplifié'!A61,\"\")","v":""},{"$f":"IF('Outil Recensement simplifié'!B61>0,'Outil Recensement simplifié'!B61,\"\")","v":""},{"$f":"IF('Outil Recensement simplifié'!C61>0,'Outil Recensement simplifié'!C61,\"\")","v":""},{"$f":"IF('Outil Recensement simplifié'!D61>0,'Outil Recensement simplifié'!D61,\"\")","v":""},{"$f":"IF('Outil Recensement simplifié'!E61>0,TEXT('Outil Recensement simplifié'!E61,\"000\"),\"\")","v":""},{"$f":"IF('Outil Recensement simplifié'!F61>0,'Outil Recensement simplifié'!F61,\"\")","v":""},{"$f":"IF('Outil Recensement simplifié'!G61>0,'Outil Recensement simplifié'!G61,\"\")","v":""},{"$f":"IF('Outil Recensement simplifié'!I61>0,'Outil Recensement simplifié'!I61,\"\")","v":""},{"$f":"IF('Outil Recensement simplifié'!J61>0,'Outil Recensement simplifié'!J61,\"\")","v":""},{"$f":"IF('Outil Recensement simplifié'!K61>0,'Outil Recensement simplifié'!K61,\"\")","v":""},{"$f":"IF('Outil Recensement simplifié'!L61>0,'Outil Recensement simplifié'!L61,\"\")","v":""},{"$f":"IF('Outil Recensement simplifié'!M61=\"Homme\",\"Male\",IF('Outil Recensement simplifié'!M61=\"Femme\",\"Female\",IF('Outil Recensement simplifié'!M61=\"H\",\"Male\",IF('Outil Recensement simplifié'!M61=\"F\",\"Female\",\"\"))))","v":""},{"$f":"IF('Outil Recensement simplifié'!N61=\"Oui\",\"Yes\",IF('Outil Recensement simplifié'!N61=\"Non\",\"No\",IF('Outil Recensement simplifié'!N61=\"O\",\"Yes\",IF('Outil Recensement simplifié'!N61=\"N\",\"No\",\"\"))))","v":""},{"$f":"IF('Outil Recensement simplifié'!O61=\"Non\",\"Single\",IF('Outil Recensement simplifié'!O61=\"Oui\",\"Family\",IF('Outil Recensement simplifié'!O61=\"N\",\"Single\",IF('Outil Recensement simplifié'!O61=\"O\",\"Family\",IF('Outil Recensement simplifié'!O61=\"En vigueur\",\"Family\",\"\")))))","v":""},{"$f":"IF('Outil Recensement simplifié'!P61=\"Anglais\",\"English\",IF('Outil Recensement simplifié'!P61=\"Français\",\"French\",IF('Outil Recensement simplifié'!P61=\"A\",\"English\",IF('Outil Recensement simplifié'!P61=\"F\",\"French\",\"\"))))","v":""},{"$f":"IF('Outil Recensement simplifié'!Q61=\"Oui\",\"Yes\",IF('Outil Recensement simplifié'!Q61=\"Non\",\"No\",IF('Outil Recensement simplifié'!Q61=\"O\",\"Yes\",IF('Outil Recensement simplifié'!Q61=\"N\",\"No\",\"\"))))","v":""},{"$f":"IF('Outil Recensement simplifié'!R61>0,'Outil Recensement simplifié'!R61,\"\")","v":""},{"$f":"IF('Outil Recensement simplifié'!S61=\"Annuelle\",\"Annually\",IF('Outil Recensement simplifié'!S61=\"Mensuelle\",\"Monthly\",IF('Outil Recensement simplifié'!S61=\"Aux deux semaines\",\"Biweekly\",IF('Outil Recensement simplifié'!S61=\"Bimensuelle\",\"Semi-Monthly\",IF('Outil Recensement simplifié'!S61=\"Hebdomadaire\",\"Weekly\",IF('Outil Recensement simplifié'!S61=\"Horaire\",\"Hourly\",\"\"))))))","v":""},{"$f":"IF('Outil Recensement simplifié'!T61>0,'Outil Recensement simplifié'!T61,\"\")","v":""},{"$f":"IF('Outil Recensement simplifié'!U61>0,'Outil Recensement simplifié'!U61,\"\")","v":""},{"$f":"IF('Outil Recensement simplifié'!V61=\"Exemptée\",\"Yes\",\"\")","v":""},{"$f":"IF('Outil Recensement simplifié'!W61=\"Exemptée\",\"Yes\",\"\")","v":""},{"$f":"IF('Outil Recensement simplifié'!X61>0,'Outil Recensement simplifié'!X61,\"\")","v":""},{"$f":"IF('Outil Recensement simplifié'!Y61>0,'Outil Recensement simplifié'!Y61,\"\")","v":""},{"$f":"IF('Outil Recensement simplifié'!Z61>0,'Outil Recensement simplifié'!Z61,\"\")","v":""},{"$f":"IF('Outil Recensement simplifié'!AA61>0,'Outil Recensement simplifié'!AA61,\"\")","v":""},{"$f":"IF('Outil Recensement simplifié'!AB61>0,'Outil Recensement simplifié'!AB61,\"\")","v":""},{"$f":"IF('Outil Recensement simplifié'!AC61>0,'Outil Recensement simplifié'!AC61,\"\")","v":" "},{"$f":"IF('Outil Recensement simplifié'!AE61>0,'Outil Recensement simplifié'!AE61&\" \",\"\")&IF('Outil Recensement simplifié'!AD61>0,'Outil Recensement simplifié'!AD61,\"\")","v":""},null,{"$f":"IF('Outil Recensement simplifié'!AF61>0,'Outil Recensement simplifié'!AF61,\"\")","v":""},{"$f":"IF('Outil Recensement simplifié'!AG61>0,'Outil Recensement simplifié'!AG61,\"\")","v":""},{"$f":"IF('Outil Recensement simplifié'!AH61>0,'Outil Recensement simplifié'!AH61,\"\")","v":""},{"$f":"IF('Outil Recensement simplifié'!AI61>0,'Outil Recensement simplifié'!AI61,\"\")","v":""},{"$f":"IF('Outil Recensement simplifié'!AJ61>0,'Outil Recensement simplifié'!AJ61,\"\")","v":""},{"$f":"IF('Outil Recensement simplifié'!AK61>0,'Outil Recensement simplifié'!AK61,\"\")","v":""},{"$f":"IF('Outil Recensement simplifié'!AL61>0,'Outil Recensement simplifié'!AL61,\"\")","v":""},{"$f":"IF('Outil Recensement simplifié'!AM61>0,'Outil Recensement simplifié'!AM61,\"\")","v":""},{"$f":"IF('Outil Recensement simplifié'!AN61=\"Homme\",\"Male\",IF('Outil Recensement simplifié'!AN61=\"Femme\",\"Female\",IF('Outil Recensement simplifié'!AN61=\"H\",\"Male\",IF('Outil Recensement simplifié'!AN61=\"F\",\"Female\",\"\"))))","v":""},{"$f":"IF('Outil Recensement simplifié'!AO61=\"Individuelle\",\"Single\",IF('Outil Recensement simplifié'!AO61=\"Famille\",\"Family\",IF('Outil Recensement simplifié'!AO61=\"Individuel\",\"Single\",IF('Outil Recensement simplifié'!AO61=\"Familiale\",\"Family\",IF('Outil Recensement simplifié'!AO61=\"I\",\"Single\",IF('Outil Recensement simplifié'!AO61=\"F\",\"Family\",\"\"))))))","v":""},{"$f":"IF('Outil Recensement simplifié'!AP61=\"Individuelle\",\"Single\",IF('Outil Recensement simplifié'!AP61=\"Famille\",\"Family\",IF('Outil Recensement simplifié'!AP61=\"Individuel\",\"Single\",IF('Outil Recensement simplifié'!AP61=\"Familiale\",\"Family\",IF('Outil Recensement simplifié'!AP61=\"I\",\"Single\",IF('Outil Recensement simplifié'!AP61=\"F\",\"Family\",\"\"))))))","v":""},{"$f":"IF('Outil Recensement simplifié'!AQ61>0,'Outil Recensement simplifié'!AQ61,\"\")","v":""},{"$f":"IF('Outil Recensement simplifié'!AR61=\"Oui\",\"Yes\",IF('Outil Recensement simplifié'!AR61=\"Non\",\"No\",IF('Outil Recensement simplifié'!AR61=\"O\",\"Yes\",IF('Outil Recensement simplifié'!AR61=\"N\",\"No\",\"\"))))","v":""},{"$f":"IF('Outil Recensement simplifié'!AS61>0,'Outil Recensement simplifié'!AS61,\"\")","v":""},{"$f":"IF('Outil Recensement simplifié'!AT61>0,'Outil Recensement simplifié'!AT61,\"\")","v":""},{"$f":"IF('Outil Recensement simplifié'!AU61>0,'Outil Recensement simplifié'!AU61,\"\")","v":""},{"$f":"IF('Outil Recensement simplifié'!AV61=\"Homme\",\"Male\",IF('Outil Recensement simplifié'!AV61=\"Femme\",\"Female\",IF('Outil Recensement simplifié'!AV61=\"H\",\"Male\",IF('Outil Recensement simplifié'!AV61=\"F\",\"Female\",\"\"))))","v":""},{"$f":"IF('Outil Recensement simplifié'!AW61=\"Oui\",\"Yes\",IF('Outil Recensement simplifié'!AW61=\"Non\",\"No\",IF('Outil Recensement simplifié'!AW61=\"O\",\"Yes\",IF('Outil Recensement simplifié'!AW61=\"N\",\"No\",\"\"))))","v":""},{"$f":"IF('Outil Recensement simplifié'!AX61=\"Oui\",\"Yes\",IF('Outil Recensement simplifié'!AX61=\"Non\",\"No\",IF('Outil Recensement simplifié'!AX61=\"O\",\"Yes\",IF('Outil Recensement simplifié'!AX61=\"N\",\"No\",\"\"))))","v":""},{"$f":"IF('Outil Recensement simplifié'!AY61>0,'Outil Recensement simplifié'!AY61,\"\")","v":""},{"$f":"IF('Outil Recensement simplifié'!AZ61>0,'Outil Recensement simplifié'!AZ61,\"\")","v":""},{"$f":"IF('Outil Recensement simplifié'!BA61>0,'Outil Recensement simplifié'!BA61,\"\")","v":""},{"$f":"IF('Outil Recensement simplifié'!BB61=\"Homme\",\"Male\",IF('Outil Recensement simplifié'!BB61=\"Femme\",\"Female\",IF('Outil Recensement simplifié'!BB61=\"H\",\"Male\",IF('Outil Recensement simplifié'!BB61=\"F\",\"Female\",\"\"))))","v":""},{"$f":"IF('Outil Recensement simplifié'!BC61=\"Oui\",\"Yes\",IF('Outil Recensement simplifié'!BC61=\"Non\",\"No\",IF('Outil Recensement simplifié'!BC61=\"O\",\"Yes\",IF('Outil Recensement simplifié'!BC61=\"N\",\"No\",\"\"))))","v":""},{"$f":"IF('Outil Recensement simplifié'!BD61=\"Oui\",\"Yes\",IF('Outil Recensement simplifié'!BD61=\"Non\",\"No\",IF('Outil Recensement simplifié'!BD61=\"O\",\"Yes\",IF('Outil Recensement simplifié'!BD61=\"N\",\"No\",\"\"))))","v":""},{"$f":"IF('Outil Recensement simplifié'!BE61>0,'Outil Recensement simplifié'!BE61,\"\")","v":""},{"$f":"IF('Outil Recensement simplifié'!BF61>0,'Outil Recensement simplifié'!BF61,\"\")","v":""},{"$f":"IF('Outil Recensement simplifié'!BG61>0,'Outil Recensement simplifié'!BG61,\"\")","v":""},{"$f":"IF('Outil Recensement simplifié'!BH61=\"Homme\",\"Male\",IF('Outil Recensement simplifié'!BH61=\"Femme\",\"Female\",IF('Outil Recensement simplifié'!BH61=\"H\",\"Male\",IF('Outil Recensement simplifié'!BH61=\"F\",\"Female\",\"\"))))","v":""},{"$f":"IF('Outil Recensement simplifié'!BI61=\"Oui\",\"Yes\",IF('Outil Recensement simplifié'!BI61=\"Non\",\"No\",IF('Outil Recensement simplifié'!BI61=\"O\",\"Yes\",IF('Outil Recensement simplifié'!BI61=\"N\",\"No\",\"\"))))","v":""},{"$f":"IF('Outil Recensement simplifié'!BJ61=\"Oui\",\"Yes\",IF('Outil Recensement simplifié'!BJ61=\"Non\",\"No\",IF('Outil Recensement simplifié'!BJ61=\"O\",\"Yes\",IF('Outil Recensement simplifié'!BJ61=\"N\",\"No\",\"\"))))","v":""},{"$f":"IF('Outil Recensement simplifié'!BK61>0,'Outil Recensement simplifié'!BK61,\"\")","v":""},{"$f":"IF('Outil Recensement simplifié'!BL61>0,'Outil Recensement simplifié'!BL61,\"\")","v":""},{"$f":"IF('Outil Recensement simplifié'!BM61>0,'Outil Recensement simplifié'!BM61,\"\")","v":""},{"$f":"IF('Outil Recensement simplifié'!BN61=\"Homme\",\"Male\",IF('Outil Recensement simplifié'!BN61=\"Femme\",\"Female\",IF('Outil Recensement simplifié'!BN61=\"H\",\"Male\",IF('Outil Recensement simplifié'!BN61=\"F\",\"Female\",\"\"))))","v":""},{"$f":"IF('Outil Recensement simplifié'!BO61=\"Oui\",\"Yes\",IF('Outil Recensement simplifié'!BO61=\"Non\",\"No\",IF('Outil Recensement simplifié'!BO61=\"O\",\"Yes\",IF('Outil Recensement simplifié'!BO61=\"N\",\"No\",\"\"))))","v":""},{"$f":"IF('Outil Recensement simplifié'!BP61=\"Oui\",\"Yes\",IF('Outil Recensement simplifié'!BP61=\"Non\",\"No\",IF('Outil Recensement simplifié'!BP61=\"O\",\"Yes\",IF('Outil Recensement simplifié'!BP61=\"N\",\"No\",\"\"))))","v":""},{"$f":"IF('Outil Recensement simplifié'!BQ61>0,'Outil Recensement simplifié'!BQ61,\"\")","v":""},{"$f":"IF('Outil Recensement simplifié'!BR61>0,'Outil Recensement simplifié'!BR61,\"\")","v":""},{"$f":"IF('Outil Recensement simplifié'!BS61>0,'Outil Recensement simplifié'!BS61,\"\")","v":""},{"$f":"IF('Outil Recensement simplifié'!BT61=\"Homme\",\"Male\",IF('Outil Recensement simplifié'!BT61=\"Femme\",\"Female\",IF('Outil Recensement simplifié'!BT61=\"H\",\"Male\",IF('Outil Recensement simplifié'!BT61=\"F\",\"Female\",\"\"))))","v":""},{"$f":"IF('Outil Recensement simplifié'!BU61=\"Oui\",\"Yes\",IF('Outil Recensement simplifié'!BU61=\"Non\",\"No\",IF('Outil Recensement simplifié'!BU61=\"O\",\"Yes\",IF('Outil Recensement simplifié'!BU61=\"N\",\"No\",\"\"))))","v":""},{"$f":"IF('Outil Recensement simplifié'!BV61=\"Oui\",\"Yes\",IF('Outil Recensement simplifié'!BV61=\"Non\",\"No\",IF('Outil Recensement simplifié'!BV61=\"O\",\"Yes\",IF('Outil Recensement simplifié'!BV61=\"N\",\"No\",\"\"))))","v":""},{"$f":"IF('Outil Recensement simplifié'!BW61>0,'Outil Recensement simplifié'!BW61,\"\")","v":""},{"$f":"IF('Outil Recensement simplifié'!BX61>0,'Outil Recensement simplifié'!BX61,\"\")","v":""},{"$f":"IF('Outil Recensement simplifié'!BY61>0,'Outil Recensement simplifié'!BY61,\"\")","v":""},{"$f":"IF('Outil Recensement simplifié'!BZ61=\"Homme\",\"Male\",IF('Outil Recensement simplifié'!BZ61=\"Femme\",\"Female\",IF('Outil Recensement simplifié'!BZ61=\"H\",\"Male\",IF('Outil Recensement simplifié'!BZ61=\"F\",\"Female\",\"\"))))","v":""},{"$f":"IF('Outil Recensement simplifié'!CA61=\"Oui\",\"Yes\",IF('Outil Recensement simplifié'!CA61=\"Non\",\"No\",IF('Outil Recensement simplifié'!CA61=\"O\",\"Yes\",IF('Outil Recensement simplifié'!CA61=\"N\",\"No\",\"\"))))","v":""},{"$f":"IF('Outil Recensement simplifié'!CB61=\"Oui\",\"Yes\",IF('Outil Recensement simplifié'!CB61=\"Non\",\"No\",IF('Outil Recensement simplifié'!CB61=\"O\",\"Yes\",IF('Outil Recensement simplifié'!CB61=\"N\",\"No\",\"\"))))","v":""},{"$f":"IF('Outil Recensement simplifié'!CH61>0,'Outil Recensement simplifié'!CH61,\"\")","v":"    "}]
[{"$f":"IF('Outil Recensement simplifié'!A62>0,'Outil Recensement simplifié'!A62,\"\")","v":""},{"$f":"IF('Outil Recensement simplifié'!B62>0,'Outil Recensement simplifié'!B62,\"\")","v":""},{"$f":"IF('Outil Recensement simplifié'!C62>0,'Outil Recensement simplifié'!C62,\"\")","v":""},{"$f":"IF('Outil Recensement simplifié'!D62>0,'Outil Recensement simplifié'!D62,\"\")","v":""},{"$f":"IF('Outil Recensement simplifié'!E62>0,TEXT('Outil Recensement simplifié'!E62,\"000\"),\"\")","v":""},{"$f":"IF('Outil Recensement simplifié'!F62>0,'Outil Recensement simplifié'!F62,\"\")","v":""},{"$f":"IF('Outil Recensement simplifié'!G62>0,'Outil Recensement simplifié'!G62,\"\")","v":""},{"$f":"IF('Outil Recensement simplifié'!I62>0,'Outil Recensement simplifié'!I62,\"\")","v":""},{"$f":"IF('Outil Recensement simplifié'!J62>0,'Outil Recensement simplifié'!J62,\"\")","v":""},{"$f":"IF('Outil Recensement simplifié'!K62>0,'Outil Recensement simplifié'!K62,\"\")","v":""},{"$f":"IF('Outil Recensement simplifié'!L62>0,'Outil Recensement simplifié'!L62,\"\")","v":""},{"$f":"IF('Outil Recensement simplifié'!M62=\"Homme\",\"Male\",IF('Outil Recensement simplifié'!M62=\"Femme\",\"Female\",IF('Outil Recensement simplifié'!M62=\"H\",\"Male\",IF('Outil Recensement simplifié'!M62=\"F\",\"Female\",\"\"))))","v":""},{"$f":"IF('Outil Recensement simplifié'!N62=\"Oui\",\"Yes\",IF('Outil Recensement simplifié'!N62=\"Non\",\"No\",IF('Outil Recensement simplifié'!N62=\"O\",\"Yes\",IF('Outil Recensement simplifié'!N62=\"N\",\"No\",\"\"))))","v":""},{"$f":"IF('Outil Recensement simplifié'!O62=\"Non\",\"Single\",IF('Outil Recensement simplifié'!O62=\"Oui\",\"Family\",IF('Outil Recensement simplifié'!O62=\"N\",\"Single\",IF('Outil Recensement simplifié'!O62=\"O\",\"Family\",IF('Outil Recensement simplifié'!O62=\"En vigueur\",\"Family\",\"\")))))","v":""},{"$f":"IF('Outil Recensement simplifié'!P62=\"Anglais\",\"English\",IF('Outil Recensement simplifié'!P62=\"Français\",\"French\",IF('Outil Recensement simplifié'!P62=\"A\",\"English\",IF('Outil Recensement simplifié'!P62=\"F\",\"French\",\"\"))))","v":""},{"$f":"IF('Outil Recensement simplifié'!Q62=\"Oui\",\"Yes\",IF('Outil Recensement simplifié'!Q62=\"Non\",\"No\",IF('Outil Recensement simplifié'!Q62=\"O\",\"Yes\",IF('Outil Recensement simplifié'!Q62=\"N\",\"No\",\"\"))))","v":""},{"$f":"IF('Outil Recensement simplifié'!R62>0,'Outil Recensement simplifié'!R62,\"\")","v":""},{"$f":"IF('Outil Recensement simplifié'!S62=\"Annuelle\",\"Annually\",IF('Outil Recensement simplifié'!S62=\"Mensuelle\",\"Monthly\",IF('Outil Recensement simplifié'!S62=\"Aux deux semaines\",\"Biweekly\",IF('Outil Recensement simplifié'!S62=\"Bimensuelle\",\"Semi-Monthly\",IF('Outil Recensement simplifié'!S62=\"Hebdomadaire\",\"Weekly\",IF('Outil Recensement simplifié'!S62=\"Horaire\",\"Hourly\",\"\"))))))","v":""},{"$f":"IF('Outil Recensement simplifié'!T62>0,'Outil Recensement simplifié'!T62,\"\")","v":""},{"$f":"IF('Outil Recensement simplifié'!U62>0,'Outil Recensement simplifié'!U62,\"\")","v":""},{"$f":"IF('Outil Recensement simplifié'!V62=\"Exemptée\",\"Yes\",\"\")","v":""},{"$f":"IF('Outil Recensement simplifié'!W62=\"Exemptée\",\"Yes\",\"\")","v":""},{"$f":"IF('Outil Recensement simplifié'!X62>0,'Outil Recensement simplifié'!X62,\"\")","v":""},{"$f":"IF('Outil Recensement simplifié'!Y62>0,'Outil Recensement simplifié'!Y62,\"\")","v":""},{"$f":"IF('Outil Recensement simplifié'!Z62>0,'Outil Recensement simplifié'!Z62,\"\")","v":""},{"$f":"IF('Outil Recensement simplifié'!AA62>0,'Outil Recensement simplifié'!AA62,\"\")","v":""},{"$f":"IF('Outil Recensement simplifié'!AB62>0,'Outil Recensement simplifié'!AB62,\"\")","v":""},{"$f":"IF('Outil Recensement simplifié'!AC62>0,'Outil Recensement simplifié'!AC62,\"\")","v":" "},{"$f":"IF('Outil Recensement simplifié'!AE62>0,'Outil Recensement simplifié'!AE62&\" \",\"\")&IF('Outil Recensement simplifié'!AD62>0,'Outil Recensement simplifié'!AD62,\"\")","v":""},null,{"$f":"IF('Outil Recensement simplifié'!AF62>0,'Outil Recensement simplifié'!AF62,\"\")","v":""},{"$f":"IF('Outil Recensement simplifié'!AG62>0,'Outil Recensement simplifié'!AG62,\"\")","v":""},{"$f":"IF('Outil Recensement simplifié'!AH62>0,'Outil Recensement simplifié'!AH62,\"\")","v":""},{"$f":"IF('Outil Recensement simplifié'!AI62>0,'Outil Recensement simplifié'!AI62,\"\")","v":""},{"$f":"IF('Outil Recensement simplifié'!AJ62>0,'Outil Recensement simplifié'!AJ62,\"\")","v":""},{"$f":"IF('Outil Recensement simplifié'!AK62>0,'Outil Recensement simplifié'!AK62,\"\")","v":""},{"$f":"IF('Outil Recensement simplifié'!AL62>0,'Outil Recensement simplifié'!AL62,\"\")","v":""},{"$f":"IF('Outil Recensement simplifié'!AM62>0,'Outil Recensement simplifié'!AM62,\"\")","v":""},{"$f":"IF('Outil Recensement simplifié'!AN62=\"Homme\",\"Male\",IF('Outil Recensement simplifié'!AN62=\"Femme\",\"Female\",IF('Outil Recensement simplifié'!AN62=\"H\",\"Male\",IF('Outil Recensement simplifié'!AN62=\"F\",\"Female\",\"\"))))","v":""},{"$f":"IF('Outil Recensement simplifié'!AO62=\"Individuelle\",\"Single\",IF('Outil Recensement simplifié'!AO62=\"Famille\",\"Family\",IF('Outil Recensement simplifié'!AO62=\"Individuel\",\"Single\",IF('Outil Recensement simplifié'!AO62=\"Familiale\",\"Family\",IF('Outil Recensement simplifié'!AO62=\"I\",\"Single\",IF('Outil Recensement simplifié'!AO62=\"F\",\"Family\",\"\"))))))","v":""},{"$f":"IF('Outil Recensement simplifié'!AP62=\"Individuelle\",\"Single\",IF('Outil Recensement simplifié'!AP62=\"Famille\",\"Family\",IF('Outil Recensement simplifié'!AP62=\"Individuel\",\"Single\",IF('Outil Recensement simplifié'!AP62=\"Familiale\",\"Family\",IF('Outil Recensement simplifié'!AP62=\"I\",\"Single\",IF('Outil Recensement simplifié'!AP62=\"F\",\"Family\",\"\"))))))","v":""},{"$f":"IF('Outil Recensement simplifié'!AQ62>0,'Outil Recensement simplifié'!AQ62,\"\")","v":""},{"$f":"IF('Outil Recensement simplifié'!AR62=\"Oui\",\"Yes\",IF('Outil Recensement simplifié'!AR62=\"Non\",\"No\",IF('Outil Recensement simplifié'!AR62=\"O\",\"Yes\",IF('Outil Recensement simplifié'!AR62=\"N\",\"No\",\"\"))))","v":""},{"$f":"IF('Outil Recensement simplifié'!AS62>0,'Outil Recensement simplifié'!AS62,\"\")","v":""},{"$f":"IF('Outil Recensement simplifié'!AT62>0,'Outil Recensement simplifié'!AT62,\"\")","v":""},{"$f":"IF('Outil Recensement simplifié'!AU62>0,'Outil Recensement simplifié'!AU62,\"\")","v":""},{"$f":"IF('Outil Recensement simplifié'!AV62=\"Homme\",\"Male\",IF('Outil Recensement simplifié'!AV62=\"Femme\",\"Female\",IF('Outil Recensement simplifié'!AV62=\"H\",\"Male\",IF('Outil Recensement simplifié'!AV62=\"F\",\"Female\",\"\"))))","v":""},{"$f":"IF('Outil Recensement simplifié'!AW62=\"Oui\",\"Yes\",IF('Outil Recensement simplifié'!AW62=\"Non\",\"No\",IF('Outil Recensement simplifié'!AW62=\"O\",\"Yes\",IF('Outil Recensement simplifié'!AW62=\"N\",\"No\",\"\"))))","v":""},{"$f":"IF('Outil Recensement simplifié'!AX62=\"Oui\",\"Yes\",IF('Outil Recensement simplifié'!AX62=\"Non\",\"No\",IF('Outil Recensement simplifié'!AX62=\"O\",\"Yes\",IF('Outil Recensement simplifié'!AX62=\"N\",\"No\",\"\"))))","v":""},{"$f":"IF('Outil Recensement simplifié'!AY62>0,'Outil Recensement simplifié'!AY62,\"\")","v":""},{"$f":"IF('Outil Recensement simplifié'!AZ62>0,'Outil Recensement simplifié'!AZ62,\"\")","v":""},{"$f":"IF('Outil Recensement simplifié'!BA62>0,'Outil Recensement simplifié'!BA62,\"\")","v":""},{"$f":"IF('Outil Recensement simplifié'!BB62=\"Homme\",\"Male\",IF('Outil Recensement simplifié'!BB62=\"Femme\",\"Female\",IF('Outil Recensement simplifié'!BB62=\"H\",\"Male\",IF('Outil Recensement simplifié'!BB62=\"F\",\"Female\",\"\"))))","v":""},{"$f":"IF('Outil Recensement simplifié'!BC62=\"Oui\",\"Yes\",IF('Outil Recensement simplifié'!BC62=\"Non\",\"No\",IF('Outil Recensement simplifié'!BC62=\"O\",\"Yes\",IF('Outil Recensement simplifié'!BC62=\"N\",\"No\",\"\"))))","v":""},{"$f":"IF('Outil Recensement simplifié'!BD62=\"Oui\",\"Yes\",IF('Outil Recensement simplifié'!BD62=\"Non\",\"No\",IF('Outil Recensement simplifié'!BD62=\"O\",\"Yes\",IF('Outil Recensement simplifié'!BD62=\"N\",\"No\",\"\"))))","v":""},{"$f":"IF('Outil Recensement simplifié'!BE62>0,'Outil Recensement simplifié'!BE62,\"\")","v":""},{"$f":"IF('Outil Recensement simplifié'!BF62>0,'Outil Recensement simplifié'!BF62,\"\")","v":""},{"$f":"IF('Outil Recensement simplifié'!BG62>0,'Outil Recensement simplifié'!BG62,\"\")","v":""},{"$f":"IF('Outil Recensement simplifié'!BH62=\"Homme\",\"Male\",IF('Outil Recensement simplifié'!BH62=\"Femme\",\"Female\",IF('Outil Recensement simplifié'!BH62=\"H\",\"Male\",IF('Outil Recensement simplifié'!BH62=\"F\",\"Female\",\"\"))))","v":""},{"$f":"IF('Outil Recensement simplifié'!BI62=\"Oui\",\"Yes\",IF('Outil Recensement simplifié'!BI62=\"Non\",\"No\",IF('Outil Recensement simplifié'!BI62=\"O\",\"Yes\",IF('Outil Recensement simplifié'!BI62=\"N\",\"No\",\"\"))))","v":""},{"$f":"IF('Outil Recensement simplifié'!BJ62=\"Oui\",\"Yes\",IF('Outil Recensement simplifié'!BJ62=\"Non\",\"No\",IF('Outil Recensement simplifié'!BJ62=\"O\",\"Yes\",IF('Outil Recensement simplifié'!BJ62=\"N\",\"No\",\"\"))))","v":""},{"$f":"IF('Outil Recensement simplifié'!BK62>0,'Outil Recensement simplifié'!BK62,\"\")","v":""},{"$f":"IF('Outil Recensement simplifié'!BL62>0,'Outil Recensement simplifié'!BL62,\"\")","v":""},{"$f":"IF('Outil Recensement simplifié'!BM62>0,'Outil Recensement simplifié'!BM62,\"\")","v":""},{"$f":"IF('Outil Recensement simplifié'!BN62=\"Homme\",\"Male\",IF('Outil Recensement simplifié'!BN62=\"Femme\",\"Female\",IF('Outil Recensement simplifié'!BN62=\"H\",\"Male\",IF('Outil Recensement simplifié'!BN62=\"F\",\"Female\",\"\"))))","v":""},{"$f":"IF('Outil Recensement simplifié'!BO62=\"Oui\",\"Yes\",IF('Outil Recensement simplifié'!BO62=\"Non\",\"No\",IF('Outil Recensement simplifié'!BO62=\"O\",\"Yes\",IF('Outil Recensement simplifié'!BO62=\"N\",\"No\",\"\"))))","v":""},{"$f":"IF('Outil Recensement simplifié'!BP62=\"Oui\",\"Yes\",IF('Outil Recensement simplifié'!BP62=\"Non\",\"No\",IF('Outil Recensement simplifié'!BP62=\"O\",\"Yes\",IF('Outil Recensement simplifié'!BP62=\"N\",\"No\",\"\"))))","v":""},{"$f":"IF('Outil Recensement simplifié'!BQ62>0,'Outil Recensement simplifié'!BQ62,\"\")","v":""},{"$f":"IF('Outil Recensement simplifié'!BR62>0,'Outil Recensement simplifié'!BR62,\"\")","v":""},{"$f":"IF('Outil Recensement simplifié'!BS62>0,'Outil Recensement simplifié'!BS62,\"\")","v":""},{"$f":"IF('Outil Recensement simplifié'!BT62=\"Homme\",\"Male\",IF('Outil Recensement simplifié'!BT62=\"Femme\",\"Female\",IF('Outil Recensement simplifié'!BT62=\"H\",\"Male\",IF('Outil Recensement simplifié'!BT62=\"F\",\"Female\",\"\"))))","v":""},{"$f":"IF('Outil Recensement simplifié'!BU62=\"Oui\",\"Yes\",IF('Outil Recensement simplifié'!BU62=\"Non\",\"No\",IF('Outil Recensement simplifié'!BU62=\"O\",\"Yes\",IF('Outil Recensement simplifié'!BU62=\"N\",\"No\",\"\"))))","v":""},{"$f":"IF('Outil Recensement simplifié'!BV62=\"Oui\",\"Yes\",IF('Outil Recensement simplifié'!BV62=\"Non\",\"No\",IF('Outil Recensement simplifié'!BV62=\"O\",\"Yes\",IF('Outil Recensement simplifié'!BV62=\"N\",\"No\",\"\"))))","v":""},{"$f":"IF('Outil Recensement simplifié'!BW62>0,'Outil Recensement simplifié'!BW62,\"\")","v":""},{"$f":"IF('Outil Recensement simplifié'!BX62>0,'Outil Recensement simplifié'!BX62,\"\")","v":""},{"$f":"IF('Outil Recensement simplifié'!BY62>0,'Outil Recensement simplifié'!BY62,\"\")","v":""},{"$f":"IF('Outil Recensement simplifié'!BZ62=\"Homme\",\"Male\",IF('Outil Recensement simplifié'!BZ62=\"Femme\",\"Female\",IF('Outil Recensement simplifié'!BZ62=\"H\",\"Male\",IF('Outil Recensement simplifié'!BZ62=\"F\",\"Female\",\"\"))))","v":""},{"$f":"IF('Outil Recensement simplifié'!CA62=\"Oui\",\"Yes\",IF('Outil Recensement simplifié'!CA62=\"Non\",\"No\",IF('Outil Recensement simplifié'!CA62=\"O\",\"Yes\",IF('Outil Recensement simplifié'!CA62=\"N\",\"No\",\"\"))))","v":""},{"$f":"IF('Outil Recensement simplifié'!CB62=\"Oui\",\"Yes\",IF('Outil Recensement simplifié'!CB62=\"Non\",\"No\",IF('Outil Recensement simplifié'!CB62=\"O\",\"Yes\",IF('Outil Recensement simplifié'!CB62=\"N\",\"No\",\"\"))))","v":""},{"$f":"IF('Outil Recensement simplifié'!CH62>0,'Outil Recensement simplifié'!CH62,\"\")","v":"    "}]
[{"$f":"IF('Outil Recensement simplifié'!A63>0,'Outil Recensement simplifié'!A63,\"\")","v":""},{"$f":"IF('Outil Recensement simplifié'!B63>0,'Outil Recensement simplifié'!B63,\"\")","v":""},{"$f":"IF('Outil Recensement simplifié'!C63>0,'Outil Recensement simplifié'!C63,\"\")","v":""},{"$f":"IF('Outil Recensement simplifié'!D63>0,'Outil Recensement simplifié'!D63,\"\")","v":""},{"$f":"IF('Outil Recensement simplifié'!E63>0,TEXT('Outil Recensement simplifié'!E63,\"000\"),\"\")","v":""},{"$f":"IF('Outil Recensement simplifié'!F63>0,'Outil Recensement simplifié'!F63,\"\")","v":""},{"$f":"IF('Outil Recensement simplifié'!G63>0,'Outil Recensement simplifié'!G63,\"\")","v":""},{"$f":"IF('Outil Recensement simplifié'!I63>0,'Outil Recensement simplifié'!I63,\"\")","v":""},{"$f":"IF('Outil Recensement simplifié'!J63>0,'Outil Recensement simplifié'!J63,\"\")","v":""},{"$f":"IF('Outil Recensement simplifié'!K63>0,'Outil Recensement simplifié'!K63,\"\")","v":""},{"$f":"IF('Outil Recensement simplifié'!L63>0,'Outil Recensement simplifié'!L63,\"\")","v":""},{"$f":"IF('Outil Recensement simplifié'!M63=\"Homme\",\"Male\",IF('Outil Recensement simplifié'!M63=\"Femme\",\"Female\",IF('Outil Recensement simplifié'!M63=\"H\",\"Male\",IF('Outil Recensement simplifié'!M63=\"F\",\"Female\",\"\"))))","v":""},{"$f":"IF('Outil Recensement simplifié'!N63=\"Oui\",\"Yes\",IF('Outil Recensement simplifié'!N63=\"Non\",\"No\",IF('Outil Recensement simplifié'!N63=\"O\",\"Yes\",IF('Outil Recensement simplifié'!N63=\"N\",\"No\",\"\"))))","v":""},{"$f":"IF('Outil Recensement simplifié'!O63=\"Non\",\"Single\",IF('Outil Recensement simplifié'!O63=\"Oui\",\"Family\",IF('Outil Recensement simplifié'!O63=\"N\",\"Single\",IF('Outil Recensement simplifié'!O63=\"O\",\"Family\",IF('Outil Recensement simplifié'!O63=\"En vigueur\",\"Family\",\"\")))))","v":""},{"$f":"IF('Outil Recensement simplifié'!P63=\"Anglais\",\"English\",IF('Outil Recensement simplifié'!P63=\"Français\",\"French\",IF('Outil Recensement simplifié'!P63=\"A\",\"English\",IF('Outil Recensement simplifié'!P63=\"F\",\"French\",\"\"))))","v":""},{"$f":"IF('Outil Recensement simplifié'!Q63=\"Oui\",\"Yes\",IF('Outil Recensement simplifié'!Q63=\"Non\",\"No\",IF('Outil Recensement simplifié'!Q63=\"O\",\"Yes\",IF('Outil Recensement simplifié'!Q63=\"N\",\"No\",\"\"))))","v":""},{"$f":"IF('Outil Recensement simplifié'!R63>0,'Outil Recensement simplifié'!R63,\"\")","v":""},{"$f":"IF('Outil Recensement simplifié'!S63=\"Annuelle\",\"Annually\",IF('Outil Recensement simplifié'!S63=\"Mensuelle\",\"Monthly\",IF('Outil Recensement simplifié'!S63=\"Aux deux semaines\",\"Biweekly\",IF('Outil Recensement simplifié'!S63=\"Bimensuelle\",\"Semi-Monthly\",IF('Outil Recensement simplifié'!S63=\"Hebdomadaire\",\"Weekly\",IF('Outil Recensement simplifié'!S63=\"Horaire\",\"Hourly\",\"\"))))))","v":""},{"$f":"IF('Outil Recensement simplifié'!T63>0,'Outil Recensement simplifié'!T63,\"\")","v":""},{"$f":"IF('Outil Recensement simplifié'!U63>0,'Outil Recensement simplifié'!U63,\"\")","v":""},{"$f":"IF('Outil Recensement simplifié'!V63=\"Exemptée\",\"Yes\",\"\")","v":""},{"$f":"IF('Outil Recensement simplifié'!W63=\"Exemptée\",\"Yes\",\"\")","v":""},{"$f":"IF('Outil Recensement simplifié'!X63>0,'Outil Recensement simplifié'!X63,\"\")","v":""},{"$f":"IF('Outil Recensement simplifié'!Y63>0,'Outil Recensement simplifié'!Y63,\"\")","v":""},{"$f":"IF('Outil Recensement simplifié'!Z63>0,'Outil Recensement simplifié'!Z63,\"\")","v":""},{"$f":"IF('Outil Recensement simplifié'!AA63>0,'Outil Recensement simplifié'!AA63,\"\")","v":""},{"$f":"IF('Outil Recensement simplifié'!AB63>0,'Outil Recensement simplifié'!AB63,\"\")","v":""},{"$f":"IF('Outil Recensement simplifié'!AC63>0,'Outil Recensement simplifié'!AC63,\"\")","v":" "},{"$f":"IF('Outil Recensement simplifié'!AE63>0,'Outil Recensement simplifié'!AE63&\" \",\"\")&IF('Outil Recensement simplifié'!AD63>0,'Outil Recensement simplifié'!AD63,\"\")","v":""},null,{"$f":"IF('Outil Recensement simplifié'!AF63>0,'Outil Recensement simplifié'!AF63,\"\")","v":""},{"$f":"IF('Outil Recensement simplifié'!AG63>0,'Outil Recensement simplifié'!AG63,\"\")","v":""},{"$f":"IF('Outil Recensement simplifié'!AH63>0,'Outil Recensement simplifié'!AH63,\"\")","v":""},{"$f":"IF('Outil Recensement simplifié'!AI63>0,'Outil Recensement simplifié'!AI63,\"\")","v":""},{"$f":"IF('Outil Recensement simplifié'!AJ63>0,'Outil Recensement simplifié'!AJ63,\"\")","v":""},{"$f":"IF('Outil Recensement simplifié'!AK63>0,'Outil Recensement simplifié'!AK63,\"\")","v":""},{"$f":"IF('Outil Recensement simplifié'!AL63>0,'Outil Recensement simplifié'!AL63,\"\")","v":""},{"$f":"IF('Outil Recensement simplifié'!AM63>0,'Outil Recensement simplifié'!AM63,\"\")","v":""},{"$f":"IF('Outil Recensement simplifié'!AN63=\"Homme\",\"Male\",IF('Outil Recensement simplifié'!AN63=\"Femme\",\"Female\",IF('Outil Recensement simplifié'!AN63=\"H\",\"Male\",IF('Outil Recensement simplifié'!AN63=\"F\",\"Female\",\"\"))))","v":""},{"$f":"IF('Outil Recensement simplifié'!AO63=\"Individuelle\",\"Single\",IF('Outil Recensement simplifié'!AO63=\"Famille\",\"Family\",IF('Outil Recensement simplifié'!AO63=\"Individuel\",\"Single\",IF('Outil Recensement simplifié'!AO63=\"Familiale\",\"Family\",IF('Outil Recensement simplifié'!AO63=\"I\",\"Single\",IF('Outil Recensement simplifié'!AO63=\"F\",\"Family\",\"\"))))))","v":""},{"$f":"IF('Outil Recensement simplifié'!AP63=\"Individuelle\",\"Single\",IF('Outil Recensement simplifié'!AP63=\"Famille\",\"Family\",IF('Outil Recensement simplifié'!AP63=\"Individuel\",\"Single\",IF('Outil Recensement simplifié'!AP63=\"Familiale\",\"Family\",IF('Outil Recensement simplifié'!AP63=\"I\",\"Single\",IF('Outil Recensement simplifié'!AP63=\"F\",\"Family\",\"\"))))))","v":""},{"$f":"IF('Outil Recensement simplifié'!AQ63>0,'Outil Recensement simplifié'!AQ63,\"\")","v":""},{"$f":"IF('Outil Recensement simplifié'!AR63=\"Oui\",\"Yes\",IF('Outil Recensement simplifié'!AR63=\"Non\",\"No\",IF('Outil Recensement simplifié'!AR63=\"O\",\"Yes\",IF('Outil Recensement simplifié'!AR63=\"N\",\"No\",\"\"))))","v":""},{"$f":"IF('Outil Recensement simplifié'!AS63>0,'Outil Recensement simplifié'!AS63,\"\")","v":""},{"$f":"IF('Outil Recensement simplifié'!AT63>0,'Outil Recensement simplifié'!AT63,\"\")","v":""},{"$f":"IF('Outil Recensement simplifié'!AU63>0,'Outil Recensement simplifié'!AU63,\"\")","v":""},{"$f":"IF('Outil Recensement simplifié'!AV63=\"Homme\",\"Male\",IF('Outil Recensement simplifié'!AV63=\"Femme\",\"Female\",IF('Outil Recensement simplifié'!AV63=\"H\",\"Male\",IF('Outil Recensement simplifié'!AV63=\"F\",\"Female\",\"\"))))","v":""},{"$f":"IF('Outil Recensement simplifié'!AW63=\"Oui\",\"Yes\",IF('Outil Recensement simplifié'!AW63=\"Non\",\"No\",IF('Outil Recensement simplifié'!AW63=\"O\",\"Yes\",IF('Outil Recensement simplifié'!AW63=\"N\",\"No\",\"\"))))","v":""},{"$f":"IF('Outil Recensement simplifié'!AX63=\"Oui\",\"Yes\",IF('Outil Recensement simplifié'!AX63=\"Non\",\"No\",IF('Outil Recensement simplifié'!AX63=\"O\",\"Yes\",IF('Outil Recensement simplifié'!AX63=\"N\",\"No\",\"\"))))","v":""},{"$f":"IF('Outil Recensement simplifié'!AY63>0,'Outil Recensement simplifié'!AY63,\"\")","v":""},{"$f":"IF('Outil Recensement simplifié'!AZ63>0,'Outil Recensement simplifié'!AZ63,\"\")","v":""},{"$f":"IF('Outil Recensement simplifié'!BA63>0,'Outil Recensement simplifié'!BA63,\"\")","v":""},{"$f":"IF('Outil Recensement simplifié'!BB63=\"Homme\",\"Male\",IF('Outil Recensement simplifié'!BB63=\"Femme\",\"Female\",IF('Outil Recensement simplifié'!BB63=\"H\",\"Male\",IF('Outil Recensement simplifié'!BB63=\"F\",\"Female\",\"\"))))","v":""},{"$f":"IF('Outil Recensement simplifié'!BC63=\"Oui\",\"Yes\",IF('Outil Recensement simplifié'!BC63=\"Non\",\"No\",IF('Outil Recensement simplifié'!BC63=\"O\",\"Yes\",IF('Outil Recensement simplifié'!BC63=\"N\",\"No\",\"\"))))","v":""},{"$f":"IF('Outil Recensement simplifié'!BD63=\"Oui\",\"Yes\",IF('Outil Recensement simplifié'!BD63=\"Non\",\"No\",IF('Outil Recensement simplifié'!BD63=\"O\",\"Yes\",IF('Outil Recensement simplifié'!BD63=\"N\",\"No\",\"\"))))","v":""},{"$f":"IF('Outil Recensement simplifié'!BE63>0,'Outil Recensement simplifié'!BE63,\"\")","v":""},{"$f":"IF('Outil Recensement simplifié'!BF63>0,'Outil Recensement simplifié'!BF63,\"\")","v":""},{"$f":"IF('Outil Recensement simplifié'!BG63>0,'Outil Recensement simplifié'!BG63,\"\")","v":""},{"$f":"IF('Outil Recensement simplifié'!BH63=\"Homme\",\"Male\",IF('Outil Recensement simplifié'!BH63=\"Femme\",\"Female\",IF('Outil Recensement simplifié'!BH63=\"H\",\"Male\",IF('Outil Recensement simplifié'!BH63=\"F\",\"Female\",\"\"))))","v":""},{"$f":"IF('Outil Recensement simplifié'!BI63=\"Oui\",\"Yes\",IF('Outil Recensement simplifié'!BI63=\"Non\",\"No\",IF('Outil Recensement simplifié'!BI63=\"O\",\"Yes\",IF('Outil Recensement simplifié'!BI63=\"N\",\"No\",\"\"))))","v":""},{"$f":"IF('Outil Recensement simplifié'!BJ63=\"Oui\",\"Yes\",IF('Outil Recensement simplifié'!BJ63=\"Non\",\"No\",IF('Outil Recensement simplifié'!BJ63=\"O\",\"Yes\",IF('Outil Recensement simplifié'!BJ63=\"N\",\"No\",\"\"))))","v":""},{"$f":"IF('Outil Recensement simplifié'!BK63>0,'Outil Recensement simplifié'!BK63,\"\")","v":""},{"$f":"IF('Outil Recensement simplifié'!BL63>0,'Outil Recensement simplifié'!BL63,\"\")","v":""},{"$f":"IF('Outil Recensement simplifié'!BM63>0,'Outil Recensement simplifié'!BM63,\"\")","v":""},{"$f":"IF('Outil Recensement simplifié'!BN63=\"Homme\",\"Male\",IF('Outil Recensement simplifié'!BN63=\"Femme\",\"Female\",IF('Outil Recensement simplifié'!BN63=\"H\",\"Male\",IF('Outil Recensement simplifié'!BN63=\"F\",\"Female\",\"\"))))","v":""},{"$f":"IF('Outil Recensement simplifié'!BO63=\"Oui\",\"Yes\",IF('Outil Recensement simplifié'!BO63=\"Non\",\"No\",IF('Outil Recensement simplifié'!BO63=\"O\",\"Yes\",IF('Outil Recensement simplifié'!BO63=\"N\",\"No\",\"\"))))","v":""},{"$f":"IF('Outil Recensement simplifié'!BP63=\"Oui\",\"Yes\",IF('Outil Recensement simplifié'!BP63=\"Non\",\"No\",IF('Outil Recensement simplifié'!BP63=\"O\",\"Yes\",IF('Outil Recensement simplifié'!BP63=\"N\",\"No\",\"\"))))","v":""},{"$f":"IF('Outil Recensement simplifié'!BQ63>0,'Outil Recensement simplifié'!BQ63,\"\")","v":""},{"$f":"IF('Outil Recensement simplifié'!BR63>0,'Outil Recensement simplifié'!BR63,\"\")","v":""},{"$f":"IF('Outil Recensement simplifié'!BS63>0,'Outil Recensement simplifié'!BS63,\"\")","v":""},{"$f":"IF('Outil Recensement simplifié'!BT63=\"Homme\",\"Male\",IF('Outil Recensement simplifié'!BT63=\"Femme\",\"Female\",IF('Outil Recensement simplifié'!BT63=\"H\",\"Male\",IF('Outil Recensement simplifié'!BT63=\"F\",\"Female\",\"\"))))","v":""},{"$f":"IF('Outil Recensement simplifié'!BU63=\"Oui\",\"Yes\",IF('Outil Recensement simplifié'!BU63=\"Non\",\"No\",IF('Outil Recensement simplifié'!BU63=\"O\",\"Yes\",IF('Outil Recensement simplifié'!BU63=\"N\",\"No\",\"\"))))","v":""},{"$f":"IF('Outil Recensement simplifié'!BV63=\"Oui\",\"Yes\",IF('Outil Recensement simplifié'!BV63=\"Non\",\"No\",IF('Outil Recensement simplifié'!BV63=\"O\",\"Yes\",IF('Outil Recensement simplifié'!BV63=\"N\",\"No\",\"\"))))","v":""},{"$f":"IF('Outil Recensement simplifié'!BW63>0,'Outil Recensement simplifié'!BW63,\"\")","v":""},{"$f":"IF('Outil Recensement simplifié'!BX63>0,'Outil Recensement simplifié'!BX63,\"\")","v":""},{"$f":"IF('Outil Recensement simplifié'!BY63>0,'Outil Recensement simplifié'!BY63,\"\")","v":""},{"$f":"IF('Outil Recensement simplifié'!BZ63=\"Homme\",\"Male\",IF('Outil Recensement simplifié'!BZ63=\"Femme\",\"Female\",IF('Outil Recensement simplifié'!BZ63=\"H\",\"Male\",IF('Outil Recensement simplifié'!BZ63=\"F\",\"Female\",\"\"))))","v":""},{"$f":"IF('Outil Recensement simplifié'!CA63=\"Oui\",\"Yes\",IF('Outil Recensement simplifié'!CA63=\"Non\",\"No\",IF('Outil Recensement simplifié'!CA63=\"O\",\"Yes\",IF('Outil Recensement simplifié'!CA63=\"N\",\"No\",\"\"))))","v":""},{"$f":"IF('Outil Recensement simplifié'!CB63=\"Oui\",\"Yes\",IF('Outil Recensement simplifié'!CB63=\"Non\",\"No\",IF('Outil Recensement simplifié'!CB63=\"O\",\"Yes\",IF('Outil Recensement simplifié'!CB63=\"N\",\"No\",\"\"))))","v":""},{"$f":"IF('Outil Recensement simplifié'!CH63>0,'Outil Recensement simplifié'!CH63,\"\")","v":"    "}]
[{"$f":"IF('Outil Recensement simplifié'!A64>0,'Outil Recensement simplifié'!A64,\"\")","v":""},{"$f":"IF('Outil Recensement simplifié'!B64>0,'Outil Recensement simplifié'!B64,\"\")","v":""},{"$f":"IF('Outil Recensement simplifié'!C64>0,'Outil Recensement simplifié'!C64,\"\")","v":""},{"$f":"IF('Outil Recensement simplifié'!D64>0,'Outil Recensement simplifié'!D64,\"\")","v":""},{"$f":"IF('Outil Recensement simplifié'!E64>0,TEXT('Outil Recensement simplifié'!E64,\"000\"),\"\")","v":""},{"$f":"IF('Outil Recensement simplifié'!F64>0,'Outil Recensement simplifié'!F64,\"\")","v":""},{"$f":"IF('Outil Recensement simplifié'!G64>0,'Outil Recensement simplifié'!G64,\"\")","v":""},{"$f":"IF('Outil Recensement simplifié'!I64>0,'Outil Recensement simplifié'!I64,\"\")","v":""},{"$f":"IF('Outil Recensement simplifié'!J64>0,'Outil Recensement simplifié'!J64,\"\")","v":""},{"$f":"IF('Outil Recensement simplifié'!K64>0,'Outil Recensement simplifié'!K64,\"\")","v":""},{"$f":"IF('Outil Recensement simplifié'!L64>0,'Outil Recensement simplifié'!L64,\"\")","v":""},{"$f":"IF('Outil Recensement simplifié'!M64=\"Homme\",\"Male\",IF('Outil Recensement simplifié'!M64=\"Femme\",\"Female\",IF('Outil Recensement simplifié'!M64=\"H\",\"Male\",IF('Outil Recensement simplifié'!M64=\"F\",\"Female\",\"\"))))","v":""},{"$f":"IF('Outil Recensement simplifié'!N64=\"Oui\",\"Yes\",IF('Outil Recensement simplifié'!N64=\"Non\",\"No\",IF('Outil Recensement simplifié'!N64=\"O\",\"Yes\",IF('Outil Recensement simplifié'!N64=\"N\",\"No\",\"\"))))","v":""},{"$f":"IF('Outil Recensement simplifié'!O64=\"Non\",\"Single\",IF('Outil Recensement simplifié'!O64=\"Oui\",\"Family\",IF('Outil Recensement simplifié'!O64=\"N\",\"Single\",IF('Outil Recensement simplifié'!O64=\"O\",\"Family\",IF('Outil Recensement simplifié'!O64=\"En vigueur\",\"Family\",\"\")))))","v":""},{"$f":"IF('Outil Recensement simplifié'!P64=\"Anglais\",\"English\",IF('Outil Recensement simplifié'!P64=\"Français\",\"French\",IF('Outil Recensement simplifié'!P64=\"A\",\"English\",IF('Outil Recensement simplifié'!P64=\"F\",\"French\",\"\"))))","v":""},{"$f":"IF('Outil Recensement simplifié'!Q64=\"Oui\",\"Yes\",IF('Outil Recensement simplifié'!Q64=\"Non\",\"No\",IF('Outil Recensement simplifié'!Q64=\"O\",\"Yes\",IF('Outil Recensement simplifié'!Q64=\"N\",\"No\",\"\"))))","v":""},{"$f":"IF('Outil Recensement simplifié'!R64>0,'Outil Recensement simplifié'!R64,\"\")","v":""},{"$f":"IF('Outil Recensement simplifié'!S64=\"Annuelle\",\"Annually\",IF('Outil Recensement simplifié'!S64=\"Mensuelle\",\"Monthly\",IF('Outil Recensement simplifié'!S64=\"Aux deux semaines\",\"Biweekly\",IF('Outil Recensement simplifié'!S64=\"Bimensuelle\",\"Semi-Monthly\",IF('Outil Recensement simplifié'!S64=\"Hebdomadaire\",\"Weekly\",IF('Outil Recensement simplifié'!S64=\"Horaire\",\"Hourly\",\"\"))))))","v":""},{"$f":"IF('Outil Recensement simplifié'!T64>0,'Outil Recensement simplifié'!T64,\"\")","v":""},{"$f":"IF('Outil Recensement simplifié'!U64>0,'Outil Recensement simplifié'!U64,\"\")","v":""},{"$f":"IF('Outil Recensement simplifié'!V64=\"Exemptée\",\"Yes\",\"\")","v":""},{"$f":"IF('Outil Recensement simplifié'!W64=\"Exemptée\",\"Yes\",\"\")","v":""},{"$f":"IF('Outil Recensement simplifié'!X64>0,'Outil Recensement simplifié'!X64,\"\")","v":""},{"$f":"IF('Outil Recensement simplifié'!Y64>0,'Outil Recensement simplifié'!Y64,\"\")","v":""},{"$f":"IF('Outil Recensement simplifié'!Z64>0,'Outil Recensement simplifié'!Z64,\"\")","v":""},{"$f":"IF('Outil Recensement simplifié'!AA64>0,'Outil Recensement simplifié'!AA64,\"\")","v":""},{"$f":"IF('Outil Recensement simplifié'!AB64>0,'Outil Recensement simplifié'!AB64,\"\")","v":""},{"$f":"IF('Outil Recensement simplifié'!AC64>0,'Outil Recensement simplifié'!AC64,\"\")","v":" "},{"$f":"IF('Outil Recensement simplifié'!AE64>0,'Outil Recensement simplifié'!AE64&\" \",\"\")&IF('Outil Recensement simplifié'!AD64>0,'Outil Recensement simplifié'!AD64,\"\")","v":""},null,{"$f":"IF('Outil Recensement simplifié'!AF64>0,'Outil Recensement simplifié'!AF64,\"\")","v":""},{"$f":"IF('Outil Recensement simplifié'!AG64>0,'Outil Recensement simplifié'!AG64,\"\")","v":""},{"$f":"IF('Outil Recensement simplifié'!AH64>0,'Outil Recensement simplifié'!AH64,\"\")","v":""},{"$f":"IF('Outil Recensement simplifié'!AI64>0,'Outil Recensement simplifié'!AI64,\"\")","v":""},{"$f":"IF('Outil Recensement simplifié'!AJ64>0,'Outil Recensement simplifié'!AJ64,\"\")","v":""},{"$f":"IF('Outil Recensement simplifié'!AK64>0,'Outil Recensement simplifié'!AK64,\"\")","v":""},{"$f":"IF('Outil Recensement simplifié'!AL64>0,'Outil Recensement simplifié'!AL64,\"\")","v":""},{"$f":"IF('Outil Recensement simplifié'!AM64>0,'Outil Recensement simplifié'!AM64,\"\")","v":""},{"$f":"IF('Outil Recensement simplifié'!AN64=\"Homme\",\"Male\",IF('Outil Recensement simplifié'!AN64=\"Femme\",\"Female\",IF('Outil Recensement simplifié'!AN64=\"H\",\"Male\",IF('Outil Recensement simplifié'!AN64=\"F\",\"Female\",\"\"))))","v":""},{"$f":"IF('Outil Recensement simplifié'!AO64=\"Individuelle\",\"Single\",IF('Outil Recensement simplifié'!AO64=\"Famille\",\"Family\",IF('Outil Recensement simplifié'!AO64=\"Individuel\",\"Single\",IF('Outil Recensement simplifié'!AO64=\"Familiale\",\"Family\",IF('Outil Recensement simplifié'!AO64=\"I\",\"Single\",IF('Outil Recensement simplifié'!AO64=\"F\",\"Family\",\"\"))))))","v":""},{"$f":"IF('Outil Recensement simplifié'!AP64=\"Individuelle\",\"Single\",IF('Outil Recensement simplifié'!AP64=\"Famille\",\"Family\",IF('Outil Recensement simplifié'!AP64=\"Individuel\",\"Single\",IF('Outil Recensement simplifié'!AP64=\"Familiale\",\"Family\",IF('Outil Recensement simplifié'!AP64=\"I\",\"Single\",IF('Outil Recensement simplifié'!AP64=\"F\",\"Family\",\"\"))))))","v":""},{"$f":"IF('Outil Recensement simplifié'!AQ64>0,'Outil Recensement simplifié'!AQ64,\"\")","v":""},{"$f":"IF('Outil Recensement simplifié'!AR64=\"Oui\",\"Yes\",IF('Outil Recensement simplifié'!AR64=\"Non\",\"No\",IF('Outil Recensement simplifié'!AR64=\"O\",\"Yes\",IF('Outil Recensement simplifié'!AR64=\"N\",\"No\",\"\"))))","v":""},{"$f":"IF('Outil Recensement simplifié'!AS64>0,'Outil Recensement simplifié'!AS64,\"\")","v":""},{"$f":"IF('Outil Recensement simplifié'!AT64>0,'Outil Recensement simplifié'!AT64,\"\")","v":""},{"$f":"IF('Outil Recensement simplifié'!AU64>0,'Outil Recensement simplifié'!AU64,\"\")","v":""},{"$f":"IF('Outil Recensement simplifié'!AV64=\"Homme\",\"Male\",IF('Outil Recensement simplifié'!AV64=\"Femme\",\"Female\",IF('Outil Recensement simplifié'!AV64=\"H\",\"Male\",IF('Outil Recensement simplifié'!AV64=\"F\",\"Female\",\"\"))))","v":""},{"$f":"IF('Outil Recensement simplifié'!AW64=\"Oui\",\"Yes\",IF('Outil Recensement simplifié'!AW64=\"Non\",\"No\",IF('Outil Recensement simplifié'!AW64=\"O\",\"Yes\",IF('Outil Recensement simplifié'!AW64=\"N\",\"No\",\"\"))))","v":""},{"$f":"IF('Outil Recensement simplifié'!AX64=\"Oui\",\"Yes\",IF('Outil Recensement simplifié'!AX64=\"Non\",\"No\",IF('Outil Recensement simplifié'!AX64=\"O\",\"Yes\",IF('Outil Recensement simplifié'!AX64=\"N\",\"No\",\"\"))))","v":""},{"$f":"IF('Outil Recensement simplifié'!AY64>0,'Outil Recensement simplifié'!AY64,\"\")","v":""},{"$f":"IF('Outil Recensement simplifié'!AZ64>0,'Outil Recensement simplifié'!AZ64,\"\")","v":""},{"$f":"IF('Outil Recensement simplifié'!BA64>0,'Outil Recensement simplifié'!BA64,\"\")","v":""},{"$f":"IF('Outil Recensement simplifié'!BB64=\"Homme\",\"Male\",IF('Outil Recensement simplifié'!BB64=\"Femme\",\"Female\",IF('Outil Recensement simplifié'!BB64=\"H\",\"Male\",IF('Outil Recensement simplifié'!BB64=\"F\",\"Female\",\"\"))))","v":""},{"$f":"IF('Outil Recensement simplifié'!BC64=\"Oui\",\"Yes\",IF('Outil Recensement simplifié'!BC64=\"Non\",\"No\",IF('Outil Recensement simplifié'!BC64=\"O\",\"Yes\",IF('Outil Recensement simplifié'!BC64=\"N\",\"No\",\"\"))))","v":""},{"$f":"IF('Outil Recensement simplifié'!BD64=\"Oui\",\"Yes\",IF('Outil Recensement simplifié'!BD64=\"Non\",\"No\",IF('Outil Recensement simplifié'!BD64=\"O\",\"Yes\",IF('Outil Recensement simplifié'!BD64=\"N\",\"No\",\"\"))))","v":""},{"$f":"IF('Outil Recensement simplifié'!BE64>0,'Outil Recensement simplifié'!BE64,\"\")","v":""},{"$f":"IF('Outil Recensement simplifié'!BF64>0,'Outil Recensement simplifié'!BF64,\"\")","v":""},{"$f":"IF('Outil Recensement simplifié'!BG64>0,'Outil Recensement simplifié'!BG64,\"\")","v":""},{"$f":"IF('Outil Recensement simplifié'!BH64=\"Homme\",\"Male\",IF('Outil Recensement simplifié'!BH64=\"Femme\",\"Female\",IF('Outil Recensement simplifié'!BH64=\"H\",\"Male\",IF('Outil Recensement simplifié'!BH64=\"F\",\"Female\",\"\"))))","v":""},{"$f":"IF('Outil Recensement simplifié'!BI64=\"Oui\",\"Yes\",IF('Outil Recensement simplifié'!BI64=\"Non\",\"No\",IF('Outil Recensement simplifié'!BI64=\"O\",\"Yes\",IF('Outil Recensement simplifié'!BI64=\"N\",\"No\",\"\"))))","v":""},{"$f":"IF('Outil Recensement simplifié'!BJ64=\"Oui\",\"Yes\",IF('Outil Recensement simplifié'!BJ64=\"Non\",\"No\",IF('Outil Recensement simplifié'!BJ64=\"O\",\"Yes\",IF('Outil Recensement simplifié'!BJ64=\"N\",\"No\",\"\"))))","v":""},{"$f":"IF('Outil Recensement simplifié'!BK64>0,'Outil Recensement simplifié'!BK64,\"\")","v":""},{"$f":"IF('Outil Recensement simplifié'!BL64>0,'Outil Recensement simplifié'!BL64,\"\")","v":""},{"$f":"IF('Outil Recensement simplifié'!BM64>0,'Outil Recensement simplifié'!BM64,\"\")","v":""},{"$f":"IF('Outil Recensement simplifié'!BN64=\"Homme\",\"Male\",IF('Outil Recensement simplifié'!BN64=\"Femme\",\"Female\",IF('Outil Recensement simplifié'!BN64=\"H\",\"Male\",IF('Outil Recensement simplifié'!BN64=\"F\",\"Female\",\"\"))))","v":""},{"$f":"IF('Outil Recensement simplifié'!BO64=\"Oui\",\"Yes\",IF('Outil Recensement simplifié'!BO64=\"Non\",\"No\",IF('Outil Recensement simplifié'!BO64=\"O\",\"Yes\",IF('Outil Recensement simplifié'!BO64=\"N\",\"No\",\"\"))))","v":""},{"$f":"IF('Outil Recensement simplifié'!BP64=\"Oui\",\"Yes\",IF('Outil Recensement simplifié'!BP64=\"Non\",\"No\",IF('Outil Recensement simplifié'!BP64=\"O\",\"Yes\",IF('Outil Recensement simplifié'!BP64=\"N\",\"No\",\"\"))))","v":""},{"$f":"IF('Outil Recensement simplifié'!BQ64>0,'Outil Recensement simplifié'!BQ64,\"\")","v":""},{"$f":"IF('Outil Recensement simplifié'!BR64>0,'Outil Recensement simplifié'!BR64,\"\")","v":""},{"$f":"IF('Outil Recensement simplifié'!BS64>0,'Outil Recensement simplifié'!BS64,\"\")","v":""},{"$f":"IF('Outil Recensement simplifié'!BT64=\"Homme\",\"Male\",IF('Outil Recensement simplifié'!BT64=\"Femme\",\"Female\",IF('Outil Recensement simplifié'!BT64=\"H\",\"Male\",IF('Outil Recensement simplifié'!BT64=\"F\",\"Female\",\"\"))))","v":""},{"$f":"IF('Outil Recensement simplifié'!BU64=\"Oui\",\"Yes\",IF('Outil Recensement simplifié'!BU64=\"Non\",\"No\",IF('Outil Recensement simplifié'!BU64=\"O\",\"Yes\",IF('Outil Recensement simplifié'!BU64=\"N\",\"No\",\"\"))))","v":""},{"$f":"IF('Outil Recensement simplifié'!BV64=\"Oui\",\"Yes\",IF('Outil Recensement simplifié'!BV64=\"Non\",\"No\",IF('Outil Recensement simplifié'!BV64=\"O\",\"Yes\",IF('Outil Recensement simplifié'!BV64=\"N\",\"No\",\"\"))))","v":""},{"$f":"IF('Outil Recensement simplifié'!BW64>0,'Outil Recensement simplifié'!BW64,\"\")","v":""},{"$f":"IF('Outil Recensement simplifié'!BX64>0,'Outil Recensement simplifié'!BX64,\"\")","v":""},{"$f":"IF('Outil Recensement simplifié'!BY64>0,'Outil Recensement simplifié'!BY64,\"\")","v":""},{"$f":"IF('Outil Recensement simplifié'!BZ64=\"Homme\",\"Male\",IF('Outil Recensement simplifié'!BZ64=\"Femme\",\"Female\",IF('Outil Recensement simplifié'!BZ64=\"H\",\"Male\",IF('Outil Recensement simplifié'!BZ64=\"F\",\"Female\",\"\"))))","v":""},{"$f":"IF('Outil Recensement simplifié'!CA64=\"Oui\",\"Yes\",IF('Outil Recensement simplifié'!CA64=\"Non\",\"No\",IF('Outil Recensement simplifié'!CA64=\"O\",\"Yes\",IF('Outil Recensement simplifié'!CA64=\"N\",\"No\",\"\"))))","v":""},{"$f":"IF('Outil Recensement simplifié'!CB64=\"Oui\",\"Yes\",IF('Outil Recensement simplifié'!CB64=\"Non\",\"No\",IF('Outil Recensement simplifié'!CB64=\"O\",\"Yes\",IF('Outil Recensement simplifié'!CB64=\"N\",\"No\",\"\"))))","v":""},{"$f":"IF('Outil Recensement simplifié'!CH64>0,'Outil Recensement simplifié'!CH64,\"\")","v":"    "}]
[{"$f":"IF('Outil Recensement simplifié'!A65>0,'Outil Recensement simplifié'!A65,\"\")","v":""},{"$f":"IF('Outil Recensement simplifié'!B65>0,'Outil Recensement simplifié'!B65,\"\")","v":""},{"$f":"IF('Outil Recensement simplifié'!C65>0,'Outil Recensement simplifié'!C65,\"\")","v":""},{"$f":"IF('Outil Recensement simplifié'!D65>0,'Outil Recensement simplifié'!D65,\"\")","v":""},{"$f":"IF('Outil Recensement simplifié'!E65>0,TEXT('Outil Recensement simplifié'!E65,\"000\"),\"\")","v":""},{"$f":"IF('Outil Recensement simplifié'!F65>0,'Outil Recensement simplifié'!F65,\"\")","v":""},{"$f":"IF('Outil Recensement simplifié'!G65>0,'Outil Recensement simplifié'!G65,\"\")","v":""},{"$f":"IF('Outil Recensement simplifié'!I65>0,'Outil Recensement simplifié'!I65,\"\")","v":""},{"$f":"IF('Outil Recensement simplifié'!J65>0,'Outil Recensement simplifié'!J65,\"\")","v":""},{"$f":"IF('Outil Recensement simplifié'!K65>0,'Outil Recensement simplifié'!K65,\"\")","v":""},{"$f":"IF('Outil Recensement simplifié'!L65>0,'Outil Recensement simplifié'!L65,\"\")","v":""},{"$f":"IF('Outil Recensement simplifié'!M65=\"Homme\",\"Male\",IF('Outil Recensement simplifié'!M65=\"Femme\",\"Female\",IF('Outil Recensement simplifié'!M65=\"H\",\"Male\",IF('Outil Recensement simplifié'!M65=\"F\",\"Female\",\"\"))))","v":""},{"$f":"IF('Outil Recensement simplifié'!N65=\"Oui\",\"Yes\",IF('Outil Recensement simplifié'!N65=\"Non\",\"No\",IF('Outil Recensement simplifié'!N65=\"O\",\"Yes\",IF('Outil Recensement simplifié'!N65=\"N\",\"No\",\"\"))))","v":""},{"$f":"IF('Outil Recensement simplifié'!O65=\"Non\",\"Single\",IF('Outil Recensement simplifié'!O65=\"Oui\",\"Family\",IF('Outil Recensement simplifié'!O65=\"N\",\"Single\",IF('Outil Recensement simplifié'!O65=\"O\",\"Family\",IF('Outil Recensement simplifié'!O65=\"En vigueur\",\"Family\",\"\")))))","v":""},{"$f":"IF('Outil Recensement simplifié'!P65=\"Anglais\",\"English\",IF('Outil Recensement simplifié'!P65=\"Français\",\"French\",IF('Outil Recensement simplifié'!P65=\"A\",\"English\",IF('Outil Recensement simplifié'!P65=\"F\",\"French\",\"\"))))","v":""},{"$f":"IF('Outil Recensement simplifié'!Q65=\"Oui\",\"Yes\",IF('Outil Recensement simplifié'!Q65=\"Non\",\"No\",IF('Outil Recensement simplifié'!Q65=\"O\",\"Yes\",IF('Outil Recensement simplifié'!Q65=\"N\",\"No\",\"\"))))","v":""},{"$f":"IF('Outil Recensement simplifié'!R65>0,'Outil Recensement simplifié'!R65,\"\")","v":""},{"$f":"IF('Outil Recensement simplifié'!S65=\"Annuelle\",\"Annually\",IF('Outil Recensement simplifié'!S65=\"Mensuelle\",\"Monthly\",IF('Outil Recensement simplifié'!S65=\"Aux deux semaines\",\"Biweekly\",IF('Outil Recensement simplifié'!S65=\"Bimensuelle\",\"Semi-Monthly\",IF('Outil Recensement simplifié'!S65=\"Hebdomadaire\",\"Weekly\",IF('Outil Recensement simplifié'!S65=\"Horaire\",\"Hourly\",\"\"))))))","v":""},{"$f":"IF('Outil Recensement simplifié'!T65>0,'Outil Recensement simplifié'!T65,\"\")","v":""},{"$f":"IF('Outil Recensement simplifié'!U65>0,'Outil Recensement simplifié'!U65,\"\")","v":""},{"$f":"IF('Outil Recensement simplifié'!V65=\"Exemptée\",\"Yes\",\"\")","v":""},{"$f":"IF('Outil Recensement simplifié'!W65=\"Exemptée\",\"Yes\",\"\")","v":""},{"$f":"IF('Outil Recensement simplifié'!X65>0,'Outil Recensement simplifié'!X65,\"\")","v":""},{"$f":"IF('Outil Recensement simplifié'!Y65>0,'Outil Recensement simplifié'!Y65,\"\")","v":""},{"$f":"IF('Outil Recensement simplifié'!Z65>0,'Outil Recensement simplifié'!Z65,\"\")","v":""},{"$f":"IF('Outil Recensement simplifié'!AA65>0,'Outil Recensement simplifié'!AA65,\"\")","v":""},{"$f":"IF('Outil Recensement simplifié'!AB65>0,'Outil Recensement simplifié'!AB65,\"\")","v":""},{"$f":"IF('Outil Recensement simplifié'!AC65>0,'Outil Recensement simplifié'!AC65,\"\")","v":" "},{"$f":"IF('Outil Recensement simplifié'!AE65>0,'Outil Recensement simplifié'!AE65&\" \",\"\")&IF('Outil Recensement simplifié'!AD65>0,'Outil Recensement simplifié'!AD65,\"\")","v":""},null,{"$f":"IF('Outil Recensement simplifié'!AF65>0,'Outil Recensement simplifié'!AF65,\"\")","v":""},{"$f":"IF('Outil Recensement simplifié'!AG65>0,'Outil Recensement simplifié'!AG65,\"\")","v":""},{"$f":"IF('Outil Recensement simplifié'!AH65>0,'Outil Recensement simplifié'!AH65,\"\")","v":""},{"$f":"IF('Outil Recensement simplifié'!AI65>0,'Outil Recensement simplifié'!AI65,\"\")","v":""},{"$f":"IF('Outil Recensement simplifié'!AJ65>0,'Outil Recensement simplifié'!AJ65,\"\")","v":""},{"$f":"IF('Outil Recensement simplifié'!AK65>0,'Outil Recensement simplifié'!AK65,\"\")","v":""},{"$f":"IF('Outil Recensement simplifié'!AL65>0,'Outil Recensement simplifié'!AL65,\"\")","v":""},{"$f":"IF('Outil Recensement simplifié'!AM65>0,'Outil Recensement simplifié'!AM65,\"\")","v":""},{"$f":"IF('Outil Recensement simplifié'!AN65=\"Homme\",\"Male\",IF('Outil Recensement simplifié'!AN65=\"Femme\",\"Female\",IF('Outil Recensement simplifié'!AN65=\"H\",\"Male\",IF('Outil Recensement simplifié'!AN65=\"F\",\"Female\",\"\"))))","v":""},{"$f":"IF('Outil Recensement simplifié'!AO65=\"Individuelle\",\"Single\",IF('Outil Recensement simplifié'!AO65=\"Famille\",\"Family\",IF('Outil Recensement simplifié'!AO65=\"Individuel\",\"Single\",IF('Outil Recensement simplifié'!AO65=\"Familiale\",\"Family\",IF('Outil Recensement simplifié'!AO65=\"I\",\"Single\",IF('Outil Recensement simplifié'!AO65=\"F\",\"Family\",\"\"))))))","v":""},{"$f":"IF('Outil Recensement simplifié'!AP65=\"Individuelle\",\"Single\",IF('Outil Recensement simplifié'!AP65=\"Famille\",\"Family\",IF('Outil Recensement simplifié'!AP65=\"Individuel\",\"Single\",IF('Outil Recensement simplifié'!AP65=\"Familiale\",\"Family\",IF('Outil Recensement simplifié'!AP65=\"I\",\"Single\",IF('Outil Recensement simplifié'!AP65=\"F\",\"Family\",\"\"))))))","v":""},{"$f":"IF('Outil Recensement simplifié'!AQ65>0,'Outil Recensement simplifié'!AQ65,\"\")","v":""},{"$f":"IF('Outil Recensement simplifié'!AR65=\"Oui\",\"Yes\",IF('Outil Recensement simplifié'!AR65=\"Non\",\"No\",IF('Outil Recensement simplifié'!AR65=\"O\",\"Yes\",IF('Outil Recensement simplifié'!AR65=\"N\",\"No\",\"\"))))","v":""},{"$f":"IF('Outil Recensement simplifié'!AS65>0,'Outil Recensement simplifié'!AS65,\"\")","v":""},{"$f":"IF('Outil Recensement simplifié'!AT65>0,'Outil Recensement simplifié'!AT65,\"\")","v":""},{"$f":"IF('Outil Recensement simplifié'!AU65>0,'Outil Recensement simplifié'!AU65,\"\")","v":""},{"$f":"IF('Outil Recensement simplifié'!AV65=\"Homme\",\"Male\",IF('Outil Recensement simplifié'!AV65=\"Femme\",\"Female\",IF('Outil Recensement simplifié'!AV65=\"H\",\"Male\",IF('Outil Recensement simplifié'!AV65=\"F\",\"Female\",\"\"))))","v":""},{"$f":"IF('Outil Recensement simplifié'!AW65=\"Oui\",\"Yes\",IF('Outil Recensement simplifié'!AW65=\"Non\",\"No\",IF('Outil Recensement simplifié'!AW65=\"O\",\"Yes\",IF('Outil Recensement simplifié'!AW65=\"N\",\"No\",\"\"))))","v":""},{"$f":"IF('Outil Recensement simplifié'!AX65=\"Oui\",\"Yes\",IF('Outil Recensement simplifié'!AX65=\"Non\",\"No\",IF('Outil Recensement simplifié'!AX65=\"O\",\"Yes\",IF('Outil Recensement simplifié'!AX65=\"N\",\"No\",\"\"))))","v":""},{"$f":"IF('Outil Recensement simplifié'!AY65>0,'Outil Recensement simplifié'!AY65,\"\")","v":""},{"$f":"IF('Outil Recensement simplifié'!AZ65>0,'Outil Recensement simplifié'!AZ65,\"\")","v":""},{"$f":"IF('Outil Recensement simplifié'!BA65>0,'Outil Recensement simplifié'!BA65,\"\")","v":""},{"$f":"IF('Outil Recensement simplifié'!BB65=\"Homme\",\"Male\",IF('Outil Recensement simplifié'!BB65=\"Femme\",\"Female\",IF('Outil Recensement simplifié'!BB65=\"H\",\"Male\",IF('Outil Recensement simplifié'!BB65=\"F\",\"Female\",\"\"))))","v":""},{"$f":"IF('Outil Recensement simplifié'!BC65=\"Oui\",\"Yes\",IF('Outil Recensement simplifié'!BC65=\"Non\",\"No\",IF('Outil Recensement simplifié'!BC65=\"O\",\"Yes\",IF('Outil Recensement simplifié'!BC65=\"N\",\"No\",\"\"))))","v":""},{"$f":"IF('Outil Recensement simplifié'!BD65=\"Oui\",\"Yes\",IF('Outil Recensement simplifié'!BD65=\"Non\",\"No\",IF('Outil Recensement simplifié'!BD65=\"O\",\"Yes\",IF('Outil Recensement simplifié'!BD65=\"N\",\"No\",\"\"))))","v":""},{"$f":"IF('Outil Recensement simplifié'!BE65>0,'Outil Recensement simplifié'!BE65,\"\")","v":""},{"$f":"IF('Outil Recensement simplifié'!BF65>0,'Outil Recensement simplifié'!BF65,\"\")","v":""},{"$f":"IF('Outil Recensement simplifié'!BG65>0,'Outil Recensement simplifié'!BG65,\"\")","v":""},{"$f":"IF('Outil Recensement simplifié'!BH65=\"Homme\",\"Male\",IF('Outil Recensement simplifié'!BH65=\"Femme\",\"Female\",IF('Outil Recensement simplifié'!BH65=\"H\",\"Male\",IF('Outil Recensement simplifié'!BH65=\"F\",\"Female\",\"\"))))","v":""},{"$f":"IF('Outil Recensement simplifié'!BI65=\"Oui\",\"Yes\",IF('Outil Recensement simplifié'!BI65=\"Non\",\"No\",IF('Outil Recensement simplifié'!BI65=\"O\",\"Yes\",IF('Outil Recensement simplifié'!BI65=\"N\",\"No\",\"\"))))","v":""},{"$f":"IF('Outil Recensement simplifié'!BJ65=\"Oui\",\"Yes\",IF('Outil Recensement simplifié'!BJ65=\"Non\",\"No\",IF('Outil Recensement simplifié'!BJ65=\"O\",\"Yes\",IF('Outil Recensement simplifié'!BJ65=\"N\",\"No\",\"\"))))","v":""},{"$f":"IF('Outil Recensement simplifié'!BK65>0,'Outil Recensement simplifié'!BK65,\"\")","v":""},{"$f":"IF('Outil Recensement simplifié'!BL65>0,'Outil Recensement simplifié'!BL65,\"\")","v":""},{"$f":"IF('Outil Recensement simplifié'!BM65>0,'Outil Recensement simplifié'!BM65,\"\")","v":""},{"$f":"IF('Outil Recensement simplifié'!BN65=\"Homme\",\"Male\",IF('Outil Recensement simplifié'!BN65=\"Femme\",\"Female\",IF('Outil Recensement simplifié'!BN65=\"H\",\"Male\",IF('Outil Recensement simplifié'!BN65=\"F\",\"Female\",\"\"))))","v":""},{"$f":"IF('Outil Recensement simplifié'!BO65=\"Oui\",\"Yes\",IF('Outil Recensement simplifié'!BO65=\"Non\",\"No\",IF('Outil Recensement simplifié'!BO65=\"O\",\"Yes\",IF('Outil Recensement simplifié'!BO65=\"N\",\"No\",\"\"))))","v":""},{"$f":"IF('Outil Recensement simplifié'!BP65=\"Oui\",\"Yes\",IF('Outil Recensement simplifié'!BP65=\"Non\",\"No\",IF('Outil Recensement simplifié'!BP65=\"O\",\"Yes\",IF('Outil Recensement simplifié'!BP65=\"N\",\"No\",\"\"))))","v":""},{"$f":"IF('Outil Recensement simplifié'!BQ65>0,'Outil Recensement simplifié'!BQ65,\"\")","v":""},{"$f":"IF('Outil Recensement simplifié'!BR65>0,'Outil Recensement simplifié'!BR65,\"\")","v":""},{"$f":"IF('Outil Recensement simplifié'!BS65>0,'Outil Recensement simplifié'!BS65,\"\")","v":""},{"$f":"IF('Outil Recensement simplifié'!BT65=\"Homme\",\"Male\",IF('Outil Recensement simplifié'!BT65=\"Femme\",\"Female\",IF('Outil Recensement simplifié'!BT65=\"H\",\"Male\",IF('Outil Recensement simplifié'!BT65=\"F\",\"Female\",\"\"))))","v":""},{"$f":"IF('Outil Recensement simplifié'!BU65=\"Oui\",\"Yes\",IF('Outil Recensement simplifié'!BU65=\"Non\",\"No\",IF('Outil Recensement simplifié'!BU65=\"O\",\"Yes\",IF('Outil Recensement simplifié'!BU65=\"N\",\"No\",\"\"))))","v":""},{"$f":"IF('Outil Recensement simplifié'!BV65=\"Oui\",\"Yes\",IF('Outil Recensement simplifié'!BV65=\"Non\",\"No\",IF('Outil Recensement simplifié'!BV65=\"O\",\"Yes\",IF('Outil Recensement simplifié'!BV65=\"N\",\"No\",\"\"))))","v":""},{"$f":"IF('Outil Recensement simplifié'!BW65>0,'Outil Recensement simplifié'!BW65,\"\")","v":""},{"$f":"IF('Outil Recensement simplifié'!BX65>0,'Outil Recensement simplifié'!BX65,\"\")","v":""},{"$f":"IF('Outil Recensement simplifié'!BY65>0,'Outil Recensement simplifié'!BY65,\"\")","v":""},{"$f":"IF('Outil Recensement simplifié'!BZ65=\"Homme\",\"Male\",IF('Outil Recensement simplifié'!BZ65=\"Femme\",\"Female\",IF('Outil Recensement simplifié'!BZ65=\"H\",\"Male\",IF('Outil Recensement simplifié'!BZ65=\"F\",\"Female\",\"\"))))","v":""},{"$f":"IF('Outil Recensement simplifié'!CA65=\"Oui\",\"Yes\",IF('Outil Recensement simplifié'!CA65=\"Non\",\"No\",IF('Outil Recensement simplifié'!CA65=\"O\",\"Yes\",IF('Outil Recensement simplifié'!CA65=\"N\",\"No\",\"\"))))","v":""},{"$f":"IF('Outil Recensement simplifié'!CB65=\"Oui\",\"Yes\",IF('Outil Recensement simplifié'!CB65=\"Non\",\"No\",IF('Outil Recensement simplifié'!CB65=\"O\",\"Yes\",IF('Outil Recensement simplifié'!CB65=\"N\",\"No\",\"\"))))","v":""},{"$f":"IF('Outil Recensement simplifié'!CH65>0,'Outil Recensement simplifié'!CH65,\"\")","v":"    "}]
[{"$f":"IF('Outil Recensement simplifié'!A66>0,'Outil Recensement simplifié'!A66,\"\")","v":""},{"$f":"IF('Outil Recensement simplifié'!B66>0,'Outil Recensement simplifié'!B66,\"\")","v":""},{"$f":"IF('Outil Recensement simplifié'!C66>0,'Outil Recensement simplifié'!C66,\"\")","v":""},{"$f":"IF('Outil Recensement simplifié'!D66>0,'Outil Recensement simplifié'!D66,\"\")","v":""},{"$f":"IF('Outil Recensement simplifié'!E66>0,TEXT('Outil Recensement simplifié'!E66,\"000\"),\"\")","v":""},{"$f":"IF('Outil Recensement simplifié'!F66>0,'Outil Recensement simplifié'!F66,\"\")","v":""},{"$f":"IF('Outil Recensement simplifié'!G66>0,'Outil Recensement simplifié'!G66,\"\")","v":""},{"$f":"IF('Outil Recensement simplifié'!I66>0,'Outil Recensement simplifié'!I66,\"\")","v":""},{"$f":"IF('Outil Recensement simplifié'!J66>0,'Outil Recensement simplifié'!J66,\"\")","v":""},{"$f":"IF('Outil Recensement simplifié'!K66>0,'Outil Recensement simplifié'!K66,\"\")","v":""},{"$f":"IF('Outil Recensement simplifié'!L66>0,'Outil Recensement simplifié'!L66,\"\")","v":""},{"$f":"IF('Outil Recensement simplifié'!M66=\"Homme\",\"Male\",IF('Outil Recensement simplifié'!M66=\"Femme\",\"Female\",IF('Outil Recensement simplifié'!M66=\"H\",\"Male\",IF('Outil Recensement simplifié'!M66=\"F\",\"Female\",\"\"))))","v":""},{"$f":"IF('Outil Recensement simplifié'!N66=\"Oui\",\"Yes\",IF('Outil Recensement simplifié'!N66=\"Non\",\"No\",IF('Outil Recensement simplifié'!N66=\"O\",\"Yes\",IF('Outil Recensement simplifié'!N66=\"N\",\"No\",\"\"))))","v":""},{"$f":"IF('Outil Recensement simplifié'!O66=\"Non\",\"Single\",IF('Outil Recensement simplifié'!O66=\"Oui\",\"Family\",IF('Outil Recensement simplifié'!O66=\"N\",\"Single\",IF('Outil Recensement simplifié'!O66=\"O\",\"Family\",IF('Outil Recensement simplifié'!O66=\"En vigueur\",\"Family\",\"\")))))","v":""},{"$f":"IF('Outil Recensement simplifié'!P66=\"Anglais\",\"English\",IF('Outil Recensement simplifié'!P66=\"Français\",\"French\",IF('Outil Recensement simplifié'!P66=\"A\",\"English\",IF('Outil Recensement simplifié'!P66=\"F\",\"French\",\"\"))))","v":""},{"$f":"IF('Outil Recensement simplifié'!Q66=\"Oui\",\"Yes\",IF('Outil Recensement simplifié'!Q66=\"Non\",\"No\",IF('Outil Recensement simplifié'!Q66=\"O\",\"Yes\",IF('Outil Recensement simplifié'!Q66=\"N\",\"No\",\"\"))))","v":""},{"$f":"IF('Outil Recensement simplifié'!R66>0,'Outil Recensement simplifié'!R66,\"\")","v":""},{"$f":"IF('Outil Recensement simplifié'!S66=\"Annuelle\",\"Annually\",IF('Outil Recensement simplifié'!S66=\"Mensuelle\",\"Monthly\",IF('Outil Recensement simplifié'!S66=\"Aux deux semaines\",\"Biweekly\",IF('Outil Recensement simplifié'!S66=\"Bimensuelle\",\"Semi-Monthly\",IF('Outil Recensement simplifié'!S66=\"Hebdomadaire\",\"Weekly\",IF('Outil Recensement simplifié'!S66=\"Horaire\",\"Hourly\",\"\"))))))","v":""},{"$f":"IF('Outil Recensement simplifié'!T66>0,'Outil Recensement simplifié'!T66,\"\")","v":""},{"$f":"IF('Outil Recensement simplifié'!U66>0,'Outil Recensement simplifié'!U66,\"\")","v":""},{"$f":"IF('Outil Recensement simplifié'!V66=\"Exemptée\",\"Yes\",\"\")","v":""},{"$f":"IF('Outil Recensement simplifié'!W66=\"Exemptée\",\"Yes\",\"\")","v":""},{"$f":"IF('Outil Recensement simplifié'!X66>0,'Outil Recensement simplifié'!X66,\"\")","v":""},{"$f":"IF('Outil Recensement simplifié'!Y66>0,'Outil Recensement simplifié'!Y66,\"\")","v":""},{"$f":"IF('Outil Recensement simplifié'!Z66>0,'Outil Recensement simplifié'!Z66,\"\")","v":""},{"$f":"IF('Outil Recensement simplifié'!AA66>0,'Outil Recensement simplifié'!AA66,\"\")","v":""},{"$f":"IF('Outil Recensement simplifié'!AB66>0,'Outil Recensement simplifié'!AB66,\"\")","v":""},{"$f":"IF('Outil Recensement simplifié'!AC66>0,'Outil Recensement simplifié'!AC66,\"\")","v":" "},{"$f":"IF('Outil Recensement simplifié'!AE66>0,'Outil Recensement simplifié'!AE66&\" \",\"\")&IF('Outil Recensement simplifié'!AD66>0,'Outil Recensement simplifié'!AD66,\"\")","v":""},null,{"$f":"IF('Outil Recensement simplifié'!AF66>0,'Outil Recensement simplifié'!AF66,\"\")","v":""},{"$f":"IF('Outil Recensement simplifié'!AG66>0,'Outil Recensement simplifié'!AG66,\"\")","v":""},{"$f":"IF('Outil Recensement simplifié'!AH66>0,'Outil Recensement simplifié'!AH66,\"\")","v":""},{"$f":"IF('Outil Recensement simplifié'!AI66>0,'Outil Recensement simplifié'!AI66,\"\")","v":""},{"$f":"IF('Outil Recensement simplifié'!AJ66>0,'Outil Recensement simplifié'!AJ66,\"\")","v":""},{"$f":"IF('Outil Recensement simplifié'!AK66>0,'Outil Recensement simplifié'!AK66,\"\")","v":""},{"$f":"IF('Outil Recensement simplifié'!AL66>0,'Outil Recensement simplifié'!AL66,\"\")","v":""},{"$f":"IF('Outil Recensement simplifié'!AM66>0,'Outil Recensement simplifié'!AM66,\"\")","v":""},{"$f":"IF('Outil Recensement simplifié'!AN66=\"Homme\",\"Male\",IF('Outil Recensement simplifié'!AN66=\"Femme\",\"Female\",IF('Outil Recensement simplifié'!AN66=\"H\",\"Male\",IF('Outil Recensement simplifié'!AN66=\"F\",\"Female\",\"\"))))","v":""},{"$f":"IF('Outil Recensement simplifié'!AO66=\"Individuelle\",\"Single\",IF('Outil Recensement simplifié'!AO66=\"Famille\",\"Family\",IF('Outil Recensement simplifié'!AO66=\"Individuel\",\"Single\",IF('Outil Recensement simplifié'!AO66=\"Familiale\",\"Family\",IF('Outil Recensement simplifié'!AO66=\"I\",\"Single\",IF('Outil Recensement simplifié'!AO66=\"F\",\"Family\",\"\"))))))","v":""},{"$f":"IF('Outil Recensement simplifié'!AP66=\"Individuelle\",\"Single\",IF('Outil Recensement simplifié'!AP66=\"Famille\",\"Family\",IF('Outil Recensement simplifié'!AP66=\"Individuel\",\"Single\",IF('Outil Recensement simplifié'!AP66=\"Familiale\",\"Family\",IF('Outil Recensement simplifié'!AP66=\"I\",\"Single\",IF('Outil Recensement simplifié'!AP66=\"F\",\"Family\",\"\"))))))","v":""},{"$f":"IF('Outil Recensement simplifié'!AQ66>0,'Outil Recensement simplifié'!AQ66,\"\")","v":""},{"$f":"IF('Outil Recensement simplifié'!AR66=\"Oui\",\"Yes\",IF('Outil Recensement simplifié'!AR66=\"Non\",\"No\",IF('Outil Recensement simplifié'!AR66=\"O\",\"Yes\",IF('Outil Recensement simplifié'!AR66=\"N\",\"No\",\"\"))))","v":""},{"$f":"IF('Outil Recensement simplifié'!AS66>0,'Outil Recensement simplifié'!AS66,\"\")","v":""},{"$f":"IF('Outil Recensement simplifié'!AT66>0,'Outil Recensement simplifié'!AT66,\"\")","v":""},{"$f":"IF('Outil Recensement simplifié'!AU66>0,'Outil Recensement simplifié'!AU66,\"\")","v":""},{"$f":"IF('Outil Recensement simplifié'!AV66=\"Homme\",\"Male\",IF('Outil Recensement simplifié'!AV66=\"Femme\",\"Female\",IF('Outil Recensement simplifié'!AV66=\"H\",\"Male\",IF('Outil Recensement simplifié'!AV66=\"F\",\"Female\",\"\"))))","v":""},{"$f":"IF('Outil Recensement simplifié'!AW66=\"Oui\",\"Yes\",IF('Outil Recensement simplifié'!AW66=\"Non\",\"No\",IF('Outil Recensement simplifié'!AW66=\"O\",\"Yes\",IF('Outil Recensement simplifié'!AW66=\"N\",\"No\",\"\"))))","v":""},{"$f":"IF('Outil Recensement simplifié'!AX66=\"Oui\",\"Yes\",IF('Outil Recensement simplifié'!AX66=\"Non\",\"No\",IF('Outil Recensement simplifié'!AX66=\"O\",\"Yes\",IF('Outil Recensement simplifié'!AX66=\"N\",\"No\",\"\"))))","v":""},{"$f":"IF('Outil Recensement simplifié'!AY66>0,'Outil Recensement simplifié'!AY66,\"\")","v":""},{"$f":"IF('Outil Recensement simplifié'!AZ66>0,'Outil Recensement simplifié'!AZ66,\"\")","v":""},{"$f":"IF('Outil Recensement simplifié'!BA66>0,'Outil Recensement simplifié'!BA66,\"\")","v":""},{"$f":"IF('Outil Recensement simplifié'!BB66=\"Homme\",\"Male\",IF('Outil Recensement simplifié'!BB66=\"Femme\",\"Female\",IF('Outil Recensement simplifié'!BB66=\"H\",\"Male\",IF('Outil Recensement simplifié'!BB66=\"F\",\"Female\",\"\"))))","v":""},{"$f":"IF('Outil Recensement simplifié'!BC66=\"Oui\",\"Yes\",IF('Outil Recensement simplifié'!BC66=\"Non\",\"No\",IF('Outil Recensement simplifié'!BC66=\"O\",\"Yes\",IF('Outil Recensement simplifié'!BC66=\"N\",\"No\",\"\"))))","v":""},{"$f":"IF('Outil Recensement simplifié'!BD66=\"Oui\",\"Yes\",IF('Outil Recensement simplifié'!BD66=\"Non\",\"No\",IF('Outil Recensement simplifié'!BD66=\"O\",\"Yes\",IF('Outil Recensement simplifié'!BD66=\"N\",\"No\",\"\"))))","v":""},{"$f":"IF('Outil Recensement simplifié'!BE66>0,'Outil Recensement simplifié'!BE66,\"\")","v":""},{"$f":"IF('Outil Recensement simplifié'!BF66>0,'Outil Recensement simplifié'!BF66,\"\")","v":""},{"$f":"IF('Outil Recensement simplifié'!BG66>0,'Outil Recensement simplifié'!BG66,\"\")","v":""},{"$f":"IF('Outil Recensement simplifié'!BH66=\"Homme\",\"Male\",IF('Outil Recensement simplifié'!BH66=\"Femme\",\"Female\",IF('Outil Recensement simplifié'!BH66=\"H\",\"Male\",IF('Outil Recensement simplifié'!BH66=\"F\",\"Female\",\"\"))))","v":""},{"$f":"IF('Outil Recensement simplifié'!BI66=\"Oui\",\"Yes\",IF('Outil Recensement simplifié'!BI66=\"Non\",\"No\",IF('Outil Recensement simplifié'!BI66=\"O\",\"Yes\",IF('Outil Recensement simplifié'!BI66=\"N\",\"No\",\"\"))))","v":""},{"$f":"IF('Outil Recensement simplifié'!BJ66=\"Oui\",\"Yes\",IF('Outil Recensement simplifié'!BJ66=\"Non\",\"No\",IF('Outil Recensement simplifié'!BJ66=\"O\",\"Yes\",IF('Outil Recensement simplifié'!BJ66=\"N\",\"No\",\"\"))))","v":""},{"$f":"IF('Outil Recensement simplifié'!BK66>0,'Outil Recensement simplifié'!BK66,\"\")","v":""},{"$f":"IF('Outil Recensement simplifié'!BL66>0,'Outil Recensement simplifié'!BL66,\"\")","v":""},{"$f":"IF('Outil Recensement simplifié'!BM66>0,'Outil Recensement simplifié'!BM66,\"\")","v":""},{"$f":"IF('Outil Recensement simplifié'!BN66=\"Homme\",\"Male\",IF('Outil Recensement simplifié'!BN66=\"Femme\",\"Female\",IF('Outil Recensement simplifié'!BN66=\"H\",\"Male\",IF('Outil Recensement simplifié'!BN66=\"F\",\"Female\",\"\"))))","v":""},{"$f":"IF('Outil Recensement simplifié'!BO66=\"Oui\",\"Yes\",IF('Outil Recensement simplifié'!BO66=\"Non\",\"No\",IF('Outil Recensement simplifié'!BO66=\"O\",\"Yes\",IF('Outil Recensement simplifié'!BO66=\"N\",\"No\",\"\"))))","v":""},{"$f":"IF('Outil Recensement simplifié'!BP66=\"Oui\",\"Yes\",IF('Outil Recensement simplifié'!BP66=\"Non\",\"No\",IF('Outil Recensement simplifié'!BP66=\"O\",\"Yes\",IF('Outil Recensement simplifié'!BP66=\"N\",\"No\",\"\"))))","v":""},{"$f":"IF('Outil Recensement simplifié'!BQ66>0,'Outil Recensement simplifié'!BQ66,\"\")","v":""},{"$f":"IF('Outil Recensement simplifié'!BR66>0,'Outil Recensement simplifié'!BR66,\"\")","v":""},{"$f":"IF('Outil Recensement simplifié'!BS66>0,'Outil Recensement simplifié'!BS66,\"\")","v":""},{"$f":"IF('Outil Recensement simplifié'!BT66=\"Homme\",\"Male\",IF('Outil Recensement simplifié'!BT66=\"Femme\",\"Female\",IF('Outil Recensement simplifié'!BT66=\"H\",\"Male\",IF('Outil Recensement simplifié'!BT66=\"F\",\"Female\",\"\"))))","v":""},{"$f":"IF('Outil Recensement simplifié'!BU66=\"Oui\",\"Yes\",IF('Outil Recensement simplifié'!BU66=\"Non\",\"No\",IF('Outil Recensement simplifié'!BU66=\"O\",\"Yes\",IF('Outil Recensement simplifié'!BU66=\"N\",\"No\",\"\"))))","v":""},{"$f":"IF('Outil Recensement simplifié'!BV66=\"Oui\",\"Yes\",IF('Outil Recensement simplifié'!BV66=\"Non\",\"No\",IF('Outil Recensement simplifié'!BV66=\"O\",\"Yes\",IF('Outil Recensement simplifié'!BV66=\"N\",\"No\",\"\"))))","v":""},{"$f":"IF('Outil Recensement simplifié'!BW66>0,'Outil Recensement simplifié'!BW66,\"\")","v":""},{"$f":"IF('Outil Recensement simplifié'!BX66>0,'Outil Recensement simplifié'!BX66,\"\")","v":""},{"$f":"IF('Outil Recensement simplifié'!BY66>0,'Outil Recensement simplifié'!BY66,\"\")","v":""},{"$f":"IF('Outil Recensement simplifié'!BZ66=\"Homme\",\"Male\",IF('Outil Recensement simplifié'!BZ66=\"Femme\",\"Female\",IF('Outil Recensement simplifié'!BZ66=\"H\",\"Male\",IF('Outil Recensement simplifié'!BZ66=\"F\",\"Female\",\"\"))))","v":""},{"$f":"IF('Outil Recensement simplifié'!CA66=\"Oui\",\"Yes\",IF('Outil Recensement simplifié'!CA66=\"Non\",\"No\",IF('Outil Recensement simplifié'!CA66=\"O\",\"Yes\",IF('Outil Recensement simplifié'!CA66=\"N\",\"No\",\"\"))))","v":""},{"$f":"IF('Outil Recensement simplifié'!CB66=\"Oui\",\"Yes\",IF('Outil Recensement simplifié'!CB66=\"Non\",\"No\",IF('Outil Recensement simplifié'!CB66=\"O\",\"Yes\",IF('Outil Recensement simplifié'!CB66=\"N\",\"No\",\"\"))))","v":""},{"$f":"IF('Outil Recensement simplifié'!CH66>0,'Outil Recensement simplifié'!CH66,\"\")","v":"    "}]
[{"$f":"IF('Outil Recensement simplifié'!A67>0,'Outil Recensement simplifié'!A67,\"\")","v":""},{"$f":"IF('Outil Recensement simplifié'!B67>0,'Outil Recensement simplifié'!B67,\"\")","v":""},{"$f":"IF('Outil Recensement simplifié'!C67>0,'Outil Recensement simplifié'!C67,\"\")","v":""},{"$f":"IF('Outil Recensement simplifié'!D67>0,'Outil Recensement simplifié'!D67,\"\")","v":""},{"$f":"IF('Outil Recensement simplifié'!E67>0,TEXT('Outil Recensement simplifié'!E67,\"000\"),\"\")","v":""},{"$f":"IF('Outil Recensement simplifié'!F67>0,'Outil Recensement simplifié'!F67,\"\")","v":""},{"$f":"IF('Outil Recensement simplifié'!G67>0,'Outil Recensement simplifié'!G67,\"\")","v":""},{"$f":"IF('Outil Recensement simplifié'!I67>0,'Outil Recensement simplifié'!I67,\"\")","v":""},{"$f":"IF('Outil Recensement simplifié'!J67>0,'Outil Recensement simplifié'!J67,\"\")","v":""},{"$f":"IF('Outil Recensement simplifié'!K67>0,'Outil Recensement simplifié'!K67,\"\")","v":""},{"$f":"IF('Outil Recensement simplifié'!L67>0,'Outil Recensement simplifié'!L67,\"\")","v":""},{"$f":"IF('Outil Recensement simplifié'!M67=\"Homme\",\"Male\",IF('Outil Recensement simplifié'!M67=\"Femme\",\"Female\",IF('Outil Recensement simplifié'!M67=\"H\",\"Male\",IF('Outil Recensement simplifié'!M67=\"F\",\"Female\",\"\"))))","v":""},{"$f":"IF('Outil Recensement simplifié'!N67=\"Oui\",\"Yes\",IF('Outil Recensement simplifié'!N67=\"Non\",\"No\",IF('Outil Recensement simplifié'!N67=\"O\",\"Yes\",IF('Outil Recensement simplifié'!N67=\"N\",\"No\",\"\"))))","v":""},{"$f":"IF('Outil Recensement simplifié'!O67=\"Non\",\"Single\",IF('Outil Recensement simplifié'!O67=\"Oui\",\"Family\",IF('Outil Recensement simplifié'!O67=\"N\",\"Single\",IF('Outil Recensement simplifié'!O67=\"O\",\"Family\",IF('Outil Recensement simplifié'!O67=\"En vigueur\",\"Family\",\"\")))))","v":""},{"$f":"IF('Outil Recensement simplifié'!P67=\"Anglais\",\"English\",IF('Outil Recensement simplifié'!P67=\"Français\",\"French\",IF('Outil Recensement simplifié'!P67=\"A\",\"English\",IF('Outil Recensement simplifié'!P67=\"F\",\"French\",\"\"))))","v":""},{"$f":"IF('Outil Recensement simplifié'!Q67=\"Oui\",\"Yes\",IF('Outil Recensement simplifié'!Q67=\"Non\",\"No\",IF('Outil Recensement simplifié'!Q67=\"O\",\"Yes\",IF('Outil Recensement simplifié'!Q67=\"N\",\"No\",\"\"))))","v":""},{"$f":"IF('Outil Recensement simplifié'!R67>0,'Outil Recensement simplifié'!R67,\"\")","v":""},{"$f":"IF('Outil Recensement simplifié'!S67=\"Annuelle\",\"Annually\",IF('Outil Recensement simplifié'!S67=\"Mensuelle\",\"Monthly\",IF('Outil Recensement simplifié'!S67=\"Aux deux semaines\",\"Biweekly\",IF('Outil Recensement simplifié'!S67=\"Bimensuelle\",\"Semi-Monthly\",IF('Outil Recensement simplifié'!S67=\"Hebdomadaire\",\"Weekly\",IF('Outil Recensement simplifié'!S67=\"Horaire\",\"Hourly\",\"\"))))))","v":""},{"$f":"IF('Outil Recensement simplifié'!T67>0,'Outil Recensement simplifié'!T67,\"\")","v":""},{"$f":"IF('Outil Recensement simplifié'!U67>0,'Outil Recensement simplifié'!U67,\"\")","v":""},{"$f":"IF('Outil Recensement simplifié'!V67=\"Exemptée\",\"Yes\",\"\")","v":""},{"$f":"IF('Outil Recensement simplifié'!W67=\"Exemptée\",\"Yes\",\"\")","v":""},{"$f":"IF('Outil Recensement simplifié'!X67>0,'Outil Recensement simplifié'!X67,\"\")","v":""},{"$f":"IF('Outil Recensement simplifié'!Y67>0,'Outil Recensement simplifié'!Y67,\"\")","v":""},{"$f":"IF('Outil Recensement simplifié'!Z67>0,'Outil Recensement simplifié'!Z67,\"\")","v":""},{"$f":"IF('Outil Recensement simplifié'!AA67>0,'Outil Recensement simplifié'!AA67,\"\")","v":""},{"$f":"IF('Outil Recensement simplifié'!AB67>0,'Outil Recensement simplifié'!AB67,\"\")","v":""},{"$f":"IF('Outil Recensement simplifié'!AC67>0,'Outil Recensement simplifié'!AC67,\"\")","v":" "},{"$f":"IF('Outil Recensement simplifié'!AE67>0,'Outil Recensement simplifié'!AE67&\" \",\"\")&IF('Outil Recensement simplifié'!AD67>0,'Outil Recensement simplifié'!AD67,\"\")","v":""},null,{"$f":"IF('Outil Recensement simplifié'!AF67>0,'Outil Recensement simplifié'!AF67,\"\")","v":""},{"$f":"IF('Outil Recensement simplifié'!AG67>0,'Outil Recensement simplifié'!AG67,\"\")","v":""},{"$f":"IF('Outil Recensement simplifié'!AH67>0,'Outil Recensement simplifié'!AH67,\"\")","v":""},{"$f":"IF('Outil Recensement simplifié'!AI67>0,'Outil Recensement simplifié'!AI67,\"\")","v":""},{"$f":"IF('Outil Recensement simplifié'!AJ67>0,'Outil Recensement simplifié'!AJ67,\"\")","v":""},{"$f":"IF('Outil Recensement simplifié'!AK67>0,'Outil Recensement simplifié'!AK67,\"\")","v":""},{"$f":"IF('Outil Recensement simplifié'!AL67>0,'Outil Recensement simplifié'!AL67,\"\")","v":""},{"$f":"IF('Outil Recensement simplifié'!AM67>0,'Outil Recensement simplifié'!AM67,\"\")","v":""},{"$f":"IF('Outil Recensement simplifié'!AN67=\"Homme\",\"Male\",IF('Outil Recensement simplifié'!AN67=\"Femme\",\"Female\",IF('Outil Recensement simplifié'!AN67=\"H\",\"Male\",IF('Outil Recensement simplifié'!AN67=\"F\",\"Female\",\"\"))))","v":""},{"$f":"IF('Outil Recensement simplifié'!AO67=\"Individuelle\",\"Single\",IF('Outil Recensement simplifié'!AO67=\"Famille\",\"Family\",IF('Outil Recensement simplifié'!AO67=\"Individuel\",\"Single\",IF('Outil Recensement simplifié'!AO67=\"Familiale\",\"Family\",IF('Outil Recensement simplifié'!AO67=\"I\",\"Single\",IF('Outil Recensement simplifié'!AO67=\"F\",\"Family\",\"\"))))))","v":""},{"$f":"IF('Outil Recensement simplifié'!AP67=\"Individuelle\",\"Single\",IF('Outil Recensement simplifié'!AP67=\"Famille\",\"Family\",IF('Outil Recensement simplifié'!AP67=\"Individuel\",\"Single\",IF('Outil Recensement simplifié'!AP67=\"Familiale\",\"Family\",IF('Outil Recensement simplifié'!AP67=\"I\",\"Single\",IF('Outil Recensement simplifié'!AP67=\"F\",\"Family\",\"\"))))))","v":""},{"$f":"IF('Outil Recensement simplifié'!AQ67>0,'Outil Recensement simplifié'!AQ67,\"\")","v":""},{"$f":"IF('Outil Recensement simplifié'!AR67=\"Oui\",\"Yes\",IF('Outil Recensement simplifié'!AR67=\"Non\",\"No\",IF('Outil Recensement simplifié'!AR67=\"O\",\"Yes\",IF('Outil Recensement simplifié'!AR67=\"N\",\"No\",\"\"))))","v":""},{"$f":"IF('Outil Recensement simplifié'!AS67>0,'Outil Recensement simplifié'!AS67,\"\")","v":""},{"$f":"IF('Outil Recensement simplifié'!AT67>0,'Outil Recensement simplifié'!AT67,\"\")","v":""},{"$f":"IF('Outil Recensement simplifié'!AU67>0,'Outil Recensement simplifié'!AU67,\"\")","v":""},{"$f":"IF('Outil Recensement simplifié'!AV67=\"Homme\",\"Male\",IF('Outil Recensement simplifié'!AV67=\"Femme\",\"Female\",IF('Outil Recensement simplifié'!AV67=\"H\",\"Male\",IF('Outil Recensement simplifié'!AV67=\"F\",\"Female\",\"\"))))","v":""},{"$f":"IF('Outil Recensement simplifié'!AW67=\"Oui\",\"Yes\",IF('Outil Recensement simplifié'!AW67=\"Non\",\"No\",IF('Outil Recensement simplifié'!AW67=\"O\",\"Yes\",IF('Outil Recensement simplifié'!AW67=\"N\",\"No\",\"\"))))","v":""},{"$f":"IF('Outil Recensement simplifié'!AX67=\"Oui\",\"Yes\",IF('Outil Recensement simplifié'!AX67=\"Non\",\"No\",IF('Outil Recensement simplifié'!AX67=\"O\",\"Yes\",IF('Outil Recensement simplifié'!AX67=\"N\",\"No\",\"\"))))","v":""},{"$f":"IF('Outil Recensement simplifié'!AY67>0,'Outil Recensement simplifié'!AY67,\"\")","v":""},{"$f":"IF('Outil Recensement simplifié'!AZ67>0,'Outil Recensement simplifié'!AZ67,\"\")","v":""},{"$f":"IF('Outil Recensement simplifié'!BA67>0,'Outil Recensement simplifié'!BA67,\"\")","v":""},{"$f":"IF('Outil Recensement simplifié'!BB67=\"Homme\",\"Male\",IF('Outil Recensement simplifié'!BB67=\"Femme\",\"Female\",IF('Outil Recensement simplifié'!BB67=\"H\",\"Male\",IF('Outil Recensement simplifié'!BB67=\"F\",\"Female\",\"\"))))","v":""},{"$f":"IF('Outil Recensement simplifié'!BC67=\"Oui\",\"Yes\",IF('Outil Recensement simplifié'!BC67=\"Non\",\"No\",IF('Outil Recensement simplifié'!BC67=\"O\",\"Yes\",IF('Outil Recensement simplifié'!BC67=\"N\",\"No\",\"\"))))","v":""},{"$f":"IF('Outil Recensement simplifié'!BD67=\"Oui\",\"Yes\",IF('Outil Recensement simplifié'!BD67=\"Non\",\"No\",IF('Outil Recensement simplifié'!BD67=\"O\",\"Yes\",IF('Outil Recensement simplifié'!BD67=\"N\",\"No\",\"\"))))","v":""},{"$f":"IF('Outil Recensement simplifié'!BE67>0,'Outil Recensement simplifié'!BE67,\"\")","v":""},{"$f":"IF('Outil Recensement simplifié'!BF67>0,'Outil Recensement simplifié'!BF67,\"\")","v":""},{"$f":"IF('Outil Recensement simplifié'!BG67>0,'Outil Recensement simplifié'!BG67,\"\")","v":""},{"$f":"IF('Outil Recensement simplifié'!BH67=\"Homme\",\"Male\",IF('Outil Recensement simplifié'!BH67=\"Femme\",\"Female\",IF('Outil Recensement simplifié'!BH67=\"H\",\"Male\",IF('Outil Recensement simplifié'!BH67=\"F\",\"Female\",\"\"))))","v":""},{"$f":"IF('Outil Recensement simplifié'!BI67=\"Oui\",\"Yes\",IF('Outil Recensement simplifié'!BI67=\"Non\",\"No\",IF('Outil Recensement simplifié'!BI67=\"O\",\"Yes\",IF('Outil Recensement simplifié'!BI67=\"N\",\"No\",\"\"))))","v":""},{"$f":"IF('Outil Recensement simplifié'!BJ67=\"Oui\",\"Yes\",IF('Outil Recensement simplifié'!BJ67=\"Non\",\"No\",IF('Outil Recensement simplifié'!BJ67=\"O\",\"Yes\",IF('Outil Recensement simplifié'!BJ67=\"N\",\"No\",\"\"))))","v":""},{"$f":"IF('Outil Recensement simplifié'!BK67>0,'Outil Recensement simplifié'!BK67,\"\")","v":""},{"$f":"IF('Outil Recensement simplifié'!BL67>0,'Outil Recensement simplifié'!BL67,\"\")","v":""},{"$f":"IF('Outil Recensement simplifié'!BM67>0,'Outil Recensement simplifié'!BM67,\"\")","v":""},{"$f":"IF('Outil Recensement simplifié'!BN67=\"Homme\",\"Male\",IF('Outil Recensement simplifié'!BN67=\"Femme\",\"Female\",IF('Outil Recensement simplifié'!BN67=\"H\",\"Male\",IF('Outil Recensement simplifié'!BN67=\"F\",\"Female\",\"\"))))","v":""},{"$f":"IF('Outil Recensement simplifié'!BO67=\"Oui\",\"Yes\",IF('Outil Recensement simplifié'!BO67=\"Non\",\"No\",IF('Outil Recensement simplifié'!BO67=\"O\",\"Yes\",IF('Outil Recensement simplifié'!BO67=\"N\",\"No\",\"\"))))","v":""},{"$f":"IF('Outil Recensement simplifié'!BP67=\"Oui\",\"Yes\",IF('Outil Recensement simplifié'!BP67=\"Non\",\"No\",IF('Outil Recensement simplifié'!BP67=\"O\",\"Yes\",IF('Outil Recensement simplifié'!BP67=\"N\",\"No\",\"\"))))","v":""},{"$f":"IF('Outil Recensement simplifié'!BQ67>0,'Outil Recensement simplifié'!BQ67,\"\")","v":""},{"$f":"IF('Outil Recensement simplifié'!BR67>0,'Outil Recensement simplifié'!BR67,\"\")","v":""},{"$f":"IF('Outil Recensement simplifié'!BS67>0,'Outil Recensement simplifié'!BS67,\"\")","v":""},{"$f":"IF('Outil Recensement simplifié'!BT67=\"Homme\",\"Male\",IF('Outil Recensement simplifié'!BT67=\"Femme\",\"Female\",IF('Outil Recensement simplifié'!BT67=\"H\",\"Male\",IF('Outil Recensement simplifié'!BT67=\"F\",\"Female\",\"\"))))","v":""},{"$f":"IF('Outil Recensement simplifié'!BU67=\"Oui\",\"Yes\",IF('Outil Recensement simplifié'!BU67=\"Non\",\"No\",IF('Outil Recensement simplifié'!BU67=\"O\",\"Yes\",IF('Outil Recensement simplifié'!BU67=\"N\",\"No\",\"\"))))","v":""},{"$f":"IF('Outil Recensement simplifié'!BV67=\"Oui\",\"Yes\",IF('Outil Recensement simplifié'!BV67=\"Non\",\"No\",IF('Outil Recensement simplifié'!BV67=\"O\",\"Yes\",IF('Outil Recensement simplifié'!BV67=\"N\",\"No\",\"\"))))","v":""},{"$f":"IF('Outil Recensement simplifié'!BW67>0,'Outil Recensement simplifié'!BW67,\"\")","v":""},{"$f":"IF('Outil Recensement simplifié'!BX67>0,'Outil Recensement simplifié'!BX67,\"\")","v":""},{"$f":"IF('Outil Recensement simplifié'!BY67>0,'Outil Recensement simplifié'!BY67,\"\")","v":""},{"$f":"IF('Outil Recensement simplifié'!BZ67=\"Homme\",\"Male\",IF('Outil Recensement simplifié'!BZ67=\"Femme\",\"Female\",IF('Outil Recensement simplifié'!BZ67=\"H\",\"Male\",IF('Outil Recensement simplifié'!BZ67=\"F\",\"Female\",\"\"))))","v":""},{"$f":"IF('Outil Recensement simplifié'!CA67=\"Oui\",\"Yes\",IF('Outil Recensement simplifié'!CA67=\"Non\",\"No\",IF('Outil Recensement simplifié'!CA67=\"O\",\"Yes\",IF('Outil Recensement simplifié'!CA67=\"N\",\"No\",\"\"))))","v":""},{"$f":"IF('Outil Recensement simplifié'!CB67=\"Oui\",\"Yes\",IF('Outil Recensement simplifié'!CB67=\"Non\",\"No\",IF('Outil Recensement simplifié'!CB67=\"O\",\"Yes\",IF('Outil Recensement simplifié'!CB67=\"N\",\"No\",\"\"))))","v":""},{"$f":"IF('Outil Recensement simplifié'!CH67>0,'Outil Recensement simplifié'!CH67,\"\")","v":"    "}]
[{"$f":"IF('Outil Recensement simplifié'!A68>0,'Outil Recensement simplifié'!A68,\"\")","v":""},{"$f":"IF('Outil Recensement simplifié'!B68>0,'Outil Recensement simplifié'!B68,\"\")","v":""},{"$f":"IF('Outil Recensement simplifié'!C68>0,'Outil Recensement simplifié'!C68,\"\")","v":""},{"$f":"IF('Outil Recensement simplifié'!D68>0,'Outil Recensement simplifié'!D68,\"\")","v":""},{"$f":"IF('Outil Recensement simplifié'!E68>0,TEXT('Outil Recensement simplifié'!E68,\"000\"),\"\")","v":""},{"$f":"IF('Outil Recensement simplifié'!F68>0,'Outil Recensement simplifié'!F68,\"\")","v":""},{"$f":"IF('Outil Recensement simplifié'!G68>0,'Outil Recensement simplifié'!G68,\"\")","v":""},{"$f":"IF('Outil Recensement simplifié'!I68>0,'Outil Recensement simplifié'!I68,\"\")","v":""},{"$f":"IF('Outil Recensement simplifié'!J68>0,'Outil Recensement simplifié'!J68,\"\")","v":""},{"$f":"IF('Outil Recensement simplifié'!K68>0,'Outil Recensement simplifié'!K68,\"\")","v":""},{"$f":"IF('Outil Recensement simplifié'!L68>0,'Outil Recensement simplifié'!L68,\"\")","v":""},{"$f":"IF('Outil Recensement simplifié'!M68=\"Homme\",\"Male\",IF('Outil Recensement simplifié'!M68=\"Femme\",\"Female\",IF('Outil Recensement simplifié'!M68=\"H\",\"Male\",IF('Outil Recensement simplifié'!M68=\"F\",\"Female\",\"\"))))","v":""},{"$f":"IF('Outil Recensement simplifié'!N68=\"Oui\",\"Yes\",IF('Outil Recensement simplifié'!N68=\"Non\",\"No\",IF('Outil Recensement simplifié'!N68=\"O\",\"Yes\",IF('Outil Recensement simplifié'!N68=\"N\",\"No\",\"\"))))","v":""},{"$f":"IF('Outil Recensement simplifié'!O68=\"Non\",\"Single\",IF('Outil Recensement simplifié'!O68=\"Oui\",\"Family\",IF('Outil Recensement simplifié'!O68=\"N\",\"Single\",IF('Outil Recensement simplifié'!O68=\"O\",\"Family\",IF('Outil Recensement simplifié'!O68=\"En vigueur\",\"Family\",\"\")))))","v":""},{"$f":"IF('Outil Recensement simplifié'!P68=\"Anglais\",\"English\",IF('Outil Recensement simplifié'!P68=\"Français\",\"French\",IF('Outil Recensement simplifié'!P68=\"A\",\"English\",IF('Outil Recensement simplifié'!P68=\"F\",\"French\",\"\"))))","v":""},{"$f":"IF('Outil Recensement simplifié'!Q68=\"Oui\",\"Yes\",IF('Outil Recensement simplifié'!Q68=\"Non\",\"No\",IF('Outil Recensement simplifié'!Q68=\"O\",\"Yes\",IF('Outil Recensement simplifié'!Q68=\"N\",\"No\",\"\"))))","v":""},{"$f":"IF('Outil Recensement simplifié'!R68>0,'Outil Recensement simplifié'!R68,\"\")","v":""},{"$f":"IF('Outil Recensement simplifié'!S68=\"Annuelle\",\"Annually\",IF('Outil Recensement simplifié'!S68=\"Mensuelle\",\"Monthly\",IF('Outil Recensement simplifié'!S68=\"Aux deux semaines\",\"Biweekly\",IF('Outil Recensement simplifié'!S68=\"Bimensuelle\",\"Semi-Monthly\",IF('Outil Recensement simplifié'!S68=\"Hebdomadaire\",\"Weekly\",IF('Outil Recensement simplifié'!S68=\"Horaire\",\"Hourly\",\"\"))))))","v":""},{"$f":"IF('Outil Recensement simplifié'!T68>0,'Outil Recensement simplifié'!T68,\"\")","v":""},{"$f":"IF('Outil Recensement simplifié'!U68>0,'Outil Recensement simplifié'!U68,\"\")","v":""},{"$f":"IF('Outil Recensement simplifié'!V68=\"Exemptée\",\"Yes\",\"\")","v":""},{"$f":"IF('Outil Recensement simplifié'!W68=\"Exemptée\",\"Yes\",\"\")","v":""},{"$f":"IF('Outil Recensement simplifié'!X68>0,'Outil Recensement simplifié'!X68,\"\")","v":""},{"$f":"IF('Outil Recensement simplifié'!Y68>0,'Outil Recensement simplifié'!Y68,\"\")","v":""},{"$f":"IF('Outil Recensement simplifié'!Z68>0,'Outil Recensement simplifié'!Z68,\"\")","v":""},{"$f":"IF('Outil Recensement simplifié'!AA68>0,'Outil Recensement simplifié'!AA68,\"\")","v":""},{"$f":"IF('Outil Recensement simplifié'!AB68>0,'Outil Recensement simplifié'!AB68,\"\")","v":""},{"$f":"IF('Outil Recensement simplifié'!AC68>0,'Outil Recensement simplifié'!AC68,\"\")","v":" "},{"$f":"IF('Outil Recensement simplifié'!AE68>0,'Outil Recensement simplifié'!AE68&\" \",\"\")&IF('Outil Recensement simplifié'!AD68>0,'Outil Recensement simplifié'!AD68,\"\")","v":""},null,{"$f":"IF('Outil Recensement simplifié'!AF68>0,'Outil Recensement simplifié'!AF68,\"\")","v":""},{"$f":"IF('Outil Recensement simplifié'!AG68>0,'Outil Recensement simplifié'!AG68,\"\")","v":""},{"$f":"IF('Outil Recensement simplifié'!AH68>0,'Outil Recensement simplifié'!AH68,\"\")","v":""},{"$f":"IF('Outil Recensement simplifié'!AI68>0,'Outil Recensement simplifié'!AI68,\"\")","v":""},{"$f":"IF('Outil Recensement simplifié'!AJ68>0,'Outil Recensement simplifié'!AJ68,\"\")","v":""},{"$f":"IF('Outil Recensement simplifié'!AK68>0,'Outil Recensement simplifié'!AK68,\"\")","v":""},{"$f":"IF('Outil Recensement simplifié'!AL68>0,'Outil Recensement simplifié'!AL68,\"\")","v":""},{"$f":"IF('Outil Recensement simplifié'!AM68>0,'Outil Recensement simplifié'!AM68,\"\")","v":""},{"$f":"IF('Outil Recensement simplifié'!AN68=\"Homme\",\"Male\",IF('Outil Recensement simplifié'!AN68=\"Femme\",\"Female\",IF('Outil Recensement simplifié'!AN68=\"H\",\"Male\",IF('Outil Recensement simplifié'!AN68=\"F\",\"Female\",\"\"))))","v":""},{"$f":"IF('Outil Recensement simplifié'!AO68=\"Individuelle\",\"Single\",IF('Outil Recensement simplifié'!AO68=\"Famille\",\"Family\",IF('Outil Recensement simplifié'!AO68=\"Individuel\",\"Single\",IF('Outil Recensement simplifié'!AO68=\"Familiale\",\"Family\",IF('Outil Recensement simplifié'!AO68=\"I\",\"Single\",IF('Outil Recensement simplifié'!AO68=\"F\",\"Family\",\"\"))))))","v":""},{"$f":"IF('Outil Recensement simplifié'!AP68=\"Individuelle\",\"Single\",IF('Outil Recensement simplifié'!AP68=\"Famille\",\"Family\",IF('Outil Recensement simplifié'!AP68=\"Individuel\",\"Single\",IF('Outil Recensement simplifié'!AP68=\"Familiale\",\"Family\",IF('Outil Recensement simplifié'!AP68=\"I\",\"Single\",IF('Outil Recensement simplifié'!AP68=\"F\",\"Family\",\"\"))))))","v":""},{"$f":"IF('Outil Recensement simplifié'!AQ68>0,'Outil Recensement simplifié'!AQ68,\"\")","v":""},{"$f":"IF('Outil Recensement simplifié'!AR68=\"Oui\",\"Yes\",IF('Outil Recensement simplifié'!AR68=\"Non\",\"No\",IF('Outil Recensement simplifié'!AR68=\"O\",\"Yes\",IF('Outil Recensement simplifié'!AR68=\"N\",\"No\",\"\"))))","v":""},{"$f":"IF('Outil Recensement simplifié'!AS68>0,'Outil Recensement simplifié'!AS68,\"\")","v":""},{"$f":"IF('Outil Recensement simplifié'!AT68>0,'Outil Recensement simplifié'!AT68,\"\")","v":""},{"$f":"IF('Outil Recensement simplifié'!AU68>0,'Outil Recensement simplifié'!AU68,\"\")","v":""},{"$f":"IF('Outil Recensement simplifié'!AV68=\"Homme\",\"Male\",IF('Outil Recensement simplifié'!AV68=\"Femme\",\"Female\",IF('Outil Recensement simplifié'!AV68=\"H\",\"Male\",IF('Outil Recensement simplifié'!AV68=\"F\",\"Female\",\"\"))))","v":""},{"$f":"IF('Outil Recensement simplifié'!AW68=\"Oui\",\"Yes\",IF('Outil Recensement simplifié'!AW68=\"Non\",\"No\",IF('Outil Recensement simplifié'!AW68=\"O\",\"Yes\",IF('Outil Recensement simplifié'!AW68=\"N\",\"No\",\"\"))))","v":""},{"$f":"IF('Outil Recensement simplifié'!AX68=\"Oui\",\"Yes\",IF('Outil Recensement simplifié'!AX68=\"Non\",\"No\",IF('Outil Recensement simplifié'!AX68=\"O\",\"Yes\",IF('Outil Recensement simplifié'!AX68=\"N\",\"No\",\"\"))))","v":""},{"$f":"IF('Outil Recensement simplifié'!AY68>0,'Outil Recensement simplifié'!AY68,\"\")","v":""},{"$f":"IF('Outil Recensement simplifié'!AZ68>0,'Outil Recensement simplifié'!AZ68,\"\")","v":""},{"$f":"IF('Outil Recensement simplifié'!BA68>0,'Outil Recensement simplifié'!BA68,\"\")","v":""},{"$f":"IF('Outil Recensement simplifié'!BB68=\"Homme\",\"Male\",IF('Outil Recensement simplifié'!BB68=\"Femme\",\"Female\",IF('Outil Recensement simplifié'!BB68=\"H\",\"Male\",IF('Outil Recensement simplifié'!BB68=\"F\",\"Female\",\"\"))))","v":""},{"$f":"IF('Outil Recensement simplifié'!BC68=\"Oui\",\"Yes\",IF('Outil Recensement simplifié'!BC68=\"Non\",\"No\",IF('Outil Recensement simplifié'!BC68=\"O\",\"Yes\",IF('Outil Recensement simplifié'!BC68=\"N\",\"No\",\"\"))))","v":""},{"$f":"IF('Outil Recensement simplifié'!BD68=\"Oui\",\"Yes\",IF('Outil Recensement simplifié'!BD68=\"Non\",\"No\",IF('Outil Recensement simplifié'!BD68=\"O\",\"Yes\",IF('Outil Recensement simplifié'!BD68=\"N\",\"No\",\"\"))))","v":""},{"$f":"IF('Outil Recensement simplifié'!BE68>0,'Outil Recensement simplifié'!BE68,\"\")","v":""},{"$f":"IF('Outil Recensement simplifié'!BF68>0,'Outil Recensement simplifié'!BF68,\"\")","v":""},{"$f":"IF('Outil Recensement simplifié'!BG68>0,'Outil Recensement simplifié'!BG68,\"\")","v":""},{"$f":"IF('Outil Recensement simplifié'!BH68=\"Homme\",\"Male\",IF('Outil Recensement simplifié'!BH68=\"Femme\",\"Female\",IF('Outil Recensement simplifié'!BH68=\"H\",\"Male\",IF('Outil Recensement simplifié'!BH68=\"F\",\"Female\",\"\"))))","v":""},{"$f":"IF('Outil Recensement simplifié'!BI68=\"Oui\",\"Yes\",IF('Outil Recensement simplifié'!BI68=\"Non\",\"No\",IF('Outil Recensement simplifié'!BI68=\"O\",\"Yes\",IF('Outil Recensement simplifié'!BI68=\"N\",\"No\",\"\"))))","v":""},{"$f":"IF('Outil Recensement simplifié'!BJ68=\"Oui\",\"Yes\",IF('Outil Recensement simplifié'!BJ68=\"Non\",\"No\",IF('Outil Recensement simplifié'!BJ68=\"O\",\"Yes\",IF('Outil Recensement simplifié'!BJ68=\"N\",\"No\",\"\"))))","v":""},{"$f":"IF('Outil Recensement simplifié'!BK68>0,'Outil Recensement simplifié'!BK68,\"\")","v":""},{"$f":"IF('Outil Recensement simplifié'!BL68>0,'Outil Recensement simplifié'!BL68,\"\")","v":""},{"$f":"IF('Outil Recensement simplifié'!BM68>0,'Outil Recensement simplifié'!BM68,\"\")","v":""},{"$f":"IF('Outil Recensement simplifié'!BN68=\"Homme\",\"Male\",IF('Outil Recensement simplifié'!BN68=\"Femme\",\"Female\",IF('Outil Recensement simplifié'!BN68=\"H\",\"Male\",IF('Outil Recensement simplifié'!BN68=\"F\",\"Female\",\"\"))))","v":""},{"$f":"IF('Outil Recensement simplifié'!BO68=\"Oui\",\"Yes\",IF('Outil Recensement simplifié'!BO68=\"Non\",\"No\",IF('Outil Recensement simplifié'!BO68=\"O\",\"Yes\",IF('Outil Recensement simplifié'!BO68=\"N\",\"No\",\"\"))))","v":""},{"$f":"IF('Outil Recensement simplifié'!BP68=\"Oui\",\"Yes\",IF('Outil Recensement simplifié'!BP68=\"Non\",\"No\",IF('Outil Recensement simplifié'!BP68=\"O\",\"Yes\",IF('Outil Recensement simplifié'!BP68=\"N\",\"No\",\"\"))))","v":""},{"$f":"IF('Outil Recensement simplifié'!BQ68>0,'Outil Recensement simplifié'!BQ68,\"\")","v":""},{"$f":"IF('Outil Recensement simplifié'!BR68>0,'Outil Recensement simplifié'!BR68,\"\")","v":""},{"$f":"IF('Outil Recensement simplifié'!BS68>0,'Outil Recensement simplifié'!BS68,\"\")","v":""},{"$f":"IF('Outil Recensement simplifié'!BT68=\"Homme\",\"Male\",IF('Outil Recensement simplifié'!BT68=\"Femme\",\"Female\",IF('Outil Recensement simplifié'!BT68=\"H\",\"Male\",IF('Outil Recensement simplifié'!BT68=\"F\",\"Female\",\"\"))))","v":""},{"$f":"IF('Outil Recensement simplifié'!BU68=\"Oui\",\"Yes\",IF('Outil Recensement simplifié'!BU68=\"Non\",\"No\",IF('Outil Recensement simplifié'!BU68=\"O\",\"Yes\",IF('Outil Recensement simplifié'!BU68=\"N\",\"No\",\"\"))))","v":""},{"$f":"IF('Outil Recensement simplifié'!BV68=\"Oui\",\"Yes\",IF('Outil Recensement simplifié'!BV68=\"Non\",\"No\",IF('Outil Recensement simplifié'!BV68=\"O\",\"Yes\",IF('Outil Recensement simplifié'!BV68=\"N\",\"No\",\"\"))))","v":""},{"$f":"IF('Outil Recensement simplifié'!BW68>0,'Outil Recensement simplifié'!BW68,\"\")","v":""},{"$f":"IF('Outil Recensement simplifié'!BX68>0,'Outil Recensement simplifié'!BX68,\"\")","v":""},{"$f":"IF('Outil Recensement simplifié'!BY68>0,'Outil Recensement simplifié'!BY68,\"\")","v":""},{"$f":"IF('Outil Recensement simplifié'!BZ68=\"Homme\",\"Male\",IF('Outil Recensement simplifié'!BZ68=\"Femme\",\"Female\",IF('Outil Recensement simplifié'!BZ68=\"H\",\"Male\",IF('Outil Recensement simplifié'!BZ68=\"F\",\"Female\",\"\"))))","v":""},{"$f":"IF('Outil Recensement simplifié'!CA68=\"Oui\",\"Yes\",IF('Outil Recensement simplifié'!CA68=\"Non\",\"No\",IF('Outil Recensement simplifié'!CA68=\"O\",\"Yes\",IF('Outil Recensement simplifié'!CA68=\"N\",\"No\",\"\"))))","v":""},{"$f":"IF('Outil Recensement simplifié'!CB68=\"Oui\",\"Yes\",IF('Outil Recensement simplifié'!CB68=\"Non\",\"No\",IF('Outil Recensement simplifié'!CB68=\"O\",\"Yes\",IF('Outil Recensement simplifié'!CB68=\"N\",\"No\",\"\"))))","v":""},{"$f":"IF('Outil Recensement simplifié'!CH68>0,'Outil Recensement simplifié'!CH68,\"\")","v":"    "}]
[{"$f":"IF('Outil Recensement simplifié'!A69>0,'Outil Recensement simplifié'!A69,\"\")","v":""},{"$f":"IF('Outil Recensement simplifié'!B69>0,'Outil Recensement simplifié'!B69,\"\")","v":""},{"$f":"IF('Outil Recensement simplifié'!C69>0,'Outil Recensement simplifié'!C69,\"\")","v":""},{"$f":"IF('Outil Recensement simplifié'!D69>0,'Outil Recensement simplifié'!D69,\"\")","v":""},{"$f":"IF('Outil Recensement simplifié'!E69>0,TEXT('Outil Recensement simplifié'!E69,\"000\"),\"\")","v":""},{"$f":"IF('Outil Recensement simplifié'!F69>0,'Outil Recensement simplifié'!F69,\"\")","v":""},{"$f":"IF('Outil Recensement simplifié'!G69>0,'Outil Recensement simplifié'!G69,\"\")","v":""},{"$f":"IF('Outil Recensement simplifié'!I69>0,'Outil Recensement simplifié'!I69,\"\")","v":""},{"$f":"IF('Outil Recensement simplifié'!J69>0,'Outil Recensement simplifié'!J69,\"\")","v":""},{"$f":"IF('Outil Recensement simplifié'!K69>0,'Outil Recensement simplifié'!K69,\"\")","v":""},{"$f":"IF('Outil Recensement simplifié'!L69>0,'Outil Recensement simplifié'!L69,\"\")","v":""},{"$f":"IF('Outil Recensement simplifié'!M69=\"Homme\",\"Male\",IF('Outil Recensement simplifié'!M69=\"Femme\",\"Female\",IF('Outil Recensement simplifié'!M69=\"H\",\"Male\",IF('Outil Recensement simplifié'!M69=\"F\",\"Female\",\"\"))))","v":""},{"$f":"IF('Outil Recensement simplifié'!N69=\"Oui\",\"Yes\",IF('Outil Recensement simplifié'!N69=\"Non\",\"No\",IF('Outil Recensement simplifié'!N69=\"O\",\"Yes\",IF('Outil Recensement simplifié'!N69=\"N\",\"No\",\"\"))))","v":""},{"$f":"IF('Outil Recensement simplifié'!O69=\"Non\",\"Single\",IF('Outil Recensement simplifié'!O69=\"Oui\",\"Family\",IF('Outil Recensement simplifié'!O69=\"N\",\"Single\",IF('Outil Recensement simplifié'!O69=\"O\",\"Family\",IF('Outil Recensement simplifié'!O69=\"En vigueur\",\"Family\",\"\")))))","v":""},{"$f":"IF('Outil Recensement simplifié'!P69=\"Anglais\",\"English\",IF('Outil Recensement simplifié'!P69=\"Français\",\"French\",IF('Outil Recensement simplifié'!P69=\"A\",\"English\",IF('Outil Recensement simplifié'!P69=\"F\",\"French\",\"\"))))","v":""},{"$f":"IF('Outil Recensement simplifié'!Q69=\"Oui\",\"Yes\",IF('Outil Recensement simplifié'!Q69=\"Non\",\"No\",IF('Outil Recensement simplifié'!Q69=\"O\",\"Yes\",IF('Outil Recensement simplifié'!Q69=\"N\",\"No\",\"\"))))","v":""},{"$f":"IF('Outil Recensement simplifié'!R69>0,'Outil Recensement simplifié'!R69,\"\")","v":""},{"$f":"IF('Outil Recensement simplifié'!S69=\"Annuelle\",\"Annually\",IF('Outil Recensement simplifié'!S69=\"Mensuelle\",\"Monthly\",IF('Outil Recensement simplifié'!S69=\"Aux deux semaines\",\"Biweekly\",IF('Outil Recensement simplifié'!S69=\"Bimensuelle\",\"Semi-Monthly\",IF('Outil Recensement simplifié'!S69=\"Hebdomadaire\",\"Weekly\",IF('Outil Recensement simplifié'!S69=\"Horaire\",\"Hourly\",\"\"))))))","v":""},{"$f":"IF('Outil Recensement simplifié'!T69>0,'Outil Recensement simplifié'!T69,\"\")","v":""},{"$f":"IF('Outil Recensement simplifié'!U69>0,'Outil Recensement simplifié'!U69,\"\")","v":""},{"$f":"IF('Outil Recensement simplifié'!V69=\"Exemptée\",\"Yes\",\"\")","v":""},{"$f":"IF('Outil Recensement simplifié'!W69=\"Exemptée\",\"Yes\",\"\")","v":""},{"$f":"IF('Outil Recensement simplifié'!X69>0,'Outil Recensement simplifié'!X69,\"\")","v":""},{"$f":"IF('Outil Recensement simplifié'!Y69>0,'Outil Recensement simplifié'!Y69,\"\")","v":""},{"$f":"IF('Outil Recensement simplifié'!Z69>0,'Outil Recensement simplifié'!Z69,\"\")","v":""},{"$f":"IF('Outil Recensement simplifié'!AA69>0,'Outil Recensement simplifié'!AA69,\"\")","v":""},{"$f":"IF('Outil Recensement simplifié'!AB69>0,'Outil Recensement simplifié'!AB69,\"\")","v":""},{"$f":"IF('Outil Recensement simplifié'!AC69>0,'Outil Recensement simplifié'!AC69,\"\")","v":" "},{"$f":"IF('Outil Recensement simplifié'!AE69>0,'Outil Recensement simplifié'!AE69&\" \",\"\")&IF('Outil Recensement simplifié'!AD69>0,'Outil Recensement simplifié'!AD69,\"\")","v":""},null,{"$f":"IF('Outil Recensement simplifié'!AF69>0,'Outil Recensement simplifié'!AF69,\"\")","v":""},{"$f":"IF('Outil Recensement simplifié'!AG69>0,'Outil Recensement simplifié'!AG69,\"\")","v":""},{"$f":"IF('Outil Recensement simplifié'!AH69>0,'Outil Recensement simplifié'!AH69,\"\")","v":""},{"$f":"IF('Outil Recensement simplifié'!AI69>0,'Outil Recensement simplifié'!AI69,\"\")","v":""},{"$f":"IF('Outil Recensement simplifié'!AJ69>0,'Outil Recensement simplifié'!AJ69,\"\")","v":""},{"$f":"IF('Outil Recensement simplifié'!AK69>0,'Outil Recensement simplifié'!AK69,\"\")","v":""},{"$f":"IF('Outil Recensement simplifié'!AL69>0,'Outil Recensement simplifié'!AL69,\"\")","v":""},{"$f":"IF('Outil Recensement simplifié'!AM69>0,'Outil Recensement simplifié'!AM69,\"\")","v":""},{"$f":"IF('Outil Recensement simplifié'!AN69=\"Homme\",\"Male\",IF('Outil Recensement simplifié'!AN69=\"Femme\",\"Female\",IF('Outil Recensement simplifié'!AN69=\"H\",\"Male\",IF('Outil Recensement simplifié'!AN69=\"F\",\"Female\",\"\"))))","v":""},{"$f":"IF('Outil Recensement simplifié'!AO69=\"Individuelle\",\"Single\",IF('Outil Recensement simplifié'!AO69=\"Famille\",\"Family\",IF('Outil Recensement simplifié'!AO69=\"Individuel\",\"Single\",IF('Outil Recensement simplifié'!AO69=\"Familiale\",\"Family\",IF('Outil Recensement simplifié'!AO69=\"I\",\"Single\",IF('Outil Recensement simplifié'!AO69=\"F\",\"Family\",\"\"))))))","v":""},{"$f":"IF('Outil Recensement simplifié'!AP69=\"Individuelle\",\"Single\",IF('Outil Recensement simplifié'!AP69=\"Famille\",\"Family\",IF('Outil Recensement simplifié'!AP69=\"Individuel\",\"Single\",IF('Outil Recensement simplifié'!AP69=\"Familiale\",\"Family\",IF('Outil Recensement simplifié'!AP69=\"I\",\"Single\",IF('Outil Recensement simplifié'!AP69=\"F\",\"Family\",\"\"))))))","v":""},{"$f":"IF('Outil Recensement simplifié'!AQ69>0,'Outil Recensement simplifié'!AQ69,\"\")","v":""},{"$f":"IF('Outil Recensement simplifié'!AR69=\"Oui\",\"Yes\",IF('Outil Recensement simplifié'!AR69=\"Non\",\"No\",IF('Outil Recensement simplifié'!AR69=\"O\",\"Yes\",IF('Outil Recensement simplifié'!AR69=\"N\",\"No\",\"\"))))","v":""},{"$f":"IF('Outil Recensement simplifié'!AS69>0,'Outil Recensement simplifié'!AS69,\"\")","v":""},{"$f":"IF('Outil Recensement simplifié'!AT69>0,'Outil Recensement simplifié'!AT69,\"\")","v":""},{"$f":"IF('Outil Recensement simplifié'!AU69>0,'Outil Recensement simplifié'!AU69,\"\")","v":""},{"$f":"IF('Outil Recensement simplifié'!AV69=\"Homme\",\"Male\",IF('Outil Recensement simplifié'!AV69=\"Femme\",\"Female\",IF('Outil Recensement simplifié'!AV69=\"H\",\"Male\",IF('Outil Recensement simplifié'!AV69=\"F\",\"Female\",\"\"))))","v":""},{"$f":"IF('Outil Recensement simplifié'!AW69=\"Oui\",\"Yes\",IF('Outil Recensement simplifié'!AW69=\"Non\",\"No\",IF('Outil Recensement simplifié'!AW69=\"O\",\"Yes\",IF('Outil Recensement simplifié'!AW69=\"N\",\"No\",\"\"))))","v":""},{"$f":"IF('Outil Recensement simplifié'!AX69=\"Oui\",\"Yes\",IF('Outil Recensement simplifié'!AX69=\"Non\",\"No\",IF('Outil Recensement simplifié'!AX69=\"O\",\"Yes\",IF('Outil Recensement simplifié'!AX69=\"N\",\"No\",\"\"))))","v":""},{"$f":"IF('Outil Recensement simplifié'!AY69>0,'Outil Recensement simplifié'!AY69,\"\")","v":""},{"$f":"IF('Outil Recensement simplifié'!AZ69>0,'Outil Recensement simplifié'!AZ69,\"\")","v":""},{"$f":"IF('Outil Recensement simplifié'!BA69>0,'Outil Recensement simplifié'!BA69,\"\")","v":""},{"$f":"IF('Outil Recensement simplifié'!BB69=\"Homme\",\"Male\",IF('Outil Recensement simplifié'!BB69=\"Femme\",\"Female\",IF('Outil Recensement simplifié'!BB69=\"H\",\"Male\",IF('Outil Recensement simplifié'!BB69=\"F\",\"Female\",\"\"))))","v":""},{"$f":"IF('Outil Recensement simplifié'!BC69=\"Oui\",\"Yes\",IF('Outil Recensement simplifié'!BC69=\"Non\",\"No\",IF('Outil Recensement simplifié'!BC69=\"O\",\"Yes\",IF('Outil Recensement simplifié'!BC69=\"N\",\"No\",\"\"))))","v":""},{"$f":"IF('Outil Recensement simplifié'!BD69=\"Oui\",\"Yes\",IF('Outil Recensement simplifié'!BD69=\"Non\",\"No\",IF('Outil Recensement simplifié'!BD69=\"O\",\"Yes\",IF('Outil Recensement simplifié'!BD69=\"N\",\"No\",\"\"))))","v":""},{"$f":"IF('Outil Recensement simplifié'!BE69>0,'Outil Recensement simplifié'!BE69,\"\")","v":""},{"$f":"IF('Outil Recensement simplifié'!BF69>0,'Outil Recensement simplifié'!BF69,\"\")","v":""},{"$f":"IF('Outil Recensement simplifié'!BG69>0,'Outil Recensement simplifié'!BG69,\"\")","v":""},{"$f":"IF('Outil Recensement simplifié'!BH69=\"Homme\",\"Male\",IF('Outil Recensement simplifié'!BH69=\"Femme\",\"Female\",IF('Outil Recensement simplifié'!BH69=\"H\",\"Male\",IF('Outil Recensement simplifié'!BH69=\"F\",\"Female\",\"\"))))","v":""},{"$f":"IF('Outil Recensement simplifié'!BI69=\"Oui\",\"Yes\",IF('Outil Recensement simplifié'!BI69=\"Non\",\"No\",IF('Outil Recensement simplifié'!BI69=\"O\",\"Yes\",IF('Outil Recensement simplifié'!BI69=\"N\",\"No\",\"\"))))","v":""},{"$f":"IF('Outil Recensement simplifié'!BJ69=\"Oui\",\"Yes\",IF('Outil Recensement simplifié'!BJ69=\"Non\",\"No\",IF('Outil Recensement simplifié'!BJ69=\"O\",\"Yes\",IF('Outil Recensement simplifié'!BJ69=\"N\",\"No\",\"\"))))","v":""},{"$f":"IF('Outil Recensement simplifié'!BK69>0,'Outil Recensement simplifié'!BK69,\"\")","v":""},{"$f":"IF('Outil Recensement simplifié'!BL69>0,'Outil Recensement simplifié'!BL69,\"\")","v":""},{"$f":"IF('Outil Recensement simplifié'!BM69>0,'Outil Recensement simplifié'!BM69,\"\")","v":""},{"$f":"IF('Outil Recensement simplifié'!BN69=\"Homme\",\"Male\",IF('Outil Recensement simplifié'!BN69=\"Femme\",\"Female\",IF('Outil Recensement simplifié'!BN69=\"H\",\"Male\",IF('Outil Recensement simplifié'!BN69=\"F\",\"Female\",\"\"))))","v":""},{"$f":"IF('Outil Recensement simplifié'!BO69=\"Oui\",\"Yes\",IF('Outil Recensement simplifié'!BO69=\"Non\",\"No\",IF('Outil Recensement simplifié'!BO69=\"O\",\"Yes\",IF('Outil Recensement simplifié'!BO69=\"N\",\"No\",\"\"))))","v":""},{"$f":"IF('Outil Recensement simplifié'!BP69=\"Oui\",\"Yes\",IF('Outil Recensement simplifié'!BP69=\"Non\",\"No\",IF('Outil Recensement simplifié'!BP69=\"O\",\"Yes\",IF('Outil Recensement simplifié'!BP69=\"N\",\"No\",\"\"))))","v":""},{"$f":"IF('Outil Recensement simplifié'!BQ69>0,'Outil Recensement simplifié'!BQ69,\"\")","v":""},{"$f":"IF('Outil Recensement simplifié'!BR69>0,'Outil Recensement simplifié'!BR69,\"\")","v":""},{"$f":"IF('Outil Recensement simplifié'!BS69>0,'Outil Recensement simplifié'!BS69,\"\")","v":""},{"$f":"IF('Outil Recensement simplifié'!BT69=\"Homme\",\"Male\",IF('Outil Recensement simplifié'!BT69=\"Femme\",\"Female\",IF('Outil Recensement simplifié'!BT69=\"H\",\"Male\",IF('Outil Recensement simplifié'!BT69=\"F\",\"Female\",\"\"))))","v":""},{"$f":"IF('Outil Recensement simplifié'!BU69=\"Oui\",\"Yes\",IF('Outil Recensement simplifié'!BU69=\"Non\",\"No\",IF('Outil Recensement simplifié'!BU69=\"O\",\"Yes\",IF('Outil Recensement simplifié'!BU69=\"N\",\"No\",\"\"))))","v":""},{"$f":"IF('Outil Recensement simplifié'!BV69=\"Oui\",\"Yes\",IF('Outil Recensement simplifié'!BV69=\"Non\",\"No\",IF('Outil Recensement simplifié'!BV69=\"O\",\"Yes\",IF('Outil Recensement simplifié'!BV69=\"N\",\"No\",\"\"))))","v":""},{"$f":"IF('Outil Recensement simplifié'!BW69>0,'Outil Recensement simplifié'!BW69,\"\")","v":""},{"$f":"IF('Outil Recensement simplifié'!BX69>0,'Outil Recensement simplifié'!BX69,\"\")","v":""},{"$f":"IF('Outil Recensement simplifié'!BY69>0,'Outil Recensement simplifié'!BY69,\"\")","v":""},{"$f":"IF('Outil Recensement simplifié'!BZ69=\"Homme\",\"Male\",IF('Outil Recensement simplifié'!BZ69=\"Femme\",\"Female\",IF('Outil Recensement simplifié'!BZ69=\"H\",\"Male\",IF('Outil Recensement simplifié'!BZ69=\"F\",\"Female\",\"\"))))","v":""},{"$f":"IF('Outil Recensement simplifié'!CA69=\"Oui\",\"Yes\",IF('Outil Recensement simplifié'!CA69=\"Non\",\"No\",IF('Outil Recensement simplifié'!CA69=\"O\",\"Yes\",IF('Outil Recensement simplifié'!CA69=\"N\",\"No\",\"\"))))","v":""},{"$f":"IF('Outil Recensement simplifié'!CB69=\"Oui\",\"Yes\",IF('Outil Recensement simplifié'!CB69=\"Non\",\"No\",IF('Outil Recensement simplifié'!CB69=\"O\",\"Yes\",IF('Outil Recensement simplifié'!CB69=\"N\",\"No\",\"\"))))","v":""},{"$f":"IF('Outil Recensement simplifié'!CH69>0,'Outil Recensement simplifié'!CH69,\"\")","v":"    "}]
[{"$f":"IF('Outil Recensement simplifié'!A70>0,'Outil Recensement simplifié'!A70,\"\")","v":""},{"$f":"IF('Outil Recensement simplifié'!B70>0,'Outil Recensement simplifié'!B70,\"\")","v":""},{"$f":"IF('Outil Recensement simplifié'!C70>0,'Outil Recensement simplifié'!C70,\"\")","v":""},{"$f":"IF('Outil Recensement simplifié'!D70>0,'Outil Recensement simplifié'!D70,\"\")","v":""},{"$f":"IF('Outil Recensement simplifié'!E70>0,TEXT('Outil Recensement simplifié'!E70,\"000\"),\"\")","v":""},{"$f":"IF('Outil Recensement simplifié'!F70>0,'Outil Recensement simplifié'!F70,\"\")","v":""},{"$f":"IF('Outil Recensement simplifié'!G70>0,'Outil Recensement simplifié'!G70,\"\")","v":""},{"$f":"IF('Outil Recensement simplifié'!I70>0,'Outil Recensement simplifié'!I70,\"\")","v":""},{"$f":"IF('Outil Recensement simplifié'!J70>0,'Outil Recensement simplifié'!J70,\"\")","v":""},{"$f":"IF('Outil Recensement simplifié'!K70>0,'Outil Recensement simplifié'!K70,\"\")","v":""},{"$f":"IF('Outil Recensement simplifié'!L70>0,'Outil Recensement simplifié'!L70,\"\")","v":""},{"$f":"IF('Outil Recensement simplifié'!M70=\"Homme\",\"Male\",IF('Outil Recensement simplifié'!M70=\"Femme\",\"Female\",IF('Outil Recensement simplifié'!M70=\"H\",\"Male\",IF('Outil Recensement simplifié'!M70=\"F\",\"Female\",\"\"))))","v":""},{"$f":"IF('Outil Recensement simplifié'!N70=\"Oui\",\"Yes\",IF('Outil Recensement simplifié'!N70=\"Non\",\"No\",IF('Outil Recensement simplifié'!N70=\"O\",\"Yes\",IF('Outil Recensement simplifié'!N70=\"N\",\"No\",\"\"))))","v":""},{"$f":"IF('Outil Recensement simplifié'!O70=\"Non\",\"Single\",IF('Outil Recensement simplifié'!O70=\"Oui\",\"Family\",IF('Outil Recensement simplifié'!O70=\"N\",\"Single\",IF('Outil Recensement simplifié'!O70=\"O\",\"Family\",IF('Outil Recensement simplifié'!O70=\"En vigueur\",\"Family\",\"\")))))","v":""},{"$f":"IF('Outil Recensement simplifié'!P70=\"Anglais\",\"English\",IF('Outil Recensement simplifié'!P70=\"Français\",\"French\",IF('Outil Recensement simplifié'!P70=\"A\",\"English\",IF('Outil Recensement simplifié'!P70=\"F\",\"French\",\"\"))))","v":""},{"$f":"IF('Outil Recensement simplifié'!Q70=\"Oui\",\"Yes\",IF('Outil Recensement simplifié'!Q70=\"Non\",\"No\",IF('Outil Recensement simplifié'!Q70=\"O\",\"Yes\",IF('Outil Recensement simplifié'!Q70=\"N\",\"No\",\"\"))))","v":""},{"$f":"IF('Outil Recensement simplifié'!R70>0,'Outil Recensement simplifié'!R70,\"\")","v":""},{"$f":"IF('Outil Recensement simplifié'!S70=\"Annuelle\",\"Annually\",IF('Outil Recensement simplifié'!S70=\"Mensuelle\",\"Monthly\",IF('Outil Recensement simplifié'!S70=\"Aux deux semaines\",\"Biweekly\",IF('Outil Recensement simplifié'!S70=\"Bimensuelle\",\"Semi-Monthly\",IF('Outil Recensement simplifié'!S70=\"Hebdomadaire\",\"Weekly\",IF('Outil Recensement simplifié'!S70=\"Horaire\",\"Hourly\",\"\"))))))","v":""},{"$f":"IF('Outil Recensement simplifié'!T70>0,'Outil Recensement simplifié'!T70,\"\")","v":""},{"$f":"IF('Outil Recensement simplifié'!U70>0,'Outil Recensement simplifié'!U70,\"\")","v":""},{"$f":"IF('Outil Recensement simplifié'!V70=\"Exemptée\",\"Yes\",\"\")","v":""},{"$f":"IF('Outil Recensement simplifié'!W70=\"Exemptée\",\"Yes\",\"\")","v":""},{"$f":"IF('Outil Recensement simplifié'!X70>0,'Outil Recensement simplifié'!X70,\"\")","v":""},{"$f":"IF('Outil Recensement simplifié'!Y70>0,'Outil Recensement simplifié'!Y70,\"\")","v":""},{"$f":"IF('Outil Recensement simplifié'!Z70>0,'Outil Recensement simplifié'!Z70,\"\")","v":""},{"$f":"IF('Outil Recensement simplifié'!AA70>0,'Outil Recensement simplifié'!AA70,\"\")","v":""},{"$f":"IF('Outil Recensement simplifié'!AB70>0,'Outil Recensement simplifié'!AB70,\"\")","v":""},{"$f":"IF('Outil Recensement simplifié'!AC70>0,'Outil Recensement simplifié'!AC70,\"\")","v":" "},{"$f":"IF('Outil Recensement simplifié'!AE70>0,'Outil Recensement simplifié'!AE70&\" \",\"\")&IF('Outil Recensement simplifié'!AD70>0,'Outil Recensement simplifié'!AD70,\"\")","v":""},null,{"$f":"IF('Outil Recensement simplifié'!AF70>0,'Outil Recensement simplifié'!AF70,\"\")","v":""},{"$f":"IF('Outil Recensement simplifié'!AG70>0,'Outil Recensement simplifié'!AG70,\"\")","v":""},{"$f":"IF('Outil Recensement simplifié'!AH70>0,'Outil Recensement simplifié'!AH70,\"\")","v":""},{"$f":"IF('Outil Recensement simplifié'!AI70>0,'Outil Recensement simplifié'!AI70,\"\")","v":""},{"$f":"IF('Outil Recensement simplifié'!AJ70>0,'Outil Recensement simplifié'!AJ70,\"\")","v":""},{"$f":"IF('Outil Recensement simplifié'!AK70>0,'Outil Recensement simplifié'!AK70,\"\")","v":""},{"$f":"IF('Outil Recensement simplifié'!AL70>0,'Outil Recensement simplifié'!AL70,\"\")","v":""},{"$f":"IF('Outil Recensement simplifié'!AM70>0,'Outil Recensement simplifié'!AM70,\"\")","v":""},{"$f":"IF('Outil Recensement simplifié'!AN70=\"Homme\",\"Male\",IF('Outil Recensement simplifié'!AN70=\"Femme\",\"Female\",IF('Outil Recensement simplifié'!AN70=\"H\",\"Male\",IF('Outil Recensement simplifié'!AN70=\"F\",\"Female\",\"\"))))","v":""},{"$f":"IF('Outil Recensement simplifié'!AO70=\"Individuelle\",\"Single\",IF('Outil Recensement simplifié'!AO70=\"Famille\",\"Family\",IF('Outil Recensement simplifié'!AO70=\"Individuel\",\"Single\",IF('Outil Recensement simplifié'!AO70=\"Familiale\",\"Family\",IF('Outil Recensement simplifié'!AO70=\"I\",\"Single\",IF('Outil Recensement simplifié'!AO70=\"F\",\"Family\",\"\"))))))","v":""},{"$f":"IF('Outil Recensement simplifié'!AP70=\"Individuelle\",\"Single\",IF('Outil Recensement simplifié'!AP70=\"Famille\",\"Family\",IF('Outil Recensement simplifié'!AP70=\"Individuel\",\"Single\",IF('Outil Recensement simplifié'!AP70=\"Familiale\",\"Family\",IF('Outil Recensement simplifié'!AP70=\"I\",\"Single\",IF('Outil Recensement simplifié'!AP70=\"F\",\"Family\",\"\"))))))","v":""},{"$f":"IF('Outil Recensement simplifié'!AQ70>0,'Outil Recensement simplifié'!AQ70,\"\")","v":""},{"$f":"IF('Outil Recensement simplifié'!AR70=\"Oui\",\"Yes\",IF('Outil Recensement simplifié'!AR70=\"Non\",\"No\",IF('Outil Recensement simplifié'!AR70=\"O\",\"Yes\",IF('Outil Recensement simplifié'!AR70=\"N\",\"No\",\"\"))))","v":""},{"$f":"IF('Outil Recensement simplifié'!AS70>0,'Outil Recensement simplifié'!AS70,\"\")","v":""},{"$f":"IF('Outil Recensement simplifié'!AT70>0,'Outil Recensement simplifié'!AT70,\"\")","v":""},{"$f":"IF('Outil Recensement simplifié'!AU70>0,'Outil Recensement simplifié'!AU70,\"\")","v":""},{"$f":"IF('Outil Recensement simplifié'!AV70=\"Homme\",\"Male\",IF('Outil Recensement simplifié'!AV70=\"Femme\",\"Female\",IF('Outil Recensement simplifié'!AV70=\"H\",\"Male\",IF('Outil Recensement simplifié'!AV70=\"F\",\"Female\",\"\"))))","v":""},{"$f":"IF('Outil Recensement simplifié'!AW70=\"Oui\",\"Yes\",IF('Outil Recensement simplifié'!AW70=\"Non\",\"No\",IF('Outil Recensement simplifié'!AW70=\"O\",\"Yes\",IF('Outil Recensement simplifié'!AW70=\"N\",\"No\",\"\"))))","v":""},{"$f":"IF('Outil Recensement simplifié'!AX70=\"Oui\",\"Yes\",IF('Outil Recensement simplifié'!AX70=\"Non\",\"No\",IF('Outil Recensement simplifié'!AX70=\"O\",\"Yes\",IF('Outil Recensement simplifié'!AX70=\"N\",\"No\",\"\"))))","v":""},{"$f":"IF('Outil Recensement simplifié'!AY70>0,'Outil Recensement simplifié'!AY70,\"\")","v":""},{"$f":"IF('Outil Recensement simplifié'!AZ70>0,'Outil Recensement simplifié'!AZ70,\"\")","v":""},{"$f":"IF('Outil Recensement simplifié'!BA70>0,'Outil Recensement simplifié'!BA70,\"\")","v":""},{"$f":"IF('Outil Recensement simplifié'!BB70=\"Homme\",\"Male\",IF('Outil Recensement simplifié'!BB70=\"Femme\",\"Female\",IF('Outil Recensement simplifié'!BB70=\"H\",\"Male\",IF('Outil Recensement simplifié'!BB70=\"F\",\"Female\",\"\"))))","v":""},{"$f":"IF('Outil Recensement simplifié'!BC70=\"Oui\",\"Yes\",IF('Outil Recensement simplifié'!BC70=\"Non\",\"No\",IF('Outil Recensement simplifié'!BC70=\"O\",\"Yes\",IF('Outil Recensement simplifié'!BC70=\"N\",\"No\",\"\"))))","v":""},{"$f":"IF('Outil Recensement simplifié'!BD70=\"Oui\",\"Yes\",IF('Outil Recensement simplifié'!BD70=\"Non\",\"No\",IF('Outil Recensement simplifié'!BD70=\"O\",\"Yes\",IF('Outil Recensement simplifié'!BD70=\"N\",\"No\",\"\"))))","v":""},{"$f":"IF('Outil Recensement simplifié'!BE70>0,'Outil Recensement simplifié'!BE70,\"\")","v":""},{"$f":"IF('Outil Recensement simplifié'!BF70>0,'Outil Recensement simplifié'!BF70,\"\")","v":""},{"$f":"IF('Outil Recensement simplifié'!BG70>0,'Outil Recensement simplifié'!BG70,\"\")","v":""},{"$f":"IF('Outil Recensement simplifié'!BH70=\"Homme\",\"Male\",IF('Outil Recensement simplifié'!BH70=\"Femme\",\"Female\",IF('Outil Recensement simplifié'!BH70=\"H\",\"Male\",IF('Outil Recensement simplifié'!BH70=\"F\",\"Female\",\"\"))))","v":""},{"$f":"IF('Outil Recensement simplifié'!BI70=\"Oui\",\"Yes\",IF('Outil Recensement simplifié'!BI70=\"Non\",\"No\",IF('Outil Recensement simplifié'!BI70=\"O\",\"Yes\",IF('Outil Recensement simplifié'!BI70=\"N\",\"No\",\"\"))))","v":""},{"$f":"IF('Outil Recensement simplifié'!BJ70=\"Oui\",\"Yes\",IF('Outil Recensement simplifié'!BJ70=\"Non\",\"No\",IF('Outil Recensement simplifié'!BJ70=\"O\",\"Yes\",IF('Outil Recensement simplifié'!BJ70=\"N\",\"No\",\"\"))))","v":""},{"$f":"IF('Outil Recensement simplifié'!BK70>0,'Outil Recensement simplifié'!BK70,\"\")","v":""},{"$f":"IF('Outil Recensement simplifié'!BL70>0,'Outil Recensement simplifié'!BL70,\"\")","v":""},{"$f":"IF('Outil Recensement simplifié'!BM70>0,'Outil Recensement simplifié'!BM70,\"\")","v":""},{"$f":"IF('Outil Recensement simplifié'!BN70=\"Homme\",\"Male\",IF('Outil Recensement simplifié'!BN70=\"Femme\",\"Female\",IF('Outil Recensement simplifié'!BN70=\"H\",\"Male\",IF('Outil Recensement simplifié'!BN70=\"F\",\"Female\",\"\"))))","v":""},{"$f":"IF('Outil Recensement simplifié'!BO70=\"Oui\",\"Yes\",IF('Outil Recensement simplifié'!BO70=\"Non\",\"No\",IF('Outil Recensement simplifié'!BO70=\"O\",\"Yes\",IF('Outil Recensement simplifié'!BO70=\"N\",\"No\",\"\"))))","v":""},{"$f":"IF('Outil Recensement simplifié'!BP70=\"Oui\",\"Yes\",IF('Outil Recensement simplifié'!BP70=\"Non\",\"No\",IF('Outil Recensement simplifié'!BP70=\"O\",\"Yes\",IF('Outil Recensement simplifié'!BP70=\"N\",\"No\",\"\"))))","v":""},{"$f":"IF('Outil Recensement simplifié'!BQ70>0,'Outil Recensement simplifié'!BQ70,\"\")","v":""},{"$f":"IF('Outil Recensement simplifié'!BR70>0,'Outil Recensement simplifié'!BR70,\"\")","v":""},{"$f":"IF('Outil Recensement simplifié'!BS70>0,'Outil Recensement simplifié'!BS70,\"\")","v":""},{"$f":"IF('Outil Recensement simplifié'!BT70=\"Homme\",\"Male\",IF('Outil Recensement simplifié'!BT70=\"Femme\",\"Female\",IF('Outil Recensement simplifié'!BT70=\"H\",\"Male\",IF('Outil Recensement simplifié'!BT70=\"F\",\"Female\",\"\"))))","v":""},{"$f":"IF('Outil Recensement simplifié'!BU70=\"Oui\",\"Yes\",IF('Outil Recensement simplifié'!BU70=\"Non\",\"No\",IF('Outil Recensement simplifié'!BU70=\"O\",\"Yes\",IF('Outil Recensement simplifié'!BU70=\"N\",\"No\",\"\"))))","v":""},{"$f":"IF('Outil Recensement simplifié'!BV70=\"Oui\",\"Yes\",IF('Outil Recensement simplifié'!BV70=\"Non\",\"No\",IF('Outil Recensement simplifié'!BV70=\"O\",\"Yes\",IF('Outil Recensement simplifié'!BV70=\"N\",\"No\",\"\"))))","v":""},{"$f":"IF('Outil Recensement simplifié'!BW70>0,'Outil Recensement simplifié'!BW70,\"\")","v":""},{"$f":"IF('Outil Recensement simplifié'!BX70>0,'Outil Recensement simplifié'!BX70,\"\")","v":""},{"$f":"IF('Outil Recensement simplifié'!BY70>0,'Outil Recensement simplifié'!BY70,\"\")","v":""},{"$f":"IF('Outil Recensement simplifié'!BZ70=\"Homme\",\"Male\",IF('Outil Recensement simplifié'!BZ70=\"Femme\",\"Female\",IF('Outil Recensement simplifié'!BZ70=\"H\",\"Male\",IF('Outil Recensement simplifié'!BZ70=\"F\",\"Female\",\"\"))))","v":""},{"$f":"IF('Outil Recensement simplifié'!CA70=\"Oui\",\"Yes\",IF('Outil Recensement simplifié'!CA70=\"Non\",\"No\",IF('Outil Recensement simplifié'!CA70=\"O\",\"Yes\",IF('Outil Recensement simplifié'!CA70=\"N\",\"No\",\"\"))))","v":""},{"$f":"IF('Outil Recensement simplifié'!CB70=\"Oui\",\"Yes\",IF('Outil Recensement simplifié'!CB70=\"Non\",\"No\",IF('Outil Recensement simplifié'!CB70=\"O\",\"Yes\",IF('Outil Recensement simplifié'!CB70=\"N\",\"No\",\"\"))))","v":""},{"$f":"IF('Outil Recensement simplifié'!CH70>0,'Outil Recensement simplifié'!CH70,\"\")","v":"    "}]
[{"$f":"IF('Outil Recensement simplifié'!A71>0,'Outil Recensement simplifié'!A71,\"\")","v":""},{"$f":"IF('Outil Recensement simplifié'!B71>0,'Outil Recensement simplifié'!B71,\"\")","v":""},{"$f":"IF('Outil Recensement simplifié'!C71>0,'Outil Recensement simplifié'!C71,\"\")","v":""},{"$f":"IF('Outil Recensement simplifié'!D71>0,'Outil Recensement simplifié'!D71,\"\")","v":""},{"$f":"IF('Outil Recensement simplifié'!E71>0,TEXT('Outil Recensement simplifié'!E71,\"000\"),\"\")","v":""},{"$f":"IF('Outil Recensement simplifié'!F71>0,'Outil Recensement simplifié'!F71,\"\")","v":""},{"$f":"IF('Outil Recensement simplifié'!G71>0,'Outil Recensement simplifié'!G71,\"\")","v":""},{"$f":"IF('Outil Recensement simplifié'!I71>0,'Outil Recensement simplifié'!I71,\"\")","v":""},{"$f":"IF('Outil Recensement simplifié'!J71>0,'Outil Recensement simplifié'!J71,\"\")","v":""},{"$f":"IF('Outil Recensement simplifié'!K71>0,'Outil Recensement simplifié'!K71,\"\")","v":""},{"$f":"IF('Outil Recensement simplifié'!L71>0,'Outil Recensement simplifié'!L71,\"\")","v":""},{"$f":"IF('Outil Recensement simplifié'!M71=\"Homme\",\"Male\",IF('Outil Recensement simplifié'!M71=\"Femme\",\"Female\",IF('Outil Recensement simplifié'!M71=\"H\",\"Male\",IF('Outil Recensement simplifié'!M71=\"F\",\"Female\",\"\"))))","v":""},{"$f":"IF('Outil Recensement simplifié'!N71=\"Oui\",\"Yes\",IF('Outil Recensement simplifié'!N71=\"Non\",\"No\",IF('Outil Recensement simplifié'!N71=\"O\",\"Yes\",IF('Outil Recensement simplifié'!N71=\"N\",\"No\",\"\"))))","v":""},{"$f":"IF('Outil Recensement simplifié'!O71=\"Non\",\"Single\",IF('Outil Recensement simplifié'!O71=\"Oui\",\"Family\",IF('Outil Recensement simplifié'!O71=\"N\",\"Single\",IF('Outil Recensement simplifié'!O71=\"O\",\"Family\",IF('Outil Recensement simplifié'!O71=\"En vigueur\",\"Family\",\"\")))))","v":""},{"$f":"IF('Outil Recensement simplifié'!P71=\"Anglais\",\"English\",IF('Outil Recensement simplifié'!P71=\"Français\",\"French\",IF('Outil Recensement simplifié'!P71=\"A\",\"English\",IF('Outil Recensement simplifié'!P71=\"F\",\"French\",\"\"))))","v":""},{"$f":"IF('Outil Recensement simplifié'!Q71=\"Oui\",\"Yes\",IF('Outil Recensement simplifié'!Q71=\"Non\",\"No\",IF('Outil Recensement simplifié'!Q71=\"O\",\"Yes\",IF('Outil Recensement simplifié'!Q71=\"N\",\"No\",\"\"))))","v":""},{"$f":"IF('Outil Recensement simplifié'!R71>0,'Outil Recensement simplifié'!R71,\"\")","v":""},{"$f":"IF('Outil Recensement simplifié'!S71=\"Annuelle\",\"Annually\",IF('Outil Recensement simplifié'!S71=\"Mensuelle\",\"Monthly\",IF('Outil Recensement simplifié'!S71=\"Aux deux semaines\",\"Biweekly\",IF('Outil Recensement simplifié'!S71=\"Bimensuelle\",\"Semi-Monthly\",IF('Outil Recensement simplifié'!S71=\"Hebdomadaire\",\"Weekly\",IF('Outil Recensement simplifié'!S71=\"Horaire\",\"Hourly\",\"\"))))))","v":""},{"$f":"IF('Outil Recensement simplifié'!T71>0,'Outil Recensement simplifié'!T71,\"\")","v":""},{"$f":"IF('Outil Recensement simplifié'!U71>0,'Outil Recensement simplifié'!U71,\"\")","v":""},{"$f":"IF('Outil Recensement simplifié'!V71=\"Exemptée\",\"Yes\",\"\")","v":""},{"$f":"IF('Outil Recensement simplifié'!W71=\"Exemptée\",\"Yes\",\"\")","v":""},{"$f":"IF('Outil Recensement simplifié'!X71>0,'Outil Recensement simplifié'!X71,\"\")","v":""},{"$f":"IF('Outil Recensement simplifié'!Y71>0,'Outil Recensement simplifié'!Y71,\"\")","v":""},{"$f":"IF('Outil Recensement simplifié'!Z71>0,'Outil Recensement simplifié'!Z71,\"\")","v":""},{"$f":"IF('Outil Recensement simplifié'!AA71>0,'Outil Recensement simplifié'!AA71,\"\")","v":""},{"$f":"IF('Outil Recensement simplifié'!AB71>0,'Outil Recensement simplifié'!AB71,\"\")","v":""},{"$f":"IF('Outil Recensement simplifié'!AC71>0,'Outil Recensement simplifié'!AC71,\"\")","v":" "},{"$f":"IF('Outil Recensement simplifié'!AE71>0,'Outil Recensement simplifié'!AE71&\" \",\"\")&IF('Outil Recensement simplifié'!AD71>0,'Outil Recensement simplifié'!AD71,\"\")","v":""},null,{"$f":"IF('Outil Recensement simplifié'!AF71>0,'Outil Recensement simplifié'!AF71,\"\")","v":""},{"$f":"IF('Outil Recensement simplifié'!AG71>0,'Outil Recensement simplifié'!AG71,\"\")","v":""},{"$f":"IF('Outil Recensement simplifié'!AH71>0,'Outil Recensement simplifié'!AH71,\"\")","v":""},{"$f":"IF('Outil Recensement simplifié'!AI71>0,'Outil Recensement simplifié'!AI71,\"\")","v":""},{"$f":"IF('Outil Recensement simplifié'!AJ71>0,'Outil Recensement simplifié'!AJ71,\"\")","v":""},{"$f":"IF('Outil Recensement simplifié'!AK71>0,'Outil Recensement simplifié'!AK71,\"\")","v":""},{"$f":"IF('Outil Recensement simplifié'!AL71>0,'Outil Recensement simplifié'!AL71,\"\")","v":""},{"$f":"IF('Outil Recensement simplifié'!AM71>0,'Outil Recensement simplifié'!AM71,\"\")","v":""},{"$f":"IF('Outil Recensement simplifié'!AN71=\"Homme\",\"Male\",IF('Outil Recensement simplifié'!AN71=\"Femme\",\"Female\",IF('Outil Recensement simplifié'!AN71=\"H\",\"Male\",IF('Outil Recensement simplifié'!AN71=\"F\",\"Female\",\"\"))))","v":""},{"$f":"IF('Outil Recensement simplifié'!AO71=\"Individuelle\",\"Single\",IF('Outil Recensement simplifié'!AO71=\"Famille\",\"Family\",IF('Outil Recensement simplifié'!AO71=\"Individuel\",\"Single\",IF('Outil Recensement simplifié'!AO71=\"Familiale\",\"Family\",IF('Outil Recensement simplifié'!AO71=\"I\",\"Single\",IF('Outil Recensement simplifié'!AO71=\"F\",\"Family\",\"\"))))))","v":""},{"$f":"IF('Outil Recensement simplifié'!AP71=\"Individuelle\",\"Single\",IF('Outil Recensement simplifié'!AP71=\"Famille\",\"Family\",IF('Outil Recensement simplifié'!AP71=\"Individuel\",\"Single\",IF('Outil Recensement simplifié'!AP71=\"Familiale\",\"Family\",IF('Outil Recensement simplifié'!AP71=\"I\",\"Single\",IF('Outil Recensement simplifié'!AP71=\"F\",\"Family\",\"\"))))))","v":""},{"$f":"IF('Outil Recensement simplifié'!AQ71>0,'Outil Recensement simplifié'!AQ71,\"\")","v":""},{"$f":"IF('Outil Recensement simplifié'!AR71=\"Oui\",\"Yes\",IF('Outil Recensement simplifié'!AR71=\"Non\",\"No\",IF('Outil Recensement simplifié'!AR71=\"O\",\"Yes\",IF('Outil Recensement simplifié'!AR71=\"N\",\"No\",\"\"))))","v":""},{"$f":"IF('Outil Recensement simplifié'!AS71>0,'Outil Recensement simplifié'!AS71,\"\")","v":""},{"$f":"IF('Outil Recensement simplifié'!AT71>0,'Outil Recensement simplifié'!AT71,\"\")","v":""},{"$f":"IF('Outil Recensement simplifié'!AU71>0,'Outil Recensement simplifié'!AU71,\"\")","v":""},{"$f":"IF('Outil Recensement simplifié'!AV71=\"Homme\",\"Male\",IF('Outil Recensement simplifié'!AV71=\"Femme\",\"Female\",IF('Outil Recensement simplifié'!AV71=\"H\",\"Male\",IF('Outil Recensement simplifié'!AV71=\"F\",\"Female\",\"\"))))","v":""},{"$f":"IF('Outil Recensement simplifié'!AW71=\"Oui\",\"Yes\",IF('Outil Recensement simplifié'!AW71=\"Non\",\"No\",IF('Outil Recensement simplifié'!AW71=\"O\",\"Yes\",IF('Outil Recensement simplifié'!AW71=\"N\",\"No\",\"\"))))","v":""},{"$f":"IF('Outil Recensement simplifié'!AX71=\"Oui\",\"Yes\",IF('Outil Recensement simplifié'!AX71=\"Non\",\"No\",IF('Outil Recensement simplifié'!AX71=\"O\",\"Yes\",IF('Outil Recensement simplifié'!AX71=\"N\",\"No\",\"\"))))","v":""},{"$f":"IF('Outil Recensement simplifié'!AY71>0,'Outil Recensement simplifié'!AY71,\"\")","v":""},{"$f":"IF('Outil Recensement simplifié'!AZ71>0,'Outil Recensement simplifié'!AZ71,\"\")","v":""},{"$f":"IF('Outil Recensement simplifié'!BA71>0,'Outil Recensement simplifié'!BA71,\"\")","v":""},{"$f":"IF('Outil Recensement simplifié'!BB71=\"Homme\",\"Male\",IF('Outil Recensement simplifié'!BB71=\"Femme\",\"Female\",IF('Outil Recensement simplifié'!BB71=\"H\",\"Male\",IF('Outil Recensement simplifié'!BB71=\"F\",\"Female\",\"\"))))","v":""},{"$f":"IF('Outil Recensement simplifié'!BC71=\"Oui\",\"Yes\",IF('Outil Recensement simplifié'!BC71=\"Non\",\"No\",IF('Outil Recensement simplifié'!BC71=\"O\",\"Yes\",IF('Outil Recensement simplifié'!BC71=\"N\",\"No\",\"\"))))","v":""},{"$f":"IF('Outil Recensement simplifié'!BD71=\"Oui\",\"Yes\",IF('Outil Recensement simplifié'!BD71=\"Non\",\"No\",IF('Outil Recensement simplifié'!BD71=\"O\",\"Yes\",IF('Outil Recensement simplifié'!BD71=\"N\",\"No\",\"\"))))","v":""},{"$f":"IF('Outil Recensement simplifié'!BE71>0,'Outil Recensement simplifié'!BE71,\"\")","v":""},{"$f":"IF('Outil Recensement simplifié'!BF71>0,'Outil Recensement simplifié'!BF71,\"\")","v":""},{"$f":"IF('Outil Recensement simplifié'!BG71>0,'Outil Recensement simplifié'!BG71,\"\")","v":""},{"$f":"IF('Outil Recensement simplifié'!BH71=\"Homme\",\"Male\",IF('Outil Recensement simplifié'!BH71=\"Femme\",\"Female\",IF('Outil Recensement simplifié'!BH71=\"H\",\"Male\",IF('Outil Recensement simplifié'!BH71=\"F\",\"Female\",\"\"))))","v":""},{"$f":"IF('Outil Recensement simplifié'!BI71=\"Oui\",\"Yes\",IF('Outil Recensement simplifié'!BI71=\"Non\",\"No\",IF('Outil Recensement simplifié'!BI71=\"O\",\"Yes\",IF('Outil Recensement simplifié'!BI71=\"N\",\"No\",\"\"))))","v":""},{"$f":"IF('Outil Recensement simplifié'!BJ71=\"Oui\",\"Yes\",IF('Outil Recensement simplifié'!BJ71=\"Non\",\"No\",IF('Outil Recensement simplifié'!BJ71=\"O\",\"Yes\",IF('Outil Recensement simplifié'!BJ71=\"N\",\"No\",\"\"))))","v":""},{"$f":"IF('Outil Recensement simplifié'!BK71>0,'Outil Recensement simplifié'!BK71,\"\")","v":""},{"$f":"IF('Outil Recensement simplifié'!BL71>0,'Outil Recensement simplifié'!BL71,\"\")","v":""},{"$f":"IF('Outil Recensement simplifié'!BM71>0,'Outil Recensement simplifié'!BM71,\"\")","v":""},{"$f":"IF('Outil Recensement simplifié'!BN71=\"Homme\",\"Male\",IF('Outil Recensement simplifié'!BN71=\"Femme\",\"Female\",IF('Outil Recensement simplifié'!BN71=\"H\",\"Male\",IF('Outil Recensement simplifié'!BN71=\"F\",\"Female\",\"\"))))","v":""},{"$f":"IF('Outil Recensement simplifié'!BO71=\"Oui\",\"Yes\",IF('Outil Recensement simplifié'!BO71=\"Non\",\"No\",IF('Outil Recensement simplifié'!BO71=\"O\",\"Yes\",IF('Outil Recensement simplifié'!BO71=\"N\",\"No\",\"\"))))","v":""},{"$f":"IF('Outil Recensement simplifié'!BP71=\"Oui\",\"Yes\",IF('Outil Recensement simplifié'!BP71=\"Non\",\"No\",IF('Outil Recensement simplifié'!BP71=\"O\",\"Yes\",IF('Outil Recensement simplifié'!BP71=\"N\",\"No\",\"\"))))","v":""},{"$f":"IF('Outil Recensement simplifié'!BQ71>0,'Outil Recensement simplifié'!BQ71,\"\")","v":""},{"$f":"IF('Outil Recensement simplifié'!BR71>0,'Outil Recensement simplifié'!BR71,\"\")","v":""},{"$f":"IF('Outil Recensement simplifié'!BS71>0,'Outil Recensement simplifié'!BS71,\"\")","v":""},{"$f":"IF('Outil Recensement simplifié'!BT71=\"Homme\",\"Male\",IF('Outil Recensement simplifié'!BT71=\"Femme\",\"Female\",IF('Outil Recensement simplifié'!BT71=\"H\",\"Male\",IF('Outil Recensement simplifié'!BT71=\"F\",\"Female\",\"\"))))","v":""},{"$f":"IF('Outil Recensement simplifié'!BU71=\"Oui\",\"Yes\",IF('Outil Recensement simplifié'!BU71=\"Non\",\"No\",IF('Outil Recensement simplifié'!BU71=\"O\",\"Yes\",IF('Outil Recensement simplifié'!BU71=\"N\",\"No\",\"\"))))","v":""},{"$f":"IF('Outil Recensement simplifié'!BV71=\"Oui\",\"Yes\",IF('Outil Recensement simplifié'!BV71=\"Non\",\"No\",IF('Outil Recensement simplifié'!BV71=\"O\",\"Yes\",IF('Outil Recensement simplifié'!BV71=\"N\",\"No\",\"\"))))","v":""},{"$f":"IF('Outil Recensement simplifié'!BW71>0,'Outil Recensement simplifié'!BW71,\"\")","v":""},{"$f":"IF('Outil Recensement simplifié'!BX71>0,'Outil Recensement simplifié'!BX71,\"\")","v":""},{"$f":"IF('Outil Recensement simplifié'!BY71>0,'Outil Recensement simplifié'!BY71,\"\")","v":""},{"$f":"IF('Outil Recensement simplifié'!BZ71=\"Homme\",\"Male\",IF('Outil Recensement simplifié'!BZ71=\"Femme\",\"Female\",IF('Outil Recensement simplifié'!BZ71=\"H\",\"Male\",IF('Outil Recensement simplifié'!BZ71=\"F\",\"Female\",\"\"))))","v":""},{"$f":"IF('Outil Recensement simplifié'!CA71=\"Oui\",\"Yes\",IF('Outil Recensement simplifié'!CA71=\"Non\",\"No\",IF('Outil Recensement simplifié'!CA71=\"O\",\"Yes\",IF('Outil Recensement simplifié'!CA71=\"N\",\"No\",\"\"))))","v":""},{"$f":"IF('Outil Recensement simplifié'!CB71=\"Oui\",\"Yes\",IF('Outil Recensement simplifié'!CB71=\"Non\",\"No\",IF('Outil Recensement simplifié'!CB71=\"O\",\"Yes\",IF('Outil Recensement simplifié'!CB71=\"N\",\"No\",\"\"))))","v":""},{"$f":"IF('Outil Recensement simplifié'!CH71>0,'Outil Recensement simplifié'!CH71,\"\")","v":"    "}]
[{"$f":"IF('Outil Recensement simplifié'!A72>0,'Outil Recensement simplifié'!A72,\"\")","v":""},{"$f":"IF('Outil Recensement simplifié'!B72>0,'Outil Recensement simplifié'!B72,\"\")","v":""},{"$f":"IF('Outil Recensement simplifié'!C72>0,'Outil Recensement simplifié'!C72,\"\")","v":""},{"$f":"IF('Outil Recensement simplifié'!D72>0,'Outil Recensement simplifié'!D72,\"\")","v":""},{"$f":"IF('Outil Recensement simplifié'!E72>0,TEXT('Outil Recensement simplifié'!E72,\"000\"),\"\")","v":""},{"$f":"IF('Outil Recensement simplifié'!F72>0,'Outil Recensement simplifié'!F72,\"\")","v":""},{"$f":"IF('Outil Recensement simplifié'!G72>0,'Outil Recensement simplifié'!G72,\"\")","v":""},{"$f":"IF('Outil Recensement simplifié'!I72>0,'Outil Recensement simplifié'!I72,\"\")","v":""},{"$f":"IF('Outil Recensement simplifié'!J72>0,'Outil Recensement simplifié'!J72,\"\")","v":""},{"$f":"IF('Outil Recensement simplifié'!K72>0,'Outil Recensement simplifié'!K72,\"\")","v":""},{"$f":"IF('Outil Recensement simplifié'!L72>0,'Outil Recensement simplifié'!L72,\"\")","v":""},{"$f":"IF('Outil Recensement simplifié'!M72=\"Homme\",\"Male\",IF('Outil Recensement simplifié'!M72=\"Femme\",\"Female\",IF('Outil Recensement simplifié'!M72=\"H\",\"Male\",IF('Outil Recensement simplifié'!M72=\"F\",\"Female\",\"\"))))","v":""},{"$f":"IF('Outil Recensement simplifié'!N72=\"Oui\",\"Yes\",IF('Outil Recensement simplifié'!N72=\"Non\",\"No\",IF('Outil Recensement simplifié'!N72=\"O\",\"Yes\",IF('Outil Recensement simplifié'!N72=\"N\",\"No\",\"\"))))","v":""},{"$f":"IF('Outil Recensement simplifié'!O72=\"Non\",\"Single\",IF('Outil Recensement simplifié'!O72=\"Oui\",\"Family\",IF('Outil Recensement simplifié'!O72=\"N\",\"Single\",IF('Outil Recensement simplifié'!O72=\"O\",\"Family\",IF('Outil Recensement simplifié'!O72=\"En vigueur\",\"Family\",\"\")))))","v":""},{"$f":"IF('Outil Recensement simplifié'!P72=\"Anglais\",\"English\",IF('Outil Recensement simplifié'!P72=\"Français\",\"French\",IF('Outil Recensement simplifié'!P72=\"A\",\"English\",IF('Outil Recensement simplifié'!P72=\"F\",\"French\",\"\"))))","v":""},{"$f":"IF('Outil Recensement simplifié'!Q72=\"Oui\",\"Yes\",IF('Outil Recensement simplifié'!Q72=\"Non\",\"No\",IF('Outil Recensement simplifié'!Q72=\"O\",\"Yes\",IF('Outil Recensement simplifié'!Q72=\"N\",\"No\",\"\"))))","v":""},{"$f":"IF('Outil Recensement simplifié'!R72>0,'Outil Recensement simplifié'!R72,\"\")","v":""},{"$f":"IF('Outil Recensement simplifié'!S72=\"Annuelle\",\"Annually\",IF('Outil Recensement simplifié'!S72=\"Mensuelle\",\"Monthly\",IF('Outil Recensement simplifié'!S72=\"Aux deux semaines\",\"Biweekly\",IF('Outil Recensement simplifié'!S72=\"Bimensuelle\",\"Semi-Monthly\",IF('Outil Recensement simplifié'!S72=\"Hebdomadaire\",\"Weekly\",IF('Outil Recensement simplifié'!S72=\"Horaire\",\"Hourly\",\"\"))))))","v":""},{"$f":"IF('Outil Recensement simplifié'!T72>0,'Outil Recensement simplifié'!T72,\"\")","v":""},{"$f":"IF('Outil Recensement simplifié'!U72>0,'Outil Recensement simplifié'!U72,\"\")","v":""},{"$f":"IF('Outil Recensement simplifié'!V72=\"Exemptée\",\"Yes\",\"\")","v":""},{"$f":"IF('Outil Recensement simplifié'!W72=\"Exemptée\",\"Yes\",\"\")","v":""},{"$f":"IF('Outil Recensement simplifié'!X72>0,'Outil Recensement simplifié'!X72,\"\")","v":""},{"$f":"IF('Outil Recensement simplifié'!Y72>0,'Outil Recensement simplifié'!Y72,\"\")","v":""},{"$f":"IF('Outil Recensement simplifié'!Z72>0,'Outil Recensement simplifié'!Z72,\"\")","v":""},{"$f":"IF('Outil Recensement simplifié'!AA72>0,'Outil Recensement simplifié'!AA72,\"\")","v":""},{"$f":"IF('Outil Recensement simplifié'!AB72>0,'Outil Recensement simplifié'!AB72,\"\")","v":""},{"$f":"IF('Outil Recensement simplifié'!AC72>0,'Outil Recensement simplifié'!AC72,\"\")","v":" "},{"$f":"IF('Outil Recensement simplifié'!AE72>0,'Outil Recensement simplifié'!AE72&\" \",\"\")&IF('Outil Recensement simplifié'!AD72>0,'Outil Recensement simplifié'!AD72,\"\")","v":""},null,{"$f":"IF('Outil Recensement simplifié'!AF72>0,'Outil Recensement simplifié'!AF72,\"\")","v":""},{"$f":"IF('Outil Recensement simplifié'!AG72>0,'Outil Recensement simplifié'!AG72,\"\")","v":""},{"$f":"IF('Outil Recensement simplifié'!AH72>0,'Outil Recensement simplifié'!AH72,\"\")","v":""},{"$f":"IF('Outil Recensement simplifié'!AI72>0,'Outil Recensement simplifié'!AI72,\"\")","v":""},{"$f":"IF('Outil Recensement simplifié'!AJ72>0,'Outil Recensement simplifié'!AJ72,\"\")","v":""},{"$f":"IF('Outil Recensement simplifié'!AK72>0,'Outil Recensement simplifié'!AK72,\"\")","v":""},{"$f":"IF('Outil Recensement simplifié'!AL72>0,'Outil Recensement simplifié'!AL72,\"\")","v":""},{"$f":"IF('Outil Recensement simplifié'!AM72>0,'Outil Recensement simplifié'!AM72,\"\")","v":""},{"$f":"IF('Outil Recensement simplifié'!AN72=\"Homme\",\"Male\",IF('Outil Recensement simplifié'!AN72=\"Femme\",\"Female\",IF('Outil Recensement simplifié'!AN72=\"H\",\"Male\",IF('Outil Recensement simplifié'!AN72=\"F\",\"Female\",\"\"))))","v":""},{"$f":"IF('Outil Recensement simplifié'!AO72=\"Individuelle\",\"Single\",IF('Outil Recensement simplifié'!AO72=\"Famille\",\"Family\",IF('Outil Recensement simplifié'!AO72=\"Individuel\",\"Single\",IF('Outil Recensement simplifié'!AO72=\"Familiale\",\"Family\",IF('Outil Recensement simplifié'!AO72=\"I\",\"Single\",IF('Outil Recensement simplifié'!AO72=\"F\",\"Family\",\"\"))))))","v":""},{"$f":"IF('Outil Recensement simplifié'!AP72=\"Individuelle\",\"Single\",IF('Outil Recensement simplifié'!AP72=\"Famille\",\"Family\",IF('Outil Recensement simplifié'!AP72=\"Individuel\",\"Single\",IF('Outil Recensement simplifié'!AP72=\"Familiale\",\"Family\",IF('Outil Recensement simplifié'!AP72=\"I\",\"Single\",IF('Outil Recensement simplifié'!AP72=\"F\",\"Family\",\"\"))))))","v":""},{"$f":"IF('Outil Recensement simplifié'!AQ72>0,'Outil Recensement simplifié'!AQ72,\"\")","v":""},{"$f":"IF('Outil Recensement simplifié'!AR72=\"Oui\",\"Yes\",IF('Outil Recensement simplifié'!AR72=\"Non\",\"No\",IF('Outil Recensement simplifié'!AR72=\"O\",\"Yes\",IF('Outil Recensement simplifié'!AR72=\"N\",\"No\",\"\"))))","v":""},{"$f":"IF('Outil Recensement simplifié'!AS72>0,'Outil Recensement simplifié'!AS72,\"\")","v":""},{"$f":"IF('Outil Recensement simplifié'!AT72>0,'Outil Recensement simplifié'!AT72,\"\")","v":""},{"$f":"IF('Outil Recensement simplifié'!AU72>0,'Outil Recensement simplifié'!AU72,\"\")","v":""},{"$f":"IF('Outil Recensement simplifié'!AV72=\"Homme\",\"Male\",IF('Outil Recensement simplifié'!AV72=\"Femme\",\"Female\",IF('Outil Recensement simplifié'!AV72=\"H\",\"Male\",IF('Outil Recensement simplifié'!AV72=\"F\",\"Female\",\"\"))))","v":""},{"$f":"IF('Outil Recensement simplifié'!AW72=\"Oui\",\"Yes\",IF('Outil Recensement simplifié'!AW72=\"Non\",\"No\",IF('Outil Recensement simplifié'!AW72=\"O\",\"Yes\",IF('Outil Recensement simplifié'!AW72=\"N\",\"No\",\"\"))))","v":""},{"$f":"IF('Outil Recensement simplifié'!AX72=\"Oui\",\"Yes\",IF('Outil Recensement simplifié'!AX72=\"Non\",\"No\",IF('Outil Recensement simplifié'!AX72=\"O\",\"Yes\",IF('Outil Recensement simplifié'!AX72=\"N\",\"No\",\"\"))))","v":""},{"$f":"IF('Outil Recensement simplifié'!AY72>0,'Outil Recensement simplifié'!AY72,\"\")","v":""},{"$f":"IF('Outil Recensement simplifié'!AZ72>0,'Outil Recensement simplifié'!AZ72,\"\")","v":""},{"$f":"IF('Outil Recensement simplifié'!BA72>0,'Outil Recensement simplifié'!BA72,\"\")","v":""},{"$f":"IF('Outil Recensement simplifié'!BB72=\"Homme\",\"Male\",IF('Outil Recensement simplifié'!BB72=\"Femme\",\"Female\",IF('Outil Recensement simplifié'!BB72=\"H\",\"Male\",IF('Outil Recensement simplifié'!BB72=\"F\",\"Female\",\"\"))))","v":""},{"$f":"IF('Outil Recensement simplifié'!BC72=\"Oui\",\"Yes\",IF('Outil Recensement simplifié'!BC72=\"Non\",\"No\",IF('Outil Recensement simplifié'!BC72=\"O\",\"Yes\",IF('Outil Recensement simplifié'!BC72=\"N\",\"No\",\"\"))))","v":""},{"$f":"IF('Outil Recensement simplifié'!BD72=\"Oui\",\"Yes\",IF('Outil Recensement simplifié'!BD72=\"Non\",\"No\",IF('Outil Recensement simplifié'!BD72=\"O\",\"Yes\",IF('Outil Recensement simplifié'!BD72=\"N\",\"No\",\"\"))))","v":""},{"$f":"IF('Outil Recensement simplifié'!BE72>0,'Outil Recensement simplifié'!BE72,\"\")","v":""},{"$f":"IF('Outil Recensement simplifié'!BF72>0,'Outil Recensement simplifié'!BF72,\"\")","v":""},{"$f":"IF('Outil Recensement simplifié'!BG72>0,'Outil Recensement simplifié'!BG72,\"\")","v":""},{"$f":"IF('Outil Recensement simplifié'!BH72=\"Homme\",\"Male\",IF('Outil Recensement simplifié'!BH72=\"Femme\",\"Female\",IF('Outil Recensement simplifié'!BH72=\"H\",\"Male\",IF('Outil Recensement simplifié'!BH72=\"F\",\"Female\",\"\"))))","v":""},{"$f":"IF('Outil Recensement simplifié'!BI72=\"Oui\",\"Yes\",IF('Outil Recensement simplifié'!BI72=\"Non\",\"No\",IF('Outil Recensement simplifié'!BI72=\"O\",\"Yes\",IF('Outil Recensement simplifié'!BI72=\"N\",\"No\",\"\"))))","v":""},{"$f":"IF('Outil Recensement simplifié'!BJ72=\"Oui\",\"Yes\",IF('Outil Recensement simplifié'!BJ72=\"Non\",\"No\",IF('Outil Recensement simplifié'!BJ72=\"O\",\"Yes\",IF('Outil Recensement simplifié'!BJ72=\"N\",\"No\",\"\"))))","v":""},{"$f":"IF('Outil Recensement simplifié'!BK72>0,'Outil Recensement simplifié'!BK72,\"\")","v":""},{"$f":"IF('Outil Recensement simplifié'!BL72>0,'Outil Recensement simplifié'!BL72,\"\")","v":""},{"$f":"IF('Outil Recensement simplifié'!BM72>0,'Outil Recensement simplifié'!BM72,\"\")","v":""},{"$f":"IF('Outil Recensement simplifié'!BN72=\"Homme\",\"Male\",IF('Outil Recensement simplifié'!BN72=\"Femme\",\"Female\",IF('Outil Recensement simplifié'!BN72=\"H\",\"Male\",IF('Outil Recensement simplifié'!BN72=\"F\",\"Female\",\"\"))))","v":""},{"$f":"IF('Outil Recensement simplifié'!BO72=\"Oui\",\"Yes\",IF('Outil Recensement simplifié'!BO72=\"Non\",\"No\",IF('Outil Recensement simplifié'!BO72=\"O\",\"Yes\",IF('Outil Recensement simplifié'!BO72=\"N\",\"No\",\"\"))))","v":""},{"$f":"IF('Outil Recensement simplifié'!BP72=\"Oui\",\"Yes\",IF('Outil Recensement simplifié'!BP72=\"Non\",\"No\",IF('Outil Recensement simplifié'!BP72=\"O\",\"Yes\",IF('Outil Recensement simplifié'!BP72=\"N\",\"No\",\"\"))))","v":""},{"$f":"IF('Outil Recensement simplifié'!BQ72>0,'Outil Recensement simplifié'!BQ72,\"\")","v":""},{"$f":"IF('Outil Recensement simplifié'!BR72>0,'Outil Recensement simplifié'!BR72,\"\")","v":""},{"$f":"IF('Outil Recensement simplifié'!BS72>0,'Outil Recensement simplifié'!BS72,\"\")","v":""},{"$f":"IF('Outil Recensement simplifié'!BT72=\"Homme\",\"Male\",IF('Outil Recensement simplifié'!BT72=\"Femme\",\"Female\",IF('Outil Recensement simplifié'!BT72=\"H\",\"Male\",IF('Outil Recensement simplifié'!BT72=\"F\",\"Female\",\"\"))))","v":""},{"$f":"IF('Outil Recensement simplifié'!BU72=\"Oui\",\"Yes\",IF('Outil Recensement simplifié'!BU72=\"Non\",\"No\",IF('Outil Recensement simplifié'!BU72=\"O\",\"Yes\",IF('Outil Recensement simplifié'!BU72=\"N\",\"No\",\"\"))))","v":""},{"$f":"IF('Outil Recensement simplifié'!BV72=\"Oui\",\"Yes\",IF('Outil Recensement simplifié'!BV72=\"Non\",\"No\",IF('Outil Recensement simplifié'!BV72=\"O\",\"Yes\",IF('Outil Recensement simplifié'!BV72=\"N\",\"No\",\"\"))))","v":""},{"$f":"IF('Outil Recensement simplifié'!BW72>0,'Outil Recensement simplifié'!BW72,\"\")","v":""},{"$f":"IF('Outil Recensement simplifié'!BX72>0,'Outil Recensement simplifié'!BX72,\"\")","v":""},{"$f":"IF('Outil Recensement simplifié'!BY72>0,'Outil Recensement simplifié'!BY72,\"\")","v":""},{"$f":"IF('Outil Recensement simplifié'!BZ72=\"Homme\",\"Male\",IF('Outil Recensement simplifié'!BZ72=\"Femme\",\"Female\",IF('Outil Recensement simplifié'!BZ72=\"H\",\"Male\",IF('Outil Recensement simplifié'!BZ72=\"F\",\"Female\",\"\"))))","v":""},{"$f":"IF('Outil Recensement simplifié'!CA72=\"Oui\",\"Yes\",IF('Outil Recensement simplifié'!CA72=\"Non\",\"No\",IF('Outil Recensement simplifié'!CA72=\"O\",\"Yes\",IF('Outil Recensement simplifié'!CA72=\"N\",\"No\",\"\"))))","v":""},{"$f":"IF('Outil Recensement simplifié'!CB72=\"Oui\",\"Yes\",IF('Outil Recensement simplifié'!CB72=\"Non\",\"No\",IF('Outil Recensement simplifié'!CB72=\"O\",\"Yes\",IF('Outil Recensement simplifié'!CB72=\"N\",\"No\",\"\"))))","v":""},{"$f":"IF('Outil Recensement simplifié'!CH72>0,'Outil Recensement simplifié'!CH72,\"\")","v":"    "}]
[{"$f":"IF('Outil Recensement simplifié'!A73>0,'Outil Recensement simplifié'!A73,\"\")","v":""},{"$f":"IF('Outil Recensement simplifié'!B73>0,'Outil Recensement simplifié'!B73,\"\")","v":""},{"$f":"IF('Outil Recensement simplifié'!C73>0,'Outil Recensement simplifié'!C73,\"\")","v":""},{"$f":"IF('Outil Recensement simplifié'!D73>0,'Outil Recensement simplifié'!D73,\"\")","v":""},{"$f":"IF('Outil Recensement simplifié'!E73>0,TEXT('Outil Recensement simplifié'!E73,\"000\"),\"\")","v":""},{"$f":"IF('Outil Recensement simplifié'!F73>0,'Outil Recensement simplifié'!F73,\"\")","v":""},{"$f":"IF('Outil Recensement simplifié'!G73>0,'Outil Recensement simplifié'!G73,\"\")","v":""},{"$f":"IF('Outil Recensement simplifié'!I73>0,'Outil Recensement simplifié'!I73,\"\")","v":""},{"$f":"IF('Outil Recensement simplifié'!J73>0,'Outil Recensement simplifié'!J73,\"\")","v":""},{"$f":"IF('Outil Recensement simplifié'!K73>0,'Outil Recensement simplifié'!K73,\"\")","v":""},{"$f":"IF('Outil Recensement simplifié'!L73>0,'Outil Recensement simplifié'!L73,\"\")","v":""},{"$f":"IF('Outil Recensement simplifié'!M73=\"Homme\",\"Male\",IF('Outil Recensement simplifié'!M73=\"Femme\",\"Female\",IF('Outil Recensement simplifié'!M73=\"H\",\"Male\",IF('Outil Recensement simplifié'!M73=\"F\",\"Female\",\"\"))))","v":""},{"$f":"IF('Outil Recensement simplifié'!N73=\"Oui\",\"Yes\",IF('Outil Recensement simplifié'!N73=\"Non\",\"No\",IF('Outil Recensement simplifié'!N73=\"O\",\"Yes\",IF('Outil Recensement simplifié'!N73=\"N\",\"No\",\"\"))))","v":""},{"$f":"IF('Outil Recensement simplifié'!O73=\"Non\",\"Single\",IF('Outil Recensement simplifié'!O73=\"Oui\",\"Family\",IF('Outil Recensement simplifié'!O73=\"N\",\"Single\",IF('Outil Recensement simplifié'!O73=\"O\",\"Family\",IF('Outil Recensement simplifié'!O73=\"En vigueur\",\"Family\",\"\")))))","v":""},{"$f":"IF('Outil Recensement simplifié'!P73=\"Anglais\",\"English\",IF('Outil Recensement simplifié'!P73=\"Français\",\"French\",IF('Outil Recensement simplifié'!P73=\"A\",\"English\",IF('Outil Recensement simplifié'!P73=\"F\",\"French\",\"\"))))","v":""},{"$f":"IF('Outil Recensement simplifié'!Q73=\"Oui\",\"Yes\",IF('Outil Recensement simplifié'!Q73=\"Non\",\"No\",IF('Outil Recensement simplifié'!Q73=\"O\",\"Yes\",IF('Outil Recensement simplifié'!Q73=\"N\",\"No\",\"\"))))","v":""},{"$f":"IF('Outil Recensement simplifié'!R73>0,'Outil Recensement simplifié'!R73,\"\")","v":""},{"$f":"IF('Outil Recensement simplifié'!S73=\"Annuelle\",\"Annually\",IF('Outil Recensement simplifié'!S73=\"Mensuelle\",\"Monthly\",IF('Outil Recensement simplifié'!S73=\"Aux deux semaines\",\"Biweekly\",IF('Outil Recensement simplifié'!S73=\"Bimensuelle\",\"Semi-Monthly\",IF('Outil Recensement simplifié'!S73=\"Hebdomadaire\",\"Weekly\",IF('Outil Recensement simplifié'!S73=\"Horaire\",\"Hourly\",\"\"))))))","v":""},{"$f":"IF('Outil Recensement simplifié'!T73>0,'Outil Recensement simplifié'!T73,\"\")","v":""},{"$f":"IF('Outil Recensement simplifié'!U73>0,'Outil Recensement simplifié'!U73,\"\")","v":""},{"$f":"IF('Outil Recensement simplifié'!V73=\"Exemptée\",\"Yes\",\"\")","v":""},{"$f":"IF('Outil Recensement simplifié'!W73=\"Exemptée\",\"Yes\",\"\")","v":""},{"$f":"IF('Outil Recensement simplifié'!X73>0,'Outil Recensement simplifié'!X73,\"\")","v":""},{"$f":"IF('Outil Recensement simplifié'!Y73>0,'Outil Recensement simplifié'!Y73,\"\")","v":""},{"$f":"IF('Outil Recensement simplifié'!Z73>0,'Outil Recensement simplifié'!Z73,\"\")","v":""},{"$f":"IF('Outil Recensement simplifié'!AA73>0,'Outil Recensement simplifié'!AA73,\"\")","v":""},{"$f":"IF('Outil Recensement simplifié'!AB73>0,'Outil Recensement simplifié'!AB73,\"\")","v":""},{"$f":"IF('Outil Recensement simplifié'!AC73>0,'Outil Recensement simplifié'!AC73,\"\")","v":" "},{"$f":"IF('Outil Recensement simplifié'!AE73>0,'Outil Recensement simplifié'!AE73&\" \",\"\")&IF('Outil Recensement simplifié'!AD73>0,'Outil Recensement simplifié'!AD73,\"\")","v":""},null,{"$f":"IF('Outil Recensement simplifié'!AF73>0,'Outil Recensement simplifié'!AF73,\"\")","v":""},{"$f":"IF('Outil Recensement simplifié'!AG73>0,'Outil Recensement simplifié'!AG73,\"\")","v":""},{"$f":"IF('Outil Recensement simplifié'!AH73>0,'Outil Recensement simplifié'!AH73,\"\")","v":""},{"$f":"IF('Outil Recensement simplifié'!AI73>0,'Outil Recensement simplifié'!AI73,\"\")","v":""},{"$f":"IF('Outil Recensement simplifié'!AJ73>0,'Outil Recensement simplifié'!AJ73,\"\")","v":""},{"$f":"IF('Outil Recensement simplifié'!AK73>0,'Outil Recensement simplifié'!AK73,\"\")","v":""},{"$f":"IF('Outil Recensement simplifié'!AL73>0,'Outil Recensement simplifié'!AL73,\"\")","v":""},{"$f":"IF('Outil Recensement simplifié'!AM73>0,'Outil Recensement simplifié'!AM73,\"\")","v":""},{"$f":"IF('Outil Recensement simplifié'!AN73=\"Homme\",\"Male\",IF('Outil Recensement simplifié'!AN73=\"Femme\",\"Female\",IF('Outil Recensement simplifié'!AN73=\"H\",\"Male\",IF('Outil Recensement simplifié'!AN73=\"F\",\"Female\",\"\"))))","v":""},{"$f":"IF('Outil Recensement simplifié'!AO73=\"Individuelle\",\"Single\",IF('Outil Recensement simplifié'!AO73=\"Famille\",\"Family\",IF('Outil Recensement simplifié'!AO73=\"Individuel\",\"Single\",IF('Outil Recensement simplifié'!AO73=\"Familiale\",\"Family\",IF('Outil Recensement simplifié'!AO73=\"I\",\"Single\",IF('Outil Recensement simplifié'!AO73=\"F\",\"Family\",\"\"))))))","v":""},{"$f":"IF('Outil Recensement simplifié'!AP73=\"Individuelle\",\"Single\",IF('Outil Recensement simplifié'!AP73=\"Famille\",\"Family\",IF('Outil Recensement simplifié'!AP73=\"Individuel\",\"Single\",IF('Outil Recensement simplifié'!AP73=\"Familiale\",\"Family\",IF('Outil Recensement simplifié'!AP73=\"I\",\"Single\",IF('Outil Recensement simplifié'!AP73=\"F\",\"Family\",\"\"))))))","v":""},{"$f":"IF('Outil Recensement simplifié'!AQ73>0,'Outil Recensement simplifié'!AQ73,\"\")","v":""},{"$f":"IF('Outil Recensement simplifié'!AR73=\"Oui\",\"Yes\",IF('Outil Recensement simplifié'!AR73=\"Non\",\"No\",IF('Outil Recensement simplifié'!AR73=\"O\",\"Yes\",IF('Outil Recensement simplifié'!AR73=\"N\",\"No\",\"\"))))","v":""},{"$f":"IF('Outil Recensement simplifié'!AS73>0,'Outil Recensement simplifié'!AS73,\"\")","v":""},{"$f":"IF('Outil Recensement simplifié'!AT73>0,'Outil Recensement simplifié'!AT73,\"\")","v":""},{"$f":"IF('Outil Recensement simplifié'!AU73>0,'Outil Recensement simplifié'!AU73,\"\")","v":""},{"$f":"IF('Outil Recensement simplifié'!AV73=\"Homme\",\"Male\",IF('Outil Recensement simplifié'!AV73=\"Femme\",\"Female\",IF('Outil Recensement simplifié'!AV73=\"H\",\"Male\",IF('Outil Recensement simplifié'!AV73=\"F\",\"Female\",\"\"))))","v":""},{"$f":"IF('Outil Recensement simplifié'!AW73=\"Oui\",\"Yes\",IF('Outil Recensement simplifié'!AW73=\"Non\",\"No\",IF('Outil Recensement simplifié'!AW73=\"O\",\"Yes\",IF('Outil Recensement simplifié'!AW73=\"N\",\"No\",\"\"))))","v":""},{"$f":"IF('Outil Recensement simplifié'!AX73=\"Oui\",\"Yes\",IF('Outil Recensement simplifié'!AX73=\"Non\",\"No\",IF('Outil Recensement simplifié'!AX73=\"O\",\"Yes\",IF('Outil Recensement simplifié'!AX73=\"N\",\"No\",\"\"))))","v":""},{"$f":"IF('Outil Recensement simplifié'!AY73>0,'Outil Recensement simplifié'!AY73,\"\")","v":""},{"$f":"IF('Outil Recensement simplifié'!AZ73>0,'Outil Recensement simplifié'!AZ73,\"\")","v":""},{"$f":"IF('Outil Recensement simplifié'!BA73>0,'Outil Recensement simplifié'!BA73,\"\")","v":""},{"$f":"IF('Outil Recensement simplifié'!BB73=\"Homme\",\"Male\",IF('Outil Recensement simplifié'!BB73=\"Femme\",\"Female\",IF('Outil Recensement simplifié'!BB73=\"H\",\"Male\",IF('Outil Recensement simplifié'!BB73=\"F\",\"Female\",\"\"))))","v":""},{"$f":"IF('Outil Recensement simplifié'!BC73=\"Oui\",\"Yes\",IF('Outil Recensement simplifié'!BC73=\"Non\",\"No\",IF('Outil Recensement simplifié'!BC73=\"O\",\"Yes\",IF('Outil Recensement simplifié'!BC73=\"N\",\"No\",\"\"))))","v":""},{"$f":"IF('Outil Recensement simplifié'!BD73=\"Oui\",\"Yes\",IF('Outil Recensement simplifié'!BD73=\"Non\",\"No\",IF('Outil Recensement simplifié'!BD73=\"O\",\"Yes\",IF('Outil Recensement simplifié'!BD73=\"N\",\"No\",\"\"))))","v":""},{"$f":"IF('Outil Recensement simplifié'!BE73>0,'Outil Recensement simplifié'!BE73,\"\")","v":""},{"$f":"IF('Outil Recensement simplifié'!BF73>0,'Outil Recensement simplifié'!BF73,\"\")","v":""},{"$f":"IF('Outil Recensement simplifié'!BG73>0,'Outil Recensement simplifié'!BG73,\"\")","v":""},{"$f":"IF('Outil Recensement simplifié'!BH73=\"Homme\",\"Male\",IF('Outil Recensement simplifié'!BH73=\"Femme\",\"Female\",IF('Outil Recensement simplifié'!BH73=\"H\",\"Male\",IF('Outil Recensement simplifié'!BH73=\"F\",\"Female\",\"\"))))","v":""},{"$f":"IF('Outil Recensement simplifié'!BI73=\"Oui\",\"Yes\",IF('Outil Recensement simplifié'!BI73=\"Non\",\"No\",IF('Outil Recensement simplifié'!BI73=\"O\",\"Yes\",IF('Outil Recensement simplifié'!BI73=\"N\",\"No\",\"\"))))","v":""},{"$f":"IF('Outil Recensement simplifié'!BJ73=\"Oui\",\"Yes\",IF('Outil Recensement simplifié'!BJ73=\"Non\",\"No\",IF('Outil Recensement simplifié'!BJ73=\"O\",\"Yes\",IF('Outil Recensement simplifié'!BJ73=\"N\",\"No\",\"\"))))","v":""},{"$f":"IF('Outil Recensement simplifié'!BK73>0,'Outil Recensement simplifié'!BK73,\"\")","v":""},{"$f":"IF('Outil Recensement simplifié'!BL73>0,'Outil Recensement simplifié'!BL73,\"\")","v":""},{"$f":"IF('Outil Recensement simplifié'!BM73>0,'Outil Recensement simplifié'!BM73,\"\")","v":""},{"$f":"IF('Outil Recensement simplifié'!BN73=\"Homme\",\"Male\",IF('Outil Recensement simplifié'!BN73=\"Femme\",\"Female\",IF('Outil Recensement simplifié'!BN73=\"H\",\"Male\",IF('Outil Recensement simplifié'!BN73=\"F\",\"Female\",\"\"))))","v":""},{"$f":"IF('Outil Recensement simplifié'!BO73=\"Oui\",\"Yes\",IF('Outil Recensement simplifié'!BO73=\"Non\",\"No\",IF('Outil Recensement simplifié'!BO73=\"O\",\"Yes\",IF('Outil Recensement simplifié'!BO73=\"N\",\"No\",\"\"))))","v":""},{"$f":"IF('Outil Recensement simplifié'!BP73=\"Oui\",\"Yes\",IF('Outil Recensement simplifié'!BP73=\"Non\",\"No\",IF('Outil Recensement simplifié'!BP73=\"O\",\"Yes\",IF('Outil Recensement simplifié'!BP73=\"N\",\"No\",\"\"))))","v":""},{"$f":"IF('Outil Recensement simplifié'!BQ73>0,'Outil Recensement simplifié'!BQ73,\"\")","v":""},{"$f":"IF('Outil Recensement simplifié'!BR73>0,'Outil Recensement simplifié'!BR73,\"\")","v":""},{"$f":"IF('Outil Recensement simplifié'!BS73>0,'Outil Recensement simplifié'!BS73,\"\")","v":""},{"$f":"IF('Outil Recensement simplifié'!BT73=\"Homme\",\"Male\",IF('Outil Recensement simplifié'!BT73=\"Femme\",\"Female\",IF('Outil Recensement simplifié'!BT73=\"H\",\"Male\",IF('Outil Recensement simplifié'!BT73=\"F\",\"Female\",\"\"))))","v":""},{"$f":"IF('Outil Recensement simplifié'!BU73=\"Oui\",\"Yes\",IF('Outil Recensement simplifié'!BU73=\"Non\",\"No\",IF('Outil Recensement simplifié'!BU73=\"O\",\"Yes\",IF('Outil Recensement simplifié'!BU73=\"N\",\"No\",\"\"))))","v":""},{"$f":"IF('Outil Recensement simplifié'!BV73=\"Oui\",\"Yes\",IF('Outil Recensement simplifié'!BV73=\"Non\",\"No\",IF('Outil Recensement simplifié'!BV73=\"O\",\"Yes\",IF('Outil Recensement simplifié'!BV73=\"N\",\"No\",\"\"))))","v":""},{"$f":"IF('Outil Recensement simplifié'!BW73>0,'Outil Recensement simplifié'!BW73,\"\")","v":""},{"$f":"IF('Outil Recensement simplifié'!BX73>0,'Outil Recensement simplifié'!BX73,\"\")","v":""},{"$f":"IF('Outil Recensement simplifié'!BY73>0,'Outil Recensement simplifié'!BY73,\"\")","v":""},{"$f":"IF('Outil Recensement simplifié'!BZ73=\"Homme\",\"Male\",IF('Outil Recensement simplifié'!BZ73=\"Femme\",\"Female\",IF('Outil Recensement simplifié'!BZ73=\"H\",\"Male\",IF('Outil Recensement simplifié'!BZ73=\"F\",\"Female\",\"\"))))","v":""},{"$f":"IF('Outil Recensement simplifié'!CA73=\"Oui\",\"Yes\",IF('Outil Recensement simplifié'!CA73=\"Non\",\"No\",IF('Outil Recensement simplifié'!CA73=\"O\",\"Yes\",IF('Outil Recensement simplifié'!CA73=\"N\",\"No\",\"\"))))","v":""},{"$f":"IF('Outil Recensement simplifié'!CB73=\"Oui\",\"Yes\",IF('Outil Recensement simplifié'!CB73=\"Non\",\"No\",IF('Outil Recensement simplifié'!CB73=\"O\",\"Yes\",IF('Outil Recensement simplifié'!CB73=\"N\",\"No\",\"\"))))","v":""},{"$f":"IF('Outil Recensement simplifié'!CH73>0,'Outil Recensement simplifié'!CH73,\"\")","v":"    "}]
[{"$f":"IF('Outil Recensement simplifié'!A74>0,'Outil Recensement simplifié'!A74,\"\")","v":""},{"$f":"IF('Outil Recensement simplifié'!B74>0,'Outil Recensement simplifié'!B74,\"\")","v":""},{"$f":"IF('Outil Recensement simplifié'!C74>0,'Outil Recensement simplifié'!C74,\"\")","v":""},{"$f":"IF('Outil Recensement simplifié'!D74>0,'Outil Recensement simplifié'!D74,\"\")","v":""},{"$f":"IF('Outil Recensement simplifié'!E74>0,TEXT('Outil Recensement simplifié'!E74,\"000\"),\"\")","v":""},{"$f":"IF('Outil Recensement simplifié'!F74>0,'Outil Recensement simplifié'!F74,\"\")","v":""},{"$f":"IF('Outil Recensement simplifié'!G74>0,'Outil Recensement simplifié'!G74,\"\")","v":""},{"$f":"IF('Outil Recensement simplifié'!I74>0,'Outil Recensement simplifié'!I74,\"\")","v":""},{"$f":"IF('Outil Recensement simplifié'!J74>0,'Outil Recensement simplifié'!J74,\"\")","v":""},{"$f":"IF('Outil Recensement simplifié'!K74>0,'Outil Recensement simplifié'!K74,\"\")","v":""},{"$f":"IF('Outil Recensement simplifié'!L74>0,'Outil Recensement simplifié'!L74,\"\")","v":""},{"$f":"IF('Outil Recensement simplifié'!M74=\"Homme\",\"Male\",IF('Outil Recensement simplifié'!M74=\"Femme\",\"Female\",IF('Outil Recensement simplifié'!M74=\"H\",\"Male\",IF('Outil Recensement simplifié'!M74=\"F\",\"Female\",\"\"))))","v":""},{"$f":"IF('Outil Recensement simplifié'!N74=\"Oui\",\"Yes\",IF('Outil Recensement simplifié'!N74=\"Non\",\"No\",IF('Outil Recensement simplifié'!N74=\"O\",\"Yes\",IF('Outil Recensement simplifié'!N74=\"N\",\"No\",\"\"))))","v":""},{"$f":"IF('Outil Recensement simplifié'!O74=\"Non\",\"Single\",IF('Outil Recensement simplifié'!O74=\"Oui\",\"Family\",IF('Outil Recensement simplifié'!O74=\"N\",\"Single\",IF('Outil Recensement simplifié'!O74=\"O\",\"Family\",IF('Outil Recensement simplifié'!O74=\"En vigueur\",\"Family\",\"\")))))","v":""},{"$f":"IF('Outil Recensement simplifié'!P74=\"Anglais\",\"English\",IF('Outil Recensement simplifié'!P74=\"Français\",\"French\",IF('Outil Recensement simplifié'!P74=\"A\",\"English\",IF('Outil Recensement simplifié'!P74=\"F\",\"French\",\"\"))))","v":""},{"$f":"IF('Outil Recensement simplifié'!Q74=\"Oui\",\"Yes\",IF('Outil Recensement simplifié'!Q74=\"Non\",\"No\",IF('Outil Recensement simplifié'!Q74=\"O\",\"Yes\",IF('Outil Recensement simplifié'!Q74=\"N\",\"No\",\"\"))))","v":""},{"$f":"IF('Outil Recensement simplifié'!R74>0,'Outil Recensement simplifié'!R74,\"\")","v":""},{"$f":"IF('Outil Recensement simplifié'!S74=\"Annuelle\",\"Annually\",IF('Outil Recensement simplifié'!S74=\"Mensuelle\",\"Monthly\",IF('Outil Recensement simplifié'!S74=\"Aux deux semaines\",\"Biweekly\",IF('Outil Recensement simplifié'!S74=\"Bimensuelle\",\"Semi-Monthly\",IF('Outil Recensement simplifié'!S74=\"Hebdomadaire\",\"Weekly\",IF('Outil Recensement simplifié'!S74=\"Horaire\",\"Hourly\",\"\"))))))","v":""},{"$f":"IF('Outil Recensement simplifié'!T74>0,'Outil Recensement simplifié'!T74,\"\")","v":""},{"$f":"IF('Outil Recensement simplifié'!U74>0,'Outil Recensement simplifié'!U74,\"\")","v":""},{"$f":"IF('Outil Recensement simplifié'!V74=\"Exemptée\",\"Yes\",\"\")","v":""},{"$f":"IF('Outil Recensement simplifié'!W74=\"Exemptée\",\"Yes\",\"\")","v":""},{"$f":"IF('Outil Recensement simplifié'!X74>0,'Outil Recensement simplifié'!X74,\"\")","v":""},{"$f":"IF('Outil Recensement simplifié'!Y74>0,'Outil Recensement simplifié'!Y74,\"\")","v":""},{"$f":"IF('Outil Recensement simplifié'!Z74>0,'Outil Recensement simplifié'!Z74,\"\")","v":""},{"$f":"IF('Outil Recensement simplifié'!AA74>0,'Outil Recensement simplifié'!AA74,\"\")","v":""},{"$f":"IF('Outil Recensement simplifié'!AB74>0,'Outil Recensement simplifié'!AB74,\"\")","v":""},{"$f":"IF('Outil Recensement simplifié'!AC74>0,'Outil Recensement simplifié'!AC74,\"\")","v":" "},{"$f":"IF('Outil Recensement simplifié'!AE74>0,'Outil Recensement simplifié'!AE74&\" \",\"\")&IF('Outil Recensement simplifié'!AD74>0,'Outil Recensement simplifié'!AD74,\"\")","v":""},null,{"$f":"IF('Outil Recensement simplifié'!AF74>0,'Outil Recensement simplifié'!AF74,\"\")","v":""},{"$f":"IF('Outil Recensement simplifié'!AG74>0,'Outil Recensement simplifié'!AG74,\"\")","v":""},{"$f":"IF('Outil Recensement simplifié'!AH74>0,'Outil Recensement simplifié'!AH74,\"\")","v":""},{"$f":"IF('Outil Recensement simplifié'!AI74>0,'Outil Recensement simplifié'!AI74,\"\")","v":""},{"$f":"IF('Outil Recensement simplifié'!AJ74>0,'Outil Recensement simplifié'!AJ74,\"\")","v":""},{"$f":"IF('Outil Recensement simplifié'!AK74>0,'Outil Recensement simplifié'!AK74,\"\")","v":""},{"$f":"IF('Outil Recensement simplifié'!AL74>0,'Outil Recensement simplifié'!AL74,\"\")","v":""},{"$f":"IF('Outil Recensement simplifié'!AM74>0,'Outil Recensement simplifié'!AM74,\"\")","v":""},{"$f":"IF('Outil Recensement simplifié'!AN74=\"Homme\",\"Male\",IF('Outil Recensement simplifié'!AN74=\"Femme\",\"Female\",IF('Outil Recensement simplifié'!AN74=\"H\",\"Male\",IF('Outil Recensement simplifié'!AN74=\"F\",\"Female\",\"\"))))","v":""},{"$f":"IF('Outil Recensement simplifié'!AO74=\"Individuelle\",\"Single\",IF('Outil Recensement simplifié'!AO74=\"Famille\",\"Family\",IF('Outil Recensement simplifié'!AO74=\"Individuel\",\"Single\",IF('Outil Recensement simplifié'!AO74=\"Familiale\",\"Family\",IF('Outil Recensement simplifié'!AO74=\"I\",\"Single\",IF('Outil Recensement simplifié'!AO74=\"F\",\"Family\",\"\"))))))","v":""},{"$f":"IF('Outil Recensement simplifié'!AP74=\"Individuelle\",\"Single\",IF('Outil Recensement simplifié'!AP74=\"Famille\",\"Family\",IF('Outil Recensement simplifié'!AP74=\"Individuel\",\"Single\",IF('Outil Recensement simplifié'!AP74=\"Familiale\",\"Family\",IF('Outil Recensement simplifié'!AP74=\"I\",\"Single\",IF('Outil Recensement simplifié'!AP74=\"F\",\"Family\",\"\"))))))","v":""},{"$f":"IF('Outil Recensement simplifié'!AQ74>0,'Outil Recensement simplifié'!AQ74,\"\")","v":""},{"$f":"IF('Outil Recensement simplifié'!AR74=\"Oui\",\"Yes\",IF('Outil Recensement simplifié'!AR74=\"Non\",\"No\",IF('Outil Recensement simplifié'!AR74=\"O\",\"Yes\",IF('Outil Recensement simplifié'!AR74=\"N\",\"No\",\"\"))))","v":""},{"$f":"IF('Outil Recensement simplifié'!AS74>0,'Outil Recensement simplifié'!AS74,\"\")","v":""},{"$f":"IF('Outil Recensement simplifié'!AT74>0,'Outil Recensement simplifié'!AT74,\"\")","v":""},{"$f":"IF('Outil Recensement simplifié'!AU74>0,'Outil Recensement simplifié'!AU74,\"\")","v":""},{"$f":"IF('Outil Recensement simplifié'!AV74=\"Homme\",\"Male\",IF('Outil Recensement simplifié'!AV74=\"Femme\",\"Female\",IF('Outil Recensement simplifié'!AV74=\"H\",\"Male\",IF('Outil Recensement simplifié'!AV74=\"F\",\"Female\",\"\"))))","v":""},{"$f":"IF('Outil Recensement simplifié'!AW74=\"Oui\",\"Yes\",IF('Outil Recensement simplifié'!AW74=\"Non\",\"No\",IF('Outil Recensement simplifié'!AW74=\"O\",\"Yes\",IF('Outil Recensement simplifié'!AW74=\"N\",\"No\",\"\"))))","v":""},{"$f":"IF('Outil Recensement simplifié'!AX74=\"Oui\",\"Yes\",IF('Outil Recensement simplifié'!AX74=\"Non\",\"No\",IF('Outil Recensement simplifié'!AX74=\"O\",\"Yes\",IF('Outil Recensement simplifié'!AX74=\"N\",\"No\",\"\"))))","v":""},{"$f":"IF('Outil Recensement simplifié'!AY74>0,'Outil Recensement simplifié'!AY74,\"\")","v":""},{"$f":"IF('Outil Recensement simplifié'!AZ74>0,'Outil Recensement simplifié'!AZ74,\"\")","v":""},{"$f":"IF('Outil Recensement simplifié'!BA74>0,'Outil Recensement simplifié'!BA74,\"\")","v":""},{"$f":"IF('Outil Recensement simplifié'!BB74=\"Homme\",\"Male\",IF('Outil Recensement simplifié'!BB74=\"Femme\",\"Female\",IF('Outil Recensement simplifié'!BB74=\"H\",\"Male\",IF('Outil Recensement simplifié'!BB74=\"F\",\"Female\",\"\"))))","v":""},{"$f":"IF('Outil Recensement simplifié'!BC74=\"Oui\",\"Yes\",IF('Outil Recensement simplifié'!BC74=\"Non\",\"No\",IF('Outil Recensement simplifié'!BC74=\"O\",\"Yes\",IF('Outil Recensement simplifié'!BC74=\"N\",\"No\",\"\"))))","v":""},{"$f":"IF('Outil Recensement simplifié'!BD74=\"Oui\",\"Yes\",IF('Outil Recensement simplifié'!BD74=\"Non\",\"No\",IF('Outil Recensement simplifié'!BD74=\"O\",\"Yes\",IF('Outil Recensement simplifié'!BD74=\"N\",\"No\",\"\"))))","v":""},{"$f":"IF('Outil Recensement simplifié'!BE74>0,'Outil Recensement simplifié'!BE74,\"\")","v":""},{"$f":"IF('Outil Recensement simplifié'!BF74>0,'Outil Recensement simplifié'!BF74,\"\")","v":""},{"$f":"IF('Outil Recensement simplifié'!BG74>0,'Outil Recensement simplifié'!BG74,\"\")","v":""},{"$f":"IF('Outil Recensement simplifié'!BH74=\"Homme\",\"Male\",IF('Outil Recensement simplifié'!BH74=\"Femme\",\"Female\",IF('Outil Recensement simplifié'!BH74=\"H\",\"Male\",IF('Outil Recensement simplifié'!BH74=\"F\",\"Female\",\"\"))))","v":""},{"$f":"IF('Outil Recensement simplifié'!BI74=\"Oui\",\"Yes\",IF('Outil Recensement simplifié'!BI74=\"Non\",\"No\",IF('Outil Recensement simplifié'!BI74=\"O\",\"Yes\",IF('Outil Recensement simplifié'!BI74=\"N\",\"No\",\"\"))))","v":""},{"$f":"IF('Outil Recensement simplifié'!BJ74=\"Oui\",\"Yes\",IF('Outil Recensement simplifié'!BJ74=\"Non\",\"No\",IF('Outil Recensement simplifié'!BJ74=\"O\",\"Yes\",IF('Outil Recensement simplifié'!BJ74=\"N\",\"No\",\"\"))))","v":""},{"$f":"IF('Outil Recensement simplifié'!BK74>0,'Outil Recensement simplifié'!BK74,\"\")","v":""},{"$f":"IF('Outil Recensement simplifié'!BL74>0,'Outil Recensement simplifié'!BL74,\"\")","v":""},{"$f":"IF('Outil Recensement simplifié'!BM74>0,'Outil Recensement simplifié'!BM74,\"\")","v":""},{"$f":"IF('Outil Recensement simplifié'!BN74=\"Homme\",\"Male\",IF('Outil Recensement simplifié'!BN74=\"Femme\",\"Female\",IF('Outil Recensement simplifié'!BN74=\"H\",\"Male\",IF('Outil Recensement simplifié'!BN74=\"F\",\"Female\",\"\"))))","v":""},{"$f":"IF('Outil Recensement simplifié'!BO74=\"Oui\",\"Yes\",IF('Outil Recensement simplifié'!BO74=\"Non\",\"No\",IF('Outil Recensement simplifié'!BO74=\"O\",\"Yes\",IF('Outil Recensement simplifié'!BO74=\"N\",\"No\",\"\"))))","v":""},{"$f":"IF('Outil Recensement simplifié'!BP74=\"Oui\",\"Yes\",IF('Outil Recensement simplifié'!BP74=\"Non\",\"No\",IF('Outil Recensement simplifié'!BP74=\"O\",\"Yes\",IF('Outil Recensement simplifié'!BP74=\"N\",\"No\",\"\"))))","v":""},{"$f":"IF('Outil Recensement simplifié'!BQ74>0,'Outil Recensement simplifié'!BQ74,\"\")","v":""},{"$f":"IF('Outil Recensement simplifié'!BR74>0,'Outil Recensement simplifié'!BR74,\"\")","v":""},{"$f":"IF('Outil Recensement simplifié'!BS74>0,'Outil Recensement simplifié'!BS74,\"\")","v":""},{"$f":"IF('Outil Recensement simplifié'!BT74=\"Homme\",\"Male\",IF('Outil Recensement simplifié'!BT74=\"Femme\",\"Female\",IF('Outil Recensement simplifié'!BT74=\"H\",\"Male\",IF('Outil Recensement simplifié'!BT74=\"F\",\"Female\",\"\"))))","v":""},{"$f":"IF('Outil Recensement simplifié'!BU74=\"Oui\",\"Yes\",IF('Outil Recensement simplifié'!BU74=\"Non\",\"No\",IF('Outil Recensement simplifié'!BU74=\"O\",\"Yes\",IF('Outil Recensement simplifié'!BU74=\"N\",\"No\",\"\"))))","v":""},{"$f":"IF('Outil Recensement simplifié'!BV74=\"Oui\",\"Yes\",IF('Outil Recensement simplifié'!BV74=\"Non\",\"No\",IF('Outil Recensement simplifié'!BV74=\"O\",\"Yes\",IF('Outil Recensement simplifié'!BV74=\"N\",\"No\",\"\"))))","v":""},{"$f":"IF('Outil Recensement simplifié'!BW74>0,'Outil Recensement simplifié'!BW74,\"\")","v":""},{"$f":"IF('Outil Recensement simplifié'!BX74>0,'Outil Recensement simplifié'!BX74,\"\")","v":""},{"$f":"IF('Outil Recensement simplifié'!BY74>0,'Outil Recensement simplifié'!BY74,\"\")","v":""},{"$f":"IF('Outil Recensement simplifié'!BZ74=\"Homme\",\"Male\",IF('Outil Recensement simplifié'!BZ74=\"Femme\",\"Female\",IF('Outil Recensement simplifié'!BZ74=\"H\",\"Male\",IF('Outil Recensement simplifié'!BZ74=\"F\",\"Female\",\"\"))))","v":""},{"$f":"IF('Outil Recensement simplifié'!CA74=\"Oui\",\"Yes\",IF('Outil Recensement simplifié'!CA74=\"Non\",\"No\",IF('Outil Recensement simplifié'!CA74=\"O\",\"Yes\",IF('Outil Recensement simplifié'!CA74=\"N\",\"No\",\"\"))))","v":""},{"$f":"IF('Outil Recensement simplifié'!CB74=\"Oui\",\"Yes\",IF('Outil Recensement simplifié'!CB74=\"Non\",\"No\",IF('Outil Recensement simplifié'!CB74=\"O\",\"Yes\",IF('Outil Recensement simplifié'!CB74=\"N\",\"No\",\"\"))))","v":""},{"$f":"IF('Outil Recensement simplifié'!CH74>0,'Outil Recensement simplifié'!CH74,\"\")","v":"    "}]
[{"$f":"IF('Outil Recensement simplifié'!A75>0,'Outil Recensement simplifié'!A75,\"\")","v":""},{"$f":"IF('Outil Recensement simplifié'!B75>0,'Outil Recensement simplifié'!B75,\"\")","v":""},{"$f":"IF('Outil Recensement simplifié'!C75>0,'Outil Recensement simplifié'!C75,\"\")","v":""},{"$f":"IF('Outil Recensement simplifié'!D75>0,'Outil Recensement simplifié'!D75,\"\")","v":""},{"$f":"IF('Outil Recensement simplifié'!E75>0,TEXT('Outil Recensement simplifié'!E75,\"000\"),\"\")","v":""},{"$f":"IF('Outil Recensement simplifié'!F75>0,'Outil Recensement simplifié'!F75,\"\")","v":""},{"$f":"IF('Outil Recensement simplifié'!G75>0,'Outil Recensement simplifié'!G75,\"\")","v":""},{"$f":"IF('Outil Recensement simplifié'!I75>0,'Outil Recensement simplifié'!I75,\"\")","v":""},{"$f":"IF('Outil Recensement simplifié'!J75>0,'Outil Recensement simplifié'!J75,\"\")","v":""},{"$f":"IF('Outil Recensement simplifié'!K75>0,'Outil Recensement simplifié'!K75,\"\")","v":""},{"$f":"IF('Outil Recensement simplifié'!L75>0,'Outil Recensement simplifié'!L75,\"\")","v":""},{"$f":"IF('Outil Recensement simplifié'!M75=\"Homme\",\"Male\",IF('Outil Recensement simplifié'!M75=\"Femme\",\"Female\",IF('Outil Recensement simplifié'!M75=\"H\",\"Male\",IF('Outil Recensement simplifié'!M75=\"F\",\"Female\",\"\"))))","v":""},{"$f":"IF('Outil Recensement simplifié'!N75=\"Oui\",\"Yes\",IF('Outil Recensement simplifié'!N75=\"Non\",\"No\",IF('Outil Recensement simplifié'!N75=\"O\",\"Yes\",IF('Outil Recensement simplifié'!N75=\"N\",\"No\",\"\"))))","v":""},{"$f":"IF('Outil Recensement simplifié'!O75=\"Non\",\"Single\",IF('Outil Recensement simplifié'!O75=\"Oui\",\"Family\",IF('Outil Recensement simplifié'!O75=\"N\",\"Single\",IF('Outil Recensement simplifié'!O75=\"O\",\"Family\",IF('Outil Recensement simplifié'!O75=\"En vigueur\",\"Family\",\"\")))))","v":""},{"$f":"IF('Outil Recensement simplifié'!P75=\"Anglais\",\"English\",IF('Outil Recensement simplifié'!P75=\"Français\",\"French\",IF('Outil Recensement simplifié'!P75=\"A\",\"English\",IF('Outil Recensement simplifié'!P75=\"F\",\"French\",\"\"))))","v":""},{"$f":"IF('Outil Recensement simplifié'!Q75=\"Oui\",\"Yes\",IF('Outil Recensement simplifié'!Q75=\"Non\",\"No\",IF('Outil Recensement simplifié'!Q75=\"O\",\"Yes\",IF('Outil Recensement simplifié'!Q75=\"N\",\"No\",\"\"))))","v":""},{"$f":"IF('Outil Recensement simplifié'!R75>0,'Outil Recensement simplifié'!R75,\"\")","v":""},{"$f":"IF('Outil Recensement simplifié'!S75=\"Annuelle\",\"Annually\",IF('Outil Recensement simplifié'!S75=\"Mensuelle\",\"Monthly\",IF('Outil Recensement simplifié'!S75=\"Aux deux semaines\",\"Biweekly\",IF('Outil Recensement simplifié'!S75=\"Bimensuelle\",\"Semi-Monthly\",IF('Outil Recensement simplifié'!S75=\"Hebdomadaire\",\"Weekly\",IF('Outil Recensement simplifié'!S75=\"Horaire\",\"Hourly\",\"\"))))))","v":""},{"$f":"IF('Outil Recensement simplifié'!T75>0,'Outil Recensement simplifié'!T75,\"\")","v":""},{"$f":"IF('Outil Recensement simplifié'!U75>0,'Outil Recensement simplifié'!U75,\"\")","v":""},{"$f":"IF('Outil Recensement simplifié'!V75=\"Exemptée\",\"Yes\",\"\")","v":""},{"$f":"IF('Outil Recensement simplifié'!W75=\"Exemptée\",\"Yes\",\"\")","v":""},{"$f":"IF('Outil Recensement simplifié'!X75>0,'Outil Recensement simplifié'!X75,\"\")","v":""},{"$f":"IF('Outil Recensement simplifié'!Y75>0,'Outil Recensement simplifié'!Y75,\"\")","v":""},{"$f":"IF('Outil Recensement simplifié'!Z75>0,'Outil Recensement simplifié'!Z75,\"\")","v":""},{"$f":"IF('Outil Recensement simplifié'!AA75>0,'Outil Recensement simplifié'!AA75,\"\")","v":""},{"$f":"IF('Outil Recensement simplifié'!AB75>0,'Outil Recensement simplifié'!AB75,\"\")","v":""},{"$f":"IF('Outil Recensement simplifié'!AC75>0,'Outil Recensement simplifié'!AC75,\"\")","v":" "},{"$f":"IF('Outil Recensement simplifié'!AE75>0,'Outil Recensement simplifié'!AE75&\" \",\"\")&IF('Outil Recensement simplifié'!AD75>0,'Outil Recensement simplifié'!AD75,\"\")","v":""},null,{"$f":"IF('Outil Recensement simplifié'!AF75>0,'Outil Recensement simplifié'!AF75,\"\")","v":""},{"$f":"IF('Outil Recensement simplifié'!AG75>0,'Outil Recensement simplifié'!AG75,\"\")","v":""},{"$f":"IF('Outil Recensement simplifié'!AH75>0,'Outil Recensement simplifié'!AH75,\"\")","v":""},{"$f":"IF('Outil Recensement simplifié'!AI75>0,'Outil Recensement simplifié'!AI75,\"\")","v":""},{"$f":"IF('Outil Recensement simplifié'!AJ75>0,'Outil Recensement simplifié'!AJ75,\"\")","v":""},{"$f":"IF('Outil Recensement simplifié'!AK75>0,'Outil Recensement simplifié'!AK75,\"\")","v":""},{"$f":"IF('Outil Recensement simplifié'!AL75>0,'Outil Recensement simplifié'!AL75,\"\")","v":""},{"$f":"IF('Outil Recensement simplifié'!AM75>0,'Outil Recensement simplifié'!AM75,\"\")","v":""},{"$f":"IF('Outil Recensement simplifié'!AN75=\"Homme\",\"Male\",IF('Outil Recensement simplifié'!AN75=\"Femme\",\"Female\",IF('Outil Recensement simplifié'!AN75=\"H\",\"Male\",IF('Outil Recensement simplifié'!AN75=\"F\",\"Female\",\"\"))))","v":""},{"$f":"IF('Outil Recensement simplifié'!AO75=\"Individuelle\",\"Single\",IF('Outil Recensement simplifié'!AO75=\"Famille\",\"Family\",IF('Outil Recensement simplifié'!AO75=\"Individuel\",\"Single\",IF('Outil Recensement simplifié'!AO75=\"Familiale\",\"Family\",IF('Outil Recensement simplifié'!AO75=\"I\",\"Single\",IF('Outil Recensement simplifié'!AO75=\"F\",\"Family\",\"\"))))))","v":""},{"$f":"IF('Outil Recensement simplifié'!AP75=\"Individuelle\",\"Single\",IF('Outil Recensement simplifié'!AP75=\"Famille\",\"Family\",IF('Outil Recensement simplifié'!AP75=\"Individuel\",\"Single\",IF('Outil Recensement simplifié'!AP75=\"Familiale\",\"Family\",IF('Outil Recensement simplifié'!AP75=\"I\",\"Single\",IF('Outil Recensement simplifié'!AP75=\"F\",\"Family\",\"\"))))))","v":""},{"$f":"IF('Outil Recensement simplifié'!AQ75>0,'Outil Recensement simplifié'!AQ75,\"\")","v":""},{"$f":"IF('Outil Recensement simplifié'!AR75=\"Oui\",\"Yes\",IF('Outil Recensement simplifié'!AR75=\"Non\",\"No\",IF('Outil Recensement simplifié'!AR75=\"O\",\"Yes\",IF('Outil Recensement simplifié'!AR75=\"N\",\"No\",\"\"))))","v":""},{"$f":"IF('Outil Recensement simplifié'!AS75>0,'Outil Recensement simplifié'!AS75,\"\")","v":""},{"$f":"IF('Outil Recensement simplifié'!AT75>0,'Outil Recensement simplifié'!AT75,\"\")","v":""},{"$f":"IF('Outil Recensement simplifié'!AU75>0,'Outil Recensement simplifié'!AU75,\"\")","v":""},{"$f":"IF('Outil Recensement simplifié'!AV75=\"Homme\",\"Male\",IF('Outil Recensement simplifié'!AV75=\"Femme\",\"Female\",IF('Outil Recensement simplifié'!AV75=\"H\",\"Male\",IF('Outil Recensement simplifié'!AV75=\"F\",\"Female\",\"\"))))","v":""},{"$f":"IF('Outil Recensement simplifié'!AW75=\"Oui\",\"Yes\",IF('Outil Recensement simplifié'!AW75=\"Non\",\"No\",IF('Outil Recensement simplifié'!AW75=\"O\",\"Yes\",IF('Outil Recensement simplifié'!AW75=\"N\",\"No\",\"\"))))","v":""},{"$f":"IF('Outil Recensement simplifié'!AX75=\"Oui\",\"Yes\",IF('Outil Recensement simplifié'!AX75=\"Non\",\"No\",IF('Outil Recensement simplifié'!AX75=\"O\",\"Yes\",IF('Outil Recensement simplifié'!AX75=\"N\",\"No\",\"\"))))","v":""},{"$f":"IF('Outil Recensement simplifié'!AY75>0,'Outil Recensement simplifié'!AY75,\"\")","v":""},{"$f":"IF('Outil Recensement simplifié'!AZ75>0,'Outil Recensement simplifié'!AZ75,\"\")","v":""},{"$f":"IF('Outil Recensement simplifié'!BA75>0,'Outil Recensement simplifié'!BA75,\"\")","v":""},{"$f":"IF('Outil Recensement simplifié'!BB75=\"Homme\",\"Male\",IF('Outil Recensement simplifié'!BB75=\"Femme\",\"Female\",IF('Outil Recensement simplifié'!BB75=\"H\",\"Male\",IF('Outil Recensement simplifié'!BB75=\"F\",\"Female\",\"\"))))","v":""},{"$f":"IF('Outil Recensement simplifié'!BC75=\"Oui\",\"Yes\",IF('Outil Recensement simplifié'!BC75=\"Non\",\"No\",IF('Outil Recensement simplifié'!BC75=\"O\",\"Yes\",IF('Outil Recensement simplifié'!BC75=\"N\",\"No\",\"\"))))","v":""},{"$f":"IF('Outil Recensement simplifié'!BD75=\"Oui\",\"Yes\",IF('Outil Recensement simplifié'!BD75=\"Non\",\"No\",IF('Outil Recensement simplifié'!BD75=\"O\",\"Yes\",IF('Outil Recensement simplifié'!BD75=\"N\",\"No\",\"\"))))","v":""},{"$f":"IF('Outil Recensement simplifié'!BE75>0,'Outil Recensement simplifié'!BE75,\"\")","v":""},{"$f":"IF('Outil Recensement simplifié'!BF75>0,'Outil Recensement simplifié'!BF75,\"\")","v":""},{"$f":"IF('Outil Recensement simplifié'!BG75>0,'Outil Recensement simplifié'!BG75,\"\")","v":""},{"$f":"IF('Outil Recensement simplifié'!BH75=\"Homme\",\"Male\",IF('Outil Recensement simplifié'!BH75=\"Femme\",\"Female\",IF('Outil Recensement simplifié'!BH75=\"H\",\"Male\",IF('Outil Recensement simplifié'!BH75=\"F\",\"Female\",\"\"))))","v":""},{"$f":"IF('Outil Recensement simplifié'!BI75=\"Oui\",\"Yes\",IF('Outil Recensement simplifié'!BI75=\"Non\",\"No\",IF('Outil Recensement simplifié'!BI75=\"O\",\"Yes\",IF('Outil Recensement simplifié'!BI75=\"N\",\"No\",\"\"))))","v":""},{"$f":"IF('Outil Recensement simplifié'!BJ75=\"Oui\",\"Yes\",IF('Outil Recensement simplifié'!BJ75=\"Non\",\"No\",IF('Outil Recensement simplifié'!BJ75=\"O\",\"Yes\",IF('Outil Recensement simplifié'!BJ75=\"N\",\"No\",\"\"))))","v":""},{"$f":"IF('Outil Recensement simplifié'!BK75>0,'Outil Recensement simplifié'!BK75,\"\")","v":""},{"$f":"IF('Outil Recensement simplifié'!BL75>0,'Outil Recensement simplifié'!BL75,\"\")","v":""},{"$f":"IF('Outil Recensement simplifié'!BM75>0,'Outil Recensement simplifié'!BM75,\"\")","v":""},{"$f":"IF('Outil Recensement simplifié'!BN75=\"Homme\",\"Male\",IF('Outil Recensement simplifié'!BN75=\"Femme\",\"Female\",IF('Outil Recensement simplifié'!BN75=\"H\",\"Male\",IF('Outil Recensement simplifié'!BN75=\"F\",\"Female\",\"\"))))","v":""},{"$f":"IF('Outil Recensement simplifié'!BO75=\"Oui\",\"Yes\",IF('Outil Recensement simplifié'!BO75=\"Non\",\"No\",IF('Outil Recensement simplifié'!BO75=\"O\",\"Yes\",IF('Outil Recensement simplifié'!BO75=\"N\",\"No\",\"\"))))","v":""},{"$f":"IF('Outil Recensement simplifié'!BP75=\"Oui\",\"Yes\",IF('Outil Recensement simplifié'!BP75=\"Non\",\"No\",IF('Outil Recensement simplifié'!BP75=\"O\",\"Yes\",IF('Outil Recensement simplifié'!BP75=\"N\",\"No\",\"\"))))","v":""},{"$f":"IF('Outil Recensement simplifié'!BQ75>0,'Outil Recensement simplifié'!BQ75,\"\")","v":""},{"$f":"IF('Outil Recensement simplifié'!BR75>0,'Outil Recensement simplifié'!BR75,\"\")","v":""},{"$f":"IF('Outil Recensement simplifié'!BS75>0,'Outil Recensement simplifié'!BS75,\"\")","v":""},{"$f":"IF('Outil Recensement simplifié'!BT75=\"Homme\",\"Male\",IF('Outil Recensement simplifié'!BT75=\"Femme\",\"Female\",IF('Outil Recensement simplifié'!BT75=\"H\",\"Male\",IF('Outil Recensement simplifié'!BT75=\"F\",\"Female\",\"\"))))","v":""},{"$f":"IF('Outil Recensement simplifié'!BU75=\"Oui\",\"Yes\",IF('Outil Recensement simplifié'!BU75=\"Non\",\"No\",IF('Outil Recensement simplifié'!BU75=\"O\",\"Yes\",IF('Outil Recensement simplifié'!BU75=\"N\",\"No\",\"\"))))","v":""},{"$f":"IF('Outil Recensement simplifié'!BV75=\"Oui\",\"Yes\",IF('Outil Recensement simplifié'!BV75=\"Non\",\"No\",IF('Outil Recensement simplifié'!BV75=\"O\",\"Yes\",IF('Outil Recensement simplifié'!BV75=\"N\",\"No\",\"\"))))","v":""},{"$f":"IF('Outil Recensement simplifié'!BW75>0,'Outil Recensement simplifié'!BW75,\"\")","v":""},{"$f":"IF('Outil Recensement simplifié'!BX75>0,'Outil Recensement simplifié'!BX75,\"\")","v":""},{"$f":"IF('Outil Recensement simplifié'!BY75>0,'Outil Recensement simplifié'!BY75,\"\")","v":""},{"$f":"IF('Outil Recensement simplifié'!BZ75=\"Homme\",\"Male\",IF('Outil Recensement simplifié'!BZ75=\"Femme\",\"Female\",IF('Outil Recensement simplifié'!BZ75=\"H\",\"Male\",IF('Outil Recensement simplifié'!BZ75=\"F\",\"Female\",\"\"))))","v":""},{"$f":"IF('Outil Recensement simplifié'!CA75=\"Oui\",\"Yes\",IF('Outil Recensement simplifié'!CA75=\"Non\",\"No\",IF('Outil Recensement simplifié'!CA75=\"O\",\"Yes\",IF('Outil Recensement simplifié'!CA75=\"N\",\"No\",\"\"))))","v":""},{"$f":"IF('Outil Recensement simplifié'!CB75=\"Oui\",\"Yes\",IF('Outil Recensement simplifié'!CB75=\"Non\",\"No\",IF('Outil Recensement simplifié'!CB75=\"O\",\"Yes\",IF('Outil Recensement simplifié'!CB75=\"N\",\"No\",\"\"))))","v":""},{"$f":"IF('Outil Recensement simplifié'!CH75>0,'Outil Recensement simplifié'!CH75,\"\")","v":"    "}]
[{"$f":"IF('Outil Recensement simplifié'!A76>0,'Outil Recensement simplifié'!A76,\"\")","v":""},{"$f":"IF('Outil Recensement simplifié'!B76>0,'Outil Recensement simplifié'!B76,\"\")","v":""},{"$f":"IF('Outil Recensement simplifié'!C76>0,'Outil Recensement simplifié'!C76,\"\")","v":""},{"$f":"IF('Outil Recensement simplifié'!D76>0,'Outil Recensement simplifié'!D76,\"\")","v":""},{"$f":"IF('Outil Recensement simplifié'!E76>0,TEXT('Outil Recensement simplifié'!E76,\"000\"),\"\")","v":""},{"$f":"IF('Outil Recensement simplifié'!F76>0,'Outil Recensement simplifié'!F76,\"\")","v":""},{"$f":"IF('Outil Recensement simplifié'!G76>0,'Outil Recensement simplifié'!G76,\"\")","v":""},{"$f":"IF('Outil Recensement simplifié'!I76>0,'Outil Recensement simplifié'!I76,\"\")","v":""},{"$f":"IF('Outil Recensement simplifié'!J76>0,'Outil Recensement simplifié'!J76,\"\")","v":""},{"$f":"IF('Outil Recensement simplifié'!K76>0,'Outil Recensement simplifié'!K76,\"\")","v":""},{"$f":"IF('Outil Recensement simplifié'!L76>0,'Outil Recensement simplifié'!L76,\"\")","v":""},{"$f":"IF('Outil Recensement simplifié'!M76=\"Homme\",\"Male\",IF('Outil Recensement simplifié'!M76=\"Femme\",\"Female\",IF('Outil Recensement simplifié'!M76=\"H\",\"Male\",IF('Outil Recensement simplifié'!M76=\"F\",\"Female\",\"\"))))","v":""},{"$f":"IF('Outil Recensement simplifié'!N76=\"Oui\",\"Yes\",IF('Outil Recensement simplifié'!N76=\"Non\",\"No\",IF('Outil Recensement simplifié'!N76=\"O\",\"Yes\",IF('Outil Recensement simplifié'!N76=\"N\",\"No\",\"\"))))","v":""},{"$f":"IF('Outil Recensement simplifié'!O76=\"Non\",\"Single\",IF('Outil Recensement simplifié'!O76=\"Oui\",\"Family\",IF('Outil Recensement simplifié'!O76=\"N\",\"Single\",IF('Outil Recensement simplifié'!O76=\"O\",\"Family\",IF('Outil Recensement simplifié'!O76=\"En vigueur\",\"Family\",\"\")))))","v":""},{"$f":"IF('Outil Recensement simplifié'!P76=\"Anglais\",\"English\",IF('Outil Recensement simplifié'!P76=\"Français\",\"French\",IF('Outil Recensement simplifié'!P76=\"A\",\"English\",IF('Outil Recensement simplifié'!P76=\"F\",\"French\",\"\"))))","v":""},{"$f":"IF('Outil Recensement simplifié'!Q76=\"Oui\",\"Yes\",IF('Outil Recensement simplifié'!Q76=\"Non\",\"No\",IF('Outil Recensement simplifié'!Q76=\"O\",\"Yes\",IF('Outil Recensement simplifié'!Q76=\"N\",\"No\",\"\"))))","v":""},{"$f":"IF('Outil Recensement simplifié'!R76>0,'Outil Recensement simplifié'!R76,\"\")","v":""},{"$f":"IF('Outil Recensement simplifié'!S76=\"Annuelle\",\"Annually\",IF('Outil Recensement simplifié'!S76=\"Mensuelle\",\"Monthly\",IF('Outil Recensement simplifié'!S76=\"Aux deux semaines\",\"Biweekly\",IF('Outil Recensement simplifié'!S76=\"Bimensuelle\",\"Semi-Monthly\",IF('Outil Recensement simplifié'!S76=\"Hebdomadaire\",\"Weekly\",IF('Outil Recensement simplifié'!S76=\"Horaire\",\"Hourly\",\"\"))))))","v":""},{"$f":"IF('Outil Recensement simplifié'!T76>0,'Outil Recensement simplifié'!T76,\"\")","v":""},{"$f":"IF('Outil Recensement simplifié'!U76>0,'Outil Recensement simplifié'!U76,\"\")","v":""},{"$f":"IF('Outil Recensement simplifié'!V76=\"Exemptée\",\"Yes\",\"\")","v":""},{"$f":"IF('Outil Recensement simplifié'!W76=\"Exemptée\",\"Yes\",\"\")","v":""},{"$f":"IF('Outil Recensement simplifié'!X76>0,'Outil Recensement simplifié'!X76,\"\")","v":""},{"$f":"IF('Outil Recensement simplifié'!Y76>0,'Outil Recensement simplifié'!Y76,\"\")","v":""},{"$f":"IF('Outil Recensement simplifié'!Z76>0,'Outil Recensement simplifié'!Z76,\"\")","v":""},{"$f":"IF('Outil Recensement simplifié'!AA76>0,'Outil Recensement simplifié'!AA76,\"\")","v":""},{"$f":"IF('Outil Recensement simplifié'!AB76>0,'Outil Recensement simplifié'!AB76,\"\")","v":""},{"$f":"IF('Outil Recensement simplifié'!AC76>0,'Outil Recensement simplifié'!AC76,\"\")","v":" "},{"$f":"IF('Outil Recensement simplifié'!AE76>0,'Outil Recensement simplifié'!AE76&\" \",\"\")&IF('Outil Recensement simplifié'!AD76>0,'Outil Recensement simplifié'!AD76,\"\")","v":""},null,{"$f":"IF('Outil Recensement simplifié'!AF76>0,'Outil Recensement simplifié'!AF76,\"\")","v":""},{"$f":"IF('Outil Recensement simplifié'!AG76>0,'Outil Recensement simplifié'!AG76,\"\")","v":""},{"$f":"IF('Outil Recensement simplifié'!AH76>0,'Outil Recensement simplifié'!AH76,\"\")","v":""},{"$f":"IF('Outil Recensement simplifié'!AI76>0,'Outil Recensement simplifié'!AI76,\"\")","v":""},{"$f":"IF('Outil Recensement simplifié'!AJ76>0,'Outil Recensement simplifié'!AJ76,\"\")","v":""},{"$f":"IF('Outil Recensement simplifié'!AK76>0,'Outil Recensement simplifié'!AK76,\"\")","v":""},{"$f":"IF('Outil Recensement simplifié'!AL76>0,'Outil Recensement simplifié'!AL76,\"\")","v":""},{"$f":"IF('Outil Recensement simplifié'!AM76>0,'Outil Recensement simplifié'!AM76,\"\")","v":""},{"$f":"IF('Outil Recensement simplifié'!AN76=\"Homme\",\"Male\",IF('Outil Recensement simplifié'!AN76=\"Femme\",\"Female\",IF('Outil Recensement simplifié'!AN76=\"H\",\"Male\",IF('Outil Recensement simplifié'!AN76=\"F\",\"Female\",\"\"))))","v":""},{"$f":"IF('Outil Recensement simplifié'!AO76=\"Individuelle\",\"Single\",IF('Outil Recensement simplifié'!AO76=\"Famille\",\"Family\",IF('Outil Recensement simplifié'!AO76=\"Individuel\",\"Single\",IF('Outil Recensement simplifié'!AO76=\"Familiale\",\"Family\",IF('Outil Recensement simplifié'!AO76=\"I\",\"Single\",IF('Outil Recensement simplifié'!AO76=\"F\",\"Family\",\"\"))))))","v":""},{"$f":"IF('Outil Recensement simplifié'!AP76=\"Individuelle\",\"Single\",IF('Outil Recensement simplifié'!AP76=\"Famille\",\"Family\",IF('Outil Recensement simplifié'!AP76=\"Individuel\",\"Single\",IF('Outil Recensement simplifié'!AP76=\"Familiale\",\"Family\",IF('Outil Recensement simplifié'!AP76=\"I\",\"Single\",IF('Outil Recensement simplifié'!AP76=\"F\",\"Family\",\"\"))))))","v":""},{"$f":"IF('Outil Recensement simplifié'!AQ76>0,'Outil Recensement simplifié'!AQ76,\"\")","v":""},{"$f":"IF('Outil Recensement simplifié'!AR76=\"Oui\",\"Yes\",IF('Outil Recensement simplifié'!AR76=\"Non\",\"No\",IF('Outil Recensement simplifié'!AR76=\"O\",\"Yes\",IF('Outil Recensement simplifié'!AR76=\"N\",\"No\",\"\"))))","v":""},{"$f":"IF('Outil Recensement simplifié'!AS76>0,'Outil Recensement simplifié'!AS76,\"\")","v":""},{"$f":"IF('Outil Recensement simplifié'!AT76>0,'Outil Recensement simplifié'!AT76,\"\")","v":""},{"$f":"IF('Outil Recensement simplifié'!AU76>0,'Outil Recensement simplifié'!AU76,\"\")","v":""},{"$f":"IF('Outil Recensement simplifié'!AV76=\"Homme\",\"Male\",IF('Outil Recensement simplifié'!AV76=\"Femme\",\"Female\",IF('Outil Recensement simplifié'!AV76=\"H\",\"Male\",IF('Outil Recensement simplifié'!AV76=\"F\",\"Female\",\"\"))))","v":""},{"$f":"IF('Outil Recensement simplifié'!AW76=\"Oui\",\"Yes\",IF('Outil Recensement simplifié'!AW76=\"Non\",\"No\",IF('Outil Recensement simplifié'!AW76=\"O\",\"Yes\",IF('Outil Recensement simplifié'!AW76=\"N\",\"No\",\"\"))))","v":""},{"$f":"IF('Outil Recensement simplifié'!AX76=\"Oui\",\"Yes\",IF('Outil Recensement simplifié'!AX76=\"Non\",\"No\",IF('Outil Recensement simplifié'!AX76=\"O\",\"Yes\",IF('Outil Recensement simplifié'!AX76=\"N\",\"No\",\"\"))))","v":""},{"$f":"IF('Outil Recensement simplifié'!AY76>0,'Outil Recensement simplifié'!AY76,\"\")","v":""},{"$f":"IF('Outil Recensement simplifié'!AZ76>0,'Outil Recensement simplifié'!AZ76,\"\")","v":""},{"$f":"IF('Outil Recensement simplifié'!BA76>0,'Outil Recensement simplifié'!BA76,\"\")","v":""},{"$f":"IF('Outil Recensement simplifié'!BB76=\"Homme\",\"Male\",IF('Outil Recensement simplifié'!BB76=\"Femme\",\"Female\",IF('Outil Recensement simplifié'!BB76=\"H\",\"Male\",IF('Outil Recensement simplifié'!BB76=\"F\",\"Female\",\"\"))))","v":""},{"$f":"IF('Outil Recensement simplifié'!BC76=\"Oui\",\"Yes\",IF('Outil Recensement simplifié'!BC76=\"Non\",\"No\",IF('Outil Recensement simplifié'!BC76=\"O\",\"Yes\",IF('Outil Recensement simplifié'!BC76=\"N\",\"No\",\"\"))))","v":""},{"$f":"IF('Outil Recensement simplifié'!BD76=\"Oui\",\"Yes\",IF('Outil Recensement simplifié'!BD76=\"Non\",\"No\",IF('Outil Recensement simplifié'!BD76=\"O\",\"Yes\",IF('Outil Recensement simplifié'!BD76=\"N\",\"No\",\"\"))))","v":""},{"$f":"IF('Outil Recensement simplifié'!BE76>0,'Outil Recensement simplifié'!BE76,\"\")","v":""},{"$f":"IF('Outil Recensement simplifié'!BF76>0,'Outil Recensement simplifié'!BF76,\"\")","v":""},{"$f":"IF('Outil Recensement simplifié'!BG76>0,'Outil Recensement simplifié'!BG76,\"\")","v":""},{"$f":"IF('Outil Recensement simplifié'!BH76=\"Homme\",\"Male\",IF('Outil Recensement simplifié'!BH76=\"Femme\",\"Female\",IF('Outil Recensement simplifié'!BH76=\"H\",\"Male\",IF('Outil Recensement simplifié'!BH76=\"F\",\"Female\",\"\"))))","v":""},{"$f":"IF('Outil Recensement simplifié'!BI76=\"Oui\",\"Yes\",IF('Outil Recensement simplifié'!BI76=\"Non\",\"No\",IF('Outil Recensement simplifié'!BI76=\"O\",\"Yes\",IF('Outil Recensement simplifié'!BI76=\"N\",\"No\",\"\"))))","v":""},{"$f":"IF('Outil Recensement simplifié'!BJ76=\"Oui\",\"Yes\",IF('Outil Recensement simplifié'!BJ76=\"Non\",\"No\",IF('Outil Recensement simplifié'!BJ76=\"O\",\"Yes\",IF('Outil Recensement simplifié'!BJ76=\"N\",\"No\",\"\"))))","v":""},{"$f":"IF('Outil Recensement simplifié'!BK76>0,'Outil Recensement simplifié'!BK76,\"\")","v":""},{"$f":"IF('Outil Recensement simplifié'!BL76>0,'Outil Recensement simplifié'!BL76,\"\")","v":""},{"$f":"IF('Outil Recensement simplifié'!BM76>0,'Outil Recensement simplifié'!BM76,\"\")","v":""},{"$f":"IF('Outil Recensement simplifié'!BN76=\"Homme\",\"Male\",IF('Outil Recensement simplifié'!BN76=\"Femme\",\"Female\",IF('Outil Recensement simplifié'!BN76=\"H\",\"Male\",IF('Outil Recensement simplifié'!BN76=\"F\",\"Female\",\"\"))))","v":""},{"$f":"IF('Outil Recensement simplifié'!BO76=\"Oui\",\"Yes\",IF('Outil Recensement simplifié'!BO76=\"Non\",\"No\",IF('Outil Recensement simplifié'!BO76=\"O\",\"Yes\",IF('Outil Recensement simplifié'!BO76=\"N\",\"No\",\"\"))))","v":""},{"$f":"IF('Outil Recensement simplifié'!BP76=\"Oui\",\"Yes\",IF('Outil Recensement simplifié'!BP76=\"Non\",\"No\",IF('Outil Recensement simplifié'!BP76=\"O\",\"Yes\",IF('Outil Recensement simplifié'!BP76=\"N\",\"No\",\"\"))))","v":""},{"$f":"IF('Outil Recensement simplifié'!BQ76>0,'Outil Recensement simplifié'!BQ76,\"\")","v":""},{"$f":"IF('Outil Recensement simplifié'!BR76>0,'Outil Recensement simplifié'!BR76,\"\")","v":""},{"$f":"IF('Outil Recensement simplifié'!BS76>0,'Outil Recensement simplifié'!BS76,\"\")","v":""},{"$f":"IF('Outil Recensement simplifié'!BT76=\"Homme\",\"Male\",IF('Outil Recensement simplifié'!BT76=\"Femme\",\"Female\",IF('Outil Recensement simplifié'!BT76=\"H\",\"Male\",IF('Outil Recensement simplifié'!BT76=\"F\",\"Female\",\"\"))))","v":""},{"$f":"IF('Outil Recensement simplifié'!BU76=\"Oui\",\"Yes\",IF('Outil Recensement simplifié'!BU76=\"Non\",\"No\",IF('Outil Recensement simplifié'!BU76=\"O\",\"Yes\",IF('Outil Recensement simplifié'!BU76=\"N\",\"No\",\"\"))))","v":""},{"$f":"IF('Outil Recensement simplifié'!BV76=\"Oui\",\"Yes\",IF('Outil Recensement simplifié'!BV76=\"Non\",\"No\",IF('Outil Recensement simplifié'!BV76=\"O\",\"Yes\",IF('Outil Recensement simplifié'!BV76=\"N\",\"No\",\"\"))))","v":""},{"$f":"IF('Outil Recensement simplifié'!BW76>0,'Outil Recensement simplifié'!BW76,\"\")","v":""},{"$f":"IF('Outil Recensement simplifié'!BX76>0,'Outil Recensement simplifié'!BX76,\"\")","v":""},{"$f":"IF('Outil Recensement simplifié'!BY76>0,'Outil Recensement simplifié'!BY76,\"\")","v":""},{"$f":"IF('Outil Recensement simplifié'!BZ76=\"Homme\",\"Male\",IF('Outil Recensement simplifié'!BZ76=\"Femme\",\"Female\",IF('Outil Recensement simplifié'!BZ76=\"H\",\"Male\",IF('Outil Recensement simplifié'!BZ76=\"F\",\"Female\",\"\"))))","v":""},{"$f":"IF('Outil Recensement simplifié'!CA76=\"Oui\",\"Yes\",IF('Outil Recensement simplifié'!CA76=\"Non\",\"No\",IF('Outil Recensement simplifié'!CA76=\"O\",\"Yes\",IF('Outil Recensement simplifié'!CA76=\"N\",\"No\",\"\"))))","v":""},{"$f":"IF('Outil Recensement simplifié'!CB76=\"Oui\",\"Yes\",IF('Outil Recensement simplifié'!CB76=\"Non\",\"No\",IF('Outil Recensement simplifié'!CB76=\"O\",\"Yes\",IF('Outil Recensement simplifié'!CB76=\"N\",\"No\",\"\"))))","v":""},{"$f":"IF('Outil Recensement simplifié'!CH76>0,'Outil Recensement simplifié'!CH76,\"\")","v":"    "}]
[{"$f":"IF('Outil Recensement simplifié'!A77>0,'Outil Recensement simplifié'!A77,\"\")","v":""},{"$f":"IF('Outil Recensement simplifié'!B77>0,'Outil Recensement simplifié'!B77,\"\")","v":""},{"$f":"IF('Outil Recensement simplifié'!C77>0,'Outil Recensement simplifié'!C77,\"\")","v":""},{"$f":"IF('Outil Recensement simplifié'!D77>0,'Outil Recensement simplifié'!D77,\"\")","v":""},{"$f":"IF('Outil Recensement simplifié'!E77>0,TEXT('Outil Recensement simplifié'!E77,\"000\"),\"\")","v":""},{"$f":"IF('Outil Recensement simplifié'!F77>0,'Outil Recensement simplifié'!F77,\"\")","v":""},{"$f":"IF('Outil Recensement simplifié'!G77>0,'Outil Recensement simplifié'!G77,\"\")","v":""},{"$f":"IF('Outil Recensement simplifié'!I77>0,'Outil Recensement simplifié'!I77,\"\")","v":""},{"$f":"IF('Outil Recensement simplifié'!J77>0,'Outil Recensement simplifié'!J77,\"\")","v":""},{"$f":"IF('Outil Recensement simplifié'!K77>0,'Outil Recensement simplifié'!K77,\"\")","v":""},{"$f":"IF('Outil Recensement simplifié'!L77>0,'Outil Recensement simplifié'!L77,\"\")","v":""},{"$f":"IF('Outil Recensement simplifié'!M77=\"Homme\",\"Male\",IF('Outil Recensement simplifié'!M77=\"Femme\",\"Female\",IF('Outil Recensement simplifié'!M77=\"H\",\"Male\",IF('Outil Recensement simplifié'!M77=\"F\",\"Female\",\"\"))))","v":""},{"$f":"IF('Outil Recensement simplifié'!N77=\"Oui\",\"Yes\",IF('Outil Recensement simplifié'!N77=\"Non\",\"No\",IF('Outil Recensement simplifié'!N77=\"O\",\"Yes\",IF('Outil Recensement simplifié'!N77=\"N\",\"No\",\"\"))))","v":""},{"$f":"IF('Outil Recensement simplifié'!O77=\"Non\",\"Single\",IF('Outil Recensement simplifié'!O77=\"Oui\",\"Family\",IF('Outil Recensement simplifié'!O77=\"N\",\"Single\",IF('Outil Recensement simplifié'!O77=\"O\",\"Family\",IF('Outil Recensement simplifié'!O77=\"En vigueur\",\"Family\",\"\")))))","v":""},{"$f":"IF('Outil Recensement simplifié'!P77=\"Anglais\",\"English\",IF('Outil Recensement simplifié'!P77=\"Français\",\"French\",IF('Outil Recensement simplifié'!P77=\"A\",\"English\",IF('Outil Recensement simplifié'!P77=\"F\",\"French\",\"\"))))","v":""},{"$f":"IF('Outil Recensement simplifié'!Q77=\"Oui\",\"Yes\",IF('Outil Recensement simplifié'!Q77=\"Non\",\"No\",IF('Outil Recensement simplifié'!Q77=\"O\",\"Yes\",IF('Outil Recensement simplifié'!Q77=\"N\",\"No\",\"\"))))","v":""},{"$f":"IF('Outil Recensement simplifié'!R77>0,'Outil Recensement simplifié'!R77,\"\")","v":""},{"$f":"IF('Outil Recensement simplifié'!S77=\"Annuelle\",\"Annually\",IF('Outil Recensement simplifié'!S77=\"Mensuelle\",\"Monthly\",IF('Outil Recensement simplifié'!S77=\"Aux deux semaines\",\"Biweekly\",IF('Outil Recensement simplifié'!S77=\"Bimensuelle\",\"Semi-Monthly\",IF('Outil Recensement simplifié'!S77=\"Hebdomadaire\",\"Weekly\",IF('Outil Recensement simplifié'!S77=\"Horaire\",\"Hourly\",\"\"))))))","v":""},{"$f":"IF('Outil Recensement simplifié'!T77>0,'Outil Recensement simplifié'!T77,\"\")","v":""},{"$f":"IF('Outil Recensement simplifié'!U77>0,'Outil Recensement simplifié'!U77,\"\")","v":""},{"$f":"IF('Outil Recensement simplifié'!V77=\"Exemptée\",\"Yes\",\"\")","v":""},{"$f":"IF('Outil Recensement simplifié'!W77=\"Exemptée\",\"Yes\",\"\")","v":""},{"$f":"IF('Outil Recensement simplifié'!X77>0,'Outil Recensement simplifié'!X77,\"\")","v":""},{"$f":"IF('Outil Recensement simplifié'!Y77>0,'Outil Recensement simplifié'!Y77,\"\")","v":""},{"$f":"IF('Outil Recensement simplifié'!Z77>0,'Outil Recensement simplifié'!Z77,\"\")","v":""},{"$f":"IF('Outil Recensement simplifié'!AA77>0,'Outil Recensement simplifié'!AA77,\"\")","v":""},{"$f":"IF('Outil Recensement simplifié'!AB77>0,'Outil Recensement simplifié'!AB77,\"\")","v":""},{"$f":"IF('Outil Recensement simplifié'!AC77>0,'Outil Recensement simplifié'!AC77,\"\")","v":" "},{"$f":"IF('Outil Recensement simplifié'!AE77>0,'Outil Recensement simplifié'!AE77&\" \",\"\")&IF('Outil Recensement simplifié'!AD77>0,'Outil Recensement simplifié'!AD77,\"\")","v":""},null,{"$f":"IF('Outil Recensement simplifié'!AF77>0,'Outil Recensement simplifié'!AF77,\"\")","v":""},{"$f":"IF('Outil Recensement simplifié'!AG77>0,'Outil Recensement simplifié'!AG77,\"\")","v":""},{"$f":"IF('Outil Recensement simplifié'!AH77>0,'Outil Recensement simplifié'!AH77,\"\")","v":""},{"$f":"IF('Outil Recensement simplifié'!AI77>0,'Outil Recensement simplifié'!AI77,\"\")","v":""},{"$f":"IF('Outil Recensement simplifié'!AJ77>0,'Outil Recensement simplifié'!AJ77,\"\")","v":""},{"$f":"IF('Outil Recensement simplifié'!AK77>0,'Outil Recensement simplifié'!AK77,\"\")","v":""},{"$f":"IF('Outil Recensement simplifié'!AL77>0,'Outil Recensement simplifié'!AL77,\"\")","v":""},{"$f":"IF('Outil Recensement simplifié'!AM77>0,'Outil Recensement simplifié'!AM77,\"\")","v":""},{"$f":"IF('Outil Recensement simplifié'!AN77=\"Homme\",\"Male\",IF('Outil Recensement simplifié'!AN77=\"Femme\",\"Female\",IF('Outil Recensement simplifié'!AN77=\"H\",\"Male\",IF('Outil Recensement simplifié'!AN77=\"F\",\"Female\",\"\"))))","v":""},{"$f":"IF('Outil Recensement simplifié'!AO77=\"Individuelle\",\"Single\",IF('Outil Recensement simplifié'!AO77=\"Famille\",\"Family\",IF('Outil Recensement simplifié'!AO77=\"Individuel\",\"Single\",IF('Outil Recensement simplifié'!AO77=\"Familiale\",\"Family\",IF('Outil Recensement simplifié'!AO77=\"I\",\"Single\",IF('Outil Recensement simplifié'!AO77=\"F\",\"Family\",\"\"))))))","v":""},{"$f":"IF('Outil Recensement simplifié'!AP77=\"Individuelle\",\"Single\",IF('Outil Recensement simplifié'!AP77=\"Famille\",\"Family\",IF('Outil Recensement simplifié'!AP77=\"Individuel\",\"Single\",IF('Outil Recensement simplifié'!AP77=\"Familiale\",\"Family\",IF('Outil Recensement simplifié'!AP77=\"I\",\"Single\",IF('Outil Recensement simplifié'!AP77=\"F\",\"Family\",\"\"))))))","v":""},{"$f":"IF('Outil Recensement simplifié'!AQ77>0,'Outil Recensement simplifié'!AQ77,\"\")","v":""},{"$f":"IF('Outil Recensement simplifié'!AR77=\"Oui\",\"Yes\",IF('Outil Recensement simplifié'!AR77=\"Non\",\"No\",IF('Outil Recensement simplifié'!AR77=\"O\",\"Yes\",IF('Outil Recensement simplifié'!AR77=\"N\",\"No\",\"\"))))","v":""},{"$f":"IF('Outil Recensement simplifié'!AS77>0,'Outil Recensement simplifié'!AS77,\"\")","v":""},{"$f":"IF('Outil Recensement simplifié'!AT77>0,'Outil Recensement simplifié'!AT77,\"\")","v":""},{"$f":"IF('Outil Recensement simplifié'!AU77>0,'Outil Recensement simplifié'!AU77,\"\")","v":""},{"$f":"IF('Outil Recensement simplifié'!AV77=\"Homme\",\"Male\",IF('Outil Recensement simplifié'!AV77=\"Femme\",\"Female\",IF('Outil Recensement simplifié'!AV77=\"H\",\"Male\",IF('Outil Recensement simplifié'!AV77=\"F\",\"Female\",\"\"))))","v":""},{"$f":"IF('Outil Recensement simplifié'!AW77=\"Oui\",\"Yes\",IF('Outil Recensement simplifié'!AW77=\"Non\",\"No\",IF('Outil Recensement simplifié'!AW77=\"O\",\"Yes\",IF('Outil Recensement simplifié'!AW77=\"N\",\"No\",\"\"))))","v":""},{"$f":"IF('Outil Recensement simplifié'!AX77=\"Oui\",\"Yes\",IF('Outil Recensement simplifié'!AX77=\"Non\",\"No\",IF('Outil Recensement simplifié'!AX77=\"O\",\"Yes\",IF('Outil Recensement simplifié'!AX77=\"N\",\"No\",\"\"))))","v":""},{"$f":"IF('Outil Recensement simplifié'!AY77>0,'Outil Recensement simplifié'!AY77,\"\")","v":""},{"$f":"IF('Outil Recensement simplifié'!AZ77>0,'Outil Recensement simplifié'!AZ77,\"\")","v":""},{"$f":"IF('Outil Recensement simplifié'!BA77>0,'Outil Recensement simplifié'!BA77,\"\")","v":""},{"$f":"IF('Outil Recensement simplifié'!BB77=\"Homme\",\"Male\",IF('Outil Recensement simplifié'!BB77=\"Femme\",\"Female\",IF('Outil Recensement simplifié'!BB77=\"H\",\"Male\",IF('Outil Recensement simplifié'!BB77=\"F\",\"Female\",\"\"))))","v":""},{"$f":"IF('Outil Recensement simplifié'!BC77=\"Oui\",\"Yes\",IF('Outil Recensement simplifié'!BC77=\"Non\",\"No\",IF('Outil Recensement simplifié'!BC77=\"O\",\"Yes\",IF('Outil Recensement simplifié'!BC77=\"N\",\"No\",\"\"))))","v":""},{"$f":"IF('Outil Recensement simplifié'!BD77=\"Oui\",\"Yes\",IF('Outil Recensement simplifié'!BD77=\"Non\",\"No\",IF('Outil Recensement simplifié'!BD77=\"O\",\"Yes\",IF('Outil Recensement simplifié'!BD77=\"N\",\"No\",\"\"))))","v":""},{"$f":"IF('Outil Recensement simplifié'!BE77>0,'Outil Recensement simplifié'!BE77,\"\")","v":""},{"$f":"IF('Outil Recensement simplifié'!BF77>0,'Outil Recensement simplifié'!BF77,\"\")","v":""},{"$f":"IF('Outil Recensement simplifié'!BG77>0,'Outil Recensement simplifié'!BG77,\"\")","v":""},{"$f":"IF('Outil Recensement simplifié'!BH77=\"Homme\",\"Male\",IF('Outil Recensement simplifié'!BH77=\"Femme\",\"Female\",IF('Outil Recensement simplifié'!BH77=\"H\",\"Male\",IF('Outil Recensement simplifié'!BH77=\"F\",\"Female\",\"\"))))","v":""},{"$f":"IF('Outil Recensement simplifié'!BI77=\"Oui\",\"Yes\",IF('Outil Recensement simplifié'!BI77=\"Non\",\"No\",IF('Outil Recensement simplifié'!BI77=\"O\",\"Yes\",IF('Outil Recensement simplifié'!BI77=\"N\",\"No\",\"\"))))","v":""},{"$f":"IF('Outil Recensement simplifié'!BJ77=\"Oui\",\"Yes\",IF('Outil Recensement simplifié'!BJ77=\"Non\",\"No\",IF('Outil Recensement simplifié'!BJ77=\"O\",\"Yes\",IF('Outil Recensement simplifié'!BJ77=\"N\",\"No\",\"\"))))","v":""},{"$f":"IF('Outil Recensement simplifié'!BK77>0,'Outil Recensement simplifié'!BK77,\"\")","v":""},{"$f":"IF('Outil Recensement simplifié'!BL77>0,'Outil Recensement simplifié'!BL77,\"\")","v":""},{"$f":"IF('Outil Recensement simplifié'!BM77>0,'Outil Recensement simplifié'!BM77,\"\")","v":""},{"$f":"IF('Outil Recensement simplifié'!BN77=\"Homme\",\"Male\",IF('Outil Recensement simplifié'!BN77=\"Femme\",\"Female\",IF('Outil Recensement simplifié'!BN77=\"H\",\"Male\",IF('Outil Recensement simplifié'!BN77=\"F\",\"Female\",\"\"))))","v":""},{"$f":"IF('Outil Recensement simplifié'!BO77=\"Oui\",\"Yes\",IF('Outil Recensement simplifié'!BO77=\"Non\",\"No\",IF('Outil Recensement simplifié'!BO77=\"O\",\"Yes\",IF('Outil Recensement simplifié'!BO77=\"N\",\"No\",\"\"))))","v":""},{"$f":"IF('Outil Recensement simplifié'!BP77=\"Oui\",\"Yes\",IF('Outil Recensement simplifié'!BP77=\"Non\",\"No\",IF('Outil Recensement simplifié'!BP77=\"O\",\"Yes\",IF('Outil Recensement simplifié'!BP77=\"N\",\"No\",\"\"))))","v":""},{"$f":"IF('Outil Recensement simplifié'!BQ77>0,'Outil Recensement simplifié'!BQ77,\"\")","v":""},{"$f":"IF('Outil Recensement simplifié'!BR77>0,'Outil Recensement simplifié'!BR77,\"\")","v":""},{"$f":"IF('Outil Recensement simplifié'!BS77>0,'Outil Recensement simplifié'!BS77,\"\")","v":""},{"$f":"IF('Outil Recensement simplifié'!BT77=\"Homme\",\"Male\",IF('Outil Recensement simplifié'!BT77=\"Femme\",\"Female\",IF('Outil Recensement simplifié'!BT77=\"H\",\"Male\",IF('Outil Recensement simplifié'!BT77=\"F\",\"Female\",\"\"))))","v":""},{"$f":"IF('Outil Recensement simplifié'!BU77=\"Oui\",\"Yes\",IF('Outil Recensement simplifié'!BU77=\"Non\",\"No\",IF('Outil Recensement simplifié'!BU77=\"O\",\"Yes\",IF('Outil Recensement simplifié'!BU77=\"N\",\"No\",\"\"))))","v":""},{"$f":"IF('Outil Recensement simplifié'!BV77=\"Oui\",\"Yes\",IF('Outil Recensement simplifié'!BV77=\"Non\",\"No\",IF('Outil Recensement simplifié'!BV77=\"O\",\"Yes\",IF('Outil Recensement simplifié'!BV77=\"N\",\"No\",\"\"))))","v":""},{"$f":"IF('Outil Recensement simplifié'!BW77>0,'Outil Recensement simplifié'!BW77,\"\")","v":""},{"$f":"IF('Outil Recensement simplifié'!BX77>0,'Outil Recensement simplifié'!BX77,\"\")","v":""},{"$f":"IF('Outil Recensement simplifié'!BY77>0,'Outil Recensement simplifié'!BY77,\"\")","v":""},{"$f":"IF('Outil Recensement simplifié'!BZ77=\"Homme\",\"Male\",IF('Outil Recensement simplifié'!BZ77=\"Femme\",\"Female\",IF('Outil Recensement simplifié'!BZ77=\"H\",\"Male\",IF('Outil Recensement simplifié'!BZ77=\"F\",\"Female\",\"\"))))","v":""},{"$f":"IF('Outil Recensement simplifié'!CA77=\"Oui\",\"Yes\",IF('Outil Recensement simplifié'!CA77=\"Non\",\"No\",IF('Outil Recensement simplifié'!CA77=\"O\",\"Yes\",IF('Outil Recensement simplifié'!CA77=\"N\",\"No\",\"\"))))","v":""},{"$f":"IF('Outil Recensement simplifié'!CB77=\"Oui\",\"Yes\",IF('Outil Recensement simplifié'!CB77=\"Non\",\"No\",IF('Outil Recensement simplifié'!CB77=\"O\",\"Yes\",IF('Outil Recensement simplifié'!CB77=\"N\",\"No\",\"\"))))","v":""},{"$f":"IF('Outil Recensement simplifié'!CH77>0,'Outil Recensement simplifié'!CH77,\"\")","v":"    "}]
[{"$f":"IF('Outil Recensement simplifié'!A78>0,'Outil Recensement simplifié'!A78,\"\")","v":""},{"$f":"IF('Outil Recensement simplifié'!B78>0,'Outil Recensement simplifié'!B78,\"\")","v":""},{"$f":"IF('Outil Recensement simplifié'!C78>0,'Outil Recensement simplifié'!C78,\"\")","v":""},{"$f":"IF('Outil Recensement simplifié'!D78>0,'Outil Recensement simplifié'!D78,\"\")","v":""},{"$f":"IF('Outil Recensement simplifié'!E78>0,TEXT('Outil Recensement simplifié'!E78,\"000\"),\"\")","v":""},{"$f":"IF('Outil Recensement simplifié'!F78>0,'Outil Recensement simplifié'!F78,\"\")","v":""},{"$f":"IF('Outil Recensement simplifié'!G78>0,'Outil Recensement simplifié'!G78,\"\")","v":""},{"$f":"IF('Outil Recensement simplifié'!I78>0,'Outil Recensement simplifié'!I78,\"\")","v":""},{"$f":"IF('Outil Recensement simplifié'!J78>0,'Outil Recensement simplifié'!J78,\"\")","v":""},{"$f":"IF('Outil Recensement simplifié'!K78>0,'Outil Recensement simplifié'!K78,\"\")","v":""},{"$f":"IF('Outil Recensement simplifié'!L78>0,'Outil Recensement simplifié'!L78,\"\")","v":""},{"$f":"IF('Outil Recensement simplifié'!M78=\"Homme\",\"Male\",IF('Outil Recensement simplifié'!M78=\"Femme\",\"Female\",IF('Outil Recensement simplifié'!M78=\"H\",\"Male\",IF('Outil Recensement simplifié'!M78=\"F\",\"Female\",\"\"))))","v":""},{"$f":"IF('Outil Recensement simplifié'!N78=\"Oui\",\"Yes\",IF('Outil Recensement simplifié'!N78=\"Non\",\"No\",IF('Outil Recensement simplifié'!N78=\"O\",\"Yes\",IF('Outil Recensement simplifié'!N78=\"N\",\"No\",\"\"))))","v":""},{"$f":"IF('Outil Recensement simplifié'!O78=\"Non\",\"Single\",IF('Outil Recensement simplifié'!O78=\"Oui\",\"Family\",IF('Outil Recensement simplifié'!O78=\"N\",\"Single\",IF('Outil Recensement simplifié'!O78=\"O\",\"Family\",IF('Outil Recensement simplifié'!O78=\"En vigueur\",\"Family\",\"\")))))","v":""},{"$f":"IF('Outil Recensement simplifié'!P78=\"Anglais\",\"English\",IF('Outil Recensement simplifié'!P78=\"Français\",\"French\",IF('Outil Recensement simplifié'!P78=\"A\",\"English\",IF('Outil Recensement simplifié'!P78=\"F\",\"French\",\"\"))))","v":""},{"$f":"IF('Outil Recensement simplifié'!Q78=\"Oui\",\"Yes\",IF('Outil Recensement simplifié'!Q78=\"Non\",\"No\",IF('Outil Recensement simplifié'!Q78=\"O\",\"Yes\",IF('Outil Recensement simplifié'!Q78=\"N\",\"No\",\"\"))))","v":""},{"$f":"IF('Outil Recensement simplifié'!R78>0,'Outil Recensement simplifié'!R78,\"\")","v":""},{"$f":"IF('Outil Recensement simplifié'!S78=\"Annuelle\",\"Annually\",IF('Outil Recensement simplifié'!S78=\"Mensuelle\",\"Monthly\",IF('Outil Recensement simplifié'!S78=\"Aux deux semaines\",\"Biweekly\",IF('Outil Recensement simplifié'!S78=\"Bimensuelle\",\"Semi-Monthly\",IF('Outil Recensement simplifié'!S78=\"Hebdomadaire\",\"Weekly\",IF('Outil Recensement simplifié'!S78=\"Horaire\",\"Hourly\",\"\"))))))","v":""},{"$f":"IF('Outil Recensement simplifié'!T78>0,'Outil Recensement simplifié'!T78,\"\")","v":""},{"$f":"IF('Outil Recensement simplifié'!U78>0,'Outil Recensement simplifié'!U78,\"\")","v":""},{"$f":"IF('Outil Recensement simplifié'!V78=\"Exemptée\",\"Yes\",\"\")","v":""},{"$f":"IF('Outil Recensement simplifié'!W78=\"Exemptée\",\"Yes\",\"\")","v":""},{"$f":"IF('Outil Recensement simplifié'!X78>0,'Outil Recensement simplifié'!X78,\"\")","v":""},{"$f":"IF('Outil Recensement simplifié'!Y78>0,'Outil Recensement simplifié'!Y78,\"\")","v":""},{"$f":"IF('Outil Recensement simplifié'!Z78>0,'Outil Recensement simplifié'!Z78,\"\")","v":""},{"$f":"IF('Outil Recensement simplifié'!AA78>0,'Outil Recensement simplifié'!AA78,\"\")","v":""},{"$f":"IF('Outil Recensement simplifié'!AB78>0,'Outil Recensement simplifié'!AB78,\"\")","v":""},{"$f":"IF('Outil Recensement simplifié'!AC78>0,'Outil Recensement simplifié'!AC78,\"\")","v":" "},{"$f":"IF('Outil Recensement simplifié'!AE78>0,'Outil Recensement simplifié'!AE78&\" \",\"\")&IF('Outil Recensement simplifié'!AD78>0,'Outil Recensement simplifié'!AD78,\"\")","v":""},null,{"$f":"IF('Outil Recensement simplifié'!AF78>0,'Outil Recensement simplifié'!AF78,\"\")","v":""},{"$f":"IF('Outil Recensement simplifié'!AG78>0,'Outil Recensement simplifié'!AG78,\"\")","v":""},{"$f":"IF('Outil Recensement simplifié'!AH78>0,'Outil Recensement simplifié'!AH78,\"\")","v":""},{"$f":"IF('Outil Recensement simplifié'!AI78>0,'Outil Recensement simplifié'!AI78,\"\")","v":""},{"$f":"IF('Outil Recensement simplifié'!AJ78>0,'Outil Recensement simplifié'!AJ78,\"\")","v":""},{"$f":"IF('Outil Recensement simplifié'!AK78>0,'Outil Recensement simplifié'!AK78,\"\")","v":""},{"$f":"IF('Outil Recensement simplifié'!AL78>0,'Outil Recensement simplifié'!AL78,\"\")","v":""},{"$f":"IF('Outil Recensement simplifié'!AM78>0,'Outil Recensement simplifié'!AM78,\"\")","v":""},{"$f":"IF('Outil Recensement simplifié'!AN78=\"Homme\",\"Male\",IF('Outil Recensement simplifié'!AN78=\"Femme\",\"Female\",IF('Outil Recensement simplifié'!AN78=\"H\",\"Male\",IF('Outil Recensement simplifié'!AN78=\"F\",\"Female\",\"\"))))","v":""},{"$f":"IF('Outil Recensement simplifié'!AO78=\"Individuelle\",\"Single\",IF('Outil Recensement simplifié'!AO78=\"Famille\",\"Family\",IF('Outil Recensement simplifié'!AO78=\"Individuel\",\"Single\",IF('Outil Recensement simplifié'!AO78=\"Familiale\",\"Family\",IF('Outil Recensement simplifié'!AO78=\"I\",\"Single\",IF('Outil Recensement simplifié'!AO78=\"F\",\"Family\",\"\"))))))","v":""},{"$f":"IF('Outil Recensement simplifié'!AP78=\"Individuelle\",\"Single\",IF('Outil Recensement simplifié'!AP78=\"Famille\",\"Family\",IF('Outil Recensement simplifié'!AP78=\"Individuel\",\"Single\",IF('Outil Recensement simplifié'!AP78=\"Familiale\",\"Family\",IF('Outil Recensement simplifié'!AP78=\"I\",\"Single\",IF('Outil Recensement simplifié'!AP78=\"F\",\"Family\",\"\"))))))","v":""},{"$f":"IF('Outil Recensement simplifié'!AQ78>0,'Outil Recensement simplifié'!AQ78,\"\")","v":""},{"$f":"IF('Outil Recensement simplifié'!AR78=\"Oui\",\"Yes\",IF('Outil Recensement simplifié'!AR78=\"Non\",\"No\",IF('Outil Recensement simplifié'!AR78=\"O\",\"Yes\",IF('Outil Recensement simplifié'!AR78=\"N\",\"No\",\"\"))))","v":""},{"$f":"IF('Outil Recensement simplifié'!AS78>0,'Outil Recensement simplifié'!AS78,\"\")","v":""},{"$f":"IF('Outil Recensement simplifié'!AT78>0,'Outil Recensement simplifié'!AT78,\"\")","v":""},{"$f":"IF('Outil Recensement simplifié'!AU78>0,'Outil Recensement simplifié'!AU78,\"\")","v":""},{"$f":"IF('Outil Recensement simplifié'!AV78=\"Homme\",\"Male\",IF('Outil Recensement simplifié'!AV78=\"Femme\",\"Female\",IF('Outil Recensement simplifié'!AV78=\"H\",\"Male\",IF('Outil Recensement simplifié'!AV78=\"F\",\"Female\",\"\"))))","v":""},{"$f":"IF('Outil Recensement simplifié'!AW78=\"Oui\",\"Yes\",IF('Outil Recensement simplifié'!AW78=\"Non\",\"No\",IF('Outil Recensement simplifié'!AW78=\"O\",\"Yes\",IF('Outil Recensement simplifié'!AW78=\"N\",\"No\",\"\"))))","v":""},{"$f":"IF('Outil Recensement simplifié'!AX78=\"Oui\",\"Yes\",IF('Outil Recensement simplifié'!AX78=\"Non\",\"No\",IF('Outil Recensement simplifié'!AX78=\"O\",\"Yes\",IF('Outil Recensement simplifié'!AX78=\"N\",\"No\",\"\"))))","v":""},{"$f":"IF('Outil Recensement simplifié'!AY78>0,'Outil Recensement simplifié'!AY78,\"\")","v":""},{"$f":"IF('Outil Recensement simplifié'!AZ78>0,'Outil Recensement simplifié'!AZ78,\"\")","v":""},{"$f":"IF('Outil Recensement simplifié'!BA78>0,'Outil Recensement simplifié'!BA78,\"\")","v":""},{"$f":"IF('Outil Recensement simplifié'!BB78=\"Homme\",\"Male\",IF('Outil Recensement simplifié'!BB78=\"Femme\",\"Female\",IF('Outil Recensement simplifié'!BB78=\"H\",\"Male\",IF('Outil Recensement simplifié'!BB78=\"F\",\"Female\",\"\"))))","v":""},{"$f":"IF('Outil Recensement simplifié'!BC78=\"Oui\",\"Yes\",IF('Outil Recensement simplifié'!BC78=\"Non\",\"No\",IF('Outil Recensement simplifié'!BC78=\"O\",\"Yes\",IF('Outil Recensement simplifié'!BC78=\"N\",\"No\",\"\"))))","v":""},{"$f":"IF('Outil Recensement simplifié'!BD78=\"Oui\",\"Yes\",IF('Outil Recensement simplifié'!BD78=\"Non\",\"No\",IF('Outil Recensement simplifié'!BD78=\"O\",\"Yes\",IF('Outil Recensement simplifié'!BD78=\"N\",\"No\",\"\"))))","v":""},{"$f":"IF('Outil Recensement simplifié'!BE78>0,'Outil Recensement simplifié'!BE78,\"\")","v":""},{"$f":"IF('Outil Recensement simplifié'!BF78>0,'Outil Recensement simplifié'!BF78,\"\")","v":""},{"$f":"IF('Outil Recensement simplifié'!BG78>0,'Outil Recensement simplifié'!BG78,\"\")","v":""},{"$f":"IF('Outil Recensement simplifié'!BH78=\"Homme\",\"Male\",IF('Outil Recensement simplifié'!BH78=\"Femme\",\"Female\",IF('Outil Recensement simplifié'!BH78=\"H\",\"Male\",IF('Outil Recensement simplifié'!BH78=\"F\",\"Female\",\"\"))))","v":""},{"$f":"IF('Outil Recensement simplifié'!BI78=\"Oui\",\"Yes\",IF('Outil Recensement simplifié'!BI78=\"Non\",\"No\",IF('Outil Recensement simplifié'!BI78=\"O\",\"Yes\",IF('Outil Recensement simplifié'!BI78=\"N\",\"No\",\"\"))))","v":""},{"$f":"IF('Outil Recensement simplifié'!BJ78=\"Oui\",\"Yes\",IF('Outil Recensement simplifié'!BJ78=\"Non\",\"No\",IF('Outil Recensement simplifié'!BJ78=\"O\",\"Yes\",IF('Outil Recensement simplifié'!BJ78=\"N\",\"No\",\"\"))))","v":""},{"$f":"IF('Outil Recensement simplifié'!BK78>0,'Outil Recensement simplifié'!BK78,\"\")","v":""},{"$f":"IF('Outil Recensement simplifié'!BL78>0,'Outil Recensement simplifié'!BL78,\"\")","v":""},{"$f":"IF('Outil Recensement simplifié'!BM78>0,'Outil Recensement simplifié'!BM78,\"\")","v":""},{"$f":"IF('Outil Recensement simplifié'!BN78=\"Homme\",\"Male\",IF('Outil Recensement simplifié'!BN78=\"Femme\",\"Female\",IF('Outil Recensement simplifié'!BN78=\"H\",\"Male\",IF('Outil Recensement simplifié'!BN78=\"F\",\"Female\",\"\"))))","v":""},{"$f":"IF('Outil Recensement simplifié'!BO78=\"Oui\",\"Yes\",IF('Outil Recensement simplifié'!BO78=\"Non\",\"No\",IF('Outil Recensement simplifié'!BO78=\"O\",\"Yes\",IF('Outil Recensement simplifié'!BO78=\"N\",\"No\",\"\"))))","v":""},{"$f":"IF('Outil Recensement simplifié'!BP78=\"Oui\",\"Yes\",IF('Outil Recensement simplifié'!BP78=\"Non\",\"No\",IF('Outil Recensement simplifié'!BP78=\"O\",\"Yes\",IF('Outil Recensement simplifié'!BP78=\"N\",\"No\",\"\"))))","v":""},{"$f":"IF('Outil Recensement simplifié'!BQ78>0,'Outil Recensement simplifié'!BQ78,\"\")","v":""},{"$f":"IF('Outil Recensement simplifié'!BR78>0,'Outil Recensement simplifié'!BR78,\"\")","v":""},{"$f":"IF('Outil Recensement simplifié'!BS78>0,'Outil Recensement simplifié'!BS78,\"\")","v":""},{"$f":"IF('Outil Recensement simplifié'!BT78=\"Homme\",\"Male\",IF('Outil Recensement simplifié'!BT78=\"Femme\",\"Female\",IF('Outil Recensement simplifié'!BT78=\"H\",\"Male\",IF('Outil Recensement simplifié'!BT78=\"F\",\"Female\",\"\"))))","v":""},{"$f":"IF('Outil Recensement simplifié'!BU78=\"Oui\",\"Yes\",IF('Outil Recensement simplifié'!BU78=\"Non\",\"No\",IF('Outil Recensement simplifié'!BU78=\"O\",\"Yes\",IF('Outil Recensement simplifié'!BU78=\"N\",\"No\",\"\"))))","v":""},{"$f":"IF('Outil Recensement simplifié'!BV78=\"Oui\",\"Yes\",IF('Outil Recensement simplifié'!BV78=\"Non\",\"No\",IF('Outil Recensement simplifié'!BV78=\"O\",\"Yes\",IF('Outil Recensement simplifié'!BV78=\"N\",\"No\",\"\"))))","v":""},{"$f":"IF('Outil Recensement simplifié'!BW78>0,'Outil Recensement simplifié'!BW78,\"\")","v":""},{"$f":"IF('Outil Recensement simplifié'!BX78>0,'Outil Recensement simplifié'!BX78,\"\")","v":""},{"$f":"IF('Outil Recensement simplifié'!BY78>0,'Outil Recensement simplifié'!BY78,\"\")","v":""},{"$f":"IF('Outil Recensement simplifié'!BZ78=\"Homme\",\"Male\",IF('Outil Recensement simplifié'!BZ78=\"Femme\",\"Female\",IF('Outil Recensement simplifié'!BZ78=\"H\",\"Male\",IF('Outil Recensement simplifié'!BZ78=\"F\",\"Female\",\"\"))))","v":""},{"$f":"IF('Outil Recensement simplifié'!CA78=\"Oui\",\"Yes\",IF('Outil Recensement simplifié'!CA78=\"Non\",\"No\",IF('Outil Recensement simplifié'!CA78=\"O\",\"Yes\",IF('Outil Recensement simplifié'!CA78=\"N\",\"No\",\"\"))))","v":""},{"$f":"IF('Outil Recensement simplifié'!CB78=\"Oui\",\"Yes\",IF('Outil Recensement simplifié'!CB78=\"Non\",\"No\",IF('Outil Recensement simplifié'!CB78=\"O\",\"Yes\",IF('Outil Recensement simplifié'!CB78=\"N\",\"No\",\"\"))))","v":""},{"$f":"IF('Outil Recensement simplifié'!CH78>0,'Outil Recensement simplifié'!CH78,\"\")","v":"    "}]
[{"$f":"IF('Outil Recensement simplifié'!A79>0,'Outil Recensement simplifié'!A79,\"\")","v":""},{"$f":"IF('Outil Recensement simplifié'!B79>0,'Outil Recensement simplifié'!B79,\"\")","v":""},{"$f":"IF('Outil Recensement simplifié'!C79>0,'Outil Recensement simplifié'!C79,\"\")","v":""},{"$f":"IF('Outil Recensement simplifié'!D79>0,'Outil Recensement simplifié'!D79,\"\")","v":""},{"$f":"IF('Outil Recensement simplifié'!E79>0,TEXT('Outil Recensement simplifié'!E79,\"000\"),\"\")","v":""},{"$f":"IF('Outil Recensement simplifié'!F79>0,'Outil Recensement simplifié'!F79,\"\")","v":""},{"$f":"IF('Outil Recensement simplifié'!G79>0,'Outil Recensement simplifié'!G79,\"\")","v":""},{"$f":"IF('Outil Recensement simplifié'!I79>0,'Outil Recensement simplifié'!I79,\"\")","v":""},{"$f":"IF('Outil Recensement simplifié'!J79>0,'Outil Recensement simplifié'!J79,\"\")","v":""},{"$f":"IF('Outil Recensement simplifié'!K79>0,'Outil Recensement simplifié'!K79,\"\")","v":""},{"$f":"IF('Outil Recensement simplifié'!L79>0,'Outil Recensement simplifié'!L79,\"\")","v":""},{"$f":"IF('Outil Recensement simplifié'!M79=\"Homme\",\"Male\",IF('Outil Recensement simplifié'!M79=\"Femme\",\"Female\",IF('Outil Recensement simplifié'!M79=\"H\",\"Male\",IF('Outil Recensement simplifié'!M79=\"F\",\"Female\",\"\"))))","v":""},{"$f":"IF('Outil Recensement simplifié'!N79=\"Oui\",\"Yes\",IF('Outil Recensement simplifié'!N79=\"Non\",\"No\",IF('Outil Recensement simplifié'!N79=\"O\",\"Yes\",IF('Outil Recensement simplifié'!N79=\"N\",\"No\",\"\"))))","v":""},{"$f":"IF('Outil Recensement simplifié'!O79=\"Non\",\"Single\",IF('Outil Recensement simplifié'!O79=\"Oui\",\"Family\",IF('Outil Recensement simplifié'!O79=\"N\",\"Single\",IF('Outil Recensement simplifié'!O79=\"O\",\"Family\",IF('Outil Recensement simplifié'!O79=\"En vigueur\",\"Family\",\"\")))))","v":""},{"$f":"IF('Outil Recensement simplifié'!P79=\"Anglais\",\"English\",IF('Outil Recensement simplifié'!P79=\"Français\",\"French\",IF('Outil Recensement simplifié'!P79=\"A\",\"English\",IF('Outil Recensement simplifié'!P79=\"F\",\"French\",\"\"))))","v":""},{"$f":"IF('Outil Recensement simplifié'!Q79=\"Oui\",\"Yes\",IF('Outil Recensement simplifié'!Q79=\"Non\",\"No\",IF('Outil Recensement simplifié'!Q79=\"O\",\"Yes\",IF('Outil Recensement simplifié'!Q79=\"N\",\"No\",\"\"))))","v":""},{"$f":"IF('Outil Recensement simplifié'!R79>0,'Outil Recensement simplifié'!R79,\"\")","v":""},{"$f":"IF('Outil Recensement simplifié'!S79=\"Annuelle\",\"Annually\",IF('Outil Recensement simplifié'!S79=\"Mensuelle\",\"Monthly\",IF('Outil Recensement simplifié'!S79=\"Aux deux semaines\",\"Biweekly\",IF('Outil Recensement simplifié'!S79=\"Bimensuelle\",\"Semi-Monthly\",IF('Outil Recensement simplifié'!S79=\"Hebdomadaire\",\"Weekly\",IF('Outil Recensement simplifié'!S79=\"Horaire\",\"Hourly\",\"\"))))))","v":""},{"$f":"IF('Outil Recensement simplifié'!T79>0,'Outil Recensement simplifié'!T79,\"\")","v":""},{"$f":"IF('Outil Recensement simplifié'!U79>0,'Outil Recensement simplifié'!U79,\"\")","v":""},{"$f":"IF('Outil Recensement simplifié'!V79=\"Exemptée\",\"Yes\",\"\")","v":""},{"$f":"IF('Outil Recensement simplifié'!W79=\"Exemptée\",\"Yes\",\"\")","v":""},{"$f":"IF('Outil Recensement simplifié'!X79>0,'Outil Recensement simplifié'!X79,\"\")","v":""},{"$f":"IF('Outil Recensement simplifié'!Y79>0,'Outil Recensement simplifié'!Y79,\"\")","v":""},{"$f":"IF('Outil Recensement simplifié'!Z79>0,'Outil Recensement simplifié'!Z79,\"\")","v":""},{"$f":"IF('Outil Recensement simplifié'!AA79>0,'Outil Recensement simplifié'!AA79,\"\")","v":""},{"$f":"IF('Outil Recensement simplifié'!AB79>0,'Outil Recensement simplifié'!AB79,\"\")","v":""},{"$f":"IF('Outil Recensement simplifié'!AC79>0,'Outil Recensement simplifié'!AC79,\"\")","v":" "},{"$f":"IF('Outil Recensement simplifié'!AE79>0,'Outil Recensement simplifié'!AE79&\" \",\"\")&IF('Outil Recensement simplifié'!AD79>0,'Outil Recensement simplifié'!AD79,\"\")","v":""},null,{"$f":"IF('Outil Recensement simplifié'!AF79>0,'Outil Recensement simplifié'!AF79,\"\")","v":""},{"$f":"IF('Outil Recensement simplifié'!AG79>0,'Outil Recensement simplifié'!AG79,\"\")","v":""},{"$f":"IF('Outil Recensement simplifié'!AH79>0,'Outil Recensement simplifié'!AH79,\"\")","v":""},{"$f":"IF('Outil Recensement simplifié'!AI79>0,'Outil Recensement simplifié'!AI79,\"\")","v":""},{"$f":"IF('Outil Recensement simplifié'!AJ79>0,'Outil Recensement simplifié'!AJ79,\"\")","v":""},{"$f":"IF('Outil Recensement simplifié'!AK79>0,'Outil Recensement simplifié'!AK79,\"\")","v":""},{"$f":"IF('Outil Recensement simplifié'!AL79>0,'Outil Recensement simplifié'!AL79,\"\")","v":""},{"$f":"IF('Outil Recensement simplifié'!AM79>0,'Outil Recensement simplifié'!AM79,\"\")","v":""},{"$f":"IF('Outil Recensement simplifié'!AN79=\"Homme\",\"Male\",IF('Outil Recensement simplifié'!AN79=\"Femme\",\"Female\",IF('Outil Recensement simplifié'!AN79=\"H\",\"Male\",IF('Outil Recensement simplifié'!AN79=\"F\",\"Female\",\"\"))))","v":""},{"$f":"IF('Outil Recensement simplifié'!AO79=\"Individuelle\",\"Single\",IF('Outil Recensement simplifié'!AO79=\"Famille\",\"Family\",IF('Outil Recensement simplifié'!AO79=\"Individuel\",\"Single\",IF('Outil Recensement simplifié'!AO79=\"Familiale\",\"Family\",IF('Outil Recensement simplifié'!AO79=\"I\",\"Single\",IF('Outil Recensement simplifié'!AO79=\"F\",\"Family\",\"\"))))))","v":""},{"$f":"IF('Outil Recensement simplifié'!AP79=\"Individuelle\",\"Single\",IF('Outil Recensement simplifié'!AP79=\"Famille\",\"Family\",IF('Outil Recensement simplifié'!AP79=\"Individuel\",\"Single\",IF('Outil Recensement simplifié'!AP79=\"Familiale\",\"Family\",IF('Outil Recensement simplifié'!AP79=\"I\",\"Single\",IF('Outil Recensement simplifié'!AP79=\"F\",\"Family\",\"\"))))))","v":""},{"$f":"IF('Outil Recensement simplifié'!AQ79>0,'Outil Recensement simplifié'!AQ79,\"\")","v":""},{"$f":"IF('Outil Recensement simplifié'!AR79=\"Oui\",\"Yes\",IF('Outil Recensement simplifié'!AR79=\"Non\",\"No\",IF('Outil Recensement simplifié'!AR79=\"O\",\"Yes\",IF('Outil Recensement simplifié'!AR79=\"N\",\"No\",\"\"))))","v":""},{"$f":"IF('Outil Recensement simplifié'!AS79>0,'Outil Recensement simplifié'!AS79,\"\")","v":""},{"$f":"IF('Outil Recensement simplifié'!AT79>0,'Outil Recensement simplifié'!AT79,\"\")","v":""},{"$f":"IF('Outil Recensement simplifié'!AU79>0,'Outil Recensement simplifié'!AU79,\"\")","v":""},{"$f":"IF('Outil Recensement simplifié'!AV79=\"Homme\",\"Male\",IF('Outil Recensement simplifié'!AV79=\"Femme\",\"Female\",IF('Outil Recensement simplifié'!AV79=\"H\",\"Male\",IF('Outil Recensement simplifié'!AV79=\"F\",\"Female\",\"\"))))","v":""},{"$f":"IF('Outil Recensement simplifié'!AW79=\"Oui\",\"Yes\",IF('Outil Recensement simplifié'!AW79=\"Non\",\"No\",IF('Outil Recensement simplifié'!AW79=\"O\",\"Yes\",IF('Outil Recensement simplifié'!AW79=\"N\",\"No\",\"\"))))","v":""},{"$f":"IF('Outil Recensement simplifié'!AX79=\"Oui\",\"Yes\",IF('Outil Recensement simplifié'!AX79=\"Non\",\"No\",IF('Outil Recensement simplifié'!AX79=\"O\",\"Yes\",IF('Outil Recensement simplifié'!AX79=\"N\",\"No\",\"\"))))","v":""},{"$f":"IF('Outil Recensement simplifié'!AY79>0,'Outil Recensement simplifié'!AY79,\"\")","v":""},{"$f":"IF('Outil Recensement simplifié'!AZ79>0,'Outil Recensement simplifié'!AZ79,\"\")","v":""},{"$f":"IF('Outil Recensement simplifié'!BA79>0,'Outil Recensement simplifié'!BA79,\"\")","v":""},{"$f":"IF('Outil Recensement simplifié'!BB79=\"Homme\",\"Male\",IF('Outil Recensement simplifié'!BB79=\"Femme\",\"Female\",IF('Outil Recensement simplifié'!BB79=\"H\",\"Male\",IF('Outil Recensement simplifié'!BB79=\"F\",\"Female\",\"\"))))","v":""},{"$f":"IF('Outil Recensement simplifié'!BC79=\"Oui\",\"Yes\",IF('Outil Recensement simplifié'!BC79=\"Non\",\"No\",IF('Outil Recensement simplifié'!BC79=\"O\",\"Yes\",IF('Outil Recensement simplifié'!BC79=\"N\",\"No\",\"\"))))","v":""},{"$f":"IF('Outil Recensement simplifié'!BD79=\"Oui\",\"Yes\",IF('Outil Recensement simplifié'!BD79=\"Non\",\"No\",IF('Outil Recensement simplifié'!BD79=\"O\",\"Yes\",IF('Outil Recensement simplifié'!BD79=\"N\",\"No\",\"\"))))","v":""},{"$f":"IF('Outil Recensement simplifié'!BE79>0,'Outil Recensement simplifié'!BE79,\"\")","v":""},{"$f":"IF('Outil Recensement simplifié'!BF79>0,'Outil Recensement simplifié'!BF79,\"\")","v":""},{"$f":"IF('Outil Recensement simplifié'!BG79>0,'Outil Recensement simplifié'!BG79,\"\")","v":""},{"$f":"IF('Outil Recensement simplifié'!BH79=\"Homme\",\"Male\",IF('Outil Recensement simplifié'!BH79=\"Femme\",\"Female\",IF('Outil Recensement simplifié'!BH79=\"H\",\"Male\",IF('Outil Recensement simplifié'!BH79=\"F\",\"Female\",\"\"))))","v":""},{"$f":"IF('Outil Recensement simplifié'!BI79=\"Oui\",\"Yes\",IF('Outil Recensement simplifié'!BI79=\"Non\",\"No\",IF('Outil Recensement simplifié'!BI79=\"O\",\"Yes\",IF('Outil Recensement simplifié'!BI79=\"N\",\"No\",\"\"))))","v":""},{"$f":"IF('Outil Recensement simplifié'!BJ79=\"Oui\",\"Yes\",IF('Outil Recensement simplifié'!BJ79=\"Non\",\"No\",IF('Outil Recensement simplifié'!BJ79=\"O\",\"Yes\",IF('Outil Recensement simplifié'!BJ79=\"N\",\"No\",\"\"))))","v":""},{"$f":"IF('Outil Recensement simplifié'!BK79>0,'Outil Recensement simplifié'!BK79,\"\")","v":""},{"$f":"IF('Outil Recensement simplifié'!BL79>0,'Outil Recensement simplifié'!BL79,\"\")","v":""},{"$f":"IF('Outil Recensement simplifié'!BM79>0,'Outil Recensement simplifié'!BM79,\"\")","v":""},{"$f":"IF('Outil Recensement simplifié'!BN79=\"Homme\",\"Male\",IF('Outil Recensement simplifié'!BN79=\"Femme\",\"Female\",IF('Outil Recensement simplifié'!BN79=\"H\",\"Male\",IF('Outil Recensement simplifié'!BN79=\"F\",\"Female\",\"\"))))","v":""},{"$f":"IF('Outil Recensement simplifié'!BO79=\"Oui\",\"Yes\",IF('Outil Recensement simplifié'!BO79=\"Non\",\"No\",IF('Outil Recensement simplifié'!BO79=\"O\",\"Yes\",IF('Outil Recensement simplifié'!BO79=\"N\",\"No\",\"\"))))","v":""},{"$f":"IF('Outil Recensement simplifié'!BP79=\"Oui\",\"Yes\",IF('Outil Recensement simplifié'!BP79=\"Non\",\"No\",IF('Outil Recensement simplifié'!BP79=\"O\",\"Yes\",IF('Outil Recensement simplifié'!BP79=\"N\",\"No\",\"\"))))","v":""},{"$f":"IF('Outil Recensement simplifié'!BQ79>0,'Outil Recensement simplifié'!BQ79,\"\")","v":""},{"$f":"IF('Outil Recensement simplifié'!BR79>0,'Outil Recensement simplifié'!BR79,\"\")","v":""},{"$f":"IF('Outil Recensement simplifié'!BS79>0,'Outil Recensement simplifié'!BS79,\"\")","v":""},{"$f":"IF('Outil Recensement simplifié'!BT79=\"Homme\",\"Male\",IF('Outil Recensement simplifié'!BT79=\"Femme\",\"Female\",IF('Outil Recensement simplifié'!BT79=\"H\",\"Male\",IF('Outil Recensement simplifié'!BT79=\"F\",\"Female\",\"\"))))","v":""},{"$f":"IF('Outil Recensement simplifié'!BU79=\"Oui\",\"Yes\",IF('Outil Recensement simplifié'!BU79=\"Non\",\"No\",IF('Outil Recensement simplifié'!BU79=\"O\",\"Yes\",IF('Outil Recensement simplifié'!BU79=\"N\",\"No\",\"\"))))","v":""},{"$f":"IF('Outil Recensement simplifié'!BV79=\"Oui\",\"Yes\",IF('Outil Recensement simplifié'!BV79=\"Non\",\"No\",IF('Outil Recensement simplifié'!BV79=\"O\",\"Yes\",IF('Outil Recensement simplifié'!BV79=\"N\",\"No\",\"\"))))","v":""},{"$f":"IF('Outil Recensement simplifié'!BW79>0,'Outil Recensement simplifié'!BW79,\"\")","v":""},{"$f":"IF('Outil Recensement simplifié'!BX79>0,'Outil Recensement simplifié'!BX79,\"\")","v":""},{"$f":"IF('Outil Recensement simplifié'!BY79>0,'Outil Recensement simplifié'!BY79,\"\")","v":""},{"$f":"IF('Outil Recensement simplifié'!BZ79=\"Homme\",\"Male\",IF('Outil Recensement simplifié'!BZ79=\"Femme\",\"Female\",IF('Outil Recensement simplifié'!BZ79=\"H\",\"Male\",IF('Outil Recensement simplifié'!BZ79=\"F\",\"Female\",\"\"))))","v":""},{"$f":"IF('Outil Recensement simplifié'!CA79=\"Oui\",\"Yes\",IF('Outil Recensement simplifié'!CA79=\"Non\",\"No\",IF('Outil Recensement simplifié'!CA79=\"O\",\"Yes\",IF('Outil Recensement simplifié'!CA79=\"N\",\"No\",\"\"))))","v":""},{"$f":"IF('Outil Recensement simplifié'!CB79=\"Oui\",\"Yes\",IF('Outil Recensement simplifié'!CB79=\"Non\",\"No\",IF('Outil Recensement simplifié'!CB79=\"O\",\"Yes\",IF('Outil Recensement simplifié'!CB79=\"N\",\"No\",\"\"))))","v":""},{"$f":"IF('Outil Recensement simplifié'!CH79>0,'Outil Recensement simplifié'!CH79,\"\")","v":"    "}]
[{"$f":"IF('Outil Recensement simplifié'!A80>0,'Outil Recensement simplifié'!A80,\"\")","v":""},{"$f":"IF('Outil Recensement simplifié'!B80>0,'Outil Recensement simplifié'!B80,\"\")","v":""},{"$f":"IF('Outil Recensement simplifié'!C80>0,'Outil Recensement simplifié'!C80,\"\")","v":""},{"$f":"IF('Outil Recensement simplifié'!D80>0,'Outil Recensement simplifié'!D80,\"\")","v":""},{"$f":"IF('Outil Recensement simplifié'!E80>0,TEXT('Outil Recensement simplifié'!E80,\"000\"),\"\")","v":""},{"$f":"IF('Outil Recensement simplifié'!F80>0,'Outil Recensement simplifié'!F80,\"\")","v":""},{"$f":"IF('Outil Recensement simplifié'!G80>0,'Outil Recensement simplifié'!G80,\"\")","v":""},{"$f":"IF('Outil Recensement simplifié'!I80>0,'Outil Recensement simplifié'!I80,\"\")","v":""},{"$f":"IF('Outil Recensement simplifié'!J80>0,'Outil Recensement simplifié'!J80,\"\")","v":""},{"$f":"IF('Outil Recensement simplifié'!K80>0,'Outil Recensement simplifié'!K80,\"\")","v":""},{"$f":"IF('Outil Recensement simplifié'!L80>0,'Outil Recensement simplifié'!L80,\"\")","v":""},{"$f":"IF('Outil Recensement simplifié'!M80=\"Homme\",\"Male\",IF('Outil Recensement simplifié'!M80=\"Femme\",\"Female\",IF('Outil Recensement simplifié'!M80=\"H\",\"Male\",IF('Outil Recensement simplifié'!M80=\"F\",\"Female\",\"\"))))","v":""},{"$f":"IF('Outil Recensement simplifié'!N80=\"Oui\",\"Yes\",IF('Outil Recensement simplifié'!N80=\"Non\",\"No\",IF('Outil Recensement simplifié'!N80=\"O\",\"Yes\",IF('Outil Recensement simplifié'!N80=\"N\",\"No\",\"\"))))","v":""},{"$f":"IF('Outil Recensement simplifié'!O80=\"Non\",\"Single\",IF('Outil Recensement simplifié'!O80=\"Oui\",\"Family\",IF('Outil Recensement simplifié'!O80=\"N\",\"Single\",IF('Outil Recensement simplifié'!O80=\"O\",\"Family\",IF('Outil Recensement simplifié'!O80=\"En vigueur\",\"Family\",\"\")))))","v":""},{"$f":"IF('Outil Recensement simplifié'!P80=\"Anglais\",\"English\",IF('Outil Recensement simplifié'!P80=\"Français\",\"French\",IF('Outil Recensement simplifié'!P80=\"A\",\"English\",IF('Outil Recensement simplifié'!P80=\"F\",\"French\",\"\"))))","v":""},{"$f":"IF('Outil Recensement simplifié'!Q80=\"Oui\",\"Yes\",IF('Outil Recensement simplifié'!Q80=\"Non\",\"No\",IF('Outil Recensement simplifié'!Q80=\"O\",\"Yes\",IF('Outil Recensement simplifié'!Q80=\"N\",\"No\",\"\"))))","v":""},{"$f":"IF('Outil Recensement simplifié'!R80>0,'Outil Recensement simplifié'!R80,\"\")","v":""},{"$f":"IF('Outil Recensement simplifié'!S80=\"Annuelle\",\"Annually\",IF('Outil Recensement simplifié'!S80=\"Mensuelle\",\"Monthly\",IF('Outil Recensement simplifié'!S80=\"Aux deux semaines\",\"Biweekly\",IF('Outil Recensement simplifié'!S80=\"Bimensuelle\",\"Semi-Monthly\",IF('Outil Recensement simplifié'!S80=\"Hebdomadaire\",\"Weekly\",IF('Outil Recensement simplifié'!S80=\"Horaire\",\"Hourly\",\"\"))))))","v":""},{"$f":"IF('Outil Recensement simplifié'!T80>0,'Outil Recensement simplifié'!T80,\"\")","v":""},{"$f":"IF('Outil Recensement simplifié'!U80>0,'Outil Recensement simplifié'!U80,\"\")","v":""},{"$f":"IF('Outil Recensement simplifié'!V80=\"Exemptée\",\"Yes\",\"\")","v":""},{"$f":"IF('Outil Recensement simplifié'!W80=\"Exemptée\",\"Yes\",\"\")","v":""},{"$f":"IF('Outil Recensement simplifié'!X80>0,'Outil Recensement simplifié'!X80,\"\")","v":""},{"$f":"IF('Outil Recensement simplifié'!Y80>0,'Outil Recensement simplifié'!Y80,\"\")","v":""},{"$f":"IF('Outil Recensement simplifié'!Z80>0,'Outil Recensement simplifié'!Z80,\"\")","v":""},{"$f":"IF('Outil Recensement simplifié'!AA80>0,'Outil Recensement simplifié'!AA80,\"\")","v":""},{"$f":"IF('Outil Recensement simplifié'!AB80>0,'Outil Recensement simplifié'!AB80,\"\")","v":""},{"$f":"IF('Outil Recensement simplifié'!AC80>0,'Outil Recensement simplifié'!AC80,\"\")","v":" "},{"$f":"IF('Outil Recensement simplifié'!AE80>0,'Outil Recensement simplifié'!AE80&\" \",\"\")&IF('Outil Recensement simplifié'!AD80>0,'Outil Recensement simplifié'!AD80,\"\")","v":""},null,{"$f":"IF('Outil Recensement simplifié'!AF80>0,'Outil Recensement simplifié'!AF80,\"\")","v":""},{"$f":"IF('Outil Recensement simplifié'!AG80>0,'Outil Recensement simplifié'!AG80,\"\")","v":""},{"$f":"IF('Outil Recensement simplifié'!AH80>0,'Outil Recensement simplifié'!AH80,\"\")","v":""},{"$f":"IF('Outil Recensement simplifié'!AI80>0,'Outil Recensement simplifié'!AI80,\"\")","v":""},{"$f":"IF('Outil Recensement simplifié'!AJ80>0,'Outil Recensement simplifié'!AJ80,\"\")","v":""},{"$f":"IF('Outil Recensement simplifié'!AK80>0,'Outil Recensement simplifié'!AK80,\"\")","v":""},{"$f":"IF('Outil Recensement simplifié'!AL80>0,'Outil Recensement simplifié'!AL80,\"\")","v":""},{"$f":"IF('Outil Recensement simplifié'!AM80>0,'Outil Recensement simplifié'!AM80,\"\")","v":""},{"$f":"IF('Outil Recensement simplifié'!AN80=\"Homme\",\"Male\",IF('Outil Recensement simplifié'!AN80=\"Femme\",\"Female\",IF('Outil Recensement simplifié'!AN80=\"H\",\"Male\",IF('Outil Recensement simplifié'!AN80=\"F\",\"Female\",\"\"))))","v":""},{"$f":"IF('Outil Recensement simplifié'!AO80=\"Individuelle\",\"Single\",IF('Outil Recensement simplifié'!AO80=\"Famille\",\"Family\",IF('Outil Recensement simplifié'!AO80=\"Individuel\",\"Single\",IF('Outil Recensement simplifié'!AO80=\"Familiale\",\"Family\",IF('Outil Recensement simplifié'!AO80=\"I\",\"Single\",IF('Outil Recensement simplifié'!AO80=\"F\",\"Family\",\"\"))))))","v":""},{"$f":"IF('Outil Recensement simplifié'!AP80=\"Individuelle\",\"Single\",IF('Outil Recensement simplifié'!AP80=\"Famille\",\"Family\",IF('Outil Recensement simplifié'!AP80=\"Individuel\",\"Single\",IF('Outil Recensement simplifié'!AP80=\"Familiale\",\"Family\",IF('Outil Recensement simplifié'!AP80=\"I\",\"Single\",IF('Outil Recensement simplifié'!AP80=\"F\",\"Family\",\"\"))))))","v":""},{"$f":"IF('Outil Recensement simplifié'!AQ80>0,'Outil Recensement simplifié'!AQ80,\"\")","v":""},{"$f":"IF('Outil Recensement simplifié'!AR80=\"Oui\",\"Yes\",IF('Outil Recensement simplifié'!AR80=\"Non\",\"No\",IF('Outil Recensement simplifié'!AR80=\"O\",\"Yes\",IF('Outil Recensement simplifié'!AR80=\"N\",\"No\",\"\"))))","v":""},{"$f":"IF('Outil Recensement simplifié'!AS80>0,'Outil Recensement simplifié'!AS80,\"\")","v":""},{"$f":"IF('Outil Recensement simplifié'!AT80>0,'Outil Recensement simplifié'!AT80,\"\")","v":""},{"$f":"IF('Outil Recensement simplifié'!AU80>0,'Outil Recensement simplifié'!AU80,\"\")","v":""},{"$f":"IF('Outil Recensement simplifié'!AV80=\"Homme\",\"Male\",IF('Outil Recensement simplifié'!AV80=\"Femme\",\"Female\",IF('Outil Recensement simplifié'!AV80=\"H\",\"Male\",IF('Outil Recensement simplifié'!AV80=\"F\",\"Female\",\"\"))))","v":""},{"$f":"IF('Outil Recensement simplifié'!AW80=\"Oui\",\"Yes\",IF('Outil Recensement simplifié'!AW80=\"Non\",\"No\",IF('Outil Recensement simplifié'!AW80=\"O\",\"Yes\",IF('Outil Recensement simplifié'!AW80=\"N\",\"No\",\"\"))))","v":""},{"$f":"IF('Outil Recensement simplifié'!AX80=\"Oui\",\"Yes\",IF('Outil Recensement simplifié'!AX80=\"Non\",\"No\",IF('Outil Recensement simplifié'!AX80=\"O\",\"Yes\",IF('Outil Recensement simplifié'!AX80=\"N\",\"No\",\"\"))))","v":""},{"$f":"IF('Outil Recensement simplifié'!AY80>0,'Outil Recensement simplifié'!AY80,\"\")","v":""},{"$f":"IF('Outil Recensement simplifié'!AZ80>0,'Outil Recensement simplifié'!AZ80,\"\")","v":""},{"$f":"IF('Outil Recensement simplifié'!BA80>0,'Outil Recensement simplifié'!BA80,\"\")","v":""},{"$f":"IF('Outil Recensement simplifié'!BB80=\"Homme\",\"Male\",IF('Outil Recensement simplifié'!BB80=\"Femme\",\"Female\",IF('Outil Recensement simplifié'!BB80=\"H\",\"Male\",IF('Outil Recensement simplifié'!BB80=\"F\",\"Female\",\"\"))))","v":""},{"$f":"IF('Outil Recensement simplifié'!BC80=\"Oui\",\"Yes\",IF('Outil Recensement simplifié'!BC80=\"Non\",\"No\",IF('Outil Recensement simplifié'!BC80=\"O\",\"Yes\",IF('Outil Recensement simplifié'!BC80=\"N\",\"No\",\"\"))))","v":""},{"$f":"IF('Outil Recensement simplifié'!BD80=\"Oui\",\"Yes\",IF('Outil Recensement simplifié'!BD80=\"Non\",\"No\",IF('Outil Recensement simplifié'!BD80=\"O\",\"Yes\",IF('Outil Recensement simplifié'!BD80=\"N\",\"No\",\"\"))))","v":""},{"$f":"IF('Outil Recensement simplifié'!BE80>0,'Outil Recensement simplifié'!BE80,\"\")","v":""},{"$f":"IF('Outil Recensement simplifié'!BF80>0,'Outil Recensement simplifié'!BF80,\"\")","v":""},{"$f":"IF('Outil Recensement simplifié'!BG80>0,'Outil Recensement simplifié'!BG80,\"\")","v":""},{"$f":"IF('Outil Recensement simplifié'!BH80=\"Homme\",\"Male\",IF('Outil Recensement simplifié'!BH80=\"Femme\",\"Female\",IF('Outil Recensement simplifié'!BH80=\"H\",\"Male\",IF('Outil Recensement simplifié'!BH80=\"F\",\"Female\",\"\"))))","v":""},{"$f":"IF('Outil Recensement simplifié'!BI80=\"Oui\",\"Yes\",IF('Outil Recensement simplifié'!BI80=\"Non\",\"No\",IF('Outil Recensement simplifié'!BI80=\"O\",\"Yes\",IF('Outil Recensement simplifié'!BI80=\"N\",\"No\",\"\"))))","v":""},{"$f":"IF('Outil Recensement simplifié'!BJ80=\"Oui\",\"Yes\",IF('Outil Recensement simplifié'!BJ80=\"Non\",\"No\",IF('Outil Recensement simplifié'!BJ80=\"O\",\"Yes\",IF('Outil Recensement simplifié'!BJ80=\"N\",\"No\",\"\"))))","v":""},{"$f":"IF('Outil Recensement simplifié'!BK80>0,'Outil Recensement simplifié'!BK80,\"\")","v":""},{"$f":"IF('Outil Recensement simplifié'!BL80>0,'Outil Recensement simplifié'!BL80,\"\")","v":""},{"$f":"IF('Outil Recensement simplifié'!BM80>0,'Outil Recensement simplifié'!BM80,\"\")","v":""},{"$f":"IF('Outil Recensement simplifié'!BN80=\"Homme\",\"Male\",IF('Outil Recensement simplifié'!BN80=\"Femme\",\"Female\",IF('Outil Recensement simplifié'!BN80=\"H\",\"Male\",IF('Outil Recensement simplifié'!BN80=\"F\",\"Female\",\"\"))))","v":""},{"$f":"IF('Outil Recensement simplifié'!BO80=\"Oui\",\"Yes\",IF('Outil Recensement simplifié'!BO80=\"Non\",\"No\",IF('Outil Recensement simplifié'!BO80=\"O\",\"Yes\",IF('Outil Recensement simplifié'!BO80=\"N\",\"No\",\"\"))))","v":""},{"$f":"IF('Outil Recensement simplifié'!BP80=\"Oui\",\"Yes\",IF('Outil Recensement simplifié'!BP80=\"Non\",\"No\",IF('Outil Recensement simplifié'!BP80=\"O\",\"Yes\",IF('Outil Recensement simplifié'!BP80=\"N\",\"No\",\"\"))))","v":""},{"$f":"IF('Outil Recensement simplifié'!BQ80>0,'Outil Recensement simplifié'!BQ80,\"\")","v":""},{"$f":"IF('Outil Recensement simplifié'!BR80>0,'Outil Recensement simplifié'!BR80,\"\")","v":""},{"$f":"IF('Outil Recensement simplifié'!BS80>0,'Outil Recensement simplifié'!BS80,\"\")","v":""},{"$f":"IF('Outil Recensement simplifié'!BT80=\"Homme\",\"Male\",IF('Outil Recensement simplifié'!BT80=\"Femme\",\"Female\",IF('Outil Recensement simplifié'!BT80=\"H\",\"Male\",IF('Outil Recensement simplifié'!BT80=\"F\",\"Female\",\"\"))))","v":""},{"$f":"IF('Outil Recensement simplifié'!BU80=\"Oui\",\"Yes\",IF('Outil Recensement simplifié'!BU80=\"Non\",\"No\",IF('Outil Recensement simplifié'!BU80=\"O\",\"Yes\",IF('Outil Recensement simplifié'!BU80=\"N\",\"No\",\"\"))))","v":""},{"$f":"IF('Outil Recensement simplifié'!BV80=\"Oui\",\"Yes\",IF('Outil Recensement simplifié'!BV80=\"Non\",\"No\",IF('Outil Recensement simplifié'!BV80=\"O\",\"Yes\",IF('Outil Recensement simplifié'!BV80=\"N\",\"No\",\"\"))))","v":""},{"$f":"IF('Outil Recensement simplifié'!BW80>0,'Outil Recensement simplifié'!BW80,\"\")","v":""},{"$f":"IF('Outil Recensement simplifié'!BX80>0,'Outil Recensement simplifié'!BX80,\"\")","v":""},{"$f":"IF('Outil Recensement simplifié'!BY80>0,'Outil Recensement simplifié'!BY80,\"\")","v":""},{"$f":"IF('Outil Recensement simplifié'!BZ80=\"Homme\",\"Male\",IF('Outil Recensement simplifié'!BZ80=\"Femme\",\"Female\",IF('Outil Recensement simplifié'!BZ80=\"H\",\"Male\",IF('Outil Recensement simplifié'!BZ80=\"F\",\"Female\",\"\"))))","v":""},{"$f":"IF('Outil Recensement simplifié'!CA80=\"Oui\",\"Yes\",IF('Outil Recensement simplifié'!CA80=\"Non\",\"No\",IF('Outil Recensement simplifié'!CA80=\"O\",\"Yes\",IF('Outil Recensement simplifié'!CA80=\"N\",\"No\",\"\"))))","v":""},{"$f":"IF('Outil Recensement simplifié'!CB80=\"Oui\",\"Yes\",IF('Outil Recensement simplifié'!CB80=\"Non\",\"No\",IF('Outil Recensement simplifié'!CB80=\"O\",\"Yes\",IF('Outil Recensement simplifié'!CB80=\"N\",\"No\",\"\"))))","v":""},{"$f":"IF('Outil Recensement simplifié'!CH80>0,'Outil Recensement simplifié'!CH80,\"\")","v":"    "}]
[{"$f":"IF('Outil Recensement simplifié'!A81>0,'Outil Recensement simplifié'!A81,\"\")","v":""},{"$f":"IF('Outil Recensement simplifié'!B81>0,'Outil Recensement simplifié'!B81,\"\")","v":""},{"$f":"IF('Outil Recensement simplifié'!C81>0,'Outil Recensement simplifié'!C81,\"\")","v":""},{"$f":"IF('Outil Recensement simplifié'!D81>0,'Outil Recensement simplifié'!D81,\"\")","v":""},{"$f":"IF('Outil Recensement simplifié'!E81>0,TEXT('Outil Recensement simplifié'!E81,\"000\"),\"\")","v":""},{"$f":"IF('Outil Recensement simplifié'!F81>0,'Outil Recensement simplifié'!F81,\"\")","v":""},{"$f":"IF('Outil Recensement simplifié'!G81>0,'Outil Recensement simplifié'!G81,\"\")","v":""},{"$f":"IF('Outil Recensement simplifié'!I81>0,'Outil Recensement simplifié'!I81,\"\")","v":""},{"$f":"IF('Outil Recensement simplifié'!J81>0,'Outil Recensement simplifié'!J81,\"\")","v":""},{"$f":"IF('Outil Recensement simplifié'!K81>0,'Outil Recensement simplifié'!K81,\"\")","v":""},{"$f":"IF('Outil Recensement simplifié'!L81>0,'Outil Recensement simplifié'!L81,\"\")","v":""},{"$f":"IF('Outil Recensement simplifié'!M81=\"Homme\",\"Male\",IF('Outil Recensement simplifié'!M81=\"Femme\",\"Female\",IF('Outil Recensement simplifié'!M81=\"H\",\"Male\",IF('Outil Recensement simplifié'!M81=\"F\",\"Female\",\"\"))))","v":""},{"$f":"IF('Outil Recensement simplifié'!N81=\"Oui\",\"Yes\",IF('Outil Recensement simplifié'!N81=\"Non\",\"No\",IF('Outil Recensement simplifié'!N81=\"O\",\"Yes\",IF('Outil Recensement simplifié'!N81=\"N\",\"No\",\"\"))))","v":""},{"$f":"IF('Outil Recensement simplifié'!O81=\"Non\",\"Single\",IF('Outil Recensement simplifié'!O81=\"Oui\",\"Family\",IF('Outil Recensement simplifié'!O81=\"N\",\"Single\",IF('Outil Recensement simplifié'!O81=\"O\",\"Family\",IF('Outil Recensement simplifié'!O81=\"En vigueur\",\"Family\",\"\")))))","v":""},{"$f":"IF('Outil Recensement simplifié'!P81=\"Anglais\",\"English\",IF('Outil Recensement simplifié'!P81=\"Français\",\"French\",IF('Outil Recensement simplifié'!P81=\"A\",\"English\",IF('Outil Recensement simplifié'!P81=\"F\",\"French\",\"\"))))","v":""},{"$f":"IF('Outil Recensement simplifié'!Q81=\"Oui\",\"Yes\",IF('Outil Recensement simplifié'!Q81=\"Non\",\"No\",IF('Outil Recensement simplifié'!Q81=\"O\",\"Yes\",IF('Outil Recensement simplifié'!Q81=\"N\",\"No\",\"\"))))","v":""},{"$f":"IF('Outil Recensement simplifié'!R81>0,'Outil Recensement simplifié'!R81,\"\")","v":""},{"$f":"IF('Outil Recensement simplifié'!S81=\"Annuelle\",\"Annually\",IF('Outil Recensement simplifié'!S81=\"Mensuelle\",\"Monthly\",IF('Outil Recensement simplifié'!S81=\"Aux deux semaines\",\"Biweekly\",IF('Outil Recensement simplifié'!S81=\"Bimensuelle\",\"Semi-Monthly\",IF('Outil Recensement simplifié'!S81=\"Hebdomadaire\",\"Weekly\",IF('Outil Recensement simplifié'!S81=\"Horaire\",\"Hourly\",\"\"))))))","v":""},{"$f":"IF('Outil Recensement simplifié'!T81>0,'Outil Recensement simplifié'!T81,\"\")","v":""},{"$f":"IF('Outil Recensement simplifié'!U81>0,'Outil Recensement simplifié'!U81,\"\")","v":""},{"$f":"IF('Outil Recensement simplifié'!V81=\"Exemptée\",\"Yes\",\"\")","v":""},{"$f":"IF('Outil Recensement simplifié'!W81=\"Exemptée\",\"Yes\",\"\")","v":""},{"$f":"IF('Outil Recensement simplifié'!X81>0,'Outil Recensement simplifié'!X81,\"\")","v":""},{"$f":"IF('Outil Recensement simplifié'!Y81>0,'Outil Recensement simplifié'!Y81,\"\")","v":""},{"$f":"IF('Outil Recensement simplifié'!Z81>0,'Outil Recensement simplifié'!Z81,\"\")","v":""},{"$f":"IF('Outil Recensement simplifié'!AA81>0,'Outil Recensement simplifié'!AA81,\"\")","v":""},{"$f":"IF('Outil Recensement simplifié'!AB81>0,'Outil Recensement simplifié'!AB81,\"\")","v":""},{"$f":"IF('Outil Recensement simplifié'!AC81>0,'Outil Recensement simplifié'!AC81,\"\")","v":" "},{"$f":"IF('Outil Recensement simplifié'!AE81>0,'Outil Recensement simplifié'!AE81&\" \",\"\")&IF('Outil Recensement simplifié'!AD81>0,'Outil Recensement simplifié'!AD81,\"\")","v":""},null,{"$f":"IF('Outil Recensement simplifié'!AF81>0,'Outil Recensement simplifié'!AF81,\"\")","v":""},{"$f":"IF('Outil Recensement simplifié'!AG81>0,'Outil Recensement simplifié'!AG81,\"\")","v":""},{"$f":"IF('Outil Recensement simplifié'!AH81>0,'Outil Recensement simplifié'!AH81,\"\")","v":""},{"$f":"IF('Outil Recensement simplifié'!AI81>0,'Outil Recensement simplifié'!AI81,\"\")","v":""},{"$f":"IF('Outil Recensement simplifié'!AJ81>0,'Outil Recensement simplifié'!AJ81,\"\")","v":""},{"$f":"IF('Outil Recensement simplifié'!AK81>0,'Outil Recensement simplifié'!AK81,\"\")","v":""},{"$f":"IF('Outil Recensement simplifié'!AL81>0,'Outil Recensement simplifié'!AL81,\"\")","v":""},{"$f":"IF('Outil Recensement simplifié'!AM81>0,'Outil Recensement simplifié'!AM81,\"\")","v":""},{"$f":"IF('Outil Recensement simplifié'!AN81=\"Homme\",\"Male\",IF('Outil Recensement simplifié'!AN81=\"Femme\",\"Female\",IF('Outil Recensement simplifié'!AN81=\"H\",\"Male\",IF('Outil Recensement simplifié'!AN81=\"F\",\"Female\",\"\"))))","v":""},{"$f":"IF('Outil Recensement simplifié'!AO81=\"Individuelle\",\"Single\",IF('Outil Recensement simplifié'!AO81=\"Famille\",\"Family\",IF('Outil Recensement simplifié'!AO81=\"Individuel\",\"Single\",IF('Outil Recensement simplifié'!AO81=\"Familiale\",\"Family\",IF('Outil Recensement simplifié'!AO81=\"I\",\"Single\",IF('Outil Recensement simplifié'!AO81=\"F\",\"Family\",\"\"))))))","v":""},{"$f":"IF('Outil Recensement simplifié'!AP81=\"Individuelle\",\"Single\",IF('Outil Recensement simplifié'!AP81=\"Famille\",\"Family\",IF('Outil Recensement simplifié'!AP81=\"Individuel\",\"Single\",IF('Outil Recensement simplifié'!AP81=\"Familiale\",\"Family\",IF('Outil Recensement simplifié'!AP81=\"I\",\"Single\",IF('Outil Recensement simplifié'!AP81=\"F\",\"Family\",\"\"))))))","v":""},{"$f":"IF('Outil Recensement simplifié'!AQ81>0,'Outil Recensement simplifié'!AQ81,\"\")","v":""},{"$f":"IF('Outil Recensement simplifié'!AR81=\"Oui\",\"Yes\",IF('Outil Recensement simplifié'!AR81=\"Non\",\"No\",IF('Outil Recensement simplifié'!AR81=\"O\",\"Yes\",IF('Outil Recensement simplifié'!AR81=\"N\",\"No\",\"\"))))","v":""},{"$f":"IF('Outil Recensement simplifié'!AS81>0,'Outil Recensement simplifié'!AS81,\"\")","v":""},{"$f":"IF('Outil Recensement simplifié'!AT81>0,'Outil Recensement simplifié'!AT81,\"\")","v":""},{"$f":"IF('Outil Recensement simplifié'!AU81>0,'Outil Recensement simplifié'!AU81,\"\")","v":""},{"$f":"IF('Outil Recensement simplifié'!AV81=\"Homme\",\"Male\",IF('Outil Recensement simplifié'!AV81=\"Femme\",\"Female\",IF('Outil Recensement simplifié'!AV81=\"H\",\"Male\",IF('Outil Recensement simplifié'!AV81=\"F\",\"Female\",\"\"))))","v":""},{"$f":"IF('Outil Recensement simplifié'!AW81=\"Oui\",\"Yes\",IF('Outil Recensement simplifié'!AW81=\"Non\",\"No\",IF('Outil Recensement simplifié'!AW81=\"O\",\"Yes\",IF('Outil Recensement simplifié'!AW81=\"N\",\"No\",\"\"))))","v":""},{"$f":"IF('Outil Recensement simplifié'!AX81=\"Oui\",\"Yes\",IF('Outil Recensement simplifié'!AX81=\"Non\",\"No\",IF('Outil Recensement simplifié'!AX81=\"O\",\"Yes\",IF('Outil Recensement simplifié'!AX81=\"N\",\"No\",\"\"))))","v":""},{"$f":"IF('Outil Recensement simplifié'!AY81>0,'Outil Recensement simplifié'!AY81,\"\")","v":""},{"$f":"IF('Outil Recensement simplifié'!AZ81>0,'Outil Recensement simplifié'!AZ81,\"\")","v":""},{"$f":"IF('Outil Recensement simplifié'!BA81>0,'Outil Recensement simplifié'!BA81,\"\")","v":""},{"$f":"IF('Outil Recensement simplifié'!BB81=\"Homme\",\"Male\",IF('Outil Recensement simplifié'!BB81=\"Femme\",\"Female\",IF('Outil Recensement simplifié'!BB81=\"H\",\"Male\",IF('Outil Recensement simplifié'!BB81=\"F\",\"Female\",\"\"))))","v":""},{"$f":"IF('Outil Recensement simplifié'!BC81=\"Oui\",\"Yes\",IF('Outil Recensement simplifié'!BC81=\"Non\",\"No\",IF('Outil Recensement simplifié'!BC81=\"O\",\"Yes\",IF('Outil Recensement simplifié'!BC81=\"N\",\"No\",\"\"))))","v":""},{"$f":"IF('Outil Recensement simplifié'!BD81=\"Oui\",\"Yes\",IF('Outil Recensement simplifié'!BD81=\"Non\",\"No\",IF('Outil Recensement simplifié'!BD81=\"O\",\"Yes\",IF('Outil Recensement simplifié'!BD81=\"N\",\"No\",\"\"))))","v":""},{"$f":"IF('Outil Recensement simplifié'!BE81>0,'Outil Recensement simplifié'!BE81,\"\")","v":""},{"$f":"IF('Outil Recensement simplifié'!BF81>0,'Outil Recensement simplifié'!BF81,\"\")","v":""},{"$f":"IF('Outil Recensement simplifié'!BG81>0,'Outil Recensement simplifié'!BG81,\"\")","v":""},{"$f":"IF('Outil Recensement simplifié'!BH81=\"Homme\",\"Male\",IF('Outil Recensement simplifié'!BH81=\"Femme\",\"Female\",IF('Outil Recensement simplifié'!BH81=\"H\",\"Male\",IF('Outil Recensement simplifié'!BH81=\"F\",\"Female\",\"\"))))","v":""},{"$f":"IF('Outil Recensement simplifié'!BI81=\"Oui\",\"Yes\",IF('Outil Recensement simplifié'!BI81=\"Non\",\"No\",IF('Outil Recensement simplifié'!BI81=\"O\",\"Yes\",IF('Outil Recensement simplifié'!BI81=\"N\",\"No\",\"\"))))","v":""},{"$f":"IF('Outil Recensement simplifié'!BJ81=\"Oui\",\"Yes\",IF('Outil Recensement simplifié'!BJ81=\"Non\",\"No\",IF('Outil Recensement simplifié'!BJ81=\"O\",\"Yes\",IF('Outil Recensement simplifié'!BJ81=\"N\",\"No\",\"\"))))","v":""},{"$f":"IF('Outil Recensement simplifié'!BK81>0,'Outil Recensement simplifié'!BK81,\"\")","v":""},{"$f":"IF('Outil Recensement simplifié'!BL81>0,'Outil Recensement simplifié'!BL81,\"\")","v":""},{"$f":"IF('Outil Recensement simplifié'!BM81>0,'Outil Recensement simplifié'!BM81,\"\")","v":""},{"$f":"IF('Outil Recensement simplifié'!BN81=\"Homme\",\"Male\",IF('Outil Recensement simplifié'!BN81=\"Femme\",\"Female\",IF('Outil Recensement simplifié'!BN81=\"H\",\"Male\",IF('Outil Recensement simplifié'!BN81=\"F\",\"Female\",\"\"))))","v":""},{"$f":"IF('Outil Recensement simplifié'!BO81=\"Oui\",\"Yes\",IF('Outil Recensement simplifié'!BO81=\"Non\",\"No\",IF('Outil Recensement simplifié'!BO81=\"O\",\"Yes\",IF('Outil Recensement simplifié'!BO81=\"N\",\"No\",\"\"))))","v":""},{"$f":"IF('Outil Recensement simplifié'!BP81=\"Oui\",\"Yes\",IF('Outil Recensement simplifié'!BP81=\"Non\",\"No\",IF('Outil Recensement simplifié'!BP81=\"O\",\"Yes\",IF('Outil Recensement simplifié'!BP81=\"N\",\"No\",\"\"))))","v":""},{"$f":"IF('Outil Recensement simplifié'!BQ81>0,'Outil Recensement simplifié'!BQ81,\"\")","v":""},{"$f":"IF('Outil Recensement simplifié'!BR81>0,'Outil Recensement simplifié'!BR81,\"\")","v":""},{"$f":"IF('Outil Recensement simplifié'!BS81>0,'Outil Recensement simplifié'!BS81,\"\")","v":""},{"$f":"IF('Outil Recensement simplifié'!BT81=\"Homme\",\"Male\",IF('Outil Recensement simplifié'!BT81=\"Femme\",\"Female\",IF('Outil Recensement simplifié'!BT81=\"H\",\"Male\",IF('Outil Recensement simplifié'!BT81=\"F\",\"Female\",\"\"))))","v":""},{"$f":"IF('Outil Recensement simplifié'!BU81=\"Oui\",\"Yes\",IF('Outil Recensement simplifié'!BU81=\"Non\",\"No\",IF('Outil Recensement simplifié'!BU81=\"O\",\"Yes\",IF('Outil Recensement simplifié'!BU81=\"N\",\"No\",\"\"))))","v":""},{"$f":"IF('Outil Recensement simplifié'!BV81=\"Oui\",\"Yes\",IF('Outil Recensement simplifié'!BV81=\"Non\",\"No\",IF('Outil Recensement simplifié'!BV81=\"O\",\"Yes\",IF('Outil Recensement simplifié'!BV81=\"N\",\"No\",\"\"))))","v":""},{"$f":"IF('Outil Recensement simplifié'!BW81>0,'Outil Recensement simplifié'!BW81,\"\")","v":""},{"$f":"IF('Outil Recensement simplifié'!BX81>0,'Outil Recensement simplifié'!BX81,\"\")","v":""},{"$f":"IF('Outil Recensement simplifié'!BY81>0,'Outil Recensement simplifié'!BY81,\"\")","v":""},{"$f":"IF('Outil Recensement simplifié'!BZ81=\"Homme\",\"Male\",IF('Outil Recensement simplifié'!BZ81=\"Femme\",\"Female\",IF('Outil Recensement simplifié'!BZ81=\"H\",\"Male\",IF('Outil Recensement simplifié'!BZ81=\"F\",\"Female\",\"\"))))","v":""},{"$f":"IF('Outil Recensement simplifié'!CA81=\"Oui\",\"Yes\",IF('Outil Recensement simplifié'!CA81=\"Non\",\"No\",IF('Outil Recensement simplifié'!CA81=\"O\",\"Yes\",IF('Outil Recensement simplifié'!CA81=\"N\",\"No\",\"\"))))","v":""},{"$f":"IF('Outil Recensement simplifié'!CB81=\"Oui\",\"Yes\",IF('Outil Recensement simplifié'!CB81=\"Non\",\"No\",IF('Outil Recensement simplifié'!CB81=\"O\",\"Yes\",IF('Outil Recensement simplifié'!CB81=\"N\",\"No\",\"\"))))","v":""},{"$f":"IF('Outil Recensement simplifié'!CH81>0,'Outil Recensement simplifié'!CH81,\"\")","v":"    "}]
[{"$f":"IF('Outil Recensement simplifié'!A82>0,'Outil Recensement simplifié'!A82,\"\")","v":""},{"$f":"IF('Outil Recensement simplifié'!B82>0,'Outil Recensement simplifié'!B82,\"\")","v":""},{"$f":"IF('Outil Recensement simplifié'!C82>0,'Outil Recensement simplifié'!C82,\"\")","v":""},{"$f":"IF('Outil Recensement simplifié'!D82>0,'Outil Recensement simplifié'!D82,\"\")","v":""},{"$f":"IF('Outil Recensement simplifié'!E82>0,TEXT('Outil Recensement simplifié'!E82,\"000\"),\"\")","v":""},{"$f":"IF('Outil Recensement simplifié'!F82>0,'Outil Recensement simplifié'!F82,\"\")","v":""},{"$f":"IF('Outil Recensement simplifié'!G82>0,'Outil Recensement simplifié'!G82,\"\")","v":""},{"$f":"IF('Outil Recensement simplifié'!I82>0,'Outil Recensement simplifié'!I82,\"\")","v":""},{"$f":"IF('Outil Recensement simplifié'!J82>0,'Outil Recensement simplifié'!J82,\"\")","v":""},{"$f":"IF('Outil Recensement simplifié'!K82>0,'Outil Recensement simplifié'!K82,\"\")","v":""},{"$f":"IF('Outil Recensement simplifié'!L82>0,'Outil Recensement simplifié'!L82,\"\")","v":""},{"$f":"IF('Outil Recensement simplifié'!M82=\"Homme\",\"Male\",IF('Outil Recensement simplifié'!M82=\"Femme\",\"Female\",IF('Outil Recensement simplifié'!M82=\"H\",\"Male\",IF('Outil Recensement simplifié'!M82=\"F\",\"Female\",\"\"))))","v":""},{"$f":"IF('Outil Recensement simplifié'!N82=\"Oui\",\"Yes\",IF('Outil Recensement simplifié'!N82=\"Non\",\"No\",IF('Outil Recensement simplifié'!N82=\"O\",\"Yes\",IF('Outil Recensement simplifié'!N82=\"N\",\"No\",\"\"))))","v":""},{"$f":"IF('Outil Recensement simplifié'!O82=\"Non\",\"Single\",IF('Outil Recensement simplifié'!O82=\"Oui\",\"Family\",IF('Outil Recensement simplifié'!O82=\"N\",\"Single\",IF('Outil Recensement simplifié'!O82=\"O\",\"Family\",IF('Outil Recensement simplifié'!O82=\"En vigueur\",\"Family\",\"\")))))","v":""},{"$f":"IF('Outil Recensement simplifié'!P82=\"Anglais\",\"English\",IF('Outil Recensement simplifié'!P82=\"Français\",\"French\",IF('Outil Recensement simplifié'!P82=\"A\",\"English\",IF('Outil Recensement simplifié'!P82=\"F\",\"French\",\"\"))))","v":""},{"$f":"IF('Outil Recensement simplifié'!Q82=\"Oui\",\"Yes\",IF('Outil Recensement simplifié'!Q82=\"Non\",\"No\",IF('Outil Recensement simplifié'!Q82=\"O\",\"Yes\",IF('Outil Recensement simplifié'!Q82=\"N\",\"No\",\"\"))))","v":""},{"$f":"IF('Outil Recensement simplifié'!R82>0,'Outil Recensement simplifié'!R82,\"\")","v":""},{"$f":"IF('Outil Recensement simplifié'!S82=\"Annuelle\",\"Annually\",IF('Outil Recensement simplifié'!S82=\"Mensuelle\",\"Monthly\",IF('Outil Recensement simplifié'!S82=\"Aux deux semaines\",\"Biweekly\",IF('Outil Recensement simplifié'!S82=\"Bimensuelle\",\"Semi-Monthly\",IF('Outil Recensement simplifié'!S82=\"Hebdomadaire\",\"Weekly\",IF('Outil Recensement simplifié'!S82=\"Horaire\",\"Hourly\",\"\"))))))","v":""},{"$f":"IF('Outil Recensement simplifié'!T82>0,'Outil Recensement simplifié'!T82,\"\")","v":""},{"$f":"IF('Outil Recensement simplifié'!U82>0,'Outil Recensement simplifié'!U82,\"\")","v":""},{"$f":"IF('Outil Recensement simplifié'!V82=\"Exemptée\",\"Yes\",\"\")","v":""},{"$f":"IF('Outil Recensement simplifié'!W82=\"Exemptée\",\"Yes\",\"\")","v":""},{"$f":"IF('Outil Recensement simplifié'!X82>0,'Outil Recensement simplifié'!X82,\"\")","v":""},{"$f":"IF('Outil Recensement simplifié'!Y82>0,'Outil Recensement simplifié'!Y82,\"\")","v":""},{"$f":"IF('Outil Recensement simplifié'!Z82>0,'Outil Recensement simplifié'!Z82,\"\")","v":""},{"$f":"IF('Outil Recensement simplifié'!AA82>0,'Outil Recensement simplifié'!AA82,\"\")","v":""},{"$f":"IF('Outil Recensement simplifié'!AB82>0,'Outil Recensement simplifié'!AB82,\"\")","v":""},{"$f":"IF('Outil Recensement simplifié'!AC82>0,'Outil Recensement simplifié'!AC82,\"\")","v":" "},{"$f":"IF('Outil Recensement simplifié'!AE82>0,'Outil Recensement simplifié'!AE82&\" \",\"\")&IF('Outil Recensement simplifié'!AD82>0,'Outil Recensement simplifié'!AD82,\"\")","v":""},null,{"$f":"IF('Outil Recensement simplifié'!AF82>0,'Outil Recensement simplifié'!AF82,\"\")","v":""},{"$f":"IF('Outil Recensement simplifié'!AG82>0,'Outil Recensement simplifié'!AG82,\"\")","v":""},{"$f":"IF('Outil Recensement simplifié'!AH82>0,'Outil Recensement simplifié'!AH82,\"\")","v":""},{"$f":"IF('Outil Recensement simplifié'!AI82>0,'Outil Recensement simplifié'!AI82,\"\")","v":""},{"$f":"IF('Outil Recensement simplifié'!AJ82>0,'Outil Recensement simplifié'!AJ82,\"\")","v":""},{"$f":"IF('Outil Recensement simplifié'!AK82>0,'Outil Recensement simplifié'!AK82,\"\")","v":""},{"$f":"IF('Outil Recensement simplifié'!AL82>0,'Outil Recensement simplifié'!AL82,\"\")","v":""},{"$f":"IF('Outil Recensement simplifié'!AM82>0,'Outil Recensement simplifié'!AM82,\"\")","v":""},{"$f":"IF('Outil Recensement simplifié'!AN82=\"Homme\",\"Male\",IF('Outil Recensement simplifié'!AN82=\"Femme\",\"Female\",IF('Outil Recensement simplifié'!AN82=\"H\",\"Male\",IF('Outil Recensement simplifié'!AN82=\"F\",\"Female\",\"\"))))","v":""},{"$f":"IF('Outil Recensement simplifié'!AO82=\"Individuelle\",\"Single\",IF('Outil Recensement simplifié'!AO82=\"Famille\",\"Family\",IF('Outil Recensement simplifié'!AO82=\"Individuel\",\"Single\",IF('Outil Recensement simplifié'!AO82=\"Familiale\",\"Family\",IF('Outil Recensement simplifié'!AO82=\"I\",\"Single\",IF('Outil Recensement simplifié'!AO82=\"F\",\"Family\",\"\"))))))","v":""},{"$f":"IF('Outil Recensement simplifié'!AP82=\"Individuelle\",\"Single\",IF('Outil Recensement simplifié'!AP82=\"Famille\",\"Family\",IF('Outil Recensement simplifié'!AP82=\"Individuel\",\"Single\",IF('Outil Recensement simplifié'!AP82=\"Familiale\",\"Family\",IF('Outil Recensement simplifié'!AP82=\"I\",\"Single\",IF('Outil Recensement simplifié'!AP82=\"F\",\"Family\",\"\"))))))","v":""},{"$f":"IF('Outil Recensement simplifié'!AQ82>0,'Outil Recensement simplifié'!AQ82,\"\")","v":""},{"$f":"IF('Outil Recensement simplifié'!AR82=\"Oui\",\"Yes\",IF('Outil Recensement simplifié'!AR82=\"Non\",\"No\",IF('Outil Recensement simplifié'!AR82=\"O\",\"Yes\",IF('Outil Recensement simplifié'!AR82=\"N\",\"No\",\"\"))))","v":""},{"$f":"IF('Outil Recensement simplifié'!AS82>0,'Outil Recensement simplifié'!AS82,\"\")","v":""},{"$f":"IF('Outil Recensement simplifié'!AT82>0,'Outil Recensement simplifié'!AT82,\"\")","v":""},{"$f":"IF('Outil Recensement simplifié'!AU82>0,'Outil Recensement simplifié'!AU82,\"\")","v":""},{"$f":"IF('Outil Recensement simplifié'!AV82=\"Homme\",\"Male\",IF('Outil Recensement simplifié'!AV82=\"Femme\",\"Female\",IF('Outil Recensement simplifié'!AV82=\"H\",\"Male\",IF('Outil Recensement simplifié'!AV82=\"F\",\"Female\",\"\"))))","v":""},{"$f":"IF('Outil Recensement simplifié'!AW82=\"Oui\",\"Yes\",IF('Outil Recensement simplifié'!AW82=\"Non\",\"No\",IF('Outil Recensement simplifié'!AW82=\"O\",\"Yes\",IF('Outil Recensement simplifié'!AW82=\"N\",\"No\",\"\"))))","v":""},{"$f":"IF('Outil Recensement simplifié'!AX82=\"Oui\",\"Yes\",IF('Outil Recensement simplifié'!AX82=\"Non\",\"No\",IF('Outil Recensement simplifié'!AX82=\"O\",\"Yes\",IF('Outil Recensement simplifié'!AX82=\"N\",\"No\",\"\"))))","v":""},{"$f":"IF('Outil Recensement simplifié'!AY82>0,'Outil Recensement simplifié'!AY82,\"\")","v":""},{"$f":"IF('Outil Recensement simplifié'!AZ82>0,'Outil Recensement simplifié'!AZ82,\"\")","v":""},{"$f":"IF('Outil Recensement simplifié'!BA82>0,'Outil Recensement simplifié'!BA82,\"\")","v":""},{"$f":"IF('Outil Recensement simplifié'!BB82=\"Homme\",\"Male\",IF('Outil Recensement simplifié'!BB82=\"Femme\",\"Female\",IF('Outil Recensement simplifié'!BB82=\"H\",\"Male\",IF('Outil Recensement simplifié'!BB82=\"F\",\"Female\",\"\"))))","v":""},{"$f":"IF('Outil Recensement simplifié'!BC82=\"Oui\",\"Yes\",IF('Outil Recensement simplifié'!BC82=\"Non\",\"No\",IF('Outil Recensement simplifié'!BC82=\"O\",\"Yes\",IF('Outil Recensement simplifié'!BC82=\"N\",\"No\",\"\"))))","v":""},{"$f":"IF('Outil Recensement simplifié'!BD82=\"Oui\",\"Yes\",IF('Outil Recensement simplifié'!BD82=\"Non\",\"No\",IF('Outil Recensement simplifié'!BD82=\"O\",\"Yes\",IF('Outil Recensement simplifié'!BD82=\"N\",\"No\",\"\"))))","v":""},{"$f":"IF('Outil Recensement simplifié'!BE82>0,'Outil Recensement simplifié'!BE82,\"\")","v":""},{"$f":"IF('Outil Recensement simplifié'!BF82>0,'Outil Recensement simplifié'!BF82,\"\")","v":""},{"$f":"IF('Outil Recensement simplifié'!BG82>0,'Outil Recensement simplifié'!BG82,\"\")","v":""},{"$f":"IF('Outil Recensement simplifié'!BH82=\"Homme\",\"Male\",IF('Outil Recensement simplifié'!BH82=\"Femme\",\"Female\",IF('Outil Recensement simplifié'!BH82=\"H\",\"Male\",IF('Outil Recensement simplifié'!BH82=\"F\",\"Female\",\"\"))))","v":""},{"$f":"IF('Outil Recensement simplifié'!BI82=\"Oui\",\"Yes\",IF('Outil Recensement simplifié'!BI82=\"Non\",\"No\",IF('Outil Recensement simplifié'!BI82=\"O\",\"Yes\",IF('Outil Recensement simplifié'!BI82=\"N\",\"No\",\"\"))))","v":""},{"$f":"IF('Outil Recensement simplifié'!BJ82=\"Oui\",\"Yes\",IF('Outil Recensement simplifié'!BJ82=\"Non\",\"No\",IF('Outil Recensement simplifié'!BJ82=\"O\",\"Yes\",IF('Outil Recensement simplifié'!BJ82=\"N\",\"No\",\"\"))))","v":""},{"$f":"IF('Outil Recensement simplifié'!BK82>0,'Outil Recensement simplifié'!BK82,\"\")","v":""},{"$f":"IF('Outil Recensement simplifié'!BL82>0,'Outil Recensement simplifié'!BL82,\"\")","v":""},{"$f":"IF('Outil Recensement simplifié'!BM82>0,'Outil Recensement simplifié'!BM82,\"\")","v":""},{"$f":"IF('Outil Recensement simplifié'!BN82=\"Homme\",\"Male\",IF('Outil Recensement simplifié'!BN82=\"Femme\",\"Female\",IF('Outil Recensement simplifié'!BN82=\"H\",\"Male\",IF('Outil Recensement simplifié'!BN82=\"F\",\"Female\",\"\"))))","v":""},{"$f":"IF('Outil Recensement simplifié'!BO82=\"Oui\",\"Yes\",IF('Outil Recensement simplifié'!BO82=\"Non\",\"No\",IF('Outil Recensement simplifié'!BO82=\"O\",\"Yes\",IF('Outil Recensement simplifié'!BO82=\"N\",\"No\",\"\"))))","v":""},{"$f":"IF('Outil Recensement simplifié'!BP82=\"Oui\",\"Yes\",IF('Outil Recensement simplifié'!BP82=\"Non\",\"No\",IF('Outil Recensement simplifié'!BP82=\"O\",\"Yes\",IF('Outil Recensement simplifié'!BP82=\"N\",\"No\",\"\"))))","v":""},{"$f":"IF('Outil Recensement simplifié'!BQ82>0,'Outil Recensement simplifié'!BQ82,\"\")","v":""},{"$f":"IF('Outil Recensement simplifié'!BR82>0,'Outil Recensement simplifié'!BR82,\"\")","v":""},{"$f":"IF('Outil Recensement simplifié'!BS82>0,'Outil Recensement simplifié'!BS82,\"\")","v":""},{"$f":"IF('Outil Recensement simplifié'!BT82=\"Homme\",\"Male\",IF('Outil Recensement simplifié'!BT82=\"Femme\",\"Female\",IF('Outil Recensement simplifié'!BT82=\"H\",\"Male\",IF('Outil Recensement simplifié'!BT82=\"F\",\"Female\",\"\"))))","v":""},{"$f":"IF('Outil Recensement simplifié'!BU82=\"Oui\",\"Yes\",IF('Outil Recensement simplifié'!BU82=\"Non\",\"No\",IF('Outil Recensement simplifié'!BU82=\"O\",\"Yes\",IF('Outil Recensement simplifié'!BU82=\"N\",\"No\",\"\"))))","v":""},{"$f":"IF('Outil Recensement simplifié'!BV82=\"Oui\",\"Yes\",IF('Outil Recensement simplifié'!BV82=\"Non\",\"No\",IF('Outil Recensement simplifié'!BV82=\"O\",\"Yes\",IF('Outil Recensement simplifié'!BV82=\"N\",\"No\",\"\"))))","v":""},{"$f":"IF('Outil Recensement simplifié'!BW82>0,'Outil Recensement simplifié'!BW82,\"\")","v":""},{"$f":"IF('Outil Recensement simplifié'!BX82>0,'Outil Recensement simplifié'!BX82,\"\")","v":""},{"$f":"IF('Outil Recensement simplifié'!BY82>0,'Outil Recensement simplifié'!BY82,\"\")","v":""},{"$f":"IF('Outil Recensement simplifié'!BZ82=\"Homme\",\"Male\",IF('Outil Recensement simplifié'!BZ82=\"Femme\",\"Female\",IF('Outil Recensement simplifié'!BZ82=\"H\",\"Male\",IF('Outil Recensement simplifié'!BZ82=\"F\",\"Female\",\"\"))))","v":""},{"$f":"IF('Outil Recensement simplifié'!CA82=\"Oui\",\"Yes\",IF('Outil Recensement simplifié'!CA82=\"Non\",\"No\",IF('Outil Recensement simplifié'!CA82=\"O\",\"Yes\",IF('Outil Recensement simplifié'!CA82=\"N\",\"No\",\"\"))))","v":""},{"$f":"IF('Outil Recensement simplifié'!CB82=\"Oui\",\"Yes\",IF('Outil Recensement simplifié'!CB82=\"Non\",\"No\",IF('Outil Recensement simplifié'!CB82=\"O\",\"Yes\",IF('Outil Recensement simplifié'!CB82=\"N\",\"No\",\"\"))))","v":""},{"$f":"IF('Outil Recensement simplifié'!CH82>0,'Outil Recensement simplifié'!CH82,\"\")","v":"    "}]
[{"$f":"IF('Outil Recensement simplifié'!A83>0,'Outil Recensement simplifié'!A83,\"\")","v":""},{"$f":"IF('Outil Recensement simplifié'!B83>0,'Outil Recensement simplifié'!B83,\"\")","v":""},{"$f":"IF('Outil Recensement simplifié'!C83>0,'Outil Recensement simplifié'!C83,\"\")","v":""},{"$f":"IF('Outil Recensement simplifié'!D83>0,'Outil Recensement simplifié'!D83,\"\")","v":""},{"$f":"IF('Outil Recensement simplifié'!E83>0,TEXT('Outil Recensement simplifié'!E83,\"000\"),\"\")","v":""},{"$f":"IF('Outil Recensement simplifié'!F83>0,'Outil Recensement simplifié'!F83,\"\")","v":""},{"$f":"IF('Outil Recensement simplifié'!G83>0,'Outil Recensement simplifié'!G83,\"\")","v":""},{"$f":"IF('Outil Recensement simplifié'!I83>0,'Outil Recensement simplifié'!I83,\"\")","v":""},{"$f":"IF('Outil Recensement simplifié'!J83>0,'Outil Recensement simplifié'!J83,\"\")","v":""},{"$f":"IF('Outil Recensement simplifié'!K83>0,'Outil Recensement simplifié'!K83,\"\")","v":""},{"$f":"IF('Outil Recensement simplifié'!L83>0,'Outil Recensement simplifié'!L83,\"\")","v":""},{"$f":"IF('Outil Recensement simplifié'!M83=\"Homme\",\"Male\",IF('Outil Recensement simplifié'!M83=\"Femme\",\"Female\",IF('Outil Recensement simplifié'!M83=\"H\",\"Male\",IF('Outil Recensement simplifié'!M83=\"F\",\"Female\",\"\"))))","v":""},{"$f":"IF('Outil Recensement simplifié'!N83=\"Oui\",\"Yes\",IF('Outil Recensement simplifié'!N83=\"Non\",\"No\",IF('Outil Recensement simplifié'!N83=\"O\",\"Yes\",IF('Outil Recensement simplifié'!N83=\"N\",\"No\",\"\"))))","v":""},{"$f":"IF('Outil Recensement simplifié'!O83=\"Non\",\"Single\",IF('Outil Recensement simplifié'!O83=\"Oui\",\"Family\",IF('Outil Recensement simplifié'!O83=\"N\",\"Single\",IF('Outil Recensement simplifié'!O83=\"O\",\"Family\",IF('Outil Recensement simplifié'!O83=\"En vigueur\",\"Family\",\"\")))))","v":""},{"$f":"IF('Outil Recensement simplifié'!P83=\"Anglais\",\"English\",IF('Outil Recensement simplifié'!P83=\"Français\",\"French\",IF('Outil Recensement simplifié'!P83=\"A\",\"English\",IF('Outil Recensement simplifié'!P83=\"F\",\"French\",\"\"))))","v":""},{"$f":"IF('Outil Recensement simplifié'!Q83=\"Oui\",\"Yes\",IF('Outil Recensement simplifié'!Q83=\"Non\",\"No\",IF('Outil Recensement simplifié'!Q83=\"O\",\"Yes\",IF('Outil Recensement simplifié'!Q83=\"N\",\"No\",\"\"))))","v":""},{"$f":"IF('Outil Recensement simplifié'!R83>0,'Outil Recensement simplifié'!R83,\"\")","v":""},{"$f":"IF('Outil Recensement simplifié'!S83=\"Annuelle\",\"Annually\",IF('Outil Recensement simplifié'!S83=\"Mensuelle\",\"Monthly\",IF('Outil Recensement simplifié'!S83=\"Aux deux semaines\",\"Biweekly\",IF('Outil Recensement simplifié'!S83=\"Bimensuelle\",\"Semi-Monthly\",IF('Outil Recensement simplifié'!S83=\"Hebdomadaire\",\"Weekly\",IF('Outil Recensement simplifié'!S83=\"Horaire\",\"Hourly\",\"\"))))))","v":""},{"$f":"IF('Outil Recensement simplifié'!T83>0,'Outil Recensement simplifié'!T83,\"\")","v":""},{"$f":"IF('Outil Recensement simplifié'!U83>0,'Outil Recensement simplifié'!U83,\"\")","v":""},{"$f":"IF('Outil Recensement simplifié'!V83=\"Exemptée\",\"Yes\",\"\")","v":""},{"$f":"IF('Outil Recensement simplifié'!W83=\"Exemptée\",\"Yes\",\"\")","v":""},{"$f":"IF('Outil Recensement simplifié'!X83>0,'Outil Recensement simplifié'!X83,\"\")","v":""},{"$f":"IF('Outil Recensement simplifié'!Y83>0,'Outil Recensement simplifié'!Y83,\"\")","v":""},{"$f":"IF('Outil Recensement simplifié'!Z83>0,'Outil Recensement simplifié'!Z83,\"\")","v":""},{"$f":"IF('Outil Recensement simplifié'!AA83>0,'Outil Recensement simplifié'!AA83,\"\")","v":""},{"$f":"IF('Outil Recensement simplifié'!AB83>0,'Outil Recensement simplifié'!AB83,\"\")","v":""},{"$f":"IF('Outil Recensement simplifié'!AC83>0,'Outil Recensement simplifié'!AC83,\"\")","v":" "},{"$f":"IF('Outil Recensement simplifié'!AE83>0,'Outil Recensement simplifié'!AE83&\" \",\"\")&IF('Outil Recensement simplifié'!AD83>0,'Outil Recensement simplifié'!AD83,\"\")","v":""},null,{"$f":"IF('Outil Recensement simplifié'!AF83>0,'Outil Recensement simplifié'!AF83,\"\")","v":""},{"$f":"IF('Outil Recensement simplifié'!AG83>0,'Outil Recensement simplifié'!AG83,\"\")","v":""},{"$f":"IF('Outil Recensement simplifié'!AH83>0,'Outil Recensement simplifié'!AH83,\"\")","v":""},{"$f":"IF('Outil Recensement simplifié'!AI83>0,'Outil Recensement simplifié'!AI83,\"\")","v":""},{"$f":"IF('Outil Recensement simplifié'!AJ83>0,'Outil Recensement simplifié'!AJ83,\"\")","v":""},{"$f":"IF('Outil Recensement simplifié'!AK83>0,'Outil Recensement simplifié'!AK83,\"\")","v":""},{"$f":"IF('Outil Recensement simplifié'!AL83>0,'Outil Recensement simplifié'!AL83,\"\")","v":""},{"$f":"IF('Outil Recensement simplifié'!AM83>0,'Outil Recensement simplifié'!AM83,\"\")","v":""},{"$f":"IF('Outil Recensement simplifié'!AN83=\"Homme\",\"Male\",IF('Outil Recensement simplifié'!AN83=\"Femme\",\"Female\",IF('Outil Recensement simplifié'!AN83=\"H\",\"Male\",IF('Outil Recensement simplifié'!AN83=\"F\",\"Female\",\"\"))))","v":""},{"$f":"IF('Outil Recensement simplifié'!AO83=\"Individuelle\",\"Single\",IF('Outil Recensement simplifié'!AO83=\"Famille\",\"Family\",IF('Outil Recensement simplifié'!AO83=\"Individuel\",\"Single\",IF('Outil Recensement simplifié'!AO83=\"Familiale\",\"Family\",IF('Outil Recensement simplifié'!AO83=\"I\",\"Single\",IF('Outil Recensement simplifié'!AO83=\"F\",\"Family\",\"\"))))))","v":""},{"$f":"IF('Outil Recensement simplifié'!AP83=\"Individuelle\",\"Single\",IF('Outil Recensement simplifié'!AP83=\"Famille\",\"Family\",IF('Outil Recensement simplifié'!AP83=\"Individuel\",\"Single\",IF('Outil Recensement simplifié'!AP83=\"Familiale\",\"Family\",IF('Outil Recensement simplifié'!AP83=\"I\",\"Single\",IF('Outil Recensement simplifié'!AP83=\"F\",\"Family\",\"\"))))))","v":""},{"$f":"IF('Outil Recensement simplifié'!AQ83>0,'Outil Recensement simplifié'!AQ83,\"\")","v":""},{"$f":"IF('Outil Recensement simplifié'!AR83=\"Oui\",\"Yes\",IF('Outil Recensement simplifié'!AR83=\"Non\",\"No\",IF('Outil Recensement simplifié'!AR83=\"O\",\"Yes\",IF('Outil Recensement simplifié'!AR83=\"N\",\"No\",\"\"))))","v":""},{"$f":"IF('Outil Recensement simplifié'!AS83>0,'Outil Recensement simplifié'!AS83,\"\")","v":""},{"$f":"IF('Outil Recensement simplifié'!AT83>0,'Outil Recensement simplifié'!AT83,\"\")","v":""},{"$f":"IF('Outil Recensement simplifié'!AU83>0,'Outil Recensement simplifié'!AU83,\"\")","v":""},{"$f":"IF('Outil Recensement simplifié'!AV83=\"Homme\",\"Male\",IF('Outil Recensement simplifié'!AV83=\"Femme\",\"Female\",IF('Outil Recensement simplifié'!AV83=\"H\",\"Male\",IF('Outil Recensement simplifié'!AV83=\"F\",\"Female\",\"\"))))","v":""},{"$f":"IF('Outil Recensement simplifié'!AW83=\"Oui\",\"Yes\",IF('Outil Recensement simplifié'!AW83=\"Non\",\"No\",IF('Outil Recensement simplifié'!AW83=\"O\",\"Yes\",IF('Outil Recensement simplifié'!AW83=\"N\",\"No\",\"\"))))","v":""},{"$f":"IF('Outil Recensement simplifié'!AX83=\"Oui\",\"Yes\",IF('Outil Recensement simplifié'!AX83=\"Non\",\"No\",IF('Outil Recensement simplifié'!AX83=\"O\",\"Yes\",IF('Outil Recensement simplifié'!AX83=\"N\",\"No\",\"\"))))","v":""},{"$f":"IF('Outil Recensement simplifié'!AY83>0,'Outil Recensement simplifié'!AY83,\"\")","v":""},{"$f":"IF('Outil Recensement simplifié'!AZ83>0,'Outil Recensement simplifié'!AZ83,\"\")","v":""},{"$f":"IF('Outil Recensement simplifié'!BA83>0,'Outil Recensement simplifié'!BA83,\"\")","v":""},{"$f":"IF('Outil Recensement simplifié'!BB83=\"Homme\",\"Male\",IF('Outil Recensement simplifié'!BB83=\"Femme\",\"Female\",IF('Outil Recensement simplifié'!BB83=\"H\",\"Male\",IF('Outil Recensement simplifié'!BB83=\"F\",\"Female\",\"\"))))","v":""},{"$f":"IF('Outil Recensement simplifié'!BC83=\"Oui\",\"Yes\",IF('Outil Recensement simplifié'!BC83=\"Non\",\"No\",IF('Outil Recensement simplifié'!BC83=\"O\",\"Yes\",IF('Outil Recensement simplifié'!BC83=\"N\",\"No\",\"\"))))","v":""},{"$f":"IF('Outil Recensement simplifié'!BD83=\"Oui\",\"Yes\",IF('Outil Recensement simplifié'!BD83=\"Non\",\"No\",IF('Outil Recensement simplifié'!BD83=\"O\",\"Yes\",IF('Outil Recensement simplifié'!BD83=\"N\",\"No\",\"\"))))","v":""},{"$f":"IF('Outil Recensement simplifié'!BE83>0,'Outil Recensement simplifié'!BE83,\"\")","v":""},{"$f":"IF('Outil Recensement simplifié'!BF83>0,'Outil Recensement simplifié'!BF83,\"\")","v":""},{"$f":"IF('Outil Recensement simplifié'!BG83>0,'Outil Recensement simplifié'!BG83,\"\")","v":""},{"$f":"IF('Outil Recensement simplifié'!BH83=\"Homme\",\"Male\",IF('Outil Recensement simplifié'!BH83=\"Femme\",\"Female\",IF('Outil Recensement simplifié'!BH83=\"H\",\"Male\",IF('Outil Recensement simplifié'!BH83=\"F\",\"Female\",\"\"))))","v":""},{"$f":"IF('Outil Recensement simplifié'!BI83=\"Oui\",\"Yes\",IF('Outil Recensement simplifié'!BI83=\"Non\",\"No\",IF('Outil Recensement simplifié'!BI83=\"O\",\"Yes\",IF('Outil Recensement simplifié'!BI83=\"N\",\"No\",\"\"))))","v":""},{"$f":"IF('Outil Recensement simplifié'!BJ83=\"Oui\",\"Yes\",IF('Outil Recensement simplifié'!BJ83=\"Non\",\"No\",IF('Outil Recensement simplifié'!BJ83=\"O\",\"Yes\",IF('Outil Recensement simplifié'!BJ83=\"N\",\"No\",\"\"))))","v":""},{"$f":"IF('Outil Recensement simplifié'!BK83>0,'Outil Recensement simplifié'!BK83,\"\")","v":""},{"$f":"IF('Outil Recensement simplifié'!BL83>0,'Outil Recensement simplifié'!BL83,\"\")","v":""},{"$f":"IF('Outil Recensement simplifié'!BM83>0,'Outil Recensement simplifié'!BM83,\"\")","v":""},{"$f":"IF('Outil Recensement simplifié'!BN83=\"Homme\",\"Male\",IF('Outil Recensement simplifié'!BN83=\"Femme\",\"Female\",IF('Outil Recensement simplifié'!BN83=\"H\",\"Male\",IF('Outil Recensement simplifié'!BN83=\"F\",\"Female\",\"\"))))","v":""},{"$f":"IF('Outil Recensement simplifié'!BO83=\"Oui\",\"Yes\",IF('Outil Recensement simplifié'!BO83=\"Non\",\"No\",IF('Outil Recensement simplifié'!BO83=\"O\",\"Yes\",IF('Outil Recensement simplifié'!BO83=\"N\",\"No\",\"\"))))","v":""},{"$f":"IF('Outil Recensement simplifié'!BP83=\"Oui\",\"Yes\",IF('Outil Recensement simplifié'!BP83=\"Non\",\"No\",IF('Outil Recensement simplifié'!BP83=\"O\",\"Yes\",IF('Outil Recensement simplifié'!BP83=\"N\",\"No\",\"\"))))","v":""},{"$f":"IF('Outil Recensement simplifié'!BQ83>0,'Outil Recensement simplifié'!BQ83,\"\")","v":""},{"$f":"IF('Outil Recensement simplifié'!BR83>0,'Outil Recensement simplifié'!BR83,\"\")","v":""},{"$f":"IF('Outil Recensement simplifié'!BS83>0,'Outil Recensement simplifié'!BS83,\"\")","v":""},{"$f":"IF('Outil Recensement simplifié'!BT83=\"Homme\",\"Male\",IF('Outil Recensement simplifié'!BT83=\"Femme\",\"Female\",IF('Outil Recensement simplifié'!BT83=\"H\",\"Male\",IF('Outil Recensement simplifié'!BT83=\"F\",\"Female\",\"\"))))","v":""},{"$f":"IF('Outil Recensement simplifié'!BU83=\"Oui\",\"Yes\",IF('Outil Recensement simplifié'!BU83=\"Non\",\"No\",IF('Outil Recensement simplifié'!BU83=\"O\",\"Yes\",IF('Outil Recensement simplifié'!BU83=\"N\",\"No\",\"\"))))","v":""},{"$f":"IF('Outil Recensement simplifié'!BV83=\"Oui\",\"Yes\",IF('Outil Recensement simplifié'!BV83=\"Non\",\"No\",IF('Outil Recensement simplifié'!BV83=\"O\",\"Yes\",IF('Outil Recensement simplifié'!BV83=\"N\",\"No\",\"\"))))","v":""},{"$f":"IF('Outil Recensement simplifié'!BW83>0,'Outil Recensement simplifié'!BW83,\"\")","v":""},{"$f":"IF('Outil Recensement simplifié'!BX83>0,'Outil Recensement simplifié'!BX83,\"\")","v":""},{"$f":"IF('Outil Recensement simplifié'!BY83>0,'Outil Recensement simplifié'!BY83,\"\")","v":""},{"$f":"IF('Outil Recensement simplifié'!BZ83=\"Homme\",\"Male\",IF('Outil Recensement simplifié'!BZ83=\"Femme\",\"Female\",IF('Outil Recensement simplifié'!BZ83=\"H\",\"Male\",IF('Outil Recensement simplifié'!BZ83=\"F\",\"Female\",\"\"))))","v":""},{"$f":"IF('Outil Recensement simplifié'!CA83=\"Oui\",\"Yes\",IF('Outil Recensement simplifié'!CA83=\"Non\",\"No\",IF('Outil Recensement simplifié'!CA83=\"O\",\"Yes\",IF('Outil Recensement simplifié'!CA83=\"N\",\"No\",\"\"))))","v":""},{"$f":"IF('Outil Recensement simplifié'!CB83=\"Oui\",\"Yes\",IF('Outil Recensement simplifié'!CB83=\"Non\",\"No\",IF('Outil Recensement simplifié'!CB83=\"O\",\"Yes\",IF('Outil Recensement simplifié'!CB83=\"N\",\"No\",\"\"))))","v":""},{"$f":"IF('Outil Recensement simplifié'!CH83>0,'Outil Recensement simplifié'!CH83,\"\")","v":"    "}]
[{"$f":"IF('Outil Recensement simplifié'!A84>0,'Outil Recensement simplifié'!A84,\"\")","v":""},{"$f":"IF('Outil Recensement simplifié'!B84>0,'Outil Recensement simplifié'!B84,\"\")","v":""},{"$f":"IF('Outil Recensement simplifié'!C84>0,'Outil Recensement simplifié'!C84,\"\")","v":""},{"$f":"IF('Outil Recensement simplifié'!D84>0,'Outil Recensement simplifié'!D84,\"\")","v":""},{"$f":"IF('Outil Recensement simplifié'!E84>0,TEXT('Outil Recensement simplifié'!E84,\"000\"),\"\")","v":""},{"$f":"IF('Outil Recensement simplifié'!F84>0,'Outil Recensement simplifié'!F84,\"\")","v":""},{"$f":"IF('Outil Recensement simplifié'!G84>0,'Outil Recensement simplifié'!G84,\"\")","v":""},{"$f":"IF('Outil Recensement simplifié'!I84>0,'Outil Recensement simplifié'!I84,\"\")","v":""},{"$f":"IF('Outil Recensement simplifié'!J84>0,'Outil Recensement simplifié'!J84,\"\")","v":""},{"$f":"IF('Outil Recensement simplifié'!K84>0,'Outil Recensement simplifié'!K84,\"\")","v":""},{"$f":"IF('Outil Recensement simplifié'!L84>0,'Outil Recensement simplifié'!L84,\"\")","v":""},{"$f":"IF('Outil Recensement simplifié'!M84=\"Homme\",\"Male\",IF('Outil Recensement simplifié'!M84=\"Femme\",\"Female\",IF('Outil Recensement simplifié'!M84=\"H\",\"Male\",IF('Outil Recensement simplifié'!M84=\"F\",\"Female\",\"\"))))","v":""},{"$f":"IF('Outil Recensement simplifié'!N84=\"Oui\",\"Yes\",IF('Outil Recensement simplifié'!N84=\"Non\",\"No\",IF('Outil Recensement simplifié'!N84=\"O\",\"Yes\",IF('Outil Recensement simplifié'!N84=\"N\",\"No\",\"\"))))","v":""},{"$f":"IF('Outil Recensement simplifié'!O84=\"Non\",\"Single\",IF('Outil Recensement simplifié'!O84=\"Oui\",\"Family\",IF('Outil Recensement simplifié'!O84=\"N\",\"Single\",IF('Outil Recensement simplifié'!O84=\"O\",\"Family\",IF('Outil Recensement simplifié'!O84=\"En vigueur\",\"Family\",\"\")))))","v":""},{"$f":"IF('Outil Recensement simplifié'!P84=\"Anglais\",\"English\",IF('Outil Recensement simplifié'!P84=\"Français\",\"French\",IF('Outil Recensement simplifié'!P84=\"A\",\"English\",IF('Outil Recensement simplifié'!P84=\"F\",\"French\",\"\"))))","v":""},{"$f":"IF('Outil Recensement simplifié'!Q84=\"Oui\",\"Yes\",IF('Outil Recensement simplifié'!Q84=\"Non\",\"No\",IF('Outil Recensement simplifié'!Q84=\"O\",\"Yes\",IF('Outil Recensement simplifié'!Q84=\"N\",\"No\",\"\"))))","v":""},{"$f":"IF('Outil Recensement simplifié'!R84>0,'Outil Recensement simplifié'!R84,\"\")","v":""},{"$f":"IF('Outil Recensement simplifié'!S84=\"Annuelle\",\"Annually\",IF('Outil Recensement simplifié'!S84=\"Mensuelle\",\"Monthly\",IF('Outil Recensement simplifié'!S84=\"Aux deux semaines\",\"Biweekly\",IF('Outil Recensement simplifié'!S84=\"Bimensuelle\",\"Semi-Monthly\",IF('Outil Recensement simplifié'!S84=\"Hebdomadaire\",\"Weekly\",IF('Outil Recensement simplifié'!S84=\"Horaire\",\"Hourly\",\"\"))))))","v":""},{"$f":"IF('Outil Recensement simplifié'!T84>0,'Outil Recensement simplifié'!T84,\"\")","v":""},{"$f":"IF('Outil Recensement simplifié'!U84>0,'Outil Recensement simplifié'!U84,\"\")","v":""},{"$f":"IF('Outil Recensement simplifié'!V84=\"Exemptée\",\"Yes\",\"\")","v":""},{"$f":"IF('Outil Recensement simplifié'!W84=\"Exemptée\",\"Yes\",\"\")","v":""},{"$f":"IF('Outil Recensement simplifié'!X84>0,'Outil Recensement simplifié'!X84,\"\")","v":""},{"$f":"IF('Outil Recensement simplifié'!Y84>0,'Outil Recensement simplifié'!Y84,\"\")","v":""},{"$f":"IF('Outil Recensement simplifié'!Z84>0,'Outil Recensement simplifié'!Z84,\"\")","v":""},{"$f":"IF('Outil Recensement simplifié'!AA84>0,'Outil Recensement simplifié'!AA84,\"\")","v":""},{"$f":"IF('Outil Recensement simplifié'!AB84>0,'Outil Recensement simplifié'!AB84,\"\")","v":""},{"$f":"IF('Outil Recensement simplifié'!AC84>0,'Outil Recensement simplifié'!AC84,\"\")","v":" "},{"$f":"IF('Outil Recensement simplifié'!AE84>0,'Outil Recensement simplifié'!AE84&\" \",\"\")&IF('Outil Recensement simplifié'!AD84>0,'Outil Recensement simplifié'!AD84,\"\")","v":""},null,{"$f":"IF('Outil Recensement simplifié'!AF84>0,'Outil Recensement simplifié'!AF84,\"\")","v":""},{"$f":"IF('Outil Recensement simplifié'!AG84>0,'Outil Recensement simplifié'!AG84,\"\")","v":""},{"$f":"IF('Outil Recensement simplifié'!AH84>0,'Outil Recensement simplifié'!AH84,\"\")","v":""},{"$f":"IF('Outil Recensement simplifié'!AI84>0,'Outil Recensement simplifié'!AI84,\"\")","v":""},{"$f":"IF('Outil Recensement simplifié'!AJ84>0,'Outil Recensement simplifié'!AJ84,\"\")","v":""},{"$f":"IF('Outil Recensement simplifié'!AK84>0,'Outil Recensement simplifié'!AK84,\"\")","v":""},{"$f":"IF('Outil Recensement simplifié'!AL84>0,'Outil Recensement simplifié'!AL84,\"\")","v":""},{"$f":"IF('Outil Recensement simplifié'!AM84>0,'Outil Recensement simplifié'!AM84,\"\")","v":""},{"$f":"IF('Outil Recensement simplifié'!AN84=\"Homme\",\"Male\",IF('Outil Recensement simplifié'!AN84=\"Femme\",\"Female\",IF('Outil Recensement simplifié'!AN84=\"H\",\"Male\",IF('Outil Recensement simplifié'!AN84=\"F\",\"Female\",\"\"))))","v":""},{"$f":"IF('Outil Recensement simplifié'!AO84=\"Individuelle\",\"Single\",IF('Outil Recensement simplifié'!AO84=\"Famille\",\"Family\",IF('Outil Recensement simplifié'!AO84=\"Individuel\",\"Single\",IF('Outil Recensement simplifié'!AO84=\"Familiale\",\"Family\",IF('Outil Recensement simplifié'!AO84=\"I\",\"Single\",IF('Outil Recensement simplifié'!AO84=\"F\",\"Family\",\"\"))))))","v":""},{"$f":"IF('Outil Recensement simplifié'!AP84=\"Individuelle\",\"Single\",IF('Outil Recensement simplifié'!AP84=\"Famille\",\"Family\",IF('Outil Recensement simplifié'!AP84=\"Individuel\",\"Single\",IF('Outil Recensement simplifié'!AP84=\"Familiale\",\"Family\",IF('Outil Recensement simplifié'!AP84=\"I\",\"Single\",IF('Outil Recensement simplifié'!AP84=\"F\",\"Family\",\"\"))))))","v":""},{"$f":"IF('Outil Recensement simplifié'!AQ84>0,'Outil Recensement simplifié'!AQ84,\"\")","v":""},{"$f":"IF('Outil Recensement simplifié'!AR84=\"Oui\",\"Yes\",IF('Outil Recensement simplifié'!AR84=\"Non\",\"No\",IF('Outil Recensement simplifié'!AR84=\"O\",\"Yes\",IF('Outil Recensement simplifié'!AR84=\"N\",\"No\",\"\"))))","v":""},{"$f":"IF('Outil Recensement simplifié'!AS84>0,'Outil Recensement simplifié'!AS84,\"\")","v":""},{"$f":"IF('Outil Recensement simplifié'!AT84>0,'Outil Recensement simplifié'!AT84,\"\")","v":""},{"$f":"IF('Outil Recensement simplifié'!AU84>0,'Outil Recensement simplifié'!AU84,\"\")","v":""},{"$f":"IF('Outil Recensement simplifié'!AV84=\"Homme\",\"Male\",IF('Outil Recensement simplifié'!AV84=\"Femme\",\"Female\",IF('Outil Recensement simplifié'!AV84=\"H\",\"Male\",IF('Outil Recensement simplifié'!AV84=\"F\",\"Female\",\"\"))))","v":""},{"$f":"IF('Outil Recensement simplifié'!AW84=\"Oui\",\"Yes\",IF('Outil Recensement simplifié'!AW84=\"Non\",\"No\",IF('Outil Recensement simplifié'!AW84=\"O\",\"Yes\",IF('Outil Recensement simplifié'!AW84=\"N\",\"No\",\"\"))))","v":""},{"$f":"IF('Outil Recensement simplifié'!AX84=\"Oui\",\"Yes\",IF('Outil Recensement simplifié'!AX84=\"Non\",\"No\",IF('Outil Recensement simplifié'!AX84=\"O\",\"Yes\",IF('Outil Recensement simplifié'!AX84=\"N\",\"No\",\"\"))))","v":""},{"$f":"IF('Outil Recensement simplifié'!AY84>0,'Outil Recensement simplifié'!AY84,\"\")","v":""},{"$f":"IF('Outil Recensement simplifié'!AZ84>0,'Outil Recensement simplifié'!AZ84,\"\")","v":""},{"$f":"IF('Outil Recensement simplifié'!BA84>0,'Outil Recensement simplifié'!BA84,\"\")","v":""},{"$f":"IF('Outil Recensement simplifié'!BB84=\"Homme\",\"Male\",IF('Outil Recensement simplifié'!BB84=\"Femme\",\"Female\",IF('Outil Recensement simplifié'!BB84=\"H\",\"Male\",IF('Outil Recensement simplifié'!BB84=\"F\",\"Female\",\"\"))))","v":""},{"$f":"IF('Outil Recensement simplifié'!BC84=\"Oui\",\"Yes\",IF('Outil Recensement simplifié'!BC84=\"Non\",\"No\",IF('Outil Recensement simplifié'!BC84=\"O\",\"Yes\",IF('Outil Recensement simplifié'!BC84=\"N\",\"No\",\"\"))))","v":""},{"$f":"IF('Outil Recensement simplifié'!BD84=\"Oui\",\"Yes\",IF('Outil Recensement simplifié'!BD84=\"Non\",\"No\",IF('Outil Recensement simplifié'!BD84=\"O\",\"Yes\",IF('Outil Recensement simplifié'!BD84=\"N\",\"No\",\"\"))))","v":""},{"$f":"IF('Outil Recensement simplifié'!BE84>0,'Outil Recensement simplifié'!BE84,\"\")","v":""},{"$f":"IF('Outil Recensement simplifié'!BF84>0,'Outil Recensement simplifié'!BF84,\"\")","v":""},{"$f":"IF('Outil Recensement simplifié'!BG84>0,'Outil Recensement simplifié'!BG84,\"\")","v":""},{"$f":"IF('Outil Recensement simplifié'!BH84=\"Homme\",\"Male\",IF('Outil Recensement simplifié'!BH84=\"Femme\",\"Female\",IF('Outil Recensement simplifié'!BH84=\"H\",\"Male\",IF('Outil Recensement simplifié'!BH84=\"F\",\"Female\",\"\"))))","v":""},{"$f":"IF('Outil Recensement simplifié'!BI84=\"Oui\",\"Yes\",IF('Outil Recensement simplifié'!BI84=\"Non\",\"No\",IF('Outil Recensement simplifié'!BI84=\"O\",\"Yes\",IF('Outil Recensement simplifié'!BI84=\"N\",\"No\",\"\"))))","v":""},{"$f":"IF('Outil Recensement simplifié'!BJ84=\"Oui\",\"Yes\",IF('Outil Recensement simplifié'!BJ84=\"Non\",\"No\",IF('Outil Recensement simplifié'!BJ84=\"O\",\"Yes\",IF('Outil Recensement simplifié'!BJ84=\"N\",\"No\",\"\"))))","v":""},{"$f":"IF('Outil Recensement simplifié'!BK84>0,'Outil Recensement simplifié'!BK84,\"\")","v":""},{"$f":"IF('Outil Recensement simplifié'!BL84>0,'Outil Recensement simplifié'!BL84,\"\")","v":""},{"$f":"IF('Outil Recensement simplifié'!BM84>0,'Outil Recensement simplifié'!BM84,\"\")","v":""},{"$f":"IF('Outil Recensement simplifié'!BN84=\"Homme\",\"Male\",IF('Outil Recensement simplifié'!BN84=\"Femme\",\"Female\",IF('Outil Recensement simplifié'!BN84=\"H\",\"Male\",IF('Outil Recensement simplifié'!BN84=\"F\",\"Female\",\"\"))))","v":""},{"$f":"IF('Outil Recensement simplifié'!BO84=\"Oui\",\"Yes\",IF('Outil Recensement simplifié'!BO84=\"Non\",\"No\",IF('Outil Recensement simplifié'!BO84=\"O\",\"Yes\",IF('Outil Recensement simplifié'!BO84=\"N\",\"No\",\"\"))))","v":""},{"$f":"IF('Outil Recensement simplifié'!BP84=\"Oui\",\"Yes\",IF('Outil Recensement simplifié'!BP84=\"Non\",\"No\",IF('Outil Recensement simplifié'!BP84=\"O\",\"Yes\",IF('Outil Recensement simplifié'!BP84=\"N\",\"No\",\"\"))))","v":""},{"$f":"IF('Outil Recensement simplifié'!BQ84>0,'Outil Recensement simplifié'!BQ84,\"\")","v":""},{"$f":"IF('Outil Recensement simplifié'!BR84>0,'Outil Recensement simplifié'!BR84,\"\")","v":""},{"$f":"IF('Outil Recensement simplifié'!BS84>0,'Outil Recensement simplifié'!BS84,\"\")","v":""},{"$f":"IF('Outil Recensement simplifié'!BT84=\"Homme\",\"Male\",IF('Outil Recensement simplifié'!BT84=\"Femme\",\"Female\",IF('Outil Recensement simplifié'!BT84=\"H\",\"Male\",IF('Outil Recensement simplifié'!BT84=\"F\",\"Female\",\"\"))))","v":""},{"$f":"IF('Outil Recensement simplifié'!BU84=\"Oui\",\"Yes\",IF('Outil Recensement simplifié'!BU84=\"Non\",\"No\",IF('Outil Recensement simplifié'!BU84=\"O\",\"Yes\",IF('Outil Recensement simplifié'!BU84=\"N\",\"No\",\"\"))))","v":""},{"$f":"IF('Outil Recensement simplifié'!BV84=\"Oui\",\"Yes\",IF('Outil Recensement simplifié'!BV84=\"Non\",\"No\",IF('Outil Recensement simplifié'!BV84=\"O\",\"Yes\",IF('Outil Recensement simplifié'!BV84=\"N\",\"No\",\"\"))))","v":""},{"$f":"IF('Outil Recensement simplifié'!BW84>0,'Outil Recensement simplifié'!BW84,\"\")","v":""},{"$f":"IF('Outil Recensement simplifié'!BX84>0,'Outil Recensement simplifié'!BX84,\"\")","v":""},{"$f":"IF('Outil Recensement simplifié'!BY84>0,'Outil Recensement simplifié'!BY84,\"\")","v":""},{"$f":"IF('Outil Recensement simplifié'!BZ84=\"Homme\",\"Male\",IF('Outil Recensement simplifié'!BZ84=\"Femme\",\"Female\",IF('Outil Recensement simplifié'!BZ84=\"H\",\"Male\",IF('Outil Recensement simplifié'!BZ84=\"F\",\"Female\",\"\"))))","v":""},{"$f":"IF('Outil Recensement simplifié'!CA84=\"Oui\",\"Yes\",IF('Outil Recensement simplifié'!CA84=\"Non\",\"No\",IF('Outil Recensement simplifié'!CA84=\"O\",\"Yes\",IF('Outil Recensement simplifié'!CA84=\"N\",\"No\",\"\"))))","v":""},{"$f":"IF('Outil Recensement simplifié'!CB84=\"Oui\",\"Yes\",IF('Outil Recensement simplifié'!CB84=\"Non\",\"No\",IF('Outil Recensement simplifié'!CB84=\"O\",\"Yes\",IF('Outil Recensement simplifié'!CB84=\"N\",\"No\",\"\"))))","v":""},{"$f":"IF('Outil Recensement simplifié'!CH84>0,'Outil Recensement simplifié'!CH84,\"\")","v":"    "}]
[{"$f":"IF('Outil Recensement simplifié'!A85>0,'Outil Recensement simplifié'!A85,\"\")","v":""},{"$f":"IF('Outil Recensement simplifié'!B85>0,'Outil Recensement simplifié'!B85,\"\")","v":""},{"$f":"IF('Outil Recensement simplifié'!C85>0,'Outil Recensement simplifié'!C85,\"\")","v":""},{"$f":"IF('Outil Recensement simplifié'!D85>0,'Outil Recensement simplifié'!D85,\"\")","v":""},{"$f":"IF('Outil Recensement simplifié'!E85>0,TEXT('Outil Recensement simplifié'!E85,\"000\"),\"\")","v":""},{"$f":"IF('Outil Recensement simplifié'!F85>0,'Outil Recensement simplifié'!F85,\"\")","v":""},{"$f":"IF('Outil Recensement simplifié'!G85>0,'Outil Recensement simplifié'!G85,\"\")","v":""},{"$f":"IF('Outil Recensement simplifié'!I85>0,'Outil Recensement simplifié'!I85,\"\")","v":""},{"$f":"IF('Outil Recensement simplifié'!J85>0,'Outil Recensement simplifié'!J85,\"\")","v":""},{"$f":"IF('Outil Recensement simplifié'!K85>0,'Outil Recensement simplifié'!K85,\"\")","v":""},{"$f":"IF('Outil Recensement simplifié'!L85>0,'Outil Recensement simplifié'!L85,\"\")","v":""},{"$f":"IF('Outil Recensement simplifié'!M85=\"Homme\",\"Male\",IF('Outil Recensement simplifié'!M85=\"Femme\",\"Female\",IF('Outil Recensement simplifié'!M85=\"H\",\"Male\",IF('Outil Recensement simplifié'!M85=\"F\",\"Female\",\"\"))))","v":""},{"$f":"IF('Outil Recensement simplifié'!N85=\"Oui\",\"Yes\",IF('Outil Recensement simplifié'!N85=\"Non\",\"No\",IF('Outil Recensement simplifié'!N85=\"O\",\"Yes\",IF('Outil Recensement simplifié'!N85=\"N\",\"No\",\"\"))))","v":""},{"$f":"IF('Outil Recensement simplifié'!O85=\"Non\",\"Single\",IF('Outil Recensement simplifié'!O85=\"Oui\",\"Family\",IF('Outil Recensement simplifié'!O85=\"N\",\"Single\",IF('Outil Recensement simplifié'!O85=\"O\",\"Family\",IF('Outil Recensement simplifié'!O85=\"En vigueur\",\"Family\",\"\")))))","v":""},{"$f":"IF('Outil Recensement simplifié'!P85=\"Anglais\",\"English\",IF('Outil Recensement simplifié'!P85=\"Français\",\"French\",IF('Outil Recensement simplifié'!P85=\"A\",\"English\",IF('Outil Recensement simplifié'!P85=\"F\",\"French\",\"\"))))","v":""},{"$f":"IF('Outil Recensement simplifié'!Q85=\"Oui\",\"Yes\",IF('Outil Recensement simplifié'!Q85=\"Non\",\"No\",IF('Outil Recensement simplifié'!Q85=\"O\",\"Yes\",IF('Outil Recensement simplifié'!Q85=\"N\",\"No\",\"\"))))","v":""},{"$f":"IF('Outil Recensement simplifié'!R85>0,'Outil Recensement simplifié'!R85,\"\")","v":""},{"$f":"IF('Outil Recensement simplifié'!S85=\"Annuelle\",\"Annually\",IF('Outil Recensement simplifié'!S85=\"Mensuelle\",\"Monthly\",IF('Outil Recensement simplifié'!S85=\"Aux deux semaines\",\"Biweekly\",IF('Outil Recensement simplifié'!S85=\"Bimensuelle\",\"Semi-Monthly\",IF('Outil Recensement simplifié'!S85=\"Hebdomadaire\",\"Weekly\",IF('Outil Recensement simplifié'!S85=\"Horaire\",\"Hourly\",\"\"))))))","v":""},{"$f":"IF('Outil Recensement simplifié'!T85>0,'Outil Recensement simplifié'!T85,\"\")","v":""},{"$f":"IF('Outil Recensement simplifié'!U85>0,'Outil Recensement simplifié'!U85,\"\")","v":""},{"$f":"IF('Outil Recensement simplifié'!V85=\"Exemptée\",\"Yes\",\"\")","v":""},{"$f":"IF('Outil Recensement simplifié'!W85=\"Exemptée\",\"Yes\",\"\")","v":""},{"$f":"IF('Outil Recensement simplifié'!X85>0,'Outil Recensement simplifié'!X85,\"\")","v":""},{"$f":"IF('Outil Recensement simplifié'!Y85>0,'Outil Recensement simplifié'!Y85,\"\")","v":""},{"$f":"IF('Outil Recensement simplifié'!Z85>0,'Outil Recensement simplifié'!Z85,\"\")","v":""},{"$f":"IF('Outil Recensement simplifié'!AA85>0,'Outil Recensement simplifié'!AA85,\"\")","v":""},{"$f":"IF('Outil Recensement simplifié'!AB85>0,'Outil Recensement simplifié'!AB85,\"\")","v":""},{"$f":"IF('Outil Recensement simplifié'!AC85>0,'Outil Recensement simplifié'!AC85,\"\")","v":" "},{"$f":"IF('Outil Recensement simplifié'!AE85>0,'Outil Recensement simplifié'!AE85&\" \",\"\")&IF('Outil Recensement simplifié'!AD85>0,'Outil Recensement simplifié'!AD85,\"\")","v":""},null,{"$f":"IF('Outil Recensement simplifié'!AF85>0,'Outil Recensement simplifié'!AF85,\"\")","v":""},{"$f":"IF('Outil Recensement simplifié'!AG85>0,'Outil Recensement simplifié'!AG85,\"\")","v":""},{"$f":"IF('Outil Recensement simplifié'!AH85>0,'Outil Recensement simplifié'!AH85,\"\")","v":""},{"$f":"IF('Outil Recensement simplifié'!AI85>0,'Outil Recensement simplifié'!AI85,\"\")","v":""},{"$f":"IF('Outil Recensement simplifié'!AJ85>0,'Outil Recensement simplifié'!AJ85,\"\")","v":""},{"$f":"IF('Outil Recensement simplifié'!AK85>0,'Outil Recensement simplifié'!AK85,\"\")","v":""},{"$f":"IF('Outil Recensement simplifié'!AL85>0,'Outil Recensement simplifié'!AL85,\"\")","v":""},{"$f":"IF('Outil Recensement simplifié'!AM85>0,'Outil Recensement simplifié'!AM85,\"\")","v":""},{"$f":"IF('Outil Recensement simplifié'!AN85=\"Homme\",\"Male\",IF('Outil Recensement simplifié'!AN85=\"Femme\",\"Female\",IF('Outil Recensement simplifié'!AN85=\"H\",\"Male\",IF('Outil Recensement simplifié'!AN85=\"F\",\"Female\",\"\"))))","v":""},{"$f":"IF('Outil Recensement simplifié'!AO85=\"Individuelle\",\"Single\",IF('Outil Recensement simplifié'!AO85=\"Famille\",\"Family\",IF('Outil Recensement simplifié'!AO85=\"Individuel\",\"Single\",IF('Outil Recensement simplifié'!AO85=\"Familiale\",\"Family\",IF('Outil Recensement simplifié'!AO85=\"I\",\"Single\",IF('Outil Recensement simplifié'!AO85=\"F\",\"Family\",\"\"))))))","v":""},{"$f":"IF('Outil Recensement simplifié'!AP85=\"Individuelle\",\"Single\",IF('Outil Recensement simplifié'!AP85=\"Famille\",\"Family\",IF('Outil Recensement simplifié'!AP85=\"Individuel\",\"Single\",IF('Outil Recensement simplifié'!AP85=\"Familiale\",\"Family\",IF('Outil Recensement simplifié'!AP85=\"I\",\"Single\",IF('Outil Recensement simplifié'!AP85=\"F\",\"Family\",\"\"))))))","v":""},{"$f":"IF('Outil Recensement simplifié'!AQ85>0,'Outil Recensement simplifié'!AQ85,\"\")","v":""},{"$f":"IF('Outil Recensement simplifié'!AR85=\"Oui\",\"Yes\",IF('Outil Recensement simplifié'!AR85=\"Non\",\"No\",IF('Outil Recensement simplifié'!AR85=\"O\",\"Yes\",IF('Outil Recensement simplifié'!AR85=\"N\",\"No\",\"\"))))","v":""},{"$f":"IF('Outil Recensement simplifié'!AS85>0,'Outil Recensement simplifié'!AS85,\"\")","v":""},{"$f":"IF('Outil Recensement simplifié'!AT85>0,'Outil Recensement simplifié'!AT85,\"\")","v":""},{"$f":"IF('Outil Recensement simplifié'!AU85>0,'Outil Recensement simplifié'!AU85,\"\")","v":""},{"$f":"IF('Outil Recensement simplifié'!AV85=\"Homme\",\"Male\",IF('Outil Recensement simplifié'!AV85=\"Femme\",\"Female\",IF('Outil Recensement simplifié'!AV85=\"H\",\"Male\",IF('Outil Recensement simplifié'!AV85=\"F\",\"Female\",\"\"))))","v":""},{"$f":"IF('Outil Recensement simplifié'!AW85=\"Oui\",\"Yes\",IF('Outil Recensement simplifié'!AW85=\"Non\",\"No\",IF('Outil Recensement simplifié'!AW85=\"O\",\"Yes\",IF('Outil Recensement simplifié'!AW85=\"N\",\"No\",\"\"))))","v":""},{"$f":"IF('Outil Recensement simplifié'!AX85=\"Oui\",\"Yes\",IF('Outil Recensement simplifié'!AX85=\"Non\",\"No\",IF('Outil Recensement simplifié'!AX85=\"O\",\"Yes\",IF('Outil Recensement simplifié'!AX85=\"N\",\"No\",\"\"))))","v":""},{"$f":"IF('Outil Recensement simplifié'!AY85>0,'Outil Recensement simplifié'!AY85,\"\")","v":""},{"$f":"IF('Outil Recensement simplifié'!AZ85>0,'Outil Recensement simplifié'!AZ85,\"\")","v":""},{"$f":"IF('Outil Recensement simplifié'!BA85>0,'Outil Recensement simplifié'!BA85,\"\")","v":""},{"$f":"IF('Outil Recensement simplifié'!BB85=\"Homme\",\"Male\",IF('Outil Recensement simplifié'!BB85=\"Femme\",\"Female\",IF('Outil Recensement simplifié'!BB85=\"H\",\"Male\",IF('Outil Recensement simplifié'!BB85=\"F\",\"Female\",\"\"))))","v":""},{"$f":"IF('Outil Recensement simplifié'!BC85=\"Oui\",\"Yes\",IF('Outil Recensement simplifié'!BC85=\"Non\",\"No\",IF('Outil Recensement simplifié'!BC85=\"O\",\"Yes\",IF('Outil Recensement simplifié'!BC85=\"N\",\"No\",\"\"))))","v":""},{"$f":"IF('Outil Recensement simplifié'!BD85=\"Oui\",\"Yes\",IF('Outil Recensement simplifié'!BD85=\"Non\",\"No\",IF('Outil Recensement simplifié'!BD85=\"O\",\"Yes\",IF('Outil Recensement simplifié'!BD85=\"N\",\"No\",\"\"))))","v":""},{"$f":"IF('Outil Recensement simplifié'!BE85>0,'Outil Recensement simplifié'!BE85,\"\")","v":""},{"$f":"IF('Outil Recensement simplifié'!BF85>0,'Outil Recensement simplifié'!BF85,\"\")","v":""},{"$f":"IF('Outil Recensement simplifié'!BG85>0,'Outil Recensement simplifié'!BG85,\"\")","v":""},{"$f":"IF('Outil Recensement simplifié'!BH85=\"Homme\",\"Male\",IF('Outil Recensement simplifié'!BH85=\"Femme\",\"Female\",IF('Outil Recensement simplifié'!BH85=\"H\",\"Male\",IF('Outil Recensement simplifié'!BH85=\"F\",\"Female\",\"\"))))","v":""},{"$f":"IF('Outil Recensement simplifié'!BI85=\"Oui\",\"Yes\",IF('Outil Recensement simplifié'!BI85=\"Non\",\"No\",IF('Outil Recensement simplifié'!BI85=\"O\",\"Yes\",IF('Outil Recensement simplifié'!BI85=\"N\",\"No\",\"\"))))","v":""},{"$f":"IF('Outil Recensement simplifié'!BJ85=\"Oui\",\"Yes\",IF('Outil Recensement simplifié'!BJ85=\"Non\",\"No\",IF('Outil Recensement simplifié'!BJ85=\"O\",\"Yes\",IF('Outil Recensement simplifié'!BJ85=\"N\",\"No\",\"\"))))","v":""},{"$f":"IF('Outil Recensement simplifié'!BK85>0,'Outil Recensement simplifié'!BK85,\"\")","v":""},{"$f":"IF('Outil Recensement simplifié'!BL85>0,'Outil Recensement simplifié'!BL85,\"\")","v":""},{"$f":"IF('Outil Recensement simplifié'!BM85>0,'Outil Recensement simplifié'!BM85,\"\")","v":""},{"$f":"IF('Outil Recensement simplifié'!BN85=\"Homme\",\"Male\",IF('Outil Recensement simplifié'!BN85=\"Femme\",\"Female\",IF('Outil Recensement simplifié'!BN85=\"H\",\"Male\",IF('Outil Recensement simplifié'!BN85=\"F\",\"Female\",\"\"))))","v":""},{"$f":"IF('Outil Recensement simplifié'!BO85=\"Oui\",\"Yes\",IF('Outil Recensement simplifié'!BO85=\"Non\",\"No\",IF('Outil Recensement simplifié'!BO85=\"O\",\"Yes\",IF('Outil Recensement simplifié'!BO85=\"N\",\"No\",\"\"))))","v":""},{"$f":"IF('Outil Recensement simplifié'!BP85=\"Oui\",\"Yes\",IF('Outil Recensement simplifié'!BP85=\"Non\",\"No\",IF('Outil Recensement simplifié'!BP85=\"O\",\"Yes\",IF('Outil Recensement simplifié'!BP85=\"N\",\"No\",\"\"))))","v":""},{"$f":"IF('Outil Recensement simplifié'!BQ85>0,'Outil Recensement simplifié'!BQ85,\"\")","v":""},{"$f":"IF('Outil Recensement simplifié'!BR85>0,'Outil Recensement simplifié'!BR85,\"\")","v":""},{"$f":"IF('Outil Recensement simplifié'!BS85>0,'Outil Recensement simplifié'!BS85,\"\")","v":""},{"$f":"IF('Outil Recensement simplifié'!BT85=\"Homme\",\"Male\",IF('Outil Recensement simplifié'!BT85=\"Femme\",\"Female\",IF('Outil Recensement simplifié'!BT85=\"H\",\"Male\",IF('Outil Recensement simplifié'!BT85=\"F\",\"Female\",\"\"))))","v":""},{"$f":"IF('Outil Recensement simplifié'!BU85=\"Oui\",\"Yes\",IF('Outil Recensement simplifié'!BU85=\"Non\",\"No\",IF('Outil Recensement simplifié'!BU85=\"O\",\"Yes\",IF('Outil Recensement simplifié'!BU85=\"N\",\"No\",\"\"))))","v":""},{"$f":"IF('Outil Recensement simplifié'!BV85=\"Oui\",\"Yes\",IF('Outil Recensement simplifié'!BV85=\"Non\",\"No\",IF('Outil Recensement simplifié'!BV85=\"O\",\"Yes\",IF('Outil Recensement simplifié'!BV85=\"N\",\"No\",\"\"))))","v":""},{"$f":"IF('Outil Recensement simplifié'!BW85>0,'Outil Recensement simplifié'!BW85,\"\")","v":""},{"$f":"IF('Outil Recensement simplifié'!BX85>0,'Outil Recensement simplifié'!BX85,\"\")","v":""},{"$f":"IF('Outil Recensement simplifié'!BY85>0,'Outil Recensement simplifié'!BY85,\"\")","v":""},{"$f":"IF('Outil Recensement simplifié'!BZ85=\"Homme\",\"Male\",IF('Outil Recensement simplifié'!BZ85=\"Femme\",\"Female\",IF('Outil Recensement simplifié'!BZ85=\"H\",\"Male\",IF('Outil Recensement simplifié'!BZ85=\"F\",\"Female\",\"\"))))","v":""},{"$f":"IF('Outil Recensement simplifié'!CA85=\"Oui\",\"Yes\",IF('Outil Recensement simplifié'!CA85=\"Non\",\"No\",IF('Outil Recensement simplifié'!CA85=\"O\",\"Yes\",IF('Outil Recensement simplifié'!CA85=\"N\",\"No\",\"\"))))","v":""},{"$f":"IF('Outil Recensement simplifié'!CB85=\"Oui\",\"Yes\",IF('Outil Recensement simplifié'!CB85=\"Non\",\"No\",IF('Outil Recensement simplifié'!CB85=\"O\",\"Yes\",IF('Outil Recensement simplifié'!CB85=\"N\",\"No\",\"\"))))","v":""},{"$f":"IF('Outil Recensement simplifié'!CH85>0,'Outil Recensement simplifié'!CH85,\"\")","v":"    "}]
[{"$f":"IF('Outil Recensement simplifié'!A86>0,'Outil Recensement simplifié'!A86,\"\")","v":""},{"$f":"IF('Outil Recensement simplifié'!B86>0,'Outil Recensement simplifié'!B86,\"\")","v":""},{"$f":"IF('Outil Recensement simplifié'!C86>0,'Outil Recensement simplifié'!C86,\"\")","v":""},{"$f":"IF('Outil Recensement simplifié'!D86>0,'Outil Recensement simplifié'!D86,\"\")","v":""},{"$f":"IF('Outil Recensement simplifié'!E86>0,TEXT('Outil Recensement simplifié'!E86,\"000\"),\"\")","v":""},{"$f":"IF('Outil Recensement simplifié'!F86>0,'Outil Recensement simplifié'!F86,\"\")","v":""},{"$f":"IF('Outil Recensement simplifié'!G86>0,'Outil Recensement simplifié'!G86,\"\")","v":""},{"$f":"IF('Outil Recensement simplifié'!I86>0,'Outil Recensement simplifié'!I86,\"\")","v":""},{"$f":"IF('Outil Recensement simplifié'!J86>0,'Outil Recensement simplifié'!J86,\"\")","v":""},{"$f":"IF('Outil Recensement simplifié'!K86>0,'Outil Recensement simplifié'!K86,\"\")","v":""},{"$f":"IF('Outil Recensement simplifié'!L86>0,'Outil Recensement simplifié'!L86,\"\")","v":""},{"$f":"IF('Outil Recensement simplifié'!M86=\"Homme\",\"Male\",IF('Outil Recensement simplifié'!M86=\"Femme\",\"Female\",IF('Outil Recensement simplifié'!M86=\"H\",\"Male\",IF('Outil Recensement simplifié'!M86=\"F\",\"Female\",\"\"))))","v":""},{"$f":"IF('Outil Recensement simplifié'!N86=\"Oui\",\"Yes\",IF('Outil Recensement simplifié'!N86=\"Non\",\"No\",IF('Outil Recensement simplifié'!N86=\"O\",\"Yes\",IF('Outil Recensement simplifié'!N86=\"N\",\"No\",\"\"))))","v":""},{"$f":"IF('Outil Recensement simplifié'!O86=\"Non\",\"Single\",IF('Outil Recensement simplifié'!O86=\"Oui\",\"Family\",IF('Outil Recensement simplifié'!O86=\"N\",\"Single\",IF('Outil Recensement simplifié'!O86=\"O\",\"Family\",IF('Outil Recensement simplifié'!O86=\"En vigueur\",\"Family\",\"\")))))","v":""},{"$f":"IF('Outil Recensement simplifié'!P86=\"Anglais\",\"English\",IF('Outil Recensement simplifié'!P86=\"Français\",\"French\",IF('Outil Recensement simplifié'!P86=\"A\",\"English\",IF('Outil Recensement simplifié'!P86=\"F\",\"French\",\"\"))))","v":""},{"$f":"IF('Outil Recensement simplifié'!Q86=\"Oui\",\"Yes\",IF('Outil Recensement simplifié'!Q86=\"Non\",\"No\",IF('Outil Recensement simplifié'!Q86=\"O\",\"Yes\",IF('Outil Recensement simplifié'!Q86=\"N\",\"No\",\"\"))))","v":""},{"$f":"IF('Outil Recensement simplifié'!R86>0,'Outil Recensement simplifié'!R86,\"\")","v":""},{"$f":"IF('Outil Recensement simplifié'!S86=\"Annuelle\",\"Annually\",IF('Outil Recensement simplifié'!S86=\"Mensuelle\",\"Monthly\",IF('Outil Recensement simplifié'!S86=\"Aux deux semaines\",\"Biweekly\",IF('Outil Recensement simplifié'!S86=\"Bimensuelle\",\"Semi-Monthly\",IF('Outil Recensement simplifié'!S86=\"Hebdomadaire\",\"Weekly\",IF('Outil Recensement simplifié'!S86=\"Horaire\",\"Hourly\",\"\"))))))","v":""},{"$f":"IF('Outil Recensement simplifié'!T86>0,'Outil Recensement simplifié'!T86,\"\")","v":""},{"$f":"IF('Outil Recensement simplifié'!U86>0,'Outil Recensement simplifié'!U86,\"\")","v":""},{"$f":"IF('Outil Recensement simplifié'!V86=\"Exemptée\",\"Yes\",\"\")","v":""},{"$f":"IF('Outil Recensement simplifié'!W86=\"Exemptée\",\"Yes\",\"\")","v":""},{"$f":"IF('Outil Recensement simplifié'!X86>0,'Outil Recensement simplifié'!X86,\"\")","v":""},{"$f":"IF('Outil Recensement simplifié'!Y86>0,'Outil Recensement simplifié'!Y86,\"\")","v":""},{"$f":"IF('Outil Recensement simplifié'!Z86>0,'Outil Recensement simplifié'!Z86,\"\")","v":""},{"$f":"IF('Outil Recensement simplifié'!AA86>0,'Outil Recensement simplifié'!AA86,\"\")","v":""},{"$f":"IF('Outil Recensement simplifié'!AB86>0,'Outil Recensement simplifié'!AB86,\"\")","v":""},{"$f":"IF('Outil Recensement simplifié'!AC86>0,'Outil Recensement simplifié'!AC86,\"\")","v":" "},{"$f":"IF('Outil Recensement simplifié'!AE86>0,'Outil Recensement simplifié'!AE86&\" \",\"\")&IF('Outil Recensement simplifié'!AD86>0,'Outil Recensement simplifié'!AD86,\"\")","v":""},null,{"$f":"IF('Outil Recensement simplifié'!AF86>0,'Outil Recensement simplifié'!AF86,\"\")","v":""},{"$f":"IF('Outil Recensement simplifié'!AG86>0,'Outil Recensement simplifié'!AG86,\"\")","v":""},{"$f":"IF('Outil Recensement simplifié'!AH86>0,'Outil Recensement simplifié'!AH86,\"\")","v":""},{"$f":"IF('Outil Recensement simplifié'!AI86>0,'Outil Recensement simplifié'!AI86,\"\")","v":""},{"$f":"IF('Outil Recensement simplifié'!AJ86>0,'Outil Recensement simplifié'!AJ86,\"\")","v":""},{"$f":"IF('Outil Recensement simplifié'!AK86>0,'Outil Recensement simplifié'!AK86,\"\")","v":""},{"$f":"IF('Outil Recensement simplifié'!AL86>0,'Outil Recensement simplifié'!AL86,\"\")","v":""},{"$f":"IF('Outil Recensement simplifié'!AM86>0,'Outil Recensement simplifié'!AM86,\"\")","v":""},{"$f":"IF('Outil Recensement simplifié'!AN86=\"Homme\",\"Male\",IF('Outil Recensement simplifié'!AN86=\"Femme\",\"Female\",IF('Outil Recensement simplifié'!AN86=\"H\",\"Male\",IF('Outil Recensement simplifié'!AN86=\"F\",\"Female\",\"\"))))","v":""},{"$f":"IF('Outil Recensement simplifié'!AO86=\"Individuelle\",\"Single\",IF('Outil Recensement simplifié'!AO86=\"Famille\",\"Family\",IF('Outil Recensement simplifié'!AO86=\"Individuel\",\"Single\",IF('Outil Recensement simplifié'!AO86=\"Familiale\",\"Family\",IF('Outil Recensement simplifié'!AO86=\"I\",\"Single\",IF('Outil Recensement simplifié'!AO86=\"F\",\"Family\",\"\"))))))","v":""},{"$f":"IF('Outil Recensement simplifié'!AP86=\"Individuelle\",\"Single\",IF('Outil Recensement simplifié'!AP86=\"Famille\",\"Family\",IF('Outil Recensement simplifié'!AP86=\"Individuel\",\"Single\",IF('Outil Recensement simplifié'!AP86=\"Familiale\",\"Family\",IF('Outil Recensement simplifié'!AP86=\"I\",\"Single\",IF('Outil Recensement simplifié'!AP86=\"F\",\"Family\",\"\"))))))","v":""},{"$f":"IF('Outil Recensement simplifié'!AQ86>0,'Outil Recensement simplifié'!AQ86,\"\")","v":""},{"$f":"IF('Outil Recensement simplifié'!AR86=\"Oui\",\"Yes\",IF('Outil Recensement simplifié'!AR86=\"Non\",\"No\",IF('Outil Recensement simplifié'!AR86=\"O\",\"Yes\",IF('Outil Recensement simplifié'!AR86=\"N\",\"No\",\"\"))))","v":""},{"$f":"IF('Outil Recensement simplifié'!AS86>0,'Outil Recensement simplifié'!AS86,\"\")","v":""},{"$f":"IF('Outil Recensement simplifié'!AT86>0,'Outil Recensement simplifié'!AT86,\"\")","v":""},{"$f":"IF('Outil Recensement simplifié'!AU86>0,'Outil Recensement simplifié'!AU86,\"\")","v":""},{"$f":"IF('Outil Recensement simplifié'!AV86=\"Homme\",\"Male\",IF('Outil Recensement simplifié'!AV86=\"Femme\",\"Female\",IF('Outil Recensement simplifié'!AV86=\"H\",\"Male\",IF('Outil Recensement simplifié'!AV86=\"F\",\"Female\",\"\"))))","v":""},{"$f":"IF('Outil Recensement simplifié'!AW86=\"Oui\",\"Yes\",IF('Outil Recensement simplifié'!AW86=\"Non\",\"No\",IF('Outil Recensement simplifié'!AW86=\"O\",\"Yes\",IF('Outil Recensement simplifié'!AW86=\"N\",\"No\",\"\"))))","v":""},{"$f":"IF('Outil Recensement simplifié'!AX86=\"Oui\",\"Yes\",IF('Outil Recensement simplifié'!AX86=\"Non\",\"No\",IF('Outil Recensement simplifié'!AX86=\"O\",\"Yes\",IF('Outil Recensement simplifié'!AX86=\"N\",\"No\",\"\"))))","v":""},{"$f":"IF('Outil Recensement simplifié'!AY86>0,'Outil Recensement simplifié'!AY86,\"\")","v":""},{"$f":"IF('Outil Recensement simplifié'!AZ86>0,'Outil Recensement simplifié'!AZ86,\"\")","v":""},{"$f":"IF('Outil Recensement simplifié'!BA86>0,'Outil Recensement simplifié'!BA86,\"\")","v":""},{"$f":"IF('Outil Recensement simplifié'!BB86=\"Homme\",\"Male\",IF('Outil Recensement simplifié'!BB86=\"Femme\",\"Female\",IF('Outil Recensement simplifié'!BB86=\"H\",\"Male\",IF('Outil Recensement simplifié'!BB86=\"F\",\"Female\",\"\"))))","v":""},{"$f":"IF('Outil Recensement simplifié'!BC86=\"Oui\",\"Yes\",IF('Outil Recensement simplifié'!BC86=\"Non\",\"No\",IF('Outil Recensement simplifié'!BC86=\"O\",\"Yes\",IF('Outil Recensement simplifié'!BC86=\"N\",\"No\",\"\"))))","v":""},{"$f":"IF('Outil Recensement simplifié'!BD86=\"Oui\",\"Yes\",IF('Outil Recensement simplifié'!BD86=\"Non\",\"No\",IF('Outil Recensement simplifié'!BD86=\"O\",\"Yes\",IF('Outil Recensement simplifié'!BD86=\"N\",\"No\",\"\"))))","v":""},{"$f":"IF('Outil Recensement simplifié'!BE86>0,'Outil Recensement simplifié'!BE86,\"\")","v":""},{"$f":"IF('Outil Recensement simplifié'!BF86>0,'Outil Recensement simplifié'!BF86,\"\")","v":""},{"$f":"IF('Outil Recensement simplifié'!BG86>0,'Outil Recensement simplifié'!BG86,\"\")","v":""},{"$f":"IF('Outil Recensement simplifié'!BH86=\"Homme\",\"Male\",IF('Outil Recensement simplifié'!BH86=\"Femme\",\"Female\",IF('Outil Recensement simplifié'!BH86=\"H\",\"Male\",IF('Outil Recensement simplifié'!BH86=\"F\",\"Female\",\"\"))))","v":""},{"$f":"IF('Outil Recensement simplifié'!BI86=\"Oui\",\"Yes\",IF('Outil Recensement simplifié'!BI86=\"Non\",\"No\",IF('Outil Recensement simplifié'!BI86=\"O\",\"Yes\",IF('Outil Recensement simplifié'!BI86=\"N\",\"No\",\"\"))))","v":""},{"$f":"IF('Outil Recensement simplifié'!BJ86=\"Oui\",\"Yes\",IF('Outil Recensement simplifié'!BJ86=\"Non\",\"No\",IF('Outil Recensement simplifié'!BJ86=\"O\",\"Yes\",IF('Outil Recensement simplifié'!BJ86=\"N\",\"No\",\"\"))))","v":""},{"$f":"IF('Outil Recensement simplifié'!BK86>0,'Outil Recensement simplifié'!BK86,\"\")","v":""},{"$f":"IF('Outil Recensement simplifié'!BL86>0,'Outil Recensement simplifié'!BL86,\"\")","v":""},{"$f":"IF('Outil Recensement simplifié'!BM86>0,'Outil Recensement simplifié'!BM86,\"\")","v":""},{"$f":"IF('Outil Recensement simplifié'!BN86=\"Homme\",\"Male\",IF('Outil Recensement simplifié'!BN86=\"Femme\",\"Female\",IF('Outil Recensement simplifié'!BN86=\"H\",\"Male\",IF('Outil Recensement simplifié'!BN86=\"F\",\"Female\",\"\"))))","v":""},{"$f":"IF('Outil Recensement simplifié'!BO86=\"Oui\",\"Yes\",IF('Outil Recensement simplifié'!BO86=\"Non\",\"No\",IF('Outil Recensement simplifié'!BO86=\"O\",\"Yes\",IF('Outil Recensement simplifié'!BO86=\"N\",\"No\",\"\"))))","v":""},{"$f":"IF('Outil Recensement simplifié'!BP86=\"Oui\",\"Yes\",IF('Outil Recensement simplifié'!BP86=\"Non\",\"No\",IF('Outil Recensement simplifié'!BP86=\"O\",\"Yes\",IF('Outil Recensement simplifié'!BP86=\"N\",\"No\",\"\"))))","v":""},{"$f":"IF('Outil Recensement simplifié'!BQ86>0,'Outil Recensement simplifié'!BQ86,\"\")","v":""},{"$f":"IF('Outil Recensement simplifié'!BR86>0,'Outil Recensement simplifié'!BR86,\"\")","v":""},{"$f":"IF('Outil Recensement simplifié'!BS86>0,'Outil Recensement simplifié'!BS86,\"\")","v":""},{"$f":"IF('Outil Recensement simplifié'!BT86=\"Homme\",\"Male\",IF('Outil Recensement simplifié'!BT86=\"Femme\",\"Female\",IF('Outil Recensement simplifié'!BT86=\"H\",\"Male\",IF('Outil Recensement simplifié'!BT86=\"F\",\"Female\",\"\"))))","v":""},{"$f":"IF('Outil Recensement simplifié'!BU86=\"Oui\",\"Yes\",IF('Outil Recensement simplifié'!BU86=\"Non\",\"No\",IF('Outil Recensement simplifié'!BU86=\"O\",\"Yes\",IF('Outil Recensement simplifié'!BU86=\"N\",\"No\",\"\"))))","v":""},{"$f":"IF('Outil Recensement simplifié'!BV86=\"Oui\",\"Yes\",IF('Outil Recensement simplifié'!BV86=\"Non\",\"No\",IF('Outil Recensement simplifié'!BV86=\"O\",\"Yes\",IF('Outil Recensement simplifié'!BV86=\"N\",\"No\",\"\"))))","v":""},{"$f":"IF('Outil Recensement simplifié'!BW86>0,'Outil Recensement simplifié'!BW86,\"\")","v":""},{"$f":"IF('Outil Recensement simplifié'!BX86>0,'Outil Recensement simplifié'!BX86,\"\")","v":""},{"$f":"IF('Outil Recensement simplifié'!BY86>0,'Outil Recensement simplifié'!BY86,\"\")","v":""},{"$f":"IF('Outil Recensement simplifié'!BZ86=\"Homme\",\"Male\",IF('Outil Recensement simplifié'!BZ86=\"Femme\",\"Female\",IF('Outil Recensement simplifié'!BZ86=\"H\",\"Male\",IF('Outil Recensement simplifié'!BZ86=\"F\",\"Female\",\"\"))))","v":""},{"$f":"IF('Outil Recensement simplifié'!CA86=\"Oui\",\"Yes\",IF('Outil Recensement simplifié'!CA86=\"Non\",\"No\",IF('Outil Recensement simplifié'!CA86=\"O\",\"Yes\",IF('Outil Recensement simplifié'!CA86=\"N\",\"No\",\"\"))))","v":""},{"$f":"IF('Outil Recensement simplifié'!CB86=\"Oui\",\"Yes\",IF('Outil Recensement simplifié'!CB86=\"Non\",\"No\",IF('Outil Recensement simplifié'!CB86=\"O\",\"Yes\",IF('Outil Recensement simplifié'!CB86=\"N\",\"No\",\"\"))))","v":""},{"$f":"IF('Outil Recensement simplifié'!CH86>0,'Outil Recensement simplifié'!CH86,\"\")","v":"    "}]
[{"$f":"IF('Outil Recensement simplifié'!A87>0,'Outil Recensement simplifié'!A87,\"\")","v":""},{"$f":"IF('Outil Recensement simplifié'!B87>0,'Outil Recensement simplifié'!B87,\"\")","v":""},{"$f":"IF('Outil Recensement simplifié'!C87>0,'Outil Recensement simplifié'!C87,\"\")","v":""},{"$f":"IF('Outil Recensement simplifié'!D87>0,'Outil Recensement simplifié'!D87,\"\")","v":""},{"$f":"IF('Outil Recensement simplifié'!E87>0,TEXT('Outil Recensement simplifié'!E87,\"000\"),\"\")","v":""},{"$f":"IF('Outil Recensement simplifié'!F87>0,'Outil Recensement simplifié'!F87,\"\")","v":""},{"$f":"IF('Outil Recensement simplifié'!G87>0,'Outil Recensement simplifié'!G87,\"\")","v":""},{"$f":"IF('Outil Recensement simplifié'!I87>0,'Outil Recensement simplifié'!I87,\"\")","v":""},{"$f":"IF('Outil Recensement simplifié'!J87>0,'Outil Recensement simplifié'!J87,\"\")","v":""},{"$f":"IF('Outil Recensement simplifié'!K87>0,'Outil Recensement simplifié'!K87,\"\")","v":""},{"$f":"IF('Outil Recensement simplifié'!L87>0,'Outil Recensement simplifié'!L87,\"\")","v":""},{"$f":"IF('Outil Recensement simplifié'!M87=\"Homme\",\"Male\",IF('Outil Recensement simplifié'!M87=\"Femme\",\"Female\",IF('Outil Recensement simplifié'!M87=\"H\",\"Male\",IF('Outil Recensement simplifié'!M87=\"F\",\"Female\",\"\"))))","v":""},{"$f":"IF('Outil Recensement simplifié'!N87=\"Oui\",\"Yes\",IF('Outil Recensement simplifié'!N87=\"Non\",\"No\",IF('Outil Recensement simplifié'!N87=\"O\",\"Yes\",IF('Outil Recensement simplifié'!N87=\"N\",\"No\",\"\"))))","v":""},{"$f":"IF('Outil Recensement simplifié'!O87=\"Non\",\"Single\",IF('Outil Recensement simplifié'!O87=\"Oui\",\"Family\",IF('Outil Recensement simplifié'!O87=\"N\",\"Single\",IF('Outil Recensement simplifié'!O87=\"O\",\"Family\",IF('Outil Recensement simplifié'!O87=\"En vigueur\",\"Family\",\"\")))))","v":""},{"$f":"IF('Outil Recensement simplifié'!P87=\"Anglais\",\"English\",IF('Outil Recensement simplifié'!P87=\"Français\",\"French\",IF('Outil Recensement simplifié'!P87=\"A\",\"English\",IF('Outil Recensement simplifié'!P87=\"F\",\"French\",\"\"))))","v":""},{"$f":"IF('Outil Recensement simplifié'!Q87=\"Oui\",\"Yes\",IF('Outil Recensement simplifié'!Q87=\"Non\",\"No\",IF('Outil Recensement simplifié'!Q87=\"O\",\"Yes\",IF('Outil Recensement simplifié'!Q87=\"N\",\"No\",\"\"))))","v":""},{"$f":"IF('Outil Recensement simplifié'!R87>0,'Outil Recensement simplifié'!R87,\"\")","v":""},{"$f":"IF('Outil Recensement simplifié'!S87=\"Annuelle\",\"Annually\",IF('Outil Recensement simplifié'!S87=\"Mensuelle\",\"Monthly\",IF('Outil Recensement simplifié'!S87=\"Aux deux semaines\",\"Biweekly\",IF('Outil Recensement simplifié'!S87=\"Bimensuelle\",\"Semi-Monthly\",IF('Outil Recensement simplifié'!S87=\"Hebdomadaire\",\"Weekly\",IF('Outil Recensement simplifié'!S87=\"Horaire\",\"Hourly\",\"\"))))))","v":""},{"$f":"IF('Outil Recensement simplifié'!T87>0,'Outil Recensement simplifié'!T87,\"\")","v":""},{"$f":"IF('Outil Recensement simplifié'!U87>0,'Outil Recensement simplifié'!U87,\"\")","v":""},{"$f":"IF('Outil Recensement simplifié'!V87=\"Exemptée\",\"Yes\",\"\")","v":""},{"$f":"IF('Outil Recensement simplifié'!W87=\"Exemptée\",\"Yes\",\"\")","v":""},{"$f":"IF('Outil Recensement simplifié'!X87>0,'Outil Recensement simplifié'!X87,\"\")","v":""},{"$f":"IF('Outil Recensement simplifié'!Y87>0,'Outil Recensement simplifié'!Y87,\"\")","v":""},{"$f":"IF('Outil Recensement simplifié'!Z87>0,'Outil Recensement simplifié'!Z87,\"\")","v":""},{"$f":"IF('Outil Recensement simplifié'!AA87>0,'Outil Recensement simplifié'!AA87,\"\")","v":""},{"$f":"IF('Outil Recensement simplifié'!AB87>0,'Outil Recensement simplifié'!AB87,\"\")","v":""},{"$f":"IF('Outil Recensement simplifié'!AC87>0,'Outil Recensement simplifié'!AC87,\"\")","v":" "},{"$f":"IF('Outil Recensement simplifié'!AE87>0,'Outil Recensement simplifié'!AE87&\" \",\"\")&IF('Outil Recensement simplifié'!AD87>0,'Outil Recensement simplifié'!AD87,\"\")","v":""},null,{"$f":"IF('Outil Recensement simplifié'!AF87>0,'Outil Recensement simplifié'!AF87,\"\")","v":""},{"$f":"IF('Outil Recensement simplifié'!AG87>0,'Outil Recensement simplifié'!AG87,\"\")","v":""},{"$f":"IF('Outil Recensement simplifié'!AH87>0,'Outil Recensement simplifié'!AH87,\"\")","v":""},{"$f":"IF('Outil Recensement simplifié'!AI87>0,'Outil Recensement simplifié'!AI87,\"\")","v":""},{"$f":"IF('Outil Recensement simplifié'!AJ87>0,'Outil Recensement simplifié'!AJ87,\"\")","v":""},{"$f":"IF('Outil Recensement simplifié'!AK87>0,'Outil Recensement simplifié'!AK87,\"\")","v":""},{"$f":"IF('Outil Recensement simplifié'!AL87>0,'Outil Recensement simplifié'!AL87,\"\")","v":""},{"$f":"IF('Outil Recensement simplifié'!AM87>0,'Outil Recensement simplifié'!AM87,\"\")","v":""},{"$f":"IF('Outil Recensement simplifié'!AN87=\"Homme\",\"Male\",IF('Outil Recensement simplifié'!AN87=\"Femme\",\"Female\",IF('Outil Recensement simplifié'!AN87=\"H\",\"Male\",IF('Outil Recensement simplifié'!AN87=\"F\",\"Female\",\"\"))))","v":""},{"$f":"IF('Outil Recensement simplifié'!AO87=\"Individuelle\",\"Single\",IF('Outil Recensement simplifié'!AO87=\"Famille\",\"Family\",IF('Outil Recensement simplifié'!AO87=\"Individuel\",\"Single\",IF('Outil Recensement simplifié'!AO87=\"Familiale\",\"Family\",IF('Outil Recensement simplifié'!AO87=\"I\",\"Single\",IF('Outil Recensement simplifié'!AO87=\"F\",\"Family\",\"\"))))))","v":""},{"$f":"IF('Outil Recensement simplifié'!AP87=\"Individuelle\",\"Single\",IF('Outil Recensement simplifié'!AP87=\"Famille\",\"Family\",IF('Outil Recensement simplifié'!AP87=\"Individuel\",\"Single\",IF('Outil Recensement simplifié'!AP87=\"Familiale\",\"Family\",IF('Outil Recensement simplifié'!AP87=\"I\",\"Single\",IF('Outil Recensement simplifié'!AP87=\"F\",\"Family\",\"\"))))))","v":""},{"$f":"IF('Outil Recensement simplifié'!AQ87>0,'Outil Recensement simplifié'!AQ87,\"\")","v":""},{"$f":"IF('Outil Recensement simplifié'!AR87=\"Oui\",\"Yes\",IF('Outil Recensement simplifié'!AR87=\"Non\",\"No\",IF('Outil Recensement simplifié'!AR87=\"O\",\"Yes\",IF('Outil Recensement simplifié'!AR87=\"N\",\"No\",\"\"))))","v":""},{"$f":"IF('Outil Recensement simplifié'!AS87>0,'Outil Recensement simplifié'!AS87,\"\")","v":""},{"$f":"IF('Outil Recensement simplifié'!AT87>0,'Outil Recensement simplifié'!AT87,\"\")","v":""},{"$f":"IF('Outil Recensement simplifié'!AU87>0,'Outil Recensement simplifié'!AU87,\"\")","v":""},{"$f":"IF('Outil Recensement simplifié'!AV87=\"Homme\",\"Male\",IF('Outil Recensement simplifié'!AV87=\"Femme\",\"Female\",IF('Outil Recensement simplifié'!AV87=\"H\",\"Male\",IF('Outil Recensement simplifié'!AV87=\"F\",\"Female\",\"\"))))","v":""},{"$f":"IF('Outil Recensement simplifié'!AW87=\"Oui\",\"Yes\",IF('Outil Recensement simplifié'!AW87=\"Non\",\"No\",IF('Outil Recensement simplifié'!AW87=\"O\",\"Yes\",IF('Outil Recensement simplifié'!AW87=\"N\",\"No\",\"\"))))","v":""},{"$f":"IF('Outil Recensement simplifié'!AX87=\"Oui\",\"Yes\",IF('Outil Recensement simplifié'!AX87=\"Non\",\"No\",IF('Outil Recensement simplifié'!AX87=\"O\",\"Yes\",IF('Outil Recensement simplifié'!AX87=\"N\",\"No\",\"\"))))","v":""},{"$f":"IF('Outil Recensement simplifié'!AY87>0,'Outil Recensement simplifié'!AY87,\"\")","v":""},{"$f":"IF('Outil Recensement simplifié'!AZ87>0,'Outil Recensement simplifié'!AZ87,\"\")","v":""},{"$f":"IF('Outil Recensement simplifié'!BA87>0,'Outil Recensement simplifié'!BA87,\"\")","v":""},{"$f":"IF('Outil Recensement simplifié'!BB87=\"Homme\",\"Male\",IF('Outil Recensement simplifié'!BB87=\"Femme\",\"Female\",IF('Outil Recensement simplifié'!BB87=\"H\",\"Male\",IF('Outil Recensement simplifié'!BB87=\"F\",\"Female\",\"\"))))","v":""},{"$f":"IF('Outil Recensement simplifié'!BC87=\"Oui\",\"Yes\",IF('Outil Recensement simplifié'!BC87=\"Non\",\"No\",IF('Outil Recensement simplifié'!BC87=\"O\",\"Yes\",IF('Outil Recensement simplifié'!BC87=\"N\",\"No\",\"\"))))","v":""},{"$f":"IF('Outil Recensement simplifié'!BD87=\"Oui\",\"Yes\",IF('Outil Recensement simplifié'!BD87=\"Non\",\"No\",IF('Outil Recensement simplifié'!BD87=\"O\",\"Yes\",IF('Outil Recensement simplifié'!BD87=\"N\",\"No\",\"\"))))","v":""},{"$f":"IF('Outil Recensement simplifié'!BE87>0,'Outil Recensement simplifié'!BE87,\"\")","v":""},{"$f":"IF('Outil Recensement simplifié'!BF87>0,'Outil Recensement simplifié'!BF87,\"\")","v":""},{"$f":"IF('Outil Recensement simplifié'!BG87>0,'Outil Recensement simplifié'!BG87,\"\")","v":""},{"$f":"IF('Outil Recensement simplifié'!BH87=\"Homme\",\"Male\",IF('Outil Recensement simplifié'!BH87=\"Femme\",\"Female\",IF('Outil Recensement simplifié'!BH87=\"H\",\"Male\",IF('Outil Recensement simplifié'!BH87=\"F\",\"Female\",\"\"))))","v":""},{"$f":"IF('Outil Recensement simplifié'!BI87=\"Oui\",\"Yes\",IF('Outil Recensement simplifié'!BI87=\"Non\",\"No\",IF('Outil Recensement simplifié'!BI87=\"O\",\"Yes\",IF('Outil Recensement simplifié'!BI87=\"N\",\"No\",\"\"))))","v":""},{"$f":"IF('Outil Recensement simplifié'!BJ87=\"Oui\",\"Yes\",IF('Outil Recensement simplifié'!BJ87=\"Non\",\"No\",IF('Outil Recensement simplifié'!BJ87=\"O\",\"Yes\",IF('Outil Recensement simplifié'!BJ87=\"N\",\"No\",\"\"))))","v":""},{"$f":"IF('Outil Recensement simplifié'!BK87>0,'Outil Recensement simplifié'!BK87,\"\")","v":""},{"$f":"IF('Outil Recensement simplifié'!BL87>0,'Outil Recensement simplifié'!BL87,\"\")","v":""},{"$f":"IF('Outil Recensement simplifié'!BM87>0,'Outil Recensement simplifié'!BM87,\"\")","v":""},{"$f":"IF('Outil Recensement simplifié'!BN87=\"Homme\",\"Male\",IF('Outil Recensement simplifié'!BN87=\"Femme\",\"Female\",IF('Outil Recensement simplifié'!BN87=\"H\",\"Male\",IF('Outil Recensement simplifié'!BN87=\"F\",\"Female\",\"\"))))","v":""},{"$f":"IF('Outil Recensement simplifié'!BO87=\"Oui\",\"Yes\",IF('Outil Recensement simplifié'!BO87=\"Non\",\"No\",IF('Outil Recensement simplifié'!BO87=\"O\",\"Yes\",IF('Outil Recensement simplifié'!BO87=\"N\",\"No\",\"\"))))","v":""},{"$f":"IF('Outil Recensement simplifié'!BP87=\"Oui\",\"Yes\",IF('Outil Recensement simplifié'!BP87=\"Non\",\"No\",IF('Outil Recensement simplifié'!BP87=\"O\",\"Yes\",IF('Outil Recensement simplifié'!BP87=\"N\",\"No\",\"\"))))","v":""},{"$f":"IF('Outil Recensement simplifié'!BQ87>0,'Outil Recensement simplifié'!BQ87,\"\")","v":""},{"$f":"IF('Outil Recensement simplifié'!BR87>0,'Outil Recensement simplifié'!BR87,\"\")","v":""},{"$f":"IF('Outil Recensement simplifié'!BS87>0,'Outil Recensement simplifié'!BS87,\"\")","v":""},{"$f":"IF('Outil Recensement simplifié'!BT87=\"Homme\",\"Male\",IF('Outil Recensement simplifié'!BT87=\"Femme\",\"Female\",IF('Outil Recensement simplifié'!BT87=\"H\",\"Male\",IF('Outil Recensement simplifié'!BT87=\"F\",\"Female\",\"\"))))","v":""},{"$f":"IF('Outil Recensement simplifié'!BU87=\"Oui\",\"Yes\",IF('Outil Recensement simplifié'!BU87=\"Non\",\"No\",IF('Outil Recensement simplifié'!BU87=\"O\",\"Yes\",IF('Outil Recensement simplifié'!BU87=\"N\",\"No\",\"\"))))","v":""},{"$f":"IF('Outil Recensement simplifié'!BV87=\"Oui\",\"Yes\",IF('Outil Recensement simplifié'!BV87=\"Non\",\"No\",IF('Outil Recensement simplifié'!BV87=\"O\",\"Yes\",IF('Outil Recensement simplifié'!BV87=\"N\",\"No\",\"\"))))","v":""},{"$f":"IF('Outil Recensement simplifié'!BW87>0,'Outil Recensement simplifié'!BW87,\"\")","v":""},{"$f":"IF('Outil Recensement simplifié'!BX87>0,'Outil Recensement simplifié'!BX87,\"\")","v":""},{"$f":"IF('Outil Recensement simplifié'!BY87>0,'Outil Recensement simplifié'!BY87,\"\")","v":""},{"$f":"IF('Outil Recensement simplifié'!BZ87=\"Homme\",\"Male\",IF('Outil Recensement simplifié'!BZ87=\"Femme\",\"Female\",IF('Outil Recensement simplifié'!BZ87=\"H\",\"Male\",IF('Outil Recensement simplifié'!BZ87=\"F\",\"Female\",\"\"))))","v":""},{"$f":"IF('Outil Recensement simplifié'!CA87=\"Oui\",\"Yes\",IF('Outil Recensement simplifié'!CA87=\"Non\",\"No\",IF('Outil Recensement simplifié'!CA87=\"O\",\"Yes\",IF('Outil Recensement simplifié'!CA87=\"N\",\"No\",\"\"))))","v":""},{"$f":"IF('Outil Recensement simplifié'!CB87=\"Oui\",\"Yes\",IF('Outil Recensement simplifié'!CB87=\"Non\",\"No\",IF('Outil Recensement simplifié'!CB87=\"O\",\"Yes\",IF('Outil Recensement simplifié'!CB87=\"N\",\"No\",\"\"))))","v":""},{"$f":"IF('Outil Recensement simplifié'!CH87>0,'Outil Recensement simplifié'!CH87,\"\")","v":"    "}]
[{"$f":"IF('Outil Recensement simplifié'!A88>0,'Outil Recensement simplifié'!A88,\"\")","v":""},{"$f":"IF('Outil Recensement simplifié'!B88>0,'Outil Recensement simplifié'!B88,\"\")","v":""},{"$f":"IF('Outil Recensement simplifié'!C88>0,'Outil Recensement simplifié'!C88,\"\")","v":""},{"$f":"IF('Outil Recensement simplifié'!D88>0,'Outil Recensement simplifié'!D88,\"\")","v":""},{"$f":"IF('Outil Recensement simplifié'!E88>0,TEXT('Outil Recensement simplifié'!E88,\"000\"),\"\")","v":""},{"$f":"IF('Outil Recensement simplifié'!F88>0,'Outil Recensement simplifié'!F88,\"\")","v":""},{"$f":"IF('Outil Recensement simplifié'!G88>0,'Outil Recensement simplifié'!G88,\"\")","v":""},{"$f":"IF('Outil Recensement simplifié'!I88>0,'Outil Recensement simplifié'!I88,\"\")","v":""},{"$f":"IF('Outil Recensement simplifié'!J88>0,'Outil Recensement simplifié'!J88,\"\")","v":""},{"$f":"IF('Outil Recensement simplifié'!K88>0,'Outil Recensement simplifié'!K88,\"\")","v":""},{"$f":"IF('Outil Recensement simplifié'!L88>0,'Outil Recensement simplifié'!L88,\"\")","v":""},{"$f":"IF('Outil Recensement simplifié'!M88=\"Homme\",\"Male\",IF('Outil Recensement simplifié'!M88=\"Femme\",\"Female\",IF('Outil Recensement simplifié'!M88=\"H\",\"Male\",IF('Outil Recensement simplifié'!M88=\"F\",\"Female\",\"\"))))","v":""},{"$f":"IF('Outil Recensement simplifié'!N88=\"Oui\",\"Yes\",IF('Outil Recensement simplifié'!N88=\"Non\",\"No\",IF('Outil Recensement simplifié'!N88=\"O\",\"Yes\",IF('Outil Recensement simplifié'!N88=\"N\",\"No\",\"\"))))","v":""},{"$f":"IF('Outil Recensement simplifié'!O88=\"Non\",\"Single\",IF('Outil Recensement simplifié'!O88=\"Oui\",\"Family\",IF('Outil Recensement simplifié'!O88=\"N\",\"Single\",IF('Outil Recensement simplifié'!O88=\"O\",\"Family\",IF('Outil Recensement simplifié'!O88=\"En vigueur\",\"Family\",\"\")))))","v":""},{"$f":"IF('Outil Recensement simplifié'!P88=\"Anglais\",\"English\",IF('Outil Recensement simplifié'!P88=\"Français\",\"French\",IF('Outil Recensement simplifié'!P88=\"A\",\"English\",IF('Outil Recensement simplifié'!P88=\"F\",\"French\",\"\"))))","v":""},{"$f":"IF('Outil Recensement simplifié'!Q88=\"Oui\",\"Yes\",IF('Outil Recensement simplifié'!Q88=\"Non\",\"No\",IF('Outil Recensement simplifié'!Q88=\"O\",\"Yes\",IF('Outil Recensement simplifié'!Q88=\"N\",\"No\",\"\"))))","v":""},{"$f":"IF('Outil Recensement simplifié'!R88>0,'Outil Recensement simplifié'!R88,\"\")","v":""},{"$f":"IF('Outil Recensement simplifié'!S88=\"Annuelle\",\"Annually\",IF('Outil Recensement simplifié'!S88=\"Mensuelle\",\"Monthly\",IF('Outil Recensement simplifié'!S88=\"Aux deux semaines\",\"Biweekly\",IF('Outil Recensement simplifié'!S88=\"Bimensuelle\",\"Semi-Monthly\",IF('Outil Recensement simplifié'!S88=\"Hebdomadaire\",\"Weekly\",IF('Outil Recensement simplifié'!S88=\"Horaire\",\"Hourly\",\"\"))))))","v":""},{"$f":"IF('Outil Recensement simplifié'!T88>0,'Outil Recensement simplifié'!T88,\"\")","v":""},{"$f":"IF('Outil Recensement simplifié'!U88>0,'Outil Recensement simplifié'!U88,\"\")","v":""},{"$f":"IF('Outil Recensement simplifié'!V88=\"Exemptée\",\"Yes\",\"\")","v":""},{"$f":"IF('Outil Recensement simplifié'!W88=\"Exemptée\",\"Yes\",\"\")","v":""},{"$f":"IF('Outil Recensement simplifié'!X88>0,'Outil Recensement simplifié'!X88,\"\")","v":""},{"$f":"IF('Outil Recensement simplifié'!Y88>0,'Outil Recensement simplifié'!Y88,\"\")","v":""},{"$f":"IF('Outil Recensement simplifié'!Z88>0,'Outil Recensement simplifié'!Z88,\"\")","v":""},{"$f":"IF('Outil Recensement simplifié'!AA88>0,'Outil Recensement simplifié'!AA88,\"\")","v":""},{"$f":"IF('Outil Recensement simplifié'!AB88>0,'Outil Recensement simplifié'!AB88,\"\")","v":""},{"$f":"IF('Outil Recensement simplifié'!AC88>0,'Outil Recensement simplifié'!AC88,\"\")","v":" "},{"$f":"IF('Outil Recensement simplifié'!AE88>0,'Outil Recensement simplifié'!AE88&\" \",\"\")&IF('Outil Recensement simplifié'!AD88>0,'Outil Recensement simplifié'!AD88,\"\")","v":""},null,{"$f":"IF('Outil Recensement simplifié'!AF88>0,'Outil Recensement simplifié'!AF88,\"\")","v":""},{"$f":"IF('Outil Recensement simplifié'!AG88>0,'Outil Recensement simplifié'!AG88,\"\")","v":""},{"$f":"IF('Outil Recensement simplifié'!AH88>0,'Outil Recensement simplifié'!AH88,\"\")","v":""},{"$f":"IF('Outil Recensement simplifié'!AI88>0,'Outil Recensement simplifié'!AI88,\"\")","v":""},{"$f":"IF('Outil Recensement simplifié'!AJ88>0,'Outil Recensement simplifié'!AJ88,\"\")","v":""},{"$f":"IF('Outil Recensement simplifié'!AK88>0,'Outil Recensement simplifié'!AK88,\"\")","v":""},{"$f":"IF('Outil Recensement simplifié'!AL88>0,'Outil Recensement simplifié'!AL88,\"\")","v":""},{"$f":"IF('Outil Recensement simplifié'!AM88>0,'Outil Recensement simplifié'!AM88,\"\")","v":""},{"$f":"IF('Outil Recensement simplifié'!AN88=\"Homme\",\"Male\",IF('Outil Recensement simplifié'!AN88=\"Femme\",\"Female\",IF('Outil Recensement simplifié'!AN88=\"H\",\"Male\",IF('Outil Recensement simplifié'!AN88=\"F\",\"Female\",\"\"))))","v":""},{"$f":"IF('Outil Recensement simplifié'!AO88=\"Individuelle\",\"Single\",IF('Outil Recensement simplifié'!AO88=\"Famille\",\"Family\",IF('Outil Recensement simplifié'!AO88=\"Individuel\",\"Single\",IF('Outil Recensement simplifié'!AO88=\"Familiale\",\"Family\",IF('Outil Recensement simplifié'!AO88=\"I\",\"Single\",IF('Outil Recensement simplifié'!AO88=\"F\",\"Family\",\"\"))))))","v":""},{"$f":"IF('Outil Recensement simplifié'!AP88=\"Individuelle\",\"Single\",IF('Outil Recensement simplifié'!AP88=\"Famille\",\"Family\",IF('Outil Recensement simplifié'!AP88=\"Individuel\",\"Single\",IF('Outil Recensement simplifié'!AP88=\"Familiale\",\"Family\",IF('Outil Recensement simplifié'!AP88=\"I\",\"Single\",IF('Outil Recensement simplifié'!AP88=\"F\",\"Family\",\"\"))))))","v":""},{"$f":"IF('Outil Recensement simplifié'!AQ88>0,'Outil Recensement simplifié'!AQ88,\"\")","v":""},{"$f":"IF('Outil Recensement simplifié'!AR88=\"Oui\",\"Yes\",IF('Outil Recensement simplifié'!AR88=\"Non\",\"No\",IF('Outil Recensement simplifié'!AR88=\"O\",\"Yes\",IF('Outil Recensement simplifié'!AR88=\"N\",\"No\",\"\"))))","v":""},{"$f":"IF('Outil Recensement simplifié'!AS88>0,'Outil Recensement simplifié'!AS88,\"\")","v":""},{"$f":"IF('Outil Recensement simplifié'!AT88>0,'Outil Recensement simplifié'!AT88,\"\")","v":""},{"$f":"IF('Outil Recensement simplifié'!AU88>0,'Outil Recensement simplifié'!AU88,\"\")","v":""},{"$f":"IF('Outil Recensement simplifié'!AV88=\"Homme\",\"Male\",IF('Outil Recensement simplifié'!AV88=\"Femme\",\"Female\",IF('Outil Recensement simplifié'!AV88=\"H\",\"Male\",IF('Outil Recensement simplifié'!AV88=\"F\",\"Female\",\"\"))))","v":""},{"$f":"IF('Outil Recensement simplifié'!AW88=\"Oui\",\"Yes\",IF('Outil Recensement simplifié'!AW88=\"Non\",\"No\",IF('Outil Recensement simplifié'!AW88=\"O\",\"Yes\",IF('Outil Recensement simplifié'!AW88=\"N\",\"No\",\"\"))))","v":""},{"$f":"IF('Outil Recensement simplifié'!AX88=\"Oui\",\"Yes\",IF('Outil Recensement simplifié'!AX88=\"Non\",\"No\",IF('Outil Recensement simplifié'!AX88=\"O\",\"Yes\",IF('Outil Recensement simplifié'!AX88=\"N\",\"No\",\"\"))))","v":""},{"$f":"IF('Outil Recensement simplifié'!AY88>0,'Outil Recensement simplifié'!AY88,\"\")","v":""},{"$f":"IF('Outil Recensement simplifié'!AZ88>0,'Outil Recensement simplifié'!AZ88,\"\")","v":""},{"$f":"IF('Outil Recensement simplifié'!BA88>0,'Outil Recensement simplifié'!BA88,\"\")","v":""},{"$f":"IF('Outil Recensement simplifié'!BB88=\"Homme\",\"Male\",IF('Outil Recensement simplifié'!BB88=\"Femme\",\"Female\",IF('Outil Recensement simplifié'!BB88=\"H\",\"Male\",IF('Outil Recensement simplifié'!BB88=\"F\",\"Female\",\"\"))))","v":""},{"$f":"IF('Outil Recensement simplifié'!BC88=\"Oui\",\"Yes\",IF('Outil Recensement simplifié'!BC88=\"Non\",\"No\",IF('Outil Recensement simplifié'!BC88=\"O\",\"Yes\",IF('Outil Recensement simplifié'!BC88=\"N\",\"No\",\"\"))))","v":""},{"$f":"IF('Outil Recensement simplifié'!BD88=\"Oui\",\"Yes\",IF('Outil Recensement simplifié'!BD88=\"Non\",\"No\",IF('Outil Recensement simplifié'!BD88=\"O\",\"Yes\",IF('Outil Recensement simplifié'!BD88=\"N\",\"No\",\"\"))))","v":""},{"$f":"IF('Outil Recensement simplifié'!BE88>0,'Outil Recensement simplifié'!BE88,\"\")","v":""},{"$f":"IF('Outil Recensement simplifié'!BF88>0,'Outil Recensement simplifié'!BF88,\"\")","v":""},{"$f":"IF('Outil Recensement simplifié'!BG88>0,'Outil Recensement simplifié'!BG88,\"\")","v":""},{"$f":"IF('Outil Recensement simplifié'!BH88=\"Homme\",\"Male\",IF('Outil Recensement simplifié'!BH88=\"Femme\",\"Female\",IF('Outil Recensement simplifié'!BH88=\"H\",\"Male\",IF('Outil Recensement simplifié'!BH88=\"F\",\"Female\",\"\"))))","v":""},{"$f":"IF('Outil Recensement simplifié'!BI88=\"Oui\",\"Yes\",IF('Outil Recensement simplifié'!BI88=\"Non\",\"No\",IF('Outil Recensement simplifié'!BI88=\"O\",\"Yes\",IF('Outil Recensement simplifié'!BI88=\"N\",\"No\",\"\"))))","v":""},{"$f":"IF('Outil Recensement simplifié'!BJ88=\"Oui\",\"Yes\",IF('Outil Recensement simplifié'!BJ88=\"Non\",\"No\",IF('Outil Recensement simplifié'!BJ88=\"O\",\"Yes\",IF('Outil Recensement simplifié'!BJ88=\"N\",\"No\",\"\"))))","v":""},{"$f":"IF('Outil Recensement simplifié'!BK88>0,'Outil Recensement simplifié'!BK88,\"\")","v":""},{"$f":"IF('Outil Recensement simplifié'!BL88>0,'Outil Recensement simplifié'!BL88,\"\")","v":""},{"$f":"IF('Outil Recensement simplifié'!BM88>0,'Outil Recensement simplifié'!BM88,\"\")","v":""},{"$f":"IF('Outil Recensement simplifié'!BN88=\"Homme\",\"Male\",IF('Outil Recensement simplifié'!BN88=\"Femme\",\"Female\",IF('Outil Recensement simplifié'!BN88=\"H\",\"Male\",IF('Outil Recensement simplifié'!BN88=\"F\",\"Female\",\"\"))))","v":""},{"$f":"IF('Outil Recensement simplifié'!BO88=\"Oui\",\"Yes\",IF('Outil Recensement simplifié'!BO88=\"Non\",\"No\",IF('Outil Recensement simplifié'!BO88=\"O\",\"Yes\",IF('Outil Recensement simplifié'!BO88=\"N\",\"No\",\"\"))))","v":""},{"$f":"IF('Outil Recensement simplifié'!BP88=\"Oui\",\"Yes\",IF('Outil Recensement simplifié'!BP88=\"Non\",\"No\",IF('Outil Recensement simplifié'!BP88=\"O\",\"Yes\",IF('Outil Recensement simplifié'!BP88=\"N\",\"No\",\"\"))))","v":""},{"$f":"IF('Outil Recensement simplifié'!BQ88>0,'Outil Recensement simplifié'!BQ88,\"\")","v":""},{"$f":"IF('Outil Recensement simplifié'!BR88>0,'Outil Recensement simplifié'!BR88,\"\")","v":""},{"$f":"IF('Outil Recensement simplifié'!BS88>0,'Outil Recensement simplifié'!BS88,\"\")","v":""},{"$f":"IF('Outil Recensement simplifié'!BT88=\"Homme\",\"Male\",IF('Outil Recensement simplifié'!BT88=\"Femme\",\"Female\",IF('Outil Recensement simplifié'!BT88=\"H\",\"Male\",IF('Outil Recensement simplifié'!BT88=\"F\",\"Female\",\"\"))))","v":""},{"$f":"IF('Outil Recensement simplifié'!BU88=\"Oui\",\"Yes\",IF('Outil Recensement simplifié'!BU88=\"Non\",\"No\",IF('Outil Recensement simplifié'!BU88=\"O\",\"Yes\",IF('Outil Recensement simplifié'!BU88=\"N\",\"No\",\"\"))))","v":""},{"$f":"IF('Outil Recensement simplifié'!BV88=\"Oui\",\"Yes\",IF('Outil Recensement simplifié'!BV88=\"Non\",\"No\",IF('Outil Recensement simplifié'!BV88=\"O\",\"Yes\",IF('Outil Recensement simplifié'!BV88=\"N\",\"No\",\"\"))))","v":""},{"$f":"IF('Outil Recensement simplifié'!BW88>0,'Outil Recensement simplifié'!BW88,\"\")","v":""},{"$f":"IF('Outil Recensement simplifié'!BX88>0,'Outil Recensement simplifié'!BX88,\"\")","v":""},{"$f":"IF('Outil Recensement simplifié'!BY88>0,'Outil Recensement simplifié'!BY88,\"\")","v":""},{"$f":"IF('Outil Recensement simplifié'!BZ88=\"Homme\",\"Male\",IF('Outil Recensement simplifié'!BZ88=\"Femme\",\"Female\",IF('Outil Recensement simplifié'!BZ88=\"H\",\"Male\",IF('Outil Recensement simplifié'!BZ88=\"F\",\"Female\",\"\"))))","v":""},{"$f":"IF('Outil Recensement simplifié'!CA88=\"Oui\",\"Yes\",IF('Outil Recensement simplifié'!CA88=\"Non\",\"No\",IF('Outil Recensement simplifié'!CA88=\"O\",\"Yes\",IF('Outil Recensement simplifié'!CA88=\"N\",\"No\",\"\"))))","v":""},{"$f":"IF('Outil Recensement simplifié'!CB88=\"Oui\",\"Yes\",IF('Outil Recensement simplifié'!CB88=\"Non\",\"No\",IF('Outil Recensement simplifié'!CB88=\"O\",\"Yes\",IF('Outil Recensement simplifié'!CB88=\"N\",\"No\",\"\"))))","v":""},{"$f":"IF('Outil Recensement simplifié'!CH88>0,'Outil Recensement simplifié'!CH88,\"\")","v":"    "}]
[{"$f":"IF('Outil Recensement simplifié'!A89>0,'Outil Recensement simplifié'!A89,\"\")","v":""},{"$f":"IF('Outil Recensement simplifié'!B89>0,'Outil Recensement simplifié'!B89,\"\")","v":""},{"$f":"IF('Outil Recensement simplifié'!C89>0,'Outil Recensement simplifié'!C89,\"\")","v":""},{"$f":"IF('Outil Recensement simplifié'!D89>0,'Outil Recensement simplifié'!D89,\"\")","v":""},{"$f":"IF('Outil Recensement simplifié'!E89>0,TEXT('Outil Recensement simplifié'!E89,\"000\"),\"\")","v":""},{"$f":"IF('Outil Recensement simplifié'!F89>0,'Outil Recensement simplifié'!F89,\"\")","v":""},{"$f":"IF('Outil Recensement simplifié'!G89>0,'Outil Recensement simplifié'!G89,\"\")","v":""},{"$f":"IF('Outil Recensement simplifié'!I89>0,'Outil Recensement simplifié'!I89,\"\")","v":""},{"$f":"IF('Outil Recensement simplifié'!J89>0,'Outil Recensement simplifié'!J89,\"\")","v":""},{"$f":"IF('Outil Recensement simplifié'!K89>0,'Outil Recensement simplifié'!K89,\"\")","v":""},{"$f":"IF('Outil Recensement simplifié'!L89>0,'Outil Recensement simplifié'!L89,\"\")","v":""},{"$f":"IF('Outil Recensement simplifié'!M89=\"Homme\",\"Male\",IF('Outil Recensement simplifié'!M89=\"Femme\",\"Female\",IF('Outil Recensement simplifié'!M89=\"H\",\"Male\",IF('Outil Recensement simplifié'!M89=\"F\",\"Female\",\"\"))))","v":""},{"$f":"IF('Outil Recensement simplifié'!N89=\"Oui\",\"Yes\",IF('Outil Recensement simplifié'!N89=\"Non\",\"No\",IF('Outil Recensement simplifié'!N89=\"O\",\"Yes\",IF('Outil Recensement simplifié'!N89=\"N\",\"No\",\"\"))))","v":""},{"$f":"IF('Outil Recensement simplifié'!O89=\"Non\",\"Single\",IF('Outil Recensement simplifié'!O89=\"Oui\",\"Family\",IF('Outil Recensement simplifié'!O89=\"N\",\"Single\",IF('Outil Recensement simplifié'!O89=\"O\",\"Family\",IF('Outil Recensement simplifié'!O89=\"En vigueur\",\"Family\",\"\")))))","v":""},{"$f":"IF('Outil Recensement simplifié'!P89=\"Anglais\",\"English\",IF('Outil Recensement simplifié'!P89=\"Français\",\"French\",IF('Outil Recensement simplifié'!P89=\"A\",\"English\",IF('Outil Recensement simplifié'!P89=\"F\",\"French\",\"\"))))","v":""},{"$f":"IF('Outil Recensement simplifié'!Q89=\"Oui\",\"Yes\",IF('Outil Recensement simplifié'!Q89=\"Non\",\"No\",IF('Outil Recensement simplifié'!Q89=\"O\",\"Yes\",IF('Outil Recensement simplifié'!Q89=\"N\",\"No\",\"\"))))","v":""},{"$f":"IF('Outil Recensement simplifié'!R89>0,'Outil Recensement simplifié'!R89,\"\")","v":""},{"$f":"IF('Outil Recensement simplifié'!S89=\"Annuelle\",\"Annually\",IF('Outil Recensement simplifié'!S89=\"Mensuelle\",\"Monthly\",IF('Outil Recensement simplifié'!S89=\"Aux deux semaines\",\"Biweekly\",IF('Outil Recensement simplifié'!S89=\"Bimensuelle\",\"Semi-Monthly\",IF('Outil Recensement simplifié'!S89=\"Hebdomadaire\",\"Weekly\",IF('Outil Recensement simplifié'!S89=\"Horaire\",\"Hourly\",\"\"))))))","v":""},{"$f":"IF('Outil Recensement simplifié'!T89>0,'Outil Recensement simplifié'!T89,\"\")","v":""},{"$f":"IF('Outil Recensement simplifié'!U89>0,'Outil Recensement simplifié'!U89,\"\")","v":""},{"$f":"IF('Outil Recensement simplifié'!V89=\"Exemptée\",\"Yes\",\"\")","v":""},{"$f":"IF('Outil Recensement simplifié'!W89=\"Exemptée\",\"Yes\",\"\")","v":""},{"$f":"IF('Outil Recensement simplifié'!X89>0,'Outil Recensement simplifié'!X89,\"\")","v":""},{"$f":"IF('Outil Recensement simplifié'!Y89>0,'Outil Recensement simplifié'!Y89,\"\")","v":""},{"$f":"IF('Outil Recensement simplifié'!Z89>0,'Outil Recensement simplifié'!Z89,\"\")","v":""},{"$f":"IF('Outil Recensement simplifié'!AA89>0,'Outil Recensement simplifié'!AA89,\"\")","v":""},{"$f":"IF('Outil Recensement simplifié'!AB89>0,'Outil Recensement simplifié'!AB89,\"\")","v":""},{"$f":"IF('Outil Recensement simplifié'!AC89>0,'Outil Recensement simplifié'!AC89,\"\")","v":" "},{"$f":"IF('Outil Recensement simplifié'!AE89>0,'Outil Recensement simplifié'!AE89&\" \",\"\")&IF('Outil Recensement simplifié'!AD89>0,'Outil Recensement simplifié'!AD89,\"\")","v":""},null,{"$f":"IF('Outil Recensement simplifié'!AF89>0,'Outil Recensement simplifié'!AF89,\"\")","v":""},{"$f":"IF('Outil Recensement simplifié'!AG89>0,'Outil Recensement simplifié'!AG89,\"\")","v":""},{"$f":"IF('Outil Recensement simplifié'!AH89>0,'Outil Recensement simplifié'!AH89,\"\")","v":""},{"$f":"IF('Outil Recensement simplifié'!AI89>0,'Outil Recensement simplifié'!AI89,\"\")","v":""},{"$f":"IF('Outil Recensement simplifié'!AJ89>0,'Outil Recensement simplifié'!AJ89,\"\")","v":""},{"$f":"IF('Outil Recensement simplifié'!AK89>0,'Outil Recensement simplifié'!AK89,\"\")","v":""},{"$f":"IF('Outil Recensement simplifié'!AL89>0,'Outil Recensement simplifié'!AL89,\"\")","v":""},{"$f":"IF('Outil Recensement simplifié'!AM89>0,'Outil Recensement simplifié'!AM89,\"\")","v":""},{"$f":"IF('Outil Recensement simplifié'!AN89=\"Homme\",\"Male\",IF('Outil Recensement simplifié'!AN89=\"Femme\",\"Female\",IF('Outil Recensement simplifié'!AN89=\"H\",\"Male\",IF('Outil Recensement simplifié'!AN89=\"F\",\"Female\",\"\"))))","v":""},{"$f":"IF('Outil Recensement simplifié'!AO89=\"Individuelle\",\"Single\",IF('Outil Recensement simplifié'!AO89=\"Famille\",\"Family\",IF('Outil Recensement simplifié'!AO89=\"Individuel\",\"Single\",IF('Outil Recensement simplifié'!AO89=\"Familiale\",\"Family\",IF('Outil Recensement simplifié'!AO89=\"I\",\"Single\",IF('Outil Recensement simplifié'!AO89=\"F\",\"Family\",\"\"))))))","v":""},{"$f":"IF('Outil Recensement simplifié'!AP89=\"Individuelle\",\"Single\",IF('Outil Recensement simplifié'!AP89=\"Famille\",\"Family\",IF('Outil Recensement simplifié'!AP89=\"Individuel\",\"Single\",IF('Outil Recensement simplifié'!AP89=\"Familiale\",\"Family\",IF('Outil Recensement simplifié'!AP89=\"I\",\"Single\",IF('Outil Recensement simplifié'!AP89=\"F\",\"Family\",\"\"))))))","v":""},{"$f":"IF('Outil Recensement simplifié'!AQ89>0,'Outil Recensement simplifié'!AQ89,\"\")","v":""},{"$f":"IF('Outil Recensement simplifié'!AR89=\"Oui\",\"Yes\",IF('Outil Recensement simplifié'!AR89=\"Non\",\"No\",IF('Outil Recensement simplifié'!AR89=\"O\",\"Yes\",IF('Outil Recensement simplifié'!AR89=\"N\",\"No\",\"\"))))","v":""},{"$f":"IF('Outil Recensement simplifié'!AS89>0,'Outil Recensement simplifié'!AS89,\"\")","v":""},{"$f":"IF('Outil Recensement simplifié'!AT89>0,'Outil Recensement simplifié'!AT89,\"\")","v":""},{"$f":"IF('Outil Recensement simplifié'!AU89>0,'Outil Recensement simplifié'!AU89,\"\")","v":""},{"$f":"IF('Outil Recensement simplifié'!AV89=\"Homme\",\"Male\",IF('Outil Recensement simplifié'!AV89=\"Femme\",\"Female\",IF('Outil Recensement simplifié'!AV89=\"H\",\"Male\",IF('Outil Recensement simplifié'!AV89=\"F\",\"Female\",\"\"))))","v":""},{"$f":"IF('Outil Recensement simplifié'!AW89=\"Oui\",\"Yes\",IF('Outil Recensement simplifié'!AW89=\"Non\",\"No\",IF('Outil Recensement simplifié'!AW89=\"O\",\"Yes\",IF('Outil Recensement simplifié'!AW89=\"N\",\"No\",\"\"))))","v":""},{"$f":"IF('Outil Recensement simplifié'!AX89=\"Oui\",\"Yes\",IF('Outil Recensement simplifié'!AX89=\"Non\",\"No\",IF('Outil Recensement simplifié'!AX89=\"O\",\"Yes\",IF('Outil Recensement simplifié'!AX89=\"N\",\"No\",\"\"))))","v":""},{"$f":"IF('Outil Recensement simplifié'!AY89>0,'Outil Recensement simplifié'!AY89,\"\")","v":""},{"$f":"IF('Outil Recensement simplifié'!AZ89>0,'Outil Recensement simplifié'!AZ89,\"\")","v":""},{"$f":"IF('Outil Recensement simplifié'!BA89>0,'Outil Recensement simplifié'!BA89,\"\")","v":""},{"$f":"IF('Outil Recensement simplifié'!BB89=\"Homme\",\"Male\",IF('Outil Recensement simplifié'!BB89=\"Femme\",\"Female\",IF('Outil Recensement simplifié'!BB89=\"H\",\"Male\",IF('Outil Recensement simplifié'!BB89=\"F\",\"Female\",\"\"))))","v":""},{"$f":"IF('Outil Recensement simplifié'!BC89=\"Oui\",\"Yes\",IF('Outil Recensement simplifié'!BC89=\"Non\",\"No\",IF('Outil Recensement simplifié'!BC89=\"O\",\"Yes\",IF('Outil Recensement simplifié'!BC89=\"N\",\"No\",\"\"))))","v":""},{"$f":"IF('Outil Recensement simplifié'!BD89=\"Oui\",\"Yes\",IF('Outil Recensement simplifié'!BD89=\"Non\",\"No\",IF('Outil Recensement simplifié'!BD89=\"O\",\"Yes\",IF('Outil Recensement simplifié'!BD89=\"N\",\"No\",\"\"))))","v":""},{"$f":"IF('Outil Recensement simplifié'!BE89>0,'Outil Recensement simplifié'!BE89,\"\")","v":""},{"$f":"IF('Outil Recensement simplifié'!BF89>0,'Outil Recensement simplifié'!BF89,\"\")","v":""},{"$f":"IF('Outil Recensement simplifié'!BG89>0,'Outil Recensement simplifié'!BG89,\"\")","v":""},{"$f":"IF('Outil Recensement simplifié'!BH89=\"Homme\",\"Male\",IF('Outil Recensement simplifié'!BH89=\"Femme\",\"Female\",IF('Outil Recensement simplifié'!BH89=\"H\",\"Male\",IF('Outil Recensement simplifié'!BH89=\"F\",\"Female\",\"\"))))","v":""},{"$f":"IF('Outil Recensement simplifié'!BI89=\"Oui\",\"Yes\",IF('Outil Recensement simplifié'!BI89=\"Non\",\"No\",IF('Outil Recensement simplifié'!BI89=\"O\",\"Yes\",IF('Outil Recensement simplifié'!BI89=\"N\",\"No\",\"\"))))","v":""},{"$f":"IF('Outil Recensement simplifié'!BJ89=\"Oui\",\"Yes\",IF('Outil Recensement simplifié'!BJ89=\"Non\",\"No\",IF('Outil Recensement simplifié'!BJ89=\"O\",\"Yes\",IF('Outil Recensement simplifié'!BJ89=\"N\",\"No\",\"\"))))","v":""},{"$f":"IF('Outil Recensement simplifié'!BK89>0,'Outil Recensement simplifié'!BK89,\"\")","v":""},{"$f":"IF('Outil Recensement simplifié'!BL89>0,'Outil Recensement simplifié'!BL89,\"\")","v":""},{"$f":"IF('Outil Recensement simplifié'!BM89>0,'Outil Recensement simplifié'!BM89,\"\")","v":""},{"$f":"IF('Outil Recensement simplifié'!BN89=\"Homme\",\"Male\",IF('Outil Recensement simplifié'!BN89=\"Femme\",\"Female\",IF('Outil Recensement simplifié'!BN89=\"H\",\"Male\",IF('Outil Recensement simplifié'!BN89=\"F\",\"Female\",\"\"))))","v":""},{"$f":"IF('Outil Recensement simplifié'!BO89=\"Oui\",\"Yes\",IF('Outil Recensement simplifié'!BO89=\"Non\",\"No\",IF('Outil Recensement simplifié'!BO89=\"O\",\"Yes\",IF('Outil Recensement simplifié'!BO89=\"N\",\"No\",\"\"))))","v":""},{"$f":"IF('Outil Recensement simplifié'!BP89=\"Oui\",\"Yes\",IF('Outil Recensement simplifié'!BP89=\"Non\",\"No\",IF('Outil Recensement simplifié'!BP89=\"O\",\"Yes\",IF('Outil Recensement simplifié'!BP89=\"N\",\"No\",\"\"))))","v":""},{"$f":"IF('Outil Recensement simplifié'!BQ89>0,'Outil Recensement simplifié'!BQ89,\"\")","v":""},{"$f":"IF('Outil Recensement simplifié'!BR89>0,'Outil Recensement simplifié'!BR89,\"\")","v":""},{"$f":"IF('Outil Recensement simplifié'!BS89>0,'Outil Recensement simplifié'!BS89,\"\")","v":""},{"$f":"IF('Outil Recensement simplifié'!BT89=\"Homme\",\"Male\",IF('Outil Recensement simplifié'!BT89=\"Femme\",\"Female\",IF('Outil Recensement simplifié'!BT89=\"H\",\"Male\",IF('Outil Recensement simplifié'!BT89=\"F\",\"Female\",\"\"))))","v":""},{"$f":"IF('Outil Recensement simplifié'!BU89=\"Oui\",\"Yes\",IF('Outil Recensement simplifié'!BU89=\"Non\",\"No\",IF('Outil Recensement simplifié'!BU89=\"O\",\"Yes\",IF('Outil Recensement simplifié'!BU89=\"N\",\"No\",\"\"))))","v":""},{"$f":"IF('Outil Recensement simplifié'!BV89=\"Oui\",\"Yes\",IF('Outil Recensement simplifié'!BV89=\"Non\",\"No\",IF('Outil Recensement simplifié'!BV89=\"O\",\"Yes\",IF('Outil Recensement simplifié'!BV89=\"N\",\"No\",\"\"))))","v":""},{"$f":"IF('Outil Recensement simplifié'!BW89>0,'Outil Recensement simplifié'!BW89,\"\")","v":""},{"$f":"IF('Outil Recensement simplifié'!BX89>0,'Outil Recensement simplifié'!BX89,\"\")","v":""},{"$f":"IF('Outil Recensement simplifié'!BY89>0,'Outil Recensement simplifié'!BY89,\"\")","v":""},{"$f":"IF('Outil Recensement simplifié'!BZ89=\"Homme\",\"Male\",IF('Outil Recensement simplifié'!BZ89=\"Femme\",\"Female\",IF('Outil Recensement simplifié'!BZ89=\"H\",\"Male\",IF('Outil Recensement simplifié'!BZ89=\"F\",\"Female\",\"\"))))","v":""},{"$f":"IF('Outil Recensement simplifié'!CA89=\"Oui\",\"Yes\",IF('Outil Recensement simplifié'!CA89=\"Non\",\"No\",IF('Outil Recensement simplifié'!CA89=\"O\",\"Yes\",IF('Outil Recensement simplifié'!CA89=\"N\",\"No\",\"\"))))","v":""},{"$f":"IF('Outil Recensement simplifié'!CB89=\"Oui\",\"Yes\",IF('Outil Recensement simplifié'!CB89=\"Non\",\"No\",IF('Outil Recensement simplifié'!CB89=\"O\",\"Yes\",IF('Outil Recensement simplifié'!CB89=\"N\",\"No\",\"\"))))","v":""},{"$f":"IF('Outil Recensement simplifié'!CH89>0,'Outil Recensement simplifié'!CH89,\"\")","v":"    "}]
[{"$f":"IF('Outil Recensement simplifié'!A90>0,'Outil Recensement simplifié'!A90,\"\")","v":""},{"$f":"IF('Outil Recensement simplifié'!B90>0,'Outil Recensement simplifié'!B90,\"\")","v":""},{"$f":"IF('Outil Recensement simplifié'!C90>0,'Outil Recensement simplifié'!C90,\"\")","v":""},{"$f":"IF('Outil Recensement simplifié'!D90>0,'Outil Recensement simplifié'!D90,\"\")","v":""},{"$f":"IF('Outil Recensement simplifié'!E90>0,TEXT('Outil Recensement simplifié'!E90,\"000\"),\"\")","v":""},{"$f":"IF('Outil Recensement simplifié'!F90>0,'Outil Recensement simplifié'!F90,\"\")","v":""},{"$f":"IF('Outil Recensement simplifié'!G90>0,'Outil Recensement simplifié'!G90,\"\")","v":""},{"$f":"IF('Outil Recensement simplifié'!I90>0,'Outil Recensement simplifié'!I90,\"\")","v":""},{"$f":"IF('Outil Recensement simplifié'!J90>0,'Outil Recensement simplifié'!J90,\"\")","v":""},{"$f":"IF('Outil Recensement simplifié'!K90>0,'Outil Recensement simplifié'!K90,\"\")","v":""},{"$f":"IF('Outil Recensement simplifié'!L90>0,'Outil Recensement simplifié'!L90,\"\")","v":""},{"$f":"IF('Outil Recensement simplifié'!M90=\"Homme\",\"Male\",IF('Outil Recensement simplifié'!M90=\"Femme\",\"Female\",IF('Outil Recensement simplifié'!M90=\"H\",\"Male\",IF('Outil Recensement simplifié'!M90=\"F\",\"Female\",\"\"))))","v":""},{"$f":"IF('Outil Recensement simplifié'!N90=\"Oui\",\"Yes\",IF('Outil Recensement simplifié'!N90=\"Non\",\"No\",IF('Outil Recensement simplifié'!N90=\"O\",\"Yes\",IF('Outil Recensement simplifié'!N90=\"N\",\"No\",\"\"))))","v":""},{"$f":"IF('Outil Recensement simplifié'!O90=\"Non\",\"Single\",IF('Outil Recensement simplifié'!O90=\"Oui\",\"Family\",IF('Outil Recensement simplifié'!O90=\"N\",\"Single\",IF('Outil Recensement simplifié'!O90=\"O\",\"Family\",IF('Outil Recensement simplifié'!O90=\"En vigueur\",\"Family\",\"\")))))","v":""},{"$f":"IF('Outil Recensement simplifié'!P90=\"Anglais\",\"English\",IF('Outil Recensement simplifié'!P90=\"Français\",\"French\",IF('Outil Recensement simplifié'!P90=\"A\",\"English\",IF('Outil Recensement simplifié'!P90=\"F\",\"French\",\"\"))))","v":""},{"$f":"IF('Outil Recensement simplifié'!Q90=\"Oui\",\"Yes\",IF('Outil Recensement simplifié'!Q90=\"Non\",\"No\",IF('Outil Recensement simplifié'!Q90=\"O\",\"Yes\",IF('Outil Recensement simplifié'!Q90=\"N\",\"No\",\"\"))))","v":""},{"$f":"IF('Outil Recensement simplifié'!R90>0,'Outil Recensement simplifié'!R90,\"\")","v":""},{"$f":"IF('Outil Recensement simplifié'!S90=\"Annuelle\",\"Annually\",IF('Outil Recensement simplifié'!S90=\"Mensuelle\",\"Monthly\",IF('Outil Recensement simplifié'!S90=\"Aux deux semaines\",\"Biweekly\",IF('Outil Recensement simplifié'!S90=\"Bimensuelle\",\"Semi-Monthly\",IF('Outil Recensement simplifié'!S90=\"Hebdomadaire\",\"Weekly\",IF('Outil Recensement simplifié'!S90=\"Horaire\",\"Hourly\",\"\"))))))","v":""},{"$f":"IF('Outil Recensement simplifié'!T90>0,'Outil Recensement simplifié'!T90,\"\")","v":""},{"$f":"IF('Outil Recensement simplifié'!U90>0,'Outil Recensement simplifié'!U90,\"\")","v":""},{"$f":"IF('Outil Recensement simplifié'!V90=\"Exemptée\",\"Yes\",\"\")","v":""},{"$f":"IF('Outil Recensement simplifié'!W90=\"Exemptée\",\"Yes\",\"\")","v":""},{"$f":"IF('Outil Recensement simplifié'!X90>0,'Outil Recensement simplifié'!X90,\"\")","v":""},{"$f":"IF('Outil Recensement simplifié'!Y90>0,'Outil Recensement simplifié'!Y90,\"\")","v":""},{"$f":"IF('Outil Recensement simplifié'!Z90>0,'Outil Recensement simplifié'!Z90,\"\")","v":""},{"$f":"IF('Outil Recensement simplifié'!AA90>0,'Outil Recensement simplifié'!AA90,\"\")","v":""},{"$f":"IF('Outil Recensement simplifié'!AB90>0,'Outil Recensement simplifié'!AB90,\"\")","v":""},{"$f":"IF('Outil Recensement simplifié'!AC90>0,'Outil Recensement simplifié'!AC90,\"\")","v":" "},{"$f":"IF('Outil Recensement simplifié'!AE90>0,'Outil Recensement simplifié'!AE90&\" \",\"\")&IF('Outil Recensement simplifié'!AD90>0,'Outil Recensement simplifié'!AD90,\"\")","v":""},null,{"$f":"IF('Outil Recensement simplifié'!AF90>0,'Outil Recensement simplifié'!AF90,\"\")","v":""},{"$f":"IF('Outil Recensement simplifié'!AG90>0,'Outil Recensement simplifié'!AG90,\"\")","v":""},{"$f":"IF('Outil Recensement simplifié'!AH90>0,'Outil Recensement simplifié'!AH90,\"\")","v":""},{"$f":"IF('Outil Recensement simplifié'!AI90>0,'Outil Recensement simplifié'!AI90,\"\")","v":""},{"$f":"IF('Outil Recensement simplifié'!AJ90>0,'Outil Recensement simplifié'!AJ90,\"\")","v":""},{"$f":"IF('Outil Recensement simplifié'!AK90>0,'Outil Recensement simplifié'!AK90,\"\")","v":""},{"$f":"IF('Outil Recensement simplifié'!AL90>0,'Outil Recensement simplifié'!AL90,\"\")","v":""},{"$f":"IF('Outil Recensement simplifié'!AM90>0,'Outil Recensement simplifié'!AM90,\"\")","v":""},{"$f":"IF('Outil Recensement simplifié'!AN90=\"Homme\",\"Male\",IF('Outil Recensement simplifié'!AN90=\"Femme\",\"Female\",IF('Outil Recensement simplifié'!AN90=\"H\",\"Male\",IF('Outil Recensement simplifié'!AN90=\"F\",\"Female\",\"\"))))","v":""},{"$f":"IF('Outil Recensement simplifié'!AO90=\"Individuelle\",\"Single\",IF('Outil Recensement simplifié'!AO90=\"Famille\",\"Family\",IF('Outil Recensement simplifié'!AO90=\"Individuel\",\"Single\",IF('Outil Recensement simplifié'!AO90=\"Familiale\",\"Family\",IF('Outil Recensement simplifié'!AO90=\"I\",\"Single\",IF('Outil Recensement simplifié'!AO90=\"F\",\"Family\",\"\"))))))","v":""},{"$f":"IF('Outil Recensement simplifié'!AP90=\"Individuelle\",\"Single\",IF('Outil Recensement simplifié'!AP90=\"Famille\",\"Family\",IF('Outil Recensement simplifié'!AP90=\"Individuel\",\"Single\",IF('Outil Recensement simplifié'!AP90=\"Familiale\",\"Family\",IF('Outil Recensement simplifié'!AP90=\"I\",\"Single\",IF('Outil Recensement simplifié'!AP90=\"F\",\"Family\",\"\"))))))","v":""},{"$f":"IF('Outil Recensement simplifié'!AQ90>0,'Outil Recensement simplifié'!AQ90,\"\")","v":""},{"$f":"IF('Outil Recensement simplifié'!AR90=\"Oui\",\"Yes\",IF('Outil Recensement simplifié'!AR90=\"Non\",\"No\",IF('Outil Recensement simplifié'!AR90=\"O\",\"Yes\",IF('Outil Recensement simplifié'!AR90=\"N\",\"No\",\"\"))))","v":""},{"$f":"IF('Outil Recensement simplifié'!AS90>0,'Outil Recensement simplifié'!AS90,\"\")","v":""},{"$f":"IF('Outil Recensement simplifié'!AT90>0,'Outil Recensement simplifié'!AT90,\"\")","v":""},{"$f":"IF('Outil Recensement simplifié'!AU90>0,'Outil Recensement simplifié'!AU90,\"\")","v":""},{"$f":"IF('Outil Recensement simplifié'!AV90=\"Homme\",\"Male\",IF('Outil Recensement simplifié'!AV90=\"Femme\",\"Female\",IF('Outil Recensement simplifié'!AV90=\"H\",\"Male\",IF('Outil Recensement simplifié'!AV90=\"F\",\"Female\",\"\"))))","v":""},{"$f":"IF('Outil Recensement simplifié'!AW90=\"Oui\",\"Yes\",IF('Outil Recensement simplifié'!AW90=\"Non\",\"No\",IF('Outil Recensement simplifié'!AW90=\"O\",\"Yes\",IF('Outil Recensement simplifié'!AW90=\"N\",\"No\",\"\"))))","v":""},{"$f":"IF('Outil Recensement simplifié'!AX90=\"Oui\",\"Yes\",IF('Outil Recensement simplifié'!AX90=\"Non\",\"No\",IF('Outil Recensement simplifié'!AX90=\"O\",\"Yes\",IF('Outil Recensement simplifié'!AX90=\"N\",\"No\",\"\"))))","v":""},{"$f":"IF('Outil Recensement simplifié'!AY90>0,'Outil Recensement simplifié'!AY90,\"\")","v":""},{"$f":"IF('Outil Recensement simplifié'!AZ90>0,'Outil Recensement simplifié'!AZ90,\"\")","v":""},{"$f":"IF('Outil Recensement simplifié'!BA90>0,'Outil Recensement simplifié'!BA90,\"\")","v":""},{"$f":"IF('Outil Recensement simplifié'!BB90=\"Homme\",\"Male\",IF('Outil Recensement simplifié'!BB90=\"Femme\",\"Female\",IF('Outil Recensement simplifié'!BB90=\"H\",\"Male\",IF('Outil Recensement simplifié'!BB90=\"F\",\"Female\",\"\"))))","v":""},{"$f":"IF('Outil Recensement simplifié'!BC90=\"Oui\",\"Yes\",IF('Outil Recensement simplifié'!BC90=\"Non\",\"No\",IF('Outil Recensement simplifié'!BC90=\"O\",\"Yes\",IF('Outil Recensement simplifié'!BC90=\"N\",\"No\",\"\"))))","v":""},{"$f":"IF('Outil Recensement simplifié'!BD90=\"Oui\",\"Yes\",IF('Outil Recensement simplifié'!BD90=\"Non\",\"No\",IF('Outil Recensement simplifié'!BD90=\"O\",\"Yes\",IF('Outil Recensement simplifié'!BD90=\"N\",\"No\",\"\"))))","v":""},{"$f":"IF('Outil Recensement simplifié'!BE90>0,'Outil Recensement simplifié'!BE90,\"\")","v":""},{"$f":"IF('Outil Recensement simplifié'!BF90>0,'Outil Recensement simplifié'!BF90,\"\")","v":""},{"$f":"IF('Outil Recensement simplifié'!BG90>0,'Outil Recensement simplifié'!BG90,\"\")","v":""},{"$f":"IF('Outil Recensement simplifié'!BH90=\"Homme\",\"Male\",IF('Outil Recensement simplifié'!BH90=\"Femme\",\"Female\",IF('Outil Recensement simplifié'!BH90=\"H\",\"Male\",IF('Outil Recensement simplifié'!BH90=\"F\",\"Female\",\"\"))))","v":""},{"$f":"IF('Outil Recensement simplifié'!BI90=\"Oui\",\"Yes\",IF('Outil Recensement simplifié'!BI90=\"Non\",\"No\",IF('Outil Recensement simplifié'!BI90=\"O\",\"Yes\",IF('Outil Recensement simplifié'!BI90=\"N\",\"No\",\"\"))))","v":""},{"$f":"IF('Outil Recensement simplifié'!BJ90=\"Oui\",\"Yes\",IF('Outil Recensement simplifié'!BJ90=\"Non\",\"No\",IF('Outil Recensement simplifié'!BJ90=\"O\",\"Yes\",IF('Outil Recensement simplifié'!BJ90=\"N\",\"No\",\"\"))))","v":""},{"$f":"IF('Outil Recensement simplifié'!BK90>0,'Outil Recensement simplifié'!BK90,\"\")","v":""},{"$f":"IF('Outil Recensement simplifié'!BL90>0,'Outil Recensement simplifié'!BL90,\"\")","v":""},{"$f":"IF('Outil Recensement simplifié'!BM90>0,'Outil Recensement simplifié'!BM90,\"\")","v":""},{"$f":"IF('Outil Recensement simplifié'!BN90=\"Homme\",\"Male\",IF('Outil Recensement simplifié'!BN90=\"Femme\",\"Female\",IF('Outil Recensement simplifié'!BN90=\"H\",\"Male\",IF('Outil Recensement simplifié'!BN90=\"F\",\"Female\",\"\"))))","v":""},{"$f":"IF('Outil Recensement simplifié'!BO90=\"Oui\",\"Yes\",IF('Outil Recensement simplifié'!BO90=\"Non\",\"No\",IF('Outil Recensement simplifié'!BO90=\"O\",\"Yes\",IF('Outil Recensement simplifié'!BO90=\"N\",\"No\",\"\"))))","v":""},{"$f":"IF('Outil Recensement simplifié'!BP90=\"Oui\",\"Yes\",IF('Outil Recensement simplifié'!BP90=\"Non\",\"No\",IF('Outil Recensement simplifié'!BP90=\"O\",\"Yes\",IF('Outil Recensement simplifié'!BP90=\"N\",\"No\",\"\"))))","v":""},{"$f":"IF('Outil Recensement simplifié'!BQ90>0,'Outil Recensement simplifié'!BQ90,\"\")","v":""},{"$f":"IF('Outil Recensement simplifié'!BR90>0,'Outil Recensement simplifié'!BR90,\"\")","v":""},{"$f":"IF('Outil Recensement simplifié'!BS90>0,'Outil Recensement simplifié'!BS90,\"\")","v":""},{"$f":"IF('Outil Recensement simplifié'!BT90=\"Homme\",\"Male\",IF('Outil Recensement simplifié'!BT90=\"Femme\",\"Female\",IF('Outil Recensement simplifié'!BT90=\"H\",\"Male\",IF('Outil Recensement simplifié'!BT90=\"F\",\"Female\",\"\"))))","v":""},{"$f":"IF('Outil Recensement simplifié'!BU90=\"Oui\",\"Yes\",IF('Outil Recensement simplifié'!BU90=\"Non\",\"No\",IF('Outil Recensement simplifié'!BU90=\"O\",\"Yes\",IF('Outil Recensement simplifié'!BU90=\"N\",\"No\",\"\"))))","v":""},{"$f":"IF('Outil Recensement simplifié'!BV90=\"Oui\",\"Yes\",IF('Outil Recensement simplifié'!BV90=\"Non\",\"No\",IF('Outil Recensement simplifié'!BV90=\"O\",\"Yes\",IF('Outil Recensement simplifié'!BV90=\"N\",\"No\",\"\"))))","v":""},{"$f":"IF('Outil Recensement simplifié'!BW90>0,'Outil Recensement simplifié'!BW90,\"\")","v":""},{"$f":"IF('Outil Recensement simplifié'!BX90>0,'Outil Recensement simplifié'!BX90,\"\")","v":""},{"$f":"IF('Outil Recensement simplifié'!BY90>0,'Outil Recensement simplifié'!BY90,\"\")","v":""},{"$f":"IF('Outil Recensement simplifié'!BZ90=\"Homme\",\"Male\",IF('Outil Recensement simplifié'!BZ90=\"Femme\",\"Female\",IF('Outil Recensement simplifié'!BZ90=\"H\",\"Male\",IF('Outil Recensement simplifié'!BZ90=\"F\",\"Female\",\"\"))))","v":""},{"$f":"IF('Outil Recensement simplifié'!CA90=\"Oui\",\"Yes\",IF('Outil Recensement simplifié'!CA90=\"Non\",\"No\",IF('Outil Recensement simplifié'!CA90=\"O\",\"Yes\",IF('Outil Recensement simplifié'!CA90=\"N\",\"No\",\"\"))))","v":""},{"$f":"IF('Outil Recensement simplifié'!CB90=\"Oui\",\"Yes\",IF('Outil Recensement simplifié'!CB90=\"Non\",\"No\",IF('Outil Recensement simplifié'!CB90=\"O\",\"Yes\",IF('Outil Recensement simplifié'!CB90=\"N\",\"No\",\"\"))))","v":""},{"$f":"IF('Outil Recensement simplifié'!CH90>0,'Outil Recensement simplifié'!CH90,\"\")","v":"    "}]
[{"$f":"IF('Outil Recensement simplifié'!A91>0,'Outil Recensement simplifié'!A91,\"\")","v":""},{"$f":"IF('Outil Recensement simplifié'!B91>0,'Outil Recensement simplifié'!B91,\"\")","v":""},{"$f":"IF('Outil Recensement simplifié'!C91>0,'Outil Recensement simplifié'!C91,\"\")","v":""},{"$f":"IF('Outil Recensement simplifié'!D91>0,'Outil Recensement simplifié'!D91,\"\")","v":""},{"$f":"IF('Outil Recensement simplifié'!E91>0,TEXT('Outil Recensement simplifié'!E91,\"000\"),\"\")","v":""},{"$f":"IF('Outil Recensement simplifié'!F91>0,'Outil Recensement simplifié'!F91,\"\")","v":""},{"$f":"IF('Outil Recensement simplifié'!G91>0,'Outil Recensement simplifié'!G91,\"\")","v":""},{"$f":"IF('Outil Recensement simplifié'!I91>0,'Outil Recensement simplifié'!I91,\"\")","v":""},{"$f":"IF('Outil Recensement simplifié'!J91>0,'Outil Recensement simplifié'!J91,\"\")","v":""},{"$f":"IF('Outil Recensement simplifié'!K91>0,'Outil Recensement simplifié'!K91,\"\")","v":""},{"$f":"IF('Outil Recensement simplifié'!L91>0,'Outil Recensement simplifié'!L91,\"\")","v":""},{"$f":"IF('Outil Recensement simplifié'!M91=\"Homme\",\"Male\",IF('Outil Recensement simplifié'!M91=\"Femme\",\"Female\",IF('Outil Recensement simplifié'!M91=\"H\",\"Male\",IF('Outil Recensement simplifié'!M91=\"F\",\"Female\",\"\"))))","v":""},{"$f":"IF('Outil Recensement simplifié'!N91=\"Oui\",\"Yes\",IF('Outil Recensement simplifié'!N91=\"Non\",\"No\",IF('Outil Recensement simplifié'!N91=\"O\",\"Yes\",IF('Outil Recensement simplifié'!N91=\"N\",\"No\",\"\"))))","v":""},{"$f":"IF('Outil Recensement simplifié'!O91=\"Non\",\"Single\",IF('Outil Recensement simplifié'!O91=\"Oui\",\"Family\",IF('Outil Recensement simplifié'!O91=\"N\",\"Single\",IF('Outil Recensement simplifié'!O91=\"O\",\"Family\",IF('Outil Recensement simplifié'!O91=\"En vigueur\",\"Family\",\"\")))))","v":""},{"$f":"IF('Outil Recensement simplifié'!P91=\"Anglais\",\"English\",IF('Outil Recensement simplifié'!P91=\"Français\",\"French\",IF('Outil Recensement simplifié'!P91=\"A\",\"English\",IF('Outil Recensement simplifié'!P91=\"F\",\"French\",\"\"))))","v":""},{"$f":"IF('Outil Recensement simplifié'!Q91=\"Oui\",\"Yes\",IF('Outil Recensement simplifié'!Q91=\"Non\",\"No\",IF('Outil Recensement simplifié'!Q91=\"O\",\"Yes\",IF('Outil Recensement simplifié'!Q91=\"N\",\"No\",\"\"))))","v":""},{"$f":"IF('Outil Recensement simplifié'!R91>0,'Outil Recensement simplifié'!R91,\"\")","v":""},{"$f":"IF('Outil Recensement simplifié'!S91=\"Annuelle\",\"Annually\",IF('Outil Recensement simplifié'!S91=\"Mensuelle\",\"Monthly\",IF('Outil Recensement simplifié'!S91=\"Aux deux semaines\",\"Biweekly\",IF('Outil Recensement simplifié'!S91=\"Bimensuelle\",\"Semi-Monthly\",IF('Outil Recensement simplifié'!S91=\"Hebdomadaire\",\"Weekly\",IF('Outil Recensement simplifié'!S91=\"Horaire\",\"Hourly\",\"\"))))))","v":""},{"$f":"IF('Outil Recensement simplifié'!T91>0,'Outil Recensement simplifié'!T91,\"\")","v":""},{"$f":"IF('Outil Recensement simplifié'!U91>0,'Outil Recensement simplifié'!U91,\"\")","v":""},{"$f":"IF('Outil Recensement simplifié'!V91=\"Exemptée\",\"Yes\",\"\")","v":""},{"$f":"IF('Outil Recensement simplifié'!W91=\"Exemptée\",\"Yes\",\"\")","v":""},{"$f":"IF('Outil Recensement simplifié'!X91>0,'Outil Recensement simplifié'!X91,\"\")","v":""},{"$f":"IF('Outil Recensement simplifié'!Y91>0,'Outil Recensement simplifié'!Y91,\"\")","v":""},{"$f":"IF('Outil Recensement simplifié'!Z91>0,'Outil Recensement simplifié'!Z91,\"\")","v":""},{"$f":"IF('Outil Recensement simplifié'!AA91>0,'Outil Recensement simplifié'!AA91,\"\")","v":""},{"$f":"IF('Outil Recensement simplifié'!AB91>0,'Outil Recensement simplifié'!AB91,\"\")","v":""},{"$f":"IF('Outil Recensement simplifié'!AC91>0,'Outil Recensement simplifié'!AC91,\"\")","v":" "},{"$f":"IF('Outil Recensement simplifié'!AE91>0,'Outil Recensement simplifié'!AE91&\" \",\"\")&IF('Outil Recensement simplifié'!AD91>0,'Outil Recensement simplifié'!AD91,\"\")","v":""},null,{"$f":"IF('Outil Recensement simplifié'!AF91>0,'Outil Recensement simplifié'!AF91,\"\")","v":""},{"$f":"IF('Outil Recensement simplifié'!AG91>0,'Outil Recensement simplifié'!AG91,\"\")","v":""},{"$f":"IF('Outil Recensement simplifié'!AH91>0,'Outil Recensement simplifié'!AH91,\"\")","v":""},{"$f":"IF('Outil Recensement simplifié'!AI91>0,'Outil Recensement simplifié'!AI91,\"\")","v":""},{"$f":"IF('Outil Recensement simplifié'!AJ91>0,'Outil Recensement simplifié'!AJ91,\"\")","v":""},{"$f":"IF('Outil Recensement simplifié'!AK91>0,'Outil Recensement simplifié'!AK91,\"\")","v":""},{"$f":"IF('Outil Recensement simplifié'!AL91>0,'Outil Recensement simplifié'!AL91,\"\")","v":""},{"$f":"IF('Outil Recensement simplifié'!AM91>0,'Outil Recensement simplifié'!AM91,\"\")","v":""},{"$f":"IF('Outil Recensement simplifié'!AN91=\"Homme\",\"Male\",IF('Outil Recensement simplifié'!AN91=\"Femme\",\"Female\",IF('Outil Recensement simplifié'!AN91=\"H\",\"Male\",IF('Outil Recensement simplifié'!AN91=\"F\",\"Female\",\"\"))))","v":""},{"$f":"IF('Outil Recensement simplifié'!AO91=\"Individuelle\",\"Single\",IF('Outil Recensement simplifié'!AO91=\"Famille\",\"Family\",IF('Outil Recensement simplifié'!AO91=\"Individuel\",\"Single\",IF('Outil Recensement simplifié'!AO91=\"Familiale\",\"Family\",IF('Outil Recensement simplifié'!AO91=\"I\",\"Single\",IF('Outil Recensement simplifié'!AO91=\"F\",\"Family\",\"\"))))))","v":""},{"$f":"IF('Outil Recensement simplifié'!AP91=\"Individuelle\",\"Single\",IF('Outil Recensement simplifié'!AP91=\"Famille\",\"Family\",IF('Outil Recensement simplifié'!AP91=\"Individuel\",\"Single\",IF('Outil Recensement simplifié'!AP91=\"Familiale\",\"Family\",IF('Outil Recensement simplifié'!AP91=\"I\",\"Single\",IF('Outil Recensement simplifié'!AP91=\"F\",\"Family\",\"\"))))))","v":""},{"$f":"IF('Outil Recensement simplifié'!AQ91>0,'Outil Recensement simplifié'!AQ91,\"\")","v":""},{"$f":"IF('Outil Recensement simplifié'!AR91=\"Oui\",\"Yes\",IF('Outil Recensement simplifié'!AR91=\"Non\",\"No\",IF('Outil Recensement simplifié'!AR91=\"O\",\"Yes\",IF('Outil Recensement simplifié'!AR91=\"N\",\"No\",\"\"))))","v":""},{"$f":"IF('Outil Recensement simplifié'!AS91>0,'Outil Recensement simplifié'!AS91,\"\")","v":""},{"$f":"IF('Outil Recensement simplifié'!AT91>0,'Outil Recensement simplifié'!AT91,\"\")","v":""},{"$f":"IF('Outil Recensement simplifié'!AU91>0,'Outil Recensement simplifié'!AU91,\"\")","v":""},{"$f":"IF('Outil Recensement simplifié'!AV91=\"Homme\",\"Male\",IF('Outil Recensement simplifié'!AV91=\"Femme\",\"Female\",IF('Outil Recensement simplifié'!AV91=\"H\",\"Male\",IF('Outil Recensement simplifié'!AV91=\"F\",\"Female\",\"\"))))","v":""},{"$f":"IF('Outil Recensement simplifié'!AW91=\"Oui\",\"Yes\",IF('Outil Recensement simplifié'!AW91=\"Non\",\"No\",IF('Outil Recensement simplifié'!AW91=\"O\",\"Yes\",IF('Outil Recensement simplifié'!AW91=\"N\",\"No\",\"\"))))","v":""},{"$f":"IF('Outil Recensement simplifié'!AX91=\"Oui\",\"Yes\",IF('Outil Recensement simplifié'!AX91=\"Non\",\"No\",IF('Outil Recensement simplifié'!AX91=\"O\",\"Yes\",IF('Outil Recensement simplifié'!AX91=\"N\",\"No\",\"\"))))","v":""},{"$f":"IF('Outil Recensement simplifié'!AY91>0,'Outil Recensement simplifié'!AY91,\"\")","v":""},{"$f":"IF('Outil Recensement simplifié'!AZ91>0,'Outil Recensement simplifié'!AZ91,\"\")","v":""},{"$f":"IF('Outil Recensement simplifié'!BA91>0,'Outil Recensement simplifié'!BA91,\"\")","v":""},{"$f":"IF('Outil Recensement simplifié'!BB91=\"Homme\",\"Male\",IF('Outil Recensement simplifié'!BB91=\"Femme\",\"Female\",IF('Outil Recensement simplifié'!BB91=\"H\",\"Male\",IF('Outil Recensement simplifié'!BB91=\"F\",\"Female\",\"\"))))","v":""},{"$f":"IF('Outil Recensement simplifié'!BC91=\"Oui\",\"Yes\",IF('Outil Recensement simplifié'!BC91=\"Non\",\"No\",IF('Outil Recensement simplifié'!BC91=\"O\",\"Yes\",IF('Outil Recensement simplifié'!BC91=\"N\",\"No\",\"\"))))","v":""},{"$f":"IF('Outil Recensement simplifié'!BD91=\"Oui\",\"Yes\",IF('Outil Recensement simplifié'!BD91=\"Non\",\"No\",IF('Outil Recensement simplifié'!BD91=\"O\",\"Yes\",IF('Outil Recensement simplifié'!BD91=\"N\",\"No\",\"\"))))","v":""},{"$f":"IF('Outil Recensement simplifié'!BE91>0,'Outil Recensement simplifié'!BE91,\"\")","v":""},{"$f":"IF('Outil Recensement simplifié'!BF91>0,'Outil Recensement simplifié'!BF91,\"\")","v":""},{"$f":"IF('Outil Recensement simplifié'!BG91>0,'Outil Recensement simplifié'!BG91,\"\")","v":""},{"$f":"IF('Outil Recensement simplifié'!BH91=\"Homme\",\"Male\",IF('Outil Recensement simplifié'!BH91=\"Femme\",\"Female\",IF('Outil Recensement simplifié'!BH91=\"H\",\"Male\",IF('Outil Recensement simplifié'!BH91=\"F\",\"Female\",\"\"))))","v":""},{"$f":"IF('Outil Recensement simplifié'!BI91=\"Oui\",\"Yes\",IF('Outil Recensement simplifié'!BI91=\"Non\",\"No\",IF('Outil Recensement simplifié'!BI91=\"O\",\"Yes\",IF('Outil Recensement simplifié'!BI91=\"N\",\"No\",\"\"))))","v":""},{"$f":"IF('Outil Recensement simplifié'!BJ91=\"Oui\",\"Yes\",IF('Outil Recensement simplifié'!BJ91=\"Non\",\"No\",IF('Outil Recensement simplifié'!BJ91=\"O\",\"Yes\",IF('Outil Recensement simplifié'!BJ91=\"N\",\"No\",\"\"))))","v":""},{"$f":"IF('Outil Recensement simplifié'!BK91>0,'Outil Recensement simplifié'!BK91,\"\")","v":""},{"$f":"IF('Outil Recensement simplifié'!BL91>0,'Outil Recensement simplifié'!BL91,\"\")","v":""},{"$f":"IF('Outil Recensement simplifié'!BM91>0,'Outil Recensement simplifié'!BM91,\"\")","v":""},{"$f":"IF('Outil Recensement simplifié'!BN91=\"Homme\",\"Male\",IF('Outil Recensement simplifié'!BN91=\"Femme\",\"Female\",IF('Outil Recensement simplifié'!BN91=\"H\",\"Male\",IF('Outil Recensement simplifié'!BN91=\"F\",\"Female\",\"\"))))","v":""},{"$f":"IF('Outil Recensement simplifié'!BO91=\"Oui\",\"Yes\",IF('Outil Recensement simplifié'!BO91=\"Non\",\"No\",IF('Outil Recensement simplifié'!BO91=\"O\",\"Yes\",IF('Outil Recensement simplifié'!BO91=\"N\",\"No\",\"\"))))","v":""},{"$f":"IF('Outil Recensement simplifié'!BP91=\"Oui\",\"Yes\",IF('Outil Recensement simplifié'!BP91=\"Non\",\"No\",IF('Outil Recensement simplifié'!BP91=\"O\",\"Yes\",IF('Outil Recensement simplifié'!BP91=\"N\",\"No\",\"\"))))","v":""},{"$f":"IF('Outil Recensement simplifié'!BQ91>0,'Outil Recensement simplifié'!BQ91,\"\")","v":""},{"$f":"IF('Outil Recensement simplifié'!BR91>0,'Outil Recensement simplifié'!BR91,\"\")","v":""},{"$f":"IF('Outil Recensement simplifié'!BS91>0,'Outil Recensement simplifié'!BS91,\"\")","v":""},{"$f":"IF('Outil Recensement simplifié'!BT91=\"Homme\",\"Male\",IF('Outil Recensement simplifié'!BT91=\"Femme\",\"Female\",IF('Outil Recensement simplifié'!BT91=\"H\",\"Male\",IF('Outil Recensement simplifié'!BT91=\"F\",\"Female\",\"\"))))","v":""},{"$f":"IF('Outil Recensement simplifié'!BU91=\"Oui\",\"Yes\",IF('Outil Recensement simplifié'!BU91=\"Non\",\"No\",IF('Outil Recensement simplifié'!BU91=\"O\",\"Yes\",IF('Outil Recensement simplifié'!BU91=\"N\",\"No\",\"\"))))","v":""},{"$f":"IF('Outil Recensement simplifié'!BV91=\"Oui\",\"Yes\",IF('Outil Recensement simplifié'!BV91=\"Non\",\"No\",IF('Outil Recensement simplifié'!BV91=\"O\",\"Yes\",IF('Outil Recensement simplifié'!BV91=\"N\",\"No\",\"\"))))","v":""},{"$f":"IF('Outil Recensement simplifié'!BW91>0,'Outil Recensement simplifié'!BW91,\"\")","v":""},{"$f":"IF('Outil Recensement simplifié'!BX91>0,'Outil Recensement simplifié'!BX91,\"\")","v":""},{"$f":"IF('Outil Recensement simplifié'!BY91>0,'Outil Recensement simplifié'!BY91,\"\")","v":""},{"$f":"IF('Outil Recensement simplifié'!BZ91=\"Homme\",\"Male\",IF('Outil Recensement simplifié'!BZ91=\"Femme\",\"Female\",IF('Outil Recensement simplifié'!BZ91=\"H\",\"Male\",IF('Outil Recensement simplifié'!BZ91=\"F\",\"Female\",\"\"))))","v":""},{"$f":"IF('Outil Recensement simplifié'!CA91=\"Oui\",\"Yes\",IF('Outil Recensement simplifié'!CA91=\"Non\",\"No\",IF('Outil Recensement simplifié'!CA91=\"O\",\"Yes\",IF('Outil Recensement simplifié'!CA91=\"N\",\"No\",\"\"))))","v":""},{"$f":"IF('Outil Recensement simplifié'!CB91=\"Oui\",\"Yes\",IF('Outil Recensement simplifié'!CB91=\"Non\",\"No\",IF('Outil Recensement simplifié'!CB91=\"O\",\"Yes\",IF('Outil Recensement simplifié'!CB91=\"N\",\"No\",\"\"))))","v":""},{"$f":"IF('Outil Recensement simplifié'!CH91>0,'Outil Recensement simplifié'!CH91,\"\")","v":"    "}]
[{"$f":"IF('Outil Recensement simplifié'!A92>0,'Outil Recensement simplifié'!A92,\"\")","v":""},{"$f":"IF('Outil Recensement simplifié'!B92>0,'Outil Recensement simplifié'!B92,\"\")","v":""},{"$f":"IF('Outil Recensement simplifié'!C92>0,'Outil Recensement simplifié'!C92,\"\")","v":""},{"$f":"IF('Outil Recensement simplifié'!D92>0,'Outil Recensement simplifié'!D92,\"\")","v":""},{"$f":"IF('Outil Recensement simplifié'!E92>0,TEXT('Outil Recensement simplifié'!E92,\"000\"),\"\")","v":""},{"$f":"IF('Outil Recensement simplifié'!F92>0,'Outil Recensement simplifié'!F92,\"\")","v":""},{"$f":"IF('Outil Recensement simplifié'!G92>0,'Outil Recensement simplifié'!G92,\"\")","v":""},{"$f":"IF('Outil Recensement simplifié'!I92>0,'Outil Recensement simplifié'!I92,\"\")","v":""},{"$f":"IF('Outil Recensement simplifié'!J92>0,'Outil Recensement simplifié'!J92,\"\")","v":""},{"$f":"IF('Outil Recensement simplifié'!K92>0,'Outil Recensement simplifié'!K92,\"\")","v":""},{"$f":"IF('Outil Recensement simplifié'!L92>0,'Outil Recensement simplifié'!L92,\"\")","v":""},{"$f":"IF('Outil Recensement simplifié'!M92=\"Homme\",\"Male\",IF('Outil Recensement simplifié'!M92=\"Femme\",\"Female\",IF('Outil Recensement simplifié'!M92=\"H\",\"Male\",IF('Outil Recensement simplifié'!M92=\"F\",\"Female\",\"\"))))","v":""},{"$f":"IF('Outil Recensement simplifié'!N92=\"Oui\",\"Yes\",IF('Outil Recensement simplifié'!N92=\"Non\",\"No\",IF('Outil Recensement simplifié'!N92=\"O\",\"Yes\",IF('Outil Recensement simplifié'!N92=\"N\",\"No\",\"\"))))","v":""},{"$f":"IF('Outil Recensement simplifié'!O92=\"Non\",\"Single\",IF('Outil Recensement simplifié'!O92=\"Oui\",\"Family\",IF('Outil Recensement simplifié'!O92=\"N\",\"Single\",IF('Outil Recensement simplifié'!O92=\"O\",\"Family\",IF('Outil Recensement simplifié'!O92=\"En vigueur\",\"Family\",\"\")))))","v":""},{"$f":"IF('Outil Recensement simplifié'!P92=\"Anglais\",\"English\",IF('Outil Recensement simplifié'!P92=\"Français\",\"French\",IF('Outil Recensement simplifié'!P92=\"A\",\"English\",IF('Outil Recensement simplifié'!P92=\"F\",\"French\",\"\"))))","v":""},{"$f":"IF('Outil Recensement simplifié'!Q92=\"Oui\",\"Yes\",IF('Outil Recensement simplifié'!Q92=\"Non\",\"No\",IF('Outil Recensement simplifié'!Q92=\"O\",\"Yes\",IF('Outil Recensement simplifié'!Q92=\"N\",\"No\",\"\"))))","v":""},{"$f":"IF('Outil Recensement simplifié'!R92>0,'Outil Recensement simplifié'!R92,\"\")","v":""},{"$f":"IF('Outil Recensement simplifié'!S92=\"Annuelle\",\"Annually\",IF('Outil Recensement simplifié'!S92=\"Mensuelle\",\"Monthly\",IF('Outil Recensement simplifié'!S92=\"Aux deux semaines\",\"Biweekly\",IF('Outil Recensement simplifié'!S92=\"Bimensuelle\",\"Semi-Monthly\",IF('Outil Recensement simplifié'!S92=\"Hebdomadaire\",\"Weekly\",IF('Outil Recensement simplifié'!S92=\"Horaire\",\"Hourly\",\"\"))))))","v":""},{"$f":"IF('Outil Recensement simplifié'!T92>0,'Outil Recensement simplifié'!T92,\"\")","v":""},{"$f":"IF('Outil Recensement simplifié'!U92>0,'Outil Recensement simplifié'!U92,\"\")","v":""},{"$f":"IF('Outil Recensement simplifié'!V92=\"Exemptée\",\"Yes\",\"\")","v":""},{"$f":"IF('Outil Recensement simplifié'!W92=\"Exemptée\",\"Yes\",\"\")","v":""},{"$f":"IF('Outil Recensement simplifié'!X92>0,'Outil Recensement simplifié'!X92,\"\")","v":""},{"$f":"IF('Outil Recensement simplifié'!Y92>0,'Outil Recensement simplifié'!Y92,\"\")","v":""},{"$f":"IF('Outil Recensement simplifié'!Z92>0,'Outil Recensement simplifié'!Z92,\"\")","v":""},{"$f":"IF('Outil Recensement simplifié'!AA92>0,'Outil Recensement simplifié'!AA92,\"\")","v":""},{"$f":"IF('Outil Recensement simplifié'!AB92>0,'Outil Recensement simplifié'!AB92,\"\")","v":""},{"$f":"IF('Outil Recensement simplifié'!AC92>0,'Outil Recensement simplifié'!AC92,\"\")","v":" "},{"$f":"IF('Outil Recensement simplifié'!AE92>0,'Outil Recensement simplifié'!AE92&\" \",\"\")&IF('Outil Recensement simplifié'!AD92>0,'Outil Recensement simplifié'!AD92,\"\")","v":""},null,{"$f":"IF('Outil Recensement simplifié'!AF92>0,'Outil Recensement simplifié'!AF92,\"\")","v":""},{"$f":"IF('Outil Recensement simplifié'!AG92>0,'Outil Recensement simplifié'!AG92,\"\")","v":""},{"$f":"IF('Outil Recensement simplifié'!AH92>0,'Outil Recensement simplifié'!AH92,\"\")","v":""},{"$f":"IF('Outil Recensement simplifié'!AI92>0,'Outil Recensement simplifié'!AI92,\"\")","v":""},{"$f":"IF('Outil Recensement simplifié'!AJ92>0,'Outil Recensement simplifié'!AJ92,\"\")","v":""},{"$f":"IF('Outil Recensement simplifié'!AK92>0,'Outil Recensement simplifié'!AK92,\"\")","v":""},{"$f":"IF('Outil Recensement simplifié'!AL92>0,'Outil Recensement simplifié'!AL92,\"\")","v":""},{"$f":"IF('Outil Recensement simplifié'!AM92>0,'Outil Recensement simplifié'!AM92,\"\")","v":""},{"$f":"IF('Outil Recensement simplifié'!AN92=\"Homme\",\"Male\",IF('Outil Recensement simplifié'!AN92=\"Femme\",\"Female\",IF('Outil Recensement simplifié'!AN92=\"H\",\"Male\",IF('Outil Recensement simplifié'!AN92=\"F\",\"Female\",\"\"))))","v":""},{"$f":"IF('Outil Recensement simplifié'!AO92=\"Individuelle\",\"Single\",IF('Outil Recensement simplifié'!AO92=\"Famille\",\"Family\",IF('Outil Recensement simplifié'!AO92=\"Individuel\",\"Single\",IF('Outil Recensement simplifié'!AO92=\"Familiale\",\"Family\",IF('Outil Recensement simplifié'!AO92=\"I\",\"Single\",IF('Outil Recensement simplifié'!AO92=\"F\",\"Family\",\"\"))))))","v":""},{"$f":"IF('Outil Recensement simplifié'!AP92=\"Individuelle\",\"Single\",IF('Outil Recensement simplifié'!AP92=\"Famille\",\"Family\",IF('Outil Recensement simplifié'!AP92=\"Individuel\",\"Single\",IF('Outil Recensement simplifié'!AP92=\"Familiale\",\"Family\",IF('Outil Recensement simplifié'!AP92=\"I\",\"Single\",IF('Outil Recensement simplifié'!AP92=\"F\",\"Family\",\"\"))))))","v":""},{"$f":"IF('Outil Recensement simplifié'!AQ92>0,'Outil Recensement simplifié'!AQ92,\"\")","v":""},{"$f":"IF('Outil Recensement simplifié'!AR92=\"Oui\",\"Yes\",IF('Outil Recensement simplifié'!AR92=\"Non\",\"No\",IF('Outil Recensement simplifié'!AR92=\"O\",\"Yes\",IF('Outil Recensement simplifié'!AR92=\"N\",\"No\",\"\"))))","v":""},{"$f":"IF('Outil Recensement simplifié'!AS92>0,'Outil Recensement simplifié'!AS92,\"\")","v":""},{"$f":"IF('Outil Recensement simplifié'!AT92>0,'Outil Recensement simplifié'!AT92,\"\")","v":""},{"$f":"IF('Outil Recensement simplifié'!AU92>0,'Outil Recensement simplifié'!AU92,\"\")","v":""},{"$f":"IF('Outil Recensement simplifié'!AV92=\"Homme\",\"Male\",IF('Outil Recensement simplifié'!AV92=\"Femme\",\"Female\",IF('Outil Recensement simplifié'!AV92=\"H\",\"Male\",IF('Outil Recensement simplifié'!AV92=\"F\",\"Female\",\"\"))))","v":""},{"$f":"IF('Outil Recensement simplifié'!AW92=\"Oui\",\"Yes\",IF('Outil Recensement simplifié'!AW92=\"Non\",\"No\",IF('Outil Recensement simplifié'!AW92=\"O\",\"Yes\",IF('Outil Recensement simplifié'!AW92=\"N\",\"No\",\"\"))))","v":""},{"$f":"IF('Outil Recensement simplifié'!AX92=\"Oui\",\"Yes\",IF('Outil Recensement simplifié'!AX92=\"Non\",\"No\",IF('Outil Recensement simplifié'!AX92=\"O\",\"Yes\",IF('Outil Recensement simplifié'!AX92=\"N\",\"No\",\"\"))))","v":""},{"$f":"IF('Outil Recensement simplifié'!AY92>0,'Outil Recensement simplifié'!AY92,\"\")","v":""},{"$f":"IF('Outil Recensement simplifié'!AZ92>0,'Outil Recensement simplifié'!AZ92,\"\")","v":""},{"$f":"IF('Outil Recensement simplifié'!BA92>0,'Outil Recensement simplifié'!BA92,\"\")","v":""},{"$f":"IF('Outil Recensement simplifié'!BB92=\"Homme\",\"Male\",IF('Outil Recensement simplifié'!BB92=\"Femme\",\"Female\",IF('Outil Recensement simplifié'!BB92=\"H\",\"Male\",IF('Outil Recensement simplifié'!BB92=\"F\",\"Female\",\"\"))))","v":""},{"$f":"IF('Outil Recensement simplifié'!BC92=\"Oui\",\"Yes\",IF('Outil Recensement simplifié'!BC92=\"Non\",\"No\",IF('Outil Recensement simplifié'!BC92=\"O\",\"Yes\",IF('Outil Recensement simplifié'!BC92=\"N\",\"No\",\"\"))))","v":""},{"$f":"IF('Outil Recensement simplifié'!BD92=\"Oui\",\"Yes\",IF('Outil Recensement simplifié'!BD92=\"Non\",\"No\",IF('Outil Recensement simplifié'!BD92=\"O\",\"Yes\",IF('Outil Recensement simplifié'!BD92=\"N\",\"No\",\"\"))))","v":""},{"$f":"IF('Outil Recensement simplifié'!BE92>0,'Outil Recensement simplifié'!BE92,\"\")","v":""},{"$f":"IF('Outil Recensement simplifié'!BF92>0,'Outil Recensement simplifié'!BF92,\"\")","v":""},{"$f":"IF('Outil Recensement simplifié'!BG92>0,'Outil Recensement simplifié'!BG92,\"\")","v":""},{"$f":"IF('Outil Recensement simplifié'!BH92=\"Homme\",\"Male\",IF('Outil Recensement simplifié'!BH92=\"Femme\",\"Female\",IF('Outil Recensement simplifié'!BH92=\"H\",\"Male\",IF('Outil Recensement simplifié'!BH92=\"F\",\"Female\",\"\"))))","v":""},{"$f":"IF('Outil Recensement simplifié'!BI92=\"Oui\",\"Yes\",IF('Outil Recensement simplifié'!BI92=\"Non\",\"No\",IF('Outil Recensement simplifié'!BI92=\"O\",\"Yes\",IF('Outil Recensement simplifié'!BI92=\"N\",\"No\",\"\"))))","v":""},{"$f":"IF('Outil Recensement simplifié'!BJ92=\"Oui\",\"Yes\",IF('Outil Recensement simplifié'!BJ92=\"Non\",\"No\",IF('Outil Recensement simplifié'!BJ92=\"O\",\"Yes\",IF('Outil Recensement simplifié'!BJ92=\"N\",\"No\",\"\"))))","v":""},{"$f":"IF('Outil Recensement simplifié'!BK92>0,'Outil Recensement simplifié'!BK92,\"\")","v":""},{"$f":"IF('Outil Recensement simplifié'!BL92>0,'Outil Recensement simplifié'!BL92,\"\")","v":""},{"$f":"IF('Outil Recensement simplifié'!BM92>0,'Outil Recensement simplifié'!BM92,\"\")","v":""},{"$f":"IF('Outil Recensement simplifié'!BN92=\"Homme\",\"Male\",IF('Outil Recensement simplifié'!BN92=\"Femme\",\"Female\",IF('Outil Recensement simplifié'!BN92=\"H\",\"Male\",IF('Outil Recensement simplifié'!BN92=\"F\",\"Female\",\"\"))))","v":""},{"$f":"IF('Outil Recensement simplifié'!BO92=\"Oui\",\"Yes\",IF('Outil Recensement simplifié'!BO92=\"Non\",\"No\",IF('Outil Recensement simplifié'!BO92=\"O\",\"Yes\",IF('Outil Recensement simplifié'!BO92=\"N\",\"No\",\"\"))))","v":""},{"$f":"IF('Outil Recensement simplifié'!BP92=\"Oui\",\"Yes\",IF('Outil Recensement simplifié'!BP92=\"Non\",\"No\",IF('Outil Recensement simplifié'!BP92=\"O\",\"Yes\",IF('Outil Recensement simplifié'!BP92=\"N\",\"No\",\"\"))))","v":""},{"$f":"IF('Outil Recensement simplifié'!BQ92>0,'Outil Recensement simplifié'!BQ92,\"\")","v":""},{"$f":"IF('Outil Recensement simplifié'!BR92>0,'Outil Recensement simplifié'!BR92,\"\")","v":""},{"$f":"IF('Outil Recensement simplifié'!BS92>0,'Outil Recensement simplifié'!BS92,\"\")","v":""},{"$f":"IF('Outil Recensement simplifié'!BT92=\"Homme\",\"Male\",IF('Outil Recensement simplifié'!BT92=\"Femme\",\"Female\",IF('Outil Recensement simplifié'!BT92=\"H\",\"Male\",IF('Outil Recensement simplifié'!BT92=\"F\",\"Female\",\"\"))))","v":""},{"$f":"IF('Outil Recensement simplifié'!BU92=\"Oui\",\"Yes\",IF('Outil Recensement simplifié'!BU92=\"Non\",\"No\",IF('Outil Recensement simplifié'!BU92=\"O\",\"Yes\",IF('Outil Recensement simplifié'!BU92=\"N\",\"No\",\"\"))))","v":""},{"$f":"IF('Outil Recensement simplifié'!BV92=\"Oui\",\"Yes\",IF('Outil Recensement simplifié'!BV92=\"Non\",\"No\",IF('Outil Recensement simplifié'!BV92=\"O\",\"Yes\",IF('Outil Recensement simplifié'!BV92=\"N\",\"No\",\"\"))))","v":""},{"$f":"IF('Outil Recensement simplifié'!BW92>0,'Outil Recensement simplifié'!BW92,\"\")","v":""},{"$f":"IF('Outil Recensement simplifié'!BX92>0,'Outil Recensement simplifié'!BX92,\"\")","v":""},{"$f":"IF('Outil Recensement simplifié'!BY92>0,'Outil Recensement simplifié'!BY92,\"\")","v":""},{"$f":"IF('Outil Recensement simplifié'!BZ92=\"Homme\",\"Male\",IF('Outil Recensement simplifié'!BZ92=\"Femme\",\"Female\",IF('Outil Recensement simplifié'!BZ92=\"H\",\"Male\",IF('Outil Recensement simplifié'!BZ92=\"F\",\"Female\",\"\"))))","v":""},{"$f":"IF('Outil Recensement simplifié'!CA92=\"Oui\",\"Yes\",IF('Outil Recensement simplifié'!CA92=\"Non\",\"No\",IF('Outil Recensement simplifié'!CA92=\"O\",\"Yes\",IF('Outil Recensement simplifié'!CA92=\"N\",\"No\",\"\"))))","v":""},{"$f":"IF('Outil Recensement simplifié'!CB92=\"Oui\",\"Yes\",IF('Outil Recensement simplifié'!CB92=\"Non\",\"No\",IF('Outil Recensement simplifié'!CB92=\"O\",\"Yes\",IF('Outil Recensement simplifié'!CB92=\"N\",\"No\",\"\"))))","v":""},{"$f":"IF('Outil Recensement simplifié'!CH92>0,'Outil Recensement simplifié'!CH92,\"\")","v":"    "}]
[{"$f":"IF('Outil Recensement simplifié'!A93>0,'Outil Recensement simplifié'!A93,\"\")","v":""},{"$f":"IF('Outil Recensement simplifié'!B93>0,'Outil Recensement simplifié'!B93,\"\")","v":""},{"$f":"IF('Outil Recensement simplifié'!C93>0,'Outil Recensement simplifié'!C93,\"\")","v":""},{"$f":"IF('Outil Recensement simplifié'!D93>0,'Outil Recensement simplifié'!D93,\"\")","v":""},{"$f":"IF('Outil Recensement simplifié'!E93>0,TEXT('Outil Recensement simplifié'!E93,\"000\"),\"\")","v":""},{"$f":"IF('Outil Recensement simplifié'!F93>0,'Outil Recensement simplifié'!F93,\"\")","v":""},{"$f":"IF('Outil Recensement simplifié'!G93>0,'Outil Recensement simplifié'!G93,\"\")","v":""},{"$f":"IF('Outil Recensement simplifié'!I93>0,'Outil Recensement simplifié'!I93,\"\")","v":""},{"$f":"IF('Outil Recensement simplifié'!J93>0,'Outil Recensement simplifié'!J93,\"\")","v":""},{"$f":"IF('Outil Recensement simplifié'!K93>0,'Outil Recensement simplifié'!K93,\"\")","v":""},{"$f":"IF('Outil Recensement simplifié'!L93>0,'Outil Recensement simplifié'!L93,\"\")","v":""},{"$f":"IF('Outil Recensement simplifié'!M93=\"Homme\",\"Male\",IF('Outil Recensement simplifié'!M93=\"Femme\",\"Female\",IF('Outil Recensement simplifié'!M93=\"H\",\"Male\",IF('Outil Recensement simplifié'!M93=\"F\",\"Female\",\"\"))))","v":""},{"$f":"IF('Outil Recensement simplifié'!N93=\"Oui\",\"Yes\",IF('Outil Recensement simplifié'!N93=\"Non\",\"No\",IF('Outil Recensement simplifié'!N93=\"O\",\"Yes\",IF('Outil Recensement simplifié'!N93=\"N\",\"No\",\"\"))))","v":""},{"$f":"IF('Outil Recensement simplifié'!O93=\"Non\",\"Single\",IF('Outil Recensement simplifié'!O93=\"Oui\",\"Family\",IF('Outil Recensement simplifié'!O93=\"N\",\"Single\",IF('Outil Recensement simplifié'!O93=\"O\",\"Family\",IF('Outil Recensement simplifié'!O93=\"En vigueur\",\"Family\",\"\")))))","v":""},{"$f":"IF('Outil Recensement simplifié'!P93=\"Anglais\",\"English\",IF('Outil Recensement simplifié'!P93=\"Français\",\"French\",IF('Outil Recensement simplifié'!P93=\"A\",\"English\",IF('Outil Recensement simplifié'!P93=\"F\",\"French\",\"\"))))","v":""},{"$f":"IF('Outil Recensement simplifié'!Q93=\"Oui\",\"Yes\",IF('Outil Recensement simplifié'!Q93=\"Non\",\"No\",IF('Outil Recensement simplifié'!Q93=\"O\",\"Yes\",IF('Outil Recensement simplifié'!Q93=\"N\",\"No\",\"\"))))","v":""},{"$f":"IF('Outil Recensement simplifié'!R93>0,'Outil Recensement simplifié'!R93,\"\")","v":""},{"$f":"IF('Outil Recensement simplifié'!S93=\"Annuelle\",\"Annually\",IF('Outil Recensement simplifié'!S93=\"Mensuelle\",\"Monthly\",IF('Outil Recensement simplifié'!S93=\"Aux deux semaines\",\"Biweekly\",IF('Outil Recensement simplifié'!S93=\"Bimensuelle\",\"Semi-Monthly\",IF('Outil Recensement simplifié'!S93=\"Hebdomadaire\",\"Weekly\",IF('Outil Recensement simplifié'!S93=\"Horaire\",\"Hourly\",\"\"))))))","v":""},{"$f":"IF('Outil Recensement simplifié'!T93>0,'Outil Recensement simplifié'!T93,\"\")","v":""},{"$f":"IF('Outil Recensement simplifié'!U93>0,'Outil Recensement simplifié'!U93,\"\")","v":""},{"$f":"IF('Outil Recensement simplifié'!V93=\"Exemptée\",\"Yes\",\"\")","v":""},{"$f":"IF('Outil Recensement simplifié'!W93=\"Exemptée\",\"Yes\",\"\")","v":""},{"$f":"IF('Outil Recensement simplifié'!X93>0,'Outil Recensement simplifié'!X93,\"\")","v":""},{"$f":"IF('Outil Recensement simplifié'!Y93>0,'Outil Recensement simplifié'!Y93,\"\")","v":""},{"$f":"IF('Outil Recensement simplifié'!Z93>0,'Outil Recensement simplifié'!Z93,\"\")","v":""},{"$f":"IF('Outil Recensement simplifié'!AA93>0,'Outil Recensement simplifié'!AA93,\"\")","v":""},{"$f":"IF('Outil Recensement simplifié'!AB93>0,'Outil Recensement simplifié'!AB93,\"\")","v":""},{"$f":"IF('Outil Recensement simplifié'!AC93>0,'Outil Recensement simplifié'!AC93,\"\")","v":" "},{"$f":"IF('Outil Recensement simplifié'!AE93>0,'Outil Recensement simplifié'!AE93&\" \",\"\")&IF('Outil Recensement simplifié'!AD93>0,'Outil Recensement simplifié'!AD93,\"\")","v":""},null,{"$f":"IF('Outil Recensement simplifié'!AF93>0,'Outil Recensement simplifié'!AF93,\"\")","v":""},{"$f":"IF('Outil Recensement simplifié'!AG93>0,'Outil Recensement simplifié'!AG93,\"\")","v":""},{"$f":"IF('Outil Recensement simplifié'!AH93>0,'Outil Recensement simplifié'!AH93,\"\")","v":""},{"$f":"IF('Outil Recensement simplifié'!AI93>0,'Outil Recensement simplifié'!AI93,\"\")","v":""},{"$f":"IF('Outil Recensement simplifié'!AJ93>0,'Outil Recensement simplifié'!AJ93,\"\")","v":""},{"$f":"IF('Outil Recensement simplifié'!AK93>0,'Outil Recensement simplifié'!AK93,\"\")","v":""},{"$f":"IF('Outil Recensement simplifié'!AL93>0,'Outil Recensement simplifié'!AL93,\"\")","v":""},{"$f":"IF('Outil Recensement simplifié'!AM93>0,'Outil Recensement simplifié'!AM93,\"\")","v":""},{"$f":"IF('Outil Recensement simplifié'!AN93=\"Homme\",\"Male\",IF('Outil Recensement simplifié'!AN93=\"Femme\",\"Female\",IF('Outil Recensement simplifié'!AN93=\"H\",\"Male\",IF('Outil Recensement simplifié'!AN93=\"F\",\"Female\",\"\"))))","v":""},{"$f":"IF('Outil Recensement simplifié'!AO93=\"Individuelle\",\"Single\",IF('Outil Recensement simplifié'!AO93=\"Famille\",\"Family\",IF('Outil Recensement simplifié'!AO93=\"Individuel\",\"Single\",IF('Outil Recensement simplifié'!AO93=\"Familiale\",\"Family\",IF('Outil Recensement simplifié'!AO93=\"I\",\"Single\",IF('Outil Recensement simplifié'!AO93=\"F\",\"Family\",\"\"))))))","v":""},{"$f":"IF('Outil Recensement simplifié'!AP93=\"Individuelle\",\"Single\",IF('Outil Recensement simplifié'!AP93=\"Famille\",\"Family\",IF('Outil Recensement simplifié'!AP93=\"Individuel\",\"Single\",IF('Outil Recensement simplifié'!AP93=\"Familiale\",\"Family\",IF('Outil Recensement simplifié'!AP93=\"I\",\"Single\",IF('Outil Recensement simplifié'!AP93=\"F\",\"Family\",\"\"))))))","v":""},{"$f":"IF('Outil Recensement simplifié'!AQ93>0,'Outil Recensement simplifié'!AQ93,\"\")","v":""},{"$f":"IF('Outil Recensement simplifié'!AR93=\"Oui\",\"Yes\",IF('Outil Recensement simplifié'!AR93=\"Non\",\"No\",IF('Outil Recensement simplifié'!AR93=\"O\",\"Yes\",IF('Outil Recensement simplifié'!AR93=\"N\",\"No\",\"\"))))","v":""},{"$f":"IF('Outil Recensement simplifié'!AS93>0,'Outil Recensement simplifié'!AS93,\"\")","v":""},{"$f":"IF('Outil Recensement simplifié'!AT93>0,'Outil Recensement simplifié'!AT93,\"\")","v":""},{"$f":"IF('Outil Recensement simplifié'!AU93>0,'Outil Recensement simplifié'!AU93,\"\")","v":""},{"$f":"IF('Outil Recensement simplifié'!AV93=\"Homme\",\"Male\",IF('Outil Recensement simplifié'!AV93=\"Femme\",\"Female\",IF('Outil Recensement simplifié'!AV93=\"H\",\"Male\",IF('Outil Recensement simplifié'!AV93=\"F\",\"Female\",\"\"))))","v":""},{"$f":"IF('Outil Recensement simplifié'!AW93=\"Oui\",\"Yes\",IF('Outil Recensement simplifié'!AW93=\"Non\",\"No\",IF('Outil Recensement simplifié'!AW93=\"O\",\"Yes\",IF('Outil Recensement simplifié'!AW93=\"N\",\"No\",\"\"))))","v":""},{"$f":"IF('Outil Recensement simplifié'!AX93=\"Oui\",\"Yes\",IF('Outil Recensement simplifié'!AX93=\"Non\",\"No\",IF('Outil Recensement simplifié'!AX93=\"O\",\"Yes\",IF('Outil Recensement simplifié'!AX93=\"N\",\"No\",\"\"))))","v":""},{"$f":"IF('Outil Recensement simplifié'!AY93>0,'Outil Recensement simplifié'!AY93,\"\")","v":""},{"$f":"IF('Outil Recensement simplifié'!AZ93>0,'Outil Recensement simplifié'!AZ93,\"\")","v":""},{"$f":"IF('Outil Recensement simplifié'!BA93>0,'Outil Recensement simplifié'!BA93,\"\")","v":""},{"$f":"IF('Outil Recensement simplifié'!BB93=\"Homme\",\"Male\",IF('Outil Recensement simplifié'!BB93=\"Femme\",\"Female\",IF('Outil Recensement simplifié'!BB93=\"H\",\"Male\",IF('Outil Recensement simplifié'!BB93=\"F\",\"Female\",\"\"))))","v":""},{"$f":"IF('Outil Recensement simplifié'!BC93=\"Oui\",\"Yes\",IF('Outil Recensement simplifié'!BC93=\"Non\",\"No\",IF('Outil Recensement simplifié'!BC93=\"O\",\"Yes\",IF('Outil Recensement simplifié'!BC93=\"N\",\"No\",\"\"))))","v":""},{"$f":"IF('Outil Recensement simplifié'!BD93=\"Oui\",\"Yes\",IF('Outil Recensement simplifié'!BD93=\"Non\",\"No\",IF('Outil Recensement simplifié'!BD93=\"O\",\"Yes\",IF('Outil Recensement simplifié'!BD93=\"N\",\"No\",\"\"))))","v":""},{"$f":"IF('Outil Recensement simplifié'!BE93>0,'Outil Recensement simplifié'!BE93,\"\")","v":""},{"$f":"IF('Outil Recensement simplifié'!BF93>0,'Outil Recensement simplifié'!BF93,\"\")","v":""},{"$f":"IF('Outil Recensement simplifié'!BG93>0,'Outil Recensement simplifié'!BG93,\"\")","v":""},{"$f":"IF('Outil Recensement simplifié'!BH93=\"Homme\",\"Male\",IF('Outil Recensement simplifié'!BH93=\"Femme\",\"Female\",IF('Outil Recensement simplifié'!BH93=\"H\",\"Male\",IF('Outil Recensement simplifié'!BH93=\"F\",\"Female\",\"\"))))","v":""},{"$f":"IF('Outil Recensement simplifié'!BI93=\"Oui\",\"Yes\",IF('Outil Recensement simplifié'!BI93=\"Non\",\"No\",IF('Outil Recensement simplifié'!BI93=\"O\",\"Yes\",IF('Outil Recensement simplifié'!BI93=\"N\",\"No\",\"\"))))","v":""},{"$f":"IF('Outil Recensement simplifié'!BJ93=\"Oui\",\"Yes\",IF('Outil Recensement simplifié'!BJ93=\"Non\",\"No\",IF('Outil Recensement simplifié'!BJ93=\"O\",\"Yes\",IF('Outil Recensement simplifié'!BJ93=\"N\",\"No\",\"\"))))","v":""},{"$f":"IF('Outil Recensement simplifié'!BK93>0,'Outil Recensement simplifié'!BK93,\"\")","v":""},{"$f":"IF('Outil Recensement simplifié'!BL93>0,'Outil Recensement simplifié'!BL93,\"\")","v":""},{"$f":"IF('Outil Recensement simplifié'!BM93>0,'Outil Recensement simplifié'!BM93,\"\")","v":""},{"$f":"IF('Outil Recensement simplifié'!BN93=\"Homme\",\"Male\",IF('Outil Recensement simplifié'!BN93=\"Femme\",\"Female\",IF('Outil Recensement simplifié'!BN93=\"H\",\"Male\",IF('Outil Recensement simplifié'!BN93=\"F\",\"Female\",\"\"))))","v":""},{"$f":"IF('Outil Recensement simplifié'!BO93=\"Oui\",\"Yes\",IF('Outil Recensement simplifié'!BO93=\"Non\",\"No\",IF('Outil Recensement simplifié'!BO93=\"O\",\"Yes\",IF('Outil Recensement simplifié'!BO93=\"N\",\"No\",\"\"))))","v":""},{"$f":"IF('Outil Recensement simplifié'!BP93=\"Oui\",\"Yes\",IF('Outil Recensement simplifié'!BP93=\"Non\",\"No\",IF('Outil Recensement simplifié'!BP93=\"O\",\"Yes\",IF('Outil Recensement simplifié'!BP93=\"N\",\"No\",\"\"))))","v":""},{"$f":"IF('Outil Recensement simplifié'!BQ93>0,'Outil Recensement simplifié'!BQ93,\"\")","v":""},{"$f":"IF('Outil Recensement simplifié'!BR93>0,'Outil Recensement simplifié'!BR93,\"\")","v":""},{"$f":"IF('Outil Recensement simplifié'!BS93>0,'Outil Recensement simplifié'!BS93,\"\")","v":""},{"$f":"IF('Outil Recensement simplifié'!BT93=\"Homme\",\"Male\",IF('Outil Recensement simplifié'!BT93=\"Femme\",\"Female\",IF('Outil Recensement simplifié'!BT93=\"H\",\"Male\",IF('Outil Recensement simplifié'!BT93=\"F\",\"Female\",\"\"))))","v":""},{"$f":"IF('Outil Recensement simplifié'!BU93=\"Oui\",\"Yes\",IF('Outil Recensement simplifié'!BU93=\"Non\",\"No\",IF('Outil Recensement simplifié'!BU93=\"O\",\"Yes\",IF('Outil Recensement simplifié'!BU93=\"N\",\"No\",\"\"))))","v":""},{"$f":"IF('Outil Recensement simplifié'!BV93=\"Oui\",\"Yes\",IF('Outil Recensement simplifié'!BV93=\"Non\",\"No\",IF('Outil Recensement simplifié'!BV93=\"O\",\"Yes\",IF('Outil Recensement simplifié'!BV93=\"N\",\"No\",\"\"))))","v":""},{"$f":"IF('Outil Recensement simplifié'!BW93>0,'Outil Recensement simplifié'!BW93,\"\")","v":""},{"$f":"IF('Outil Recensement simplifié'!BX93>0,'Outil Recensement simplifié'!BX93,\"\")","v":""},{"$f":"IF('Outil Recensement simplifié'!BY93>0,'Outil Recensement simplifié'!BY93,\"\")","v":""},{"$f":"IF('Outil Recensement simplifié'!BZ93=\"Homme\",\"Male\",IF('Outil Recensement simplifié'!BZ93=\"Femme\",\"Female\",IF('Outil Recensement simplifié'!BZ93=\"H\",\"Male\",IF('Outil Recensement simplifié'!BZ93=\"F\",\"Female\",\"\"))))","v":""},{"$f":"IF('Outil Recensement simplifié'!CA93=\"Oui\",\"Yes\",IF('Outil Recensement simplifié'!CA93=\"Non\",\"No\",IF('Outil Recensement simplifié'!CA93=\"O\",\"Yes\",IF('Outil Recensement simplifié'!CA93=\"N\",\"No\",\"\"))))","v":""},{"$f":"IF('Outil Recensement simplifié'!CB93=\"Oui\",\"Yes\",IF('Outil Recensement simplifié'!CB93=\"Non\",\"No\",IF('Outil Recensement simplifié'!CB93=\"O\",\"Yes\",IF('Outil Recensement simplifié'!CB93=\"N\",\"No\",\"\"))))","v":""},{"$f":"IF('Outil Recensement simplifié'!CH93>0,'Outil Recensement simplifié'!CH93,\"\")","v":"    "}]
[{"$f":"IF('Outil Recensement simplifié'!A94>0,'Outil Recensement simplifié'!A94,\"\")","v":""},{"$f":"IF('Outil Recensement simplifié'!B94>0,'Outil Recensement simplifié'!B94,\"\")","v":""},{"$f":"IF('Outil Recensement simplifié'!C94>0,'Outil Recensement simplifié'!C94,\"\")","v":""},{"$f":"IF('Outil Recensement simplifié'!D94>0,'Outil Recensement simplifié'!D94,\"\")","v":""},{"$f":"IF('Outil Recensement simplifié'!E94>0,TEXT('Outil Recensement simplifié'!E94,\"000\"),\"\")","v":""},{"$f":"IF('Outil Recensement simplifié'!F94>0,'Outil Recensement simplifié'!F94,\"\")","v":""},{"$f":"IF('Outil Recensement simplifié'!G94>0,'Outil Recensement simplifié'!G94,\"\")","v":""},{"$f":"IF('Outil Recensement simplifié'!I94>0,'Outil Recensement simplifié'!I94,\"\")","v":""},{"$f":"IF('Outil Recensement simplifié'!J94>0,'Outil Recensement simplifié'!J94,\"\")","v":""},{"$f":"IF('Outil Recensement simplifié'!K94>0,'Outil Recensement simplifié'!K94,\"\")","v":""},{"$f":"IF('Outil Recensement simplifié'!L94>0,'Outil Recensement simplifié'!L94,\"\")","v":""},{"$f":"IF('Outil Recensement simplifié'!M94=\"Homme\",\"Male\",IF('Outil Recensement simplifié'!M94=\"Femme\",\"Female\",IF('Outil Recensement simplifié'!M94=\"H\",\"Male\",IF('Outil Recensement simplifié'!M94=\"F\",\"Female\",\"\"))))","v":""},{"$f":"IF('Outil Recensement simplifié'!N94=\"Oui\",\"Yes\",IF('Outil Recensement simplifié'!N94=\"Non\",\"No\",IF('Outil Recensement simplifié'!N94=\"O\",\"Yes\",IF('Outil Recensement simplifié'!N94=\"N\",\"No\",\"\"))))","v":""},{"$f":"IF('Outil Recensement simplifié'!O94=\"Non\",\"Single\",IF('Outil Recensement simplifié'!O94=\"Oui\",\"Family\",IF('Outil Recensement simplifié'!O94=\"N\",\"Single\",IF('Outil Recensement simplifié'!O94=\"O\",\"Family\",IF('Outil Recensement simplifié'!O94=\"En vigueur\",\"Family\",\"\")))))","v":""},{"$f":"IF('Outil Recensement simplifié'!P94=\"Anglais\",\"English\",IF('Outil Recensement simplifié'!P94=\"Français\",\"French\",IF('Outil Recensement simplifié'!P94=\"A\",\"English\",IF('Outil Recensement simplifié'!P94=\"F\",\"French\",\"\"))))","v":""},{"$f":"IF('Outil Recensement simplifié'!Q94=\"Oui\",\"Yes\",IF('Outil Recensement simplifié'!Q94=\"Non\",\"No\",IF('Outil Recensement simplifié'!Q94=\"O\",\"Yes\",IF('Outil Recensement simplifié'!Q94=\"N\",\"No\",\"\"))))","v":""},{"$f":"IF('Outil Recensement simplifié'!R94>0,'Outil Recensement simplifié'!R94,\"\")","v":""},{"$f":"IF('Outil Recensement simplifié'!S94=\"Annuelle\",\"Annually\",IF('Outil Recensement simplifié'!S94=\"Mensuelle\",\"Monthly\",IF('Outil Recensement simplifié'!S94=\"Aux deux semaines\",\"Biweekly\",IF('Outil Recensement simplifié'!S94=\"Bimensuelle\",\"Semi-Monthly\",IF('Outil Recensement simplifié'!S94=\"Hebdomadaire\",\"Weekly\",IF('Outil Recensement simplifié'!S94=\"Horaire\",\"Hourly\",\"\"))))))","v":""},{"$f":"IF('Outil Recensement simplifié'!T94>0,'Outil Recensement simplifié'!T94,\"\")","v":""},{"$f":"IF('Outil Recensement simplifié'!U94>0,'Outil Recensement simplifié'!U94,\"\")","v":""},{"$f":"IF('Outil Recensement simplifié'!V94=\"Exemptée\",\"Yes\",\"\")","v":""},{"$f":"IF('Outil Recensement simplifié'!W94=\"Exemptée\",\"Yes\",\"\")","v":""},{"$f":"IF('Outil Recensement simplifié'!X94>0,'Outil Recensement simplifié'!X94,\"\")","v":""},{"$f":"IF('Outil Recensement simplifié'!Y94>0,'Outil Recensement simplifié'!Y94,\"\")","v":""},{"$f":"IF('Outil Recensement simplifié'!Z94>0,'Outil Recensement simplifié'!Z94,\"\")","v":""},{"$f":"IF('Outil Recensement simplifié'!AA94>0,'Outil Recensement simplifié'!AA94,\"\")","v":""},{"$f":"IF('Outil Recensement simplifié'!AB94>0,'Outil Recensement simplifié'!AB94,\"\")","v":""},{"$f":"IF('Outil Recensement simplifié'!AC94>0,'Outil Recensement simplifié'!AC94,\"\")","v":" "},{"$f":"IF('Outil Recensement simplifié'!AE94>0,'Outil Recensement simplifié'!AE94&\" \",\"\")&IF('Outil Recensement simplifié'!AD94>0,'Outil Recensement simplifié'!AD94,\"\")","v":""},null,{"$f":"IF('Outil Recensement simplifié'!AF94>0,'Outil Recensement simplifié'!AF94,\"\")","v":""},{"$f":"IF('Outil Recensement simplifié'!AG94>0,'Outil Recensement simplifié'!AG94,\"\")","v":""},{"$f":"IF('Outil Recensement simplifié'!AH94>0,'Outil Recensement simplifié'!AH94,\"\")","v":""},{"$f":"IF('Outil Recensement simplifié'!AI94>0,'Outil Recensement simplifié'!AI94,\"\")","v":""},{"$f":"IF('Outil Recensement simplifié'!AJ94>0,'Outil Recensement simplifié'!AJ94,\"\")","v":""},{"$f":"IF('Outil Recensement simplifié'!AK94>0,'Outil Recensement simplifié'!AK94,\"\")","v":""},{"$f":"IF('Outil Recensement simplifié'!AL94>0,'Outil Recensement simplifié'!AL94,\"\")","v":""},{"$f":"IF('Outil Recensement simplifié'!AM94>0,'Outil Recensement simplifié'!AM94,\"\")","v":""},{"$f":"IF('Outil Recensement simplifié'!AN94=\"Homme\",\"Male\",IF('Outil Recensement simplifié'!AN94=\"Femme\",\"Female\",IF('Outil Recensement simplifié'!AN94=\"H\",\"Male\",IF('Outil Recensement simplifié'!AN94=\"F\",\"Female\",\"\"))))","v":""},{"$f":"IF('Outil Recensement simplifié'!AO94=\"Individuelle\",\"Single\",IF('Outil Recensement simplifié'!AO94=\"Famille\",\"Family\",IF('Outil Recensement simplifié'!AO94=\"Individuel\",\"Single\",IF('Outil Recensement simplifié'!AO94=\"Familiale\",\"Family\",IF('Outil Recensement simplifié'!AO94=\"I\",\"Single\",IF('Outil Recensement simplifié'!AO94=\"F\",\"Family\",\"\"))))))","v":""},{"$f":"IF('Outil Recensement simplifié'!AP94=\"Individuelle\",\"Single\",IF('Outil Recensement simplifié'!AP94=\"Famille\",\"Family\",IF('Outil Recensement simplifié'!AP94=\"Individuel\",\"Single\",IF('Outil Recensement simplifié'!AP94=\"Familiale\",\"Family\",IF('Outil Recensement simplifié'!AP94=\"I\",\"Single\",IF('Outil Recensement simplifié'!AP94=\"F\",\"Family\",\"\"))))))","v":""},{"$f":"IF('Outil Recensement simplifié'!AQ94>0,'Outil Recensement simplifié'!AQ94,\"\")","v":""},{"$f":"IF('Outil Recensement simplifié'!AR94=\"Oui\",\"Yes\",IF('Outil Recensement simplifié'!AR94=\"Non\",\"No\",IF('Outil Recensement simplifié'!AR94=\"O\",\"Yes\",IF('Outil Recensement simplifié'!AR94=\"N\",\"No\",\"\"))))","v":""},{"$f":"IF('Outil Recensement simplifié'!AS94>0,'Outil Recensement simplifié'!AS94,\"\")","v":""},{"$f":"IF('Outil Recensement simplifié'!AT94>0,'Outil Recensement simplifié'!AT94,\"\")","v":""},{"$f":"IF('Outil Recensement simplifié'!AU94>0,'Outil Recensement simplifié'!AU94,\"\")","v":""},{"$f":"IF('Outil Recensement simplifié'!AV94=\"Homme\",\"Male\",IF('Outil Recensement simplifié'!AV94=\"Femme\",\"Female\",IF('Outil Recensement simplifié'!AV94=\"H\",\"Male\",IF('Outil Recensement simplifié'!AV94=\"F\",\"Female\",\"\"))))","v":""},{"$f":"IF('Outil Recensement simplifié'!AW94=\"Oui\",\"Yes\",IF('Outil Recensement simplifié'!AW94=\"Non\",\"No\",IF('Outil Recensement simplifié'!AW94=\"O\",\"Yes\",IF('Outil Recensement simplifié'!AW94=\"N\",\"No\",\"\"))))","v":""},{"$f":"IF('Outil Recensement simplifié'!AX94=\"Oui\",\"Yes\",IF('Outil Recensement simplifié'!AX94=\"Non\",\"No\",IF('Outil Recensement simplifié'!AX94=\"O\",\"Yes\",IF('Outil Recensement simplifié'!AX94=\"N\",\"No\",\"\"))))","v":""},{"$f":"IF('Outil Recensement simplifié'!AY94>0,'Outil Recensement simplifié'!AY94,\"\")","v":""},{"$f":"IF('Outil Recensement simplifié'!AZ94>0,'Outil Recensement simplifié'!AZ94,\"\")","v":""},{"$f":"IF('Outil Recensement simplifié'!BA94>0,'Outil Recensement simplifié'!BA94,\"\")","v":""},{"$f":"IF('Outil Recensement simplifié'!BB94=\"Homme\",\"Male\",IF('Outil Recensement simplifié'!BB94=\"Femme\",\"Female\",IF('Outil Recensement simplifié'!BB94=\"H\",\"Male\",IF('Outil Recensement simplifié'!BB94=\"F\",\"Female\",\"\"))))","v":""},{"$f":"IF('Outil Recensement simplifié'!BC94=\"Oui\",\"Yes\",IF('Outil Recensement simplifié'!BC94=\"Non\",\"No\",IF('Outil Recensement simplifié'!BC94=\"O\",\"Yes\",IF('Outil Recensement simplifié'!BC94=\"N\",\"No\",\"\"))))","v":""},{"$f":"IF('Outil Recensement simplifié'!BD94=\"Oui\",\"Yes\",IF('Outil Recensement simplifié'!BD94=\"Non\",\"No\",IF('Outil Recensement simplifié'!BD94=\"O\",\"Yes\",IF('Outil Recensement simplifié'!BD94=\"N\",\"No\",\"\"))))","v":""},{"$f":"IF('Outil Recensement simplifié'!BE94>0,'Outil Recensement simplifié'!BE94,\"\")","v":""},{"$f":"IF('Outil Recensement simplifié'!BF94>0,'Outil Recensement simplifié'!BF94,\"\")","v":""},{"$f":"IF('Outil Recensement simplifié'!BG94>0,'Outil Recensement simplifié'!BG94,\"\")","v":""},{"$f":"IF('Outil Recensement simplifié'!BH94=\"Homme\",\"Male\",IF('Outil Recensement simplifié'!BH94=\"Femme\",\"Female\",IF('Outil Recensement simplifié'!BH94=\"H\",\"Male\",IF('Outil Recensement simplifié'!BH94=\"F\",\"Female\",\"\"))))","v":""},{"$f":"IF('Outil Recensement simplifié'!BI94=\"Oui\",\"Yes\",IF('Outil Recensement simplifié'!BI94=\"Non\",\"No\",IF('Outil Recensement simplifié'!BI94=\"O\",\"Yes\",IF('Outil Recensement simplifié'!BI94=\"N\",\"No\",\"\"))))","v":""},{"$f":"IF('Outil Recensement simplifié'!BJ94=\"Oui\",\"Yes\",IF('Outil Recensement simplifié'!BJ94=\"Non\",\"No\",IF('Outil Recensement simplifié'!BJ94=\"O\",\"Yes\",IF('Outil Recensement simplifié'!BJ94=\"N\",\"No\",\"\"))))","v":""},{"$f":"IF('Outil Recensement simplifié'!BK94>0,'Outil Recensement simplifié'!BK94,\"\")","v":""},{"$f":"IF('Outil Recensement simplifié'!BL94>0,'Outil Recensement simplifié'!BL94,\"\")","v":""},{"$f":"IF('Outil Recensement simplifié'!BM94>0,'Outil Recensement simplifié'!BM94,\"\")","v":""},{"$f":"IF('Outil Recensement simplifié'!BN94=\"Homme\",\"Male\",IF('Outil Recensement simplifié'!BN94=\"Femme\",\"Female\",IF('Outil Recensement simplifié'!BN94=\"H\",\"Male\",IF('Outil Recensement simplifié'!BN94=\"F\",\"Female\",\"\"))))","v":""},{"$f":"IF('Outil Recensement simplifié'!BO94=\"Oui\",\"Yes\",IF('Outil Recensement simplifié'!BO94=\"Non\",\"No\",IF('Outil Recensement simplifié'!BO94=\"O\",\"Yes\",IF('Outil Recensement simplifié'!BO94=\"N\",\"No\",\"\"))))","v":""},{"$f":"IF('Outil Recensement simplifié'!BP94=\"Oui\",\"Yes\",IF('Outil Recensement simplifié'!BP94=\"Non\",\"No\",IF('Outil Recensement simplifié'!BP94=\"O\",\"Yes\",IF('Outil Recensement simplifié'!BP94=\"N\",\"No\",\"\"))))","v":""},{"$f":"IF('Outil Recensement simplifié'!BQ94>0,'Outil Recensement simplifié'!BQ94,\"\")","v":""},{"$f":"IF('Outil Recensement simplifié'!BR94>0,'Outil Recensement simplifié'!BR94,\"\")","v":""},{"$f":"IF('Outil Recensement simplifié'!BS94>0,'Outil Recensement simplifié'!BS94,\"\")","v":""},{"$f":"IF('Outil Recensement simplifié'!BT94=\"Homme\",\"Male\",IF('Outil Recensement simplifié'!BT94=\"Femme\",\"Female\",IF('Outil Recensement simplifié'!BT94=\"H\",\"Male\",IF('Outil Recensement simplifié'!BT94=\"F\",\"Female\",\"\"))))","v":""},{"$f":"IF('Outil Recensement simplifié'!BU94=\"Oui\",\"Yes\",IF('Outil Recensement simplifié'!BU94=\"Non\",\"No\",IF('Outil Recensement simplifié'!BU94=\"O\",\"Yes\",IF('Outil Recensement simplifié'!BU94=\"N\",\"No\",\"\"))))","v":""},{"$f":"IF('Outil Recensement simplifié'!BV94=\"Oui\",\"Yes\",IF('Outil Recensement simplifié'!BV94=\"Non\",\"No\",IF('Outil Recensement simplifié'!BV94=\"O\",\"Yes\",IF('Outil Recensement simplifié'!BV94=\"N\",\"No\",\"\"))))","v":""},{"$f":"IF('Outil Recensement simplifié'!BW94>0,'Outil Recensement simplifié'!BW94,\"\")","v":""},{"$f":"IF('Outil Recensement simplifié'!BX94>0,'Outil Recensement simplifié'!BX94,\"\")","v":""},{"$f":"IF('Outil Recensement simplifié'!BY94>0,'Outil Recensement simplifié'!BY94,\"\")","v":""},{"$f":"IF('Outil Recensement simplifié'!BZ94=\"Homme\",\"Male\",IF('Outil Recensement simplifié'!BZ94=\"Femme\",\"Female\",IF('Outil Recensement simplifié'!BZ94=\"H\",\"Male\",IF('Outil Recensement simplifié'!BZ94=\"F\",\"Female\",\"\"))))","v":""},{"$f":"IF('Outil Recensement simplifié'!CA94=\"Oui\",\"Yes\",IF('Outil Recensement simplifié'!CA94=\"Non\",\"No\",IF('Outil Recensement simplifié'!CA94=\"O\",\"Yes\",IF('Outil Recensement simplifié'!CA94=\"N\",\"No\",\"\"))))","v":""},{"$f":"IF('Outil Recensement simplifié'!CB94=\"Oui\",\"Yes\",IF('Outil Recensement simplifié'!CB94=\"Non\",\"No\",IF('Outil Recensement simplifié'!CB94=\"O\",\"Yes\",IF('Outil Recensement simplifié'!CB94=\"N\",\"No\",\"\"))))","v":""},{"$f":"IF('Outil Recensement simplifié'!CH94>0,'Outil Recensement simplifié'!CH94,\"\")","v":"    "}]
[{"$f":"IF('Outil Recensement simplifié'!A95>0,'Outil Recensement simplifié'!A95,\"\")","v":""},{"$f":"IF('Outil Recensement simplifié'!B95>0,'Outil Recensement simplifié'!B95,\"\")","v":""},{"$f":"IF('Outil Recensement simplifié'!C95>0,'Outil Recensement simplifié'!C95,\"\")","v":""},{"$f":"IF('Outil Recensement simplifié'!D95>0,'Outil Recensement simplifié'!D95,\"\")","v":""},{"$f":"IF('Outil Recensement simplifié'!E95>0,TEXT('Outil Recensement simplifié'!E95,\"000\"),\"\")","v":""},{"$f":"IF('Outil Recensement simplifié'!F95>0,'Outil Recensement simplifié'!F95,\"\")","v":""},{"$f":"IF('Outil Recensement simplifié'!G95>0,'Outil Recensement simplifié'!G95,\"\")","v":""},{"$f":"IF('Outil Recensement simplifié'!I95>0,'Outil Recensement simplifié'!I95,\"\")","v":""},{"$f":"IF('Outil Recensement simplifié'!J95>0,'Outil Recensement simplifié'!J95,\"\")","v":""},{"$f":"IF('Outil Recensement simplifié'!K95>0,'Outil Recensement simplifié'!K95,\"\")","v":""},{"$f":"IF('Outil Recensement simplifié'!L95>0,'Outil Recensement simplifié'!L95,\"\")","v":""},{"$f":"IF('Outil Recensement simplifié'!M95=\"Homme\",\"Male\",IF('Outil Recensement simplifié'!M95=\"Femme\",\"Female\",IF('Outil Recensement simplifié'!M95=\"H\",\"Male\",IF('Outil Recensement simplifié'!M95=\"F\",\"Female\",\"\"))))","v":""},{"$f":"IF('Outil Recensement simplifié'!N95=\"Oui\",\"Yes\",IF('Outil Recensement simplifié'!N95=\"Non\",\"No\",IF('Outil Recensement simplifié'!N95=\"O\",\"Yes\",IF('Outil Recensement simplifié'!N95=\"N\",\"No\",\"\"))))","v":""},{"$f":"IF('Outil Recensement simplifié'!O95=\"Non\",\"Single\",IF('Outil Recensement simplifié'!O95=\"Oui\",\"Family\",IF('Outil Recensement simplifié'!O95=\"N\",\"Single\",IF('Outil Recensement simplifié'!O95=\"O\",\"Family\",IF('Outil Recensement simplifié'!O95=\"En vigueur\",\"Family\",\"\")))))","v":""},{"$f":"IF('Outil Recensement simplifié'!P95=\"Anglais\",\"English\",IF('Outil Recensement simplifié'!P95=\"Français\",\"French\",IF('Outil Recensement simplifié'!P95=\"A\",\"English\",IF('Outil Recensement simplifié'!P95=\"F\",\"French\",\"\"))))","v":""},{"$f":"IF('Outil Recensement simplifié'!Q95=\"Oui\",\"Yes\",IF('Outil Recensement simplifié'!Q95=\"Non\",\"No\",IF('Outil Recensement simplifié'!Q95=\"O\",\"Yes\",IF('Outil Recensement simplifié'!Q95=\"N\",\"No\",\"\"))))","v":""},{"$f":"IF('Outil Recensement simplifié'!R95>0,'Outil Recensement simplifié'!R95,\"\")","v":""},{"$f":"IF('Outil Recensement simplifié'!S95=\"Annuelle\",\"Annually\",IF('Outil Recensement simplifié'!S95=\"Mensuelle\",\"Monthly\",IF('Outil Recensement simplifié'!S95=\"Aux deux semaines\",\"Biweekly\",IF('Outil Recensement simplifié'!S95=\"Bimensuelle\",\"Semi-Monthly\",IF('Outil Recensement simplifié'!S95=\"Hebdomadaire\",\"Weekly\",IF('Outil Recensement simplifié'!S95=\"Horaire\",\"Hourly\",\"\"))))))","v":""},{"$f":"IF('Outil Recensement simplifié'!T95>0,'Outil Recensement simplifié'!T95,\"\")","v":""},{"$f":"IF('Outil Recensement simplifié'!U95>0,'Outil Recensement simplifié'!U95,\"\")","v":""},{"$f":"IF('Outil Recensement simplifié'!V95=\"Exemptée\",\"Yes\",\"\")","v":""},{"$f":"IF('Outil Recensement simplifié'!W95=\"Exemptée\",\"Yes\",\"\")","v":""},{"$f":"IF('Outil Recensement simplifié'!X95>0,'Outil Recensement simplifié'!X95,\"\")","v":""},{"$f":"IF('Outil Recensement simplifié'!Y95>0,'Outil Recensement simplifié'!Y95,\"\")","v":""},{"$f":"IF('Outil Recensement simplifié'!Z95>0,'Outil Recensement simplifié'!Z95,\"\")","v":""},{"$f":"IF('Outil Recensement simplifié'!AA95>0,'Outil Recensement simplifié'!AA95,\"\")","v":""},{"$f":"IF('Outil Recensement simplifié'!AB95>0,'Outil Recensement simplifié'!AB95,\"\")","v":""},{"$f":"IF('Outil Recensement simplifié'!AC95>0,'Outil Recensement simplifié'!AC95,\"\")","v":" "},{"$f":"IF('Outil Recensement simplifié'!AE95>0,'Outil Recensement simplifié'!AE95&\" \",\"\")&IF('Outil Recensement simplifié'!AD95>0,'Outil Recensement simplifié'!AD95,\"\")","v":""},null,{"$f":"IF('Outil Recensement simplifié'!AF95>0,'Outil Recensement simplifié'!AF95,\"\")","v":""},{"$f":"IF('Outil Recensement simplifié'!AG95>0,'Outil Recensement simplifié'!AG95,\"\")","v":""},{"$f":"IF('Outil Recensement simplifié'!AH95>0,'Outil Recensement simplifié'!AH95,\"\")","v":""},{"$f":"IF('Outil Recensement simplifié'!AI95>0,'Outil Recensement simplifié'!AI95,\"\")","v":""},{"$f":"IF('Outil Recensement simplifié'!AJ95>0,'Outil Recensement simplifié'!AJ95,\"\")","v":""},{"$f":"IF('Outil Recensement simplifié'!AK95>0,'Outil Recensement simplifié'!AK95,\"\")","v":""},{"$f":"IF('Outil Recensement simplifié'!AL95>0,'Outil Recensement simplifié'!AL95,\"\")","v":""},{"$f":"IF('Outil Recensement simplifié'!AM95>0,'Outil Recensement simplifié'!AM95,\"\")","v":""},{"$f":"IF('Outil Recensement simplifié'!AN95=\"Homme\",\"Male\",IF('Outil Recensement simplifié'!AN95=\"Femme\",\"Female\",IF('Outil Recensement simplifié'!AN95=\"H\",\"Male\",IF('Outil Recensement simplifié'!AN95=\"F\",\"Female\",\"\"))))","v":""},{"$f":"IF('Outil Recensement simplifié'!AO95=\"Individuelle\",\"Single\",IF('Outil Recensement simplifié'!AO95=\"Famille\",\"Family\",IF('Outil Recensement simplifié'!AO95=\"Individuel\",\"Single\",IF('Outil Recensement simplifié'!AO95=\"Familiale\",\"Family\",IF('Outil Recensement simplifié'!AO95=\"I\",\"Single\",IF('Outil Recensement simplifié'!AO95=\"F\",\"Family\",\"\"))))))","v":""},{"$f":"IF('Outil Recensement simplifié'!AP95=\"Individuelle\",\"Single\",IF('Outil Recensement simplifié'!AP95=\"Famille\",\"Family\",IF('Outil Recensement simplifié'!AP95=\"Individuel\",\"Single\",IF('Outil Recensement simplifié'!AP95=\"Familiale\",\"Family\",IF('Outil Recensement simplifié'!AP95=\"I\",\"Single\",IF('Outil Recensement simplifié'!AP95=\"F\",\"Family\",\"\"))))))","v":""},{"$f":"IF('Outil Recensement simplifié'!AQ95>0,'Outil Recensement simplifié'!AQ95,\"\")","v":""},{"$f":"IF('Outil Recensement simplifié'!AR95=\"Oui\",\"Yes\",IF('Outil Recensement simplifié'!AR95=\"Non\",\"No\",IF('Outil Recensement simplifié'!AR95=\"O\",\"Yes\",IF('Outil Recensement simplifié'!AR95=\"N\",\"No\",\"\"))))","v":""},{"$f":"IF('Outil Recensement simplifié'!AS95>0,'Outil Recensement simplifié'!AS95,\"\")","v":""},{"$f":"IF('Outil Recensement simplifié'!AT95>0,'Outil Recensement simplifié'!AT95,\"\")","v":""},{"$f":"IF('Outil Recensement simplifié'!AU95>0,'Outil Recensement simplifié'!AU95,\"\")","v":""},{"$f":"IF('Outil Recensement simplifié'!AV95=\"Homme\",\"Male\",IF('Outil Recensement simplifié'!AV95=\"Femme\",\"Female\",IF('Outil Recensement simplifié'!AV95=\"H\",\"Male\",IF('Outil Recensement simplifié'!AV95=\"F\",\"Female\",\"\"))))","v":""},{"$f":"IF('Outil Recensement simplifié'!AW95=\"Oui\",\"Yes\",IF('Outil Recensement simplifié'!AW95=\"Non\",\"No\",IF('Outil Recensement simplifié'!AW95=\"O\",\"Yes\",IF('Outil Recensement simplifié'!AW95=\"N\",\"No\",\"\"))))","v":""},{"$f":"IF('Outil Recensement simplifié'!AX95=\"Oui\",\"Yes\",IF('Outil Recensement simplifié'!AX95=\"Non\",\"No\",IF('Outil Recensement simplifié'!AX95=\"O\",\"Yes\",IF('Outil Recensement simplifié'!AX95=\"N\",\"No\",\"\"))))","v":""},{"$f":"IF('Outil Recensement simplifié'!AY95>0,'Outil Recensement simplifié'!AY95,\"\")","v":""},{"$f":"IF('Outil Recensement simplifié'!AZ95>0,'Outil Recensement simplifié'!AZ95,\"\")","v":""},{"$f":"IF('Outil Recensement simplifié'!BA95>0,'Outil Recensement simplifié'!BA95,\"\")","v":""},{"$f":"IF('Outil Recensement simplifié'!BB95=\"Homme\",\"Male\",IF('Outil Recensement simplifié'!BB95=\"Femme\",\"Female\",IF('Outil Recensement simplifié'!BB95=\"H\",\"Male\",IF('Outil Recensement simplifié'!BB95=\"F\",\"Female\",\"\"))))","v":""},{"$f":"IF('Outil Recensement simplifié'!BC95=\"Oui\",\"Yes\",IF('Outil Recensement simplifié'!BC95=\"Non\",\"No\",IF('Outil Recensement simplifié'!BC95=\"O\",\"Yes\",IF('Outil Recensement simplifié'!BC95=\"N\",\"No\",\"\"))))","v":""},{"$f":"IF('Outil Recensement simplifié'!BD95=\"Oui\",\"Yes\",IF('Outil Recensement simplifié'!BD95=\"Non\",\"No\",IF('Outil Recensement simplifié'!BD95=\"O\",\"Yes\",IF('Outil Recensement simplifié'!BD95=\"N\",\"No\",\"\"))))","v":""},{"$f":"IF('Outil Recensement simplifié'!BE95>0,'Outil Recensement simplifié'!BE95,\"\")","v":""},{"$f":"IF('Outil Recensement simplifié'!BF95>0,'Outil Recensement simplifié'!BF95,\"\")","v":""},{"$f":"IF('Outil Recensement simplifié'!BG95>0,'Outil Recensement simplifié'!BG95,\"\")","v":""},{"$f":"IF('Outil Recensement simplifié'!BH95=\"Homme\",\"Male\",IF('Outil Recensement simplifié'!BH95=\"Femme\",\"Female\",IF('Outil Recensement simplifié'!BH95=\"H\",\"Male\",IF('Outil Recensement simplifié'!BH95=\"F\",\"Female\",\"\"))))","v":""},{"$f":"IF('Outil Recensement simplifié'!BI95=\"Oui\",\"Yes\",IF('Outil Recensement simplifié'!BI95=\"Non\",\"No\",IF('Outil Recensement simplifié'!BI95=\"O\",\"Yes\",IF('Outil Recensement simplifié'!BI95=\"N\",\"No\",\"\"))))","v":""},{"$f":"IF('Outil Recensement simplifié'!BJ95=\"Oui\",\"Yes\",IF('Outil Recensement simplifié'!BJ95=\"Non\",\"No\",IF('Outil Recensement simplifié'!BJ95=\"O\",\"Yes\",IF('Outil Recensement simplifié'!BJ95=\"N\",\"No\",\"\"))))","v":""},{"$f":"IF('Outil Recensement simplifié'!BK95>0,'Outil Recensement simplifié'!BK95,\"\")","v":""},{"$f":"IF('Outil Recensement simplifié'!BL95>0,'Outil Recensement simplifié'!BL95,\"\")","v":""},{"$f":"IF('Outil Recensement simplifié'!BM95>0,'Outil Recensement simplifié'!BM95,\"\")","v":""},{"$f":"IF('Outil Recensement simplifié'!BN95=\"Homme\",\"Male\",IF('Outil Recensement simplifié'!BN95=\"Femme\",\"Female\",IF('Outil Recensement simplifié'!BN95=\"H\",\"Male\",IF('Outil Recensement simplifié'!BN95=\"F\",\"Female\",\"\"))))","v":""},{"$f":"IF('Outil Recensement simplifié'!BO95=\"Oui\",\"Yes\",IF('Outil Recensement simplifié'!BO95=\"Non\",\"No\",IF('Outil Recensement simplifié'!BO95=\"O\",\"Yes\",IF('Outil Recensement simplifié'!BO95=\"N\",\"No\",\"\"))))","v":""},{"$f":"IF('Outil Recensement simplifié'!BP95=\"Oui\",\"Yes\",IF('Outil Recensement simplifié'!BP95=\"Non\",\"No\",IF('Outil Recensement simplifié'!BP95=\"O\",\"Yes\",IF('Outil Recensement simplifié'!BP95=\"N\",\"No\",\"\"))))","v":""},{"$f":"IF('Outil Recensement simplifié'!BQ95>0,'Outil Recensement simplifié'!BQ95,\"\")","v":""},{"$f":"IF('Outil Recensement simplifié'!BR95>0,'Outil Recensement simplifié'!BR95,\"\")","v":""},{"$f":"IF('Outil Recensement simplifié'!BS95>0,'Outil Recensement simplifié'!BS95,\"\")","v":""},{"$f":"IF('Outil Recensement simplifié'!BT95=\"Homme\",\"Male\",IF('Outil Recensement simplifié'!BT95=\"Femme\",\"Female\",IF('Outil Recensement simplifié'!BT95=\"H\",\"Male\",IF('Outil Recensement simplifié'!BT95=\"F\",\"Female\",\"\"))))","v":""},{"$f":"IF('Outil Recensement simplifié'!BU95=\"Oui\",\"Yes\",IF('Outil Recensement simplifié'!BU95=\"Non\",\"No\",IF('Outil Recensement simplifié'!BU95=\"O\",\"Yes\",IF('Outil Recensement simplifié'!BU95=\"N\",\"No\",\"\"))))","v":""},{"$f":"IF('Outil Recensement simplifié'!BV95=\"Oui\",\"Yes\",IF('Outil Recensement simplifié'!BV95=\"Non\",\"No\",IF('Outil Recensement simplifié'!BV95=\"O\",\"Yes\",IF('Outil Recensement simplifié'!BV95=\"N\",\"No\",\"\"))))","v":""},{"$f":"IF('Outil Recensement simplifié'!BW95>0,'Outil Recensement simplifié'!BW95,\"\")","v":""},{"$f":"IF('Outil Recensement simplifié'!BX95>0,'Outil Recensement simplifié'!BX95,\"\")","v":""},{"$f":"IF('Outil Recensement simplifié'!BY95>0,'Outil Recensement simplifié'!BY95,\"\")","v":""},{"$f":"IF('Outil Recensement simplifié'!BZ95=\"Homme\",\"Male\",IF('Outil Recensement simplifié'!BZ95=\"Femme\",\"Female\",IF('Outil Recensement simplifié'!BZ95=\"H\",\"Male\",IF('Outil Recensement simplifié'!BZ95=\"F\",\"Female\",\"\"))))","v":""},{"$f":"IF('Outil Recensement simplifié'!CA95=\"Oui\",\"Yes\",IF('Outil Recensement simplifié'!CA95=\"Non\",\"No\",IF('Outil Recensement simplifié'!CA95=\"O\",\"Yes\",IF('Outil Recensement simplifié'!CA95=\"N\",\"No\",\"\"))))","v":""},{"$f":"IF('Outil Recensement simplifié'!CB95=\"Oui\",\"Yes\",IF('Outil Recensement simplifié'!CB95=\"Non\",\"No\",IF('Outil Recensement simplifié'!CB95=\"O\",\"Yes\",IF('Outil Recensement simplifié'!CB95=\"N\",\"No\",\"\"))))","v":""},{"$f":"IF('Outil Recensement simplifié'!CH95>0,'Outil Recensement simplifié'!CH95,\"\")","v":"    "}]
[{"$f":"IF('Outil Recensement simplifié'!A96>0,'Outil Recensement simplifié'!A96,\"\")","v":""},{"$f":"IF('Outil Recensement simplifié'!B96>0,'Outil Recensement simplifié'!B96,\"\")","v":""},{"$f":"IF('Outil Recensement simplifié'!C96>0,'Outil Recensement simplifié'!C96,\"\")","v":""},{"$f":"IF('Outil Recensement simplifié'!D96>0,'Outil Recensement simplifié'!D96,\"\")","v":""},{"$f":"IF('Outil Recensement simplifié'!E96>0,TEXT('Outil Recensement simplifié'!E96,\"000\"),\"\")","v":""},{"$f":"IF('Outil Recensement simplifié'!F96>0,'Outil Recensement simplifié'!F96,\"\")","v":""},{"$f":"IF('Outil Recensement simplifié'!G96>0,'Outil Recensement simplifié'!G96,\"\")","v":""},{"$f":"IF('Outil Recensement simplifié'!I96>0,'Outil Recensement simplifié'!I96,\"\")","v":""},{"$f":"IF('Outil Recensement simplifié'!J96>0,'Outil Recensement simplifié'!J96,\"\")","v":""},{"$f":"IF('Outil Recensement simplifié'!K96>0,'Outil Recensement simplifié'!K96,\"\")","v":""},{"$f":"IF('Outil Recensement simplifié'!L96>0,'Outil Recensement simplifié'!L96,\"\")","v":""},{"$f":"IF('Outil Recensement simplifié'!M96=\"Homme\",\"Male\",IF('Outil Recensement simplifié'!M96=\"Femme\",\"Female\",IF('Outil Recensement simplifié'!M96=\"H\",\"Male\",IF('Outil Recensement simplifié'!M96=\"F\",\"Female\",\"\"))))","v":""},{"$f":"IF('Outil Recensement simplifié'!N96=\"Oui\",\"Yes\",IF('Outil Recensement simplifié'!N96=\"Non\",\"No\",IF('Outil Recensement simplifié'!N96=\"O\",\"Yes\",IF('Outil Recensement simplifié'!N96=\"N\",\"No\",\"\"))))","v":""},{"$f":"IF('Outil Recensement simplifié'!O96=\"Non\",\"Single\",IF('Outil Recensement simplifié'!O96=\"Oui\",\"Family\",IF('Outil Recensement simplifié'!O96=\"N\",\"Single\",IF('Outil Recensement simplifié'!O96=\"O\",\"Family\",IF('Outil Recensement simplifié'!O96=\"En vigueur\",\"Family\",\"\")))))","v":""},{"$f":"IF('Outil Recensement simplifié'!P96=\"Anglais\",\"English\",IF('Outil Recensement simplifié'!P96=\"Français\",\"French\",IF('Outil Recensement simplifié'!P96=\"A\",\"English\",IF('Outil Recensement simplifié'!P96=\"F\",\"French\",\"\"))))","v":""},{"$f":"IF('Outil Recensement simplifié'!Q96=\"Oui\",\"Yes\",IF('Outil Recensement simplifié'!Q96=\"Non\",\"No\",IF('Outil Recensement simplifié'!Q96=\"O\",\"Yes\",IF('Outil Recensement simplifié'!Q96=\"N\",\"No\",\"\"))))","v":""},{"$f":"IF('Outil Recensement simplifié'!R96>0,'Outil Recensement simplifié'!R96,\"\")","v":""},{"$f":"IF('Outil Recensement simplifié'!S96=\"Annuelle\",\"Annually\",IF('Outil Recensement simplifié'!S96=\"Mensuelle\",\"Monthly\",IF('Outil Recensement simplifié'!S96=\"Aux deux semaines\",\"Biweekly\",IF('Outil Recensement simplifié'!S96=\"Bimensuelle\",\"Semi-Monthly\",IF('Outil Recensement simplifié'!S96=\"Hebdomadaire\",\"Weekly\",IF('Outil Recensement simplifié'!S96=\"Horaire\",\"Hourly\",\"\"))))))","v":""},{"$f":"IF('Outil Recensement simplifié'!T96>0,'Outil Recensement simplifié'!T96,\"\")","v":""},{"$f":"IF('Outil Recensement simplifié'!U96>0,'Outil Recensement simplifié'!U96,\"\")","v":""},{"$f":"IF('Outil Recensement simplifié'!V96=\"Exemptée\",\"Yes\",\"\")","v":""},{"$f":"IF('Outil Recensement simplifié'!W96=\"Exemptée\",\"Yes\",\"\")","v":""},{"$f":"IF('Outil Recensement simplifié'!X96>0,'Outil Recensement simplifié'!X96,\"\")","v":""},{"$f":"IF('Outil Recensement simplifié'!Y96>0,'Outil Recensement simplifié'!Y96,\"\")","v":""},{"$f":"IF('Outil Recensement simplifié'!Z96>0,'Outil Recensement simplifié'!Z96,\"\")","v":""},{"$f":"IF('Outil Recensement simplifié'!AA96>0,'Outil Recensement simplifié'!AA96,\"\")","v":""},{"$f":"IF('Outil Recensement simplifié'!AB96>0,'Outil Recensement simplifié'!AB96,\"\")","v":""},{"$f":"IF('Outil Recensement simplifié'!AC96>0,'Outil Recensement simplifié'!AC96,\"\")","v":" "},{"$f":"IF('Outil Recensement simplifié'!AE96>0,'Outil Recensement simplifié'!AE96&\" \",\"\")&IF('Outil Recensement simplifié'!AD96>0,'Outil Recensement simplifié'!AD96,\"\")","v":""},null,{"$f":"IF('Outil Recensement simplifié'!AF96>0,'Outil Recensement simplifié'!AF96,\"\")","v":""},{"$f":"IF('Outil Recensement simplifié'!AG96>0,'Outil Recensement simplifié'!AG96,\"\")","v":""},{"$f":"IF('Outil Recensement simplifié'!AH96>0,'Outil Recensement simplifié'!AH96,\"\")","v":""},{"$f":"IF('Outil Recensement simplifié'!AI96>0,'Outil Recensement simplifié'!AI96,\"\")","v":""},{"$f":"IF('Outil Recensement simplifié'!AJ96>0,'Outil Recensement simplifié'!AJ96,\"\")","v":""},{"$f":"IF('Outil Recensement simplifié'!AK96>0,'Outil Recensement simplifié'!AK96,\"\")","v":""},{"$f":"IF('Outil Recensement simplifié'!AL96>0,'Outil Recensement simplifié'!AL96,\"\")","v":""},{"$f":"IF('Outil Recensement simplifié'!AM96>0,'Outil Recensement simplifié'!AM96,\"\")","v":""},{"$f":"IF('Outil Recensement simplifié'!AN96=\"Homme\",\"Male\",IF('Outil Recensement simplifié'!AN96=\"Femme\",\"Female\",IF('Outil Recensement simplifié'!AN96=\"H\",\"Male\",IF('Outil Recensement simplifié'!AN96=\"F\",\"Female\",\"\"))))","v":""},{"$f":"IF('Outil Recensement simplifié'!AO96=\"Individuelle\",\"Single\",IF('Outil Recensement simplifié'!AO96=\"Famille\",\"Family\",IF('Outil Recensement simplifié'!AO96=\"Individuel\",\"Single\",IF('Outil Recensement simplifié'!AO96=\"Familiale\",\"Family\",IF('Outil Recensement simplifié'!AO96=\"I\",\"Single\",IF('Outil Recensement simplifié'!AO96=\"F\",\"Family\",\"\"))))))","v":""},{"$f":"IF('Outil Recensement simplifié'!AP96=\"Individuelle\",\"Single\",IF('Outil Recensement simplifié'!AP96=\"Famille\",\"Family\",IF('Outil Recensement simplifié'!AP96=\"Individuel\",\"Single\",IF('Outil Recensement simplifié'!AP96=\"Familiale\",\"Family\",IF('Outil Recensement simplifié'!AP96=\"I\",\"Single\",IF('Outil Recensement simplifié'!AP96=\"F\",\"Family\",\"\"))))))","v":""},{"$f":"IF('Outil Recensement simplifié'!AQ96>0,'Outil Recensement simplifié'!AQ96,\"\")","v":""},{"$f":"IF('Outil Recensement simplifié'!AR96=\"Oui\",\"Yes\",IF('Outil Recensement simplifié'!AR96=\"Non\",\"No\",IF('Outil Recensement simplifié'!AR96=\"O\",\"Yes\",IF('Outil Recensement simplifié'!AR96=\"N\",\"No\",\"\"))))","v":""},{"$f":"IF('Outil Recensement simplifié'!AS96>0,'Outil Recensement simplifié'!AS96,\"\")","v":""},{"$f":"IF('Outil Recensement simplifié'!AT96>0,'Outil Recensement simplifié'!AT96,\"\")","v":""},{"$f":"IF('Outil Recensement simplifié'!AU96>0,'Outil Recensement simplifié'!AU96,\"\")","v":""},{"$f":"IF('Outil Recensement simplifié'!AV96=\"Homme\",\"Male\",IF('Outil Recensement simplifié'!AV96=\"Femme\",\"Female\",IF('Outil Recensement simplifié'!AV96=\"H\",\"Male\",IF('Outil Recensement simplifié'!AV96=\"F\",\"Female\",\"\"))))","v":""},{"$f":"IF('Outil Recensement simplifié'!AW96=\"Oui\",\"Yes\",IF('Outil Recensement simplifié'!AW96=\"Non\",\"No\",IF('Outil Recensement simplifié'!AW96=\"O\",\"Yes\",IF('Outil Recensement simplifié'!AW96=\"N\",\"No\",\"\"))))","v":""},{"$f":"IF('Outil Recensement simplifié'!AX96=\"Oui\",\"Yes\",IF('Outil Recensement simplifié'!AX96=\"Non\",\"No\",IF('Outil Recensement simplifié'!AX96=\"O\",\"Yes\",IF('Outil Recensement simplifié'!AX96=\"N\",\"No\",\"\"))))","v":""},{"$f":"IF('Outil Recensement simplifié'!AY96>0,'Outil Recensement simplifié'!AY96,\"\")","v":""},{"$f":"IF('Outil Recensement simplifié'!AZ96>0,'Outil Recensement simplifié'!AZ96,\"\")","v":""},{"$f":"IF('Outil Recensement simplifié'!BA96>0,'Outil Recensement simplifié'!BA96,\"\")","v":""},{"$f":"IF('Outil Recensement simplifié'!BB96=\"Homme\",\"Male\",IF('Outil Recensement simplifié'!BB96=\"Femme\",\"Female\",IF('Outil Recensement simplifié'!BB96=\"H\",\"Male\",IF('Outil Recensement simplifié'!BB96=\"F\",\"Female\",\"\"))))","v":""},{"$f":"IF('Outil Recensement simplifié'!BC96=\"Oui\",\"Yes\",IF('Outil Recensement simplifié'!BC96=\"Non\",\"No\",IF('Outil Recensement simplifié'!BC96=\"O\",\"Yes\",IF('Outil Recensement simplifié'!BC96=\"N\",\"No\",\"\"))))","v":""},{"$f":"IF('Outil Recensement simplifié'!BD96=\"Oui\",\"Yes\",IF('Outil Recensement simplifié'!BD96=\"Non\",\"No\",IF('Outil Recensement simplifié'!BD96=\"O\",\"Yes\",IF('Outil Recensement simplifié'!BD96=\"N\",\"No\",\"\"))))","v":""},{"$f":"IF('Outil Recensement simplifié'!BE96>0,'Outil Recensement simplifié'!BE96,\"\")","v":""},{"$f":"IF('Outil Recensement simplifié'!BF96>0,'Outil Recensement simplifié'!BF96,\"\")","v":""},{"$f":"IF('Outil Recensement simplifié'!BG96>0,'Outil Recensement simplifié'!BG96,\"\")","v":""},{"$f":"IF('Outil Recensement simplifié'!BH96=\"Homme\",\"Male\",IF('Outil Recensement simplifié'!BH96=\"Femme\",\"Female\",IF('Outil Recensement simplifié'!BH96=\"H\",\"Male\",IF('Outil Recensement simplifié'!BH96=\"F\",\"Female\",\"\"))))","v":""},{"$f":"IF('Outil Recensement simplifié'!BI96=\"Oui\",\"Yes\",IF('Outil Recensement simplifié'!BI96=\"Non\",\"No\",IF('Outil Recensement simplifié'!BI96=\"O\",\"Yes\",IF('Outil Recensement simplifié'!BI96=\"N\",\"No\",\"\"))))","v":""},{"$f":"IF('Outil Recensement simplifié'!BJ96=\"Oui\",\"Yes\",IF('Outil Recensement simplifié'!BJ96=\"Non\",\"No\",IF('Outil Recensement simplifié'!BJ96=\"O\",\"Yes\",IF('Outil Recensement simplifié'!BJ96=\"N\",\"No\",\"\"))))","v":""},{"$f":"IF('Outil Recensement simplifié'!BK96>0,'Outil Recensement simplifié'!BK96,\"\")","v":""},{"$f":"IF('Outil Recensement simplifié'!BL96>0,'Outil Recensement simplifié'!BL96,\"\")","v":""},{"$f":"IF('Outil Recensement simplifié'!BM96>0,'Outil Recensement simplifié'!BM96,\"\")","v":""},{"$f":"IF('Outil Recensement simplifié'!BN96=\"Homme\",\"Male\",IF('Outil Recensement simplifié'!BN96=\"Femme\",\"Female\",IF('Outil Recensement simplifié'!BN96=\"H\",\"Male\",IF('Outil Recensement simplifié'!BN96=\"F\",\"Female\",\"\"))))","v":""},{"$f":"IF('Outil Recensement simplifié'!BO96=\"Oui\",\"Yes\",IF('Outil Recensement simplifié'!BO96=\"Non\",\"No\",IF('Outil Recensement simplifié'!BO96=\"O\",\"Yes\",IF('Outil Recensement simplifié'!BO96=\"N\",\"No\",\"\"))))","v":""},{"$f":"IF('Outil Recensement simplifié'!BP96=\"Oui\",\"Yes\",IF('Outil Recensement simplifié'!BP96=\"Non\",\"No\",IF('Outil Recensement simplifié'!BP96=\"O\",\"Yes\",IF('Outil Recensement simplifié'!BP96=\"N\",\"No\",\"\"))))","v":""},{"$f":"IF('Outil Recensement simplifié'!BQ96>0,'Outil Recensement simplifié'!BQ96,\"\")","v":""},{"$f":"IF('Outil Recensement simplifié'!BR96>0,'Outil Recensement simplifié'!BR96,\"\")","v":""},{"$f":"IF('Outil Recensement simplifié'!BS96>0,'Outil Recensement simplifié'!BS96,\"\")","v":""},{"$f":"IF('Outil Recensement simplifié'!BT96=\"Homme\",\"Male\",IF('Outil Recensement simplifié'!BT96=\"Femme\",\"Female\",IF('Outil Recensement simplifié'!BT96=\"H\",\"Male\",IF('Outil Recensement simplifié'!BT96=\"F\",\"Female\",\"\"))))","v":""},{"$f":"IF('Outil Recensement simplifié'!BU96=\"Oui\",\"Yes\",IF('Outil Recensement simplifié'!BU96=\"Non\",\"No\",IF('Outil Recensement simplifié'!BU96=\"O\",\"Yes\",IF('Outil Recensement simplifié'!BU96=\"N\",\"No\",\"\"))))","v":""},{"$f":"IF('Outil Recensement simplifié'!BV96=\"Oui\",\"Yes\",IF('Outil Recensement simplifié'!BV96=\"Non\",\"No\",IF('Outil Recensement simplifié'!BV96=\"O\",\"Yes\",IF('Outil Recensement simplifié'!BV96=\"N\",\"No\",\"\"))))","v":""},{"$f":"IF('Outil Recensement simplifié'!BW96>0,'Outil Recensement simplifié'!BW96,\"\")","v":""},{"$f":"IF('Outil Recensement simplifié'!BX96>0,'Outil Recensement simplifié'!BX96,\"\")","v":""},{"$f":"IF('Outil Recensement simplifié'!BY96>0,'Outil Recensement simplifié'!BY96,\"\")","v":""},{"$f":"IF('Outil Recensement simplifié'!BZ96=\"Homme\",\"Male\",IF('Outil Recensement simplifié'!BZ96=\"Femme\",\"Female\",IF('Outil Recensement simplifié'!BZ96=\"H\",\"Male\",IF('Outil Recensement simplifié'!BZ96=\"F\",\"Female\",\"\"))))","v":""},{"$f":"IF('Outil Recensement simplifié'!CA96=\"Oui\",\"Yes\",IF('Outil Recensement simplifié'!CA96=\"Non\",\"No\",IF('Outil Recensement simplifié'!CA96=\"O\",\"Yes\",IF('Outil Recensement simplifié'!CA96=\"N\",\"No\",\"\"))))","v":""},{"$f":"IF('Outil Recensement simplifié'!CB96=\"Oui\",\"Yes\",IF('Outil Recensement simplifié'!CB96=\"Non\",\"No\",IF('Outil Recensement simplifié'!CB96=\"O\",\"Yes\",IF('Outil Recensement simplifié'!CB96=\"N\",\"No\",\"\"))))","v":""},{"$f":"IF('Outil Recensement simplifié'!CH96>0,'Outil Recensement simplifié'!CH96,\"\")","v":"    "}]
[{"$f":"IF('Outil Recensement simplifié'!A97>0,'Outil Recensement simplifié'!A97,\"\")","v":""},{"$f":"IF('Outil Recensement simplifié'!B97>0,'Outil Recensement simplifié'!B97,\"\")","v":""},{"$f":"IF('Outil Recensement simplifié'!C97>0,'Outil Recensement simplifié'!C97,\"\")","v":""},{"$f":"IF('Outil Recensement simplifié'!D97>0,'Outil Recensement simplifié'!D97,\"\")","v":""},{"$f":"IF('Outil Recensement simplifié'!E97>0,TEXT('Outil Recensement simplifié'!E97,\"000\"),\"\")","v":""},{"$f":"IF('Outil Recensement simplifié'!F97>0,'Outil Recensement simplifié'!F97,\"\")","v":""},{"$f":"IF('Outil Recensement simplifié'!G97>0,'Outil Recensement simplifié'!G97,\"\")","v":""},{"$f":"IF('Outil Recensement simplifié'!I97>0,'Outil Recensement simplifié'!I97,\"\")","v":""},{"$f":"IF('Outil Recensement simplifié'!J97>0,'Outil Recensement simplifié'!J97,\"\")","v":""},{"$f":"IF('Outil Recensement simplifié'!K97>0,'Outil Recensement simplifié'!K97,\"\")","v":""},{"$f":"IF('Outil Recensement simplifié'!L97>0,'Outil Recensement simplifié'!L97,\"\")","v":""},{"$f":"IF('Outil Recensement simplifié'!M97=\"Homme\",\"Male\",IF('Outil Recensement simplifié'!M97=\"Femme\",\"Female\",IF('Outil Recensement simplifié'!M97=\"H\",\"Male\",IF('Outil Recensement simplifié'!M97=\"F\",\"Female\",\"\"))))","v":""},{"$f":"IF('Outil Recensement simplifié'!N97=\"Oui\",\"Yes\",IF('Outil Recensement simplifié'!N97=\"Non\",\"No\",IF('Outil Recensement simplifié'!N97=\"O\",\"Yes\",IF('Outil Recensement simplifié'!N97=\"N\",\"No\",\"\"))))","v":""},{"$f":"IF('Outil Recensement simplifié'!O97=\"Non\",\"Single\",IF('Outil Recensement simplifié'!O97=\"Oui\",\"Family\",IF('Outil Recensement simplifié'!O97=\"N\",\"Single\",IF('Outil Recensement simplifié'!O97=\"O\",\"Family\",IF('Outil Recensement simplifié'!O97=\"En vigueur\",\"Family\",\"\")))))","v":""},{"$f":"IF('Outil Recensement simplifié'!P97=\"Anglais\",\"English\",IF('Outil Recensement simplifié'!P97=\"Français\",\"French\",IF('Outil Recensement simplifié'!P97=\"A\",\"English\",IF('Outil Recensement simplifié'!P97=\"F\",\"French\",\"\"))))","v":""},{"$f":"IF('Outil Recensement simplifié'!Q97=\"Oui\",\"Yes\",IF('Outil Recensement simplifié'!Q97=\"Non\",\"No\",IF('Outil Recensement simplifié'!Q97=\"O\",\"Yes\",IF('Outil Recensement simplifié'!Q97=\"N\",\"No\",\"\"))))","v":""},{"$f":"IF('Outil Recensement simplifié'!R97>0,'Outil Recensement simplifié'!R97,\"\")","v":""},{"$f":"IF('Outil Recensement simplifié'!S97=\"Annuelle\",\"Annually\",IF('Outil Recensement simplifié'!S97=\"Mensuelle\",\"Monthly\",IF('Outil Recensement simplifié'!S97=\"Aux deux semaines\",\"Biweekly\",IF('Outil Recensement simplifié'!S97=\"Bimensuelle\",\"Semi-Monthly\",IF('Outil Recensement simplifié'!S97=\"Hebdomadaire\",\"Weekly\",IF('Outil Recensement simplifié'!S97=\"Horaire\",\"Hourly\",\"\"))))))","v":""},{"$f":"IF('Outil Recensement simplifié'!T97>0,'Outil Recensement simplifié'!T97,\"\")","v":""},{"$f":"IF('Outil Recensement simplifié'!U97>0,'Outil Recensement simplifié'!U97,\"\")","v":""},{"$f":"IF('Outil Recensement simplifié'!V97=\"Exemptée\",\"Yes\",\"\")","v":""},{"$f":"IF('Outil Recensement simplifié'!W97=\"Exemptée\",\"Yes\",\"\")","v":""},{"$f":"IF('Outil Recensement simplifié'!X97>0,'Outil Recensement simplifié'!X97,\"\")","v":""},{"$f":"IF('Outil Recensement simplifié'!Y97>0,'Outil Recensement simplifié'!Y97,\"\")","v":""},{"$f":"IF('Outil Recensement simplifié'!Z97>0,'Outil Recensement simplifié'!Z97,\"\")","v":""},{"$f":"IF('Outil Recensement simplifié'!AA97>0,'Outil Recensement simplifié'!AA97,\"\")","v":""},{"$f":"IF('Outil Recensement simplifié'!AB97>0,'Outil Recensement simplifié'!AB97,\"\")","v":""},{"$f":"IF('Outil Recensement simplifié'!AC97>0,'Outil Recensement simplifié'!AC97,\"\")","v":" "},{"$f":"IF('Outil Recensement simplifié'!AE97>0,'Outil Recensement simplifié'!AE97&\" \",\"\")&IF('Outil Recensement simplifié'!AD97>0,'Outil Recensement simplifié'!AD97,\"\")","v":""},null,{"$f":"IF('Outil Recensement simplifié'!AF97>0,'Outil Recensement simplifié'!AF97,\"\")","v":""},{"$f":"IF('Outil Recensement simplifié'!AG97>0,'Outil Recensement simplifié'!AG97,\"\")","v":""},{"$f":"IF('Outil Recensement simplifié'!AH97>0,'Outil Recensement simplifié'!AH97,\"\")","v":""},{"$f":"IF('Outil Recensement simplifié'!AI97>0,'Outil Recensement simplifié'!AI97,\"\")","v":""},{"$f":"IF('Outil Recensement simplifié'!AJ97>0,'Outil Recensement simplifié'!AJ97,\"\")","v":""},{"$f":"IF('Outil Recensement simplifié'!AK97>0,'Outil Recensement simplifié'!AK97,\"\")","v":""},{"$f":"IF('Outil Recensement simplifié'!AL97>0,'Outil Recensement simplifié'!AL97,\"\")","v":""},{"$f":"IF('Outil Recensement simplifié'!AM97>0,'Outil Recensement simplifié'!AM97,\"\")","v":""},{"$f":"IF('Outil Recensement simplifié'!AN97=\"Homme\",\"Male\",IF('Outil Recensement simplifié'!AN97=\"Femme\",\"Female\",IF('Outil Recensement simplifié'!AN97=\"H\",\"Male\",IF('Outil Recensement simplifié'!AN97=\"F\",\"Female\",\"\"))))","v":""},{"$f":"IF('Outil Recensement simplifié'!AO97=\"Individuelle\",\"Single\",IF('Outil Recensement simplifié'!AO97=\"Famille\",\"Family\",IF('Outil Recensement simplifié'!AO97=\"Individuel\",\"Single\",IF('Outil Recensement simplifié'!AO97=\"Familiale\",\"Family\",IF('Outil Recensement simplifié'!AO97=\"I\",\"Single\",IF('Outil Recensement simplifié'!AO97=\"F\",\"Family\",\"\"))))))","v":""},{"$f":"IF('Outil Recensement simplifié'!AP97=\"Individuelle\",\"Single\",IF('Outil Recensement simplifié'!AP97=\"Famille\",\"Family\",IF('Outil Recensement simplifié'!AP97=\"Individuel\",\"Single\",IF('Outil Recensement simplifié'!AP97=\"Familiale\",\"Family\",IF('Outil Recensement simplifié'!AP97=\"I\",\"Single\",IF('Outil Recensement simplifié'!AP97=\"F\",\"Family\",\"\"))))))","v":""},{"$f":"IF('Outil Recensement simplifié'!AQ97>0,'Outil Recensement simplifié'!AQ97,\"\")","v":""},{"$f":"IF('Outil Recensement simplifié'!AR97=\"Oui\",\"Yes\",IF('Outil Recensement simplifié'!AR97=\"Non\",\"No\",IF('Outil Recensement simplifié'!AR97=\"O\",\"Yes\",IF('Outil Recensement simplifié'!AR97=\"N\",\"No\",\"\"))))","v":""},{"$f":"IF('Outil Recensement simplifié'!AS97>0,'Outil Recensement simplifié'!AS97,\"\")","v":""},{"$f":"IF('Outil Recensement simplifié'!AT97>0,'Outil Recensement simplifié'!AT97,\"\")","v":""},{"$f":"IF('Outil Recensement simplifié'!AU97>0,'Outil Recensement simplifié'!AU97,\"\")","v":""},{"$f":"IF('Outil Recensement simplifié'!AV97=\"Homme\",\"Male\",IF('Outil Recensement simplifié'!AV97=\"Femme\",\"Female\",IF('Outil Recensement simplifié'!AV97=\"H\",\"Male\",IF('Outil Recensement simplifié'!AV97=\"F\",\"Female\",\"\"))))","v":""},{"$f":"IF('Outil Recensement simplifié'!AW97=\"Oui\",\"Yes\",IF('Outil Recensement simplifié'!AW97=\"Non\",\"No\",IF('Outil Recensement simplifié'!AW97=\"O\",\"Yes\",IF('Outil Recensement simplifié'!AW97=\"N\",\"No\",\"\"))))","v":""},{"$f":"IF('Outil Recensement simplifié'!AX97=\"Oui\",\"Yes\",IF('Outil Recensement simplifié'!AX97=\"Non\",\"No\",IF('Outil Recensement simplifié'!AX97=\"O\",\"Yes\",IF('Outil Recensement simplifié'!AX97=\"N\",\"No\",\"\"))))","v":""},{"$f":"IF('Outil Recensement simplifié'!AY97>0,'Outil Recensement simplifié'!AY97,\"\")","v":""},{"$f":"IF('Outil Recensement simplifié'!AZ97>0,'Outil Recensement simplifié'!AZ97,\"\")","v":""},{"$f":"IF('Outil Recensement simplifié'!BA97>0,'Outil Recensement simplifié'!BA97,\"\")","v":""},{"$f":"IF('Outil Recensement simplifié'!BB97=\"Homme\",\"Male\",IF('Outil Recensement simplifié'!BB97=\"Femme\",\"Female\",IF('Outil Recensement simplifié'!BB97=\"H\",\"Male\",IF('Outil Recensement simplifié'!BB97=\"F\",\"Female\",\"\"))))","v":""},{"$f":"IF('Outil Recensement simplifié'!BC97=\"Oui\",\"Yes\",IF('Outil Recensement simplifié'!BC97=\"Non\",\"No\",IF('Outil Recensement simplifié'!BC97=\"O\",\"Yes\",IF('Outil Recensement simplifié'!BC97=\"N\",\"No\",\"\"))))","v":""},{"$f":"IF('Outil Recensement simplifié'!BD97=\"Oui\",\"Yes\",IF('Outil Recensement simplifié'!BD97=\"Non\",\"No\",IF('Outil Recensement simplifié'!BD97=\"O\",\"Yes\",IF('Outil Recensement simplifié'!BD97=\"N\",\"No\",\"\"))))","v":""},{"$f":"IF('Outil Recensement simplifié'!BE97>0,'Outil Recensement simplifié'!BE97,\"\")","v":""},{"$f":"IF('Outil Recensement simplifié'!BF97>0,'Outil Recensement simplifié'!BF97,\"\")","v":""},{"$f":"IF('Outil Recensement simplifié'!BG97>0,'Outil Recensement simplifié'!BG97,\"\")","v":""},{"$f":"IF('Outil Recensement simplifié'!BH97=\"Homme\",\"Male\",IF('Outil Recensement simplifié'!BH97=\"Femme\",\"Female\",IF('Outil Recensement simplifié'!BH97=\"H\",\"Male\",IF('Outil Recensement simplifié'!BH97=\"F\",\"Female\",\"\"))))","v":""},{"$f":"IF('Outil Recensement simplifié'!BI97=\"Oui\",\"Yes\",IF('Outil Recensement simplifié'!BI97=\"Non\",\"No\",IF('Outil Recensement simplifié'!BI97=\"O\",\"Yes\",IF('Outil Recensement simplifié'!BI97=\"N\",\"No\",\"\"))))","v":""},{"$f":"IF('Outil Recensement simplifié'!BJ97=\"Oui\",\"Yes\",IF('Outil Recensement simplifié'!BJ97=\"Non\",\"No\",IF('Outil Recensement simplifié'!BJ97=\"O\",\"Yes\",IF('Outil Recensement simplifié'!BJ97=\"N\",\"No\",\"\"))))","v":""},{"$f":"IF('Outil Recensement simplifié'!BK97>0,'Outil Recensement simplifié'!BK97,\"\")","v":""},{"$f":"IF('Outil Recensement simplifié'!BL97>0,'Outil Recensement simplifié'!BL97,\"\")","v":""},{"$f":"IF('Outil Recensement simplifié'!BM97>0,'Outil Recensement simplifié'!BM97,\"\")","v":""},{"$f":"IF('Outil Recensement simplifié'!BN97=\"Homme\",\"Male\",IF('Outil Recensement simplifié'!BN97=\"Femme\",\"Female\",IF('Outil Recensement simplifié'!BN97=\"H\",\"Male\",IF('Outil Recensement simplifié'!BN97=\"F\",\"Female\",\"\"))))","v":""},{"$f":"IF('Outil Recensement simplifié'!BO97=\"Oui\",\"Yes\",IF('Outil Recensement simplifié'!BO97=\"Non\",\"No\",IF('Outil Recensement simplifié'!BO97=\"O\",\"Yes\",IF('Outil Recensement simplifié'!BO97=\"N\",\"No\",\"\"))))","v":""},{"$f":"IF('Outil Recensement simplifié'!BP97=\"Oui\",\"Yes\",IF('Outil Recensement simplifié'!BP97=\"Non\",\"No\",IF('Outil Recensement simplifié'!BP97=\"O\",\"Yes\",IF('Outil Recensement simplifié'!BP97=\"N\",\"No\",\"\"))))","v":""},{"$f":"IF('Outil Recensement simplifié'!BQ97>0,'Outil Recensement simplifié'!BQ97,\"\")","v":""},{"$f":"IF('Outil Recensement simplifié'!BR97>0,'Outil Recensement simplifié'!BR97,\"\")","v":""},{"$f":"IF('Outil Recensement simplifié'!BS97>0,'Outil Recensement simplifié'!BS97,\"\")","v":""},{"$f":"IF('Outil Recensement simplifié'!BT97=\"Homme\",\"Male\",IF('Outil Recensement simplifié'!BT97=\"Femme\",\"Female\",IF('Outil Recensement simplifié'!BT97=\"H\",\"Male\",IF('Outil Recensement simplifié'!BT97=\"F\",\"Female\",\"\"))))","v":""},{"$f":"IF('Outil Recensement simplifié'!BU97=\"Oui\",\"Yes\",IF('Outil Recensement simplifié'!BU97=\"Non\",\"No\",IF('Outil Recensement simplifié'!BU97=\"O\",\"Yes\",IF('Outil Recensement simplifié'!BU97=\"N\",\"No\",\"\"))))","v":""},{"$f":"IF('Outil Recensement simplifié'!BV97=\"Oui\",\"Yes\",IF('Outil Recensement simplifié'!BV97=\"Non\",\"No\",IF('Outil Recensement simplifié'!BV97=\"O\",\"Yes\",IF('Outil Recensement simplifié'!BV97=\"N\",\"No\",\"\"))))","v":""},{"$f":"IF('Outil Recensement simplifié'!BW97>0,'Outil Recensement simplifié'!BW97,\"\")","v":""},{"$f":"IF('Outil Recensement simplifié'!BX97>0,'Outil Recensement simplifié'!BX97,\"\")","v":""},{"$f":"IF('Outil Recensement simplifié'!BY97>0,'Outil Recensement simplifié'!BY97,\"\")","v":""},{"$f":"IF('Outil Recensement simplifié'!BZ97=\"Homme\",\"Male\",IF('Outil Recensement simplifié'!BZ97=\"Femme\",\"Female\",IF('Outil Recensement simplifié'!BZ97=\"H\",\"Male\",IF('Outil Recensement simplifié'!BZ97=\"F\",\"Female\",\"\"))))","v":""},{"$f":"IF('Outil Recensement simplifié'!CA97=\"Oui\",\"Yes\",IF('Outil Recensement simplifié'!CA97=\"Non\",\"No\",IF('Outil Recensement simplifié'!CA97=\"O\",\"Yes\",IF('Outil Recensement simplifié'!CA97=\"N\",\"No\",\"\"))))","v":""},{"$f":"IF('Outil Recensement simplifié'!CB97=\"Oui\",\"Yes\",IF('Outil Recensement simplifié'!CB97=\"Non\",\"No\",IF('Outil Recensement simplifié'!CB97=\"O\",\"Yes\",IF('Outil Recensement simplifié'!CB97=\"N\",\"No\",\"\"))))","v":""},{"$f":"IF('Outil Recensement simplifié'!CH97>0,'Outil Recensement simplifié'!CH97,\"\")","v":"    "}]
[{"$f":"IF('Outil Recensement simplifié'!A98>0,'Outil Recensement simplifié'!A98,\"\")","v":""},{"$f":"IF('Outil Recensement simplifié'!B98>0,'Outil Recensement simplifié'!B98,\"\")","v":""},{"$f":"IF('Outil Recensement simplifié'!C98>0,'Outil Recensement simplifié'!C98,\"\")","v":""},{"$f":"IF('Outil Recensement simplifié'!D98>0,'Outil Recensement simplifié'!D98,\"\")","v":""},{"$f":"IF('Outil Recensement simplifié'!E98>0,TEXT('Outil Recensement simplifié'!E98,\"000\"),\"\")","v":""},{"$f":"IF('Outil Recensement simplifié'!F98>0,'Outil Recensement simplifié'!F98,\"\")","v":""},{"$f":"IF('Outil Recensement simplifié'!G98>0,'Outil Recensement simplifié'!G98,\"\")","v":""},{"$f":"IF('Outil Recensement simplifié'!I98>0,'Outil Recensement simplifié'!I98,\"\")","v":""},{"$f":"IF('Outil Recensement simplifié'!J98>0,'Outil Recensement simplifié'!J98,\"\")","v":""},{"$f":"IF('Outil Recensement simplifié'!K98>0,'Outil Recensement simplifié'!K98,\"\")","v":""},{"$f":"IF('Outil Recensement simplifié'!L98>0,'Outil Recensement simplifié'!L98,\"\")","v":""},{"$f":"IF('Outil Recensement simplifié'!M98=\"Homme\",\"Male\",IF('Outil Recensement simplifié'!M98=\"Femme\",\"Female\",IF('Outil Recensement simplifié'!M98=\"H\",\"Male\",IF('Outil Recensement simplifié'!M98=\"F\",\"Female\",\"\"))))","v":""},{"$f":"IF('Outil Recensement simplifié'!N98=\"Oui\",\"Yes\",IF('Outil Recensement simplifié'!N98=\"Non\",\"No\",IF('Outil Recensement simplifié'!N98=\"O\",\"Yes\",IF('Outil Recensement simplifié'!N98=\"N\",\"No\",\"\"))))","v":""},{"$f":"IF('Outil Recensement simplifié'!O98=\"Non\",\"Single\",IF('Outil Recensement simplifié'!O98=\"Oui\",\"Family\",IF('Outil Recensement simplifié'!O98=\"N\",\"Single\",IF('Outil Recensement simplifié'!O98=\"O\",\"Family\",IF('Outil Recensement simplifié'!O98=\"En vigueur\",\"Family\",\"\")))))","v":""},{"$f":"IF('Outil Recensement simplifié'!P98=\"Anglais\",\"English\",IF('Outil Recensement simplifié'!P98=\"Français\",\"French\",IF('Outil Recensement simplifié'!P98=\"A\",\"English\",IF('Outil Recensement simplifié'!P98=\"F\",\"French\",\"\"))))","v":""},{"$f":"IF('Outil Recensement simplifié'!Q98=\"Oui\",\"Yes\",IF('Outil Recensement simplifié'!Q98=\"Non\",\"No\",IF('Outil Recensement simplifié'!Q98=\"O\",\"Yes\",IF('Outil Recensement simplifié'!Q98=\"N\",\"No\",\"\"))))","v":""},{"$f":"IF('Outil Recensement simplifié'!R98>0,'Outil Recensement simplifié'!R98,\"\")","v":""},{"$f":"IF('Outil Recensement simplifié'!S98=\"Annuelle\",\"Annually\",IF('Outil Recensement simplifié'!S98=\"Mensuelle\",\"Monthly\",IF('Outil Recensement simplifié'!S98=\"Aux deux semaines\",\"Biweekly\",IF('Outil Recensement simplifié'!S98=\"Bimensuelle\",\"Semi-Monthly\",IF('Outil Recensement simplifié'!S98=\"Hebdomadaire\",\"Weekly\",IF('Outil Recensement simplifié'!S98=\"Horaire\",\"Hourly\",\"\"))))))","v":""},{"$f":"IF('Outil Recensement simplifié'!T98>0,'Outil Recensement simplifié'!T98,\"\")","v":""},{"$f":"IF('Outil Recensement simplifié'!U98>0,'Outil Recensement simplifié'!U98,\"\")","v":""},{"$f":"IF('Outil Recensement simplifié'!V98=\"Exemptée\",\"Yes\",\"\")","v":""},{"$f":"IF('Outil Recensement simplifié'!W98=\"Exemptée\",\"Yes\",\"\")","v":""},{"$f":"IF('Outil Recensement simplifié'!X98>0,'Outil Recensement simplifié'!X98,\"\")","v":""},{"$f":"IF('Outil Recensement simplifié'!Y98>0,'Outil Recensement simplifié'!Y98,\"\")","v":""},{"$f":"IF('Outil Recensement simplifié'!Z98>0,'Outil Recensement simplifié'!Z98,\"\")","v":""},{"$f":"IF('Outil Recensement simplifié'!AA98>0,'Outil Recensement simplifié'!AA98,\"\")","v":""},{"$f":"IF('Outil Recensement simplifié'!AB98>0,'Outil Recensement simplifié'!AB98,\"\")","v":""},{"$f":"IF('Outil Recensement simplifié'!AC98>0,'Outil Recensement simplifié'!AC98,\"\")","v":" "},{"$f":"IF('Outil Recensement simplifié'!AE98>0,'Outil Recensement simplifié'!AE98&\" \",\"\")&IF('Outil Recensement simplifié'!AD98>0,'Outil Recensement simplifié'!AD98,\"\")","v":""},null,{"$f":"IF('Outil Recensement simplifié'!AF98>0,'Outil Recensement simplifié'!AF98,\"\")","v":""},{"$f":"IF('Outil Recensement simplifié'!AG98>0,'Outil Recensement simplifié'!AG98,\"\")","v":""},{"$f":"IF('Outil Recensement simplifié'!AH98>0,'Outil Recensement simplifié'!AH98,\"\")","v":""},{"$f":"IF('Outil Recensement simplifié'!AI98>0,'Outil Recensement simplifié'!AI98,\"\")","v":""},{"$f":"IF('Outil Recensement simplifié'!AJ98>0,'Outil Recensement simplifié'!AJ98,\"\")","v":""},{"$f":"IF('Outil Recensement simplifié'!AK98>0,'Outil Recensement simplifié'!AK98,\"\")","v":""},{"$f":"IF('Outil Recensement simplifié'!AL98>0,'Outil Recensement simplifié'!AL98,\"\")","v":""},{"$f":"IF('Outil Recensement simplifié'!AM98>0,'Outil Recensement simplifié'!AM98,\"\")","v":""},{"$f":"IF('Outil Recensement simplifié'!AN98=\"Homme\",\"Male\",IF('Outil Recensement simplifié'!AN98=\"Femme\",\"Female\",IF('Outil Recensement simplifié'!AN98=\"H\",\"Male\",IF('Outil Recensement simplifié'!AN98=\"F\",\"Female\",\"\"))))","v":""},{"$f":"IF('Outil Recensement simplifié'!AO98=\"Individuelle\",\"Single\",IF('Outil Recensement simplifié'!AO98=\"Famille\",\"Family\",IF('Outil Recensement simplifié'!AO98=\"Individuel\",\"Single\",IF('Outil Recensement simplifié'!AO98=\"Familiale\",\"Family\",IF('Outil Recensement simplifié'!AO98=\"I\",\"Single\",IF('Outil Recensement simplifié'!AO98=\"F\",\"Family\",\"\"))))))","v":""},{"$f":"IF('Outil Recensement simplifié'!AP98=\"Individuelle\",\"Single\",IF('Outil Recensement simplifié'!AP98=\"Famille\",\"Family\",IF('Outil Recensement simplifié'!AP98=\"Individuel\",\"Single\",IF('Outil Recensement simplifié'!AP98=\"Familiale\",\"Family\",IF('Outil Recensement simplifié'!AP98=\"I\",\"Single\",IF('Outil Recensement simplifié'!AP98=\"F\",\"Family\",\"\"))))))","v":""},{"$f":"IF('Outil Recensement simplifié'!AQ98>0,'Outil Recensement simplifié'!AQ98,\"\")","v":""},{"$f":"IF('Outil Recensement simplifié'!AR98=\"Oui\",\"Yes\",IF('Outil Recensement simplifié'!AR98=\"Non\",\"No\",IF('Outil Recensement simplifié'!AR98=\"O\",\"Yes\",IF('Outil Recensement simplifié'!AR98=\"N\",\"No\",\"\"))))","v":""},{"$f":"IF('Outil Recensement simplifié'!AS98>0,'Outil Recensement simplifié'!AS98,\"\")","v":""},{"$f":"IF('Outil Recensement simplifié'!AT98>0,'Outil Recensement simplifié'!AT98,\"\")","v":""},{"$f":"IF('Outil Recensement simplifié'!AU98>0,'Outil Recensement simplifié'!AU98,\"\")","v":""},{"$f":"IF('Outil Recensement simplifié'!AV98=\"Homme\",\"Male\",IF('Outil Recensement simplifié'!AV98=\"Femme\",\"Female\",IF('Outil Recensement simplifié'!AV98=\"H\",\"Male\",IF('Outil Recensement simplifié'!AV98=\"F\",\"Female\",\"\"))))","v":""},{"$f":"IF('Outil Recensement simplifié'!AW98=\"Oui\",\"Yes\",IF('Outil Recensement simplifié'!AW98=\"Non\",\"No\",IF('Outil Recensement simplifié'!AW98=\"O\",\"Yes\",IF('Outil Recensement simplifié'!AW98=\"N\",\"No\",\"\"))))","v":""},{"$f":"IF('Outil Recensement simplifié'!AX98=\"Oui\",\"Yes\",IF('Outil Recensement simplifié'!AX98=\"Non\",\"No\",IF('Outil Recensement simplifié'!AX98=\"O\",\"Yes\",IF('Outil Recensement simplifié'!AX98=\"N\",\"No\",\"\"))))","v":""},{"$f":"IF('Outil Recensement simplifié'!AY98>0,'Outil Recensement simplifié'!AY98,\"\")","v":""},{"$f":"IF('Outil Recensement simplifié'!AZ98>0,'Outil Recensement simplifié'!AZ98,\"\")","v":""},{"$f":"IF('Outil Recensement simplifié'!BA98>0,'Outil Recensement simplifié'!BA98,\"\")","v":""},{"$f":"IF('Outil Recensement simplifié'!BB98=\"Homme\",\"Male\",IF('Outil Recensement simplifié'!BB98=\"Femme\",\"Female\",IF('Outil Recensement simplifié'!BB98=\"H\",\"Male\",IF('Outil Recensement simplifié'!BB98=\"F\",\"Female\",\"\"))))","v":""},{"$f":"IF('Outil Recensement simplifié'!BC98=\"Oui\",\"Yes\",IF('Outil Recensement simplifié'!BC98=\"Non\",\"No\",IF('Outil Recensement simplifié'!BC98=\"O\",\"Yes\",IF('Outil Recensement simplifié'!BC98=\"N\",\"No\",\"\"))))","v":""},{"$f":"IF('Outil Recensement simplifié'!BD98=\"Oui\",\"Yes\",IF('Outil Recensement simplifié'!BD98=\"Non\",\"No\",IF('Outil Recensement simplifié'!BD98=\"O\",\"Yes\",IF('Outil Recensement simplifié'!BD98=\"N\",\"No\",\"\"))))","v":""},{"$f":"IF('Outil Recensement simplifié'!BE98>0,'Outil Recensement simplifié'!BE98,\"\")","v":""},{"$f":"IF('Outil Recensement simplifié'!BF98>0,'Outil Recensement simplifié'!BF98,\"\")","v":""},{"$f":"IF('Outil Recensement simplifié'!BG98>0,'Outil Recensement simplifié'!BG98,\"\")","v":""},{"$f":"IF('Outil Recensement simplifié'!BH98=\"Homme\",\"Male\",IF('Outil Recensement simplifié'!BH98=\"Femme\",\"Female\",IF('Outil Recensement simplifié'!BH98=\"H\",\"Male\",IF('Outil Recensement simplifié'!BH98=\"F\",\"Female\",\"\"))))","v":""},{"$f":"IF('Outil Recensement simplifié'!BI98=\"Oui\",\"Yes\",IF('Outil Recensement simplifié'!BI98=\"Non\",\"No\",IF('Outil Recensement simplifié'!BI98=\"O\",\"Yes\",IF('Outil Recensement simplifié'!BI98=\"N\",\"No\",\"\"))))","v":""},{"$f":"IF('Outil Recensement simplifié'!BJ98=\"Oui\",\"Yes\",IF('Outil Recensement simplifié'!BJ98=\"Non\",\"No\",IF('Outil Recensement simplifié'!BJ98=\"O\",\"Yes\",IF('Outil Recensement simplifié'!BJ98=\"N\",\"No\",\"\"))))","v":""},{"$f":"IF('Outil Recensement simplifié'!BK98>0,'Outil Recensement simplifié'!BK98,\"\")","v":""},{"$f":"IF('Outil Recensement simplifié'!BL98>0,'Outil Recensement simplifié'!BL98,\"\")","v":""},{"$f":"IF('Outil Recensement simplifié'!BM98>0,'Outil Recensement simplifié'!BM98,\"\")","v":""},{"$f":"IF('Outil Recensement simplifié'!BN98=\"Homme\",\"Male\",IF('Outil Recensement simplifié'!BN98=\"Femme\",\"Female\",IF('Outil Recensement simplifié'!BN98=\"H\",\"Male\",IF('Outil Recensement simplifié'!BN98=\"F\",\"Female\",\"\"))))","v":""},{"$f":"IF('Outil Recensement simplifié'!BO98=\"Oui\",\"Yes\",IF('Outil Recensement simplifié'!BO98=\"Non\",\"No\",IF('Outil Recensement simplifié'!BO98=\"O\",\"Yes\",IF('Outil Recensement simplifié'!BO98=\"N\",\"No\",\"\"))))","v":""},{"$f":"IF('Outil Recensement simplifié'!BP98=\"Oui\",\"Yes\",IF('Outil Recensement simplifié'!BP98=\"Non\",\"No\",IF('Outil Recensement simplifié'!BP98=\"O\",\"Yes\",IF('Outil Recensement simplifié'!BP98=\"N\",\"No\",\"\"))))","v":""},{"$f":"IF('Outil Recensement simplifié'!BQ98>0,'Outil Recensement simplifié'!BQ98,\"\")","v":""},{"$f":"IF('Outil Recensement simplifié'!BR98>0,'Outil Recensement simplifié'!BR98,\"\")","v":""},{"$f":"IF('Outil Recensement simplifié'!BS98>0,'Outil Recensement simplifié'!BS98,\"\")","v":""},{"$f":"IF('Outil Recensement simplifié'!BT98=\"Homme\",\"Male\",IF('Outil Recensement simplifié'!BT98=\"Femme\",\"Female\",IF('Outil Recensement simplifié'!BT98=\"H\",\"Male\",IF('Outil Recensement simplifié'!BT98=\"F\",\"Female\",\"\"))))","v":""},{"$f":"IF('Outil Recensement simplifié'!BU98=\"Oui\",\"Yes\",IF('Outil Recensement simplifié'!BU98=\"Non\",\"No\",IF('Outil Recensement simplifié'!BU98=\"O\",\"Yes\",IF('Outil Recensement simplifié'!BU98=\"N\",\"No\",\"\"))))","v":""},{"$f":"IF('Outil Recensement simplifié'!BV98=\"Oui\",\"Yes\",IF('Outil Recensement simplifié'!BV98=\"Non\",\"No\",IF('Outil Recensement simplifié'!BV98=\"O\",\"Yes\",IF('Outil Recensement simplifié'!BV98=\"N\",\"No\",\"\"))))","v":""},{"$f":"IF('Outil Recensement simplifié'!BW98>0,'Outil Recensement simplifié'!BW98,\"\")","v":""},{"$f":"IF('Outil Recensement simplifié'!BX98>0,'Outil Recensement simplifié'!BX98,\"\")","v":""},{"$f":"IF('Outil Recensement simplifié'!BY98>0,'Outil Recensement simplifié'!BY98,\"\")","v":""},{"$f":"IF('Outil Recensement simplifié'!BZ98=\"Homme\",\"Male\",IF('Outil Recensement simplifié'!BZ98=\"Femme\",\"Female\",IF('Outil Recensement simplifié'!BZ98=\"H\",\"Male\",IF('Outil Recensement simplifié'!BZ98=\"F\",\"Female\",\"\"))))","v":""},{"$f":"IF('Outil Recensement simplifié'!CA98=\"Oui\",\"Yes\",IF('Outil Recensement simplifié'!CA98=\"Non\",\"No\",IF('Outil Recensement simplifié'!CA98=\"O\",\"Yes\",IF('Outil Recensement simplifié'!CA98=\"N\",\"No\",\"\"))))","v":""},{"$f":"IF('Outil Recensement simplifié'!CB98=\"Oui\",\"Yes\",IF('Outil Recensement simplifié'!CB98=\"Non\",\"No\",IF('Outil Recensement simplifié'!CB98=\"O\",\"Yes\",IF('Outil Recensement simplifié'!CB98=\"N\",\"No\",\"\"))))","v":""},{"$f":"IF('Outil Recensement simplifié'!CH98>0,'Outil Recensement simplifié'!CH98,\"\")","v":"    "}]
[{"$f":"IF('Outil Recensement simplifié'!A99>0,'Outil Recensement simplifié'!A99,\"\")","v":""},{"$f":"IF('Outil Recensement simplifié'!B99>0,'Outil Recensement simplifié'!B99,\"\")","v":""},{"$f":"IF('Outil Recensement simplifié'!C99>0,'Outil Recensement simplifié'!C99,\"\")","v":""},{"$f":"IF('Outil Recensement simplifié'!D99>0,'Outil Recensement simplifié'!D99,\"\")","v":""},{"$f":"IF('Outil Recensement simplifié'!E99>0,TEXT('Outil Recensement simplifié'!E99,\"000\"),\"\")","v":""},{"$f":"IF('Outil Recensement simplifié'!F99>0,'Outil Recensement simplifié'!F99,\"\")","v":""},{"$f":"IF('Outil Recensement simplifié'!G99>0,'Outil Recensement simplifié'!G99,\"\")","v":""},{"$f":"IF('Outil Recensement simplifié'!I99>0,'Outil Recensement simplifié'!I99,\"\")","v":""},{"$f":"IF('Outil Recensement simplifié'!J99>0,'Outil Recensement simplifié'!J99,\"\")","v":""},{"$f":"IF('Outil Recensement simplifié'!K99>0,'Outil Recensement simplifié'!K99,\"\")","v":""},{"$f":"IF('Outil Recensement simplifié'!L99>0,'Outil Recensement simplifié'!L99,\"\")","v":""},{"$f":"IF('Outil Recensement simplifié'!M99=\"Homme\",\"Male\",IF('Outil Recensement simplifié'!M99=\"Femme\",\"Female\",IF('Outil Recensement simplifié'!M99=\"H\",\"Male\",IF('Outil Recensement simplifié'!M99=\"F\",\"Female\",\"\"))))","v":""},{"$f":"IF('Outil Recensement simplifié'!N99=\"Oui\",\"Yes\",IF('Outil Recensement simplifié'!N99=\"Non\",\"No\",IF('Outil Recensement simplifié'!N99=\"O\",\"Yes\",IF('Outil Recensement simplifié'!N99=\"N\",\"No\",\"\"))))","v":""},{"$f":"IF('Outil Recensement simplifié'!O99=\"Non\",\"Single\",IF('Outil Recensement simplifié'!O99=\"Oui\",\"Family\",IF('Outil Recensement simplifié'!O99=\"N\",\"Single\",IF('Outil Recensement simplifié'!O99=\"O\",\"Family\",IF('Outil Recensement simplifié'!O99=\"En vigueur\",\"Family\",\"\")))))","v":""},{"$f":"IF('Outil Recensement simplifié'!P99=\"Anglais\",\"English\",IF('Outil Recensement simplifié'!P99=\"Français\",\"French\",IF('Outil Recensement simplifié'!P99=\"A\",\"English\",IF('Outil Recensement simplifié'!P99=\"F\",\"French\",\"\"))))","v":""},{"$f":"IF('Outil Recensement simplifié'!Q99=\"Oui\",\"Yes\",IF('Outil Recensement simplifié'!Q99=\"Non\",\"No\",IF('Outil Recensement simplifié'!Q99=\"O\",\"Yes\",IF('Outil Recensement simplifié'!Q99=\"N\",\"No\",\"\"))))","v":""},{"$f":"IF('Outil Recensement simplifié'!R99>0,'Outil Recensement simplifié'!R99,\"\")","v":""},{"$f":"IF('Outil Recensement simplifié'!S99=\"Annuelle\",\"Annually\",IF('Outil Recensement simplifié'!S99=\"Mensuelle\",\"Monthly\",IF('Outil Recensement simplifié'!S99=\"Aux deux semaines\",\"Biweekly\",IF('Outil Recensement simplifié'!S99=\"Bimensuelle\",\"Semi-Monthly\",IF('Outil Recensement simplifié'!S99=\"Hebdomadaire\",\"Weekly\",IF('Outil Recensement simplifié'!S99=\"Horaire\",\"Hourly\",\"\"))))))","v":""},{"$f":"IF('Outil Recensement simplifié'!T99>0,'Outil Recensement simplifié'!T99,\"\")","v":""},{"$f":"IF('Outil Recensement simplifié'!U99>0,'Outil Recensement simplifié'!U99,\"\")","v":""},{"$f":"IF('Outil Recensement simplifié'!V99=\"Exemptée\",\"Yes\",\"\")","v":""},{"$f":"IF('Outil Recensement simplifié'!W99=\"Exemptée\",\"Yes\",\"\")","v":""},{"$f":"IF('Outil Recensement simplifié'!X99>0,'Outil Recensement simplifié'!X99,\"\")","v":""},{"$f":"IF('Outil Recensement simplifié'!Y99>0,'Outil Recensement simplifié'!Y99,\"\")","v":""},{"$f":"IF('Outil Recensement simplifié'!Z99>0,'Outil Recensement simplifié'!Z99,\"\")","v":""},{"$f":"IF('Outil Recensement simplifié'!AA99>0,'Outil Recensement simplifié'!AA99,\"\")","v":""},{"$f":"IF('Outil Recensement simplifié'!AB99>0,'Outil Recensement simplifié'!AB99,\"\")","v":""},{"$f":"IF('Outil Recensement simplifié'!AC99>0,'Outil Recensement simplifié'!AC99,\"\")","v":" "},{"$f":"IF('Outil Recensement simplifié'!AE99>0,'Outil Recensement simplifié'!AE99&\" \",\"\")&IF('Outil Recensement simplifié'!AD99>0,'Outil Recensement simplifié'!AD99,\"\")","v":""},null,{"$f":"IF('Outil Recensement simplifié'!AF99>0,'Outil Recensement simplifié'!AF99,\"\")","v":""},{"$f":"IF('Outil Recensement simplifié'!AG99>0,'Outil Recensement simplifié'!AG99,\"\")","v":""},{"$f":"IF('Outil Recensement simplifié'!AH99>0,'Outil Recensement simplifié'!AH99,\"\")","v":""},{"$f":"IF('Outil Recensement simplifié'!AI99>0,'Outil Recensement simplifié'!AI99,\"\")","v":""},{"$f":"IF('Outil Recensement simplifié'!AJ99>0,'Outil Recensement simplifié'!AJ99,\"\")","v":""},{"$f":"IF('Outil Recensement simplifié'!AK99>0,'Outil Recensement simplifié'!AK99,\"\")","v":""},{"$f":"IF('Outil Recensement simplifié'!AL99>0,'Outil Recensement simplifié'!AL99,\"\")","v":""},{"$f":"IF('Outil Recensement simplifié'!AM99>0,'Outil Recensement simplifié'!AM99,\"\")","v":""},{"$f":"IF('Outil Recensement simplifié'!AN99=\"Homme\",\"Male\",IF('Outil Recensement simplifié'!AN99=\"Femme\",\"Female\",IF('Outil Recensement simplifié'!AN99=\"H\",\"Male\",IF('Outil Recensement simplifié'!AN99=\"F\",\"Female\",\"\"))))","v":""},{"$f":"IF('Outil Recensement simplifié'!AO99=\"Individuelle\",\"Single\",IF('Outil Recensement simplifié'!AO99=\"Famille\",\"Family\",IF('Outil Recensement simplifié'!AO99=\"Individuel\",\"Single\",IF('Outil Recensement simplifié'!AO99=\"Familiale\",\"Family\",IF('Outil Recensement simplifié'!AO99=\"I\",\"Single\",IF('Outil Recensement simplifié'!AO99=\"F\",\"Family\",\"\"))))))","v":""},{"$f":"IF('Outil Recensement simplifié'!AP99=\"Individuelle\",\"Single\",IF('Outil Recensement simplifié'!AP99=\"Famille\",\"Family\",IF('Outil Recensement simplifié'!AP99=\"Individuel\",\"Single\",IF('Outil Recensement simplifié'!AP99=\"Familiale\",\"Family\",IF('Outil Recensement simplifié'!AP99=\"I\",\"Single\",IF('Outil Recensement simplifié'!AP99=\"F\",\"Family\",\"\"))))))","v":""},{"$f":"IF('Outil Recensement simplifié'!AQ99>0,'Outil Recensement simplifié'!AQ99,\"\")","v":""},{"$f":"IF('Outil Recensement simplifié'!AR99=\"Oui\",\"Yes\",IF('Outil Recensement simplifié'!AR99=\"Non\",\"No\",IF('Outil Recensement simplifié'!AR99=\"O\",\"Yes\",IF('Outil Recensement simplifié'!AR99=\"N\",\"No\",\"\"))))","v":""},{"$f":"IF('Outil Recensement simplifié'!AS99>0,'Outil Recensement simplifié'!AS99,\"\")","v":""},{"$f":"IF('Outil Recensement simplifié'!AT99>0,'Outil Recensement simplifié'!AT99,\"\")","v":""},{"$f":"IF('Outil Recensement simplifié'!AU99>0,'Outil Recensement simplifié'!AU99,\"\")","v":""},{"$f":"IF('Outil Recensement simplifié'!AV99=\"Homme\",\"Male\",IF('Outil Recensement simplifié'!AV99=\"Femme\",\"Female\",IF('Outil Recensement simplifié'!AV99=\"H\",\"Male\",IF('Outil Recensement simplifié'!AV99=\"F\",\"Female\",\"\"))))","v":""},{"$f":"IF('Outil Recensement simplifié'!AW99=\"Oui\",\"Yes\",IF('Outil Recensement simplifié'!AW99=\"Non\",\"No\",IF('Outil Recensement simplifié'!AW99=\"O\",\"Yes\",IF('Outil Recensement simplifié'!AW99=\"N\",\"No\",\"\"))))","v":""},{"$f":"IF('Outil Recensement simplifié'!AX99=\"Oui\",\"Yes\",IF('Outil Recensement simplifié'!AX99=\"Non\",\"No\",IF('Outil Recensement simplifié'!AX99=\"O\",\"Yes\",IF('Outil Recensement simplifié'!AX99=\"N\",\"No\",\"\"))))","v":""},{"$f":"IF('Outil Recensement simplifié'!AY99>0,'Outil Recensement simplifié'!AY99,\"\")","v":""},{"$f":"IF('Outil Recensement simplifié'!AZ99>0,'Outil Recensement simplifié'!AZ99,\"\")","v":""},{"$f":"IF('Outil Recensement simplifié'!BA99>0,'Outil Recensement simplifié'!BA99,\"\")","v":""},{"$f":"IF('Outil Recensement simplifié'!BB99=\"Homme\",\"Male\",IF('Outil Recensement simplifié'!BB99=\"Femme\",\"Female\",IF('Outil Recensement simplifié'!BB99=\"H\",\"Male\",IF('Outil Recensement simplifié'!BB99=\"F\",\"Female\",\"\"))))","v":""},{"$f":"IF('Outil Recensement simplifié'!BC99=\"Oui\",\"Yes\",IF('Outil Recensement simplifié'!BC99=\"Non\",\"No\",IF('Outil Recensement simplifié'!BC99=\"O\",\"Yes\",IF('Outil Recensement simplifié'!BC99=\"N\",\"No\",\"\"))))","v":""},{"$f":"IF('Outil Recensement simplifié'!BD99=\"Oui\",\"Yes\",IF('Outil Recensement simplifié'!BD99=\"Non\",\"No\",IF('Outil Recensement simplifié'!BD99=\"O\",\"Yes\",IF('Outil Recensement simplifié'!BD99=\"N\",\"No\",\"\"))))","v":""},{"$f":"IF('Outil Recensement simplifié'!BE99>0,'Outil Recensement simplifié'!BE99,\"\")","v":""},{"$f":"IF('Outil Recensement simplifié'!BF99>0,'Outil Recensement simplifié'!BF99,\"\")","v":""},{"$f":"IF('Outil Recensement simplifié'!BG99>0,'Outil Recensement simplifié'!BG99,\"\")","v":""},{"$f":"IF('Outil Recensement simplifié'!BH99=\"Homme\",\"Male\",IF('Outil Recensement simplifié'!BH99=\"Femme\",\"Female\",IF('Outil Recensement simplifié'!BH99=\"H\",\"Male\",IF('Outil Recensement simplifié'!BH99=\"F\",\"Female\",\"\"))))","v":""},{"$f":"IF('Outil Recensement simplifié'!BI99=\"Oui\",\"Yes\",IF('Outil Recensement simplifié'!BI99=\"Non\",\"No\",IF('Outil Recensement simplifié'!BI99=\"O\",\"Yes\",IF('Outil Recensement simplifié'!BI99=\"N\",\"No\",\"\"))))","v":""},{"$f":"IF('Outil Recensement simplifié'!BJ99=\"Oui\",\"Yes\",IF('Outil Recensement simplifié'!BJ99=\"Non\",\"No\",IF('Outil Recensement simplifié'!BJ99=\"O\",\"Yes\",IF('Outil Recensement simplifié'!BJ99=\"N\",\"No\",\"\"))))","v":""},{"$f":"IF('Outil Recensement simplifié'!BK99>0,'Outil Recensement simplifié'!BK99,\"\")","v":""},{"$f":"IF('Outil Recensement simplifié'!BL99>0,'Outil Recensement simplifié'!BL99,\"\")","v":""},{"$f":"IF('Outil Recensement simplifié'!BM99>0,'Outil Recensement simplifié'!BM99,\"\")","v":""},{"$f":"IF('Outil Recensement simplifié'!BN99=\"Homme\",\"Male\",IF('Outil Recensement simplifié'!BN99=\"Femme\",\"Female\",IF('Outil Recensement simplifié'!BN99=\"H\",\"Male\",IF('Outil Recensement simplifié'!BN99=\"F\",\"Female\",\"\"))))","v":""},{"$f":"IF('Outil Recensement simplifié'!BO99=\"Oui\",\"Yes\",IF('Outil Recensement simplifié'!BO99=\"Non\",\"No\",IF('Outil Recensement simplifié'!BO99=\"O\",\"Yes\",IF('Outil Recensement simplifié'!BO99=\"N\",\"No\",\"\"))))","v":""},{"$f":"IF('Outil Recensement simplifié'!BP99=\"Oui\",\"Yes\",IF('Outil Recensement simplifié'!BP99=\"Non\",\"No\",IF('Outil Recensement simplifié'!BP99=\"O\",\"Yes\",IF('Outil Recensement simplifié'!BP99=\"N\",\"No\",\"\"))))","v":""},{"$f":"IF('Outil Recensement simplifié'!BQ99>0,'Outil Recensement simplifié'!BQ99,\"\")","v":""},{"$f":"IF('Outil Recensement simplifié'!BR99>0,'Outil Recensement simplifié'!BR99,\"\")","v":""},{"$f":"IF('Outil Recensement simplifié'!BS99>0,'Outil Recensement simplifié'!BS99,\"\")","v":""},{"$f":"IF('Outil Recensement simplifié'!BT99=\"Homme\",\"Male\",IF('Outil Recensement simplifié'!BT99=\"Femme\",\"Female\",IF('Outil Recensement simplifié'!BT99=\"H\",\"Male\",IF('Outil Recensement simplifié'!BT99=\"F\",\"Female\",\"\"))))","v":""},{"$f":"IF('Outil Recensement simplifié'!BU99=\"Oui\",\"Yes\",IF('Outil Recensement simplifié'!BU99=\"Non\",\"No\",IF('Outil Recensement simplifié'!BU99=\"O\",\"Yes\",IF('Outil Recensement simplifié'!BU99=\"N\",\"No\",\"\"))))","v":""},{"$f":"IF('Outil Recensement simplifié'!BV99=\"Oui\",\"Yes\",IF('Outil Recensement simplifié'!BV99=\"Non\",\"No\",IF('Outil Recensement simplifié'!BV99=\"O\",\"Yes\",IF('Outil Recensement simplifié'!BV99=\"N\",\"No\",\"\"))))","v":""},{"$f":"IF('Outil Recensement simplifié'!BW99>0,'Outil Recensement simplifié'!BW99,\"\")","v":""},{"$f":"IF('Outil Recensement simplifié'!BX99>0,'Outil Recensement simplifié'!BX99,\"\")","v":""},{"$f":"IF('Outil Recensement simplifié'!BY99>0,'Outil Recensement simplifié'!BY99,\"\")","v":""},{"$f":"IF('Outil Recensement simplifié'!BZ99=\"Homme\",\"Male\",IF('Outil Recensement simplifié'!BZ99=\"Femme\",\"Female\",IF('Outil Recensement simplifié'!BZ99=\"H\",\"Male\",IF('Outil Recensement simplifié'!BZ99=\"F\",\"Female\",\"\"))))","v":""},{"$f":"IF('Outil Recensement simplifié'!CA99=\"Oui\",\"Yes\",IF('Outil Recensement simplifié'!CA99=\"Non\",\"No\",IF('Outil Recensement simplifié'!CA99=\"O\",\"Yes\",IF('Outil Recensement simplifié'!CA99=\"N\",\"No\",\"\"))))","v":""},{"$f":"IF('Outil Recensement simplifié'!CB99=\"Oui\",\"Yes\",IF('Outil Recensement simplifié'!CB99=\"Non\",\"No\",IF('Outil Recensement simplifié'!CB99=\"O\",\"Yes\",IF('Outil Recensement simplifié'!CB99=\"N\",\"No\",\"\"))))","v":""},{"$f":"IF('Outil Recensement simplifié'!CH99>0,'Outil Recensement simplifié'!CH99,\"\")","v":"    "}]
[{"$f":"IF('Outil Recensement simplifié'!A100>0,'Outil Recensement simplifié'!A100,\"\")","v":""},{"$f":"IF('Outil Recensement simplifié'!B100>0,'Outil Recensement simplifié'!B100,\"\")","v":""},{"$f":"IF('Outil Recensement simplifié'!C100>0,'Outil Recensement simplifié'!C100,\"\")","v":""},{"$f":"IF('Outil Recensement simplifié'!D100>0,'Outil Recensement simplifié'!D100,\"\")","v":""},{"$f":"IF('Outil Recensement simplifié'!E100>0,TEXT('Outil Recensement simplifié'!E100,\"000\"),\"\")","v":""},{"$f":"IF('Outil Recensement simplifié'!F100>0,'Outil Recensement simplifié'!F100,\"\")","v":""},{"$f":"IF('Outil Recensement simplifié'!G100>0,'Outil Recensement simplifié'!G100,\"\")","v":""},{"$f":"IF('Outil Recensement simplifié'!I100>0,'Outil Recensement simplifié'!I100,\"\")","v":""},{"$f":"IF('Outil Recensement simplifié'!J100>0,'Outil Recensement simplifié'!J100,\"\")","v":""},{"$f":"IF('Outil Recensement simplifié'!K100>0,'Outil Recensement simplifié'!K100,\"\")","v":""},{"$f":"IF('Outil Recensement simplifié'!L100>0,'Outil Recensement simplifié'!L100,\"\")","v":""},{"$f":"IF('Outil Recensement simplifié'!M100=\"Homme\",\"Male\",IF('Outil Recensement simplifié'!M100=\"Femme\",\"Female\",IF('Outil Recensement simplifié'!M100=\"H\",\"Male\",IF('Outil Recensement simplifié'!M100=\"F\",\"Female\",\"\"))))","v":""},{"$f":"IF('Outil Recensement simplifié'!N100=\"Oui\",\"Yes\",IF('Outil Recensement simplifié'!N100=\"Non\",\"No\",IF('Outil Recensement simplifié'!N100=\"O\",\"Yes\",IF('Outil Recensement simplifié'!N100=\"N\",\"No\",\"\"))))","v":""},{"$f":"IF('Outil Recensement simplifié'!O100=\"Non\",\"Single\",IF('Outil Recensement simplifié'!O100=\"Oui\",\"Family\",IF('Outil Recensement simplifié'!O100=\"N\",\"Single\",IF('Outil Recensement simplifié'!O100=\"O\",\"Family\",IF('Outil Recensement simplifié'!O100=\"En vigueur\",\"Family\",\"\")))))","v":""},{"$f":"IF('Outil Recensement simplifié'!P100=\"Anglais\",\"English\",IF('Outil Recensement simplifié'!P100=\"Français\",\"French\",IF('Outil Recensement simplifié'!P100=\"A\",\"English\",IF('Outil Recensement simplifié'!P100=\"F\",\"French\",\"\"))))","v":""},{"$f":"IF('Outil Recensement simplifié'!Q100=\"Oui\",\"Yes\",IF('Outil Recensement simplifié'!Q100=\"Non\",\"No\",IF('Outil Recensement simplifié'!Q100=\"O\",\"Yes\",IF('Outil Recensement simplifié'!Q100=\"N\",\"No\",\"\"))))","v":""},{"$f":"IF('Outil Recensement simplifié'!R100>0,'Outil Recensement simplifié'!R100,\"\")","v":""},{"$f":"IF('Outil Recensement simplifié'!S100=\"Annuelle\",\"Annually\",IF('Outil Recensement simplifié'!S100=\"Mensuelle\",\"Monthly\",IF('Outil Recensement simplifié'!S100=\"Aux deux semaines\",\"Biweekly\",IF('Outil Recensement simplifié'!S100=\"Bimensuelle\",\"Semi-Monthly\",IF('Outil Recensement simplifié'!S100=\"Hebdomadaire\",\"Weekly\",IF('Outil Recensement simplifié'!S100=\"Horaire\",\"Hourly\",\"\"))))))","v":""},{"$f":"IF('Outil Recensement simplifié'!T100>0,'Outil Recensement simplifié'!T100,\"\")","v":""},{"$f":"IF('Outil Recensement simplifié'!U100>0,'Outil Recensement simplifié'!U100,\"\")","v":""},{"$f":"IF('Outil Recensement simplifié'!V100=\"Exemptée\",\"Yes\",\"\")","v":""},{"$f":"IF('Outil Recensement simplifié'!W100=\"Exemptée\",\"Yes\",\"\")","v":""},{"$f":"IF('Outil Recensement simplifié'!X100>0,'Outil Recensement simplifié'!X100,\"\")","v":""},{"$f":"IF('Outil Recensement simplifié'!Y100>0,'Outil Recensement simplifié'!Y100,\"\")","v":""},{"$f":"IF('Outil Recensement simplifié'!Z100>0,'Outil Recensement simplifié'!Z100,\"\")","v":""},{"$f":"IF('Outil Recensement simplifié'!AA100>0,'Outil Recensement simplifié'!AA100,\"\")","v":""},{"$f":"IF('Outil Recensement simplifié'!AB100>0,'Outil Recensement simplifié'!AB100,\"\")","v":""},{"$f":"IF('Outil Recensement simplifié'!AC100>0,'Outil Recensement simplifié'!AC100,\"\")","v":" "},{"$f":"IF('Outil Recensement simplifié'!AE100>0,'Outil Recensement simplifié'!AE100&\" \",\"\")&IF('Outil Recensement simplifié'!AD100>0,'Outil Recensement simplifié'!AD100,\"\")","v":""},null,{"$f":"IF('Outil Recensement simplifié'!AF100>0,'Outil Recensement simplifié'!AF100,\"\")","v":""},{"$f":"IF('Outil Recensement simplifié'!AG100>0,'Outil Recensement simplifié'!AG100,\"\")","v":""},{"$f":"IF('Outil Recensement simplifié'!AH100>0,'Outil Recensement simplifié'!AH100,\"\")","v":""},{"$f":"IF('Outil Recensement simplifié'!AI100>0,'Outil Recensement simplifié'!AI100,\"\")","v":""},{"$f":"IF('Outil Recensement simplifié'!AJ100>0,'Outil Recensement simplifié'!AJ100,\"\")","v":""},{"$f":"IF('Outil Recensement simplifié'!AK100>0,'Outil Recensement simplifié'!AK100,\"\")","v":""},{"$f":"IF('Outil Recensement simplifié'!AL100>0,'Outil Recensement simplifié'!AL100,\"\")","v":""},{"$f":"IF('Outil Recensement simplifié'!AM100>0,'Outil Recensement simplifié'!AM100,\"\")","v":""},{"$f":"IF('Outil Recensement simplifié'!AN100=\"Homme\",\"Male\",IF('Outil Recensement simplifié'!AN100=\"Femme\",\"Female\",IF('Outil Recensement simplifié'!AN100=\"H\",\"Male\",IF('Outil Recensement simplifié'!AN100=\"F\",\"Female\",\"\"))))","v":""},{"$f":"IF('Outil Recensement simplifié'!AO100=\"Individuelle\",\"Single\",IF('Outil Recensement simplifié'!AO100=\"Famille\",\"Family\",IF('Outil Recensement simplifié'!AO100=\"Individuel\",\"Single\",IF('Outil Recensement simplifié'!AO100=\"Familiale\",\"Family\",IF('Outil Recensement simplifié'!AO100=\"I\",\"Single\",IF('Outil Recensement simplifié'!AO100=\"F\",\"Family\",\"\"))))))","v":""},{"$f":"IF('Outil Recensement simplifié'!AP100=\"Individuelle\",\"Single\",IF('Outil Recensement simplifié'!AP100=\"Famille\",\"Family\",IF('Outil Recensement simplifié'!AP100=\"Individuel\",\"Single\",IF('Outil Recensement simplifié'!AP100=\"Familiale\",\"Family\",IF('Outil Recensement simplifié'!AP100=\"I\",\"Single\",IF('Outil Recensement simplifié'!AP100=\"F\",\"Family\",\"\"))))))","v":""},{"$f":"IF('Outil Recensement simplifié'!AQ100>0,'Outil Recensement simplifié'!AQ100,\"\")","v":""},{"$f":"IF('Outil Recensement simplifié'!AR100=\"Oui\",\"Yes\",IF('Outil Recensement simplifié'!AR100=\"Non\",\"No\",IF('Outil Recensement simplifié'!AR100=\"O\",\"Yes\",IF('Outil Recensement simplifié'!AR100=\"N\",\"No\",\"\"))))","v":""},{"$f":"IF('Outil Recensement simplifié'!AS100>0,'Outil Recensement simplifié'!AS100,\"\")","v":""},{"$f":"IF('Outil Recensement simplifié'!AT100>0,'Outil Recensement simplifié'!AT100,\"\")","v":""},{"$f":"IF('Outil Recensement simplifié'!AU100>0,'Outil Recensement simplifié'!AU100,\"\")","v":""},{"$f":"IF('Outil Recensement simplifié'!AV100=\"Homme\",\"Male\",IF('Outil Recensement simplifié'!AV100=\"Femme\",\"Female\",IF('Outil Recensement simplifié'!AV100=\"H\",\"Male\",IF('Outil Recensement simplifié'!AV100=\"F\",\"Female\",\"\"))))","v":""},{"$f":"IF('Outil Recensement simplifié'!AW100=\"Oui\",\"Yes\",IF('Outil Recensement simplifié'!AW100=\"Non\",\"No\",IF('Outil Recensement simplifié'!AW100=\"O\",\"Yes\",IF('Outil Recensement simplifié'!AW100=\"N\",\"No\",\"\"))))","v":""},{"$f":"IF('Outil Recensement simplifié'!AX100=\"Oui\",\"Yes\",IF('Outil Recensement simplifié'!AX100=\"Non\",\"No\",IF('Outil Recensement simplifié'!AX100=\"O\",\"Yes\",IF('Outil Recensement simplifié'!AX100=\"N\",\"No\",\"\"))))","v":""},{"$f":"IF('Outil Recensement simplifié'!AY100>0,'Outil Recensement simplifié'!AY100,\"\")","v":""},{"$f":"IF('Outil Recensement simplifié'!AZ100>0,'Outil Recensement simplifié'!AZ100,\"\")","v":""},{"$f":"IF('Outil Recensement simplifié'!BA100>0,'Outil Recensement simplifié'!BA100,\"\")","v":""},{"$f":"IF('Outil Recensement simplifié'!BB100=\"Homme\",\"Male\",IF('Outil Recensement simplifié'!BB100=\"Femme\",\"Female\",IF('Outil Recensement simplifié'!BB100=\"H\",\"Male\",IF('Outil Recensement simplifié'!BB100=\"F\",\"Female\",\"\"))))","v":""},{"$f":"IF('Outil Recensement simplifié'!BC100=\"Oui\",\"Yes\",IF('Outil Recensement simplifié'!BC100=\"Non\",\"No\",IF('Outil Recensement simplifié'!BC100=\"O\",\"Yes\",IF('Outil Recensement simplifié'!BC100=\"N\",\"No\",\"\"))))","v":""},{"$f":"IF('Outil Recensement simplifié'!BD100=\"Oui\",\"Yes\",IF('Outil Recensement simplifié'!BD100=\"Non\",\"No\",IF('Outil Recensement simplifié'!BD100=\"O\",\"Yes\",IF('Outil Recensement simplifié'!BD100=\"N\",\"No\",\"\"))))","v":""},{"$f":"IF('Outil Recensement simplifié'!BE100>0,'Outil Recensement simplifié'!BE100,\"\")","v":""},{"$f":"IF('Outil Recensement simplifié'!BF100>0,'Outil Recensement simplifié'!BF100,\"\")","v":""},{"$f":"IF('Outil Recensement simplifié'!BG100>0,'Outil Recensement simplifié'!BG100,\"\")","v":""},{"$f":"IF('Outil Recensement simplifié'!BH100=\"Homme\",\"Male\",IF('Outil Recensement simplifié'!BH100=\"Femme\",\"Female\",IF('Outil Recensement simplifié'!BH100=\"H\",\"Male\",IF('Outil Recensement simplifié'!BH100=\"F\",\"Female\",\"\"))))","v":""},{"$f":"IF('Outil Recensement simplifié'!BI100=\"Oui\",\"Yes\",IF('Outil Recensement simplifié'!BI100=\"Non\",\"No\",IF('Outil Recensement simplifié'!BI100=\"O\",\"Yes\",IF('Outil Recensement simplifié'!BI100=\"N\",\"No\",\"\"))))","v":""},{"$f":"IF('Outil Recensement simplifié'!BJ100=\"Oui\",\"Yes\",IF('Outil Recensement simplifié'!BJ100=\"Non\",\"No\",IF('Outil Recensement simplifié'!BJ100=\"O\",\"Yes\",IF('Outil Recensement simplifié'!BJ100=\"N\",\"No\",\"\"))))","v":""},{"$f":"IF('Outil Recensement simplifié'!BK100>0,'Outil Recensement simplifié'!BK100,\"\")","v":""},{"$f":"IF('Outil Recensement simplifié'!BL100>0,'Outil Recensement simplifié'!BL100,\"\")","v":""},{"$f":"IF('Outil Recensement simplifié'!BM100>0,'Outil Recensement simplifié'!BM100,\"\")","v":""},{"$f":"IF('Outil Recensement simplifié'!BN100=\"Homme\",\"Male\",IF('Outil Recensement simplifié'!BN100=\"Femme\",\"Female\",IF('Outil Recensement simplifié'!BN100=\"H\",\"Male\",IF('Outil Recensement simplifié'!BN100=\"F\",\"Female\",\"\"))))","v":""},{"$f":"IF('Outil Recensement simplifié'!BO100=\"Oui\",\"Yes\",IF('Outil Recensement simplifié'!BO100=\"Non\",\"No\",IF('Outil Recensement simplifié'!BO100=\"O\",\"Yes\",IF('Outil Recensement simplifié'!BO100=\"N\",\"No\",\"\"))))","v":""},{"$f":"IF('Outil Recensement simplifié'!BP100=\"Oui\",\"Yes\",IF('Outil Recensement simplifié'!BP100=\"Non\",\"No\",IF('Outil Recensement simplifié'!BP100=\"O\",\"Yes\",IF('Outil Recensement simplifié'!BP100=\"N\",\"No\",\"\"))))","v":""},{"$f":"IF('Outil Recensement simplifié'!BQ100>0,'Outil Recensement simplifié'!BQ100,\"\")","v":""},{"$f":"IF('Outil Recensement simplifié'!BR100>0,'Outil Recensement simplifié'!BR100,\"\")","v":""},{"$f":"IF('Outil Recensement simplifié'!BS100>0,'Outil Recensement simplifié'!BS100,\"\")","v":""},{"$f":"IF('Outil Recensement simplifié'!BT100=\"Homme\",\"Male\",IF('Outil Recensement simplifié'!BT100=\"Femme\",\"Female\",IF('Outil Recensement simplifié'!BT100=\"H\",\"Male\",IF('Outil Recensement simplifié'!BT100=\"F\",\"Female\",\"\"))))","v":""},{"$f":"IF('Outil Recensement simplifié'!BU100=\"Oui\",\"Yes\",IF('Outil Recensement simplifié'!BU100=\"Non\",\"No\",IF('Outil Recensement simplifié'!BU100=\"O\",\"Yes\",IF('Outil Recensement simplifié'!BU100=\"N\",\"No\",\"\"))))","v":""},{"$f":"IF('Outil Recensement simplifié'!BV100=\"Oui\",\"Yes\",IF('Outil Recensement simplifié'!BV100=\"Non\",\"No\",IF('Outil Recensement simplifié'!BV100=\"O\",\"Yes\",IF('Outil Recensement simplifié'!BV100=\"N\",\"No\",\"\"))))","v":""},{"$f":"IF('Outil Recensement simplifié'!BW100>0,'Outil Recensement simplifié'!BW100,\"\")","v":""},{"$f":"IF('Outil Recensement simplifié'!BX100>0,'Outil Recensement simplifié'!BX100,\"\")","v":""},{"$f":"IF('Outil Recensement simplifié'!BY100>0,'Outil Recensement simplifié'!BY100,\"\")","v":""},{"$f":"IF('Outil Recensement simplifié'!BZ100=\"Homme\",\"Male\",IF('Outil Recensement simplifié'!BZ100=\"Femme\",\"Female\",IF('Outil Recensement simplifié'!BZ100=\"H\",\"Male\",IF('Outil Recensement simplifié'!BZ100=\"F\",\"Female\",\"\"))))","v":""},{"$f":"IF('Outil Recensement simplifié'!CA100=\"Oui\",\"Yes\",IF('Outil Recensement simplifié'!CA100=\"Non\",\"No\",IF('Outil Recensement simplifié'!CA100=\"O\",\"Yes\",IF('Outil Recensement simplifié'!CA100=\"N\",\"No\",\"\"))))","v":""},{"$f":"IF('Outil Recensement simplifié'!CB100=\"Oui\",\"Yes\",IF('Outil Recensement simplifié'!CB100=\"Non\",\"No\",IF('Outil Recensement simplifié'!CB100=\"O\",\"Yes\",IF('Outil Recensement simplifié'!CB100=\"N\",\"No\",\"\"))))","v":""},{"$f":"IF('Outil Recensement simplifié'!CH100>0,'Outil Recensement simplifié'!CH100,\"\")","v":"    "}]
[{"$f":"IF('Outil Recensement simplifié'!A101>0,'Outil Recensement simplifié'!A101,\"\")","v":""},{"$f":"IF('Outil Recensement simplifié'!B101>0,'Outil Recensement simplifié'!B101,\"\")","v":""},{"$f":"IF('Outil Recensement simplifié'!C101>0,'Outil Recensement simplifié'!C101,\"\")","v":""},{"$f":"IF('Outil Recensement simplifié'!D101>0,'Outil Recensement simplifié'!D101,\"\")","v":""},{"$f":"IF('Outil Recensement simplifié'!E101>0,TEXT('Outil Recensement simplifié'!E101,\"000\"),\"\")","v":""},{"$f":"IF('Outil Recensement simplifié'!F101>0,'Outil Recensement simplifié'!F101,\"\")","v":""},{"$f":"IF('Outil Recensement simplifié'!G101>0,'Outil Recensement simplifié'!G101,\"\")","v":""},{"$f":"IF('Outil Recensement simplifié'!I101>0,'Outil Recensement simplifié'!I101,\"\")","v":""},{"$f":"IF('Outil Recensement simplifié'!J101>0,'Outil Recensement simplifié'!J101,\"\")","v":""},{"$f":"IF('Outil Recensement simplifié'!K101>0,'Outil Recensement simplifié'!K101,\"\")","v":""},{"$f":"IF('Outil Recensement simplifié'!L101>0,'Outil Recensement simplifié'!L101,\"\")","v":""},{"$f":"IF('Outil Recensement simplifié'!M101=\"Homme\",\"Male\",IF('Outil Recensement simplifié'!M101=\"Femme\",\"Female\",IF('Outil Recensement simplifié'!M101=\"H\",\"Male\",IF('Outil Recensement simplifié'!M101=\"F\",\"Female\",\"\"))))","v":""},{"$f":"IF('Outil Recensement simplifié'!N101=\"Oui\",\"Yes\",IF('Outil Recensement simplifié'!N101=\"Non\",\"No\",IF('Outil Recensement simplifié'!N101=\"O\",\"Yes\",IF('Outil Recensement simplifié'!N101=\"N\",\"No\",\"\"))))","v":""},{"$f":"IF('Outil Recensement simplifié'!O101=\"Non\",\"Single\",IF('Outil Recensement simplifié'!O101=\"Oui\",\"Family\",IF('Outil Recensement simplifié'!O101=\"N\",\"Single\",IF('Outil Recensement simplifié'!O101=\"O\",\"Family\",IF('Outil Recensement simplifié'!O101=\"En vigueur\",\"Family\",\"\")))))","v":""},{"$f":"IF('Outil Recensement simplifié'!P101=\"Anglais\",\"English\",IF('Outil Recensement simplifié'!P101=\"Français\",\"French\",IF('Outil Recensement simplifié'!P101=\"A\",\"English\",IF('Outil Recensement simplifié'!P101=\"F\",\"French\",\"\"))))","v":""},{"$f":"IF('Outil Recensement simplifié'!Q101=\"Oui\",\"Yes\",IF('Outil Recensement simplifié'!Q101=\"Non\",\"No\",IF('Outil Recensement simplifié'!Q101=\"O\",\"Yes\",IF('Outil Recensement simplifié'!Q101=\"N\",\"No\",\"\"))))","v":""},{"$f":"IF('Outil Recensement simplifié'!R101>0,'Outil Recensement simplifié'!R101,\"\")","v":""},{"$f":"IF('Outil Recensement simplifié'!S101=\"Annuelle\",\"Annually\",IF('Outil Recensement simplifié'!S101=\"Mensuelle\",\"Monthly\",IF('Outil Recensement simplifié'!S101=\"Aux deux semaines\",\"Biweekly\",IF('Outil Recensement simplifié'!S101=\"Bimensuelle\",\"Semi-Monthly\",IF('Outil Recensement simplifié'!S101=\"Hebdomadaire\",\"Weekly\",IF('Outil Recensement simplifié'!S101=\"Horaire\",\"Hourly\",\"\"))))))","v":""},{"$f":"IF('Outil Recensement simplifié'!T101>0,'Outil Recensement simplifié'!T101,\"\")","v":""},{"$f":"IF('Outil Recensement simplifié'!U101>0,'Outil Recensement simplifié'!U101,\"\")","v":""},{"$f":"IF('Outil Recensement simplifié'!V101=\"Exemptée\",\"Yes\",\"\")","v":""},{"$f":"IF('Outil Recensement simplifié'!W101=\"Exemptée\",\"Yes\",\"\")","v":""},{"$f":"IF('Outil Recensement simplifié'!X101>0,'Outil Recensement simplifié'!X101,\"\")","v":""},{"$f":"IF('Outil Recensement simplifié'!Y101>0,'Outil Recensement simplifié'!Y101,\"\")","v":""},{"$f":"IF('Outil Recensement simplifié'!Z101>0,'Outil Recensement simplifié'!Z101,\"\")","v":""},{"$f":"IF('Outil Recensement simplifié'!AA101>0,'Outil Recensement simplifié'!AA101,\"\")","v":""},{"$f":"IF('Outil Recensement simplifié'!AB101>0,'Outil Recensement simplifié'!AB101,\"\")","v":""},{"$f":"IF('Outil Recensement simplifié'!AC101>0,'Outil Recensement simplifié'!AC101,\"\")","v":" "},{"$f":"IF('Outil Recensement simplifié'!AE101>0,'Outil Recensement simplifié'!AE101&\" \",\"\")&IF('Outil Recensement simplifié'!AD101>0,'Outil Recensement simplifié'!AD101,\"\")","v":""},null,{"$f":"IF('Outil Recensement simplifié'!AF101>0,'Outil Recensement simplifié'!AF101,\"\")","v":""},{"$f":"IF('Outil Recensement simplifié'!AG101>0,'Outil Recensement simplifié'!AG101,\"\")","v":""},{"$f":"IF('Outil Recensement simplifié'!AH101>0,'Outil Recensement simplifié'!AH101,\"\")","v":""},{"$f":"IF('Outil Recensement simplifié'!AI101>0,'Outil Recensement simplifié'!AI101,\"\")","v":""},{"$f":"IF('Outil Recensement simplifié'!AJ101>0,'Outil Recensement simplifié'!AJ101,\"\")","v":""},{"$f":"IF('Outil Recensement simplifié'!AK101>0,'Outil Recensement simplifié'!AK101,\"\")","v":""},{"$f":"IF('Outil Recensement simplifié'!AL101>0,'Outil Recensement simplifié'!AL101,\"\")","v":""},{"$f":"IF('Outil Recensement simplifié'!AM101>0,'Outil Recensement simplifié'!AM101,\"\")","v":""},{"$f":"IF('Outil Recensement simplifié'!AN101=\"Homme\",\"Male\",IF('Outil Recensement simplifié'!AN101=\"Femme\",\"Female\",IF('Outil Recensement simplifié'!AN101=\"H\",\"Male\",IF('Outil Recensement simplifié'!AN101=\"F\",\"Female\",\"\"))))","v":""},{"$f":"IF('Outil Recensement simplifié'!AO101=\"Individuelle\",\"Single\",IF('Outil Recensement simplifié'!AO101=\"Famille\",\"Family\",IF('Outil Recensement simplifié'!AO101=\"Individuel\",\"Single\",IF('Outil Recensement simplifié'!AO101=\"Familiale\",\"Family\",IF('Outil Recensement simplifié'!AO101=\"I\",\"Single\",IF('Outil Recensement simplifié'!AO101=\"F\",\"Family\",\"\"))))))","v":""},{"$f":"IF('Outil Recensement simplifié'!AP101=\"Individuelle\",\"Single\",IF('Outil Recensement simplifié'!AP101=\"Famille\",\"Family\",IF('Outil Recensement simplifié'!AP101=\"Individuel\",\"Single\",IF('Outil Recensement simplifié'!AP101=\"Familiale\",\"Family\",IF('Outil Recensement simplifié'!AP101=\"I\",\"Single\",IF('Outil Recensement simplifié'!AP101=\"F\",\"Family\",\"\"))))))","v":""},{"$f":"IF('Outil Recensement simplifié'!AQ101>0,'Outil Recensement simplifié'!AQ101,\"\")","v":""},{"$f":"IF('Outil Recensement simplifié'!AR101=\"Oui\",\"Yes\",IF('Outil Recensement simplifié'!AR101=\"Non\",\"No\",IF('Outil Recensement simplifié'!AR101=\"O\",\"Yes\",IF('Outil Recensement simplifié'!AR101=\"N\",\"No\",\"\"))))","v":""},{"$f":"IF('Outil Recensement simplifié'!AS101>0,'Outil Recensement simplifié'!AS101,\"\")","v":""},{"$f":"IF('Outil Recensement simplifié'!AT101>0,'Outil Recensement simplifié'!AT101,\"\")","v":""},{"$f":"IF('Outil Recensement simplifié'!AU101>0,'Outil Recensement simplifié'!AU101,\"\")","v":""},{"$f":"IF('Outil Recensement simplifié'!AV101=\"Homme\",\"Male\",IF('Outil Recensement simplifié'!AV101=\"Femme\",\"Female\",IF('Outil Recensement simplifié'!AV101=\"H\",\"Male\",IF('Outil Recensement simplifié'!AV101=\"F\",\"Female\",\"\"))))","v":""},{"$f":"IF('Outil Recensement simplifié'!AW101=\"Oui\",\"Yes\",IF('Outil Recensement simplifié'!AW101=\"Non\",\"No\",IF('Outil Recensement simplifié'!AW101=\"O\",\"Yes\",IF('Outil Recensement simplifié'!AW101=\"N\",\"No\",\"\"))))","v":""},{"$f":"IF('Outil Recensement simplifié'!AX101=\"Oui\",\"Yes\",IF('Outil Recensement simplifié'!AX101=\"Non\",\"No\",IF('Outil Recensement simplifié'!AX101=\"O\",\"Yes\",IF('Outil Recensement simplifié'!AX101=\"N\",\"No\",\"\"))))","v":""},{"$f":"IF('Outil Recensement simplifié'!AY101>0,'Outil Recensement simplifié'!AY101,\"\")","v":""},{"$f":"IF('Outil Recensement simplifié'!AZ101>0,'Outil Recensement simplifié'!AZ101,\"\")","v":""},{"$f":"IF('Outil Recensement simplifié'!BA101>0,'Outil Recensement simplifié'!BA101,\"\")","v":""},{"$f":"IF('Outil Recensement simplifié'!BB101=\"Homme\",\"Male\",IF('Outil Recensement simplifié'!BB101=\"Femme\",\"Female\",IF('Outil Recensement simplifié'!BB101=\"H\",\"Male\",IF('Outil Recensement simplifié'!BB101=\"F\",\"Female\",\"\"))))","v":""},{"$f":"IF('Outil Recensement simplifié'!BC101=\"Oui\",\"Yes\",IF('Outil Recensement simplifié'!BC101=\"Non\",\"No\",IF('Outil Recensement simplifié'!BC101=\"O\",\"Yes\",IF('Outil Recensement simplifié'!BC101=\"N\",\"No\",\"\"))))","v":""},{"$f":"IF('Outil Recensement simplifié'!BD101=\"Oui\",\"Yes\",IF('Outil Recensement simplifié'!BD101=\"Non\",\"No\",IF('Outil Recensement simplifié'!BD101=\"O\",\"Yes\",IF('Outil Recensement simplifié'!BD101=\"N\",\"No\",\"\"))))","v":""},{"$f":"IF('Outil Recensement simplifié'!BE101>0,'Outil Recensement simplifié'!BE101,\"\")","v":""},{"$f":"IF('Outil Recensement simplifié'!BF101>0,'Outil Recensement simplifié'!BF101,\"\")","v":""},{"$f":"IF('Outil Recensement simplifié'!BG101>0,'Outil Recensement simplifié'!BG101,\"\")","v":""},{"$f":"IF('Outil Recensement simplifié'!BH101=\"Homme\",\"Male\",IF('Outil Recensement simplifié'!BH101=\"Femme\",\"Female\",IF('Outil Recensement simplifié'!BH101=\"H\",\"Male\",IF('Outil Recensement simplifié'!BH101=\"F\",\"Female\",\"\"))))","v":""},{"$f":"IF('Outil Recensement simplifié'!BI101=\"Oui\",\"Yes\",IF('Outil Recensement simplifié'!BI101=\"Non\",\"No\",IF('Outil Recensement simplifié'!BI101=\"O\",\"Yes\",IF('Outil Recensement simplifié'!BI101=\"N\",\"No\",\"\"))))","v":""},{"$f":"IF('Outil Recensement simplifié'!BJ101=\"Oui\",\"Yes\",IF('Outil Recensement simplifié'!BJ101=\"Non\",\"No\",IF('Outil Recensement simplifié'!BJ101=\"O\",\"Yes\",IF('Outil Recensement simplifié'!BJ101=\"N\",\"No\",\"\"))))","v":""},{"$f":"IF('Outil Recensement simplifié'!BK101>0,'Outil Recensement simplifié'!BK101,\"\")","v":""},{"$f":"IF('Outil Recensement simplifié'!BL101>0,'Outil Recensement simplifié'!BL101,\"\")","v":""},{"$f":"IF('Outil Recensement simplifié'!BM101>0,'Outil Recensement simplifié'!BM101,\"\")","v":""},{"$f":"IF('Outil Recensement simplifié'!BN101=\"Homme\",\"Male\",IF('Outil Recensement simplifié'!BN101=\"Femme\",\"Female\",IF('Outil Recensement simplifié'!BN101=\"H\",\"Male\",IF('Outil Recensement simplifié'!BN101=\"F\",\"Female\",\"\"))))","v":""},{"$f":"IF('Outil Recensement simplifié'!BO101=\"Oui\",\"Yes\",IF('Outil Recensement simplifié'!BO101=\"Non\",\"No\",IF('Outil Recensement simplifié'!BO101=\"O\",\"Yes\",IF('Outil Recensement simplifié'!BO101=\"N\",\"No\",\"\"))))","v":""},{"$f":"IF('Outil Recensement simplifié'!BP101=\"Oui\",\"Yes\",IF('Outil Recensement simplifié'!BP101=\"Non\",\"No\",IF('Outil Recensement simplifié'!BP101=\"O\",\"Yes\",IF('Outil Recensement simplifié'!BP101=\"N\",\"No\",\"\"))))","v":""},{"$f":"IF('Outil Recensement simplifié'!BQ101>0,'Outil Recensement simplifié'!BQ101,\"\")","v":""},{"$f":"IF('Outil Recensement simplifié'!BR101>0,'Outil Recensement simplifié'!BR101,\"\")","v":""},{"$f":"IF('Outil Recensement simplifié'!BS101>0,'Outil Recensement simplifié'!BS101,\"\")","v":""},{"$f":"IF('Outil Recensement simplifié'!BT101=\"Homme\",\"Male\",IF('Outil Recensement simplifié'!BT101=\"Femme\",\"Female\",IF('Outil Recensement simplifié'!BT101=\"H\",\"Male\",IF('Outil Recensement simplifié'!BT101=\"F\",\"Female\",\"\"))))","v":""},{"$f":"IF('Outil Recensement simplifié'!BU101=\"Oui\",\"Yes\",IF('Outil Recensement simplifié'!BU101=\"Non\",\"No\",IF('Outil Recensement simplifié'!BU101=\"O\",\"Yes\",IF('Outil Recensement simplifié'!BU101=\"N\",\"No\",\"\"))))","v":""},{"$f":"IF('Outil Recensement simplifié'!BV101=\"Oui\",\"Yes\",IF('Outil Recensement simplifié'!BV101=\"Non\",\"No\",IF('Outil Recensement simplifié'!BV101=\"O\",\"Yes\",IF('Outil Recensement simplifié'!BV101=\"N\",\"No\",\"\"))))","v":""},{"$f":"IF('Outil Recensement simplifié'!BW101>0,'Outil Recensement simplifié'!BW101,\"\")","v":""},{"$f":"IF('Outil Recensement simplifié'!BX101>0,'Outil Recensement simplifié'!BX101,\"\")","v":""},{"$f":"IF('Outil Recensement simplifié'!BY101>0,'Outil Recensement simplifié'!BY101,\"\")","v":""},{"$f":"IF('Outil Recensement simplifié'!BZ101=\"Homme\",\"Male\",IF('Outil Recensement simplifié'!BZ101=\"Femme\",\"Female\",IF('Outil Recensement simplifié'!BZ101=\"H\",\"Male\",IF('Outil Recensement simplifié'!BZ101=\"F\",\"Female\",\"\"))))","v":""},{"$f":"IF('Outil Recensement simplifié'!CA101=\"Oui\",\"Yes\",IF('Outil Recensement simplifié'!CA101=\"Non\",\"No\",IF('Outil Recensement simplifié'!CA101=\"O\",\"Yes\",IF('Outil Recensement simplifié'!CA101=\"N\",\"No\",\"\"))))","v":""},{"$f":"IF('Outil Recensement simplifié'!CB101=\"Oui\",\"Yes\",IF('Outil Recensement simplifié'!CB101=\"Non\",\"No\",IF('Outil Recensement simplifié'!CB101=\"O\",\"Yes\",IF('Outil Recensement simplifié'!CB101=\"N\",\"No\",\"\"))))","v":""},{"$f":"IF('Outil Recensement simplifié'!CH101>0,'Outil Recensement simplifié'!CH101,\"\")","v":"    "}]

{"sheet":"OASIS Manual Adjustments","index":3,"n_rows":101,"n_cols":10,"rows_kept":101,"cut":false,"hidden":true,"merged":[[2,7,2,8]]}
[]
[]
[null,null,null,null,null,null,null,"OASIS Manual Adjustment(s) to make:"]
[null,"Member ID","First Name","Last Name","Dependent Status indicated on Simplified Loader","Mbr has deps?\n(blank if No)","Red Flags","EHC Coverage Selection","Dental Coverage Selection","Monthly HSA Allotment\n(if different between members)"]
[null,{"$f":"IF('Outil Recensement simplifié'!A5>0,'Outil Recensement simplifié'!A5,\"\")","v":""},{"$f":"IF('Outil Recensement simplifié'!B5>0,'Outil Recensement simplifié'!B5,\"\")","v":""},{"$f":"IF('Outil Recensement simplifié'!D5>0,'Outil Recensement simplifié'!D5,\"\")","v":""},{"$f":"IF('Simplified Loader (FOR COPY)'!N4>0,'Simplified Loader (FOR COPY)'!N4,\"\")","v":""},{"$f":"IF(OR('Outil Recensement simplifié'!AK5>0,'Outil Recensement simplifié'!AS5>0),\"Yes\",\"\")","v":""},{"$f":"IF(((E5=\"Single\")*AND(F5=\"Yes\")),\"Discrepancy\",\"\")","v":""},{"$f":"IF(AND('Simplified Loader (FOR COPY)'!N4=\"Family\",'Outil Recensement simplifié'!V5=\"Individuelle\"),\"Single\",IF('Outil Recensement simplifié'!V5=\"Monoparentale\",\"Monoparental\",IF('Outil Recensement simplifié'!V5=\"Couple\",\"Couple\",\"\")))","v":""},{"$f":"IF(AND('Simplified Loader (FOR COPY)'!N4=\"Family\",'Outil Recensement simplifié'!W5=\"Individuelle\"),\"Single\",IF('Outil Recensement simplifié'!W5=\"Monoparentale\",\"Monoparental\",IF('Outil Recensement simplifié'!W5=\"Couple\",\"Couple\",\"\")))","v":""},{"$f":"IF('Outil Recensement simplifié'!CI5>0,'Outil Recensement simplifié'!CI5,\"\")","v":""}]
[null,{"$f":"IF('Outil Recensement simplifié'!A6>0,'Outil Recensement simplifié'!A6,\"\")","v":""},{"$f":"IF('Outil Recensement simplifié'!B6>0,'Outil Recensement simplifié'!B6,\"\")","v":""},{"$f":"IF('Outil Recensement simplifié'!D6>0,'Outil Recensement simplifié'!D6,\"\")","v":""},{"$f":"IF('Simplified Loader (FOR COPY)'!N5>0,'Simplified Loader (FOR COPY)'!N5,\"\")","v":""},{"$f":"IF(OR('Outil Recensement simplifié'!AK6>0,'Outil Recensement simplifié'!AS6>0),\"Yes\",\"\")","v":""},{"$f":"IF(((E6=\"Single\")*AND(F6=\"Yes\")),\"Discrepancy\",\"\")","v":""},{"$f":"IF(AND('Simplified Loader (FOR COPY)'!N5=\"Family\",'Outil Recensement simplifié'!V6=\"Individuelle\"),\"Single\",IF('Outil Recensement simplifié'!V6=\"Monoparentale\",\"Monoparental\",IF('Outil Recensement simplifié'!V6=\"Couple\",\"Couple\",\"\")))","v":""},{"$f":"IF(AND('Simplified Loader (FOR COPY)'!N5=\"Family\",'Outil Recensement simplifié'!W6=\"Individuelle\"),\"Single\",IF('Outil Recensement simplifié'!W6=\"Monoparentale\",\"Monoparental\",IF('Outil Recensement simplifié'!W6=\"Couple\",\"Couple\",\"\")))","v":""},{"$f":"IF('Outil Recensement simplifié'!CI6>0,'Outil Recensement simplifié'!CI6,\"\")","v":""}]
[null,{"$f":"IF('Outil Recensement simplifié'!A7>0,'Outil Recensement simplifié'!A7,\"\")","v":""},{"$f":"IF('Outil Recensement simplifié'!B7>0,'Outil Recensement simplifié'!B7,\"\")","v":""},{"$f":"IF('Outil Recensement simplifié'!D7>0,'Outil Recensement simplifié'!D7,\"\")","v":""},{"$f":"IF('Simplified Loader (FOR COPY)'!N6>0,'Simplified Loader (FOR COPY)'!N6,\"\")","v":""},{"$f":"IF(OR('Outil Recensement simplifié'!AK7>0,'Outil Recensement simplifié'!AS7>0),\"Yes\",\"\")","v":""},"",{"$f":"IF(AND('Simplified Loader (FOR COPY)'!N6=\"Family\",'Outil Recensement simplifié'!V7=\"Individuelle\"),\"Single\",IF('Outil Recensement simplifié'!V7=\"Monoparentale\",\"Monoparental\",IF('Outil Recensement simplifié'!V7=\"Couple\",\"Couple\",\"\")))","v":""},{"$f":"IF(AND('Simplified Loader (FOR COPY)'!N6=\"Family\",'Outil Recensement simplifié'!W7=\"Individuelle\"),\"Single\",IF('Outil Recensement simplifié'!W7=\"Monoparentale\",\"Monoparental\",IF('Outil Recensement simplifié'!W7=\"Couple\",\"Couple\",\"\")))","v":""},{"$f":"IF('Outil Recensement simplifié'!CI7>0,'Outil Recensement simplifié'!CI7,\"\")","v":""}]
[null,{"$f":"IF('Outil Recensement simplifié'!A8>0,'Outil Recensement simplifié'!A8,\"\")","v":""},{"$f":"IF('Outil Recensement simplifié'!B8>0,'Outil Recensement simplifié'!B8,\"\")","v":""},{"$f":"IF('Outil Recensement simplifié'!D8>0,'Outil Recensement simplifié'!D8,\"\")","v":""},{"$f":"IF('Simplified Loader (FOR COPY)'!N7>0,'Simplified Loader (FOR COPY)'!N7,\"\")","v":""},{"$f":"IF(OR('Outil Recensement simplifié'!AK8>0,'Outil Recensement simplifié'!AS8>0),\"Yes\",\"\")","v":""},"",{"$f":"IF(AND('Simplified Loader (FOR COPY)'!N7=\"Family\",'Outil Recensement simplifié'!V8=\"Individuelle\"),\"Single\",IF('Outil Recensement simplifié'!V8=\"Monoparentale\",\"Monoparental\",IF('Outil Recensement simplifié'!V8=\"Couple\",\"Couple\",\"\")))","v":""},{"$f":"IF(AND('Simplified Loader (FOR COPY)'!N7=\"Family\",'Outil Recensement simplifié'!W8=\"Individuelle\"),\"Single\",IF('Outil Recensement simplifié'!W8=\"Monoparentale\",\"Monoparental\",IF('Outil Recensement simplifié'!W8=\"Couple\",\"Couple\",\"\")))","v":""},{"$f":"IF('Outil Recensement simplifié'!CI8>0,'Outil Recensement simplifié'!CI8,\"\")","v":""}]
[null,{"$f":"IF('Outil Recensement simplifié'!A9>0,'Outil Recensement simplifié'!A9,\"\")","v":""},{"$f":"IF('Outil Recensement simplifié'!B9>0,'Outil Recensement simplifié'!B9,\"\")","v":""},{"$f":"IF('Outil Recensement simplifié'!D9>0,'Outil Recensement simplifié'!D9,\"\")","v":""},{"$f":"IF('Simplified Loader (FOR COPY)'!N8>0,'Simplified Loader (FOR COPY)'!N8,\"\")","v":""},{"$f":"IF(OR('Outil Recensement simplifié'!AK9>0,'Outil Recensement simplifié'!AS9>0),\"Yes\",\"\")","v":""},"",{"$f":"IF(AND('Simplified Loader (FOR COPY)'!N8=\"Family\",'Outil Recensement simplifié'!V9=\"Individuelle\"),\"Single\",IF('Outil Recensement simplifié'!V9=\"Monoparentale\",\"Monoparental\",IF('Outil Recensement simplifié'!V9=\"Couple\",\"Couple\",\"\")))","v":""},{"$f":"IF(AND('Simplified Loader (FOR COPY)'!N8=\"Family\",'Outil Recensement simplifié'!W9=\"Individuelle\"),\"Single\",IF('Outil Recensement simplifié'!W9=\"Monoparentale\",\"Monoparental\",IF('Outil Recensement simplifié'!W9=\"Couple\",\"Couple\",\"\")))","v":""},{"$f":"IF('Outil Recensement simplifié'!CI9>0,'Outil Recensement simplifié'!CI9,\"\")","v":""}]
[null,{"$f":"IF('Outil Recensement simplifié'!A10>0,'Outil Recensement simplifié'!A10,\"\")","v":""},{"$f":"IF('Outil Recensement simplifié'!B10>0,'Outil Recensement simplifié'!B10,\"\")","v":""},{"$f":"IF('Outil Recensement simplifié'!D10>0,'Outil Recensement simplifié'!D10,\"\")","v":""},{"$f":"IF('Simplified Loader (FOR COPY)'!N9>0,'Simplified Loader (FOR COPY)'!N9,\"\")","v":""},{"$f":"IF(OR('Outil Recensement simplifié'!AK10>0,'Outil Recensement simplifié'!AS10>0),\"Yes\",\"\")","v":""},"",{"$f":"IF(AND('Simplified Loader (FOR COPY)'!N9=\"Family\",'Outil Recensement simplifié'!V10=\"Individuelle\"),\"Single\",IF('Outil Recensement simplifié'!V10=\"Monoparentale\",\"Monoparental\",IF('Outil Recensement simplifié'!V10=\"Couple\",\"Couple\",\"\")))","v":""},{"$f":"IF(AND('Simplified Loader (FOR COPY)'!N9=\"Family\",'Outil Recensement simplifié'!W10=\"Individuelle\"),\"Single\",IF('Outil Recensement simplifié'!W10=\"Monoparentale\",\"Monoparental\",IF('Outil Recensement simplifié'!W10=\"Couple\",\"Couple\",\"\")))","v":""},{"$f":"IF('Outil Recensement simplifié'!CI10>0,'Outil Recensement simplifié'!CI10,\"\")","v":""}]
[null,{"$f":"IF('Outil Recensement simplifié'!A11>0,'Outil Recensement simplifié'!A11,\"\")","v":""},{"$f":"IF('Outil Recensement simplifié'!B11>0,'Outil Recensement simplifié'!B11,\"\")","v":""},{"$f":"IF('Outil Recensement simplifié'!D11>0,'Outil Recensement simplifié'!D11,\"\")","v":""},{"$f":"IF('Simplified Loader (FOR COPY)'!N10>0,'Simplified Loader (FOR COPY)'!N10,\"\")","v":""},{"$f":"IF(OR('Outil Recensement simplifié'!AK11>0,'Outil Recensement simplifié'!AS11>0),\"Yes\",\"\")","v":""},"",{"$f":"IF(AND('Simplified Loader (FOR COPY)'!N10=\"Family\",'Outil Recensement simplifié'!V11=\"Individuelle\"),\"Single\",IF('Outil Recensement simplifié'!V11=\"Monoparentale\",\"Monoparental\",IF('Outil Recensement simplifié'!V11=\"Couple\",\"Couple\",\"\")))","v":""},{"$f":"IF(AND('Simplified Loader (FOR COPY)'!N10=\"Family\",'Outil Recensement simplifié'!W11=\"Individuelle\"),\"Single\",IF('Outil Recensement simplifié'!W11=\"Monoparentale\",\"Monoparental\",IF('Outil Recensement simplifié'!W11=\"Couple\",\"Couple\",\"\")))","v":""},{"$f":"IF('Outil Recensement simplifié'!CI11>0,'Outil Recensement simplifié'!CI11,\"\")","v":""}]
[null,{"$f":"IF('Outil Recensement simplifié'!A12>0,'Outil Recensement simplifié'!A12,\"\")","v":""},{"$f":"IF('Outil Recensement simplifié'!B12>0,'Outil Recensement simplifié'!B12,\"\")","v":""},{"$f":"IF('Outil Recensement simplifié'!D12>0,'Outil Recensement simplifié'!D12,\"\")","v":""},{"$f":"IF('Simplified Loader (FOR COPY)'!N11>0,'Simplified Loader (FOR COPY)'!N11,\"\")","v":""},{"$f":"IF(OR('Outil Recensement simplifié'!AK12>0,'Outil Recensement simplifié'!AS12>0),\"Yes\",\"\")","v":""},"",{"$f":"IF(AND('Simplified Loader (FOR COPY)'!N11=\"Family\",'Outil Recensement simplifié'!V12=\"Individuelle\"),\"Single\",IF('Outil Recensement simplifié'!V12=\"Monoparentale\",\"Monoparental\",IF('Outil Recensement simplifié'!V12=\"Couple\",\"Couple\",\"\")))","v":""},{"$f":"IF(AND('Simplified Loader (FOR COPY)'!N11=\"Family\",'Outil Recensement simplifié'!W12=\"Individuelle\"),\"Single\",IF('Outil Recensement simplifié'!W12=\"Monoparentale\",\"Monoparental\",IF('Outil Recensement simplifié'!W12=\"Couple\",\"Couple\",\"\")))","v":""},{"$f":"IF('Outil Recensement simplifié'!CI12>0,'Outil Recensement simplifié'!CI12,\"\")","v":""}]
[null,{"$f":"IF('Outil Recensement simplifié'!A13>0,'Outil Recensement simplifié'!A13,\"\")","v":""},{"$f":"IF('Outil Recensement simplifié'!B13>0,'Outil Recensement simplifié'!B13,\"\")","v":""},{"$f":"IF('Outil Recensement simplifié'!D13>0,'Outil Recensement simplifié'!D13,\"\")","v":""},{"$f":"IF('Simplified Loader (FOR COPY)'!N12>0,'Simplified Loader (FOR COPY)'!N12,\"\")","v":""},{"$f":"IF(OR('Outil Recensement simplifié'!AK13>0,'Outil Recensement simplifié'!AS13>0),\"Yes\",\"\")","v":""},"",{"$f":"IF(AND('Simplified Loader (FOR COPY)'!N12=\"Family\",'Outil Recensement simplifié'!V13=\"Individuelle\"),\"Single\",IF('Outil Recensement simplifié'!V13=\"Monoparentale\",\"Monoparental\",IF('Outil Recensement simplifié'!V13=\"Couple\",\"Couple\",\"\")))","v":""},{"$f":"IF(AND('Simplified Loader (FOR COPY)'!N12=\"Family\",'Outil Recensement simplifié'!W13=\"Individuelle\"),\"Single\",IF('Outil Recensement simplifié'!W13=\"Monoparentale\",\"Monoparental\",IF('Outil Recensement simplifié'!W13=\"Couple\",\"Couple\",\"\")))","v":""},{"$f":"IF('Outil Recensement simplifié'!CI13>0,'Outil Recensement simplifié'!CI13,\"\")","v":""}]
[null,{"$f":"IF('Outil Recensement simplifié'!A14>0,'Outil Recensement simplifié'!A14,\"\")","v":""},{"$f":"IF('Outil Recensement simplifié'!B14>0,'Outil Recensement simplifié'!B14,\"\")","v":""},{"$f":"IF('Outil Recensement simplifié'!D14>0,'Outil Recensement simplifié'!D14,\"\")","v":""},{"$f":"IF('Simplified Loader (FOR COPY)'!N13>0,'Simplified Loader (FOR COPY)'!N13,\"\")","v":""},{"$f":"IF(OR('Outil Recensement simplifié'!AK14>0,'Outil Recensement simplifié'!AS14>0),\"Yes\",\"\")","v":""},"",{"$f":"IF(AND('Simplified Loader (FOR COPY)'!N13=\"Family\",'Outil Recensement simplifié'!V14=\"Individuelle\"),\"Single\",IF('Outil Recensement simplifié'!V14=\"Monoparentale\",\"Monoparental\",IF('Outil Recensement simplifié'!V14=\"Couple\",\"Couple\",\"\")))","v":""},{"$f":"IF(AND('Simplified Loader (FOR COPY)'!N13=\"Family\",'Outil Recensement simplifié'!W14=\"Individuelle\"),\"Single\",IF('Outil Recensement simplifié'!W14=\"Monoparentale\",\"Monoparental\",IF('Outil Recensement simplifié'!W14=\"Couple\",\"Couple\",\"\")))","v":""},{"$f":"IF('Outil Recensement simplifié'!CI14>0,'Outil Recensement simplifié'!CI14,\"\")","v":""}]
[null,{"$f":"IF('Outil Recensement simplifié'!A15>0,'Outil Recensement simplifié'!A15,\"\")","v":""},{"$f":"IF('Outil Recensement simplifié'!B15>0,'Outil Recensement simplifié'!B15,\"\")","v":""},{"$f":"IF('Outil Recensement simplifié'!D15>0,'Outil Recensement simplifié'!D15,\"\")","v":""},{"$f":"IF('Simplified Loader (FOR COPY)'!N14>0,'Simplified Loader (FOR COPY)'!N14,\"\")","v":""},{"$f":"IF(OR('Outil Recensement simplifié'!AK15>0,'Outil Recensement simplifié'!AS15>0),\"Yes\",\"\")","v":""},"",{"$f":"IF(AND('Simplified Loader (FOR COPY)'!N14=\"Family\",'Outil Recensement simplifié'!V15=\"Individuelle\"),\"Single\",IF('Outil Recensement simplifié'!V15=\"Monoparentale\",\"Monoparental\",IF('Outil Recensement simplifié'!V15=\"Couple\",\"Couple\",\"\")))","v":""},{"$f":"IF(AND('Simplified Loader (FOR COPY)'!N14=\"Family\",'Outil Recensement simplifié'!W15=\"Individuelle\"),\"Single\",IF('Outil Recensement simplifié'!W15=\"Monoparentale\",\"Monoparental\",IF('Outil Recensement simplifié'!W15=\"Couple\",\"Couple\",\"\")))","v":""},{"$f":"IF('Outil Recensement simplifié'!CI15>0,'Outil Recensement simplifié'!CI15,\"\")","v":""}]
[null,{"$f":"IF('Outil Recensement simplifié'!A16>0,'Outil Recensement simplifié'!A16,\"\")","v":""},{"$f":"IF('Outil Recensement simplifié'!B16>0,'Outil Recensement simplifié'!B16,\"\")","v":""},{"$f":"IF('Outil Recensement simplifié'!D16>0,'Outil Recensement simplifié'!D16,\"\")","v":""},{"$f":"IF('Simplified Loader (FOR COPY)'!N15>0,'Simplified Loader (FOR COPY)'!N15,\"\")","v":""},{"$f":"IF(OR('Outil Recensement simplifié'!AK16>0,'Outil Recensement simplifié'!AS16>0),\"Yes\",\"\")","v":""},"",{"$f":"IF(AND('Simplified Loader (FOR COPY)'!N15=\"Family\",'Outil Recensement simplifié'!V16=\"Individuelle\"),\"Single\",IF('Outil Recensement simplifié'!V16=\"Monoparentale\",\"Monoparental\",IF('Outil Recensement simplifié'!V16=\"Couple\",\"Couple\",\"\")))","v":""},{"$f":"IF(AND('Simplified Loader (FOR COPY)'!N15=\"Family\",'Outil Recensement simplifié'!W16=\"Individuelle\"),\"Single\",IF('Outil Recensement simplifié'!W16=\"Monoparentale\",\"Monoparental\",IF('Outil Recensement simplifié'!W16=\"Couple\",\"Couple\",\"\")))","v":""},{"$f":"IF('Outil Recensement simplifié'!CI16>0,'Outil Recensement simplifié'!CI16,\"\")","v":""}]
[null,{"$f":"IF('Outil Recensement simplifié'!A17>0,'Outil Recensement simplifié'!A17,\"\")","v":""},{"$f":"IF('Outil Recensement simplifié'!B17>0,'Outil Recensement simplifié'!B17,\"\")","v":""},{"$f":"IF('Outil Recensement simplifié'!D17>0,'Outil Recensement simplifié'!D17,\"\")","v":""},{"$f":"IF('Simplified Loader (FOR COPY)'!N16>0,'Simplified Loader (FOR COPY)'!N16,\"\")","v":""},{"$f":"IF(OR('Outil Recensement simplifié'!AK17>0,'Outil Recensement simplifié'!AS17>0),\"Yes\",\"\")","v":""},"",{"$f":"IF(AND('Simplified Loader (FOR COPY)'!N16=\"Family\",'Outil Recensement simplifié'!V17=\"Individuelle\"),\"Single\",IF('Outil Recensement simplifié'!V17=\"Monoparentale\",\"Monoparental\",IF('Outil Recensement simplifié'!V17=\"Couple\",\"Couple\",\"\")))","v":""},{"$f":"IF(AND('Simplified Loader (FOR COPY)'!N16=\"Family\",'Outil Recensement simplifié'!W17=\"Individuelle\"),\"Single\",IF('Outil Recensement simplifié'!W17=\"Monoparentale\",\"Monoparental\",IF('Outil Recensement simplifié'!W17=\"Couple\",\"Couple\",\"\")))","v":""},{"$f":"IF('Outil Recensement simplifié'!CI17>0,'Outil Recensement simplifié'!CI17,\"\")","v":""}]
[null,{"$f":"IF('Outil Recensement simplifié'!A18>0,'Outil Recensement simplifié'!A18,\"\")","v":""},{"$f":"IF('Outil Recensement simplifié'!B18>0,'Outil Recensement simplifié'!B18,\"\")","v":""},{"$f":"IF('Outil Recensement simplifié'!D18>0,'Outil Recensement simplifié'!D18,\"\")","v":""},{"$f":"IF('Simplified Loader (FOR COPY)'!N17>0,'Simplified Loader (FOR COPY)'!N17,\"\")","v":""},{"$f":"IF(OR('Outil Recensement simplifié'!AK18>0,'Outil Recensement simplifié'!AS18>0),\"Yes\",\"\")","v":""},"",{"$f":"IF(AND('Simplified Loader (FOR COPY)'!N17=\"Family\",'Outil Recensement simplifié'!V18=\"Individuelle\"),\"Single\",IF('Outil Recensement simplifié'!V18=\"Monoparentale\",\"Monoparental\",IF('Outil Recensement simplifié'!V18=\"Couple\",\"Couple\",\"\")))","v":""},{"$f":"IF(AND('Simplified Loader (FOR COPY)'!N17=\"Family\",'Outil Recensement simplifié'!W18=\"Individuelle\"),\"Single\",IF('Outil Recensement simplifié'!W18=\"Monoparentale\",\"Monoparental\",IF('Outil Recensement simplifié'!W18=\"Couple\",\"Couple\",\"\")))","v":""},{"$f":"IF('Outil Recensement simplifié'!CI18>0,'Outil Recensement simplifié'!CI18,\"\")","v":""}]
[null,{"$f":"IF('Outil Recensement simplifié'!A19>0,'Outil Recensement simplifié'!A19,\"\")","v":""},{"$f":"IF('Outil Recensement simplifié'!B19>0,'Outil Recensement simplifié'!B19,\"\")","v":""},{"$f":"IF('Outil Recensement simplifié'!D19>0,'Outil Recensement simplifié'!D19,\"\")","v":""},{"$f":"IF('Simplified Loader (FOR COPY)'!N18>0,'Simplified Loader (FOR COPY)'!N18,\"\")","v":""},{"$f":"IF(OR('Outil Recensement simplifié'!AK19>0,'Outil Recensement simplifié'!AS19>0),\"Yes\",\"\")","v":""},"",{"$f":"IF(AND('Simplified Loader (FOR COPY)'!N18=\"Family\",'Outil Recensement simplifié'!V19=\"Individuelle\"),\"Single\",IF('Outil Recensement simplifié'!V19=\"Monoparentale\",\"Monoparental\",IF('Outil Recensement simplifié'!V19=\"Couple\",\"Couple\",\"\")))","v":""},{"$f":"IF(AND('Simplified Loader (FOR COPY)'!N18=\"Family\",'Outil Recensement simplifié'!W19=\"Individuelle\"),\"Single\",IF('Outil Recensement simplifié'!W19=\"Monoparentale\",\"Monoparental\",IF('Outil Recensement simplifié'!W19=\"Couple\",\"Couple\",\"\")))","v":""},{"$f":"IF('Outil Recensement simplifié'!CI19>0,'Outil Recensement simplifié'!CI19,\"\")","v":""}]
[null,{"$f":"IF('Outil Recensement simplifié'!A20>0,'Outil Recensement simplifié'!A20,\"\")","v":""},{"$f":"IF('Outil Recensement simplifié'!B20>0,'Outil Recensement simplifié'!B20,\"\")","v":""},{"$f":"IF('Outil Recensement simplifié'!D20>0,'Outil Recensement simplifié'!D20,\"\")","v":""},{"$f":"IF('Simplified Loader (FOR COPY)'!N19>0,'Simplified Loader (FOR COPY)'!N19,\"\")","v":""},{"$f":"IF(OR('Outil Recensement simplifié'!AK20>0,'Outil Recensement simplifié'!AS20>0),\"Yes\",\"\")","v":""},"",{"$f":"IF(AND('Simplified Loader (FOR COPY)'!N19=\"Family\",'Outil Recensement simplifié'!V20=\"Individuelle\"),\"Single\",IF('Outil Recensement simplifié'!V20=\"Monoparentale\",\"Monoparental\",IF('Outil Recensement simplifié'!V20=\"Couple\",\"Couple\",\"\")))","v":""},{"$f":"IF(AND('Simplified Loader (FOR COPY)'!N19=\"Family\",'Outil Recensement simplifié'!W20=\"Individuelle\"),\"Single\",IF('Outil Recensement simplifié'!W20=\"Monoparentale\",\"Monoparental\",IF('Outil Recensement simplifié'!W20=\"Couple\",\"Couple\",\"\")))","v":""},{"$f":"IF('Outil Recensement simplifié'!CI20>0,'Outil Recensement simplifié'!CI20,\"\")","v":""}]
[null,{"$f":"IF('Outil Recensement simplifié'!A21>0,'Outil Recensement simplifié'!A21,\"\")","v":""},{"$f":"IF('Outil Recensement simplifié'!B21>0,'Outil Recensement simplifié'!B21,\"\")","v":""},{"$f":"IF('Outil Recensement simplifié'!D21>0,'Outil Recensement simplifié'!D21,\"\")","v":""},{"$f":"IF('Simplified Loader (FOR COPY)'!N20>0,'Simplified Loader (FOR COPY)'!N20,\"\")","v":""},{"$f":"IF(OR('Outil Recensement simplifié'!AK21>0,'Outil Recensement simplifié'!AS21>0),\"Yes\",\"\")","v":""},"",{"$f":"IF(AND('Simplified Loader (FOR COPY)'!N20=\"Family\",'Outil Recensement simplifié'!V21=\"Individuelle\"),\"Single\",IF('Outil Recensement simplifié'!V21=\"Monoparentale\",\"Monoparental\",IF('Outil Recensement simplifié'!V21=\"Couple\",\"Couple\",\"\")))","v":""},{"$f":"IF(AND('Simplified Loader (FOR COPY)'!N20=\"Family\",'Outil Recensement simplifié'!W21=\"Individuelle\"),\"Single\",IF('Outil Recensement simplifié'!W21=\"Monoparentale\",\"Monoparental\",IF('Outil Recensement simplifié'!W21=\"Couple\",\"Couple\",\"\")))","v":""},{"$f":"IF('Outil Recensement simplifié'!CI21>0,'Outil Recensement simplifié'!CI21,\"\")","v":""}]
[null,{"$f":"IF('Outil Recensement simplifié'!A22>0,'Outil Recensement simplifié'!A22,\"\")","v":""},{"$f":"IF('Outil Recensement simplifié'!B22>0,'Outil Recensement simplifié'!B22,\"\")","v":""},{"$f":"IF('Outil Recensement simplifié'!D22>0,'Outil Recensement simplifié'!D22,\"\")","v":""},{"$f":"IF('Simplified Loader (FOR COPY)'!N21>0,'Simplified Loader (FOR COPY)'!N21,\"\")","v":""},{"$f":"IF(OR('Outil Recensement simplifié'!AK22>0,'Outil Recensement simplifié'!AS22>0),\"Yes\",\"\")","v":""},"",{"$f":"IF(AND('Simplified Loader (FOR COPY)'!N21=\"Family\",'Outil Recensement simplifié'!V22=\"Individuelle\"),\"Single\",IF('Outil Recensement simplifié'!V22=\"Monoparentale\",\"Monoparental\",IF('Outil Recensement simplifié'!V22=\"Couple\",\"Couple\",\"\")))","v":""},{"$f":"IF(AND('Simplified Loader (FOR COPY)'!N21=\"Family\",'Outil Recensement simplifié'!W22=\"Individuelle\"),\"Single\",IF('Outil Recensement simplifié'!W22=\"Monoparentale\",\"Monoparental\",IF('Outil Recensement simplifié'!W22=\"Couple\",\"Couple\",\"\")))","v":""},{"$f":"IF('Outil Recensement simplifié'!CI22>0,'Outil Recensement simplifié'!CI22,\"\")","v":""}]
[null,{"$f":"IF('Outil Recensement simplifié'!A23>0,'Outil Recensement simplifié'!A23,\"\")","v":""},{"$f":"IF('Outil Recensement simplifié'!B23>0,'Outil Recensement simplifié'!B23,\"\")","v":""},{"$f":"IF('Outil Recensement simplifié'!D23>0,'Outil Recensement simplifié'!D23,\"\")","v":""},{"$f":"IF('Simplified Loader (FOR COPY)'!N22>0,'Simplified Loader (FOR COPY)'!N22,\"\")","v":""},{"$f":"IF(OR('Outil Recensement simplifié'!AK23>0,'Outil Recensement simplifié'!AS23>0),\"Yes\",\"\")","v":""},"",{"$f":"IF(AND('Simplified Loader (FOR COPY)'!N22=\"Family\",'Outil Recensement simplifié'!V23=\"Individuelle\"),\"Single\",IF('Outil Recensement simplifié'!V23=\"Monoparentale\",\"Monoparental\",IF('Outil Recensement simplifié'!V23=\"Couple\",\"Couple\",\"\")))","v":""},{"$f":"IF(AND('Simplified Loader (FOR COPY)'!N22=\"Family\",'Outil Recensement simplifié'!W23=\"Individuelle\"),\"Single\",IF('Outil Recensement simplifié'!W23=\"Monoparentale\",\"Monoparental\",IF('Outil Recensement simplifié'!W23=\"Couple\",\"Couple\",\"\")))","v":""},{"$f":"IF('Outil Recensement simplifié'!CI23>0,'Outil Recensement simplifié'!CI23,\"\")","v":""}]
[null,{"$f":"IF('Outil Recensement simplifié'!A24>0,'Outil Recensement simplifié'!A24,\"\")","v":""},{"$f":"IF('Outil Recensement simplifié'!B24>0,'Outil Recensement simplifié'!B24,\"\")","v":""},{"$f":"IF('Outil Recensement simplifié'!D24>0,'Outil Recensement simplifié'!D24,\"\")","v":""},{"$f":"IF('Simplified Loader (FOR COPY)'!N23>0,'Simplified Loader (FOR COPY)'!N23,\"\")","v":""},{"$f":"IF(OR('Outil Recensement simplifié'!AK24>0,'Outil Recensement simplifié'!AS24>0),\"Yes\",\"\")","v":""},"",{"$f":"IF(AND('Simplified Loader (FOR COPY)'!N23=\"Family\",'Outil Recensement simplifié'!V24=\"Individuelle\"),\"Single\",IF('Outil Recensement simplifié'!V24=\"Monoparentale\",\"Monoparental\",IF('Outil Recensement simplifié'!V24=\"Couple\",\"Couple\",\"\")))","v":""},{"$f":"IF(AND('Simplified Loader (FOR COPY)'!N23=\"Family\",'Outil Recensement simplifié'!W24=\"Individuelle\"),\"Single\",IF('Outil Recensement simplifié'!W24=\"Monoparentale\",\"Monoparental\",IF('Outil Recensement simplifié'!W24=\"Couple\",\"Couple\",\"\")))","v":""},{"$f":"IF('Outil Recensement simplifié'!CI24>0,'Outil Recensement simplifié'!CI24,\"\")","v":""}]
[null,{"$f":"IF('Outil Recensement simplifié'!A25>0,'Outil Recensement simplifié'!A25,\"\")","v":""},{"$f":"IF('Outil Recensement simplifié'!B25>0,'Outil Recensement simplifié'!B25,\"\")","v":""},{"$f":"IF('Outil Recensement simplifié'!D25>0,'Outil Recensement simplifié'!D25,\"\")","v":""},{"$f":"IF('Simplified Loader (FOR COPY)'!N24>0,'Simplified Loader (FOR COPY)'!N24,\"\")","v":""},{"$f":"IF(OR('Outil Recensement simplifié'!AK25>0,'Outil Recensement simplifié'!AS25>0),\"Yes\",\"\")","v":""},"",{"$f":"IF(AND('Simplified Loader (FOR COPY)'!N24=\"Family\",'Outil Recensement simplifié'!V25=\"Individuelle\"),\"Single\",IF('Outil Recensement simplifié'!V25=\"Monoparentale\",\"Monoparental\",IF('Outil Recensement simplifié'!V25=\"Couple\",\"Couple\",\"\")))","v":""},{"$f":"IF(AND('Simplified Loader (FOR COPY)'!N24=\"Family\",'Outil Recensement simplifié'!W25=\"Individuelle\"),\"Single\",IF('Outil Recensement simplifié'!W25=\"Monoparentale\",\"Monoparental\",IF('Outil Recensement simplifié'!W25=\"Couple\",\"Couple\",\"\")))","v":""},{"$f":"IF('Outil Recensement simplifié'!CI25>0,'Outil Recensement simplifié'!CI25,\"\")","v":""}]
[null,{"$f":"IF('Outil Recensement simplifié'!A26>0,'Outil Recensement simplifié'!A26,\"\")","v":""},{"$f":"IF('Outil Recensement simplifié'!B26>0,'Outil Recensement simplifié'!B26,\"\")","v":""},{"$f":"IF('Outil Recensement simplifié'!D26>0,'Outil Recensement simplifié'!D26,\"\")","v":""},{"$f":"IF('Simplified Loader (FOR COPY)'!N25>0,'Simplified Loader (FOR COPY)'!N25,\"\")","v":""},{"$f":"IF(OR('Outil Recensement simplifié'!AK26>0,'Outil Recensement simplifié'!AS26>0),\"Yes\",\"\")","v":""},"",{"$f":"IF(AND('Simplified Loader (FOR COPY)'!N25=\"Family\",'Outil Recensement simplifié'!V26=\"Individuelle\"),\"Single\",IF('Outil Recensement simplifié'!V26=\"Monoparentale\",\"Monoparental\",IF('Outil Recensement simplifié'!V26=\"Couple\",\"Couple\",\"\")))","v":""},{"$f":"IF(AND('Simplified Loader (FOR COPY)'!N25=\"Family\",'Outil Recensement simplifié'!W26=\"Individuelle\"),\"Single\",IF('Outil Recensement simplifié'!W26=\"Monoparentale\",\"Monoparental\",IF('Outil Recensement simplifié'!W26=\"Couple\",\"Couple\",\"\")))","v":""},{"$f":"IF('Outil Recensement simplifié'!CI26>0,'Outil Recensement simplifié'!CI26,\"\")","v":""}]
[null,{"$f":"IF('Outil Recensement simplifié'!A27>0,'Outil Recensement simplifié'!A27,\"\")","v":""},{"$f":"IF('Outil Recensement simplifié'!B27>0,'Outil Recensement simplifié'!B27,\"\")","v":""},{"$f":"IF('Outil Recensement simplifié'!D27>0,'Outil Recensement simplifié'!D27,\"\")","v":""},{"$f":"IF('Simplified Loader (FOR COPY)'!N26>0,'Simplified Loader (FOR COPY)'!N26,\"\")","v":""},{"$f":"IF(OR('Outil Recensement simplifié'!AK27>0,'Outil Recensement simplifié'!AS27>0),\"Yes\",\"\")","v":""},"",{"$f":"IF(AND('Simplified Loader (FOR COPY)'!N26=\"Family\",'Outil Recensement simplifié'!V27=\"Individuelle\"),\"Single\",IF('Outil Recensement simplifié'!V27=\"Monoparentale\",\"Monoparental\",IF('Outil Recensement simplifié'!V27=\"Couple\",\"Couple\",\"\")))","v":""},{"$f":"IF(AND('Simplified Loader (FOR COPY)'!N26=\"Family\",'Outil Recensement simplifié'!W27=\"Individuelle\"),\"Single\",IF('Outil Recensement simplifié'!W27=\"Monoparentale\",\"Monoparental\",IF('Outil Recensement simplifié'!W27=\"Couple\",\"Couple\",\"\")))","v":""},{"$f":"IF('Outil Recensement simplifié'!CI27>0,'Outil Recensement simplifié'!CI27,\"\")","v":""}]
[null,{"$f":"IF('Outil Recensement simplifié'!A28>0,'Outil Recensement simplifié'!A28,\"\")","v":""},{"$f":"IF('Outil Recensement simplifié'!B28>0,'Outil Recensement simplifié'!B28,\"\")","v":""},{"$f":"IF('Outil Recensement simplifié'!D28>0,'Outil Recensement simplifié'!D28,\"\")","v":""},{"$f":"IF('Simplified Loader (FOR COPY)'!N27>0,'Simplified Loader (FOR COPY)'!N27,\"\")","v":""},{"$f":"IF(OR('Outil Recensement simplifié'!AK28>0,'Outil Recensement simplifié'!AS28>0),\"Yes\",\"\")","v":""},"",{"$f":"IF(AND('Simplified Loader (FOR COPY)'!N27=\"Family\",'Outil Recensement simplifié'!V28=\"Individuelle\"),\"Single\",IF('Outil Recensement simplifié'!V28=\"Monoparentale\",\"Monoparental\",IF('Outil Recensement simplifié'!V28=\"Couple\",\"Couple\",\"\")))","v":""},{"$f":"IF(AND('Simplified Loader (FOR COPY)'!N27=\"Family\",'Outil Recensement simplifié'!W28=\"Individuelle\"),\"Single\",IF('Outil Recensement simplifié'!W28=\"Monoparentale\",\"Monoparental\",IF('Outil Recensement simplifié'!W28=\"Couple\",\"Couple\",\"\")))","v":""},{"$f":"IF('Outil Recensement simplifié'!CI28>0,'Outil Recensement simplifié'!CI28,\"\")","v":""}]
[null,{"$f":"IF('Outil Recensement simplifié'!A29>0,'Outil Recensement simplifié'!A29,\"\")","v":""},{"$f":"IF('Outil Recensement simplifié'!B29>0,'Outil Recensement simplifié'!B29,\"\")","v":""},{"$f":"IF('Outil Recensement simplifié'!D29>0,'Outil Recensement simplifié'!D29,\"\")","v":""},{"$f":"IF('Simplified Loader (FOR COPY)'!N28>0,'Simplified Loader (FOR COPY)'!N28,\"\")","v":""},{"$f":"IF(OR('Outil Recensement simplifié'!AK29>0,'Outil Recensement simplifié'!AS29>0),\"Yes\",\"\")","v":""},"",{"$f":"IF(AND('Simplified Loader (FOR COPY)'!N28=\"Family\",'Outil Recensement simplifié'!V29=\"Individuelle\"),\"Single\",IF('Outil Recensement simplifié'!V29=\"Monoparentale\",\"Monoparental\",IF('Outil Recensement simplifié'!V29=\"Couple\",\"Couple\",\"\")))","v":""},{"$f":"IF(AND('Simplified Loader (FOR COPY)'!N28=\"Family\",'Outil Recensement simplifié'!W29=\"Individuelle\"),\"Single\",IF('Outil Recensement simplifié'!W29=\"Monoparentale\",\"Monoparental\",IF('Outil Recensement simplifié'!W29=\"Couple\",\"Couple\",\"\")))","v":""},{"$f":"IF('Outil Recensement simplifié'!CI29>0,'Outil Recensement simplifié'!CI29,\"\")","v":""}]
[null,{"$f":"IF('Outil Recensement simplifié'!A30>0,'Outil Recensement simplifié'!A30,\"\")","v":""},{"$f":"IF('Outil Recensement simplifié'!B30>0,'Outil Recensement simplifié'!B30,\"\")","v":""},{"$f":"IF('Outil Recensement simplifié'!D30>0,'Outil Recensement simplifié'!D30,\"\")","v":""},{"$f":"IF('Simplified Loader (FOR COPY)'!N29>0,'Simplified Loader (FOR COPY)'!N29,\"\")","v":""},{"$f":"IF(OR('Outil Recensement simplifié'!AK30>0,'Outil Recensement simplifié'!AS30>0),\"Yes\",\"\")","v":""},"",{"$f":"IF(AND('Simplified Loader (FOR COPY)'!N29=\"Family\",'Outil Recensement simplifié'!V30=\"Individuelle\"),\"Single\",IF('Outil Recensement simplifié'!V30=\"Monoparentale\",\"Monoparental\",IF('Outil Recensement simplifié'!V30=\"Couple\",\"Couple\",\"\")))","v":""},{"$f":"IF(AND('Simplified Loader (FOR COPY)'!N29=\"Family\",'Outil Recensement simplifié'!W30=\"Individuelle\"),\"Single\",IF('Outil Recensement simplifié'!W30=\"Monoparentale\",\"Monoparental\",IF('Outil Recensement simplifié'!W30=\"Couple\",\"Couple\",\"\")))","v":""},{"$f":"IF('Outil Recensement simplifié'!CI30>0,'Outil Recensement simplifié'!CI30,\"\")","v":""}]
[null,{"$f":"IF('Outil Recensement simplifié'!A31>0,'Outil Recensement simplifié'!A31,\"\")","v":""},{"$f":"IF('Outil Recensement simplifié'!B31>0,'Outil Recensement simplifié'!B31,\"\")","v":""},{"$f":"IF('Outil Recensement simplifié'!D31>0,'Outil Recensement simplifié'!D31,\"\")","v":""},{"$f":"IF('Simplified Loader (FOR COPY)'!N30>0,'Simplified Loader (FOR COPY)'!N30,\"\")","v":""},{"$f":"IF(OR('Outil Recensement simplifié'!AK31>0,'Outil Recensement simplifié'!AS31>0),\"Yes\",\"\")","v":""},"",{"$f":"IF(AND('Simplified Loader (FOR COPY)'!N30=\"Family\",'Outil Recensement simplifié'!V31=\"Individuelle\"),\"Single\",IF('Outil Recensement simplifié'!V31=\"Monoparentale\",\"Monoparental\",IF('Outil Recensement simplifié'!V31=\"Couple\",\"Couple\",\"\")))","v":""},{"$f":"IF(AND('Simplified Loader (FOR COPY)'!N30=\"Family\",'Outil Recensement simplifié'!W31=\"Individuelle\"),\"Single\",IF('Outil Recensement simplifié'!W31=\"Monoparentale\",\"Monoparental\",IF('Outil Recensement simplifié'!W31=\"Couple\",\"Couple\",\"\")))","v":""},{"$f":"IF('Outil Recensement simplifié'!CI31>0,'Outil Recensement simplifié'!CI31,\"\")","v":""}]
[null,{"$f":"IF('Outil Recensement simplifié'!A32>0,'Outil Recensement simplifié'!A32,\"\")","v":""},{"$f":"IF('Outil Recensement simplifié'!B32>0,'Outil Recensement simplifié'!B32,\"\")","v":""},{"$f":"IF('Outil Recensement simplifié'!D32>0,'Outil Recensement simplifié'!D32,\"\")","v":""},{"$f":"IF('Simplified Loader (FOR COPY)'!N31>0,'Simplified Loader (FOR COPY)'!N31,\"\")","v":""},{"$f":"IF(OR('Outil Recensement simplifié'!AK32>0,'Outil Recensement simplifié'!AS32>0),\"Yes\",\"\")","v":""},"",{"$f":"IF(AND('Simplified Loader (FOR COPY)'!N31=\"Family\",'Outil Recensement simplifié'!V32=\"Individuelle\"),\"Single\",IF('Outil Recensement simplifié'!V32=\"Monoparentale\",\"Monoparental\",IF('Outil Recensement simplifié'!V32=\"Couple\",\"Couple\",\"\")))","v":""},{"$f":"IF(AND('Simplified Loader (FOR COPY)'!N31=\"Family\",'Outil Recensement simplifié'!W32=\"Individuelle\"),\"Single\",IF('Outil Recensement simplifié'!W32=\"Monoparentale\",\"Monoparental\",IF('Outil Recensement simplifié'!W32=\"Couple\",\"Couple\",\"\")))","v":""},{"$f":"IF('Outil Recensement simplifié'!CI32>0,'Outil Recensement simplifié'!CI32,\"\")","v":""}]
[null,{"$f":"IF('Outil Recensement simplifié'!A33>0,'Outil Recensement simplifié'!A33,\"\")","v":""},{"$f":"IF('Outil Recensement simplifié'!B33>0,'Outil Recensement simplifié'!B33,\"\")","v":""},{"$f":"IF('Outil Recensement simplifié'!D33>0,'Outil Recensement simplifié'!D33,\"\")","v":""},{"$f":"IF('Simplified Loader (FOR COPY)'!N32>0,'Simplified Loader (FOR COPY)'!N32,\"\")","v":""},{"$f":"IF(OR('Outil Recensement simplifié'!AK33>0,'Outil Recensement simplifié'!AS33>0),\"Yes\",\"\")","v":""},"",{"$f":"IF(AND('Simplified Loader (FOR COPY)'!N32=\"Family\",'Outil Recensement simplifié'!V33=\"Individuelle\"),\"Single\",IF('Outil Recensement simplifié'!V33=\"Monoparentale\",\"Monoparental\",IF('Outil Recensement simplifié'!V33=\"Couple\",\"Couple\",\"\")))","v":""},{"$f":"IF(AND('Simplified Loader (FOR COPY)'!N32=\"Family\",'Outil Recensement simplifié'!W33=\"Individuelle\"),\"Single\",IF('Outil Recensement simplifié'!W33=\"Monoparentale\",\"Monoparental\",IF('Outil Recensement simplifié'!W33=\"Couple\",\"Couple\",\"\")))","v":""},{"$f":"IF('Outil Recensement simplifié'!CI33>0,'Outil Recensement simplifié'!CI33,\"\")","v":""}]
[null,{"$f":"IF('Outil Recensement simplifié'!A34>0,'Outil Recensement simplifié'!A34,\"\")","v":""},{"$f":"IF('Outil Recensement simplifié'!B34>0,'Outil Recensement simplifié'!B34,\"\")","v":""},{"$f":"IF('Outil Recensement simplifié'!D34>0,'Outil Recensement simplifié'!D34,\"\")","v":""},{"$f":"IF('Simplified Loader (FOR COPY)'!N33>0,'Simplified Loader (FOR COPY)'!N33,\"\")","v":""},{"$f":"IF(OR('Outil Recensement simplifié'!AK34>0,'Outil Recensement simplifié'!AS34>0),\"Yes\",\"\")","v":""},"",{"$f":"IF(AND('Simplified Loader (FOR COPY)'!N33=\"Family\",'Outil Recensement simplifié'!V34=\"Individuelle\"),\"Single\",IF('Outil Recensement simplifié'!V34=\"Monoparentale\",\"Monoparental\",IF('Outil Recensement simplifié'!V34=\"Couple\",\"Couple\",\"\")))","v":""},{"$f":"IF(AND('Simplified Loader (FOR COPY)'!N33=\"Family\",'Outil Recensement simplifié'!W34=\"Individuelle\"),\"Single\",IF('Outil Recensement simplifié'!W34=\"Monoparentale\",\"Monoparental\",IF('Outil Recensement simplifié'!W34=\"Couple\",\"Couple\",\"\")))","v":""},{"$f":"IF('Outil Recensement simplifié'!CI34>0,'Outil Recensement simplifié'!CI34,\"\")","v":""}]
[null,{"$f":"IF('Outil Recensement simplifié'!A35>0,'Outil Recensement simplifié'!A35,\"\")","v":""},{"$f":"IF('Outil Recensement simplifié'!B35>0,'Outil Recensement simplifié'!B35,\"\")","v":""},{"$f":"IF('Outil Recensement simplifié'!D35>0,'Outil Recensement simplifié'!D35,\"\")","v":""},{"$f":"IF('Simplified Loader (FOR COPY)'!N34>0,'Simplified Loader (FOR COPY)'!N34,\"\")","v":""},{"$f":"IF(OR('Outil Recensement simplifié'!AK35>0,'Outil Recensement simplifié'!AS35>0),\"Yes\",\"\")","v":""},"",{"$f":"IF(AND('Simplified Loader (FOR COPY)'!N34=\"Family\",'Outil Recensement simplifié'!V35=\"Individuelle\"),\"Single\",IF('Outil Recensement simplifié'!V35=\"Monoparentale\",\"Monoparental\",IF('Outil Recensement simplifié'!V35=\"Couple\",\"Couple\",\"\")))","v":""},{"$f":"IF(AND('Simplified Loader (FOR COPY)'!N34=\"Family\",'Outil Recensement simplifié'!W35=\"Individuelle\"),\"Single\",IF('Outil Recensement simplifié'!W35=\"Monoparentale\",\"Monoparental\",IF('Outil Recensement simplifié'!W35=\"Couple\",\"Couple\",\"\")))","v":""},{"$f":"IF('Outil Recensement simplifié'!CI35>0,'Outil Recensement simplifié'!CI35,\"\")","v":""}]
[null,{"$f":"IF('Outil Recensement simplifié'!A36>0,'Outil Recensement simplifié'!A36,\"\")","v":""},{"$f":"IF('Outil Recensement simplifié'!B36>0,'Outil Recensement simplifié'!B36,\"\")","v":""},{"$f":"IF('Outil Recensement simplifié'!D36>0,'Outil Recensement simplifié'!D36,\"\")","v":""},{"$f":"IF('Simplified Loader (FOR COPY)'!N35>0,'Simplified Loader (FOR COPY)'!N35,\"\")","v":""},{"$f":"IF(OR('Outil Recensement simplifié'!AK36>0,'Outil Recensement simplifié'!AS36>0),\"Yes\",\"\")","v":""},"",{"$f":"IF(AND('Simplified Loader (FOR COPY)'!N35=\"Family\",'Outil Recensement simplifié'!V36=\"Individuelle\"),\"Single\",IF('Outil Recensement simplifié'!V36=\"Monoparentale\",\"Monoparental\",IF('Outil Recensement simplifié'!V36=\"Couple\",\"Couple\",\"\")))","v":""},{"$f":"IF(AND('Simplified Loader (FOR COPY)'!N35=\"Family\",'Outil Recensement simplifié'!W36=\"Individuelle\"),\"Single\",IF('Outil Recensement simplifié'!W36=\"Monoparentale\",\"Monoparental\",IF('Outil Recensement simplifié'!W36=\"Couple\",\"Couple\",\"\")))","v":""},{"$f":"IF('Outil Recensement simplifié'!CI36>0,'Outil Recensement simplifié'!CI36,\"\")","v":""}]
[null,{"$f":"IF('Outil Recensement simplifié'!A37>0,'Outil Recensement simplifié'!A37,\"\")","v":""},{"$f":"IF('Outil Recensement simplifié'!B37>0,'Outil Recensement simplifié'!B37,\"\")","v":""},{"$f":"IF('Outil Recensement simplifié'!D37>0,'Outil Recensement simplifié'!D37,\"\")","v":""},{"$f":"IF('Simplified Loader (FOR COPY)'!N36>0,'Simplified Loader (FOR COPY)'!N36,\"\")","v":""},{"$f":"IF(OR('Outil Recensement simplifié'!AK37>0,'Outil Recensement simplifié'!AS37>0),\"Yes\",\"\")","v":""},"",{"$f":"IF(AND('Simplified Loader (FOR COPY)'!N36=\"Family\",'Outil Recensement simplifié'!V37=\"Individuelle\"),\"Single\",IF('Outil Recensement simplifié'!V37=\"Monoparentale\",\"Monoparental\",IF('Outil Recensement simplifié'!V37=\"Couple\",\"Couple\",\"\")))","v":""},{"$f":"IF(AND('Simplified Loader (FOR COPY)'!N36=\"Family\",'Outil Recensement simplifié'!W37=\"Individuelle\"),\"Single\",IF('Outil Recensement simplifié'!W37=\"Monoparentale\",\"Monoparental\",IF('Outil Recensement simplifié'!W37=\"Couple\",\"Couple\",\"\")))","v":""},{"$f":"IF('Outil Recensement simplifié'!CI37>0,'Outil Recensement simplifié'!CI37,\"\")","v":""}]
[null,{"$f":"IF('Outil Recensement simplifié'!A38>0,'Outil Recensement simplifié'!A38,\"\")","v":""},{"$f":"IF('Outil Recensement simplifié'!B38>0,'Outil Recensement simplifié'!B38,\"\")","v":""},{"$f":"IF('Outil Recensement simplifié'!D38>0,'Outil Recensement simplifié'!D38,\"\")","v":""},{"$f":"IF('Simplified Loader (FOR COPY)'!N37>0,'Simplified Loader (FOR COPY)'!N37,\"\")","v":""},{"$f":"IF(OR('Outil Recensement simplifié'!AK38>0,'Outil Recensement simplifié'!AS38>0),\"Yes\",\"\")","v":""},"",{"$f":"IF(AND('Simplified Loader (FOR COPY)'!N37=\"Family\",'Outil Recensement simplifié'!V38=\"Individuelle\"),\"Single\",IF('Outil Recensement simplifié'!V38=\"Monoparentale\",\"Monoparental\",IF('Outil Recensement simplifié'!V38=\"Couple\",\"Couple\",\"\")))","v":""},{"$f":"IF(AND('Simplified Loader (FOR COPY)'!N37=\"Family\",'Outil Recensement simplifié'!W38=\"Individuelle\"),\"Single\",IF('Outil Recensement simplifié'!W38=\"Monoparentale\",\"Monoparental\",IF('Outil Recensement simplifié'!W38=\"Couple\",\"Couple\",\"\")))","v":""},{"$f":"IF('Outil Recensement simplifié'!CI38>0,'Outil Recensement simplifié'!CI38,\"\")","v":""}]
[null,{"$f":"IF('Outil Recensement simplifié'!A39>0,'Outil Recensement simplifié'!A39,\"\")","v":""},{"$f":"IF('Outil Recensement simplifié'!B39>0,'Outil Recensement simplifié'!B39,\"\")","v":""},{"$f":"IF('Outil Recensement simplifié'!D39>0,'Outil Recensement simplifié'!D39,\"\")","v":""},{"$f":"IF('Simplified Loader (FOR COPY)'!N38>0,'Simplified Loader (FOR COPY)'!N38,\"\")","v":""},{"$f":"IF(OR('Outil Recensement simplifié'!AK39>0,'Outil Recensement simplifié'!AS39>0),\"Yes\",\"\")","v":""},"",{"$f":"IF(AND('Simplified Loader (FOR COPY)'!N38=\"Family\",'Outil Recensement simplifié'!V39=\"Individuelle\"),\"Single\",IF('Outil Recensement simplifié'!V39=\"Monoparentale\",\"Monoparental\",IF('Outil Recensement simplifié'!V39=\"Couple\",\"Couple\",\"\")))","v":""},{"$f":"IF(AND('Simplified Loader (FOR COPY)'!N38=\"Family\",'Outil Recensement simplifié'!W39=\"Individuelle\"),\"Single\",IF('Outil Recensement simplifié'!W39=\"Monoparentale\",\"Monoparental\",IF('Outil Recensement simplifié'!W39=\"Couple\",\"Couple\",\"\")))","v":""},{"$f":"IF('Outil Recensement simplifié'!CI39>0,'Outil Recensement simplifié'!CI39,\"\")","v":""}]
[null,{"$f":"IF('Outil Recensement simplifié'!A40>0,'Outil Recensement simplifié'!A40,\"\")","v":""},{"$f":"IF('Outil Recensement simplifié'!B40>0,'Outil Recensement simplifié'!B40,\"\")","v":""},{"$f":"IF('Outil Recensement simplifié'!D40>0,'Outil Recensement simplifié'!D40,\"\")","v":""},{"$f":"IF('Simplified Loader (FOR COPY)'!N39>0,'Simplified Loader (FOR COPY)'!N39,\"\")","v":""},{"$f":"IF(OR('Outil Recensement simplifié'!AK40>0,'Outil Recensement simplifié'!AS40>0),\"Yes\",\"\")","v":""},"",{"$f":"IF(AND('Simplified Loader (FOR COPY)'!N39=\"Family\",'Outil Recensement simplifié'!V40=\"Individuelle\"),\"Single\",IF('Outil Recensement simplifié'!V40=\"Monoparentale\",\"Monoparental\",IF('Outil Recensement simplifié'!V40=\"Couple\",\"Couple\",\"\")))","v":""},{"$f":"IF(AND('Simplified Loader (FOR COPY)'!N39=\"Family\",'Outil Recensement simplifié'!W40=\"Individuelle\"),\"Single\",IF('Outil Recensement simplifié'!W40=\"Monoparentale\",\"Monoparental\",IF('Outil Recensement simplifié'!W40=\"Couple\",\"Couple\",\"\")))","v":""},{"$f":"IF('Outil Recensement simplifié'!CI40>0,'Outil Recensement simplifié'!CI40,\"\")","v":""}]
[null,{"$f":"IF('Outil Recensement simplifié'!A41>0,'Outil Recensement simplifié'!A41,\"\")","v":""},{"$f":"IF('Outil Recensement simplifié'!B41>0,'Outil Recensement simplifié'!B41,\"\")","v":""},{"$f":"IF('Outil Recensement simplifié'!D41>0,'Outil Recensement simplifié'!D41,\"\")","v":""},{"$f":"IF('Simplified Loader (FOR COPY)'!N40>0,'Simplified Loader (FOR COPY)'!N40,\"\")","v":""},{"$f":"IF(OR('Outil Recensement simplifié'!AK41>0,'Outil Recensement simplifié'!AS41>0),\"Yes\",\"\")","v":""},"",{"$f":"IF(AND('Simplified Loader (FOR COPY)'!N40=\"Family\",'Outil Recensement simplifié'!V41=\"Individuelle\"),\"Single\",IF('Outil Recensement simplifié'!V41=\"Monoparentale\",\"Monoparental\",IF('Outil Recensement simplifié'!V41=\"Couple\",\"Couple\",\"\")))","v":""},{"$f":"IF(AND('Simplified Loader (FOR COPY)'!N40=\"Family\",'Outil Recensement simplifié'!W41=\"Individuelle\"),\"Single\",IF('Outil Recensement simplifié'!W41=\"Monoparentale\",\"Monoparental\",IF('Outil Recensement simplifié'!W41=\"Couple\",\"Couple\",\"\")))","v":""},{"$f":"IF('Outil Recensement simplifié'!CI41>0,'Outil Recensement simplifié'!CI41,\"\")","v":""}]
[null,{"$f":"IF('Outil Recensement simplifié'!A42>0,'Outil Recensement simplifié'!A42,\"\")","v":""},{"$f":"IF('Outil Recensement simplifié'!B42>0,'Outil Recensement simplifié'!B42,\"\")","v":""},{"$f":"IF('Outil Recensement simplifié'!D42>0,'Outil Recensement simplifié'!D42,\"\")","v":""},{"$f":"IF('Simplified Loader (FOR COPY)'!N41>0,'Simplified Loader (FOR COPY)'!N41,\"\")","v":""},{"$f":"IF(OR('Outil Recensement simplifié'!AK42>0,'Outil Recensement simplifié'!AS42>0),\"Yes\",\"\")","v":""},"",{"$f":"IF(AND('Simplified Loader (FOR COPY)'!N41=\"Family\",'Outil Recensement simplifié'!V42=\"Individuelle\"),\"Single\",IF('Outil Recensement simplifié'!V42=\"Monoparentale\",\"Monoparental\",IF('Outil Recensement simplifié'!V42=\"Couple\",\"Couple\",\"\")))","v":""},{"$f":"IF(AND('Simplified Loader (FOR COPY)'!N41=\"Family\",'Outil Recensement simplifié'!W42=\"Individuelle\"),\"Single\",IF('Outil Recensement simplifié'!W42=\"Monoparentale\",\"Monoparental\",IF('Outil Recensement simplifié'!W42=\"Couple\",\"Couple\",\"\")))","v":""},{"$f":"IF('Outil Recensement simplifié'!CI42>0,'Outil Recensement simplifié'!CI42,\"\")","v":""}]
[null,{"$f":"IF('Outil Recensement simplifié'!A43>0,'Outil Recensement simplifié'!A43,\"\")","v":""},{"$f":"IF('Outil Recensement simplifié'!B43>0,'Outil Recensement simplifié'!B43,\"\")","v":""},{"$f":"IF('Outil Recensement simplifié'!D43>0,'Outil Recensement simplifié'!D43,\"\")","v":""},{"$f":"IF('Simplified Loader (FOR COPY)'!N42>0,'Simplified Loader (FOR COPY)'!N42,\"\")","v":""},{"$f":"IF(OR('Outil Recensement simplifié'!AK43>0,'Outil Recensement simplifié'!AS43>0),\"Yes\",\"\")","v":""},"",{"$f":"IF(AND('Simplified Loader (FOR COPY)'!N42=\"Family\",'Outil Recensement simplifié'!V43=\"Individuelle\"),\"Single\",IF('Outil Recensement simplifié'!V43=\"Monoparentale\",\"Monoparental\",IF('Outil Recensement simplifié'!V43=\"Couple\",\"Couple\",\"\")))","v":""},{"$f":"IF(AND('Simplified Loader (FOR COPY)'!N42=\"Family\",'Outil Recensement simplifié'!W43=\"Individuelle\"),\"Single\",IF('Outil Recensement simplifié'!W43=\"Monoparentale\",\"Monoparental\",IF('Outil Recensement simplifié'!W43=\"Couple\",\"Couple\",\"\")))","v":""},{"$f":"IF('Outil Recensement simplifié'!CI43>0,'Outil Recensement simplifié'!CI43,\"\")","v":""}]
[null,{"$f":"IF('Outil Recensement simplifié'!A44>0,'Outil Recensement simplifié'!A44,\"\")","v":""},{"$f":"IF('Outil Recensement simplifié'!B44>0,'Outil Recensement simplifié'!B44,\"\")","v":""},{"$f":"IF('Outil Recensement simplifié'!D44>0,'Outil Recensement simplifié'!D44,\"\")","v":""},{"$f":"IF('Simplified Loader (FOR COPY)'!N43>0,'Simplified Loader (FOR COPY)'!N43,\"\")","v":""},{"$f":"IF(OR('Outil Recensement simplifié'!AK44>0,'Outil Recensement simplifié'!AS44>0),\"Yes\",\"\")","v":""},"",{"$f":"IF(AND('Simplified Loader (FOR COPY)'!N43=\"Family\",'Outil Recensement simplifié'!V44=\"Individuelle\"),\"Single\",IF('Outil Recensement simplifié'!V44=\"Monoparentale\",\"Monoparental\",IF('Outil Recensement simplifié'!V44=\"Couple\",\"Couple\",\"\")))","v":""},{"$f":"IF(AND('Simplified Loader (FOR COPY)'!N43=\"Family\",'Outil Recensement simplifié'!W44=\"Individuelle\"),\"Single\",IF('Outil Recensement simplifié'!W44=\"Monoparentale\",\"Monoparental\",IF('Outil Recensement simplifié'!W44=\"Couple\",\"Couple\",\"\")))","v":""},{"$f":"IF('Outil Recensement simplifié'!CI44>0,'Outil Recensement simplifié'!CI44,\"\")","v":""}]
[null,{"$f":"IF('Outil Recensement simplifié'!A45>0,'Outil Recensement simplifié'!A45,\"\")","v":""},{"$f":"IF('Outil Recensement simplifié'!B45>0,'Outil Recensement simplifié'!B45,\"\")","v":""},{"$f":"IF('Outil Recensement simplifié'!D45>0,'Outil Recensement simplifié'!D45,\"\")","v":""},{"$f":"IF('Simplified Loader (FOR COPY)'!N44>0,'Simplified Loader (FOR COPY)'!N44,\"\")","v":""},{"$f":"IF(OR('Outil Recensement simplifié'!AK45>0,'Outil Recensement simplifié'!AS45>0),\"Yes\",\"\")","v":""},"",{"$f":"IF(AND('Simplified Loader (FOR COPY)'!N44=\"Family\",'Outil Recensement simplifié'!V45=\"Individuelle\"),\"Single\",IF('Outil Recensement simplifié'!V45=\"Monoparentale\",\"Monoparental\",IF('Outil Recensement simplifié'!V45=\"Couple\",\"Couple\",\"\")))","v":""},{"$f":"IF(AND('Simplified Loader (FOR COPY)'!N44=\"Family\",'Outil Recensement simplifié'!W45=\"Individuelle\"),\"Single\",IF('Outil Recensement simplifié'!W45=\"Monoparentale\",\"Monoparental\",IF('Outil Recensement simplifié'!W45=\"Couple\",\"Couple\",\"\")))","v":""},{"$f":"IF('Outil Recensement simplifié'!CI45>0,'Outil Recensement simplifié'!CI45,\"\")","v":""}]
[null,{"$f":"IF('Outil Recensement simplifié'!A46>0,'Outil Recensement simplifié'!A46,\"\")","v":""},{"$f":"IF('Outil Recensement simplifié'!B46>0,'Outil Recensement simplifié'!B46,\"\")","v":""},{"$f":"IF('Outil Recensement simplifié'!D46>0,'Outil Recensement simplifié'!D46,\"\")","v":""},{"$f":"IF('Simplified Loader (FOR COPY)'!N45>0,'Simplified Loader (FOR COPY)'!N45,\"\")","v":""},{"$f":"IF(OR('Outil Recensement simplifié'!AK46>0,'Outil Recensement simplifié'!AS46>0),\"Yes\",\"\")","v":""},"",{"$f":"IF(AND('Simplified Loader (FOR COPY)'!N45=\"Family\",'Outil Recensement simplifié'!V46=\"Individuelle\"),\"Single\",IF('Outil Recensement simplifié'!V46=\"Monoparentale\",\"Monoparental\",IF('Outil Recensement simplifié'!V46=\"Couple\",\"Couple\",\"\")))","v":""},{"$f":"IF(AND('Simplified Loader (FOR COPY)'!N45=\"Family\",'Outil Recensement simplifié'!W46=\"Individuelle\"),\"Single\",IF('Outil Recensement simplifié'!W46=\"Monoparentale\",\"Monoparental\",IF('Outil Recensement simplifié'!W46=\"Couple\",\"Couple\",\"\")))","v":""},{"$f":"IF('Outil Recensement simplifié'!CI46>0,'Outil Recensement simplifié'!CI46,\"\")","v":""}]
[null,{"$f":"IF('Outil Recensement simplifié'!A47>0,'Outil Recensement simplifié'!A47,\"\")","v":""},{"$f":"IF('Outil Recensement simplifié'!B47>0,'Outil Recensement simplifié'!B47,\"\")","v":""},{"$f":"IF('Outil Recensement simplifié'!D47>0,'Outil Recensement simplifié'!D47,\"\")","v":""},{"$f":"IF('Simplified Loader (FOR COPY)'!N46>0,'Simplified Loader (FOR COPY)'!N46,\"\")","v":""},{"$f":"IF(OR('Outil Recensement simplifié'!AK47>0,'Outil Recensement simplifié'!AS47>0),\"Yes\",\"\")","v":""},"",{"$f":"IF(AND('Simplified Loader (FOR COPY)'!N46=\"Family\",'Outil Recensement simplifié'!V47=\"Individuelle\"),\"Single\",IF('Outil Recensement simplifié'!V47=\"Monoparentale\",\"Monoparental\",IF('Outil Recensement simplifié'!V47=\"Couple\",\"Couple\",\"\")))","v":""},{"$f":"IF(AND('Simplified Loader (FOR COPY)'!N46=\"Family\",'Outil Recensement simplifié'!W47=\"Individuelle\"),\"Single\",IF('Outil Recensement simplifié'!W47=\"Monoparentale\",\"Monoparental\",IF('Outil Recensement simplifié'!W47=\"Couple\",\"Couple\",\"\")))","v":""},{"$f":"IF('Outil Recensement simplifié'!CI47>0,'Outil Recensement simplifié'!CI47,\"\")","v":""}]
[null,{"$f":"IF('Outil Recensement simplifié'!A48>0,'Outil Recensement simplifié'!A48,\"\")","v":""},{"$f":"IF('Outil Recensement simplifié'!B48>0,'Outil Recensement simplifié'!B48,\"\")","v":""},{"$f":"IF('Outil Recensement simplifié'!D48>0,'Outil Recensement simplifié'!D48,\"\")","v":""},{"$f":"IF('Simplified Loader (FOR COPY)'!N47>0,'Simplified Loader (FOR COPY)'!N47,\"\")","v":""},{"$f":"IF(OR('Outil Recensement simplifié'!AK48>0,'Outil Recensement simplifié'!AS48>0),\"Yes\",\"\")","v":""},"",{"$f":"IF(AND('Simplified Loader (FOR COPY)'!N47=\"Family\",'Outil Recensement simplifié'!V48=\"Individuelle\"),\"Single\",IF('Outil Recensement simplifié'!V48=\"Monoparentale\",\"Monoparental\",IF('Outil Recensement simplifié'!V48=\"Couple\",\"Couple\",\"\")))","v":""},{"$f":"IF(AND('Simplified Loader (FOR COPY)'!N47=\"Family\",'Outil Recensement simplifié'!W48=\"Individuelle\"),\"Single\",IF('Outil Recensement simplifié'!W48=\"Monoparentale\",\"Monoparental\",IF('Outil Recensement simplifié'!W48=\"Couple\",\"Couple\",\"\")))","v":""},{"$f":"IF('Outil Recensement simplifié'!CI48>0,'Outil Recensement simplifié'!CI48,\"\")","v":""}]
[null,{"$f":"IF('Outil Recensement simplifié'!A49>0,'Outil Recensement simplifié'!A49,\"\")","v":""},{"$f":"IF('Outil Recensement simplifié'!B49>0,'Outil Recensement simplifié'!B49,\"\")","v":""},{"$f":"IF('Outil Recensement simplifié'!D49>0,'Outil Recensement simplifié'!D49,\"\")","v":""},{"$f":"IF('Simplified Loader (FOR COPY)'!N48>0,'Simplified Loader (FOR COPY)'!N48,\"\")","v":""},{"$f":"IF(OR('Outil Recensement simplifié'!AK49>0,'Outil Recensement simplifié'!AS49>0),\"Yes\",\"\")","v":""},"",{"$f":"IF(AND('Simplified Loader (FOR COPY)'!N48=\"Family\",'Outil Recensement simplifié'!V49=\"Individuelle\"),\"Single\",IF('Outil Recensement simplifié'!V49=\"Monoparentale\",\"Monoparental\",IF('Outil Recensement simplifié'!V49=\"Couple\",\"Couple\",\"\")))","v":""},{"$f":"IF(AND('Simplified Loader (FOR COPY)'!N48=\"Family\",'Outil Recensement simplifié'!W49=\"Individuelle\"),\"Single\",IF('Outil Recensement simplifié'!W49=\"Monoparentale\",\"Monoparental\",IF('Outil Recensement simplifié'!W49=\"Couple\",\"Couple\",\"\")))","v":""},{"$f":"IF('Outil Recensement simplifié'!CI49>0,'Outil Recensement simplifié'!CI49,\"\")","v":""}]
[null,{"$f":"IF('Outil Recensement simplifié'!A50>0,'Outil Recensement simplifié'!A50,\"\")","v":""},{"$f":"IF('Outil Recensement simplifié'!B50>0,'Outil Recensement simplifié'!B50,\"\")","v":""},{"$f":"IF('Outil Recensement simplifié'!D50>0,'Outil Recensement simplifié'!D50,\"\")","v":""},{"$f":"IF('Simplified Loader (FOR COPY)'!N49>0,'Simplified Loader (FOR COPY)'!N49,\"\")","v":""},{"$f":"IF(OR('Outil Recensement simplifié'!AK50>0,'Outil Recensement simplifié'!AS50>0),\"Yes\",\"\")","v":""},"",{"$f":"IF(AND('Simplified Loader (FOR COPY)'!N49=\"Family\",'Outil Recensement simplifié'!V50=\"Individuelle\"),\"Single\",IF('Outil Recensement simplifié'!V50=\"Monoparentale\",\"Monoparental\",IF('Outil Recensement simplifié'!V50=\"Couple\",\"Couple\",\"\")))","v":""},{"$f":"IF(AND('Simplified Loader (FOR COPY)'!N49=\"Family\",'Outil Recensement simplifié'!W50=\"Individuelle\"),\"Single\",IF('Outil Recensement simplifié'!W50=\"Monoparentale\",\"Monoparental\",IF('Outil Recensement simplifié'!W50=\"Couple\",\"Couple\",\"\")))","v":""},{"$f":"IF('Outil Recensement simplifié'!CI50>0,'Outil Recensement simplifié'!CI50,\"\")","v":""}]
[null,{"$f":"IF('Outil Recensement simplifié'!A51>0,'Outil Recensement simplifié'!A51,\"\")","v":""},{"$f":"IF('Outil Recensement simplifié'!B51>0,'Outil Recensement simplifié'!B51,\"\")","v":""},{"$f":"IF('Outil Recensement simplifié'!D51>0,'Outil Recensement simplifié'!D51,\"\")","v":""},{"$f":"IF('Simplified Loader (FOR COPY)'!N50>0,'Simplified Loader (FOR COPY)'!N50,\"\")","v":""},{"$f":"IF(OR('Outil Recensement simplifié'!AK51>0,'Outil Recensement simplifié'!AS51>0),\"Yes\",\"\")","v":""},"",{"$f":"IF(AND('Simplified Loader (FOR COPY)'!N50=\"Family\",'Outil Recensement simplifié'!V51=\"Individuelle\"),\"Single\",IF('Outil Recensement simplifié'!V51=\"Monoparentale\",\"Monoparental\",IF('Outil Recensement simplifié'!V51=\"Couple\",\"Couple\",\"\")))","v":""},{"$f":"IF(AND('Simplified Loader (FOR COPY)'!N50=\"Family\",'Outil Recensement simplifié'!W51=\"Individuelle\"),\"Single\",IF('Outil Recensement simplifié'!W51=\"Monoparentale\",\"Monoparental\",IF('Outil Recensement simplifié'!W51=\"Couple\",\"Couple\",\"\")))","v":""},{"$f":"IF('Outil Recensement simplifié'!CI51>0,'Outil Recensement simplifié'!CI51,\"\")","v":""}]
[null,{"$f":"IF('Outil Recensement simplifié'!A52>0,'Outil Recensement simplifié'!A52,\"\")","v":""},{"$f":"IF('Outil Recensement simplifié'!B52>0,'Outil Recensement simplifié'!B52,\"\")","v":""},{"$f":"IF('Outil Recensement simplifié'!D52>0,'Outil Recensement simplifié'!D52,\"\")","v":""},{"$f":"IF('Simplified Loader (FOR COPY)'!N51>0,'Simplified Loader (FOR COPY)'!N51,\"\")","v":""},{"$f":"IF(OR('Outil Recensement simplifié'!AK52>0,'Outil Recensement simplifié'!AS52>0),\"Yes\",\"\")","v":""},"",{"$f":"IF(AND('Simplified Loader (FOR COPY)'!N51=\"Family\",'Outil Recensement simplifié'!V52=\"Individuelle\"),\"Single\",IF('Outil Recensement simplifié'!V52=\"Monoparentale\",\"Monoparental\",IF('Outil Recensement simplifié'!V52=\"Couple\",\"Couple\",\"\")))","v":""},{"$f":"IF(AND('Simplified Loader (FOR COPY)'!N51=\"Family\",'Outil Recensement simplifié'!W52=\"Individuelle\"),\"Single\",IF('Outil Recensement simplifié'!W52=\"Monoparentale\",\"Monoparental\",IF('Outil Recensement simplifié'!W52=\"Couple\",\"Couple\",\"\")))","v":""},{"$f":"IF('Outil Recensement simplifié'!CI52>0,'Outil Recensement simplifié'!CI52,\"\")","v":""}]
[null,{"$f":"IF('Outil Recensement simplifié'!A53>0,'Outil Recensement simplifié'!A53,\"\")","v":""},{"$f":"IF('Outil Recensement simplifié'!B53>0,'Outil Recensement simplifié'!B53,\"\")","v":""},{"$f":"IF('Outil Recensement simplifié'!D53>0,'Outil Recensement simplifié'!D53,\"\")","v":""},{"$f":"IF('Simplified Loader (FOR COPY)'!N52>0,'Simplified Loader (FOR COPY)'!N52,\"\")","v":""},{"$f":"IF(OR('Outil Recensement simplifié'!AK53>0,'Outil Recensement simplifié'!AS53>0),\"Yes\",\"\")","v":""},"",{"$f":"IF(AND('Simplified Loader (FOR COPY)'!N52=\"Family\",'Outil Recensement simplifié'!V53=\"Individuelle\"),\"Single\",IF('Outil Recensement simplifié'!V53=\"Monoparentale\",\"Monoparental\",IF('Outil Recensement simplifié'!V53=\"Couple\",\"Couple\",\"\")))","v":""},{"$f":"IF(AND('Simplified Loader (FOR COPY)'!N52=\"Family\",'Outil Recensement simplifié'!W53=\"Individuelle\"),\"Single\",IF('Outil Recensement simplifié'!W53=\"Monoparentale\",\"Monoparental\",IF('Outil Recensement simplifié'!W53=\"Couple\",\"Couple\",\"\")))","v":""},{"$f":"IF('Outil Recensement simplifié'!CI53>0,'Outil Recensement simplifié'!CI53,\"\")","v":""}]
[null,{"$f":"IF('Outil Recensement simplifié'!A54>0,'Outil Recensement simplifié'!A54,\"\")","v":""},{"$f":"IF('Outil Recensement simplifié'!B54>0,'Outil Recensement simplifié'!B54,\"\")","v":""},{"$f":"IF('Outil Recensement simplifié'!D54>0,'Outil Recensement simplifié'!D54,\"\")","v":""},{"$f":"IF('Simplified Loader (FOR COPY)'!N53>0,'Simplified Loader (FOR COPY)'!N53,\"\")","v":""},{"$f":"IF(OR('Outil Recensement simplifié'!AK54>0,'Outil Recensement simplifié'!AS54>0),\"Yes\",\"\")","v":""},"",{"$f":"IF(AND('Simplified Loader (FOR COPY)'!N53=\"Family\",'Outil Recensement simplifié'!V54=\"Individuelle\"),\"Single\",IF('Outil Recensement simplifié'!V54=\"Monoparentale\",\"Monoparental\",IF('Outil Recensement simplifié'!V54=\"Couple\",\"Couple\",\"\")))","v":""},{"$f":"IF(AND('Simplified Loader (FOR COPY)'!N53=\"Family\",'Outil Recensement simplifié'!W54=\"Individuelle\"),\"Single\",IF('Outil Recensement simplifié'!W54=\"Monoparentale\",\"Monoparental\",IF('Outil Recensement simplifié'!W54=\"Couple\",\"Couple\",\"\")))","v":""},{"$f":"IF('Outil Recensement simplifié'!CI54>0,'Outil Recensement simplifié'!CI54,\"\")","v":""}]
[null,{"$f":"IF('Outil Recensement simplifié'!A55>0,'Outil Recensement simplifié'!A55,\"\")","v":""},{"$f":"IF('Outil Recensement simplifié'!B55>0,'Outil Recensement simplifié'!B55,\"\")","v":""},{"$f":"IF('Outil Recensement simplifié'!D55>0,'Outil Recensement simplifié'!D55,\"\")","v":""},{"$f":"IF('Simplified Loader (FOR COPY)'!N54>0,'Simplified Loader (FOR COPY)'!N54,\"\")","v":""},{"$f":"IF(OR('Outil Recensement simplifié'!AK55>0,'Outil Recensement simplifié'!AS55>0),\"Yes\",\"\")","v":""},"",{"$f":"IF(AND('Simplified Loader (FOR COPY)'!N54=\"Family\",'Outil Recensement simplifié'!V55=\"Individuelle\"),\"Single\",IF('Outil Recensement simplifié'!V55=\"Monoparentale\",\"Monoparental\",IF('Outil Recensement simplifié'!V55=\"Couple\",\"Couple\",\"\")))","v":""},{"$f":"IF(AND('Simplified Loader (FOR COPY)'!N54=\"Family\",'Outil Recensement simplifié'!W55=\"Individuelle\"),\"Single\",IF('Outil Recensement simplifié'!W55=\"Monoparentale\",\"Monoparental\",IF('Outil Recensement simplifié'!W55=\"Couple\",\"Couple\",\"\")))","v":""},{"$f":"IF('Outil Recensement simplifié'!CI55>0,'Outil Recensement simplifié'!CI55,\"\")","v":""}]
[null,{"$f":"IF('Outil Recensement simplifié'!A56>0,'Outil Recensement simplifié'!A56,\"\")","v":""},{"$f":"IF('Outil Recensement simplifié'!B56>0,'Outil Recensement simplifié'!B56,\"\")","v":""},{"$f":"IF('Outil Recensement simplifié'!D56>0,'Outil Recensement simplifié'!D56,\"\")","v":""},{"$f":"IF('Simplified Loader (FOR COPY)'!N55>0,'Simplified Loader (FOR COPY)'!N55,\"\")","v":""},{"$f":"IF(OR('Outil Recensement simplifié'!AK56>0,'Outil Recensement simplifié'!AS56>0),\"Yes\",\"\")","v":""},"",{"$f":"IF(AND('Simplified Loader (FOR COPY)'!N55=\"Family\",'Outil Recensement simplifié'!V56=\"Individuelle\"),\"Single\",IF('Outil Recensement simplifié'!V56=\"Monoparentale\",\"Monoparental\",IF('Outil Recensement simplifié'!V56=\"Couple\",\"Couple\",\"\")))","v":""},{"$f":"IF(AND('Simplified Loader (FOR COPY)'!N55=\"Family\",'Outil Recensement simplifié'!W56=\"Individuelle\"),\"Single\",IF('Outil Recensement simplifié'!W56=\"Monoparentale\",\"Monoparental\",IF('Outil Recensement simplifié'!W56=\"Couple\",\"Couple\",\"\")))","v":""},{"$f":"IF('Outil Recensement simplifié'!CI56>0,'Outil Recensement simplifié'!CI56,\"\")","v":""}]
[null,{"$f":"IF('Outil Recensement simplifié'!A57>0,'Outil Recensement simplifié'!A57,\"\")","v":""},{"$f":"IF('Outil Recensement simplifié'!B57>0,'Outil Recensement simplifié'!B57,\"\")","v":""},{"$f":"IF('Outil Recensement simplifié'!D57>0,'Outil Recensement simplifié'!D57,\"\")","v":""},{"$f":"IF('Simplified Loader (FOR COPY)'!N56>0,'Simplified Loader (FOR COPY)'!N56,\"\")","v":""},{"$f":"IF(OR('Outil Recensement simplifié'!AK57>0,'Outil Recensement simplifié'!AS57>0),\"Yes\",\"\")","v":""},"",{"$f":"IF(AND('Simplified Loader (FOR COPY)'!N56=\"Family\",'Outil Recensement simplifié'!V57=\"Individuelle\"),\"Single\",IF('Outil Recensement simplifié'!V57=\"Monoparentale\",\"Monoparental\",IF('Outil Recensement simplifié'!V57=\"Couple\",\"Couple\",\"\")))","v":""},{"$f":"IF(AND('Simplified Loader (FOR COPY)'!N56=\"Family\",'Outil Recensement simplifié'!W57=\"Individuelle\"),\"Single\",IF('Outil Recensement simplifié'!W57=\"Monoparentale\",\"Monoparental\",IF('Outil Recensement simplifié'!W57=\"Couple\",\"Couple\",\"\")))","v":""},{"$f":"IF('Outil Recensement simplifié'!CI57>0,'Outil Recensement simplifié'!CI57,\"\")","v":""}]
[null,{"$f":"IF('Outil Recensement simplifié'!A58>0,'Outil Recensement simplifié'!A58,\"\")","v":""},{"$f":"IF('Outil Recensement simplifié'!B58>0,'Outil Recensement simplifié'!B58,\"\")","v":""},{"$f":"IF('Outil Recensement simplifié'!D58>0,'Outil Recensement simplifié'!D58,\"\")","v":""},{"$f":"IF('Simplified Loader (FOR COPY)'!N57>0,'Simplified Loader (FOR COPY)'!N57,\"\")","v":""},{"$f":"IF(OR('Outil Recensement simplifié'!AK58>0,'Outil Recensement simplifié'!AS58>0),\"Yes\",\"\")","v":""},"",{"$f":"IF(AND('Simplified Loader (FOR COPY)'!N57=\"Family\",'Outil Recensement simplifié'!V58=\"Individuelle\"),\"Single\",IF('Outil Recensement simplifié'!V58=\"Monoparentale\",\"Monoparental\",IF('Outil Recensement simplifié'!V58=\"Couple\",\"Couple\",\"\")))","v":""},{"$f":"IF(AND('Simplified Loader (FOR COPY)'!N57=\"Family\",'Outil Recensement simplifié'!W58=\"Individuelle\"),\"Single\",IF('Outil Recensement simplifié'!W58=\"Monoparentale\",\"Monoparental\",IF('Outil Recensement simplifié'!W58=\"Couple\",\"Couple\",\"\")))","v":""},{"$f":"IF('Outil Recensement simplifié'!CI58>0,'Outil Recensement simplifié'!CI58,\"\")","v":""}]
[null,{"$f":"IF('Outil Recensement simplifié'!A59>0,'Outil Recensement simplifié'!A59,\"\")","v":""},{"$f":"IF('Outil Recensement simplifié'!B59>0,'Outil Recensement simplifié'!B59,\"\")","v":""},{"$f":"IF('Outil Recensement simplifié'!D59>0,'Outil Recensement simplifié'!D59,\"\")","v":""},{"$f":"IF('Simplified Loader (FOR COPY)'!N58>0,'Simplified Loader (FOR COPY)'!N58,\"\")","v":""},{"$f":"IF(OR('Outil Recensement simplifié'!AK59>0,'Outil Recensement simplifié'!AS59>0),\"Yes\",\"\")","v":""},"",{"$f":"IF(AND('Simplified Loader (FOR COPY)'!N58=\"Family\",'Outil Recensement simplifié'!V59=\"Individuelle\"),\"Single\",IF('Outil Recensement simplifié'!V59=\"Monoparentale\",\"Monoparental\",IF('Outil Recensement simplifié'!V59=\"Couple\",\"Couple\",\"\")))","v":""},{"$f":"IF(AND('Simplified Loader (FOR COPY)'!N58=\"Family\",'Outil Recensement simplifié'!W59=\"Individuelle\"),\"Single\",IF('Outil Recensement simplifié'!W59=\"Monoparentale\",\"Monoparental\",IF('Outil Recensement simplifié'!W59=\"Couple\",\"Couple\",\"\")))","v":""},{"$f":"IF('Outil Recensement simplifié'!CI59>0,'Outil Recensement simplifié'!CI59,\"\")","v":""}]
[null,{"$f":"IF('Outil Recensement simplifié'!A60>0,'Outil Recensement simplifié'!A60,\"\")","v":""},{"$f":"IF('Outil Recensement simplifié'!B60>0,'Outil Recensement simplifié'!B60,\"\")","v":""},{"$f":"IF('Outil Recensement simplifié'!D60>0,'Outil Recensement simplifié'!D60,\"\")","v":""},{"$f":"IF('Simplified Loader (FOR COPY)'!N59>0,'Simplified Loader (FOR COPY)'!N59,\"\")","v":""},{"$f":"IF(OR('Outil Recensement simplifié'!AK60>0,'Outil Recensement simplifié'!AS60>0),\"Yes\",\"\")","v":""},"",{"$f":"IF(AND('Simplified Loader (FOR COPY)'!N59=\"Family\",'Outil Recensement simplifié'!V60=\"Individuelle\"),\"Single\",IF('Outil Recensement simplifié'!V60=\"Monoparentale\",\"Monoparental\",IF('Outil Recensement simplifié'!V60=\"Couple\",\"Couple\",\"\")))","v":""},{"$f":"IF(AND('Simplified Loader (FOR COPY)'!N59=\"Family\",'Outil Recensement simplifié'!W60=\"Individuelle\"),\"Single\",IF('Outil Recensement simplifié'!W60=\"Monoparentale\",\"Monoparental\",IF('Outil Recensement simplifié'!W60=\"Couple\",\"Couple\",\"\")))","v":""},{"$f":"IF('Outil Recensement simplifié'!CI60>0,'Outil Recensement simplifié'!CI60,\"\")","v":""}]
[null,{"$f":"IF('Outil Recensement simplifié'!A61>0,'Outil Recensement simplifié'!A61,\"\")","v":""},{"$f":"IF('Outil Recensement simplifié'!B61>0,'Outil Recensement simplifié'!B61,\"\")","v":""},{"$f":"IF('Outil Recensement simplifié'!D61>0,'Outil Recensement simplifié'!D61,\"\")","v":""},{"$f":"IF('Simplified Loader (FOR COPY)'!N60>0,'Simplified Loader (FOR COPY)'!N60,\"\")","v":""},{"$f":"IF(OR('Outil Recensement simplifié'!AK61>0,'Outil Recensement simplifié'!AS61>0),\"Yes\",\"\")","v":""},"",{"$f":"IF(AND('Simplified Loader (FOR COPY)'!N60=\"Family\",'Outil Recensement simplifié'!V61=\"Individuelle\"),\"Single\",IF('Outil Recensement simplifié'!V61=\"Monoparentale\",\"Monoparental\",IF('Outil Recensement simplifié'!V61=\"Couple\",\"Couple\",\"\")))","v":""},{"$f":"IF(AND('Simplified Loader (FOR COPY)'!N60=\"Family\",'Outil Recensement simplifié'!W61=\"Individuelle\"),\"Single\",IF('Outil Recensement simplifié'!W61=\"Monoparentale\",\"Monoparental\",IF('Outil Recensement simplifié'!W61=\"Couple\",\"Couple\",\"\")))","v":""},{"$f":"IF('Outil Recensement simplifié'!CI61>0,'Outil Recensement simplifié'!CI61,\"\")","v":""}]
[null,{"$f":"IF('Outil Recensement simplifié'!A62>0,'Outil Recensement simplifié'!A62,\"\")","v":""},{"$f":"IF('Outil Recensement simplifié'!B62>0,'Outil Recensement simplifié'!B62,\"\")","v":""},{"$f":"IF('Outil Recensement simplifié'!D62>0,'Outil Recensement simplifié'!D62,\"\")","v":""},{"$f":"IF('Simplified Loader (FOR COPY)'!N61>0,'Simplified Loader (FOR COPY)'!N61,\"\")","v":""},{"$f":"IF(OR('Outil Recensement simplifié'!AK62>0,'Outil Recensement simplifié'!AS62>0),\"Yes\",\"\")","v":""},"",{"$f":"IF(AND('Simplified Loader (FOR COPY)'!N61=\"Family\",'Outil Recensement simplifié'!V62=\"Individuelle\"),\"Single\",IF('Outil Recensement simplifié'!V62=\"Monoparentale\",\"Monoparental\",IF('Outil Recensement simplifié'!V62=\"Couple\",\"Couple\",\"\")))","v":""},{"$f":"IF(AND('Simplified Loader (FOR COPY)'!N61=\"Family\",'Outil Recensement simplifié'!W62=\"Individuelle\"),\"Single\",IF('Outil Recensement simplifié'!W62=\"Monoparentale\",\"Monoparental\",IF('Outil Recensement simplifié'!W62=\"Couple\",\"Couple\",\"\")))","v":""},{"$f":"IF('Outil Recensement simplifié'!CI62>0,'Outil Recensement simplifié'!CI62,\"\")","v":""}]
[null,{"$f":"IF('Outil Recensement simplifié'!A63>0,'Outil Recensement simplifié'!A63,\"\")","v":""},{"$f":"IF('Outil Recensement simplifié'!B63>0,'Outil Recensement simplifié'!B63,\"\")","v":""},{"$f":"IF('Outil Recensement simplifié'!D63>0,'Outil Recensement simplifié'!D63,\"\")","v":""},{"$f":"IF('Simplified Loader (FOR COPY)'!N62>0,'Simplified Loader (FOR COPY)'!N62,\"\")","v":""},{"$f":"IF(OR('Outil Recensement simplifié'!AK63>0,'Outil Recensement simplifié'!AS63>0),\"Yes\",\"\")","v":""},"",{"$f":"IF(AND('Simplified Loader (FOR COPY)'!N62=\"Family\",'Outil Recensement simplifié'!V63=\"Individuelle\"),\"Single\",IF('Outil Recensement simplifié'!V63=\"Monoparentale\",\"Monoparental\",IF('Outil Recensement simplifié'!V63=\"Couple\",\"Couple\",\"\")))","v":""},{"$f":"IF(AND('Simplified Loader (FOR COPY)'!N62=\"Family\",'Outil Recensement simplifié'!W63=\"Individuelle\"),\"Single\",IF('Outil Recensement simplifié'!W63=\"Monoparentale\",\"Monoparental\",IF('Outil Recensement simplifié'!W63=\"Couple\",\"Couple\",\"\")))","v":""},{"$f":"IF('Outil Recensement simplifié'!CI63>0,'Outil Recensement simplifié'!CI63,\"\")","v":""}]
[null,{"$f":"IF('Outil Recensement simplifié'!A64>0,'Outil Recensement simplifié'!A64,\"\")","v":""},{"$f":"IF('Outil Recensement simplifié'!B64>0,'Outil Recensement simplifié'!B64,\"\")","v":""},{"$f":"IF('Outil Recensement simplifié'!D64>0,'Outil Recensement simplifié'!D64,\"\")","v":""},{"$f":"IF('Simplified Loader (FOR COPY)'!N63>0,'Simplified Loader (FOR COPY)'!N63,\"\")","v":""},{"$f":"IF(OR('Outil Recensement simplifié'!AK64>0,'Outil Recensement simplifié'!AS64>0),\"Yes\",\"\")","v":""},"",{"$f":"IF(AND('Simplified Loader (FOR COPY)'!N63=\"Family\",'Outil Recensement simplifié'!V64=\"Individuelle\"),\"Single\",IF('Outil Recensement simplifié'!V64=\"Monoparentale\",\"Monoparental\",IF('Outil Recensement simplifié'!V64=\"Couple\",\"Couple\",\"\")))","v":""},{"$f":"IF(AND('Simplified Loader (FOR COPY)'!N63=\"Family\",'Outil Recensement simplifié'!W64=\"Individuelle\"),\"Single\",IF('Outil Recensement simplifié'!W64=\"Monoparentale\",\"Monoparental\",IF('Outil Recensement simplifié'!W64=\"Couple\",\"Couple\",\"\")))","v":""},{"$f":"IF('Outil Recensement simplifié'!CI64>0,'Outil Recensement simplifié'!CI64,\"\")","v":""}]
[null,{"$f":"IF('Outil Recensement simplifié'!A65>0,'Outil Recensement simplifié'!A65,\"\")","v":""},{"$f":"IF('Outil Recensement simplifié'!B65>0,'Outil Recensement simplifié'!B65,\"\")","v":""},{"$f":"IF('Outil Recensement simplifié'!D65>0,'Outil Recensement simplifié'!D65,\"\")","v":""},{"$f":"IF('Simplified Loader (FOR COPY)'!N64>0,'Simplified Loader (FOR COPY)'!N64,\"\")","v":""},{"$f":"IF(OR('Outil Recensement simplifié'!AK65>0,'Outil Recensement simplifié'!AS65>0),\"Yes\",\"\")","v":""},"",{"$f":"IF(AND('Simplified Loader (FOR COPY)'!N64=\"Family\",'Outil Recensement simplifié'!V65=\"Individuelle\"),\"Single\",IF('Outil Recensement simplifié'!V65=\"Monoparentale\",\"Monoparental\",IF('Outil Recensement simplifié'!V65=\"Couple\",\"Couple\",\"\")))","v":""},{"$f":"IF(AND('Simplified Loader (FOR COPY)'!N64=\"Family\",'Outil Recensement simplifié'!W65=\"Individuelle\"),\"Single\",IF('Outil Recensement simplifié'!W65=\"Monoparentale\",\"Monoparental\",IF('Outil Recensement simplifié'!W65=\"Couple\",\"Couple\",\"\")))","v":""},{"$f":"IF('Outil Recensement simplifié'!CI65>0,'Outil Recensement simplifié'!CI65,\"\")","v":""}]
[null,{"$f":"IF('Outil Recensement simplifié'!A66>0,'Outil Recensement simplifié'!A66,\"\")","v":""},{"$f":"IF('Outil Recensement simplifié'!B66>0,'Outil Recensement simplifié'!B66,\"\")","v":""},{"$f":"IF('Outil Recensement simplifié'!D66>0,'Outil Recensement simplifié'!D66,\"\")","v":""},{"$f":"IF('Simplified Loader (FOR COPY)'!N65>0,'Simplified Loader (FOR COPY)'!N65,\"\")","v":""},{"$f":"IF(OR('Outil Recensement simplifié'!AK66>0,'Outil Recensement simplifié'!AS66>0),\"Yes\",\"\")","v":""},"",{"$f":"IF(AND('Simplified Loader (FOR COPY)'!N65=\"Family\",'Outil Recensement simplifié'!V66=\"Individuelle\"),\"Single\",IF('Outil Recensement simplifié'!V66=\"Monoparentale\",\"Monoparental\",IF('Outil Recensement simplifié'!V66=\"Couple\",\"Couple\",\"\")))","v":""},{"$f":"IF(AND('Simplified Loader (FOR COPY)'!N65=\"Family\",'Outil Recensement simplifié'!W66=\"Individuelle\"),\"Single\",IF('Outil Recensement simplifié'!W66=\"Monoparentale\",\"Monoparental\",IF('Outil Recensement simplifié'!W66=\"Couple\",\"Couple\",\"\")))","v":""},{"$f":"IF('Outil Recensement simplifié'!CI66>0,'Outil Recensement simplifié'!CI66,\"\")","v":""}]
[null,{"$f":"IF('Outil Recensement simplifié'!A67>0,'Outil Recensement simplifié'!A67,\"\")","v":""},{"$f":"IF('Outil Recensement simplifié'!B67>0,'Outil Recensement simplifié'!B67,\"\")","v":""},{"$f":"IF('Outil Recensement simplifié'!D67>0,'Outil Recensement simplifié'!D67,\"\")","v":""},{"$f":"IF('Simplified Loader (FOR COPY)'!N66>0,'Simplified Loader (FOR COPY)'!N66,\"\")","v":""},{"$f":"IF(OR('Outil Recensement simplifié'!AK67>0,'Outil Recensement simplifié'!AS67>0),\"Yes\",\"\")","v":""},"",{"$f":"IF(AND('Simplified Loader (FOR COPY)'!N66=\"Family\",'Outil Recensement simplifié'!V67=\"Individuelle\"),\"Single\",IF('Outil Recensement simplifié'!V67=\"Monoparentale\",\"Monoparental\",IF('Outil Recensement simplifié'!V67=\"Couple\",\"Couple\",\"\")))","v":""},{"$f":"IF(AND('Simplified Loader (FOR COPY)'!N66=\"Family\",'Outil Recensement simplifié'!W67=\"Individuelle\"),\"Single\",IF('Outil Recensement simplifié'!W67=\"Monoparentale\",\"Monoparental\",IF('Outil Recensement simplifié'!W67=\"Couple\",\"Couple\",\"\")))","v":""},{"$f":"IF('Outil Recensement simplifié'!CI67>0,'Outil Recensement simplifié'!CI67,\"\")","v":""}]
[null,{"$f":"IF('Outil Recensement simplifié'!A68>0,'Outil Recensement simplifié'!A68,\"\")","v":""},{"$f":"IF('Outil Recensement simplifié'!B68>0,'Outil Recensement simplifié'!B68,\"\")","v":""},{"$f":"IF('Outil Recensement simplifié'!D68>0,'Outil Recensement simplifié'!D68,\"\")","v":""},{"$f":"IF('Simplified Loader (FOR COPY)'!N67>0,'Simplified Loader (FOR COPY)'!N67,\"\")","v":""},{"$f":"IF(OR('Outil Recensement simplifié'!AK68>0,'Outil Recensement simplifié'!AS68>0),\"Yes\",\"\")","v":""},"",{"$f":"IF(AND('Simplified Loader (FOR COPY)'!N67=\"Family\",'Outil Recensement simplifié'!V68=\"Individuelle\"),\"Single\",IF('Outil Recensement simplifié'!V68=\"Monoparentale\",\"Monoparental\",IF('Outil Recensement simplifié'!V68=\"Couple\",\"Couple\",\"\")))","v":""},{"$f":"IF(AND('Simplified Loader (FOR COPY)'!N67=\"Family\",'Outil Recensement simplifié'!W68=\"Individuelle\"),\"Single\",IF('Outil Recensement simplifié'!W68=\"Monoparentale\",\"Monoparental\",IF('Outil Recensement simplifié'!W68=\"Couple\",\"Couple\",\"\")))","v":""},{"$f":"IF('Outil Recensement simplifié'!CI68>0,'Outil Recensement simplifié'!CI68,\"\")","v":""}]
[null,{"$f":"IF('Outil Recensement simplifié'!A69>0,'Outil Recensement simplifié'!A69,\"\")","v":""},{"$f":"IF('Outil Recensement simplifié'!B69>0,'Outil Recensement simplifié'!B69,\"\")","v":""},{"$f":"IF('Outil Recensement simplifié'!D69>0,'Outil Recensement simplifié'!D69,\"\")","v":""},{"$f":"IF('Simplified Loader (FOR COPY)'!N68>0,'Simplified Loader (FOR COPY)'!N68,\"\")","v":""},{"$f":"IF(OR('Outil Recensement simplifié'!AK69>0,'Outil Recensement simplifié'!AS69>0),\"Yes\",\"\")","v":""},"",{"$f":"IF(AND('Simplified Loader (FOR COPY)'!N68=\"Family\",'Outil Recensement simplifié'!V69=\"Individuelle\"),\"Single\",IF('Outil Recensement simplifié'!V69=\"Monoparentale\",\"Monoparental\",IF('Outil Recensement simplifié'!V69=\"Couple\",\"Couple\",\"\")))","v":""},{"$f":"IF(AND('Simplified Loader (FOR COPY)'!N68=\"Family\",'Outil Recensement simplifié'!W69=\"Individuelle\"),\"Single\",IF('Outil Recensement simplifié'!W69=\"Monoparentale\",\"Monoparental\",IF('Outil Recensement simplifié'!W69=\"Couple\",\"Couple\",\"\")))","v":""},{"$f":"IF('Outil Recensement simplifié'!CI69>0,'Outil Recensement simplifié'!CI69,\"\")","v":""}]
[null,{"$f":"IF('Outil Recensement simplifié'!A70>0,'Outil Recensement simplifié'!A70,\"\")","v":""},{"$f":"IF('Outil Recensement simplifié'!B70>0,'Outil Recensement simplifié'!B70,\"\")","v":""},{"$f":"IF('Outil Recensement simplifié'!D70>0,'Outil Recensement simplifié'!D70,\"\")","v":""},{"$f":"IF('Simplified Loader (FOR COPY)'!N69>0,'Simplified Loader (FOR COPY)'!N69,\"\")","v":""},{"$f":"IF(OR('Outil Recensement simplifié'!AK70>0,'Outil Recensement simplifié'!AS70>0),\"Yes\",\"\")","v":""},{"$f":"IF(((E70=\"Single\")*AND(F70=\"Yes\")),\"Discrepancy\",\"\")","v":""},{"$f":"IF(AND('Simplified Loader (FOR COPY)'!N69=\"Family\",'Outil Recensement simplifié'!V70=\"Individuelle\"),\"Single\",IF('Outil Recensement simplifié'!V70=\"Monoparentale\",\"Monoparental\",IF('Outil Recensement simplifié'!V70=\"Couple\",\"Couple\",\"\")))","v":""},{"$f":"IF(AND('Simplified Loader (FOR COPY)'!N69=\"Family\",'Outil Recensement simplifié'!W70=\"Individuelle\"),\"Single\",IF('Outil Recensement simplifié'!W70=\"Monoparentale\",\"Monoparental\",IF('Outil Recensement simplifié'!W70=\"Couple\",\"Couple\",\"\")))","v":""},{"$f":"IF('Outil Recensement simplifié'!CI70>0,'Outil Recensement simplifié'!CI70,\"\")","v":""}]
[null,{"$f":"IF('Outil Recensement simplifié'!A71>0,'Outil Recensement simplifié'!A71,\"\")","v":""},{"$f":"IF('Outil Recensement simplifié'!B71>0,'Outil Recensement simplifié'!B71,\"\")","v":""},{"$f":"IF('Outil Recensement simplifié'!D71>0,'Outil Recensement simplifié'!D71,\"\")","v":""},{"$f":"IF('Simplified Loader (FOR COPY)'!N70>0,'Simplified Loader (FOR COPY)'!N70,\"\")","v":""},{"$f":"IF(OR('Outil Recensement simplifié'!AK71>0,'Outil Recensement simplifié'!AS71>0),\"Yes\",\"\")","v":""},"",{"$f":"IF(AND('Simplified Loader (FOR COPY)'!N70=\"Family\",'Outil Recensement simplifié'!V71=\"Individuelle\"),\"Single\",IF('Outil Recensement simplifié'!V71=\"Monoparentale\",\"Monoparental\",IF('Outil Recensement simplifié'!V71=\"Couple\",\"Couple\",\"\")))","v":""},{"$f":"IF(AND('Simplified Loader (FOR COPY)'!N70=\"Family\",'Outil Recensement simplifié'!W71=\"Individuelle\"),\"Single\",IF('Outil Recensement simplifié'!W71=\"Monoparentale\",\"Monoparental\",IF('Outil Recensement simplifié'!W71=\"Couple\",\"Couple\",\"\")))","v":""},{"$f":"IF('Outil Recensement simplifié'!CI71>0,'Outil Recensement simplifié'!CI71,\"\")","v":""}]
[null,{"$f":"IF('Outil Recensement simplifié'!A72>0,'Outil Recensement simplifié'!A72,\"\")","v":""},{"$f":"IF('Outil Recensement simplifié'!B72>0,'Outil Recensement simplifié'!B72,\"\")","v":""},{"$f":"IF('Outil Recensement simplifié'!D72>0,'Outil Recensement simplifié'!D72,\"\")","v":""},{"$f":"IF('Simplified Loader (FOR COPY)'!N71>0,'Simplified Loader (FOR COPY)'!N71,\"\")","v":""},{"$f":"IF(OR('Outil Recensement simplifié'!AK72>0,'Outil Recensement simplifié'!AS72>0),\"Yes\",\"\")","v":""},"",{"$f":"IF(AND('Simplified Loader (FOR COPY)'!N71=\"Family\",'Outil Recensement simplifié'!V72=\"Individuelle\"),\"Single\",IF('Outil Recensement simplifié'!V72=\"Monoparentale\",\"Monoparental\",IF('Outil Recensement simplifié'!V72=\"Couple\",\"Couple\",\"\")))","v":""},{"$f":"IF(AND('Simplified Loader (FOR COPY)'!N71=\"Family\",'Outil Recensement simplifié'!W72=\"Individuelle\"),\"Single\",IF('Outil Recensement simplifié'!W72=\"Monoparentale\",\"Monoparental\",IF('Outil Recensement simplifié'!W72=\"Couple\",\"Couple\",\"\")))","v":""},{"$f":"IF('Outil Recensement simplifié'!CI72>0,'Outil Recensement simplifié'!CI72,\"\")","v":""}]
[null,{"$f":"IF('Outil Recensement simplifié'!A73>0,'Outil Recensement simplifié'!A73,\"\")","v":""},{"$f":"IF('Outil Recensement simplifié'!B73>0,'Outil Recensement simplifié'!B73,\"\")","v":""},{"$f":"IF('Outil Recensement simplifié'!D73>0,'Outil Recensement simplifié'!D73,\"\")","v":""},{"$f":"IF('Simplified Loader (FOR COPY)'!N72>0,'Simplified Loader (FOR COPY)'!N72,\"\")","v":""},{"$f":"IF(OR('Outil Recensement simplifié'!AK73>0,'Outil Recensement simplifié'!AS73>0),\"Yes\",\"\")","v":""},"",{"$f":"IF(AND('Simplified Loader (FOR COPY)'!N72=\"Family\",'Outil Recensement simplifié'!V73=\"Individuelle\"),\"Single\",IF('Outil Recensement simplifié'!V73=\"Monoparentale\",\"Monoparental\",IF('Outil Recensement simplifié'!V73=\"Couple\",\"Couple\",\"\")))","v":""},{"$f":"IF(AND('Simplified Loader (FOR COPY)'!N72=\"Family\",'Outil Recensement simplifié'!W73=\"Individuelle\"),\"Single\",IF('Outil Recensement simplifié'!W73=\"Monoparentale\",\"Monoparental\",IF('Outil Recensement simplifié'!W73=\"Couple\",\"Couple\",\"\")))","v":""},{"$f":"IF('Outil Recensement simplifié'!CI73>0,'Outil Recensement simplifié'!CI73,\"\")","v":""}]
[null,{"$f":"IF('Outil Recensement simplifié'!A74>0,'Outil Recensement simplifié'!A74,\"\")","v":""},{"$f":"IF('Outil Recensement simplifié'!B74>0,'Outil Recensement simplifié'!B74,\"\")","v":""},{"$f":"IF('Outil Recensement simplifié'!D74>0,'Outil Recensement simplifié'!D74,\"\")","v":""},{"$f":"IF('Simplified Loader (FOR COPY)'!N73>0,'Simplified Loader (FOR COPY)'!N73,\"\")","v":""},{"$f":"IF(OR('Outil Recensement simplifié'!AK74>0,'Outil Recensement simplifié'!AS74>0),\"Yes\",\"\")","v":""},"",{"$f":"IF(AND('Simplified Loader (FOR COPY)'!N73=\"Family\",'Outil Recensement simplifié'!V74=\"Individuelle\"),\"Single\",IF('Outil Recensement simplifié'!V74=\"Monoparentale\",\"Monoparental\",IF('Outil Recensement simplifié'!V74=\"Couple\",\"Couple\",\"\")))","v":""},{"$f":"IF(AND('Simplified Loader (FOR COPY)'!N73=\"Family\",'Outil Recensement simplifié'!W74=\"Individuelle\"),\"Single\",IF('Outil Recensement simplifié'!W74=\"Monoparentale\",\"Monoparental\",IF('Outil Recensement simplifié'!W74=\"Couple\",\"Couple\",\"\")))","v":""},{"$f":"IF('Outil Recensement simplifié'!CI74>0,'Outil Recensement simplifié'!CI74,\"\")","v":""}]
[null,{"$f":"IF('Outil Recensement simplifié'!A75>0,'Outil Recensement simplifié'!A75,\"\")","v":""},{"$f":"IF('Outil Recensement simplifié'!B75>0,'Outil Recensement simplifié'!B75,\"\")","v":""},{"$f":"IF('Outil Recensement simplifié'!D75>0,'Outil Recensement simplifié'!D75,\"\")","v":""},{"$f":"IF('Simplified Loader (FOR COPY)'!N74>0,'Simplified Loader (FOR COPY)'!N74,\"\")","v":""},{"$f":"IF(OR('Outil Recensement simplifié'!AK75>0,'Outil Recensement simplifié'!AS75>0),\"Yes\",\"\")","v":""},"",{"$f":"IF(AND('Simplified Loader (FOR COPY)'!N74=\"Family\",'Outil Recensement simplifié'!V75=\"Individuelle\"),\"Single\",IF('Outil Recensement simplifié'!V75=\"Monoparentale\",\"Monoparental\",IF('Outil Recensement simplifié'!V75=\"Couple\",\"Couple\",\"\")))","v":""},{"$f":"IF(AND('Simplified Loader (FOR COPY)'!N74=\"Family\",'Outil Recensement simplifié'!W75=\"Individuelle\"),\"Single\",IF('Outil Recensement simplifié'!W75=\"Monoparentale\",\"Monoparental\",IF('Outil Recensement simplifié'!W75=\"Couple\",\"Couple\",\"\")))","v":""},{"$f":"IF('Outil Recensement simplifié'!CI75>0,'Outil Recensement simplifié'!CI75,\"\")","v":""}]
[null,{"$f":"IF('Outil Recensement simplifié'!A76>0,'Outil Recensement simplifié'!A76,\"\")","v":""},{"$f":"IF('Outil Recensement simplifié'!B76>0,'Outil Recensement simplifié'!B76,\"\")","v":""},{"$f":"IF('Outil Recensement simplifié'!D76>0,'Outil Recensement simplifié'!D76,\"\")","v":""},{"$f":"IF('Simplified Loader (FOR COPY)'!N75>0,'Simplified Loader (FOR COPY)'!N75,\"\")","v":""},{"$f":"IF(OR('Outil Recensement simplifié'!AK76>0,'Outil Recensement simplifié'!AS76>0),\"Yes\",\"\")","v":""},"",{"$f":"IF(AND('Simplified Loader (FOR COPY)'!N75=\"Family\",'Outil Recensement simplifié'!V76=\"Individuelle\"),\"Single\",IF('Outil Recensement simplifié'!V76=\"Monoparentale\",\"Monoparental\",IF('Outil Recensement simplifié'!V76=\"Couple\",\"Couple\",\"\")))","v":""},{"$f":"IF(AND('Simplified Loader (FOR COPY)'!N75=\"Family\",'Outil Recensement simplifié'!W76=\"Individuelle\"),\"Single\",IF('Outil Recensement simplifié'!W76=\"Monoparentale\",\"Monoparental\",IF('Outil Recensement simplifié'!W76=\"Couple\",\"Couple\",\"\")))","v":""},{"$f":"IF('Outil Recensement simplifié'!CI76>0,'Outil Recensement simplifié'!CI76,\"\")","v":""}]
[null,{"$f":"IF('Outil Recensement simplifié'!A77>0,'Outil Recensement simplifié'!A77,\"\")","v":""},{"$f":"IF('Outil Recensement simplifié'!B77>0,'Outil Recensement simplifié'!B77,\"\")","v":""},{"$f":"IF('Outil Recensement simplifié'!D77>0,'Outil Recensement simplifié'!D77,\"\")","v":""},{"$f":"IF('Simplified Loader (FOR COPY)'!N76>0,'Simplified Loader (FOR COPY)'!N76,\"\")","v":""},{"$f":"IF(OR('Outil Recensement simplifié'!AK77>0,'Outil Recensement simplifié'!AS77>0),\"Yes\",\"\")","v":""},"",{"$f":"IF(AND('Simplified Loader (FOR COPY)'!N76=\"Family\",'Outil Recensement simplifié'!V77=\"Individuelle\"),\"Single\",IF('Outil Recensement simplifié'!V77=\"Monoparentale\",\"Monoparental\",IF('Outil Recensement simplifié'!V77=\"Couple\",\"Couple\",\"\")))","v":""},{"$f":"IF(AND('Simplified Loader (FOR COPY)'!N76=\"Family\",'Outil Recensement simplifié'!W77=\"Individuelle\"),\"Single\",IF('Outil Recensement simplifié'!W77=\"Monoparentale\",\"Monoparental\",IF('Outil Recensement simplifié'!W77=\"Couple\",\"Couple\",\"\")))","v":""},{"$f":"IF('Outil Recensement simplifié'!CI77>0,'Outil Recensement simplifié'!CI77,\"\")","v":""}]
[null,{"$f":"IF('Outil Recensement simplifié'!A78>0,'Outil Recensement simplifié'!A78,\"\")","v":""},{"$f":"IF('Outil Recensement simplifié'!B78>0,'Outil Recensement simplifié'!B78,\"\")","v":""},{"$f":"IF('Outil Recensement simplifié'!D78>0,'Outil Recensement simplifié'!D78,\"\")","v":""},{"$f":"IF('Simplified Loader (FOR COPY)'!N77>0,'Simplified Loader (FOR COPY)'!N77,\"\")","v":""},{"$f":"IF(OR('Outil Recensement simplifié'!AK78>0,'Outil Recensement simplifié'!AS78>0),\"Yes\",\"\")","v":""},"",{"$f":"IF(AND('Simplified Loader (FOR COPY)'!N77=\"Family\",'Outil Recensement simplifié'!V78=\"Individuelle\"),\"Single\",IF('Outil Recensement simplifié'!V78=\"Monoparentale\",\"Monoparental\",IF('Outil Recensement simplifié'!V78=\"Couple\",\"Couple\",\"\")))","v":""},{"$f":"IF(AND('Simplified Loader (FOR COPY)'!N77=\"Family\",'Outil Recensement simplifié'!W78=\"Individuelle\"),\"Single\",IF('Outil Recensement simplifié'!W78=\"Monoparentale\",\"Monoparental\",IF('Outil Recensement simplifié'!W78=\"Couple\",\"Couple\",\"\")))","v":""},{"$f":"IF('Outil Recensement simplifié'!CI78>0,'Outil Recensement simplifié'!CI78,\"\")","v":""}]
[null,{"$f":"IF('Outil Recensement simplifié'!A79>0,'Outil Recensement simplifié'!A79,\"\")","v":""},{"$f":"IF('Outil Recensement simplifié'!B79>0,'Outil Recensement simplifié'!B79,\"\")","v":""},{"$f":"IF('Outil Recensement simplifié'!D79>0,'Outil Recensement simplifié'!D79,\"\")","v":""},{"$f":"IF('Simplified Loader (FOR COPY)'!N78>0,'Simplified Loader (FOR COPY)'!N78,\"\")","v":""},{"$f":"IF(OR('Outil Recensement simplifié'!AK79>0,'Outil Recensement simplifié'!AS79>0),\"Yes\",\"\")","v":""},"",{"$f":"IF(AND('Simplified Loader (FOR COPY)'!N78=\"Family\",'Outil Recensement simplifié'!V79=\"Individuelle\"),\"Single\",IF('Outil Recensement simplifié'!V79=\"Monoparentale\",\"Monoparental\",IF('Outil Recensement simplifié'!V79=\"Couple\",\"Couple\",\"\")))","v":""},{"$f":"IF(AND('Simplified Loader (FOR COPY)'!N78=\"Family\",'Outil Recensement simplifié'!W79=\"Individuelle\"),\"Single\",IF('Outil Recensement simplifié'!W79=\"Monoparentale\",\"Monoparental\",IF('Outil Recensement simplifié'!W79=\"Couple\",\"Couple\",\"\")))","v":""},{"$f":"IF('Outil Recensement simplifié'!CI79>0,'Outil Recensement simplifié'!CI79,\"\")","v":""}]
[null,{"$f":"IF('Outil Recensement simplifié'!A80>0,'Outil Recensement simplifié'!A80,\"\")","v":""},{"$f":"IF('Outil Recensement simplifié'!B80>0,'Outil Recensement simplifié'!B80,\"\")","v":""},{"$f":"IF('Outil Recensement simplifié'!D80>0,'Outil Recensement simplifié'!D80,\"\")","v":""},{"$f":"IF('Simplified Loader (FOR COPY)'!N79>0,'Simplified Loader (FOR COPY)'!N79,\"\")","v":""},{"$f":"IF(OR('Outil Recensement simplifié'!AK80>0,'Outil Recensement simplifié'!AS80>0),\"Yes\",\"\")","v":""},"",{"$f":"IF(AND('Simplified Loader (FOR COPY)'!N79=\"Family\",'Outil Recensement simplifié'!V80=\"Individuelle\"),\"Single\",IF('Outil Recensement simplifié'!V80=\"Monoparentale\",\"Monoparental\",IF('Outil Recensement simplifié'!V80=\"Couple\",\"Couple\",\"\")))","v":""},{"$f":"IF(AND('Simplified Loader (FOR COPY)'!N79=\"Family\",'Outil Recensement simplifié'!W80=\"Individuelle\"),\"Single\",IF('Outil Recensement simplifié'!W80=\"Monoparentale\",\"Monoparental\",IF('Outil Recensement simplifié'!W80=\"Couple\",\"Couple\",\"\")))","v":""},{"$f":"IF('Outil Recensement simplifié'!CI80>0,'Outil Recensement simplifié'!CI80,\"\")","v":""}]
[null,{"$f":"IF('Outil Recensement simplifié'!A81>0,'Outil Recensement simplifié'!A81,\"\")","v":""},{"$f":"IF('Outil Recensement simplifié'!B81>0,'Outil Recensement simplifié'!B81,\"\")","v":""},{"$f":"IF('Outil Recensement simplifié'!D81>0,'Outil Recensement simplifié'!D81,\"\")","v":""},{"$f":"IF('Simplified Loader (FOR COPY)'!N80>0,'Simplified Loader (FOR COPY)'!N80,\"\")","v":""},{"$f":"IF(OR('Outil Recensement simplifié'!AK81>0,'Outil Recensement simplifié'!AS81>0),\"Yes\",\"\")","v":""},"",{"$f":"IF(AND('Simplified Loader (FOR COPY)'!N80=\"Family\",'Outil Recensement simplifié'!V81=\"Individuelle\"),\"Single\",IF('Outil Recensement simplifié'!V81=\"Monoparentale\",\"Monoparental\",IF('Outil Recensement simplifié'!V81=\"Couple\",\"Couple\",\"\")))","v":""},{"$f":"IF(AND('Simplified Loader (FOR COPY)'!N80=\"Family\",'Outil Recensement simplifié'!W81=\"Individuelle\"),\"Single\",IF('Outil Recensement simplifié'!W81=\"Monoparentale\",\"Monoparental\",IF('Outil Recensement simplifié'!W81=\"Couple\",\"Couple\",\"\")))","v":""},{"$f":"IF('Outil Recensement simplifié'!CI81>0,'Outil Recensement simplifié'!CI81,\"\")","v":""}]
[null,{"$f":"IF('Outil Recensement simplifié'!A82>0,'Outil Recensement simplifié'!A82,\"\")","v":""},{"$f":"IF('Outil Recensement simplifié'!B82>0,'Outil Recensement simplifié'!B82,\"\")","v":""},{"$f":"IF('Outil Recensement simplifié'!D82>0,'Outil Recensement simplifié'!D82,\"\")","v":""},{"$f":"IF('Simplified Loader (FOR COPY)'!N81>0,'Simplified Loader (FOR COPY)'!N81,\"\")","v":""},{"$f":"IF(OR('Outil Recensement simplifié'!AK82>0,'Outil Recensement simplifié'!AS82>0),\"Yes\",\"\")","v":""},"",{"$f":"IF(AND('Simplified Loader (FOR COPY)'!N81=\"Family\",'Outil Recensement simplifié'!V82=\"Individuelle\"),\"Single\",IF('Outil Recensement simplifié'!V82=\"Monoparentale\",\"Monoparental\",IF('Outil Recensement simplifié'!V82=\"Couple\",\"Couple\",\"\")))","v":""},{"$f":"IF(AND('Simplified Loader (FOR COPY)'!N81=\"Family\",'Outil Recensement simplifié'!W82=\"Individuelle\"),\"Single\",IF('Outil Recensement simplifié'!W82=\"Monoparentale\",\"Monoparental\",IF('Outil Recensement simplifié'!W82=\"Couple\",\"Couple\",\"\")))","v":""},{"$f":"IF('Outil Recensement simplifié'!CI82>0,'Outil Recensement simplifié'!CI82,\"\")","v":""}]
[null,{"$f":"IF('Outil Recensement simplifié'!A83>0,'Outil Recensement simplifié'!A83,\"\")","v":""},{"$f":"IF('Outil Recensement simplifié'!B83>0,'Outil Recensement simplifié'!B83,\"\")","v":""},{"$f":"IF('Outil Recensement simplifié'!D83>0,'Outil Recensement simplifié'!D83,\"\")","v":""},{"$f":"IF('Simplified Loader (FOR COPY)'!N82>0,'Simplified Loader (FOR COPY)'!N82,\"\")","v":""},{"$f":"IF(OR('Outil Recensement simplifié'!AK83>0,'Outil Recensement simplifié'!AS83>0),\"Yes\",\"\")","v":""},"",{"$f":"IF(AND('Simplified Loader (FOR COPY)'!N82=\"Family\",'Outil Recensement simplifié'!V83=\"Individuelle\"),\"Single\",IF('Outil Recensement simplifié'!V83=\"Monoparentale\",\"Monoparental\",IF('Outil Recensement simplifié'!V83=\"Couple\",\"Couple\",\"\")))","v":""},{"$f":"IF(AND('Simplified Loader (FOR COPY)'!N82=\"Family\",'Outil Recensement simplifié'!W83=\"Individuelle\"),\"Single\",IF('Outil Recensement simplifié'!W83=\"Monoparentale\",\"Monoparental\",IF('Outil Recensement simplifié'!W83=\"Couple\",\"Couple\",\"\")))","v":""},{"$f":"IF('Outil Recensement simplifié'!CI83>0,'Outil Recensement simplifié'!CI83,\"\")","v":""}]
[null,{"$f":"IF('Outil Recensement simplifié'!A84>0,'Outil Recensement simplifié'!A84,\"\")","v":""},{"$f":"IF('Outil Recensement simplifié'!B84>0,'Outil Recensement simplifié'!B84,\"\")","v":""},{"$f":"IF('Outil Recensement simplifié'!D84>0,'Outil Recensement simplifié'!D84,\"\")","v":""},{"$f":"IF('Simplified Loader (FOR COPY)'!N83>0,'Simplified Loader (FOR COPY)'!N83,\"\")","v":""},{"$f":"IF(OR('Outil Recensement simplifié'!AK84>0,'Outil Recensement simplifié'!AS84>0),\"Yes\",\"\")","v":""},"",{"$f":"IF(AND('Simplified Loader (FOR COPY)'!N83=\"Family\",'Outil Recensement simplifié'!V84=\"Individuelle\"),\"Single\",IF('Outil Recensement simplifié'!V84=\"Monoparentale\",\"Monoparental\",IF('Outil Recensement simplifié'!V84=\"Couple\",\"Couple\",\"\")))","v":""},{"$f":"IF(AND('Simplified Loader (FOR COPY)'!N83=\"Family\",'Outil Recensement simplifié'!W84=\"Individuelle\"),\"Single\",IF('Outil Recensement simplifié'!W84=\"Monoparentale\",\"Monoparental\",IF('Outil Recensement simplifié'!W84=\"Couple\",\"Couple\",\"\")))","v":""},{"$f":"IF('Outil Recensement simplifié'!CI84>0,'Outil Recensement simplifié'!CI84,\"\")","v":""}]
[null,{"$f":"IF('Outil Recensement simplifié'!A85>0,'Outil Recensement simplifié'!A85,\"\")","v":""},{"$f":"IF('Outil Recensement simplifié'!B85>0,'Outil Recensement simplifié'!B85,\"\")","v":""},{"$f":"IF('Outil Recensement simplifié'!D85>0,'Outil Recensement simplifié'!D85,\"\")","v":""},{"$f":"IF('Simplified Loader (FOR COPY)'!N84>0,'Simplified Loader (FOR COPY)'!N84,\"\")","v":""},{"$f":"IF(OR('Outil Recensement simplifié'!AK85>0,'Outil Recensement simplifié'!AS85>0),\"Yes\",\"\")","v":""},"",{"$f":"IF(AND('Simplified Loader (FOR COPY)'!N84=\"Family\",'Outil Recensement simplifié'!V85=\"Individuelle\"),\"Single\",IF('Outil Recensement simplifié'!V85=\"Monoparentale\",\"Monoparental\",IF('Outil Recensement simplifié'!V85=\"Couple\",\"Couple\",\"\")))","v":""},{"$f":"IF(AND('Simplified Loader (FOR COPY)'!N84=\"Family\",'Outil Recensement simplifié'!W85=\"Individuelle\"),\"Single\",IF('Outil Recensement simplifié'!W85=\"Monoparentale\",\"Monoparental\",IF('Outil Recensement simplifié'!W85=\"Couple\",\"Couple\",\"\")))","v":""},{"$f":"IF('Outil Recensement simplifié'!CI85>0,'Outil Recensement simplifié'!CI85,\"\")","v":""}]
[null,{"$f":"IF('Outil Recensement simplifié'!A86>0,'Outil Recensement simplifié'!A86,\"\")","v":""},{"$f":"IF('Outil Recensement simplifié'!B86>0,'Outil Recensement simplifié'!B86,\"\")","v":""},{"$f":"IF('Outil Recensement simplifié'!D86>0,'Outil Recensement simplifié'!D86,\"\")","v":""},{"$f":"IF('Simplified Loader (FOR COPY)'!N85>0,'Simplified Loader (FOR COPY)'!N85,\"\")","v":""},{"$f":"IF(OR('Outil Recensement simplifié'!AK86>0,'Outil Recensement simplifié'!AS86>0),\"Yes\",\"\")","v":""},"",{"$f":"IF(AND('Simplified Loader (FOR COPY)'!N85=\"Family\",'Outil Recensement simplifié'!V86=\"Individuelle\"),\"Single\",IF('Outil Recensement simplifié'!V86=\"Monoparentale\",\"Monoparental\",IF('Outil Recensement simplifié'!V86=\"Couple\",\"Couple\",\"\")))","v":""},{"$f":"IF(AND('Simplified Loader (FOR COPY)'!N85=\"Family\",'Outil Recensement simplifié'!W86=\"Individuelle\"),\"Single\",IF('Outil Recensement simplifié'!W86=\"Monoparentale\",\"Monoparental\",IF('Outil Recensement simplifié'!W86=\"Couple\",\"Couple\",\"\")))","v":""},{"$f":"IF('Outil Recensement simplifié'!CI86>0,'Outil Recensement simplifié'!CI86,\"\")","v":""}]
[null,{"$f":"IF('Outil Recensement simplifié'!A87>0,'Outil Recensement simplifié'!A87,\"\")","v":""},{"$f":"IF('Outil Recensement simplifié'!B87>0,'Outil Recensement simplifié'!B87,\"\")","v":""},{"$f":"IF('Outil Recensement simplifié'!D87>0,'Outil Recensement simplifié'!D87,\"\")","v":""},{"$f":"IF('Simplified Loader (FOR COPY)'!N86>0,'Simplified Loader (FOR COPY)'!N86,\"\")","v":""},{"$f":"IF(OR('Outil Recensement simplifié'!AK87>0,'Outil Recensement simplifié'!AS87>0),\"Yes\",\"\")","v":""},"",{"$f":"IF(AND('Simplified Loader (FOR COPY)'!N86=\"Family\",'Outil Recensement simplifié'!V87=\"Individuelle\"),\"Single\",IF('Outil Recensement simplifié'!V87=\"Monoparentale\",\"Monoparental\",IF('Outil Recensement simplifié'!V87=\"Couple\",\"Couple\",\"\")))","v":""},{"$f":"IF(AND('Simplified Loader (FOR COPY)'!N86=\"Family\",'Outil Recensement simplifié'!W87=\"Individuelle\"),\"Single\",IF('Outil Recensement simplifié'!W87=\"Monoparentale\",\"Monoparental\",IF('Outil Recensement simplifié'!W87=\"Couple\",\"Couple\",\"\")))","v":""},{"$f":"IF('Outil Recensement simplifié'!CI87>0,'Outil Recensement simplifié'!CI87,\"\")","v":""}]
[null,{"$f":"IF('Outil Recensement simplifié'!A88>0,'Outil Recensement simplifié'!A88,\"\")","v":""},{"$f":"IF('Outil Recensement simplifié'!B88>0,'Outil Recensement simplifié'!B88,\"\")","v":""},{"$f":"IF('Outil Recensement simplifié'!D88>0,'Outil Recensement simplifié'!D88,\"\")","v":""},{"$f":"IF('Simplified Loader (FOR COPY)'!N87>0,'Simplified Loader (FOR COPY)'!N87,\"\")","v":""},{"$f":"IF(OR('Outil Recensement simplifié'!AK88>0,'Outil Recensement simplifié'!AS88>0),\"Yes\",\"\")","v":""},"",{"$f":"IF(AND('Simplified Loader (FOR COPY)'!N87=\"Family\",'Outil Recensement simplifié'!V88=\"Individuelle\"),\"Single\",IF('Outil Recensement simplifié'!V88=\"Monoparentale\",\"Monoparental\",IF('Outil Recensement simplifié'!V88=\"Couple\",\"Couple\",\"\")))","v":""},{"$f":"IF(AND('Simplified Loader (FOR COPY)'!N87=\"Family\",'Outil Recensement simplifié'!W88=\"Individuelle\"),\"Single\",IF('Outil Recensement simplifié'!W88=\"Monoparentale\",\"Monoparental\",IF('Outil Recensement simplifié'!W88=\"Couple\",\"Couple\",\"\")))","v":""},{"$f":"IF('Outil Recensement simplifié'!CI88>0,'Outil Recensement simplifié'!CI88,\"\")","v":""}]
[null,{"$f":"IF('Outil Recensement simplifié'!A89>0,'Outil Recensement simplifié'!A89,\"\")","v":""},{"$f":"IF('Outil Recensement simplifié'!B89>0,'Outil Recensement simplifié'!B89,\"\")","v":""},{"$f":"IF('Outil Recensement simplifié'!D89>0,'Outil Recensement simplifié'!D89,\"\")","v":""},{"$f":"IF('Simplified Loader (FOR COPY)'!N88>0,'Simplified Loader (FOR COPY)'!N88,\"\")","v":""},{"$f":"IF(OR('Outil Recensement simplifié'!AK89>0,'Outil Recensement simplifié'!AS89>0),\"Yes\",\"\")","v":""},"",{"$f":"IF(AND('Simplified Loader (FOR COPY)'!N88=\"Family\",'Outil Recensement simplifié'!V89=\"Individuelle\"),\"Single\",IF('Outil Recensement simplifié'!V89=\"Monoparentale\",\"Monoparental\",IF('Outil Recensement simplifié'!V89=\"Couple\",\"Couple\",\"\")))","v":""},{"$f":"IF(AND('Simplified Loader (FOR COPY)'!N88=\"Family\",'Outil Recensement simplifié'!W89=\"Individuelle\"),\"Single\",IF('Outil Recensement simplifié'!W89=\"Monoparentale\",\"Monoparental\",IF('Outil Recensement simplifié'!W89=\"Couple\",\"Couple\",\"\")))","v":""},{"$f":"IF('Outil Recensement simplifié'!CI89>0,'Outil Recensement simplifié'!CI89,\"\")","v":""}]
[null,{"$f":"IF('Outil Recensement simplifié'!A90>0,'Outil Recensement simplifié'!A90,\"\")","v":""},{"$f":"IF('Outil Recensement simplifié'!B90>0,'Outil Recensement simplifié'!B90,\"\")","v":""},{"$f":"IF('Outil Recensement simplifié'!D90>0,'Outil Recensement simplifié'!D90,\"\")","v":""},{"$f":"IF('Simplified Loader (FOR COPY)'!N89>0,'Simplified Loader (FOR COPY)'!N89,\"\")","v":""},{"$f":"IF(OR('Outil Recensement simplifié'!AK90>0,'Outil Recensement simplifié'!AS90>0),\"Yes\",\"\")","v":""},"",{"$f":"IF(AND('Simplified Loader (FOR COPY)'!N89=\"Family\",'Outil Recensement simplifié'!V90=\"Individuelle\"),\"Single\",IF('Outil Recensement simplifié'!V90=\"Monoparentale\",\"Monoparental\",IF('Outil Recensement simplifié'!V90=\"Couple\",\"Couple\",\"\")))","v":""},{"$f":"IF(AND('Simplified Loader (FOR COPY)'!N89=\"Family\",'Outil Recensement simplifié'!W90=\"Individuelle\"),\"Single\",IF('Outil Recensement simplifié'!W90=\"Monoparentale\",\"Monoparental\",IF('Outil Recensement simplifié'!W90=\"Couple\",\"Couple\",\"\")))","v":""},{"$f":"IF('Outil Recensement simplifié'!CI90>0,'Outil Recensement simplifié'!CI90,\"\")","v":""}]
[null,{"$f":"IF('Outil Recensement simplifié'!A91>0,'Outil Recensement simplifié'!A91,\"\")","v":""},{"$f":"IF('Outil Recensement simplifié'!B91>0,'Outil Recensement simplifié'!B91,\"\")","v":""},{"$f":"IF('Outil Recensement simplifié'!D91>0,'Outil Recensement simplifié'!D91,\"\")","v":""},{"$f":"IF('Simplified Loader (FOR COPY)'!N90>0,'Simplified Loader (FOR COPY)'!N90,\"\")","v":""},{"$f":"IF(OR('Outil Recensement simplifié'!AK91>0,'Outil Recensement simplifié'!AS91>0),\"Yes\",\"\")","v":""},"",{"$f":"IF(AND('Simplified Loader (FOR COPY)'!N90=\"Family\",'Outil Recensement simplifié'!V91=\"Individuelle\"),\"Single\",IF('Outil Recensement simplifié'!V91=\"Monoparentale\",\"Monoparental\",IF('Outil Recensement simplifié'!V91=\"Couple\",\"Couple\",\"\")))","v":""},{"$f":"IF(AND('Simplified Loader (FOR COPY)'!N90=\"Family\",'Outil Recensement simplifié'!W91=\"Individuelle\"),\"Single\",IF('Outil Recensement simplifié'!W91=\"Monoparentale\",\"Monoparental\",IF('Outil Recensement simplifié'!W91=\"Couple\",\"Couple\",\"\")))","v":""},{"$f":"IF('Outil Recensement simplifié'!CI91>0,'Outil Recensement simplifié'!CI91,\"\")","v":""}]
[null,{"$f":"IF('Outil Recensement simplifié'!A92>0,'Outil Recensement simplifié'!A92,\"\")","v":""},{"$f":"IF('Outil Recensement simplifié'!B92>0,'Outil Recensement simplifié'!B92,\"\")","v":""},{"$f":"IF('Outil Recensement simplifié'!D92>0,'Outil Recensement simplifié'!D92,\"\")","v":""},{"$f":"IF('Simplified Loader (FOR COPY)'!N91>0,'Simplified Loader (FOR COPY)'!N91,\"\")","v":""},{"$f":"IF(OR('Outil Recensement simplifié'!AK92>0,'Outil Recensement simplifié'!AS92>0),\"Yes\",\"\")","v":""},"",{"$f":"IF(AND('Simplified Loader (FOR COPY)'!N91=\"Family\",'Outil Recensement simplifié'!V92=\"Individuelle\"),\"Single\",IF('Outil Recensement simplifié'!V92=\"Monoparentale\",\"Monoparental\",IF('Outil Recensement simplifié'!V92=\"Couple\",\"Couple\",\"\")))","v":""},{"$f":"IF(AND('Simplified Loader (FOR COPY)'!N91=\"Family\",'Outil Recensement simplifié'!W92=\"Individuelle\"),\"Single\",IF('Outil Recensement simplifié'!W92=\"Monoparentale\",\"Monoparental\",IF('Outil Recensement simplifié'!W92=\"Couple\",\"Couple\",\"\")))","v":""},{"$f":"IF('Outil Recensement simplifié'!CI92>0,'Outil Recensement simplifié'!CI92,\"\")","v":""}]
[null,{"$f":"IF('Outil Recensement simplifié'!A93>0,'Outil Recensement simplifié'!A93,\"\")","v":""},{"$f":"IF('Outil Recensement simplifié'!B93>0,'Outil Recensement simplifié'!B93,\"\")","v":""},{"$f":"IF('Outil Recensement simplifié'!D93>0,'Outil Recensement simplifié'!D93,\"\")","v":""},{"$f":"IF('Simplified Loader (FOR COPY)'!N92>0,'Simplified Loader (FOR COPY)'!N92,\"\")","v":""},{"$f":"IF(OR('Outil Recensement simplifié'!AK93>0,'Outil Recensement simplifié'!AS93>0),\"Yes\",\"\")","v":""},"",{"$f":"IF(AND('Simplified Loader (FOR COPY)'!N92=\"Family\",'Outil Recensement simplifié'!V93=\"Individuelle\"),\"Single\",IF('Outil Recensement simplifié'!V93=\"Monoparentale\",\"Monoparental\",IF('Outil Recensement simplifié'!V93=\"Couple\",\"Couple\",\"\")))","v":""},{"$f":"IF(AND('Simplified Loader (FOR COPY)'!N92=\"Family\",'Outil Recensement simplifié'!W93=\"Individuelle\"),\"Single\",IF('Outil Recensement simplifié'!W93=\"Monoparentale\",\"Monoparental\",IF('Outil Recensement simplifié'!W93=\"Couple\",\"Couple\",\"\")))","v":""},{"$f":"IF('Outil Recensement simplifié'!CI93>0,'Outil Recensement simplifié'!CI93,\"\")","v":""}]
[null,{"$f":"IF('Outil Recensement simplifié'!A94>0,'Outil Recensement simplifié'!A94,\"\")","v":""},{"$f":"IF('Outil Recensement simplifié'!B94>0,'Outil Recensement simplifié'!B94,\"\")","v":""},{"$f":"IF('Outil Recensement simplifié'!D94>0,'Outil Recensement simplifié'!D94,\"\")","v":""},{"$f":"IF('Simplified Loader (FOR COPY)'!N93>0,'Simplified Loader (FOR COPY)'!N93,\"\")","v":""},{"$f":"IF(OR('Outil Recensement simplifié'!AK94>0,'Outil Recensement simplifié'!AS94>0),\"Yes\",\"\")","v":""},"",{"$f":"IF(AND('Simplified Loader (FOR COPY)'!N93=\"Family\",'Outil Recensement simplifié'!V94=\"Individuelle\"),\"Single\",IF('Outil Recensement simplifié'!V94=\"Monoparentale\",\"Monoparental\",IF('Outil Recensement simplifié'!V94=\"Couple\",\"Couple\",\"\")))","v":""},{"$f":"IF(AND('Simplified Loader (FOR COPY)'!N93=\"Family\",'Outil Recensement simplifié'!W94=\"Individuelle\"),\"Single\",IF('Outil Recensement simplifié'!W94=\"Monoparentale\",\"Monoparental\",IF('Outil Recensement simplifié'!W94=\"Couple\",\"Couple\",\"\")))","v":""},{"$f":"IF('Outil Recensement simplifié'!CI94>0,'Outil Recensement simplifié'!CI94,\"\")","v":""}]
[null,{"$f":"IF('Outil Recensement simplifié'!A95>0,'Outil Recensement simplifié'!A95,\"\")","v":""},{"$f":"IF('Outil Recensement simplifié'!B95>0,'Outil Recensement simplifié'!B95,\"\")","v":""},{"$f":"IF('Outil Recensement simplifié'!D95>0,'Outil Recensement simplifié'!D95,\"\")","v":""},{"$f":"IF('Simplified Loader (FOR COPY)'!N94>0,'Simplified Loader (FOR COPY)'!N94,\"\")","v":""},{"$f":"IF(OR('Outil Recensement simplifié'!AK95>0,'Outil Recensement simplifié'!AS95>0),\"Yes\",\"\")","v":""},"",{"$f":"IF(AND('Simplified Loader (FOR COPY)'!N94=\"Family\",'Outil Recensement simplifié'!V95=\"Individuelle\"),\"Single\",IF('Outil Recensement simplifié'!V95=\"Monoparentale\",\"Monoparental\",IF('Outil Recensement simplifié'!V95=\"Couple\",\"Couple\",\"\")))","v":""},{"$f":"IF(AND('Simplified Loader (FOR COPY)'!N94=\"Family\",'Outil Recensement simplifié'!W95=\"Individuelle\"),\"Single\",IF('Outil Recensement simplifié'!W95=\"Monoparentale\",\"Monoparental\",IF('Outil Recensement simplifié'!W95=\"Couple\",\"Couple\",\"\")))","v":""},{"$f":"IF('Outil Recensement simplifié'!CI95>0,'Outil Recensement simplifié'!CI95,\"\")","v":""}]
[null,{"$f":"IF('Outil Recensement simplifié'!A96>0,'Outil Recensement simplifié'!A96,\"\")","v":""},{"$f":"IF('Outil Recensement simplifié'!B96>0,'Outil Recensement simplifié'!B96,\"\")","v":""},{"$f":"IF('Outil Recensement simplifié'!D96>0,'Outil Recensement simplifié'!D96,\"\")","v":""},{"$f":"IF('Simplified Loader (FOR COPY)'!N95>0,'Simplified Loader (FOR COPY)'!N95,\"\")","v":""},{"$f":"IF(OR('Outil Recensement simplifié'!AK96>0,'Outil Recensement simplifié'!AS96>0),\"Yes\",\"\")","v":""},"",{"$f":"IF(AND('Simplified Loader (FOR COPY)'!N95=\"Family\",'Outil Recensement simplifié'!V96=\"Individuelle\"),\"Single\",IF('Outil Recensement simplifié'!V96=\"Monoparentale\",\"Monoparental\",IF('Outil Recensement simplifié'!V96=\"Couple\",\"Couple\",\"\")))","v":""},{"$f":"IF(AND('Simplified Loader (FOR COPY)'!N95=\"Family\",'Outil Recensement simplifié'!W96=\"Individuelle\"),\"Single\",IF('Outil Recensement simplifié'!W96=\"Monoparentale\",\"Monoparental\",IF('Outil Recensement simplifié'!W96=\"Couple\",\"Couple\",\"\")))","v":""},{"$f":"IF('Outil Recensement simplifié'!CI96>0,'Outil Recensement simplifié'!CI96,\"\")","v":""}]
[null,{"$f":"IF('Outil Recensement simplifié'!A97>0,'Outil Recensement simplifié'!A97,\"\")","v":""},{"$f":"IF('Outil Recensement simplifié'!B97>0,'Outil Recensement simplifié'!B97,\"\")","v":""},{"$f":"IF('Outil Recensement simplifié'!D97>0,'Outil Recensement simplifié'!D97,\"\")","v":""},{"$f":"IF('Simplified Loader (FOR COPY)'!N96>0,'Simplified Loader (FOR COPY)'!N96,\"\")","v":""},{"$f":"IF(OR('Outil Recensement simplifié'!AK97>0,'Outil Recensement simplifié'!AS97>0),\"Yes\",\"\")","v":""},"",{"$f":"IF(AND('Simplified Loader (FOR COPY)'!N96=\"Family\",'Outil Recensement simplifié'!V97=\"Individuelle\"),\"Single\",IF('Outil Recensement simplifié'!V97=\"Monoparentale\",\"Monoparental\",IF('Outil Recensement simplifié'!V97=\"Couple\",\"Couple\",\"\")))","v":""},{"$f":"IF(AND('Simplified Loader (FOR COPY)'!N96=\"Family\",'Outil Recensement simplifié'!W97=\"Individuelle\"),\"Single\",IF('Outil Recensement simplifié'!W97=\"Monoparentale\",\"Monoparental\",IF('Outil Recensement simplifié'!W97=\"Couple\",\"Couple\",\"\")))","v":""},{"$f":"IF('Outil Recensement simplifié'!CI97>0,'Outil Recensement simplifié'!CI97,\"\")","v":""}]
[null,{"$f":"IF('Outil Recensement simplifié'!A98>0,'Outil Recensement simplifié'!A98,\"\")","v":""},{"$f":"IF('Outil Recensement simplifié'!B98>0,'Outil Recensement simplifié'!B98,\"\")","v":""},{"$f":"IF('Outil Recensement simplifié'!D98>0,'Outil Recensement simplifié'!D98,\"\")","v":""},{"$f":"IF('Simplified Loader (FOR COPY)'!N97>0,'Simplified Loader (FOR COPY)'!N97,\"\")","v":""},{"$f":"IF(OR('Outil Recensement simplifié'!AK98>0,'Outil Recensement simplifié'!AS98>0),\"Yes\",\"\")","v":""},"",{"$f":"IF(AND('Simplified Loader (FOR COPY)'!N97=\"Family\",'Outil Recensement simplifié'!V98=\"Individuelle\"),\"Single\",IF('Outil Recensement simplifié'!V98=\"Monoparentale\",\"Monoparental\",IF('Outil Recensement simplifié'!V98=\"Couple\",\"Couple\",\"\")))","v":""},{"$f":"IF(AND('Simplified Loader (FOR COPY)'!N97=\"Family\",'Outil Recensement simplifié'!W98=\"Individuelle\"),\"Single\",IF('Outil Recensement simplifié'!W98=\"Monoparentale\",\"Monoparental\",IF('Outil Recensement simplifié'!W98=\"Couple\",\"Couple\",\"\")))","v":""},{"$f":"IF('Outil Recensement simplifié'!CI98>0,'Outil Recensement simplifié'!CI98,\"\")","v":""}]
[null,{"$f":"IF('Outil Recensement simplifié'!A99>0,'Outil Recensement simplifié'!A99,\"\")","v":""},{"$f":"IF('Outil Recensement simplifié'!B99>0,'Outil Recensement simplifié'!B99,\"\")","v":""},{"$f":"IF('Outil Recensement simplifié'!D99>0,'Outil Recensement simplifié'!D99,\"\")","v":""},{"$f":"IF('Simplified Loader (FOR COPY)'!N98>0,'Simplified Loader (FOR COPY)'!N98,\"\")","v":""},{"$f":"IF(OR('Outil Recensement simplifié'!AK99>0,'Outil Recensement simplifié'!AS99>0),\"Yes\",\"\")","v":""},"",{"$f":"IF(AND('Simplified Loader (FOR COPY)'!N98=\"Family\",'Outil Recensement simplifié'!V99=\"Individuelle\"),\"Single\",IF('Outil Recensement simplifié'!V99=\"Monoparentale\",\"Monoparental\",IF('Outil Recensement simplifié'!V99=\"Couple\",\"Couple\",\"\")))","v":""},{"$f":"IF(AND('Simplified Loader (FOR COPY)'!N98=\"Family\",'Outil Recensement simplifié'!W99=\"Individuelle\"),\"Single\",IF('Outil Recensement simplifié'!W99=\"Monoparentale\",\"Monoparental\",IF('Outil Recensement simplifié'!W99=\"Couple\",\"Couple\",\"\")))","v":""},{"$f":"IF('Outil Recensement simplifié'!CI99>0,'Outil Recensement simplifié'!CI99,\"\")","v":""}]
[null,{"$f":"IF('Outil Recensement simplifié'!A100>0,'Outil Recensement simplifié'!A100,\"\")","v":""},{"$f":"IF('Outil Recensement simplifié'!B100>0,'Outil Recensement simplifié'!B100,\"\")","v":""},{"$f":"IF('Outil Recensement simplifié'!D100>0,'Outil Recensement simplifié'!D100,\"\")","v":""},{"$f":"IF('Simplified Loader (FOR COPY)'!N99>0,'Simplified Loader (FOR COPY)'!N99,\"\")","v":""},{"$f":"IF(OR('Outil Recensement simplifié'!AK100>0,'Outil Recensement simplifié'!AS100>0),\"Yes\",\"\")","v":""},"",{"$f":"IF(AND('Simplified Loader (FOR COPY)'!N99=\"Family\",'Outil Recensement simplifié'!V100=\"Individuelle\"),\"Single\",IF('Outil Recensement simplifié'!V100=\"Monoparentale\",\"Monoparental\",IF('Outil Recensement simplifié'!V100=\"Couple\",\"Couple\",\"\")))","v":""},{"$f":"IF(AND('Simplified Loader (FOR COPY)'!N99=\"Family\",'Outil Recensement simplifié'!W100=\"Individuelle\"),\"Single\",IF('Outil Recensement simplifié'!W100=\"Monoparentale\",\"Monoparental\",IF('Outil Recensement simplifié'!W100=\"Couple\",\"Couple\",\"\")))","v":""},{"$f":"IF('Outil Recensement simplifié'!CI100>0,'Outil Recensement simplifié'!CI100,\"\")","v":""}]
[null,{"$f":"IF('Outil Recensement simplifié'!A101>0,'Outil Recensement simplifié'!A101,\"\")","v":""},{"$f":"IF('Outil Recensement simplifié'!B101>0,'Outil Recensement simplifié'!B101,\"\")","v":""},{"$f":"IF('Outil Recensement simplifié'!D101>0,'Outil Recensement simplifié'!D101,\"\")","v":""},{"$f":"IF('Simplified Loader (FOR COPY)'!N100>0,'Simplified Loader (FOR COPY)'!N100,\"\")","v":""},null,null,{"$f":"IF(AND('Simplified Loader (FOR COPY)'!N100=\"Family\",'Outil Recensement simplifié'!V101=\"Individuelle\"),\"Single\",IF('Outil Recensement simplifié'!V101=\"Monoparentale\",\"Monoparental\",IF('Outil Recensement simplifié'!V101=\"Couple\",\"Couple\",\"\")))","v":""},{"$f":"IF(AND('Simplified Loader (FOR COPY)'!N100=\"Family\",'Outil Recensement simplifié'!W101=\"Individuelle\"),\"Single\",IF('Outil Recensement simplifié'!W101=\"Monoparentale\",\"Monoparental\",IF('Outil Recensement simplifié'!W101=\"Couple\",\"Couple\",\"\")))","v":""},{"$f":"IF('Outil Recensement simplifié'!CI101>0,'Outil Recensement simplifié'!CI101,\"\")","v":""}]